{"text_format":"1","workbook":"xlsx","n_sheets":2,"sheets":["Besi","Rapor"],"not_rendered":{"charts":0,"images":0,"macros":1,"external_links":0,"defined_names":364,"comments":2,"pivot_tables":0},"unopened":[],"bounds":{"document_bytes":16777216,"sheet_cells":100000,"rows_first":2000,"rows_last":500,"rows_between":2000,"halvings":0,"cell_chars":16384,"cell_head_chars":4096},"cells_cut":0,"cells_raw":0,"read":"whole","date_system":"1900"}

{"sheet":"Besi","index":0,"n_rows":254,"n_cols":60,"rows_kept":254,"cut":false,"hidden":false,"merged":[[0,16,0,18],[1,16,1,18],[46,19,47,19],[46,20,47,20],[46,21,47,21],[27,17,27,18],[28,17,28,18],[29,17,29,18],[30,17,30,18],[32,17,32,18],[34,17,34,18],[35,17,35,18],[19,17,19,18],[73,6,73,8],[65,6,65,7],[66,6,66,7],[68,6,68,7],[69,6,69,7],[67,6,67,7],[63,6,63,7],[64,6,64,7],[70,6,70,7],[71,6,71,7],[59,6,59,7],[60,6,60,7],[61,6,61,7],[62,6,62,7],[56,6,56,7],[57,6,57,7],[58,6,58,7],[51,6,51,7],[52,6,52,7],[53,6,53,7],[54,6,54,7],[55,6,55,7],[50,6,50,7],[46,18,47,18],[23,17,23,18],[24,17,24,18],[25,17,25,18],[21,11,21,12],[21,17,21,18],[2,1,3,1],[2,4,2,5],[2,11,2,12],[3,11,3,12],[2,16,2,18],[59,2,59,3],[0,5,0,6],[9,11,9,12],[9,17,9,18],[10,17,10,18],[12,17,12,18],[13,17,13,18],[14,17,14,18],[16,11,16,12],[16,17,16,18],[17,17,17,18],[18,11,18,12],[18,17,18,18],[22,17,22,18],[31,17,31,18],[19,11,19,12]]}
[null,"BESİ SIĞIRLARI İÇİN EN DÜŞÜK",null,null,null,"Coşkun & İnal & İnal",null,null,null,null,{"$f":"TODAY()","v":"2024-11-11"},null,null,null,null,null,"Selçuk Üniversitesi Veteriner Fakültesi ",null,null,null,null,null,null,null,null,null,null,"Adres","Rasyonlar","Rasyon Kayıt Bölümü"]
[null,"MALİYETLİ RASYON PROGRAMI","MİKTAR","Fiyat",null,null,null,null,null,null,null,null,null,null,null,null,"Rasyon Hazırlama Programları",null,null,null,null,null,null,null,null,null,null,"AE","Besi Sığırı-250","Diğer bilgiler",1,2,3,4,5,6,7,8,9,10,{"$f":"AN2+1","v":11},{"$f":"AO2+1","v":12},13,14,15,16,17,18,19,20,21,22,23,24,25,26,27,28,29,30]
[null,"VERİLECEK YEMLER","kg","TL","Verilecek miktar",null,"BESİN MADDELERİ","İHTİYAÇ","RASYON","SONUÇ","Hayvanın Tipi :","Besi Sığırı",null,null,null,null,"Fİ & Şİ & BC",null,null,null,null,null,null,null,null,null,null,"AF","Besi Sığırı-300","Rasyonun Adı :","Besi Sığırı-250","Besi Sığırı-300","Besi Sığırı-350","Besi Sığırı-400","Besi Sığırı-450"]
[null,null,{"$f":"Rapor!Y2","v":9.3720285874535083},{"$f":"(C5*D5+C6*D6+C7*D7+C8*D8+C9*D9+C10*D10+C11*D11+C12*D12+C13*D13+C14*D14+C15*D15+C16*D16+C17*D17+C18*D18+C19*D19+C20*D20+C21*D21+C22*D22+C23*D23+C24*D24+C25*D25+C26*D26+C27*D27+C28*D28+C29*D29+C30*D30+C31*D31)","v":54.871728699628065},"En az","En çok",{"$f":"Rapor!G4","v":"Kuru Madde, kg/gün"},{"$f":"Rapor!H4","v":8.2503625904453433},{"$f":"Rapor!I4","v":8.3735851569590878},{"$f":"Rapor!J4","v":"TAMAM"},"Irkı :","Siyah Alaca",null,null,null,null,null,null,null,null,null,null,null,null,null,null,null,"AG","Besi Sığırı-350","Rasyonun hazırlandığı tarih :","","","","",""]
[1,"MISIR SİLAJI, %23-26 KM",0,2.5,0,5,{"$f":"Rapor!G5","v":"Rasyon Kuru Madde Oranı, % "},null,{"$f":"Rapor!I5","v":89.346560126469811},null,"Yaşı :",10,"ay",null,null,null,null,null,null,null,null,null,null,null,null,null,null,"AH","Besi Sığırı-400","Hayvan sahibinin adı soyadı :","","","","",""]
[2,"ARPA SAMANI",3.9,1.5,0,5,{"$f":"Rapor!G6","v":"Rasyon Kaba Yem Oranı, %"},null,{"$f":"Rapor!I6","v":42.383279485137983},null,"Kondisyon Skoru :",5,null,null,null,null,null,null,null,null,null,null,null,null,null,null,null,"AI","Besi Sığırı-450","Rasyonu Hazırlayanın Adı Soyadı :","wwww","wwww","wwww","wwww","wwww"]
[3,"ARPA, HAFİF",0.38002858745350743,8,0,5,{"$f":"Rapor!G7","v":"Ham Protein, g/gün"},null,{"$f":"Rapor!I7","v":634.17552197427221},null,"Canlı ağırlığı :",300,"kg",null,null,null,null,null,null,null,null,null,null,null,null,null,null,"AJ",null,"Adresi :","","","","",""]
[3,"MISIR, 65 kg/hektolitre",5,9,0,5,{"$f":"Rapor!G8","v":"Metabolik Protein, g/gün"},{"$f":"Rapor!H8","v":769.8755000000001},{"$f":"Rapor!I8","v":758.14686598894036},{"$f":"Rapor!J8","v":"TAMAM"},"Hedef besi sonu ağırlığı :",550,"kg",null,null,null,null,null,null,null,null,null,null,null,null,null,null,"AK",null,"Telefonu :","","","","",""]
[3,"ŞEKER PANCARI",0,2,0,5,{"$f":"Rapor!G9","v":"Rumende Yıkımlanan Protein, g/gün"},null,{"$f":"Rapor!I9","v":263.59442410518295},null,"İstenilen canlı ağırlık artışı :",1.5,"kg/gün",null,null,"HAYVAN SAHİBİ İLE İLGİLİ BİLGİLER",null,"RASYONLA İLGİLİ BİLGİLER",null,"İhtiyaç","Rasyon","Denge",null,null,null,null,null,"AL",null,"Hayvan Tanımlama Bilgisi Girişi"]
[4,"AYÇİÇEĞİ  KÜSPESİ, %28 HP",0,11,0,5,{"$f":"Rapor!G10","v":"Ham Protein, % KM"},null,{"$f":"Rapor!I10","v":7.5735244830850501},null,"Hedef yağlılık düzeyi :","Az yağlı, % 27 yağlı",null,null,null,"Adı Soyadı:","aaa bbbb","Kuru madde tüketimi (kg/gün):",null,{"$f":"DMIreal","v":8.2503625904453433},{"$f":"TotalDMFed","v":8.3735851569590878},{"$f":"IF(T10=\"\",\"\",IF(U10>(T10*1.02),\"FAZLA\",IF(U10<(T10*0.98),\"EKSİK\",\"TAMAM\")))","v":"TAMAM"},null,null,null,null,null,"AM",null,"Hayvanın Tipi :","Besi Sığırı","Besi Sığırı","Besi Sığırı","Besi Sığırı","Besi Sığırı"]
[7,"DİKALSİYUMFOSFAT",0.02,35,0,0.1,{"$f":"Rapor!G11","v":"ME, Mcal/gün"},{"$f":"Rapor!H11","v":20.872586856040392},{"$f":"Rapor!I11","v":20.463751936346263},{"$f":"Rapor!J11","v":"TAMAM"},null,null,null,null,null,"Adresi:","aaaa mah    sssss sokak     ","Rasyon kuru madde oranı (%):",null,null,{"$f":"TotalDMFed/Rapor!Y2*100","v":89.346560126469811},null,null,null,null,null,null,"AN",null,"Irkı :","Brangus","Brangus","Brangus","Brangus","Brangus"]
[7,"MERMER TOZU",6.2E-2,2,0,3,{"$f":"Rapor!G12","v":"ME, Mcal/kg KM"},null,{"$f":"Rapor!I12","v":2.4438459217602064},null,"Kaç gün önce doğurdu? :",null,"gün",null,null,"Telefonu:","533 333 33 33",null,null,null,null,null,null,null,null,null,null,"AO",null,"Yaşı :",10,10,10,10,15]
[7,"TUZ",5.0000000000000001E-3,1.5,5.0000000000000001E-3,0.05,{"$f":"Rapor!G13","v":"NEbüyüme, Mcal/kg KM"},null,{"$f":"Rapor!I13","v":0.90235168686503919},null,"Kaç günlük gebe? :",0,"gün",null,null,null,null,"HP (% KM):",null,null,{"$f":"CPtotal/(TotalDMFed*10)","v":7.5735244830850501},null,null,null,null,null,null,"AP",null,"Kondisyon Skoru :",5,5,5,5,5]
[7,"VİT.-MİN. KAR. (ROVIMIX 302-FM/30) (SÜT, BESİ)",5.0000000000000001E-3,30,5.0000000000000001E-3,0.05,{"$f":"Rapor!G14","v":"NEyaşamapayı, Mcal/kg KM"},null,{"$f":"Rapor!I14","v":1.5157290816856646},null,"Kaçıncı doğumunu yapacak :",0,null,null,null,"HAYVANLA İLGİLİ BİLGİLER",null,"Metabolik Protein (g/gün): ",null,{"$f":"MPmaint+MPg+MPlact+MPpreg","v":660.66207853542733},{"$f":"MPtotal","v":758.14686598894036},{"$f":"IF(T14=\"\",\"     \",IF(U14>(T14*1.02),\"FAZLA\",IF(U14<(T14*0.98),\"EKSİK\",\"TAMAM\")))","v":"FAZLA"},null,null,null,null,null,"AQ",null,"Canlı ağırlığı :",250,300,350,400,450]
[null,null,0,null,0,0,{"$f":"Rapor!G15","v":"Ca, g/gün"},{"$f":"Rapor!H15","v":39.53600096362856},{"$f":"Rapor!I15","v":39.136855094175452},{"$f":"Rapor!J15","v":"TAMAM"},"Mevcut hava sıcaklığı :",20,"ºC",null,null,"Hayvanın tipi:",{"$f":"AnimalType","v":"Besi Sığırı"},"Rumende Yıkılabilir Protein (% HP):",null,null,{"$f":"DIP/CPtotal*100","v":41.564900405581511},null,null,null,null,null,null,"AR",null,"Hedef besi sonu ağırlığı :",500,500,500,500,500]
[null,null,0,null,0,0,{"$f":"Rapor!G16","v":"Ca, % KM"},null,{"$f":"Rapor!I16","v":0.46738469079340217},null,"Geçen ayın sıcaklık ortalaması :",22,"°C",null,null,"Irkı:",{"$f":"Breed","v":"Siyah Alaca"},null,null,null,null,null,null,null,null,null,null,"AS",null,"İstenilen canlı ağırlık artışı :",1.6,1.6,1.6,1.6,1.6]
[null,null,0,null,0,0,{"$f":"Rapor!G17","v":"P, g/gün"},{"$f":"Rapor!H17","v":21.067606082884062},{"$f":"Rapor!I17","v":20.732758112140438},{"$f":"Rapor!J17","v":"TAMAM"},"Sıcaklık Stresi :","Normal",null,null,null,"Yaşı (ay):",{"$f":"Age","v":10},"ME, Mcal/gün:",null,{"$f":"MEtotal","v":20.872586856040392},{"$f":"MEsup","v":20.463751936346263},{"$f":"IF(T17=\"\",\"     \",IF(U17>(T17*1.02),\"FAZLA\",IF(U17<(T17*0.98),\"EKSİK\",\"TAMAM\")))","v":"TAMAM"},null,null,null,null,null,"AT",null,"Hedef yağlılık düzeyi :","Az yağlı, % 27 yağlı","Az yağlı, % 27 yağlı","Az yağlı, % 27 yağlı","Az yağlı, % 27 yağlı","Az yağlı, % 27 yağlı"]
[null,null,0,null,0,0,{"$f":"Rapor!G18","v":"P, % KM"},null,{"$f":"Rapor!I18","v":0.24759714893339246},null,"Geceleri serinliyor mu?","Evet",null,null,null,"Kondisyon skoru:",{"$f":"CS","v":5},"ME (Mcal/kg KM):",null,null,{"$f":"MEconc","v":2.5984750000000001},null,null,null,null,null,null,"AU",null,"Kullanılan Büyüme Uyarıcılar :"]
[null,null,0,null,0,0,{"$f":"Rapor!G19","v":"Ca / P"},{"$f":"Rapor!H19","v":1.8766252230123459},{"$f":"Rapor!I19","v":1.8876820383708699},{"$f":"Rapor!J19","v":"TAMAM"},"Zemindeki çamur miktarı :","Yok",null,null,null,"Canlı ağırlığı (kg):",{"$f":"BW","v":300},"NEb (Mcal/kg KM):",null,null,{"$f":"NEgsup/TotalDMFed","v":0.90235168686503919},{"$f":"IF(T19=\"\",\"     \",IF(U19>(T19*1.02),\"FAZLA\",IF(U19<(T19*0.98),\"EKSİK\",\"TAMAM\")))","v":"     "},null,null,null,null,null,"AV",null,"Kaç gün önce doğurdu? :"]
[null,null,0,null,0,0,{"$f":"Rapor!G20","v":"NDF, % KM"},null,{"$f":"Rapor!I20","v":36.838032767660494},null,"Deri ve kıllarının durumu :","Kuru",null,null,null,"Hedef besi sonu ağırlığı (kg):",{"$f":"BesiSonAg","v":550},"NEyp (Mcal/kg KM):",null,null,{"$f":"NEmsup/TotalDMFed","v":1.5157290816856646},null,null,null,null,null,null,"AW",null,"Kaç günlük gebe? :",0,0,0,0,0]
[null,null,0,null,0,0,{"$f":"Rapor!G21","v":"eNDF, % KM"},null,{"$f":"Rapor!I21","v":34.103221277557935},{"$f":"Rapor!J21","v":""},"Rüzgarın hızı :",1,"km/sa",null,null,"İstenilen canlı ağırlık artışı (kg/gün):",{"$f":"IF(AnimalType=\"Damızlık Düve\",     IF(DaysPreg>0,APADG,BPADG),     IF(OR(AnimalType=\"Kurudaki İnek\",AnimalType=\"Laktasyondaki İnek\")=TRUE,IF(DaysPreg>0,ADGpreg+ACADG,ACADG),ADG))","v":1.5},null,null,null,null,null,null,null,null,null,null,"AX",null,"Kaçıncı doğumunu yapacak :",0,0,0,0,0]
[null,null,0,null,0,0,{"$f":"Rapor!G22","v":"NFC, % KM"},null,{"$f":"Rapor!I22","v":49.391667850521358},null,"Merada otluyor mu?","Otlamıyor",null,null,null,"Hedef yağlılık düzeyi:",{"$f":"Yaglanma","v":"Az yağlı, % 27 yağlı"},"Ca (g/gün):",null,{"$f":"Camaint+Cagrow+Capreg+Calact","v":39.53600096362856},{"$f":"Casup","v":39.136855094175452},{"$f":"IF(T22=\"\",\"     \",IF(U22>(T22*1.02),\"FAZLA\",IF(U22<(T22*0.98),\"EKSİK\",\"TAMAM\")))","v":"TAMAM"},null,null,null,null,null,"AY",null,"Mevcut hava sıcaklığı :",20,20,20,20,20]
[null,null,0,null,0,0,{"$f":"Rapor!G23","v":"Nişasta, % KM"},null,{"$f":"Rapor!I23","v":45.173016816716569},null,"Otlanan mera alanı :",null,"hektar",null,null,null,null,"Ca (% KM):",null,null,{"$f":"Casup/10/TotalDMFed","v":0.46738469079340217},null,null,null,null,null,null,"AZ",null,"Geçen ayın sıcaklık ortalaması :",22,22,22,22,22]
[null,null,0,null,0,0,{"$f":"Rapor!G24","v":"TSBM, % KM"},null,{"$f":"Rapor!I24","v":66.269193742500676},null,"Merada otlanabilir ot miktarı :",null,"ton/hektar",null,null,{"$f":"IF(OR(AnimalType=\"Laktasyondaki İnek\",AnimalType=\"Kurudaki İnek\")=TRUE,\"Kaç gün önce doğurdu? :\",\"\")","v":""},{"$f":"IF(OR(AnimalType=\"Laktasyondaki İnek\",AnimalType=\"Kurudaki İnek\")=TRUE,SonDogumTarihi,\"\")","v":""},"P (g/gün):",null,{"$f":"Pmaint+Pgrow+Ppreg+Plact","v":21.067606082884062},{"$f":"Psup","v":20.732758112140438},{"$f":"IF(T24=\"\",\"     \",IF(U24>(T24*1.02),\"FAZLA\",IF(U24<(T24*0.98),\"EKSİK\",\"TAMAM\")))","v":"TAMAM"},null,null,null,null,null,"BA",null,"Sıcaklık Stresi :","Normal","Normal","Normal","Normal","Normal"]
[null,null,0,null,0,0,{"$f":"Rapor!G25","v":"Rumen pH'sı"},null,{"$f":"Rapor!I25","v":6.46},null,"Merada otlayan hayvan sayısı :",null,null,null,null,{"$f":"IF(OR(AnimalType=\"Laktasyondaki İnek\",AnimalType=\"Kurudaki İnek\",AnimalType=\"Damızlık Düve\")=TRUE,\"Kaç günlük gebe? :\",\"\")","v":""},{"$f":"IF(OR(AnimalType=\"Laktasyondaki İnek\",AnimalType=\"Kurudaki İnek\",AnimalType=\"Damızlık Düve\")=TRUE,DaysPreg,\"\")","v":""},"P (% KM):",null,null,{"$f":"Psup/10/TotalDMFed","v":0.24759714893339246},null,null,null,null,null,null,"BB",null,"Geceleri serinliyor mu?","Evet","Evet","Evet","Evet","Evet"]
[null,null,0,null,0,0,null,null,null,null,"Merada kalınan süre :",null,"gün",null,null,{"$f":"IF(OR(AnimalType=\"Laktasyondaki İnek\",AnimalType=\"Kurudaki İnek\",AnimalType=\"Damızlık Düve\")=TRUE,\"Kaçıncı doğumunu yapacak? :\",\"\")","v":""},{"$f":"IF(OR(AnimalType=\"Laktasyondaki İnek\",AnimalType=\"Kurudaki İnek\",AnimalType=\"Damızlık Düve\")=TRUE,DogumSay,\"\")","v":""},"Ca/P oranı (%):",null,{"$f":"T22/T24","v":1.8766252230123459},{"$f":"I15/I17","v":1.8876820383708699},{"$f":"IF(T26=\"\",\"\",IF(U26>(T26*1.05),\"FAZLA\",IF(U26<(T26*0.95),\"EKSİK\",\"TAMAM\")))","v":"TAMAM"},null,null,null,null,null,"BC",null,"Zemindeki çamur miktarı :","Yok","Yok","Yok","Yok","Yok"]
[null,null,0,null,0,0,{"$f":"Rapor!G27","v":"Kesif yem; Miktarı,kg"},null,{"$f":"Rapor!I27","v":""},null,"Meranın arazi durumu :",null,null,null,null,"Otlama:",{"$f":"Otlama","v":"Otlamıyor"},null,null,null,null,null,null,null,null,null,null,"BD",null,"Deri ve kıllarının durumu :","Kuru","Kuru","Kuru","Kuru","Kuru"]
[null,null,0,null,0,0,{"$f":"Rapor!G28","v":"HP,% KM"},null,{"$f":"Rapor!I28","v":""},null,"Meradaki kuru madde tüketimi :",null,"kg/gün",null,null,{"$f":"IF(Q27=\"Otlamıyor\",\"\",\"Otlanan mera alanı (ha) :\")","v":""},{"$f":"IF(Q27=\"Otlamıyor\",\"\",GU)","v":""},"Kaba Yem Oranı, (% KM):",null,null,{"$f":"FORAGE","v":42.383279485137983},null,null,null,null,null,null,"BE",null,"Rüzgarın hızı :",1,1,1,1,1]
[null,null,0,null,0,0,{"$f":"Rapor!G29","v":"ME,Mcal/kg KM"},null,{"$f":"Rapor!I29","v":""},null,null,null,null,null,null,{"$f":"IF(Q27=\"Otlamıyor\",\"\",\"Merada otlanabilir ot miktarı (t/ha):\")","v":""},{"$f":"IF(Q27=\"Otlamıyor\",\"\",pAVAIL)","v":""},"NDF (% KM):",null,null,{"$f":"NDF","v":36.838032767660494},null,null,null,null,null,null,"BF",null,"Merada otluyor mu?","Otlamıyor","Otlamıyor","Otlamıyor","Otlamıyor","Otlamıyor"]
[null,null,0,null,0,0,{"$f":"Rapor!G30","v":"Ca,% KM"},null,{"$f":"Rapor!I30","v":""},null,null,null,null,null,null,{"$f":"IF(Q27=\"Otlamıyor\",\"\",\"Merada otlayan hayvan sayısı :\")","v":""},{"$f":"IF(Q27=\"Otlamıyor\",\"\",GrazeN)","v":""},"eNDF (% KM):",null,null,{"$f":"eNDF","v":34.103221277557935},null,null,null,null,null,null,"BG",null,"Otlanan mera alanı :"]
[null,null,0,null,0,0,{"$f":"Rapor!G31","v":"P,% KM"},null,{"$f":"Rapor!I31","v":""},null,null,null,null,null,null,{"$f":"IF(Q27=\"Otlamıyor\",\"\",\"Merada kalınan süre (gün):\")","v":""},{"$f":"IF(Q27=\"Otlamıyor\",\"\",DOP)","v":""},"NFC (% KM):",null,null,{"$f":"Rapor!AS33/(TotalDMFed*10)","v":49.451379430522948},null,null,null,null,null,null,"BH",null,"Merada otlanabilir ot miktarı :"]
[null,null,null,null,null,null,null,null,null,null,null,null,null,null,null,{"$f":"IF(Q27=\"Otlamıyor\",\"\",\"Meranın arazi durumu :\")","v":""},{"$f":"IF(Q27=\"Otlamıyor\",\"\",TERRAIN)","v":""},"Nişasta (% KM):",null,null,{"$f":"Rapor!CN170","v":45.173016816716569},null,null,null,null,null,null,null,null,"Merada otlayan hayvan sayısı :"]
[null,null,null,null,null,null,null,null,null,null,null,null,null,null,null,{"$f":"IF(Q27=\"Otlamıyor\",\"\",\"Meradaki kuru madde tüketimi (kg/gün):\")","v":""},{"$f":"IF(Q27=\"Otlamıyor\",\"\",pI)","v":""},"TSBM (% KM):",null,null,{"$f":"TDN/TotalDMFed/10","v":66.269193742500676},null,null,null,null,null,null,null,null,"Merada kalınan süre :"]
[null,null,null,null,null,null,null,null,null,null,null,null,null,null,null,null,null,null,null,null,null,null,null,null,null,null,null,null,null,"Meranın arazi durumu :"]
[null,null,null,null,null,null,null,null,null,null,null,null,null,null,null,null,null,"Rumen pH'sı:",null,null,{"$f":"pH","v":6.46},null,null,null,null,null,null,null,null,"Meradaki kuru madde tüketimi :"]
[null,null,null,null,null,null,null,null,null,null,null,null,null,null,null,null,null,"Rasyon Maliyeti, Krş/gün:",null,null,{"$f":"FİYAT","v":54.871728699628065},null,null,null,null,null,null,null,null,"Yemlerin KODU",1,1,1,1,1]
[null,null,null,null,null,null,null,null,null,null,null,null,null,null,null,null,null,null,null,null,null,null,null,null,null,null,null,null,null,null,2,2,2,2,2]
[null,null,null,null,null,null,null,null,null,null,null,null,null,null,null,null,null,null,null,null,null,null,null,null,null,null,null,null,null,null,2,2,2,2,2]
[null,null,null,null,null,null,null,null,null,null,null,null,null,null,null,null,null,null,null,null,null,null,null,null,null,null,null,null,null,null,2,2,2,2,2]
[null,null,null,null,null,null,null,null,null,null,null,null,null,null,null,null,null,null,null,null,null,null,null,null,null,null,null,null,null,null,3,3,3,3,3]
[null,null,null,null,null,null,null,null,null,null,null,null,null,null,null,null,null,null,null,null,null,null,null,null,null,null,null,null,null,null,3,3,3,3,3]
[null,null,null,null,null,null,null,null,null,null,null,null,null,null,null,null,null,null,null,null,null,null,null,null,null,null,null,null,null,null,4,4,4,4,4]
[null,null,null,null,null,null,null,null,null,null,null,null,null,null,null,null,null,null,null,null,null,null,null,null,null,null,null,null,null,null,4,4,4,4,4]
[null,null,null,null,null,null,null,null,null,null,null,null,null,null,null,{"$f":"CONCATENATE(\"Rasyonun \",HayvanSay,\" hayvana verilecek şekilde düzenlenmiştir.\")","v":"Rasyonun 100 hayvana verilecek şekilde düzenlenmiştir."},null,null,null,null,null,null,null,null,null,null,null,null,null,null,7,7,7,7,7]
[null,null,null,null,null,null,null,null,null,null,null,null,null,null,null,{"$f":"CONCATENATE(\"Rasyon \",OgunSay,\" öğünde verilecektir.\")","v":"Rasyon 2 öğünde verilecektir."},null,null,null,null,null,null,null,null,null,null,null,null,null,null,7,7,7,7,7]
[null,null,null,null,null,null,null,null,null,null,null,null,null,null,null,null,null,null,null,null,null,null,null,null,null,null,null,null,null,null,7,7,7,7,7]
[null,null,null,null,null,null,null,null,null,null,null,null,null,null,null,"RASYON ÖZETİ","Miktar","KM","Toplam Miktar kg/gün","Bir hayvana kg/öğün","Toplam Miktar, kg/öğün","Oran, %",null,null,null,null,null,null,null,null,7,7,7,7,7]
[null,null,null,null,null,null,null,null,null,null,null,null,null,null,null,"Yem Maddeleri","kg/gün","kg/gün"]
[null,null,null,null,null,null,null,null,null,null,1,null,null,null,2]
[null,null,null,null,null,null,null,null,null,null,2,null,null,null,3]
[null,"Hayvanla İlgili bilgiler",null,null,null,null,"Rasyonla ilgili bilgiler",null,"İhtiyaç","Rasyon","Denge",null,null,null,3]
[null,"Hayvanın tipi:",{"$f":"AnimalType","v":"Besi Sığırı"},null,null,null,"Kuru madde tüketimi (kg/gün):",null,{"$f":"DMIreal","v":8.2503625904453433},{"$f":"TotalDMFed","v":8.3735851569590878},null,null,null,null,5]
[null,"Irkı:",{"$f":"Breed","v":"Siyah Alaca"},null,null,null,"Kuru madde tüketim oranı (% CA):",null,null,{"$f":"TotalDMFed/BW*100","v":2.7911950523196958},null,null,null,null,5]
[null,"Yaşı (ay):",{"$f":"Age","v":10},null,null,null,"KMT/KMTyp (kg):",null,null,{"$f":"IF(AnimalType=\"Damızlık Düve\",(TDN/1000)/(0.035*(SBW^0.75)),(TDN/1000)/(0.035*(BW^0.75)))","v":2.1994502488350478},null,null,null,null,7]
[null,"Kondisyon skoru:",{"$f":"CS","v":5},null,null,null,"Kaba Yem Oranı, %",null,null,{"$f":"FORAGE","v":42.383279485137983},null,null,null,null,7]
[null,"Canlı ağırlığı (kg):",{"$f":"BW","v":300},null,null,null,"NDF (% KM):",null,{"$f":"IF(AnimalType=\"Sağmal İnek\",25,IF(AnimalType=\"Kurudaki İnek\",33,IF(AnimalType=\"Damızlık Düve\",30,0)))","v":0},{"$f":"NDF","v":36.838032767660494},{"$f":"CONCATENATE(IF(J56-I56>=0,\"+\",\"\"),TEXT(J56-I56,\"0,0\"))","v":"+36,8"},null,null,null,7]
[null,"Ergin canlı ağırlığı (kg):",{"$f":"MW","v":682},null,null,null,"eNDF (% KM):",null,{"$f":"IF(AnimalType=\"Sağmal İnek\",15,\"\")","v":""},{"$f":"eNDF","v":34.103221277557935},{"$f":"IF(I57=\"\",\"\",CONCATENATE(IF(J57-I57>=0,\"+\",\"\"),TEXT(J57-I57,0)))","v":""},null,null,null,10]
[null,"Hedef besi sonu ağırlığı (kg):",{"$f":"BesiSonAg","v":550},null,null,null,"HP (% KM):",null,null,{"$f":"CPtotal/(TotalDMFed*10)","v":7.5735244830850501}]
[null,"İstenilen canlı ağırlık artışı (kg/gün):",{"$f":"IF(AnimalType=\"Damızlık Düve\",     IF(DaysPreg>0,APADG,BPADG),     IF(OR(AnimalType=\"Kurudaki İnek\",AnimalType=\"Laktasyondaki İnek\")=TRUE,IF(DaysPreg>0,ADGpreg+ACADG,ACADG),ADG))","v":1.5},null,null,null,"MP (% KM):",null,null,{"$f":"MPtotal/(TotalDMFed*10)","v":9.0540294482926775}]
[null,"Hedef yağlılık düzeyi:",{"$f":"Rapor!CR59","v":"Az yağlı, % 27 yağlı"},null,null,null,"NSC (% KM):",null,null,{"$f":"Rapor!AS33/(TotalDMFed*10)","v":49.451379430522948}]
[null,"Büyüme uyarıcılar:",{"$f":"Rapor!CR60","v":0},null,null,null,"TSBM (% KM):",null,null,{"$f":"TDN/TotalDMFed/10","v":66.269193742500676}]
[null,{"$f":"IF(OR(AnimalType=\"Laktasyondaki İnek\",AnimalType=\"Kurudaki İnek\")=TRUE,\"Kaç gün önce doğurdu? :\",\"\")","v":""},{"$f":"IF(OR(AnimalType=\"Laktasyondaki İnek\",AnimalType=\"Kurudaki İnek\")=TRUE,SonDogumTarihi,\"\")","v":""},null,null,null,"Rumen pH'sı:",null,null,{"$f":"pH","v":6.46}]
[null,{"$f":"IF(OR(AnimalType=\"Laktasyondaki İnek\",AnimalType=\"Kurudaki İnek\",AnimalType=\"Damızlık Düve\")=TRUE,\"Kaç günlük gebe? :\",\"\")","v":""},{"$f":"IF(OR(AnimalType=\"Laktasyondaki İnek\",AnimalType=\"Kurudaki İnek\",AnimalType=\"Damızlık Düve\")=TRUE,DaysPreg,\"\")","v":""},null,null,null,"ME (Mcal/kg KM):",null,null,{"$f":"MEI/TotalDMFed","v":2.4438459217602064},null,null,null,null,null,null,null,null,null,null,null,null,null,null,null,null,null,null,null,"Yemlerin ADI","MISIR SİLAJI, %26-29 KM","MISIR SİLAJI, %26-29 KM","MISIR SİLAJI, %26-29 KM","MISIR SİLAJI, %26-29 KM","MISIR SİLAJI, %26-29 KM"]
[null,{"$f":"IF(OR(AnimalType=\"Laktasyondaki İnek\",AnimalType=\"Kurudaki İnek\",AnimalType=\"Damızlık Düve\")=TRUE,\"Kaçıncı doğumunu yapacak? :\",\"\")","v":""},{"$f":"IF(OR(AnimalType=\"Laktasyondaki İnek\",AnimalType=\"Kurudaki İnek\",AnimalType=\"Damızlık Düve\")=TRUE,DogumSay,\"\")","v":""},null,null,null,"NEyp (Mcal/kg KM):",null,null,{"$f":"NEmsup/TotalDMFed","v":1.5157290816856646},null,null,null,null,null,null,null,null,null,null,null,null,null,null,null,null,null,null,null,null,"ARPA SAMANI","ARPA SAMANI","ARPA SAMANI","ARPA SAMANI","ARPA SAMANI"]
[null,"Otlama:",{"$f":"Otlama","v":"Otlamıyor"},null,null,null,"NEb (Mcal/kg KM):",null,null,{"$f":"NEgsup/TotalDMFed","v":0.90235168686503919},null,null,null,null,null,null,null,null,null,null,null,null,null,null,null,null,null,null,null,null,"BUĞDAY SAMANI","BUĞDAY SAMANI","BUĞDAY SAMANI","BUĞDAY SAMANI","BUĞDAY SAMANI"]
[null,"Otlanan mera alanı (ha) :",{"$f":"GU","v":0},null,null,null,"MP-Mikrobiyel (g/gün):",null,null,{"$f":"MPbact","v":461.68573325542695},null,null,null,null,null,null,null,null,null,null,null,null,null,null,null,null,null,null,null,null,"BUĞDAYGİL (WHEATGRASS) KURU OTU","BUĞDAYGİL (WHEATGRASS) KURU OTU","BUĞDAYGİL (WHEATGRASS) KURU OTU","BUĞDAYGİL (WHEATGRASS) KURU OTU","BUĞDAYGİL (WHEATGRASS) KURU OTU"]
[null,"Merada otlanabilir ot miktarı (t/ha):",{"$f":"pAVAIL","v":0},null,null,null,"MP-Yemden gelen (g/gün):",null,null,{"$f":"MPfeed","v":296.46113273351347},null,null,null,null,null,null,null,null,null,null,null,null,null,null,null,null,null,null,null,null,"ARPA, HAFİF","ARPA, HAFİF","ARPA, HAFİF","ARPA, HAFİF","ARPA, HAFİF"]
[null,"Merada otlayan hayvan sayısı :",{"$f":"GrazeN","v":0},null,null,null,"MP-Mikrobiyel (%):",null,null,{"$f":"(J66/(J66+J67))*100","v":60.896609082884723},null,null,null,null,null,null,null,null,null,null,null,null,null,null,null,null,null,null,null,null,"MISIR PULU (FLAKED)","MISIR PULU (FLAKED)","MISIR PULU (FLAKED)","MISIR PULU (FLAKED)","MISIR PULU (FLAKED)"]
[null,"Merada kalınan süre (gün):",{"$f":"DOP","v":0},null,null,null,"Ca (% KM):",null,null,{"$f":"Casup/10/TotalDMFed","v":0.46738469079340217},null,null,null,null,null,null,null,null,null,null,null,null,null,null,null,null,null,null,null,null,"PAMUK TOHUMU KÜSPESİ, SOLVENT, % 32","PAMUK TOHUMU KÜSPESİ, SOLVENT, % 32","PAMUK TOHUMU KÜSPESİ, SOLVENT, % 32","PAMUK TOHUMU KÜSPESİ, SOLVENT, % 32","PAMUK TOHUMU KÜSPESİ, SOLVENT, % 32"]
[null,"Meranın arazi durumu :",{"$f":"TERRAIN","v":0},null,null,null,"P (% KM):",null,null,{"$f":"Psup/10/TotalDMFed","v":0.24759714893339246}]
[null,"Meradaki kuru madde tüketimi (kg/gün):",{"$f":"pI","v":0},null,null,null,"Rasyon Maliyeti, Krş/gün:",null,null,{"$f":"FİYAT","v":54.871728699628065},null,null,null,null,null,null,null,null,null,null,null,null,null,null,null,null,null,null,null,null,"MERMER TOZU","MERMER TOZU","MERMER TOZU","MERMER TOZU","MERMER TOZU"]
[null,"Meradaki kuru madde tüketimi (kg/gün):",{"$f":"pI","v":0},null,null,null,"1 KS değişimi için gerekli gün:",null,null,{"$f":"DaysToChange","v":19.293101319197159},"",null,null,null,null,null,null,null,null,null,null,null,null,null,null,null,null,null,null,null,"SODYUMBİKARBONAT","SODYUMBİKARBONAT","SODYUMBİKARBONAT","SODYUMBİKARBONAT","SODYUMBİKARBONAT"]
[null,"Rasyon besin maddesi dengesi","İhtiyaç","Rasyon","Denge","% KM'de",null,null,null,null,"",null,null,null,null,null,null,null,null,null,null,null,null,null,null,null,null,null,null,null,"TUZ","TUZ","TUZ","TUZ","TUZ"]
[null,"Ca (g/gün)",{"$f":"Rapor!CV89","v":39.53600096362856},{"$f":"Casup","v":39.136855094175452},{"$f":"CONCATENATE(IF((D74-C74)>=0,\"+\",\"\"),TEXT((D74-C74),\"0,0\"))","v":"-0,4"},{"$f":"Casup/10/TotalDMFed","v":0.46738469079340217},"Amino asit tablosu",null,null,null,"",null,null,null,null,null,null,null,null,null,null,null,null,null,null,null,null,null,null,null,"VİT.-MİN. KAR. (ROVIMIX 302-FM/30) (SÜT, BESİ)","VİT.-MİN. KAR. (ROVIMIX 302-FM/30) (SÜT, BESİ)","VİT.-MİN. KAR. (ROVIMIX 302-FM/30) (SÜT, BESİ)","VİT.-MİN. KAR. (ROVIMIX 302-FM/30) (SÜT, BESİ)","VİT.-MİN. KAR. (ROVIMIX 302-FM/30) (SÜT, BESİ)"]
[null,"P (g/gün)",{"$f":"Rapor!CV90","v":21.067606082884062},{"$f":"Psup","v":20.732758112140438},"-0,3",{"$f":"Psup/10/TotalDMFed","v":0.24759714893339246},null,"İhtiyaç","Rasyon","Denge",""]
[null,"Mg (g/gün)",{"$f":"Rapor!CV91","v":8.2503625904453433},{"$f":"Mgsup","v":14.498797735438631},"+6,2",{"$f":"Mgsup/10/TotalDMFed","v":0.17314922418134154},"Metionin (g/gün)",{"$f":"Rapor!CV108","v":5.7982067263227757},{"$f":"Rapor!CJ185","v":6.606666971958747},{"$f":"CONCATENATE(IF((I76-H76)>=0,\"+\",\"\"),TEXT((I76-H76),\"0,0\"))","v":"+0,8"},"",""]
[null,"K (g/gün)",{"$f":"Rapor!CV92","v":49.502175542672063},{"$f":"Ksup","v":99.943890816187249},"+50,4",{"$f":"Ksup/10/TotalDMFed","v":1.1935615264284527},"Lizin (g/gün)",{"$f":"Rapor!CV109","v":18.554261524232885},{"$f":"Rapor!CJ186","v":14.688622352324598},{"$f":"CONCATENATE(IF((I77-H77)>=0,\"+\",\"\"),TEXT((I77-H77),\"0,0\"))","v":"-3,9"},"",""]
[null,"Na (g/gün)",{"$f":"Rapor!CV93","v":5.7752538133117408},{"$f":"Nasup","v":7.4856275470877272},"+1,7",{"$f":"Nasup/10/TotalDMFed","v":8.9395729628026777E-2},"Metionin (% MP)","",{"$f":"(I76/(J66+J67))*100","v":0.87142310656931776},"","",""]
[null,"S (g/gün)",{"$f":"Rapor!CV94","v":12.375543885668016},{"$f":"Ssup","v":12.542982766830447},"+0,2",{"$f":"Ssup/10/TotalDMFed","v":0.1497922637880654},"Lizin (% MP)","",{"$f":"(I77/(J66+J67))*100","v":1.9374375877903942},"",null,null,null,null,null,""]
[null,null,null,null,null,"mg/kg KM","Histidin (g/gün)",{"$f":"Rapor!CV110","v":7.2477584079034711},{"$f":"Rapor!CJ187","v":14.624173231153103},{"$f":"CONCATENATE(IF((I80-H80)>=0,\"+\",\"\"),TEXT((I80-H80),\"0,0\"))","v":"+7,4"},""]
[null,"Co (mg/gün)",{"$f":"Rapor!CV95","v":0.82503625904453437},{"$f":"Cosup","v":3.1479707798222263},{"$f":"CONCATENATE(IF((D81-C81)>=0,\"+\",\"\"),TEXT((D81-C81),\"0,0\"))","v":"+2,3"},{"$f":"Cosup/TotalDMFed","v":0.37594061812412843},"Fenilalanin (g/gün)",{"$f":"Rapor!CV111","v":10.146861771064859},{"$f":"Rapor!CJ188","v":16.040258029879482},"+5,9"]
[null,"Cu (mg/gün)",{"$f":"Rapor!CV96","v":82.503625904453429},{"$f":"Cusup","v":85.434656349848154},"+2,9",{"$f":"Cusup/TotalDMFed","v":10.202876635086877},"Triptofan (g/gün)",{"$f":"Rapor!CV112","v":1.7394620178968327},{"$f":"Rapor!CJ189","v":45.663617156947303},"+43,9"]
[null,"I (mg/gün)",{"$f":"Rapor!CV97","v":4.1251812952226716},{"$f":"Isup","v":4.0167212578479541},"-0,1",{"$f":"Isup/TotalDMFed","v":0.47968954546425702},"Treonin (g/gün)",{"$f":"Rapor!CV113","v":11.306503116329413},{"$f":"Rapor!CJ190","v":16.00157297560348},"+4,7"]
[null,"Fe (mg/gün)",{"$f":"Rapor!CV98","v":412.51812952226715},{"$f":"Fesup","v":1401.2582641263177},"+988,7",{"$f":"Fesup/TotalDMFed","v":167.34268988257261},"Löysin (g/gün)",{"$f":"Rapor!CV114","v":19.423992533181302},{"$f":"Rapor!CJ191","v":20.442110023901705},"+1,0"]
[null,"Mn (mg/gün)",{"$f":"Rapor!CV99","v":165.00725180890686},{"$f":"Mnsup","v":345.4970953409595},"+180,5",{"$f":"Mnsup/TotalDMFed","v":41.260354897546492},"İzolöysin (g/gün)",{"$f":"Rapor!CV115","v":8.1174894168518854},{"$f":"Rapor!CJ192","v":10.239461578838579},"+2,1"]
[null,"Se (mg/gün)",{"$f":"Rapor!CV100","v":0.82503625904453437},{"$f":"Sesup","v":0.81019652825263555},"0,0",{"$f":"Sesup/TotalDMFed","v":9.6756229627556894E-2},"Valin (g/gün)",{"$f":"Rapor!CV116","v":11.596413452645551},{"$f":"Rapor!CJ193","v":19.327335629431687},"+7,7"]
[null,"Zn (mg/gün)",{"$f":"Rapor!CV101","v":247.51087771336029},{"$f":"Znsup","v":291.63147696898341},"+44,1",{"$f":"Znsup/TotalDMFed","v":34.827552536038333},"Arjinin (g/gün)",{"$f":"Rapor!CV117","v":9.5670410984325809},{"$f":"Rapor!CJ194","v":4.0204086983851992},"-5,5"]
[null,null,null,null,null,"IU/kg KM"]
[null,"Vit A (IU)",{"$f":"Rapor!CV102","v":18150.797698979753},{"$f":"VitAsup*1000","v":79819.815596444532},{"$f":"CONCATENATE(IF((D89-C89)>=0,\"+\",\"\"),TEXT((D89-C89),0))","v":"+61669"},{"$f":"VitAsup*1000/TotalDMFed","v":9532.334609400632}]
[null,"Vit D (IU)",{"$f":"Rapor!CV103","v":2268.8497123724692},{"$f":"VitDsup*1000","v":17484.3},{"$f":"CONCATENATE(IF((D90-C90)>=0,\"+\",\"\"),TEXT((D90-C90),0))","v":"+15215"},{"$f":"VitDsup*1000/TotalDMFed","v":2088.0303564440628},null,null,null,null,null,null,null,null,null,null,null,null,null,null,null,null,null,null,null,null,null,null,null,"Yemlerin MİKTARI",3,4,5,6,7]
[null,null,null,null,null,null,null,null,null,null,null,null,null,null,null,null,null,null,null,null,null,null,null,null,null,null,null,null,null,null,0.5,0.5,0.5,0.5,0.5]
[null,null,null,null,null,null,null,null,null,null,null,null,null,null,null,null,null,null,null,null,null,null,null,null,null,null,null,null,null,null,1,1,1,1,1]
[null,null,null,null,null,null,null,null,null,null,null,null,null,null,null,null,null,null,null,null,null,null,null,null,null,null,null,null,null,null,1,1,1,2,2]
[null,null,null,null,null,null,null,null,null,null,null,null,null,null,null,null,null,null,null,null,null,null,null,null,null,null,null,null,null,null,2,3,4,4,4.5]
[null,null,null,null,null,null,null,null,null,null,null,null,null,null,null,null,null,null,null,null,null,null,null,null,null,null,null,null,null,null,2,2,2.5,2.5,2.5]
[null,null,null,null,null,null,null,null,null,null,null,null,null,null,null,null,null,null,null,null,null,null,null,null,null,null,null,null,null,null,1,1]
[]
[null,null,null,null,null,null,null,null,null,null,null,null,null,null,null,null,null,null,null,null,null,null,null,null,null,null,null,null,null,null,0.11,0.13,0.1,0.1,0.1]
[]
[null,null,null,null,null,null,null,null,null,null,null,null,null,null,null,null,null,null,null,null,null,null,null,null,null,null,null,null,null,null,5.0000000000000001E-3,5.0000000000000001E-3,8.0000000000000002E-3,8.0000000000000002E-3,8.0000000000000002E-3]
[null,null,null,null,null,null,null,null,null,null,null,null,null,null,null,null,null,null,null,null,null,null,null,null,null,null,null,null,null,null,5.0000000000000001E-3,5.0000000000000001E-3,8.0000000000000002E-3,8.0000000000000002E-3,8.0000000000000002E-3]
[]
[]
[]
[]
[]
[]
[]
[]
[]
[]
[]
[]
[]
[]
[]
[null,null,null,null,null,null,null,null,null,null,null,null,null,null,null,null,null,null,null,null,null,null,null,null,null,null,null,null,null,"Fiyat",15,15,15,15,15]
[null,null,null,null,null,null,null,null,null,null,null,null,null,null,null,null,null,null,null,null,null,null,null,null,null,null,null,null,null,null,20,20,20,20,20]
[null,null,null,null,null,null,null,null,null,null,null,null,null,null,null,null,null,null,null,null,null,null,null,null,null,null,null,null,null,null,200,200,200,200,200]
[null,null,null,null,null,null,null,null,null,null,null,null,null,null,null,null,null,null,null,null,null,null,null,null,null,null,null,null,null,null,75,75,75,75,75]
[null,null,null,null,null,null,null,null,null,null,null,null,null,null,null,null,null,null,null,null,null,null,null,null,null,null,null,null,null,null,70,70,70,70,70]
[null,null,null,null,null,null,null,null,null,null,null,null,null,null,null,null,null,null,null,null,null,null,null,null,null,null,null,null,null,null,750,750,750,750,750]
[null,null,null,null,null,null,null,null,null,null,null,null,null,null,null,null,null,null,null,null,null,null,null,null,null,null,null,null,null,null,72,72,72,72,72]
[]
[]
[null,null,null,null,null,null,null,null,null,null,null,null,null,null,null,null,null,null,null,null,null,null,null,null,null,null,null,null,null,null,70,70,70,70,70]
[null,null,null,null,null,null,null,null,null,null,null,null,null,null,null,null,null,null,null,null,null,null,null,null,null,null,null,null,null,null,25,25,25,25,25]
[null,null,null,null,null,null,null,null,null,null,null,null,null,null,null,null,null,null,null,null,null,null,null,null,null,null,null,null,null,null,3000,3000,3000,3000,3000]
[]
[]
[]
[]
[]
[]
[]
[]
[]
[]
[]
[]
[]
[]
[]
[null,null,null,null,null,null,null,null,null,null,null,null,null,null,null,null,null,null,null,null,null,null,null,null,null,null,null,null,null,"En az",0,0,0,0,0]
[null,null,null,null,null,null,null,null,null,null,null,null,null,null,null,null,null,null,null,null,null,null,null,null,null,null,null,null,null,null,0,0,0,0,0]
[null,null,null,null,null,null,null,null,null,null,null,null,null,null,null,null,null,null,null,null,null,null,null,null,null,null,null,null,null,null,0,0,0,0,0]
[null,null,null,null,null,null,null,null,null,null,null,null,null,null,null,null,null,null,null,null,null,null,null,null,null,null,null,null,null,null,0,0,0,0,0]
[null,null,null,null,null,null,null,null,null,null,null,null,null,null,null,null,null,null,null,null,null,null,null,null,null,null,null,null,null,null,0,0,0,0,0]
[null,null,null,null,null,null,null,null,null,null,null,null,null,null,null,null,null,null,null,null,null,null,null,null,null,null,null,null,null,null,0,0,0,0,0]
[null,null,null,null,null,null,null,null,null,null,null,null,null,null,null,null,null,null,null,null,null,null,null,null,null,null,null,null,null,null,0,0,0,0,0]
[null,null,null,null,null,null,null,null,null,null,null,null,null,null,null,null,null,null,null,null,null,null,null,null,null,null,null,null,null,null,"0","0","0","0","0"]
[null,null,null,null,null,null,null,null,null,null,null,null,null,null,null,null,null,null,null,null,null,null,null,null,null,null,null,null,null,null,0,0,0,0,0]
[null,null,null,null,null,null,null,null,null,null,null,null,null,null,null,null,null,null,null,null,null,null,null,null,null,null,null,null,null,null,0,0,0,0,0]
[null,null,null,null,null,null,null,null,null,null,null,null,null,null,null,null,null,null,null,null,null,null,null,null,null,null,null,null,null,null,5.0000000000000001E-3,5.0000000000000001E-3,5.0000000000000001E-3,5.0000000000000001E-3,5.0000000000000001E-3]
[null,null,null,null,null,null,null,null,null,null,null,null,null,null,null,null,null,null,null,null,null,null,null,null,null,null,null,null,null,null,8.9999999999999993E-3,8.9999999999999993E-3,8.9999999999999993E-3,8.9999999999999993E-3,8.9999999999999993E-3]
[]
[]
[]
[]
[]
[]
[]
[]
[]
[]
[]
[]
[]
[]
[]
[null,null,null,null,null,null,null,null,null,null,null,null,null,null,null,null,null,null,null,null,null,null,null,null,null,null,null,null,null,"En çok",5,5,5,5,5]
[null,null,null,null,null,null,null,null,null,null,null,null,null,null,null,null,null,null,null,null,null,null,null,null,null,null,null,null,null,null,5,5,5,5,5]
[null,null,null,null,null,null,null,null,null,null,null,null,null,null,null,null,null,null,null,null,null,null,null,null,null,null,null,null,null,null,5,5,5,5,5]
[null,null,null,null,null,null,null,null,null,null,null,null,null,null,null,null,null,null,null,null,null,null,null,null,null,null,null,null,null,null,5,5,5,5,5]
[null,null,null,null,null,null,null,null,null,null,null,null,null,null,null,null,null,null,null,null,null,null,null,null,null,null,null,null,null,null,5,5,5,5,5]
[null,null,null,null,null,null,null,null,null,null,null,null,null,null,null,null,null,null,null,null,null,null,null,null,null,null,null,null,null,null,5,5,5,5,5]
[null,null,null,null,null,null,null,null,null,null,null,null,null,null,null,null,null,null,null,null,null,null,null,null,null,null,null,null,null,null,5,5,5,5,5]
[null,null,null,null,null,null,null,null,null,null,null,null,null,null,null,null,null,null,null,null,null,null,null,null,null,null,null,null,null,null,"3","3","3","3","3"]
[null,null,null,null,null,null,null,null,null,null,null,null,null,null,null,null,null,null,null,null,null,null,null,null,null,null,null,null,null,null,3,3,3,3,3]
[null,null,null,null,null,null,null,null,null,null,null,null,null,null,null,null,null,null,null,null,null,null,null,null,null,null,null,null,null,null,0.1,0.1,0.1,0.1,0.1]
[null,null,null,null,null,null,null,null,null,null,null,null,null,null,null,null,null,null,null,null,null,null,null,null,null,null,null,null,null,null,0.05,0.05,0.05,0.05,0.05]
[null,null,null,null,null,null,null,null,null,null,null,null,null,null,null,null,null,null,null,null,null,null,null,null,null,null,null,null,null,null,0.03,0.03,0.03,0.03,0.03]
[]
[]
[]
[]
[]
[]
[]
[]
[]
[]
[]
[]
[]
[]
[]
[]
[]
[]
[null,null,null,null,null,null,null,null,null,null,null,null,null,null,null,null,null,null,null,null,null,null,null,null,null,null,null,"AE","Karma-ataman","Yem1","MISIR SİLAJI, %35 TANE","BUĞDAY SAMANI","BUĞDAY SAMANI","BUĞDAY SAMANI","BUĞDAY SAMANI"]
[null,null,null,null,null,null,null,null,null,null,null,null,null,null,null,null,null,null,null,null,null,null,null,null,null,null,null,"AF","Karma1-Besiyemli","Yem2","YONCA SİLAJI, TAM ÇİÇ.","MISIR SAPLARI,KURU","MISIR SAPLARI,KURU","MISIR SAPLARI,KURU","MISIR SAPLARI,KURU"]
[null,null,null,null,null,null,null,null,null,null,null,null,null,null,null,null,null,null,null,null,null,null,null,null,null,null,null,"AG","Karma2-Sütyemli","Yem3","ARPA, AĞIR","YULAF KURU OTU","YULAF KURU OTU","YULAF KURU OTU","YULAF KURU OTU"]
[null,null,null,null,null,null,null,null,null,null,null,null,null,null,null,null,null,null,null,null,null,null,null,null,null,null,null,"AH","Karma3-Çiğitli","Yem4","ŞEK. PAN. POSASI, YAŞ, AMBALAJLI","ARPA, AĞIR","ARPA, AĞIR","ARPA, AĞIR","ARPA, AĞIR"]
[null,null,null,null,null,null,null,null,null,null,null,null,null,null,null,null,null,null,null,null,null,null,null,null,null,null,null,"AI","Karma4-Yulafotlu","Yem5","SIĞIR BESİ YEMİ,14,2800","MISIR PULU (FLAKED)","MISIR PULU (FLAKED)","MISIR PULU (FLAKED)","MISIR PULU (FLAKED)"]
[null,null,null,null,null,null,null,null,null,null,null,null,null,null,null,null,null,null,null,null,null,null,null,null,null,null,null,"AJ",null,"Yem6",null,"PAMUK TOHUMU, BÜTÜN","PAMUK TOHUMU, BÜTÜN","PAMUK TOHUMU, BÜTÜN","PAMUK TOHUMU, BÜTÜN"]
[null,null,null,null,null,null,null,null,null,null,null,null,null,null,null,null,null,null,null,null,null,null,null,null,null,null,null,"AK",null,"Yem7",null,"AYÇİÇEĞİ  KÜSPESİ, %36 HP","AYÇİÇEĞİ  KÜSPESİ, %36 HP","AYÇİÇEĞİ  KÜSPESİ, %36 HP","AYÇİÇEĞİ  KÜSPESİ, %36 HP"]
[null,null,null,null,null,null,null,null,null,null,null,null,null,null,null,null,null,null,null,null,null,null,null,null,null,null,null,"AL",null,"Yem8",null,"PAMUK TOHUMU KÜSPESİ, SOLVENT, % 32","PAMUK TOHUMU KÜSPESİ, SOLVENT, % 32","PAMUK TOHUMU KÜSPESİ, SOLVENT, % 32","PAMUK TOHUMU KÜSPESİ, SOLVENT, % 32"]
[null,null,null,null,null,null,null,null,null,null,null,null,null,null,null,null,null,null,null,null,null,null,null,null,null,null,null,"AM",null,"Yem9",null,"SIĞIR BESİ YEMİ,13,2700","SIĞIR BESİ YEMİ,13,2700","SIĞIR BESİ YEMİ,13,2700","SIĞIR BESİ YEMİ,13,2700"]
[null,null,null,null,null,null,null,null,null,null,null,null,null,null,null,null,null,null,null,null,null,null,null,null,null,null,null,"AN",null,"Yem10",null,"SIĞIR SÜT YEMİ","SIĞIR SÜT YEMİ","SIĞIR SÜT YEMİ","SIĞIR SÜT YEMİ"]
[null,null,null,null,null,null,null,null,null,null,null,null,null,null,null,null,null,null,null,null,null,null,null,null,null,null,null,"AO",null,"Yem11",null,"MERMER TOZU","MERMER TOZU","MERMER TOZU","MERMER TOZU"]
[null,null,null,null,null,null,null,null,null,null,null,null,null,null,null,null,null,null,null,null,null,null,null,null,null,null,null,"AP",null,"Yem12",null,"TUZ","TUZ","TUZ","TUZ"]
[null,null,null,null,null,null,null,null,null,null,null,null,null,null,null,null,null,null,null,null,null,null,null,null,null,null,null,"AQ",null,"Yem13",null,"VİT.-MİN. KAR. (ROVIMIX 302-FM/30) (SÜT, BESİ)","VİT.-MİN. KAR. (ROVIMIX 302-FM/30) (SÜT, BESİ)","VİT.-MİN. KAR. (ROVIMIX 302-FM/30) (SÜT, BESİ)","VİT.-MİN. KAR. (ROVIMIX 302-FM/30) (SÜT, BESİ)"]
[null,null,null,null,null,null,null,null,null,null,null,null,null,null,null,null,null,null,null,null,null,null,null,null,null,null,null,"AR",null,"Yem14"]
[null,null,null,null,null,null,null,null,null,null,null,null,null,null,null,null,null,null,null,null,null,null,null,null,null,null,null,"AS",null,"Yem15"]
[null,null,null,null,null,null,null,null,null,null,null,null,null,null,null,null,null,null,null,null,null,null,null,null,null,null,null,"AT",null,"Yem16"]
[null,null,null,null,null,null,null,null,null,null,null,null,null,null,null,null,null,null,null,null,null,null,null,null,null,null,null,"AU",null,"Yem17"]
[null,null,null,null,null,null,null,null,null,null,null,null,null,null,null,null,null,null,null,null,null,null,null,null,null,null,null,"AV",null,"Yem18"]
[null,null,null,null,null,null,null,null,null,null,null,null,null,null,null,null,null,null,null,null,null,null,null,null,null,null,null,"AW",null,"Yem19"]
[null,null,null,null,null,null,null,null,null,null,null,null,null,null,null,null,null,null,null,null,null,null,null,null,null,null,null,"AX",null,"Yem20"]
[null,null,null,null,null,null,null,null,null,null,null,null,null,null,null,null,null,null,null,null,null,null,null,null,null,null,null,"AY",null,"Yem21"]
[null,null,null,null,null,null,null,null,null,null,null,null,null,null,null,null,null,null,null,null,null,null,null,null,null,null,null,"AZ",null,"Yem22"]
[null,null,null,null,null,null,null,null,null,null,null,null,null,null,null,null,null,null,null,null,null,null,null,null,null,null,null,"BA",null,"Yem23"]
[null,null,null,null,null,null,null,null,null,null,null,null,null,null,null,null,null,null,null,null,null,null,null,null,null,null,null,"BB",null,"Yem24"]
[null,null,null,null,null,null,null,null,null,null,null,null,null,null,null,null,null,null,null,null,null,null,null,null,null,null,null,"BC",null,"Yem25"]
[null,null,null,null,null,null,null,null,null,null,null,null,null,null,null,null,null,null,null,null,null,null,null,null,null,null,null,"BD",null,"Yem26"]
[null,null,null,null,null,null,null,null,null,null,null,null,null,null,null,null,null,null,null,null,null,null,null,null,null,null,null,"BE",null,"Yem27"]
[null,null,null,null,null,null,null,null,null,null,null,null,null,null,null,null,null,null,null,null,null,null,null,null,null,null,null,"BF",null,"Miktar1",6]
[null,null,null,null,null,null,null,null,null,null,null,null,null,null,null,null,null,null,null,null,null,null,null,null,null,null,null,"BG",null,"Miktar2",3]
[null,null,null,null,null,null,null,null,null,null,null,null,null,null,null,null,null,null,null,null,null,null,null,null,null,null,null,"BH",null,"Miktar3",3]
[null,null,null,null,null,null,null,null,null,null,null,null,null,null,null,null,null,null,null,null,null,null,null,null,null,null,null,null,null,"Miktar4",5,1.9,2,2,2.4]
[null,null,null,null,null,null,null,null,null,null,null,null,null,null,null,null,null,null,null,null,null,null,null,null,null,null,null,null,null,"Miktar5",1.5,1.9,2,1.5,2.4]
[null,null,null,null,null,null,null,null,null,null,null,null,null,null,null,null,null,null,null,null,null,null,null,null,null,null,null,null,null,"Miktar6",null,null,null,0.5]
[null,null,null,null,null,null,null,null,null,null,null,null,null,null,null,null,null,null,null,null,null,null,null,null,null,null,null,null,null,"Miktar7"]
[null,null,null,null,null,null,null,null,null,null,null,null,null,null,null,null,null,null,null,null,null,null,null,null,null,null,null,null,null,"Miktar8"]
[null,null,null,null,null,null,null,null,null,null,null,null,null,null,null,null,null,null,null,null,null,null,null,null,null,null,null,null,null,"Miktar9",null,1.9]
[null,null,null,null,null,null,null,null,null,null,null,null,null,null,null,null,null,null,null,null,null,null,null,null,null,null,null,null,null,"Miktar10",null,null,1.7,null,1.5]
[null,null,null,null,null,null,null,null,null,null,null,null,null,null,null,null,null,null,null,null,null,null,null,null,null,null,null,null,null,"Miktar11",null,0.01,0.01,0.02,7.0000000000000007E-2]
[null,null,null,null,null,null,null,null,null,null,null,null,null,null,null,null,null,null,null,null,null,null,null,null,null,null,null,null,null,"Miktar12",null,0.01,0.01,0.03]
[null,null,null,null,null,null,null,null,null,null,null,null,null,null,null,null,null,null,null,null,null,null,null,null,null,null,null,null,null,"Miktar13",null,0.01,0.01,0.02,0.01]
[null,null,null,null,null,null,null,null,null,null,null,null,null,null,null,null,null,null,null,null,null,null,null,null,null,null,null,null,null,"Miktar14"]
[null,null,null,null,null,null,null,null,null,null,null,null,null,null,null,null,null,null,null,null,null,null,null,null,null,null,null,null,null,"Miktar15"]
[null,null,null,null,null,null,null,null,null,null,null,null,null,null,null,null,null,null,null,null,null,null,null,null,null,null,null,null,null,"Miktar16"]
[null,null,null,null,null,null,null,null,null,null,null,null,null,null,null,null,null,null,null,null,null,null,null,null,null,null,null,null,null,"Miktar17"]
[null,null,null,null,null,null,null,null,null,null,null,null,null,null,null,null,null,null,null,null,null,null,null,null,null,null,null,null,null,"Miktar18"]
[null,null,null,null,null,null,null,null,null,null,null,null,null,null,null,null,null,null,null,null,null,null,null,null,null,null,null,null,null,"Miktar19"]
[null,null,null,null,null,null,null,null,null,null,null,null,null,null,null,null,null,null,null,null,null,null,null,null,null,null,null,null,null,"Miktar20"]
[null,null,null,null,null,null,null,null,null,null,null,null,null,null,null,null,null,null,null,null,null,null,null,null,null,null,null,null,null,"Miktar21"]
[null,null,null,null,null,null,null,null,null,null,null,null,null,null,null,null,null,null,null,null,null,null,null,null,null,null,null,null,null,"Miktar22"]
[null,null,null,null,null,null,null,null,null,null,null,null,null,null,null,null,null,null,null,null,null,null,null,null,null,null,null,null,null,"Miktar23"]
[null,null,null,null,null,null,null,null,null,null,null,null,null,null,null,null,null,null,null,null,null,null,null,null,null,null,null,null,null,"Miktar24"]
[null,null,null,null,null,null,null,null,null,null,null,null,null,null,null,null,null,null,null,null,null,null,null,null,null,null,null,null,null,"Miktar25"]
[null,null,null,null,null,null,null,null,null,null,null,null,null,null,null,null,null,null,null,null,null,null,null,null,null,null,null,null,null,"Miktar26"]
[null,null,null,null,null,null,null,null,null,null,null,null,null,null,null,null,null,null,null,null,null,null,null,null,null,null,null,null,null,"Miktar27"]

{"sheet":"Rapor","index":1,"n_rows":686,"n_cols":121,"rows_kept":686,"cut":false,"hidden":false,"merged":[[190,90,190,92],[196,90,196,92],[201,90,201,92],[205,90,205,92],[62,104,62,108],[63,104,63,108],[118,94,118,96],[148,90,148,92],[174,90,174,92],[0,23,0,24],[104,94,104,99],[7,90,7,92],[33,95,33,99],[86,94,86,100],[46,90,46,92],[0,94,0,98],[36,95,36,99],[302,90,302,92],[280,90,280,92],[285,90,285,92],[291,90,291,92],[292,90,292,92],[294,90,294,92],[299,90,299,92],[38,1,39,1],[38,2,39,2],[234,90,234,92],[2,4,2,5],[273,90,273,92],[256,90,256,92],[235,90,235,92],[242,90,242,92],[243,90,243,92],[251,90,251,92],[258,90,258,92],[262,90,262,92],[263,90,263,92],[181,90,181,92],[210,90,210,92],[184,90,184,92]]}
[null,null,null,null,null,null,null,null,null,null,null,null,null,null,null,null,null,null,null,null,null,null,null,"HESAPLAMA TABLOSU",null,4,5,6,7,8,9,10,11,12,13,14,15,16,17,18,19,20,21,22,23,24,25,26,27,28,29,30,31,32,33,34,35,36,37,38,39,40,41,42,43,44,45,46,47,48,49,50,51,52,53,54,55,56,null,null,null,null,null,null,null,null,null,null,null,"Tanımlamalar","SBW=",{"$f":"BW*0.96","v":288},null,null,"Table 10-1. Breed maintenance requirement multiplier, birth weights and peak milk yield production.",null,null,null,null,null,null,{"$f":"TODAY()","v":"2024-11-11"},null,null,null,"İlk Gebelik"]
[null,null,null,null,null,null,null,null,null,null,null,null,null,null,null,null,null,null,null,null,null,null,{"$f":"SUM(W5:W31)","v":54.871728699628065},null,{"$f":"SUM(Y5:Y31)","v":9.3720285874535083},{"$f":"AVERAGE(Z5:Z31)","v":24.518518518518519},null,null,null,null,null,null,null,null,{"$f":"AVERAGE(AI5:AI31)","v":1.0444444444444445},null,null,{"$f":"AVERAGE(AL5:AL31)","v":1.7962962962962963},{"$f":"AVERAGE(AM5:AM31)","v":7.2962962962962967},{"$f":"AVERAGE(AN5:AN31)","v":3.6296296296296298},{"$f":"AVERAGE(AO5:AO31)","v":2.7777777777777777},null,null,null,null,null,null,null,null,null,null,null,null,null,null,null,null,null,null,null,null,null,null,null,null,null,null,null,null,null,null,null,null,null,null,null,null,null,null,{"$f":"SUM(CB5:CB31)","v":3.4768352769999256},9.9518111189490597,8.0795479195138658,6.5804776370392606,9.4180035288661923,7.1300317637027462,7.670137968417861,3.2264653453681369,6.5285140663232291,2.181682643244292,"Irkı","EBW=",{"$f":"0.891*SBW","v":256.608},null,null,"Kod","Süt Proteini, %","NEm (BE)","Birth Wt kg (CBW)","Peak Milk Yield kg/day (PKYD)","Düve Ergin Ağırlığı","Gebelik Süresi (GL), gün","Ergenlik yaşı, gün","Deri kalınlığı","Süt Yağı, %","İBY,ay","Ağ. %","a1",null,null,null,null,null,null,null,null,"Tablo 10-7 Rumen mikrobiyel hücre duvarı ve hücre duvarı olmayan proteinlerin a.a. Kompozisyonu, g/100 g protein"]
[null,null,"MİKTAR","Fiyat","Verilecek miktar",null,"BESİN MADDELERİ","İHTİYAÇ","RASYON","SONUÇ",null,null,null,null,null,null,null,null,null,null,null,null,"Fiyat","VERİLECEK YEMLER","MİKTAR","KM %Yem","NDF %KM","Lignin %NDF","Effekt. %NDF","HS,%","TDN %KM","ME,Mcal/kg","NEm,Mcal/kg","NEg,Mcal/kg","HP,%","DIP %HP","UIP %HP","SoIP %HP","NPN %SoIP","NDFIP %HP","ADFIP %HP","Nişasta %NSC","HY %KM","HK %KM","A kd %/sa©","B1 kd %/sa©","B2 kd %/sa©","B1 kd %/sa(p)","B2 kd %/sa(p)","B3 kd %/sa(p)","MET %UIP","LİZ %UIP","ARJ %UIP","TRE %UIP","LÖY %UIP","İZOLÖY %UIP","VAL %UIP","HIS %UIP","FENAL %UIP","TRİP %UIP","Ca %KM","P %KM","Mg %KM","Cl %KM","K %KM","Na %KM","S %KM","Co mg/kg","Cu mg/kg","I mg/kg","Fe mg/kg","Mn mg/kg","Se mg/kg","Zn mg/kg","Vit A 1000 IU/kg","Vit D 1000 IU/kg","Vit E IU/kg","FİYAT,TL",null,"MET, g","LİZ, g","ARJ, g","TRE, g","LÖY, g","İZOLÖY, g","VAL, g","HIS, g","FENAL, g","TRİP, g","Brangus","SWG=",{"$f":"IF(AnimalType=\"Damızlık Düve\",     IF(DaysPreg>0,APADG+ADGpreg,BPADG),     IF(OR(AnimalType=\"Kurudaki İnek\",AnimalType=\"Laktasyondaki İnek\")=TRUE,IF(DaysPreg>0,ADGpreg+ACADG,ACADG),ADG))  *0.96","v":1.44},null,null,"Angus",3.8,1,36,8,512.1,280,356,1,4.03,30,0.6,7.0000000000000007E-2,null,null,null,null,null,null,null,null,null,null,null,"Ruminal bakteri"]
[null,"VERİLECEK YEMLER",{"$f":"Y2","v":9.3720285874535083},"TL","En az","En çok","Kuru Madde, kg/gün",{"$f":"DMIreal","v":8.2503625904453433},{"$f":"TotalDMFed","v":8.3735851569590878},{"$f":"IF(H4=\"\",\"\",IF(I4>(H4*1.02),\"FAZLA\",IF(I4<(H4*0.98),\"EKSİK\",\"TAMAM\")))","v":"TAMAM"},null,null,null,null,null,null,null,null,null,null,null,null,"  ","KABA YEMLER","  ","  ","  ","  ","  ","  ","  ","  ","  ","  ","  ","  ","  ","  ","  ","  ","  ","  ","  ","  ","  ","  ","  ","  ","  ","  ","  ","  ","  ","  ","  ","  ","  ","  ","  ","  ","  ","  ","  ","  ","  ","  ","  ","  ","  ","  ","  ","  ","  ","  ","  ","  ","  ","  ",null,"REBAA","REBAA","REBAA","REBAA","REBAA","REBAA","REBAA","REBAA","REBAA","REBAA","Esmer","EWG=",{"$f":"SWG*0.956","v":1.3766399999999999},null,null,"Ayrşayr",3.4,1.2,32,36,545,278,347,1,4,24,0.55000000000000004,7.2999999999999995E-2,null,null,null,null,null,null,null,null,"Amino a.","Hücre duvarı","Hücre duvarı olmayan","Ortalama","SD"]
[{"$f":"Besi!A5","v":1},{"$f":"Besi!B5","v":"MISIR SİLAJI, %23-26 KM"},{"$f":"Besi!C5","v":0},{"$f":"Besi!D5","v":2.5},{"$f":"Besi!E5","v":0},{"$f":"Besi!F5","v":5},"Rasyon Kuru Madde Oranı, % ",null,{"$f":"TotalDMFed/Y2*100","v":89.346560126469811},null,null,null,null,null,null,null,null,null,null,1.3,null,null,{"$f":"IF(Besi!B5=0,0,IF(Besi!C5<=0,0,Besi!C5*Besi!D5))","v":0},{"$f":"IF(B5=0,0,B5)","v":"MISIR SİLAJI, %23-26 KM"},{"$f":"IF(Besi!B5=0,0,IF(Besi!C5<=0,0,Besi!C5))","v":0},{"$f":"IF(B5=0,0,IF(C5<=0,0,VLOOKUP(X5,X126:CA657,Z$1,FALSE)))","v":0},{"$f":"IF(B5=0,0,IF(C5<=0,0,VLOOKUP(X5,X126:CA657,AA$1,FALSE)))","v":0},{"$f":"IF(B5=0,0,IF(C5<=0,0,VLOOKUP(X5,X126:CA657,AB$1,FALSE)))","v":0},{"$f":"IF(B5=0,0,IF(C5<=0,0,VLOOKUP(X5,X126:CA657,AC$1,FALSE)))","v":0},{"$f":"IF(B5=0,0,IF(C5<=0,0,VLOOKUP(X5,X126:CA657,AD$1,FALSE)))","v":0},{"$f":"IF(B5=0,0,IF(C5<=0,0,VLOOKUP(X5,X126:CA657,AE$1,FALSE)))","v":0},{"$f":"IF(B5=0,0,IF(C5<=0,0,VLOOKUP(X5,X126:CA657,AF$1,FALSE)))","v":0},{"$f":"IF(B5=0,0,IF(C5<=0,0,VLOOKUP(X5,X126:CA657,AG$1,FALSE)))","v":0},{"$f":"IF(B5=0,0,IF(C5<=0,0,VLOOKUP(X5,X126:CA657,AH$1,FALSE)))","v":0},{"$f":"IF(B5=0,0,IF(C5<=0,0,VLOOKUP(X5,X126:CA657,AI$1,FALSE)))","v":0},{"$f":"IF(B5=0,0,IF(C5<=0,0,VLOOKUP(X5,X126:CA657,AJ$1,FALSE)))","v":0},{"$f":"IF(B5=0,0,IF(C5<=0,0,VLOOKUP(X5,X126:CA657,AK$1,FALSE)))","v":0},{"$f":"IF(B5=0,0,IF(C5<=0,0,VLOOKUP(X5,X126:CA657,AL$1,FALSE)))","v":0},{"$f":"IF(B5=0,0,IF(C5<=0,0,VLOOKUP(X5,X126:CA657,AM$1,FALSE)))","v":0},{"$f":"IF(B5=0,0,IF(C5<=0,0,VLOOKUP(X5,X126:CA657,AN$1,FALSE)))","v":0},{"$f":"IF(B5=0,0,IF(C5<=0,0,VLOOKUP(X5,X126:CA657,AO$1,FALSE)))","v":0},{"$f":"IF(B5=0,0,IF(C5<=0,0,VLOOKUP(X5,X126:CA657,AP$1,FALSE)))","v":0},{"$f":"IF(B5=0,0,IF(C5<=0,0,VLOOKUP(X5,X126:CA657,AQ$1,FALSE)))","v":0},{"$f":"IF(B5=0,0,IF(C5<=0,0,VLOOKUP(X5,X126:CA657,AR$1,FALSE)))","v":0},{"$f":"IF(B5=0,0,IF(C5<=0,0,VLOOKUP(X5,X126:CA657,AS$1,FALSE)))","v":0},{"$f":"IF(B5=0,0,IF(C5<=0,0,VLOOKUP(X5,X126:CA657,AT$1,FALSE)))","v":0},{"$f":"IF(B5=0,0,IF(C5<=0,0,VLOOKUP(X5,X126:CA657,AU$1,FALSE)))","v":0},{"$f":"IF(B5=0,0,IF(C5<=0,0,VLOOKUP(X5,X126:CA657,AV$1,FALSE)))","v":0},{"$f":"IF(B5=0,0,IF(C5<=0,0,VLOOKUP(X5,X126:CA657,AW$1,FALSE)))","v":0},{"$f":"IF(B5=0,0,IF(C5<=0,0,VLOOKUP(X5,X126:CA657,AX$1,FALSE)))","v":0},{"$f":"IF(B5=0,0,IF(C5<=0,0,VLOOKUP(X5,X126:CA657,AY$1,FALSE)))","v":0},{"$f":"IF(B5=0,0,IF(C5<=0,0,VLOOKUP(X5,X126:CA657,AZ$1,FALSE)))","v":0},{"$f":"IF(B5=0,0,IF(C5<=0,0,VLOOKUP(X5,X126:CA657,BA$1,FALSE)))","v":0},{"$f":"IF(B5=0,0,IF(C5<=0,0,VLOOKUP(X5,X126:CA657,BB$1,FALSE)))","v":0},{"$f":"IF(B5=0,0,IF(C5<=0,0,VLOOKUP(X5,X126:CA657,BC$1,FALSE)))","v":0},{"$f":"IF(B5=0,0,IF(C5<=0,0,VLOOKUP(X5,X126:CA657,BD$1,FALSE)))","v":0},{"$f":"IF(B5=0,0,IF(C5<=0,0,VLOOKUP(X5,X126:CA657,BE$1,FALSE)))","v":0},{"$f":"IF(B5=0,0,IF(C5<=0,0,VLOOKUP(X5,X126:CA657,BF$1,FALSE)))","v":0},{"$f":"IF(B5=0,0,IF(C5<=0,0,VLOOKUP(X5,X126:CA657,BG$1,FALSE)))","v":0},{"$f":"IF(B5=0,0,IF(C5<=0,0,VLOOKUP(X5,X126:CA657,BH$1,FALSE)))","v":0},{"$f":"IF(B5=0,0,IF(C5<=0,0,VLOOKUP(X5,X126:CA657,BI$1,FALSE)))","v":0},{"$f":"IF(B5=0,0,IF(C5<=0,0,VLOOKUP(X5,X126:CA657,BJ$1,FALSE)))","v":0},{"$f":"IF(B5=0,0,IF(C5<=0,0,VLOOKUP(X5,X126:CA657,BK$1,FALSE)))","v":0},{"$f":"IF(B5=0,0,IF(C5<=0,0,VLOOKUP(X5,X126:CA657,BL$1,FALSE)))","v":0},{"$f":"IF(B5=0,0,IF(C5<=0,0,VLOOKUP(X5,X126:CA657,BM$1,FALSE)))","v":0},{"$f":"IF(B5=0,0,IF(C5<=0,0,VLOOKUP(X5,X126:CA657,BN$1,FALSE)))","v":0},{"$f":"IF(B5=0,0,IF(C5<=0,0,VLOOKUP(X5,X126:CA657,BO$1,FALSE)))","v":0},{"$f":"IF(B5=0,0,IF(C5<=0,0,VLOOKUP(X5,X126:CA657,BP$1,FALSE)))","v":0},{"$f":"IF(B5=0,0,IF(C5<=0,0,VLOOKUP(X5,X126:CA657,BQ$1,FALSE)))","v":0},{"$f":"IF(B5=0,0,IF(C5<=0,0,VLOOKUP(X5,X126:CA657,BR$1,FALSE)))","v":0},{"$f":"IF(B5=0,0,IF(C5<=0,0,VLOOKUP(X5,X126:CA657,BS$1,FALSE)))","v":0},{"$f":"IF(B5=0,0,IF(C5<=0,0,VLOOKUP(X5,X126:CA657,BT$1,FALSE)))","v":0},{"$f":"IF(B5=0,0,IF(C5<=0,0,VLOOKUP(X5,X126:CA657,BU$1,FALSE)))","v":0},{"$f":"IF(B5=0,0,IF(C5<=0,0,VLOOKUP(X5,X126:CA657,BV$1,FALSE)))","v":0},{"$f":"IF(B5=0,0,IF(C5<=0,0,VLOOKUP(X5,X126:CA657,BW$1,FALSE)))","v":0},{"$f":"IF(B5=0,0,IF(C5<=0,0,VLOOKUP(X5,X126:CA657,BX$1,FALSE)))","v":0},{"$f":"IF(B5=0,0,IF(C5<=0,0,VLOOKUP(X5,X126:CA657,BY$1,FALSE)))","v":0},{"$f":"IF(B5=0,0,IF(C5<=0,0,VLOOKUP(X5,X126:CA657,BZ$1,FALSE)))","v":0},null,{"$f":"IF(ISERROR((2.4*0.01*BM66)+(2.68*0.01*BL66))=TRUE,0,(2.4*0.01*BM66)+(2.68*0.01*BL66))","v":0},{"$f":"IF(ISERROR((5.6*0.01*BM66)+(8.2*0.01*BL66))=TRUE,0,(5.6*0.01*BM66)+(8.2*0.01*BL66))","v":0},{"$f":"IF(ISERROR((3.82*0.01*BM66)+(6.96*0.01*BL66))=TRUE,0,(3.82*0.01*BM66)+(6.96*0.01*BL66))","v":0},{"$f":"IF(ISERROR((3.3*0.01*BM66)+(5.59*0.01*BL66))=TRUE,0,(3.3*0.01*BM66)+(5.59*0.01*BL66))","v":0},{"$f":"IF(ISERROR((5.9*0.01*BM66)+(7.51*0.01*BL66))=TRUE,0,(5.9*0.01*BM66)+(7.51*0.01*BL66))","v":0},{"$f":"IF(ISERROR((4*0.01*BM66)+(5.88*0.01*BL66))=TRUE,0,(4*0.01*BM66)+(5.88*0.01*BL66))","v":0},{"$f":"IF(ISERROR((4.7*0.01*BM66)+(6.16*0.01*BL66))=TRUE,0,(4.7*0.01*BM66)+(6.16*0.01*BL66))","v":0},{"$f":"IF(ISERROR((1.74*0.01*BM66)+(2.69*0.01*BL66))=TRUE,0,(1.74*0.01*BM66)+(2.69*0.01*BL66))","v":0},{"$f":"IF(ISERROR((4.2*0.01*BM66)+(5.16*0.01*BL66))=TRUE,0,(4.2*0.01*BM66)+(5.16*0.01*BL66))","v":0},{"$f":"IF(ISERROR((1.63*0.01*BM66)+(1.63*0.01*BL66))=TRUE,0,(1.63*0.01*BM66)+(1.63*0.01*BL66))","v":0},"Jersey","EBG=",{"$f":"SWG*0.956","v":1.3766399999999999},null,null,"Esmer",3.3,1.2,39,37,600,290,347,1,3.5,27,0.55000000000000004,7.2999999999999995E-2,null,null,null,null,null,null,null,null,"Metionin",2.4,2.68,2.6,0.7]
[{"$f":"Besi!A6","v":2},{"$f":"Besi!B6","v":"ARPA SAMANI"},{"$f":"Besi!C6","v":3.9},{"$f":"Besi!D6","v":1.5},{"$f":"Besi!E6","v":0},{"$f":"Besi!F6","v":5},"Rasyon Kaba Yem Oranı, %",null,{"$f":"FORAGE","v":42.383279485137983},null,null,null,null,null,null,null,null,null,null,0,null,null,{"$f":"IF(Besi!B6=0,0,IF(Besi!C6<=0,0,Besi!C6*Besi!D6))","v":5.85},"ARPA SAMANI",{"$f":"IF(Besi!B6=0,0,IF(Besi!C6<=0,0,Besi!C6))","v":3.9},91,72.5,13.75,100,42,40,1.45,0.6,0.08,4.4000000000000004,30,70,20,95,75,65,100,1.9,7.5,250,30,3,135,11,0.09,0.67,2.83,2.83,2.83,5.49,2.83,3.83,1,3.5,4.5,0.3,7.0000000000000007E-2,0.23,0.67,2.37,0.14000000000000001,0.17,7.0000000000000007E-2,5.4,0,200,16,0,7,1,0.7,0,1.5,null,0.46619696616866158,1.3344043596856614,1.0833589825232799,0.88235376884911065,1.2628279233037882,0.95604160453428411,1.0284626006374775,0.43262571724618998,0.87538615114822038,0.29253437347222849,"Limuzin",null,null,null,null,"Braford",3.8,0.95,36.047600000000003,7,550,null,433,0.8,4,32,0.62,6.7000000000000004E-2,null,null,null,null,null,null,null,null,"Lizin",5.6,8.1999999999999993,7.9,0.9]
[{"$f":"Besi!A7","v":3},{"$f":"Besi!B7","v":"ARPA, HAFİF"},{"$f":"Besi!C7","v":0.38002858745350743},{"$f":"Besi!D7","v":8},{"$f":"Besi!E7","v":0},{"$f":"Besi!F7","v":5},"Ham Protein, g/gün",null,{"$f":"(büyükX*TotalDMFed)*10","v":634.17552197427221},null,null,null,null,null,null,null,null,null,null,1.2,null,null,{"$f":"IF(Besi!B7=0,0,IF(Besi!C7<=0,0,Besi!C7*Besi!D7))","v":3.0402286996280594},"ARPA, HAFİF",{"$f":"IF(Besi!B7=0,0,IF(Besi!C7<=0,0,Besi!C7))","v":0.38002858745350743},88,28,10.35,34,0,77,2.78,1.85,1.22,14,66.92,33.07,17,29,8,5,90,2.2999999999999998,4,300,30,5,300,12,0.35,0.81,3.07,4.83,3.15,6.83,3.92,4.88,2.29,5.6,1.26,0.06,0.39,0.15,0.13,0.52,0.03,0.17,0.19,8.6,0.05,90,18.100000000000001,0.18,44.4,3.8,0,26.2,8,null,0.41248753281999356,1.180670836694909,0.95854779479138896,0.78069990926392796,1.117340549726622,0.8458983462902766,0.9099758932817883,0.38278394689681461,0.77453501407232483,0.2588321905444298,"Simental","TDNp :",{"$f":"VLOOKUP(MID(TEXT(I1,\"gg.aa.yyyy\"),4,2),CU64:CW75,3,FALSE)","v":50},"Meranın toplam SBM içeriği oranı, %",null,"Brangus",3.8,0.95,35.1,8,516.4,284.7,385,0.8,4,32,0.62,6.7000000000000004E-2,null,null,null,null,null,null,null,null,"Histidin",1.74,2.69,2,0.4]
[{"$f":"Besi!A8","v":3},{"$f":"Besi!B8","v":"MISIR, 65 kg/hektolitre"},{"$f":"Besi!C8","v":5},{"$f":"Besi!D8","v":9},{"$f":"Besi!E8","v":0},{"$f":"Besi!F8","v":5},"Metabolik Protein, g/gün",{"$f":"(-0.56*SBW+476.1)*ADG + (0.0495*SBW+5.7429) + (-0.00015*SBW^2 + 0.8009*SBW + 51.429) +8","v":769.8755000000001},{"$f":"MPtotal","v":758.14686598894036},{"$f":"IF(H8=\"\",\"     \",IF(I8>(H8*1.02),\"FAZLA\",IF(I8<(H8*0.98),\"EKSİK\",\"TAMAM\")))","v":"TAMAM"},null,null,null,null,null,null,null,null,null,4.5,null,null,{"$f":"IF(Besi!B8=0,0,IF(Besi!C8<=0,0,Besi!C8*Besi!D8))","v":45},"MISIR, 65 kg/hektolitre",{"$f":"IF(Besi!B8=0,0,IF(Besi!C8<=0,0,Besi!C8))","v":5},88,9.5,2.2200000000000002,60,0,88,3.27,2.2599999999999998,1.56,9.8000000000000007,43,57,11.5,73,15,5,90,4.3,1.6,150,10,4,135,5,0.1,1.1200000000000001,1.65,1.82,2.8,10.73,2.69,3.75,2.06,3.65,0.37,3.5000000000000003E-2,0.3,0.13,0.06,0.32,0.01,0.13,0.43,3,0,30,6.1,0,0,0,0,0,9,null,2.5981507780112705,7.4367359225684897,6.0376411421991971,4.9174239589262223,7.0378350558357825,5.3280918128781849,5.731699474498595,2.4110556812251325,4.8785929011026843,1.6303160792276334,"Siyah Alaca","ENERJİ İHTİYACI",null,null,null,"Braunvieh",3.8,1.2,38.299999999999997,12,635.9,284.10000000000002,347,1,4,27,0.56999999999999995,8.4000000000000005E-2,null,null,null,null,null,null,null,null,"Fenilalanin",4.2,5.16,5.0999999999999996,0.3]
[{"$f":"Besi!A9","v":3},{"$f":"Besi!B9","v":"ŞEKER PANCARI"},{"$f":"Besi!C9","v":0},{"$f":"Besi!D9","v":2},{"$f":"Besi!E9","v":0},{"$f":"Besi!F9","v":5},"Rumende Yıkımlanan Protein, g/gün",null,{"$f":"DIP","v":263.59442410518295},{"$f":"IF(H9=\"\",\"     \",IF(I9>(H9*1.3),\"FAZLA\",IF(I9<(H9*0.98),\"EKSİK\",\"TAMAM\")))","v":"     "},null,null,null,null,null,null,null,null,null,null,null,null,{"$f":"IF(Besi!B9=0,0,IF(Besi!C9<=0,0,Besi!C9*Besi!D9))","v":0},"ŞEKER PANCARI",{"$f":"IF(Besi!B9=0,0,IF(Besi!C9<=0,0,Besi!C9))","v":0},0,0,0,0,0,0,0,0,0,0,0,0,0,0,0,0,0,0,0,0,0,0,0,0,0,0,0,0,0,0,0,0,0,0,0,0,0,0,0,0,0,0,0,0,0,0,0,0,0,0,0,0,0,null,0,0,0,0,0,0,0,0,0,0,"Şarole","YAŞAMA PAYI",null,null,null,"Şarole",3.8,1,40.299999999999997,9,661.8,286,370,1,4,30,0.6,7.0000000000000007E-2,null,null,null,null,null,null,null,null,"Triptofan",1.63,1.63,"-","-"]
[{"$f":"Besi!A10","v":4},{"$f":"Besi!B10","v":"AYÇİÇEĞİ  KÜSPESİ, %28 HP"},{"$f":"Besi!C10","v":0},{"$f":"Besi!D10","v":11},{"$f":"Besi!E10","v":0},{"$f":"Besi!F10","v":5},"Ham Protein, % KM",null,{"$f":"büyükX","v":7.5735244830850501},null,null,null,null,null,null,null,null,null,null,0.5,null,null,{"$f":"IF(Besi!B10=0,0,IF(Besi!C10<=0,0,Besi!C10*Besi!D10))","v":0},"AYÇİÇEĞİ  KÜSPESİ, %28 HP",{"$f":"IF(Besi!B10=0,0,IF(Besi!C10<=0,0,Besi!C10))","v":0},0,0,0,0,0,0,0,0,0,0,0,0,0,0,0,0,0,0,0,0,0,0,0,0,0,0,0,0,0,0,0,0,0,0,0,0,0,0,0,0,0,0,0,0,0,0,0,0,0,0,0,0,0,null,0,0,0,0,0,0,0,0,0,0,null,"a1 :",{"$f":"VLOOKUP(Breed,CQ3:DC30,13,FALSE)","v":7.2999999999999995E-2},"termonötral yaşama payı ihtiyacı (Mcal/gün(SBW^0,75)",null,"Çiyanina",3.8,1,39.9,6,550,286.7,400,1.2,4,30,0.6,7.0000000000000007E-2,null,null,null,null,null,null,null,null,"Treonin",3.3,5.59,5.8,0.5]
[{"$f":"Besi!A11","v":7},{"$f":"Besi!B11","v":"DİKALSİYUMFOSFAT"},{"$f":"Besi!C11","v":0.02},{"$f":"Besi!D11","v":35},{"$f":"Besi!E11","v":0},{"$f":"Besi!F11","v":0.1},"ME, Mcal/gün",{"$f":"MEtotal","v":20.872586856040392},{"$f":"MEsup","v":20.463751936346263},{"$f":"IF(H11=\"\",\"     \",IF(I11>(H11*1.02),\"FAZLA\",IF(I11<(H11*0.98),\"EKSİK\",\"TAMAM\")))","v":"TAMAM"},null,null,null,null,null,null,null,null,null,8,null,null,{"$f":"IF(Besi!B11=0,0,IF(Besi!C11<=0,0,Besi!C11*Besi!D11))","v":0.70000000000000007},"DİKALSİYUMFOSFAT",{"$f":"IF(Besi!B11=0,0,IF(Besi!C11<=0,0,Besi!C11))","v":0.02},97,0,0,0,0,0,0,0,0,0,0,0,0,0,0,0,0,0,100,0,0,0,0,0,0,0,0,0,0,0,0,0,0,0,0,22,19.3,0.59,0,7.0000000000000007E-2,0.05,1.1399999999999999,10,10,0,14400,300,0,100,0,0,0,35,null,0,0,0,0,0,0,0,0,0,0,null,"a2=",{"$f":"0.0007*(20-TempPre)","v":-1.4E-3},"önceki çevre sıcaklığı için yaşama payı ayarlaması (Mcal/gün/SBW0^0,75)",{"$f":"((88.426-(0.785*TempPre)+(0.0116*TempPre^2))-77)/1000","v":-2.295999999999907E-4},"Frezyan",3.3,1.2,35,37,550,null,347,1,3.5,24,0.55000000000000004,7.2999999999999995E-2,null,null,null,null,null,null,null,null,"Löysin",5.9,7.51,8.1,0.8]
[{"$f":"Besi!A12","v":7},{"$f":"Besi!B12","v":"MERMER TOZU"},{"$f":"Besi!C12","v":6.2E-2},{"$f":"Besi!D12","v":2},{"$f":"Besi!E12","v":0},{"$f":"Besi!F12","v":3},"ME, Mcal/kg KM",null,{"$f":"MEI/TotalDMFed","v":2.4438459217602064},null,null,null,null,null,null,null,null,null,null,0.08,null,null,{"$f":"IF(Besi!B12=0,0,IF(Besi!C12<=0,0,Besi!C12*Besi!D12))","v":0.124},"MERMER TOZU",{"$f":"IF(Besi!B12=0,0,IF(Besi!C12<=0,0,Besi!C12))","v":6.2E-2},98,0,0,0,0,0,0,0,0,0,0,0,0,0,0,0,0,0,100,0,0,0,0,0,0,0,0,0,0,0,0,0,0,0,0,37,0,0,0,0,0,0,0,0,0,0,0,0,0,0,0,0,2,null,0,0,0,0,0,0,0,0,0,0,null,"BE =",{"$f":"VLOOKUP(Breed,CQ3:CS30,3,FALSE)","v":1.2},"NEm ihtiyacına ırkın (Table 10-1) etkisi, Breed",null,"Gernzey",3.7,1.2,32,35,450,283,347,1,4.7,27,0.55000000000000004,7.2999999999999995E-2,null,null,null,null,null,null,null,null,"İzolöysin",4,5.88,5.7,0.4]
[{"$f":"Besi!A13","v":7},{"$f":"Besi!B13","v":"TUZ"},{"$f":"Besi!C13","v":5.0000000000000001E-3},{"$f":"Besi!D13","v":1.5},{"$f":"Besi!E13","v":5.0000000000000001E-3},{"$f":"Besi!F13","v":0.05},"NEbüyüme, Mcal/kg KM",null,{"$f":"NEgsup/TotalDMFed","v":0.90235168686503919},null,null,null,null,null,null,null,null,null,null,0.04,null,null,{"$f":"IF(Besi!B13=0,0,IF(Besi!C13<=0,0,Besi!C13*Besi!D13))","v":7.4999999999999997E-3},"TUZ",{"$f":"IF(Besi!B13=0,0,IF(Besi!C13<=0,0,Besi!C13))","v":5.0000000000000001E-3},100,0,0,0,0,0,0,0,0,0,0,0,0,0,0,0,0,0,100,0,0,0,0,0,0,0,0,0,0,0,0,0,0,0,0,0,0,0,60.66,0,39.340000000000003,0,0,0,0,0,0,0,0,0,0,0,1.5,null,0,0,0,0,0,0,0,0,0,0,null,"Lactation, L :",{"$f":"IF(AnimalType=\"Laktasyondaki İnek\",1.2,1)","v":1},"NEm ihtiyacına laktasyonun etkisi, Kuruda=1 Laktasyonda=1,2",null,"Hereford",3.8,1,37.5,7,495.3,null,383,1.2,4,30,0.6,7.0000000000000007E-2,null,null,null,null,null,null,null,null,"Valin",4.7,6.16,6.2,0.6]
[{"$f":"Besi!A14","v":7},{"$f":"Besi!B14","v":"VİT.-MİN. KAR. (ROVIMIX 302-FM/30) (SÜT, BESİ)"},{"$f":"Besi!C14","v":5.0000000000000001E-3},{"$f":"Besi!D14","v":30},{"$f":"Besi!E14","v":5.0000000000000001E-3},{"$f":"Besi!F14","v":0.05},"NEyaşamapayı, Mcal/kg KM",null,{"$f":"NEmsup/TotalDMFed","v":1.5157290816856646},null,null,null,null,null,null,null,null,null,null,5.0000000000000001E-3,null,null,{"$f":"IF(Besi!B14=0,0,IF(Besi!C14<=0,0,Besi!C14*Besi!D14))","v":0.15},"VİT.-MİN. KAR. (ROVIMIX 302-FM/30) (SÜT, BESİ)",{"$f":"IF(Besi!B14=0,0,IF(Besi!C14<=0,0,Besi!C14))","v":5.0000000000000001E-3},100,0,0,0,0,0,0,0,0,0,0,0,0,0,0,0,0,0,0,0,0,0,0,0,0,0,0,0,0,0,0,0,0,0,0,0,0,0,0,0,0,0,150,10000,800,50000,50000,150,50000,15000,3000,30000,30,null,0,0,0,0,0,0,0,0,0,0,null,"COMP =",{"$f":"0.8+((CS-1)*0.05)","v":1},"NEm ihtiyacına önceki besleme planının etkisi",null,"Siyah Alaca",3.3,1.2,36,43,682,281,347,1,3.5,24,0.55000000000000004,7.2999999999999995E-2,null,null,null,null,null,null,null,null,"Arjinin",3.82,6.96,5.0999999999999996,0.7]
[{"$f":"Besi!A15","v":0},{"$f":"Besi!B15","v":0},{"$f":"Besi!C15","v":0},{"$f":"Besi!D15","v":0},{"$f":"Besi!E15","v":0},{"$f":"Besi!F15","v":0},"Ca, g/gün",{"$f":"Camaint+Cagrow+Capreg+Calact","v":39.53600096362856},{"$f":"Casup","v":39.136855094175452},{"$f":"IF(H15=\"\",\"     \",IF(I15>(H15*1.02),\"FAZLA\",IF(I15<(H15*0.98),\"EKSİK\",\"TAMAM\")))","v":"TAMAM"},null,null,null,null,null,null,null,null,null,7.0000000000000001E-3,null,null,{"$f":"IF(Besi!B15=0,0,IF(Besi!C15<=0,0,Besi!C15*Besi!D15))","v":0},0,{"$f":"IF(Besi!B15=0,0,IF(Besi!C15<=0,0,Besi!C15))","v":0},0,0,0,0,0,0,0,0,0,0,0,0,0,0,0,0,0,0,0,0,0,0,0,0,0,0,0,0,0,0,0,0,0,0,0,0,0,0,0,0,0,0,0,0,0,0,0,0,0,0,0,0,0,null,0,0,0,0,0,0,0,0,0,0,null,"NEm=",{"$f":"SBW^0.75*((abir*BE*büyükL*COMP)+aiki)","v":6.0263122638486637},"iklime alışma için ayarlanmış Net enerji yaşama payı",null,"Jersey",3.9,1.2,30.7,34,454,282,317,1,5.2,24,0.55000000000000004,7.2999999999999995E-2]
[{"$f":"Besi!A16","v":0},{"$f":"Besi!B16","v":0},{"$f":"Besi!C16","v":0},{"$f":"Besi!D16","v":0},{"$f":"Besi!E16","v":0},{"$f":"Besi!F16","v":0},"Ca, % KM",null,{"$f":"Casup/10/TotalDMFed","v":0.46738469079340217},null,null,null,null,null,null,null,null,null,null,0,null,null,{"$f":"IF(Besi!B16=0,0,IF(Besi!C16<=0,0,Besi!C16*Besi!D16))","v":0},0,{"$f":"IF(Besi!B16=0,0,IF(Besi!C16<=0,0,Besi!C16))","v":0},0,0,0,0,0,0,0,0,0,0,0,0,0,0,0,0,0,0,0,0,0,0,0,0,0,0,0,0,0,0,0,0,0,0,0,0,0,0,0,0,0,0,0,0,0,0,0,0,0,0,0,0,0,null,0,0,0,0,0,0,0,0,0,0,null,"Meradaysa aktivite için ayarlama",null,null,null,"Limuzin",3.8,1,38.4,9,570.5,288.10000000000002,384,1,4,30,0.55000000000000004,7.0000000000000007E-2,null,null,null,null,null,null,null,null,"Tablo 10-8 Tahmini eNDF ihtiyaçları"]
[{"$f":"Besi!A17","v":0},{"$f":"Besi!B17","v":0},{"$f":"Besi!C17","v":0},{"$f":"Besi!D17","v":0},{"$f":"Besi!E17","v":0},{"$f":"Besi!F17","v":0},"P, g/gün",{"$f":"Pmaint+Pgrow+Ppreg+Plact","v":21.067606082884062},{"$f":"Psup","v":20.732758112140438},{"$f":"IF(H17=\"\",\"     \",IF(I17>(H17*1.02),\"FAZLA\",IF(I17<(H17*0.98),\"EKSİK\",\"TAMAM\")))","v":"TAMAM"},null,null,null,null,null,null,null,null,null,0,null,null,{"$f":"IF(Besi!B17=0,0,IF(Besi!C17<=0,0,Besi!C17*Besi!D17))","v":0},0,{"$f":"IF(Besi!B17=0,0,IF(Besi!C17<=0,0,Besi!C17))","v":0},0,0,0,0,0,0,0,0,0,0,0,0,0,0,0,0,0,0,0,0,0,0,0,0,0,0,0,0,0,0,0,0,0,0,0,0,0,0,0,0,0,0,0,0,0,0,0,0,0,0,0,0,0,null,0,0,0,0,0,0,0,0,0,0,null,"NEmact=",{"$f":"IF(Otlama=\"Otlamıyor\",0,((0.006*pI*(0.9*(TDNp/100)))+(0.05*   IF(TERRAIN=\"Düz\",1,IF(TERRAIN=\"Engebeli\",1.5,2))   /((0.002471*pAVAIL)+3)))*BW/4.184)","v":0},"NEm ihtiyacına aktivitenin etkisi, Mcal/kg",null,"Longhorn",3.8,1,32,5,550,286.8,370,1,4,30,0.6,7.0000000000000007E-2,null,null,null,null,null,null,null,null,"Rasyon tipi",null,"Min. eNDF ihtiyacı, % KM'de"]
[{"$f":"Besi!A18","v":0},{"$f":"Besi!B18","v":0},{"$f":"Besi!C18","v":0},{"$f":"Besi!D18","v":0},{"$f":"Besi!E18","v":0},{"$f":"Besi!F18","v":0},"P, % KM",null,{"$f":"Psup/10/TotalDMFed","v":0.24759714893339246},null,null,null,null,null,null,null,null,null,null,0,null,null,{"$f":"IF(Besi!B18=0,0,IF(Besi!C18<=0,0,Besi!C18*Besi!D18))","v":0},0,{"$f":"IF(Besi!B18=0,0,IF(Besi!C18<=0,0,Besi!C18))","v":0},0,0,0,0,0,0,0,0,0,0,0,0,0,0,0,0,0,0,0,0,0,0,0,0,0,0,0,0,0,0,0,0,0,0,0,0,0,0,0,0,0,0,0,0,0,0,0,0,0,0,0,0,0,null,0,0,0,0,0,0,0,0,0,0,null,"NEma :",{"$f":"(0.0533*ADG^2 + 0.541*ADG + 0.6957) + IF(BW<=400,0, (0.000003*BW^2 - 0.0014*BW + 0.046 ))","v":1.6271250000000002},"Rasyonun yaşama payı net enerji değeri, Mcal/kg, değiştiridik, sabitledik",null,"Meyn Anju",3.8,1,40.6,9,771.8,284.8,370,1,4,30,0.6,7.0000000000000007E-2,null,null,null,null,null,null,null,null,"Yüksek konsantre, mix rasyon, iyi bakım, ionofor",null,"5-8","a"]
[{"$f":"Besi!A19","v":0},{"$f":"Besi!B19","v":0},{"$f":"Besi!C19","v":0},{"$f":"Besi!D19","v":0},{"$f":"Besi!E19","v":0},{"$f":"Besi!F19","v":0},"Ca / P",{"$f":"H15/H17","v":1.8766252230123459},{"$f":"I15/I17","v":1.8876820383708699},{"$f":"IF(H19=\"\",\"\",IF(I19>(H19*1.05),\"FAZLA\",IF(I19<(H19*0.95),\"EKSİK\",\"TAMAM\")))","v":"TAMAM"},null,null,null,null,null,null,null,null,null,0,null,null,{"$f":"IF(Besi!B19=0,0,IF(Besi!C19<=0,0,Besi!C19*Besi!D19))","v":0},0,{"$f":"IF(Besi!B19=0,0,IF(Besi!C19<=0,0,Besi!C19))","v":0},0,0,0,0,0,0,0,0,0,0,0,0,0,0,0,0,0,0,0,0,0,0,0,0,0,0,0,0,0,0,0,0,0,0,0,0,0,0,0,0,0,0,0,0,0,0,0,0,0,0,0,0,0,null,0,0,0,0,0,0,0,0,0,0,null,"ADTV =",1,"Rasyon ionofor içeriyorsa 1,12 içermiyorsa 1",null,"Piedmontese",3.8,1,37.1,7,550,287.2,340,1,4,30,0.6,7.0000000000000007E-2,null,null,null,null,null,null,null,null,"Mix rasyon, değişken bakım, ionofor yok",null,20]
[{"$f":"Besi!A20","v":0},{"$f":"Besi!B20","v":0},{"$f":"Besi!C20","v":0},{"$f":"Besi!D20","v":0},{"$f":"Besi!E20","v":0},{"$f":"Besi!F20","v":0},"NDF, % KM",null,{"$f":"NDF","v":36.838032767660494},null,null,null,null,null,null,null,null,null,null,0,null,null,{"$f":"IF(Besi!B20=0,0,IF(Besi!C20<=0,0,Besi!C20*Besi!D20))","v":0},0,{"$f":"IF(Besi!B20=0,0,IF(Besi!C20<=0,0,Besi!C20))","v":0},0,0,0,0,0,0,0,0,0,0,0,0,0,0,0,0,0,0,0,0,0,0,0,0,0,0,0,0,0,0,0,0,0,0,0,0,0,0,0,0,0,0,0,0,0,0,0,0,0,0,0,0,0,null,0,0,0,0,0,0,0,0,0,0,null,"Im =",{"$f":"(NEm+NEmact)/(NEma*ADTV)","v":3.7036566114150191},"Yaşama payı için tüketim (stres yok), kg KM/gün",null,"Pinzgauer",3.8,1,38.200000000000003,11,590.20000000000005,285.2,343,1,4,30,0.6,7.0000000000000007E-2,null,null,null,null,null,null,null,null,"NFC ve mikrobiyel protein verimini artırmak için yüksek konsantre yem",null,20,"b"]
[{"$f":"Besi!A21","v":0},{"$f":"Besi!B21","v":0},{"$f":"Besi!C21","v":0},{"$f":"Besi!D21","v":0},{"$f":"Besi!E21","v":0},{"$f":"Besi!F21","v":0},"eNDF, % KM",null,{"$f":"eNDF","v":34.103221277557935},{"$f":"IF(I21<8,\"DİKKAT\",\"\")","v":""},null,null,null,null,null,null,null,null,null,0,null,null,{"$f":"IF(Besi!B21=0,0,IF(Besi!C21<=0,0,Besi!C21*Besi!D21))","v":0},0,{"$f":"IF(Besi!B21=0,0,IF(Besi!C21<=0,0,Besi!C21))","v":0},0,0,0,0,0,0,0,0,0,0,0,0,0,0,0,0,0,0,0,0,0,0,0,0,0,0,0,0,0,0,0,0,0,0,0,0,0,0,0,0,0,0,0,0,0,0,0,0,0,0,0,0,0,null,0,0,0,0,0,0,0,0,0,0,null,"Büyüyen sığırlar için",null,"ısı artışını hesaplamak için kullanılır",null,"Polled Hereford",3.8,1,33,7,550,null,383,1.2,4,30,0.6,7.0000000000000007E-2,null,null,null,null,null,null,null,null,"a: Rumen pH'sını 5,6-5,7'nin üzerinde tutmak için"]
[{"$f":"Besi!A22","v":0},{"$f":"Besi!B22","v":0},{"$f":"Besi!C22","v":0},{"$f":"Besi!D22","v":0},{"$f":"Besi!E22","v":0},{"$f":"Besi!F22","v":0},"NFC, % KM",null,{"$f":"CN169","v":49.391667850521358},null,null,null,null,null,null,null,null,null,null,0,null,null,{"$f":"IF(Besi!B22=0,0,IF(Besi!C22<=0,0,Besi!C22*Besi!D22))","v":0},0,{"$f":"IF(Besi!B22=0,0,IF(Besi!C22<=0,0,Besi!C22))","v":0},0,0,0,0,0,0,0,0,0,0,0,0,0,0,0,0,0,0,0,0,0,0,0,0,0,0,0,0,0,0,0,0,0,0,0,0,0,0,0,0,0,0,0,0,0,0,0,0,0,0,0,0,0,null,0,0,0,0,0,0,0,0,0,0,null,"NEga :",{"$f":"(0.0248*ADG^2 + 0.5395*ADG + 0.1636) + IF(BW<=400,0, (0.0000051*BW^2 - 0.0035*BW + 0.5454 ))","v":1.0286500000000001},"Rasyonun ağırlık artışı, büyüme net enerji içeriği, Mcal/kg, değiştiridik, sabitledik",null,"Red Poll",3.8,1,35.1,10,550,284.60000000000002,353,1.2,4,30,0.6,7.0000000000000007E-2,null,null,null,null,null,null,null,null,"b: Rumen pH'sını 6,2'nin üzerinde tutmak için"]
[{"$f":"Besi!A23","v":0},{"$f":"Besi!B23","v":0},{"$f":"Besi!C23","v":0},{"$f":"Besi!D23","v":0},{"$f":"Besi!E23","v":0},{"$f":"Besi!F23","v":0},"Nişasta, % KM",null,{"$f":"CN170","v":45.173016816716569},null,null,null,null,null,null,null,null,null,null,0,null,null,{"$f":"IF(Besi!B23=0,0,IF(Besi!C23<=0,0,Besi!C23*Besi!D23))","v":0},0,{"$f":"IF(Besi!B23=0,0,IF(Besi!C23<=0,0,Besi!C23))","v":0},0,0,0,0,0,0,0,0,0,0,0,0,0,0,0,0,0,0,0,0,0,0,0,0,0,0,0,0,0,0,0,0,0,0,0,0,0,0,0,0,0,0,0,0,0,0,0,0,0,0,0,0,0,null,0,0,0,0,0,0,0,0,0,0,null,"DMI=",{"$f":"DMIreal","v":8.2503625904453433},"Eq. 7-2",null,"Seylırz",3.8,1,37.1,9,550,284.8,360,1.2,4,30,0.6,7.0000000000000007E-2]
[{"$f":"Besi!A24","v":0},{"$f":"Besi!B24","v":0},{"$f":"Besi!C24","v":0},{"$f":"Besi!D24","v":0},{"$f":"Besi!E24","v":0},{"$f":"Besi!F24","v":0},"TSBM, % KM",null,{"$f":"TDN/TotalDMFed/10","v":66.269193742500676},null,null,null,null,null,null,null,null,null,null,0,null,null,{"$f":"IF(Besi!B24=0,0,IF(Besi!C24<=0,0,Besi!C24*Besi!D24))","v":0},0,{"$f":"IF(Besi!B24=0,0,IF(Besi!C24<=0,0,Besi!C24))","v":0},0,0,0,0,0,0,0,0,0,0,0,0,0,0,0,0,0,0,0,0,0,0,0,0,0,0,0,0,0,0,0,0,0,0,0,0,0,0,0,0,0,0,0,0,0,0,0,0,0,0,0,0,0,null,0,0,0,0,0,0,0,0,0,0,null,"RE=",{"$f":"IF(AnimalType=\"Laktasyondaki İnek\",((DMIreal-Im)*NEga)+YEn+NEpreg,(DMIreal-Im)*NEga)","v":4.6769691053295439},"ısı artışını hesaplamak için kullanılır",null,"Santa Gertudis",3.8,0.95,37.4,8,550,285.2,391,1,4,24,0.62,6.7000000000000004E-2,null,null,null,null,null,null,null,null,"Tablo 10-2. Kalsiyum ve fosfor ihtiyaçları"]
[{"$f":"Besi!A25","v":0},{"$f":"Besi!B25","v":0},{"$f":"Besi!C25","v":0},{"$f":"Besi!D25","v":0},{"$f":"Besi!E25","v":0},{"$f":"Besi!F25","v":0},"Rumen pH'sı",null,{"$f":"pH","v":6.46},null,null,null,null,null,null,null,null,null,null,0,null,null,{"$f":"IF(Besi!B25=0,0,IF(Besi!C25<=0,0,Besi!C25*Besi!D25))","v":0},0,{"$f":"IF(Besi!B25=0,0,IF(Besi!C25<=0,0,Besi!C25))","v":0},0,0,0,0,0,0,0,0,0,0,0,0,0,0,0,0,0,0,0,0,0,0,0,0,0,0,0,0,0,0,0,0,0,0,0,0,0,0,0,0,0,0,0,0,0,0,0,0,0,0,0,0,0,null,0,0,0,0,0,0,0,0,0,0,null,null,null,"(RE+YEn+NEpreg)=(DMIreal-Im)*NEma      NEma = NElactation farzedilir",{"$f":"1.8545+0.01937*BW","v":7.6654999999999998},"Şorthorn",3.8,1,38.9,8.5,542.1,284,349,1,4,24,0.6,7.0000000000000007E-2,null,null,null,null,null,null,null,null,null,"İhtiyaçlar, g/gün",null,null,null,"Maksimum"]
[{"$f":"Besi!A26","v":0},{"$f":"Besi!B26","v":0},{"$f":"Besi!C26","v":0},{"$f":"Besi!D26","v":0},{"$f":"Besi!E26","v":0},{"$f":"Besi!F26","v":0},null,null,null,null,null,null,null,null,null,null,null,null,null,0,null,null,{"$f":"IF(Besi!B26=0,0,IF(Besi!C26<=0,0,Besi!C26*Besi!D26))","v":0},0,{"$f":"IF(Besi!B26=0,0,IF(Besi!C26<=0,0,Besi!C26))","v":0},0,0,0,0,0,0,0,0,0,0,0,0,0,0,0,0,0,0,0,0,0,0,0,0,0,0,0,0,0,0,0,0,0,0,0,0,0,0,0,0,0,0,0,0,0,0,0,0,0,0,0,0,0,null,0,0,0,0,0,0,0,0,0,0,null,"YEn=",{"$f":"EMilk","v":0},"net enerji süt, Mcal /kg",null,"Simental",3.8,1.2,39.9,12,577.5,286.39999999999998,358,1,4,27,0.56999999999999995,8.4000000000000005E-2,null,null,null,null,null,null,null,null,"Mineral","Yaşama payı","Büyüme","Laktasyon","Gebelik(son 90 gün)","tolerans"]
[{"$f":"Besi!A27","v":0},{"$f":"Besi!B27","v":0},{"$f":"Besi!C27","v":0},{"$f":"Besi!D27","v":0},{"$f":"Besi!E27","v":0},{"$f":"Besi!F27","v":0},"Kesif yem; Miktarı,kg",null,{"$f":"IF(OR(J4=\"TAMAM\",J4=\"FAZLA\")=TRUE,\"\",(H4-I4)/0.88)","v":""},null,null,null,null,null,null,null,null,null,null,0,null,null,{"$f":"IF(Besi!B27=0,0,IF(Besi!C27<=0,0,Besi!C27*Besi!D27))","v":0},0,{"$f":"IF(Besi!B27=0,0,IF(Besi!C27<=0,0,Besi!C27))","v":0},0,0,0,0,0,0,0,0,0,0,0,0,0,0,0,0,0,0,0,0,0,0,0,0,0,0,0,0,0,0,0,0,0,0,0,0,0,0,0,0,0,0,0,0,0,0,0,0,0,0,0,0,0,null,0,0,0,0,0,0,0,0,0,0,null,"Soğuk stresi için ayarlama",null,null,null,"South Devon",3.8,1,36.9,8,550,286,352,1,4,27,0.6,7.0000000000000007E-2,null,null,null,null,null,null,null,null,"Ca, g/gün","0,0154*SBW/0,5","NPg*0,071/0,5","Milk*1,23/0,5","CBW*(13,7/90)/0,5","0,2*DMIreal"]
[{"$f":"Besi!A28","v":0},{"$f":"Besi!B28","v":0},{"$f":"Besi!C28","v":0},{"$f":"Besi!D28","v":0},{"$f":"Besi!E28","v":0},{"$f":"Besi!F28","v":0},"HP,% KM",null,{"$f":"IF(OR(CPtotal>=(H8/0.67),I27=\"\")=TRUE,\"\",((((H8/0.67)-CPtotal)/10/($H4-$I4))))","v":""},null,null,null,null,null,null,null,null,null,null,0,null,null,{"$f":"IF(Besi!B28=0,0,IF(Besi!C28<=0,0,Besi!C28*Besi!D28))","v":0},0,{"$f":"IF(Besi!B28=0,0,IF(Besi!C28<=0,0,Besi!C28))","v":0},0,0,0,0,0,0,0,0,0,0,0,0,0,0,0,0,0,0,0,0,0,0,0,0,0,0,0,0,0,0,0,0,0,0,0,0,0,0,0,0,0,0,0,0,0,0,0,0,0,0,0,0,0,null,0,0,0,0,0,0,0,0,0,0,null,"SA =",{"$f":"0.09*BW^0.67","v":4.110680758105433},"Hayvanın yüzey alanı, m2",null,"Tarentez",3.8,1,37.299999999999997,9,550,287,358,1.2,4,30,0.6,7.0000000000000007E-2,null,null,null,null,null,null,null,null,"P, g/gün","0,016*SBW/0,68","NPg*0,045/0,68","Milk*0,95/0,68","CBW*(7,6/90)/0,68","0,1*DMIreal"]
[{"$f":"Besi!A29","v":0},{"$f":"Besi!B29","v":0},{"$f":"Besi!C29","v":0},{"$f":"Besi!D29","v":0},{"$f":"Besi!E29","v":0},{"$f":"Besi!F29","v":0},"ME,Mcal/kg KM",null,{"$f":"IF(OR(J11=\"TAMAM\",J11=\"FAZLA\",I27=\"\")=TRUE,\"\",((H11-I11))/($H4-$I4))","v":""},null,null,null,null,null,null,null,null,null,null,0,null,null,{"$f":"IF(Besi!B29=0,0,IF(Besi!C29<=0,0,Besi!C29*Besi!D29))","v":0},0,{"$f":"IF(Besi!B29=0,0,IF(Besi!C29<=0,0,Besi!C29))","v":0},0,0,0,0,0,0,0,0,0,0,0,0,0,0,0,0,0,0,0,0,0,0,0,0,0,0,0,0,0,0,0,0,0,0,0,0,0,0,0,0,0,0,0,0,0,0,0,0,0,0,0,0,0,null,0,0,0,0,0,0,0,0,0,0,null,"HE=",{"$f":"(MEI-(RE+YEn+NEpreg))/SA","v":3.840430274204186},"Isı üretimi, Mcal/gün",null,null,null,null,null,null,null,null,null,null,null,null,null,null,null,null,null,null,null,null,null,null,"SWB: Shrunk Body weight,kg;  DMIreal: KM tüketimi, kg; NPg: Alıkonulan protein, g; Milk: Süt verimi, kg; CBW: Beklenen buzağı doğum ağırlığı, kg"]
[{"$f":"Besi!A30","v":0},{"$f":"Besi!B30","v":0},{"$f":"Besi!C30","v":0},{"$f":"Besi!D30","v":0},{"$f":"Besi!E30","v":0},{"$f":"Besi!F30","v":0},"Ca,% KM",null,{"$f":"IF(OR(J15=\"TAMAM\",J15=\"FAZLA\",I27=\"\")=TRUE,\"\",((H15-I15)/10)/($H4-$I4))","v":""},null,null,null,null,null,null,null,null,null,null,0,null,null,{"$f":"IF(Besi!B30=0,0,IF(Besi!C30<=0,0,Besi!C30*Besi!D30))","v":0},0,{"$f":"IF(Besi!B30=0,0,IF(Besi!C30<=0,0,Besi!C30))","v":0},0,0,0,0,0,0,0,0,0,0,0,0,0,0,0,0,0,0,0,0,0,0,0,0,0,0,0,0,0,0,0,0,0,0,0,0,0,0,0,0,0,0,0,0,0,0,0,0,0,0,0,0,0,null,0,0,0,0,0,0,0,0,0,0,null,"MEI=",{"$f":"AF33","v":20.463751936346263},"Metabolik enerji tüketimi, Mcal/gün"]
[{"$f":"Besi!A31","v":0},{"$f":"Besi!B31","v":0},{"$f":"Besi!C31","v":0},{"$f":"Besi!D31","v":0},{"$f":"Besi!E31","v":0},{"$f":"Besi!F31","v":0},"P,% KM",null,{"$f":"IF(OR(J17=\"TAMAM\",J17=\"FAZLA\",I27=\"\")=TRUE,\"\",((H17-I17)/10)/($H4-$I4))","v":""},null,null,null,null,null,null,null,null,null,null,0,null,null,{"$f":"IF(Besi!B31=0,0,IF(Besi!C31<=0,0,Besi!C31*Besi!D31))","v":0},0,{"$f":"IF(Besi!B31=0,0,IF(Besi!C31<=0,0,Besi!C31))","v":0},0,0,0,0,0,0,0,0,0,0,0,0,0,0,0,0,0,0,0,0,0,0,0,0,0,0,0,0,0,0,0,0,0,0,0,0,0,0,0,0,0,0,0,0,0,0,0,0,0,0,0,0,0,null,0,0,0,0,0,0,0,0,0,0,null,"NEpreg=",{"$f":"NEm_req/1000/DMIreal","v":0},"Gebe uterus için alıkonulan net enerji, Mcal/kg"]
[null,null,null,null,null,null,null,null,null,null,null,null,null,null,null,null,null,null,null,null,null,null,null,null,null,null,null,null,null,null,null,null,null,null,null,null,null,null,null,null,null,null,null,null,null,null,null,null,null,null,null,null,null,null,null,null,null,null,null,null,null,null,null,null,null,null,null,null,null,null,null,null,null,null,null,null,null,null,null,"DIGBAA","DIGBAA","DIGBAA","DIGBAA","DIGBAA","DIGBAA","DIGBAA","DIGBAA","DIGBAA","DIGBAA",null,"EI=",{"$f":"IF((7.36-0.296*WIND+2.55*HAIR)*_MUD2*HIDE<0,0,(7.36-0.296*WIND+2.55*HAIR)*_MUD2*HIDE)","v":10.379},"eksternal  izolasyon değeri, ºC / Mcal / m2 / gün"]
[null,null,null,null,null,null,null,null,null,null,null,null,null,null,null,null,null,null,null,null,null,null,{"$f":"SUM(W36:W62)","v":3.5489999999999999},null,{"$f":"SUM(Y36:Y62)","v":9.3720285874535083},8.3735851569590878,3.0846640439485444,0.37276217854867427,2.8556622749425049,null,5549.1073708584972,20.463751936346263,12.692086540374309,7.5559186914900867,634.17552197427221,263.59442410518295,370.57641591689185,88.77851873562625,68.17708243333162,185.54256175794177,125.40237609871363,7809.9826412631783,264.322778610059,435.11200627836342,4140.8533679057891,null,{"$f":"SUM(AU36:AU62)","v":4135.85336790579},null,null,null,null,null,null,null,null,null,null,null,null,null,{"$f":"SUM(BI36:BI62)","v":39.136855094175452},20.732758112140438,14.498797735438631,29.886052704046811,99.943890816187249,7.4856275470877272,12.542982766830447,3.1479707798222263,85.434656349848154,4.0167212578479541,1401.2582641263177,345.4970953409595,0.81019652825263555,291.63147696898341,79.819815596444528,17.484300000000001,158.76193911232806,54.871728699628065,null,{"$f":"SUM(CB35:CB61)","v":2.5320430821629891},7.7472959976628761,6.5757536760650765,5.2813883691384733,7.0953893832253918,5.3664196666737976,5.8199199201955274,2.5414910041113585,4.875127725358591,1.5400112775842061,null,"MUD2 =",{"$f":"IF(Kirlilik=\"Kuru\",1,IF(Kirlilik=\"Hayvanın aşağı kısımları biraz çamurlu\",0.8,IF(Kirlilik=\"Üzeri ıslak ve keçeleşmiş\",0.5,0.2)))","v":1},"Kod 1=1,0   Kod 2=0,8   Kod 3=0,5   Kod 4=0,2",null,null,"Table 3. Condition score resulting from various rates of gain.",null,null,null,null,null,"Tablo 10-4 Sığırlarda KM tüketimi için düzeltme faktörleri",null,null,null,null,"Tablo 3-1 Vücut kompozisyonu ile büyüme döneminin ve canlı ağırlık artışının ilişkisi"]
[null,"Hayvan sayısını giriniz :",100,null,null,null,null,null,null,null,null,null,null,null,null,null,null,null,null,null,null,null,"Kaba","VERİLECEK YEMLER","MİKTAR","KM, kg","NDF, kg","Lignin, g","Effekt.NDF, kg",null,"TDN, g","ME,Mcal","NEm,Mcal","NEg,Mcal","HP,g","DIP, g","UIP, g","SoIP, g","NPN, g","NDFIP, g","ADFIP, g","Nişasta, g","HY, g","HK, g","Diet NSC,g","NFC, %","NFC, g",null,null,null,null,null,null,null,null,null,null,null,"Y","Yüssü","Ca, g","P, g","Mg, g","Cl, g","K, g","Na, g","S, g","Co, mg","Cu, mg","I, mg","Fe, mg","Mn, mg","Se, mg","Zn, mg","Vit A, 1000 IU","Vit D, 1000","Vit E, IU","FİYAT,Krş",null,"MET, g","LİZ, g","ARJ, g","TRE, g","LÖY, g","İZOLÖY, g","VAL, g","HIS, g","FENAL, g","TRİP, g",null,"HAIR =",{"$f":"VLOOKUP(MID(TEXT(I1,\"gg.aa.yyyy\"),4,2),CU64:CV75,2,FALSE)","v":1.3},"Kıl uzunluğu, yaz için 0,6, kış için 1,3 cm",null,null,"Condition score",null,null,null,null,null,"Irk (BI)",null,null,"Çarpan",null,null,null,"Shrunk Body Weight, kg"]
[null,"Öğün sayısını giriniz :",2,null,null,null,null,null,null,null,null,null,null,null,null,null,null,null,null,null,null,null,null,"KABA YEMLER","  ",null,null,null,null,null,null,null,null,null,null,null,null,null,null,null,null,null,null,null,null,null,null,null,null,null,null,null,null,null,null,null,null,null,null,null,null,null,null,null,null,null,null,null,null,null,null,null,null,null,null,null,null,null,null,{"$f":"IF(ISERROR(2.68*0.01*BL66)=TRUE,0,2.68*0.01*BL66)","v":0},{"$f":"IF(ISERROR(8.2*0.01*BL66)=TRUE,0,8.2*0.01*BL66)","v":0},{"$f":"IF(ISERROR(6.96*0.01*BL66)=TRUE,0,6.96*0.01*BL66)","v":0},{"$f":"IF(ISERROR(5.59*0.01*BL66)=TRUE,0,5.59*0.01*BL66)","v":0},{"$f":"IF(ISERROR(7.51*0.01*BL66)=TRUE,0,7.51*0.01*BL66)","v":0},{"$f":"IF(ISERROR(5.68*0.01*BL66)=TRUE,0,5.68*0.01*BL66)","v":0},{"$f":"IF(ISERROR(6.16*0.01*BL66)=TRUE,0,6.16*0.01*BL66)","v":0},{"$f":"IF(ISERROR(2.69*0.01*BL66)=TRUE,0,2.69*0.01*BL66)","v":0},{"$f":"IF(ISERROR(5.16*0.01*BL66)=TRUE,0,5.16*0.01*BL66)","v":0},{"$f":"IF(ISERROR(1.63*0.01*BL66)=TRUE,0,1.63*0.01*BL66)","v":0},"AnimalType grubu","HIDE =",{"$f":"VLOOKUP(Breed,CQ3:CY30,9,FALSE)","v":1},"Deri kalınlığı, 0,8=ince, 1=orta, 1,2=kalın, Tablo 10-1'den alınıyor",null,null,1,3,5,7,9,null,"Siyah Alaca",null,null,1.08,null,"Shrunk ADG,kg",200,250,300,350,400,450,500]
[null,null,null,null,null,null,null,null,null,null,null,null,null,null,null,null,null,null,null,null,null,null,{"$f":"IF(OR(A5=1,A5=2)=TRUE,Z36,0)","v":0},{"$f":"X5","v":"MISIR SİLAJI, %23-26 KM"},0,{"$f":"IF(B5=0,0,IF(OR(C5<=0,C5=\"\")=TRUE,0,Y5*Z5/100))","v":0},{"$f":"IF(B5=0,0,IF(C5<=0,0,Z36*AA5/100))","v":0},{"$f":"IF(B5=0,0,IF(C5<=0,0,AA36*AB5/100))","v":0},{"$f":"IF(B5=0,0,IF(C5<=0,0,AA36*AC5/100))","v":0},null,{"$f":"IF(B5=0,0,IF(C5<=0,0,Z36*AE5*10))","v":0},{"$f":"IF(B5=0,0,IF(C5<=0,0,Z36*AF5))","v":0},{"$f":"IF(B5=0,0,IF(C5<=0,0,Z36*AG5))","v":0},{"$f":"IF(B5=0,0,IF(C5<=0,0,Z36*AH5))","v":0},{"$f":"IF(B5=0,0,IF(C5<=0,0,Z36*AI5*10))","v":0},{"$f":"IF(B5=0,0,IF(C5<=0,0,AI36*AJ5/100))","v":0},{"$f":"IF(B5=0,0,IF(C5<=0,0,AI36*AK5/100))","v":0},{"$f":"IF(B5=0,0,IF(C5<=0,0,AI36*AL5/100))","v":0},{"$f":"IF(B5=0,0,IF(C5<=0,0,AL36*AM5/100))","v":0},{"$f":"IF(B5=0,0,IF(C5<=0,0,AI36*AN5/100))","v":0},{"$f":"IF(B5=0,0,IF(C5<=0,0,AI36*AO5/100))","v":0},{"$f":"IF(B5=0,0,IF(C5<=0,0,Z36*AP5*10))","v":0},{"$f":"IF(B5=0,0,IF(C5<=0,0,Z36*AQ5*10))","v":0},{"$f":"IF(B5=0,0,IF(C5<=0,0,Z36*AR5*10))","v":0},{"$f":"IF(ISERROR((100-(AI5+AQ5+(AA5-(AN5*AI5/100))+AR5))*Z36*10)=TRUE,0,(100-(AI5+AQ5+(AA5-(AN5*AI5/100))+AR5))*Z36*10)","v":0},{"$f":"IF(ISERROR(BH96-BL96-BJ96)=TRUE,0,BH96-BL96-BJ96)","v":100},{"$f":"IF(ISERROR(AT36*AZ36*10)=TRUE,0,BI96-BM96-BK96)","v":0},null,null,null,null,null,null,null,null,null,null,null,{"$f":"IF(ISERROR(1/((0.05/(AU5/100-0.02))+(2.5)))=TRUE,0,(1/((0.05/(AU5/100-0.02))+(2.5))))","v":0},{"$f":"IF(ISERROR(relY*BG36)=TRUE,0,relY*BG36)","v":0},{"$f":"IF(ISERROR(Z36*BI5*10)=TRUE,0,Z36*BI5*10)","v":0},{"$f":"IF(ISERROR(Z36*BJ5*10)=TRUE,0,Z36*BJ5*10)","v":0},{"$f":"IF(ISERROR(Z36*BK5*10)=TRUE,0,Z36*BK5*10)","v":0},{"$f":"IF(ISERROR(Z36*BL5*10)=TRUE,0,Z36*BL5*10)","v":0},{"$f":"IF(ISERROR(Z36*BM5*10)=TRUE,0,Z36*BM5*10)","v":0},{"$f":"IF(ISERROR(Z36*BN5*10)=TRUE,0,Z36*BN5*10)","v":0},{"$f":"IF(ISERROR(Z36*BO5*10)=TRUE,0,Z36*BO5*10)","v":0},{"$f":"IF(ISERROR(Z36*BP5)=TRUE,0,Z36*BP5)","v":0},{"$f":"IF(ISERROR(Z36*BQ5)=TRUE,0,Z36*BQ5)","v":0},{"$f":"IF(ISERROR(Z36*BR5)=TRUE,0,Z36*BR5)","v":0},{"$f":"IF(ISERROR(Z36*BS5)=TRUE,0,Z36*BS5)","v":0},{"$f":"IF(ISERROR(Z36*BT5)=TRUE,0,Z36*BT5)","v":0},{"$f":"IF(ISERROR(Z36*BU5)=TRUE,0,Z36*BU5)","v":0},{"$f":"IF(ISERROR(Z36*BV5)=TRUE,0,Z36*BV5)","v":0},{"$f":"IF(ISERROR(Z36*BW5)=TRUE,0,Z36*BW5)","v":0},{"$f":"IF(ISERROR(Z36*BX5)=TRUE,0,Z36*BX5)","v":0},{"$f":"IF(ISERROR(Z36*BY5)=TRUE,0,Z36*BY5)","v":0},{"$f":"IF(ISERROR(Y5*BZ5)=TRUE,0,Y5*BZ5)","v":0},null,0.3395130079706557,1.0388084572236478,0.88172034905812069,0.70816332632685264,0.95139652606702396,0.71956488256467321,0.7803731824997161,0.34077984755263574,0.65368922430171017,0.20649485186274952,"Besi Sığırı","TI=",{"$f":"IF(Age*30.4<31,2.5,IF(Age*30.4<184,6.5,IF(Age*30.4<364,5.1875+(0.3125*CS),5.25+(0.75*CS))))","v":6.75},"doku (internal) izolasyon değeri, ºC / Mcal / m2 / gün",null,null,"Very thin",null,"Average","Very fat",null,null,"Siyah AlacaXEtçi",null,null,1.04,null,null,null,"NEg ihtiyacı, Mcal/gün"]
[null,null,null,"Hayvan",null,"Bir öğünde",null,null,null,null,null,null,null,null,null,null,null,null,null,null,null,null,{"$f":"IF(OR(A6=1,A6=2)=TRUE,Z37,0)","v":3.5489999999999999},"ARPA SAMANI",3.9,3.5489999999999999,2.5730249999999999,0.35379093749999996,2.5730249999999999,null,1419.6000000000001,5.1460499999999998,2.1294,0.28392000000000001,156.15600000000001,46.846800000000002,109.3092,31.231199999999998,29.669640000000001,117.117,101.50140000000002,3549,67.430999999999997,{"$f":"IF(B6=0,0,IF(C6<=0,0,Z37*AR6*10))","v":266.17500000000001},603.32999999999993,16.999999999999982,603.3299999999997,null,null,null,null,null,null,null,null,null,null,null,0.1333333333333333,0.13208985619993682,10.647,2.4843000000000002,8.162700000000001,23.778299999999998,84.1113,4.9686000000000003,6.0333000000000006,0.24843000000000001,19.1646,0,709.8,56.783999999999999,0,24.843,3.5489999999999999,2.4842999999999997,0,5.85,null,0.30039852933629968,0.91912982856628989,0.78013946424650948,0.62657752947384893,0.84178841616254119,0.63666553978738127,0.69046826145955442,0.30151941937113658,0.57837925797586054,0.18270507567842104,null,"IN=",{"$f":"TI+EI","v":17.128999999999998},"izolasyon değeri,ºC/Mcal/m2/gün",null,"Mature or","Önceki günlük canlı ağırlık artışı, lb/d",null,null,null,null,null,null,null,null,null,null,0.6,1.68,1.99,2.2799999999999998,2.56,2.83,3.09,3.34]
[null,null,null,"başına","Günlük"," hayvan","Bir öğünde",null,null,null,null,null,null,null,null,null,null,null,null,null,null,null,0,"ARPA, HAFİF",0.38002858745350743,0.33442515695908653,9.3639043948544221E-2,9.6916410486743258E-3,3.1837274942505031E-2,null,257.50737085849664,0.92970193634626053,0.61868654037431015,0.40799869149008555,46.819521974272114,31.3316241051829,15.483215916891789,7.9593187356262591,2.3082024333316151,3.7455617579417693,2.3409760987136057,300.98264126317787,7.6917786100589902,13.377006278363462,176.64336790578949,52.820000000000007,176.64336790578952,null,null,null,null,null,null,null,null,null,null,null,0.24000000000000005,0.23776174115988638,0.20065509417545191,1.3042581121404375,0.50163773543862977,0.43475270404681249,1.73901081618725,0.10032754708772595,0.56852276683044722,6.3540779822226445E-2,2.876056349848144,1.6721257847954328E-2,30.098264126317787,6.0530953409594668,6.0196528252635571E-2,14.848476968983441,1.2708155964445287,0,8.7619391123280668,3.0402286996280594,null,1.8921315448560339,5.7893577118729382,4.913893862760446,3.9466475133377719,5.3022044409958262,4.0101892443217428,4.3490784762362571,1.8991917371875862,3.6430592430810202,1.1508113500430355,null,"LCT=",{"$f":"39-(IN*HE*0.85)","v":-16.915320641816969},"hayvanın alt kritik sıcaklığı, ºC           -15 gibi",null,"Finishing wt, lb",null,null,null,null,null,null,"Empty vücut yağı etkisi (BFAF)",null,null,null,null,0.8,2.31,2.73,3.13,3.51,3.88,4.24,4.59]
[null,"VERİLECEK YEMLER ","Oran, %","günlük","toplam","başına","toplam",null,null,null,null,null,null,null,null,null,null,null,null,null,null,null,0,"MISIR, 65 kg/hektolitre",5,4.4000000000000004,0.41800000000000004,9.2796000000000007E-3,0.25080000000000002,null,3872.0000000000005,14.388000000000002,9.9439999999999991,6.8640000000000008,431.20000000000005,185.41600000000003,245.78400000000002,49.588000000000001,36.199240000000003,64.680000000000007,21.56,3960.0000000000005,189.20000000000002,70.400000000000006,3355.88,76.270000000000024,3355.8800000000006,null,null,null,null,null,null,null,null,null,null,null,0.2,0.19813478429990528,1.5400000000000003,13.200000000000001,5.7200000000000006,2.64,14.080000000000002,0.44000000000000006,5.7200000000000006,1.8920000000000001,13.200000000000001,0,132,26.84,0,0,0,0,0,45,null,0,0,0,0,0,0,0,0,0,0,null,"MEcs=",{"$f":"IF(LCT>Tc,SA*(LCT-Tc)/IN,0)","v":0},"soğuk stresine bağlı gerekli ME,Mcal/gün",null,880,0.66,0.97,1.3,1.6,1.9,null,21.3,"(350 kg EQW'a kadar)",null,1,null,1,2.95,3.48,4,4.49,4.96,5.42,5.86]
[null,null,null,"miktar,kg","miktar,kg","miktar,kg","miktar,kg",null,null,null,null,null,null,null,null,null,null,null,null,null,null,null,0,"ŞEKER PANCARI",0,0,0,0,0,null,0,0,0,0,0,0,0,0,0,0,0,0,0,0,0,100,0,null,null,null,null,null,null,null,null,null,null,null,0,0,0,0,0,0,0,0,0,0,0,0,0,0,0,0,0,0,0,0,null,0,0,0,0,0,0,0,0,0,0,null,"NEmcs=",{"$f":"km*MEcs","v":0},"soğuk stresine bağlı gerekli NE,Mcal/gün",null,1030,0.73,1.06,1.39,1.72,2.0499999999999998,null,23.8,"(400 kg EQW)",null,0.97,null,1.3,3.93,4.6500000000000004,5.33,5.98,6.61,7.22,7.81]
[null,{"$f":"Besi!B5","v":"MISIR SİLAJI, %23-26 KM"},{"$f":"ROUND((Besi!C5/Besi!$C$4)*100,2)","v":0},{"$f":"ROUND(Besi!C5,2)","v":0},{"$f":"ROUND(C$34*Besi!C5,2)","v":0},{"$f":"IF(ISERROR(ROUND(D41/$C$35,2))=TRUE,\"\",ROUND(D41/$C$35,2))","v":0},{"$f":"IF(ISERROR(ROUND(F41*$C$34,2))=TRUE,\"\",ROUND(F41*$C$34,2))","v":0},null,null,30.95,5,50,2.5,25,null,null,null,null,null,null,null,null,0,"AYÇİÇEĞİ  KÜSPESİ, %28 HP",0,0,0,0,0,null,0,0,0,0,0,0,0,0,0,0,0,0,0,0,0,100,0,null,null,null,null,null,null,null,null,null,null,null,0,0,0,0,0,0,0,0,0,0,0,0,0,0,0,0,0,0,0,0,null,0,0,0,0,0,0,0,0,0,0,null,"km :",0.57599999999999996,"diet NEm/diet ME;",null,1180,0.79,1.1499999999999999,1.5,1.85,2.2000000000000002,null,26.5,"(450 kg EQW)",null,0.9,null,null,null,"Ağırlık artışındaki protein, %"]
[null,{"$f":"Besi!B6","v":"ARPA SAMANI"},{"$f":"ROUND((Besi!C6/Besi!$C$4)*100,2)","v":41.61},{"$f":"ROUND(Besi!C6,2)","v":3.9},{"$f":"ROUND(C$34*Besi!C6,2)","v":390},{"$f":"IF(ISERROR(ROUND(D42/$C$35,2))=TRUE,\"\",ROUND(D42/$C$35,2))","v":1.95},{"$f":"IF(ISERROR(ROUND(F42*$C$34,2))=TRUE,\"\",ROUND(F42*$C$34,2))","v":195},null,null,2.4500000000000002,0.4,3.97,0.2,2,null,null,null,null,null,null,null,null,0,"DİKALSİYUMFOSFAT",0.02,1.9400000000000001E-2,0,0,0,null,0,0,0,0,0,0,0,0,0,0,0,0,0,19.399999999999999,0,0,0,null,null,null,null,null,null,null,null,null,null,null,0,0,4.2679999999999998,3.7442000000000002,0.11445999999999999,0,1.3580000000000002E-2,9.7000000000000003E-3,0.22116,0.19400000000000001,0.19400000000000001,0,279.36,5.82,0,1.94,0,0,0,0.70000000000000007,null,0,0,0,0,0,0,0,0,0,0,null,"NEmhs =",{"$f":"IF(Tc>=30,IF(HeatStress=\"Normal\",1,IF(HeatStress=\"Yüzeysel hızlı soluma\",1.07,1.18)),1)","v":1},"1,07 yüzeysel hızlı soluma için, ve 1,18 ağzı açık soluma eğer sıcaklık ≥30 ºC",null,1325,0.84,1.21,1.6,1.97,2.35,null,29,"(500 kg EQW)",null,0.82,null,0.6,20.399999999999999,19.5,18.8,18,17.3,16.600000000000001,16]
[null,{"$f":"Besi!B7","v":"ARPA, HAFİF"},{"$f":"ROUND((Besi!C7/Besi!$C$4)*100,2)","v":4.05},{"$f":"ROUND(Besi!C7,2)","v":0.38},{"$f":"ROUND(C$34*Besi!C7,2)","v":38},0.19,19,null,null,11.43,1.85,18.47,0.93,9.3000000000000007,null,null,null,null,null,null,null,null,0,"MERMER TOZU",6.2E-2,6.0759999999999995E-2,0,0,0,null,0,0,0,0,0,0,0,0,0,0,0,0,0,60.76,0,0,0,null,null,null,null,null,null,null,null,null,null,null,0,0,22.481199999999998,0,0,0,0,0,0,0,0,0,0,0,0,0,0,0,0,0.124,null,0,0,0,0,0,0,0,0,0,0,null,"NEmtotal=",{"$f":"IF(HeatStress=\"Normal\",NEm+NEmact+NEmcs,NEm*NEmhs+NEmact)","v":6.0263122638486637},"ırk, laktasyon, cinsiyet, otlama, çevre sıcaklığına uyum ve stres etkileri için ayarlamada gerekli yaşama payı net enerjisi, Mcal/gün",null,1470,0.88,1.3,1.7,2.09,2.5,null,31.5,"(550 kg EQW)",null,0.73,null,0.8,18.7,17.600000000000001,16.5,15.5,14.6,13.6,12.7]
[null,{"$f":"Besi!B8","v":"MISIR, 65 kg/hektolitre"},{"$f":"ROUND((Besi!C8/Besi!$C$4)*100,2)","v":53.35},{"$f":"ROUND(Besi!C8,2)","v":5},{"$f":"ROUND(C$34*Besi!C8,2)","v":500},2.5,250,null,null,23.66,3.82,38.22,1.91,19.100000000000001,null,null,null,null,null,null,null,null,0,"TUZ",5.0000000000000001E-3,5.0000000000000001E-3,0,0,0,null,0,0,0,0,0,0,0,0,0,0,0,0,0,5,0,0,0,null,null,null,null,null,null,null,null,null,null,null,0,0,0,0,0,3.0330000000000004,0,1.9670000000000001,0,0,0,0,0,0,0,0,0,0,0,7.4999999999999997E-3,null,0,0,0,0,0,0,0,0,0,0,"Yağlılık düzeyi","Imtotal=",{"$f":"NEmtotal/NEma","v":3.7036566114150191},"streste yaşama payı için tüketim, kg KM/gün",null,"CA,kg",null,"GCAA, g/gün",null,null,null,null,null,null,null,null,null,1,17,15.6,14.2,13,11.7,10.5,9.3000000000000007]
[null,{"$f":"Besi!B9","v":"ŞEKER PANCARI"},{"$f":"ROUND((Besi!C9/Besi!$C$4)*100,2)","v":0},{"$f":"ROUND(Besi!C9,2)","v":0},{"$f":"ROUND(C$34*Besi!C9,2)","v":0},0,0,null,null,0,0,0,0,0,null,null,null,null,null,null,null,null,0,"VİT.-MİN. KAR. (ROVIMIX 302-FM/30) (SÜT, BESİ)",5.0000000000000001E-3,5.0000000000000001E-3,0,0,0,null,0,0,0,0,0,0,0,0,0,0,0,0,0,0,5,0,0,null,null,null,null,null,null,null,null,null,null,null,0,0,0,0,0,0,0,0,0,0.75,50,4,250,250,0.75,250,75,15,150,0.15,null,0,0,0,0,0,0,0,0,0,0,"Yağlı, % 28 yağlı","MEtotal=",{"$f":"(NEmtotal/(0.35*((MEconc*4.184)/18.4)+0.503))+(pRE/(0.78*((MEconc*4.184)/18.4)+0.006))+(CN92/(0.35*((MEconc*4.184)/18.4)+0.42))+((NEm_req/1000)/(0.78*((MEconc*4.184)/18.4)+0.006))","v":20.872586856040392},"Metabolik Enerji ihtiyacı, Mcal/gün (McDonald 2002, sy.296)",null,{"$f":"880*0.454","v":399.52000000000004},{"$f":"0.66*0.454","v":0.29964000000000002},{"$f":"0.97*0.454","v":0.44037999999999999},{"$f":"1.3*0.454","v":0.59020000000000006},{"$f":"1.6*0.454","v":0.72640000000000005},{"$f":"1.9*0.454","v":0.86260000000000003},null,"Anabolik implant (ADTV)",null,null,1,null,1.3,14.4,12.5,10.7,9,7.3,5.7,4.2]
[null,{"$f":"Besi!B10","v":"AYÇİÇEĞİ  KÜSPESİ, %28 HP"},{"$f":"ROUND((Besi!C10/Besi!$C$4)*100,2)","v":0},{"$f":"ROUND(Besi!C10,2)","v":0},{"$f":"ROUND(C$34*Besi!C10,2)","v":0},0,0,null,null,0.34,0.05,0.54,0.03,0.3,null,null,null,null,null,null,null,null,0,{"$f":"X15","v":0},{"$f":"Y15","v":0},0,0,0,0,null,0,0,0,0,0,0,0,0,0,0,0,0,0,0,0,100,0,null,null,null,null,null,null,null,null,null,null,null,0,0,0,0,0,0,0,0,0,0,0,0,0,0,0,0,0,0,0,0,null,0,0,0,0,0,0,0,0,0,0,"Az yağlı, % 27 yağlı","MEconc =",{"$f":"(0.0857*ADG^2 + 0.5357*ADG + 1.6021) + IF(BW<=400,0, (0.0000035*BW^2 - 0.0016*BW + 0.0539 ))","v":2.5984750000000001},"Rasyonun Metabolik Enerji konsantrasyonu, Mcal/kg KM, değiştirdik, sabitledik",{"$f":"MEI/TotalDMFed","v":2.4438459217602064},{"$f":"1030*0.454","v":467.62},{"$f":"0.73*0.454","v":0.33141999999999999},{"$f":"1.06*0.454","v":0.48124000000000006},{"$f":"1.39*0.454","v":0.63105999999999995},{"$f":"1.72*0.454","v":0.78088000000000002},{"$f":"2.05*0.454","v":0.93069999999999997},null,"Anabolik stimulan yoksa",null,null,0.94,null,null,null,"Ağırlık artışındaki yağ, %"]
[null,{"$f":"Besi!B11","v":"DİKALSİYUMFOSFAT"},{"$f":"ROUND((Besi!C11/Besi!$C$4)*100,2)","v":0.21},{"$f":"ROUND(Besi!C11,2)","v":0.02},{"$f":"ROUND(C$34*Besi!C11,2)","v":2},0.01,1,null,null,30.95,5,50,2.5,25,null,null,null,null,null,null,null,null,0,0,0,0,0,0,0,null,0,0,0,0,0,0,0,0,0,0,0,0,0,0,0,100,0,null,null,null,null,null,null,null,null,null,null,null,0,0,0,0,0,0,0,0,0,0,0,0,0,0,0,0,0,0,0,0,null,0,0,0,0,0,0,0,0,0,0,"Çok az yağlı, % 25 yağlı","PROTEİN İHTİYACI",null,null,null,{"$f":"1180*0.454","v":535.72},{"$f":"0.79*0.454","v":0.35866000000000003},{"$f":"1.15*0.454","v":0.52210000000000001},{"$f":"1.5*0.454","v":0.68100000000000005},{"$f":"1.85*0.454","v":0.83990000000000009},{"$f":"2.2*0.454","v":0.99880000000000013},null,null,null,null,null,null,0.6,5.9,9.6999999999999993,13.2,16.600000000000001,19.899999999999999,23.1,26.2]
[null,{"$f":"Besi!B12","v":"MERMER TOZU"},{"$f":"ROUND((Besi!C12/Besi!$C$4)*100,2)","v":0.66},{"$f":"ROUND(Besi!C12,2)","v":0.06},{"$f":"ROUND(C$34*Besi!C12,2)","v":6.2},0.03,3,null,null,0.04,0.01,0.06,0.01,0.1,null,null,null,null,null,null,null,null,0,0,0,0,0,0,0,null,0,0,0,0,0,0,0,0,0,0,0,0,0,0,0,100,0,null,null,null,null,null,null,null,null,null,null,null,0,0,0,0,0,0,0,0,0,0,0,0,0,0,0,0,0,0,0,0,null,0,0,0,0,0,0,0,0,0,0,null,"Yaşama Payı",null,null,null,{"$f":"1325*0.454","v":601.55000000000007},{"$f":"0.84*0.454","v":0.38135999999999998},{"$f":"1.21*0.454","v":0.54934000000000005},{"$f":"1.6*0.454","v":0.72640000000000005},{"$f":"1.97*0.454","v":0.89438000000000006},{"$f":"2.35*0.454","v":1.0669000000000002},null,"Sıcaklık, °C (TEMP)",null,null,null,null,0.8,13.6,18.7,23.6,28.2,32.799999999999997,37.1,41.4]
[null,{"$f":"Besi!B13","v":"TUZ"},{"$f":"ROUND((Besi!C13/Besi!$C$4)*100,2)","v":0.05},{"$f":"ROUND(Besi!C13,2)","v":0.01},{"$f":"ROUND(C$34*Besi!C13,2)","v":0.5},0.01,1,null,null,0.03,0.01,0.05,0.01,0.1,null,null,null,null,null,null,null,null,0,0,0,0,0,0,0,null,0,0,0,0,0,0,0,0,0,0,0,0,0,0,0,100,0,null,null,null,null,null,null,null,null,null,null,null,0,0,0,0,0,0,0,0,0,0,0,0,0,0,0,0,0,0,0,0,null,0,0,0,0,0,0,0,0,0,0,null,"MPmaint=",{"$f":"3.8*SBW^0.75","v":265.66109747824737},"Yaşama payı için gerekli MP, g/gün, HATA, NRC2016'ya göre düzeltildi",null,{"$f":"1470*0.454","v":667.38},{"$f":"0.88*0.454","v":0.39952000000000004},{"$f":"1.3*0.454","v":0.59020000000000006},{"$f":"1.7*0.454","v":0.77180000000000004},{"$f":"2.09*0.454","v":0.94885999999999993},{"$f":"2.5*0.454","v":1.135},null,">35, gece soğutması yok",null,null,0.65,null,1,21.4,27.9,34.1,40.1,45.6,51.5,56.9]
[null,{"$f":"Besi!B14","v":"VİT.-MİN. KAR. (ROVIMIX 302-FM/30) (SÜT, BESİ)"},{"$f":"ROUND((Besi!C14/Besi!$C$4)*100,2)","v":0.05},{"$f":"ROUND(Besi!C14,2)","v":0.01},{"$f":"ROUND(C$34*Besi!C14,2)","v":0.5},0.01,1,null,null,0.16,0.03,0.25,0.02,0.2,null,null,null,null,null,null,null,null,0,0,0,0,0,0,0,null,0,0,0,0,0,0,0,0,0,0,0,0,0,0,0,100,0,null,null,null,null,null,null,null,null,null,null,null,0,0,0,0,0,0,0,0,0,0,0,0,0,0,0,0,0,0,0,0,null,0,0,0,0,0,0,0,0,0,0,"Kaba yemler","Büyüme",null,"Enerji ve Protein İhtiyaçları",null,null,null,null,null,null,null,null,">35, gece soğutmalı",null,null,0.9,null,1.3,22.3,29,35.4,41.5,47.4,53.2,58.7]
[null,{"$f":"Besi!B15","v":0},{"$f":"ROUND((Besi!C15/Besi!$C$4)*100,2)","v":0},{"$f":"ROUND(Besi!C15,2)","v":0},{"$f":"ROUND(C$34*Besi!C15,2)","v":0},0,0,null,null,null,null,null,null,null,null,null,null,null,null,null,null,null,0,0,0,0,0,0,0,null,0,0,0,0,0,0,0,0,0,0,0,0,0,0,0,100,0,null,null,null,null,null,null,null,null,null,null,null,0,0,0,0,0,0,0,0,0,0,0,0,0,0,0,0,0,0,0,0,null,0,0,0,0,0,0,0,0,0,0,"Baklagil Kuru Otu","SRW=",{"$f":"IF(OR(AnimalType=\"Damızlık Düve\",AnimalType=\"Damızlık Boğa\",Yaglanma=\"Yağlı, % 28 yağlı\")=TRUE,478,IF(Yaglanma=\"Az yağlı, % 27 yağlı\",462,435))","v":462},"Damızlık düve, Damızlık Boğa ve yağlanacak besiler için 478 kg (% 28 yağlı)",null,null,null,null,null,null,null,null,"25-35",null,null,0.9,null,null,null,"Vücut yağı, %"]
[null,{"$f":"Besi!B16","v":0},{"$f":"ROUND((Besi!C16/Besi!$C$4)*100,2)","v":0},{"$f":"ROUND(Besi!C16,2)","v":0},{"$f":"ROUND(C$34*Besi!C16,2)","v":0},0,0,null,null,null,null,null,null,null,null,null,null,null,null,null,null,null,0,0,0,0,0,0,0,null,0,0,0,0,0,0,0,0,0,0,0,0,0,0,0,100,0,null,null,null,null,null,null,null,null,null,null,null,0,0,0,0,0,0,0,0,0,0,0,0,0,0,0,0,0,0,0,0,null,0,0,0,0,0,0,0,0,0,0,"Mısır Silajı",null,null,"Az yağlanacak besiler için 462 kg (% 26,8 yağlı)",null,"Hayvanın Tipi :","Besi Sığırı",null,"KONTROL",null,null,null,"15-25",null,null,1,null,0.6,11.6,10.8,10.9,11.5,12.3,13.4,14.5]
[null,{"$f":"Besi!B17","v":0},{"$f":"ROUND((Besi!C17/Besi!$C$4)*100,2)","v":0},{"$f":"ROUND(Besi!C17,2)","v":0},{"$f":"ROUND(C$34*Besi!C17,2)","v":0},0,0,null,null,null,null,null,null,null,null,null,null,null,null,null,null,null,0,0,0,0,0,0,0,null,0,0,0,0,0,0,0,0,0,0,0,0,0,0,0,100,0,null,null,null,null,null,null,null,null,null,null,null,0,0,0,0,0,0,0,0,0,0,0,0,0,0,0,0,0,0,0,0,null,0,0,0,0,0,0,0,0,0,0,null,null,null,"Yağlanmayacak besiler için 435 kg (%25,2 yağlı)",null,"Irkı :","Siyah Alaca",null,null,null,null,null,"5-15",null,null,1.03,null,0.8,11.6,12.5,13.9,15.6,17.5,19.399999999999999,21.4]
[null,{"$f":"Besi!B18","v":0},{"$f":"ROUND((Besi!C18/Besi!$C$4)*100,2)","v":0},{"$f":"ROUND(Besi!C18,2)","v":0},{"$f":"ROUND(C$34*Besi!C18,2)","v":0},0,0,null,null,null,null,null,null,null,null,null,null,null,null,null,null,null,0,0,0,0,0,0,0,null,0,0,0,0,0,0,0,0,0,0,0,0,0,0,0,100,0,null,null,null,null,null,null,null,null,null,null,null,0,0,0,0,0,0,0,0,0,0,0,0,0,0,0,0,0,0,0,0,null,0,0,0,0,0,0,0,0,0,0,null,"EQSBW=",{"$f":"SBW*(SRW/FSBW)","v":252},"SBW eşdeğeri",null,"Yaşı :",10,"ay","10",null,null,null,"-5-+5",null,null,1.05,null,1,11.6,14.2,17,19.899999999999999,22.8,25.6,28.5]
[null,{"$f":"Besi!B19","v":0},{"$f":"ROUND((Besi!C19/Besi!$C$4)*100,2)","v":0},{"$f":"ROUND(Besi!C19,2)","v":0},{"$f":"ROUND(C$34*Besi!C19,2)","v":0},0,0,null,null,null,null,null,null,null,null,null,null,null,null,null,null,null,0,0,0,0,0,0,0,null,0,0,0,0,0,0,0,0,0,0,0,0,0,0,0,100,0,null,null,null,null,null,null,null,null,null,null,null,0,0,0,0,0,0,0,0,0,0,0,0,0,0,0,0,0,0,0,0,null,0,0,0,0,0,0,0,0,0,0,"Kaçıncı doğumunu yapacak","FSBW=",{"$f":"IF(AnimalType=\"Damızlık Boğa\",(VLOOKUP(Breed,CQ3:CZ30,6,FALSE)*0.6)*0.96,IF(AnimalType=\"Damızlık Düve\",VLOOKUP(Breed,CQ3:CZ30,6,FALSE)*0.96,BesiSonAg*0.96))","v":528},"Shrunk besi sonu ağırlığı, kg",null,"Kondisyon Skoru :",5,null,null,null,null,null,"-15--5",null,null,1.07,null,1.3,11.6,14.4,17.399999999999999,20.399999999999999,23.4,26.4,29.3]
[null,{"$f":"Besi!B20","v":0},{"$f":"ROUND((Besi!C20/Besi!$C$4)*100,2)","v":0},{"$f":"ROUND(Besi!C20,2)","v":0},{"$f":"ROUND(C$34*Besi!C20,2)","v":0},0,0,null,null,null,null,null,null,null,null,null,null,null,null,null,null,null,0,0,0,0,0,0,0,null,0,0,0,0,0,0,0,0,0,0,0,0,0,0,0,100,0,null,null,null,null,null,null,null,null,null,null,null,0,0,0,0,0,0,0,0,0,0,0,0,0,0,0,0,0,0,0,0,null,0,0,0,0,0,0,0,0,0,0,1,"EQEBW=",{"$f":"0.891*EQSBW","v":224.53200000000001},"EBW eşdeğeri",null,"Canlı ağırlığı :",300,"kg",null,null,null,null,"< -15",null,null,1.1599999999999999,null,">1,3",11.6,14.2,17,20.100000000000001,23.1,26.1,29.1]
[null,{"$f":"Besi!B21","v":0},{"$f":"ROUND((Besi!C21/Besi!$C$4)*100,2)","v":0},{"$f":"ROUND(Besi!C21,2)","v":0},{"$f":"ROUND(C$34*Besi!C21,2)","v":0},0,0,null,null,null,null,null,null,null,null,null,null,null,null,null,null,null,0,0,0,0,0,0,0,null,0,0,0,0,0,0,0,0,0,0,0,0,0,0,0,100,0,null,null,null,null,null,null,null,null,null,null,null,0,0,0,0,0,0,0,0,0,0,0,0,0,0,0,0,0,0,0,0,null,0,0,0,0,0,0,0,0,0,0,2,"pRE=",{"$f":"0.0635*EBW^0.75*EBG^1.097","v":5.7811246134836258},"Alıkonulan enerji, Mcal/gün (NEb)",null,"Hedef besi sonu ağırlığı :",550,"kg",null,null,null,null,"Çamur (MUD1)",null,null,null,null,"NEg ihtiyaçları NRC 1984'de 72 kesim çalışmasından elde edildi, RE=0,0635 EBW^0,75 EBG^1,097"]
[null,{"$f":"Besi!B22","v":0},{"$f":"ROUND((Besi!C22/Besi!$C$4)*100,2)","v":0},{"$f":"ROUND(Besi!C22,2)","v":0},{"$f":"ROUND(C$34*Besi!C22,2)","v":0},0,0,null,null,null,null,null,null,null,null,null,null,null,null,null,null,null,0,0,0,0,0,0,0,null,0,0,0,0,0,0,0,0,0,0,0,0,0,0,0,100,0,null,null,null,null,null,null,null,null,null,null,null,0,0,0,0,0,0,0,0,0,0,0,0,0,0,0,0,0,0,0,0,null,0,0,0,0,0,0,0,0,0,0,3,"NPg=",{"$f":"SWG*(268-(29.4*(pRE/SWG)))","v":215.95493636358142},"Büyüme için net protein ihtiyacı, g/gün",null,"İstenilen canlı ağırlık artışı :",1.5,"kg/gün",null,null,null,null,"Yok",null,null,1,null,"SBWG'deki yağ oranı= 0,122 RE-0,146,   protein oranı= 0,248-0,0264 RE"]
[null,{"$f":"Besi!B23","v":0},{"$f":"ROUND((Besi!C23/Besi!$C$4)*100,2)","v":0},{"$f":"ROUND(Besi!C23,2)","v":0},{"$f":"ROUND(C$34*Besi!C23,2)","v":0},0,0,null,null,null,null,null,null,null,null,null,null,null,null,null,null,null,0,{"$f":"X28","v":0},0,0,0,0,0,null,0,0,0,0,0,0,0,0,0,0,0,0,0,0,0,100,0,null,null,null,null,null,null,null,null,null,null,null,0,0,0,0,0,0,0,0,0,0,0,0,0,0,0,0,0,0,0,0,null,0,0,0,0,0,0,0,0,0,0,4,"MPg=",{"$f":"IF(EQSBW<=300,NPg/(0.834-(EQSBW*0.00114)),NPg/0.492)","v":395.00098105717996},"Büyüme için MP ihtiyacı, g/gün, HATA, NRC2016'ya göre düzeltildi",null,"Hedef yağlılık düzeyi :","Az yağlı, % 27 yağlı",null,null,null,null,null,"Orta (10-20 cm)",null,null,0.85]
[null,{"$f":"Besi!B24","v":0},{"$f":"ROUND((Besi!C24/Besi!$C$4)*100,2)","v":0},{"$f":"ROUND(Besi!C24,2)","v":0},{"$f":"ROUND(C$34*Besi!C24,2)","v":0},0,0,null,null,null,null,null,null,null,null,null,null,null,null,null,null,null,0,0,0,0,0,0,0,null,0,0,0,0,0,0,0,0,0,0,0,0,0,0,0,100,0,null,null,null,null,null,null,null,null,null,null,null,0,0,0,0,0,0,0,0,0,0,0,0,0,0,0,0,0,0,0,0,null,0,0,0,0,0,0,0,0,0,0,null,"EBG=",{"$f":"12.341*EQEBW^-0.6837*pRE^0.9116","v":1.5081059628145326},"ME'nin sağlayabileceği GCAA,kg ",null,null,null,null,null,null,null,null,"Şiddetli (30-60 cm)",null,null,0.7]
[null,{"$f":"Besi!B25","v":0},{"$f":"ROUND((Besi!C25/Besi!$C$4)*100,2)","v":0},{"$f":"ROUND(Besi!C25,2)","v":0},{"$f":"ROUND(C$34*Besi!C25,2)","v":0},0,0,null,null,null,null,null,null,null,null,null,null,null,null,null,null,null,0,0,0,0,0,0,0,null,0,0,0,0,0,0,0,0,0,0,0,0,0,0,0,100,0,null,null,null,null,null,null,null,null,null,null,null,0,0,0,0,0,0,0,0,0,0,0,0,0,0,0,0,0,0,0,0,null,0,0,0,0,0,0,0,0,0,0,null,"SWG=",{"$f":"13.91*pRE^0.9116*EQSBW^-0.6837","v":1.5708691870952263},null,null,"Kaç gün önce doğurdu? :",null,"gün"]
[null,{"$f":"Besi!B26","v":0},{"$f":"ROUND((Besi!C26/Besi!$C$4)*100,2)","v":0},{"$f":"ROUND(Besi!C26,2)","v":0},{"$f":"ROUND(C$34*Besi!C26,2)","v":0},0,0,null,null,null,null,null,null,null,null,null,null,null,null,null,null,null,0,0,0,0,0,0,0,null,0,0,0,0,0,0,0,0,0,0,0,0,0,0,0,100,0,null,null,null,null,null,null,null,null,null,null,null,0,0,0,0,0,0,0,0,0,0,0,0,0,0,0,0,0,0,0,0,null,"REFAA","REFAA","REFAA","REFAA","REFAA","REFAA","REFAA","REFAA","REFAA","REFAA",null,"Damızlık düvelerin","Büyüme İhtiyaçları","Hedef Ağırlıkları ve Ağırlık Artış Oranlarının Tahmini",null,"Kaç günlük gebe? :",0,"gün"]
[null,{"$f":"Besi!B27","v":0},{"$f":"ROUND((Besi!C27/Besi!$C$4)*100,2)","v":0},{"$f":"ROUND(Besi!C27,2)","v":0},{"$f":"ROUND(C$34*Besi!C27,2)","v":0},0,0,null,null,null,null,null,null,null,null,null,null,null,null,null,null,null,null,null,null,null,null,null,null,null,null,null,null,null,null,null,null,null,null,null,null,null,null,null,null,null,null,null,null,null,null,null,null,null,null,null,null,null,null,null,null,null,null,null,null,null,null,null,null,null,null,null,null,null,null,null,null,null,null,{"$f":"SUM(CB65:CB91)","v":5.1346862761411911},10.480269996098292,11.684765590403668,14.646851874482785,47.727891824278068,14.510125148682711,19.888295882761554,9.4256420369039624,19.36176748776834,7.3328906072549946,null,"MW :",{"$f":"VLOOKUP(Breed,CQ3:CV30,6,FALSE)","v":682},"Ergin canlı ağırlık, kg",null,"Kaçıncı doğumunu yapacak :",0,null,null,"Ay","HAIR, cm","TDNp",null,null,null,"DM requirements for growing yearlings"]
[null,{"$f":"Besi!B28","v":0},{"$f":"ROUND((Besi!C28/Besi!$C$4)*100,2)","v":0},{"$f":"ROUND(Besi!C28,2)","v":0},{"$f":"ROUND(C$34*Besi!C28,2)","v":0},0,0,null,null,null,null,null,null,null,null,null,null,null,null,null,null,null,null,null,null,"önhesap",{"$f":"SUM(AA66:AA92)","v":0.20188135386026268},{"$f":"SUM(AB66:AB92)","v":22.798118646139738},null,{"$f":"SUM(AD66:AD92)","v":27.122736418511057},4.432904359509811,68.17708243333162,15.294108152070617,33.026990237296758,0.11173147924904386,48.432829868616423,5.3073281502240235,326.82745124340732,60.028454179979121,125.4023760987136,{"$f":"SUM(AO66:AO92)","v":257.97177670239444},729.78022641063956,116.9733778796231,95.280560088184927,3052.8208047045714,1887.5188757941614,894.62922851681844,45.422156878244948,3.4759302395592835,41.360347089576322,{"$f":"IF(SUM(AY66:AY92)>0.18,0.18,SUM(AY66:AY92))","v":0.18},null,{"$f":"SUM(BA66:BA92)","v":0.20694642339265776},3.213263126085721,0.32032645279916638,6.6107692347182549,245.33381605513142,251.94458528984967,25.194458528984967,24.533381605513142,0.66107692347182556,48.432829868616423,7.7492527789786267,94.479219483693626,{"$f":"SUM(BM66:BM92)","v":39.366341451539007},23.619804870923407,52.908362910868426,30.233350234781959,11.085561752753383,5.3073281502240235,{"$f":"SUM(BS66:BS92)","v":326.82745124340732},48.0227633439833,380.15754273761462,94.479219483693626,23.619804870923407,498.25656709223165,{"$f":"SUM(BY66:BY92)","v":2762.3999387754457},{"$f":"SUM(BZ66:BZ92)","v":50.262944765325003},null,"MET, g","LİZ, g","ARJ, g","TRE, g","LÖY, g","İZOLÖY, g","VAL, g","HIS, g","FENAL, g","TRİP, g",null,"TPW=",{"$f":"IF(OR(AnimalType=\"Damızlık Boğa\",AnimalType=\"Kastre Erkek\",AnimalType=\"Buzağı\",AnimalType=\"Besi Sığırı\")=TRUE,0,MW*VLOOKUP(Breed,CQ3:DB30,12,FALSE))","v":0},"Hedef gebelik ağırlığı, kg",{"$f":"TPW-SBW","v":-288},"Mevcut hava sıcaklığı :",20,"ºC",null,"01",1.3,50,null,null,null,"Finishing weight"]
[null,{"$f":"Besi!B29","v":0},{"$f":"ROUND((Besi!C29/Besi!$C$4)*100,2)","v":0},{"$f":"ROUND(Besi!C29,2)","v":0},{"$f":"ROUND(C$34*Besi!C29,2)","v":0},0,0,null,null,null,null,null,null,null,null,null,null,null,null,null,null,null,null,null,"Kdüssü","Kdüssü","RD","RESC","Kpj","Af_forages","Af_conc","RDPAj","RDPB1j","RDPB2j","RDPB3j","RDPEPj","REPB1j","REPB2j","REPB3j","REPCj","RDCAj","RDCB1j","RDCB2j","RECAj","RECB1j","RECB2j","RECCj","1/Y1j","1/Y2j","1/Y3j","RATIOj","IMPj","Y1j","Y2j","Y3j","FCBACTj","NFCBACTj","BACTj","BACTNj","NFCBACTNj","FCBACTNj","PEPUPj","PEPUPNj","REBTPj","REBCWj","REBNAj","REBCHOj","REBFATj","REBASHj","DIGPB1j","DIGPB2j","DIGPB3j","DIGFPj","DIGBTPj","DIGBNAj","DIGPj","DIGFCj","DIGBCj",null,{"$f":"IF(ISERROR(AY5*0.01*(AK66+AL66+AM66+AN66))=TRUE,0,AY5*0.01*(AK66+AL66+AM66+AN66))","v":0},{"$f":"IF(ISERROR(AZ5*0.01*(AK66+AL66+AM66+AN66))=TRUE,0,AZ5*0.01*(AK66+AL66+AM66+AN66))","v":0},{"$f":"IF(ISERROR(BA5*0.01*(AK66+AL66+AM66+AN66))=TRUE,0,BA5*0.01*(AK66+AL66+AM66+AN66))","v":0},{"$f":"IF(ISERROR(BB5*0.01*(AK66+AL66+AM66+AN66))=TRUE,0,BB5*0.01*(AK66+AL66+AM66+AN66))","v":0},{"$f":"IF(ISERROR(BC5*0.01*(AK66+AL66+AM66+AN66))=TRUE,0,BC5*0.01*(AK66+AL66+AM66+AN66))","v":0},{"$f":"IF(ISERROR(BD5*0.01*(AK66+AL66+AM66+AN66))=TRUE,0,BD5*0.01*(AK66+AL66+AM66+AN66))","v":0},{"$f":"IF(ISERROR(BE5*0.01*(AK66+AL66+AM66+AN66))=TRUE,0,BE5*0.01*(AK66+AL66+AM66+AN66))","v":0},{"$f":"IF(ISERROR(BF5*0.01*(AK66+AL66+AM66+AN66))=TRUE,0,BF5*0.01*(AK66+AL66+AM66+AN66))","v":0},{"$f":"IF(ISERROR(BG5*0.01*(AK66+AL66+AM66+AN66))=TRUE,0,BG5*0.01*(AK66+AL66+AM66+AN66))","v":0},{"$f":"IF(ISERROR(BH5*0.01*(AK66+AL66+AM66+AN66))=TRUE,0,BH5*0.01*(AK66+AL66+AM66+AN66))","v":0},null,"GS :",{"$f":"IF(OR(AnimalType=\"Damızlık Boğa\",AnimalType=\"Kastre Erkek\",AnimalType=\"Buzağı\",AnimalType=\"Besi Sığırı\")=TRUE,  0,  VLOOKUP(Breed,CQ3:CX30,7,FALSE))","v":0},"Irka özgü gebelik süresi, gün",null,"Geçen ayın sıcaklık ortalaması :",22,"°C",null,"02",1.2,50,null,null,null,455,500,545,590,635]
[null,{"$f":"Besi!B30","v":0},{"$f":"ROUND((Besi!C30/Besi!$C$4)*100,2)","v":0},{"$f":"ROUND(Besi!C30,2)","v":0},{"$f":"ROUND(C$34*Besi!C30,2)","v":0},0,0,null,null,null,null,null,null,null,null,null,null,null,null,null,null,null,null,null,{"$f":"IF(ISERROR(IF(Z66>AU5/100,AU5/100,Z66))=TRUE,0,IF(Z66>AU5/100,AU5/100,Z66))","v":0},{"$f":"IF(ISERROR(IF(pH<5.7,0,büyükA*((BH36/((-0.1058+(0.0752*pH))-BH36))+1)))=TRUE,0,IF(pH<5.7,0,büyükA*((BH36/((-0.1058+(0.0752*pH))-BH36))+1)))","v":2.0401899680000002E-2},{"$f":"IF(ISERROR(AU5/(AU5+AC66))=TRUE,0,AU5/(AU5+AC66))","v":0},{"$f":"IF(ISERROR(AC66/(AU5+AC66))=TRUE,0,AC66/(AU5+AC66))","v":1},{"$f":"IF(ISERROR(IF(A5<3,Kp_forages*AD66,Kp_conc*AE66))=TRUE,0,IF(A5<3,Kp_forages*AD66,Kp_conc*AE66))","v":51.329648498372464},{"$f":"IF(ISERROR(IF(A5<3,100/((AC5/100)+70),\"\"))=TRUE,0,IF(A5<3,100/((AC5/100)+70),\"\"))","v":1.4285714285714286},{"$f":"IF(ISERROR(IF(OR(A5=3,A5=4,A5=5,A5=6)=TRUE,100/((AC5/100)+90),\"\"))=TRUE,0,IF(OR(A5=3,A5=4,A5=5,A5=6)=TRUE,100/((AC5/100)+90),\"\"))","v":""},{"$f":"IF(ISERROR(BR96*Z36*10)=TRUE,0,BR96*Z36*10)","v":0},{"$f":"IF(ISERROR(BT96*Z36*10*(AV5/(AV5+AC66)))=TRUE,0,BT96*Z36*10*(AV5/(AV5+AC66)))","v":0},{"$f":"IF(ISERROR(BZ96*Z36*10*(AW5/(AW5+AC66)))=TRUE,0,BZ96*Z36*10*(AW5/(AW5+AC66)))","v":0},{"$f":"IF(ISERROR(BX96*Z36*10*(AX5/(AX5+AC66)))=TRUE,0,BX96*Z36*10*(AX5/(AX5+AC66)))","v":0},{"$f":"IF(ISERROR(AG66+AH66+AI66)=TRUE,0,AG66+AH66+AI66)","v":0},{"$f":"IF(ISERROR(BT96*Z36*10*(AC66/(AC66+AV5)))=TRUE,0,BT96*Z36*10*(AC66/(AC66+AV5)))","v":0},{"$f":"IF(ISERROR(BZ96*Z36*10*(AC66/(AW5+AC66)))=TRUE,0,BZ96*Z36*10*(AC66/(AW5+AC66)))","v":0},{"$f":"IF(ISERROR(BX96*Z36*10*(AC66/(AX5+AC66)))=TRUE,0,BX96*Z36*10*(AC66/(AX5+AC66)))","v":0},{"$f":"IF(ISERROR(BV96*Z36*10)=TRUE,0,BV96*Z36*10)","v":0},{"$f":"IF(ISERROR(Z36*10*BP96*(AS5/(AS5+AC66)))=TRUE,0,Z36*10*BP96*(AS5/(AS5+AC66)))","v":0},{"$f":"IF(ISERROR(Z36*10*BN96*(AT5/(AT5+AC66)))=TRUE,0,Z36*10*BN96*(AT5/(AT5+AC66)))","v":0},{"$f":"IF(ISERROR(Z36*10*BL96*(AU5/(AU5+AC66)))=TRUE,0,Z36*10*BL96*(AU5/(AU5+AC66)))","v":0},{"$f":"IF(ISERROR(Z36*10*BP96*(AC66/(AS5+AC66)))=TRUE,0,Z36*10*BP96*(AC66/(AS5+AC66)))","v":0},{"$f":"IF(ISERROR(Z36*10*BN96*(AC66/(AT5+AC66)))=TRUE,0,Z36*10*BN96*(AC66/(AT5+AC66)))","v":0},{"$f":"IF(ISERROR(Z36*10*BL96*(AC66/(AU5+AC66)))=TRUE,0,Z36*10*BL96*(AC66/(AU5+AC66)))","v":0},{"$f":"IF(ISERROR(Z36*10*BJ96)=TRUE,0,Z36*10*BJ96)","v":0},{"$f":"IF(ISERROR((_KM1/AU5)+(1/_YG1))=TRUE,0,(_KM1/AU5)+(1/_YG1))","v":0},{"$f":"IF(ISERROR((_KM2/AS5)+(1/_YG2))=TRUE,0,(_KM2/AS5)+(1/_YG2))","v":0},{"$f":"IF(ISERROR((_KM2/AT5)+(1/_YG2))=TRUE,0,(_KM2/AT5)+(1/_YG2))","v":0},{"$f":"IF(ISERROR(AJ66/(AO66+AP66+AJ66))=TRUE,0,AJ66/(AO66+AP66+AJ66))","v":0},{"$f":"IF(ISERROR(EXP(0.404*LN(AY66*100)+1.942))=TRUE,0,EXP(0.404*LN(AY66*100)+1.942))","v":0},{"$f":"IF(ISERROR(1/AV66)=TRUE,0,1/AV66)","v":0},{"$f":"IF(ISERROR((1/AW66)*(1+AZ66*0.01))=TRUE,0,(1/AW66)*(1+AZ66*0.01))","v":0},{"$f":"IF(ISERROR((1/AX66)*(1+AZ66*0.01))=TRUE,0,(1/AX66)*(1+AZ66*0.01))","v":0},{"$f":"IF(ISERROR(BA66*AQ66)=TRUE,0,BA66*AQ66)","v":0},{"$f":"IF(ISERROR((BB66*AO66)+(BC66*AP66))=TRUE,0,(BB66*AO66)+(BC66*AP66))","v":0},{"$f":"IF(ISERROR(BD66+BE66)=TRUE,0,BD66+BE66)","v":0},{"$f":"IF(ISERROR(0.1*BF66)=TRUE,0,0.1*BF66)","v":0},{"$f":"IF(ISERROR(0.1*BE66)=TRUE,0,0.1*BE66)","v":0},{"$f":"IF(ISERROR(0.1*BD66)=TRUE,0,0.1*BD66)","v":0},{"$f":"IF(ISERROR(AJ66)=TRUE,0,AJ66)","v":0},{"$f":"IF(ISERROR(BJ66/6.25)=TRUE,0,BJ66/6.25)","v":0},{"$f":"IF(ISERROR(0.6*0.625*BF66)=TRUE,0,0.6*0.625*BF66)","v":0},{"$f":"IF(ISERROR(0.25*0.625*BF66)=TRUE,0,0.25*0.625*BF66)","v":0},{"$f":"IF(ISERROR(0.15*0.625*BF66)=TRUE,0,0.15*0.625*BF66)","v":0},{"$f":"IF(ISERROR(0.21*BF66)=TRUE,0,0.21*BF66)","v":0},{"$f":"IF(ISERROR(0.12*BF66)=TRUE,0,0.12*BF66)","v":0},{"$f":"IF(ISERROR(0.044*BF66)=TRUE,0,0.044*BF66)","v":0},{"$f":"AK66","v":0},{"$f":"AL66","v":0},{"$f":"IF(ISERROR(0.8*AM66)=TRUE,0,0.8*AM66)","v":0},{"$f":"IF(ISERROR(BR66+BS66+BT66)=TRUE,0,BR66+BS66+BT66)","v":0},{"$f":"BL66","v":0},{"$f":"BN66","v":0},{"$f":"IF(ISERROR(BU66+BV66+BW66)=TRUE,0,BU66+BV66+BW66)","v":0},{"$f":"IF(ISERROR(AR66+stdig*AS66+0.2*AT66)=TRUE,0,AR66+stdig*AS66+0.2*AT66)","v":0},{"$f":"IF(ISERROR(0.95*BO66)=TRUE,0,0.95*BO66)","v":0},null,0.83032260977446448,3.5071835606891564,3.5071835606891564,3.5071835606891564,6.8036882502415077,3.5071835606891564,4.7464710379644766,1.2392874772753202,4.3375061704636213,5.5767936477389402,"İonofor ve İmplant","İBY :",{"$f":"IF(AnimalType=\"Damızlık Düve\",  IF(DaysPreg>0,  Tage+(GS-DaysPreg),  IF(Tage>=TPA,  IF(SBW>=TPW,  Tage+GS, Tage+ (TPW-SBW)+GS),  IF(SBW>=TPW,  VLOOKUP(Breed,CQ3:DA30,11,FALSE)*30.4,   IF(  (TPW-SBW)>((VLOOKUP(Breed,CQ3:DA30,11,FALSE)*30.4-GS)-Tage),  VLOOKUP(Breed,CQ3:DA30,11,FALSE)*30.4+(TPW-SBW)-((VLOOKUP(Breed,CQ3:DA30,11,FALSE)*30.4-GS)-Tage),   VLOOKUP(Breed,CQ3:DA30,11,FALSE)*30.4)  )   )   ), 0)","v":0},"Hedef ilk buzağılama yaşı, gün    TCA",null,"Sıcaklık Stresi :","Normal",null,null,"03",1.1000000000000001,64,null,null,"Dmreq",{"$f":" 2.5459 + 0.0196 * BW - 0.5161 * ADG","v":7.6517500000000007},{"$f":" 2.7101 + 0.0192 * BW - 0.518 * ADG","v":7.6931000000000003},{"$f":" 2.8656 + 0.0189 * BW - 0.5248 * ADG","v":7.7484000000000002},{"$f":" 3.1544 + 0.0183 * BW - 0.5381 * ADG","v":7.8372500000000009},{"$f":" 3.2985 + 0.018 * BW - 0.5312 * ADG","v":7.9016999999999991},{"$f":"FORECAST(BesiSonAg,DA66:DE66,DA65:DE65)","v":7.7735961111111118}]
[null,{"$f":"Besi!B31","v":0},{"$f":"ROUND((Besi!C31/Besi!$C$4)*100,2)","v":0},{"$f":"ROUND(Besi!C31,2)","v":0},{"$f":"ROUND(C$34*Besi!C31,2)","v":0},0,0,null,null,null,null,null,null,null,null,null,null,null,null,null,null,null,null,null,0.03,3.1272656800641133E-2,5.5963158345783567E-2,0.94403684165421642,50.60669570262074,1.408450704225352,"",29.669640000000005,1.1357919993239931,1.3940984664163139,2.7721806727678867E-2,2.5576122724679857,0.42576800067600401,6.4137015335836942,15.587878193272321,101.50139999999999,0,224.54586237817344,89.92214847079893,0,378.78413762182589,1516.8876015292014,849.09825000000012,19.328338878134744,0.99320927847019613,8.2723112059843871,1.126188085145954E-2,7.3156125938343903,5.173750348154614E-2,1.0804934561135866,0.12972869361611991,4.6523474695760685,29.130041383225489,33.78238885280156,3.3782388852801564,2.9130041383225489,0.46523474695760686,2.5576122724679857,0.40921796359487772,12.668395819800585,5.2784982582502433,3.1670989549501463,7.0943016590883277,4.0538866623361871,1.4864251095232686,{"$f":"AK67","v":0.42576800067600401},{"$f":"AL67","v":6.4137015335836942},12.470302554617858,19.309772088877555,{"$f":"BL67","v":12.668395819800585},{"$f":"BN67","v":3.1670989549501463},35.145266863628287,587.46562352220963,6.7395865761339113,null,0.27270658647130591,1.0335916302060604,1.6261392748844536,1.0605256140550783,2.2994888711099,1.3197652086018752,1.6429730147900898,0.77098528767813634,1.8853788694312503,0.42421024562203136,"Yok","TPA =",{"$f":"IF(AnimalType=\"Damızlık Düve\",   İBY-GS,   0)","v":0},"Hedef gebelik yaşı, gün",{"$f":"TPA-Tage","v":0},"Geceleri serinliyor mu?","Evet",null,null,"04",0.9,74,null,null,"MSU ve OSU dan 29.03.2021 de uyarlandı"]
[null,"TOPLAM",{"$f":"ROUND(SUM(C41:C67),0)","v":100},{"$f":"ROUND(SUM(D41:D67),2)","v":9.3800000000000008},{"$f":"ROUND(SUM(E41:E67),2)","v":937.2},{"$f":"ROUND(SUM(F41:F67),2)","v":4.7},{"$f":"ROUND(SUM(G41:G67),2)","v":470},null,null,null,null,null,null,null,null,null,null,null,null,null,null,null,null,null,0.05,5.4507098042460171E-2,8.0384259573950803E-2,0.91961574042604921,57.201232262395457,"",1.1069293779056897,2.3082024333316156,4.7461619321711126,6.0891357565814364,8.5420409156221778E-3,10.84383972966817,0.90495437012353142,29.025505724122656,1.3960436183125411,2.3409760987136061,14.835618017355781,54.693847893168545,5.3562880710056451,2.8287187732231565,104.28518322204206,61.277255602778418,23.259938516818391,11.597348258959801,0.82777514375396444,8.2723112059843871,0.13491842401272919,19.950265179173307,8.622660781333584E-2,1.4490682171875597,0.14500211874572422,0.46185455083385291,29.428546378151186,29.890400928985038,2.9890400928985041,2.9428546378151186,4.6185455083385292E-2,10.84383972966817,1.7350143567469072,11.20890034836939,4.6703751451539119,2.8022250870923475,6.2769841950868575,3.5868481114782043,1.3151776408753415,0.90495437012353142,29.025505724122656,1.1168348946500328,31.047294988896219,11.20890034836939,2.8022250870923475,45.058420424357955,93.298057310310384,5.9631349853325144,null,4.031657079895421,5.9394948052030747,6.5514427548300587,10.079142699738549,38.62471470292666,9.6831763793916785,13.498851830006988,7.4153692719505058,13.138882447873467,1.3318867138940229,"İonofor","Tage :",{"$f":"IF(OR(AnimalType=\"Damızlık Boğa\",AnimalType=\"Kastre Erkek\",AnimalType=\"Buzağı\",AnimalType=\"Besi Sığırı\")=TRUE,0,Age*30.4)","v":0},"Düvenin yaşı, gün",null,"Zemindeki çamur miktarı :","Yok",null,null,"05",0.8,74]
[null,null,8,null,5,6,7,null,null,null,null,null,null,null,null,null,null,null,null,null,null,null,null,null,0.04,4.2629920585540576E-2,6.553393594052831E-2,0.93446606405947175,57.037078615726337,"",1.1037527593818985,36.199240000000003,9.4121542205755109,25.54375601429901,7.546763160574281E-2,35.031377866480263,3.9766057794244882,291.38824398570097,43.044532368394258,21.560000000000002,243.13615868503865,450.54051613929755,21.694941337818516,92.451841314961769,2569.7514838607035,309.35401866218149,22.271040000000003,14.496469741150404,1.6549458173351226,24.815724677607548,4.8073268488146817E-2,13.148885959177816,6.8982312097775778E-2,0.68370145278457439,4.5595640437322248E-2,1.4965672143083339,186.77522829375474,188.27179550806306,18.827179550806306,18.677522829375473,0.14965672143083339,35.031377866480263,5.605020458636842,70.601923315523649,29.417468048134854,17.650480828880912,39.537077056693242,22.592615460967568,8.2839590023547736,3.9766057794244882,291.38824398570097,34.435625894715407,329.80047565984086,70.601923315523649,17.650480828880912,418.05287980424544,2081.6362579429256,37.560223203858577,null,0,0,0,0,0,0,0,0,0,0,"İmplant","BPADG=",{"$f":"IF(AnimalType=\"Damızlık Düve\",  IF(DaysPreg>0,  0,  IF(SBW>=TPW,  0,  IF(Tage>=TPA,  1,   (TPW-SBW)/(TPA-Tage))   )   ),0)","v":0},"Gebelik öncesi hedef günlük canlı ağırlık artışı, kg/gün",null,"Deri ve kıllarının durumu :","Kuru",null,null,"06",0.7,65]
[null,null,null,null,null,null,null,null,null,null,null,null,null,null,null,null,null,null,null,null,null,null,null,null,0,2.0401899680000002E-2,0,1,57.417325806497843,"",1.1111111111111112,0,0,0,0,0,0,0,0,0,0,0,0,0,0,0,0,0,0,0,0,0,0,0,0,0,0,0,0,0,0,0,0,0,0,0,0,0,0,0,0,0,0,0,0,0,0,0,null,0,0,0,0,0,0,0,0,0,0,"İonofor+İmplant","BUZAG=",{"$f":"IF(OR(AnimalType=\"Damızlık Düve\",AnimalType=\"Laktasyondaki İnek\",AnimalType=\"Kurudaki İnek\")=TRUE,  IF(DogumSay=1,0.8,  IF(DogumSay=2,0.92,  IF(DogumSay=3,0.96,  1))),  0) *MW","v":0},"Hedef buzağılama ağırlığı, kg",null,"Rüzgarın hızı :",1,"km/sa",null,"07",0.6,62]
[null,null,null,null,null,null,null,null,null,null,null,null,null,null,null,null,null,null,null,null,null,null,null,null,0,2.0401899680000002E-2,0,1,57.417325806497843,"",1.1111111111111112,0,0,0,0,0,0,0,0,0,0,0,0,0,0,0,0,0,0,0,0,0,0,0,0,0,0,0,0,0,0,0,0,0,0,0,0,0,0,0,0,0,0,0,0,0,0,0,null,0,0,0,0,0,0,0,0,0,0,null,"BUZAG+1=",{"$f":"IF(OR(AnimalType=\"Damızlık Düve\",AnimalType=\"Laktasyondaki İnek\",AnimalType=\"Kurudaki İnek\")=TRUE,  IF(DogumSay=1,0.92,  IF(DogumSay=2,0.96,  1)),  0) *MW","v":0},"Sonraki hedef buzağılama ağırlığı, kg",null,"Merada otluyor mu?","Otlamıyor",null,null,"08",0.7,59]
[null,null,null,null,null,null,null,null,null,null,null,null,null,null,null,null,null,null,null,null,null,null,null,null,0,2.0401899680000002E-2,0,0,0,"","",0,0,0,0,0,0,0,0,0,0,0,0,0,0,0,0,0,0,0,0,0,0,0,0,0,0,0,0,0,0,0,0,0,0,0,0,0,0,0,0,0,0,0,0,0,0,0,null,0,0,0,0,0,0,0,0,0,0,"Fizyolojik durumu","APADG=",{"$f":"IF(AnimalType=\"Damızlık Düve\",  IF(DaysPreg>0,    IF(SBW>=BUZAG,  0,   IF((BUZAG-SBW) >= (GS-DaysPreg), 1,     (BUZAG-SBW)/(GS-DaysPreg))),  0),  IF(OR(AnimalType=\"Laktasyondaki İnek\",AnimalType=\"Kurudaki İnek\")=TRUE,  IF(DaysPreg>0,    IF(SBW>=BUZAG,  0,   IF((BUZAG - SBW) >= (GS-DaysPreg), 1,  (BUZAG - SBW) / (GS-DaysPreg)) ),  0  ),  0      ))","v":0},"Gebelik sonrası hedef günlük canlı ağırlık artışı, kg/gün",null,"Otlanan mera alanı :",null,"hektar",null,"09",0.8,57]
[null,null,null,null,null,null,null,null,null,null,null,null,null,null,null,null,null,null,null,null,null,null,null,null,0,2.0401899680000002E-2,0,0,0,"","",0,0,0,0,0,0,0,0,0,0,0,0,0,0,0,0,0,0,0,0,0,0,0,0,0,0,0,0,0,0,0,0,0,0,0,0,0,0,0,0,0,0,0,0,0,0,0,null,0,0,0,0,0,0,0,0,0,0,"Buzağı","CI :",{"$f":"IF(OR(AnimalType=\"Damızlık Boğa\",AnimalType=\"Kastre Erkek\",AnimalType=\"Buzağı\",AnimalType=\"Besi Sığırı\")=TRUE,0,360)","v":0},"Buzağılama aralığı, gün",null,"Merada otlanabilir ot miktarı :",null,"ton/hektar",null,"10",0.9,50]
[null,null,null,null,null,null,null,null,null,null,null,null,null,null,null,null,null,null,null,null,null,null,null,null,0,2.0401899680000002E-2,0,0,0,"","",0,0,0,0,0,0,0,0,0,0,0,0,0,0,0,0,0,0,0,0,0,0,0,0,0,0,0,0,0,0,0,0,0,0,0,0,0,0,0,0,0,0,0,0,0,0,0,null,0,0,0,0,0,0,0,0,0,0,"1 yaşında","ACADG=",{"$f":"IF(OR(AnimalType=\"Damızlık Boğa\",AnimalType=\"Kastre Erkek\",AnimalType=\"Buzağı\",AnimalType=\"Besi Sığırı\")=TRUE,   0,   (CN71-BUZAG)/CI)","v":0},"Buzağılama sonrası hedef günlük canlı ağırlık artışı, kg/gün",null,"Merada otlayan hayvan sayısı :",null,null,null,"11",1.1000000000000001,50]
[null,null,null,null,null,null,null,null,null,null,null,null,null,null,null,null,null,null,null,null,null,null,null,null,0,2.0401899680000002E-2,0,0,0,"","",0,0,0,0,0,0,0,0,0,0,0,0,0,0,0,0,0,0,0,0,0,0,0,0,0,0,0,0,0,0,0,0,0,0,0,0,0,0,0,0,0,0,0,0,0,0,0,null,0,0,0,0,0,0,0,0,0,0,"Gebe İnek","ADGpreg=",{"$f":"IF(OR(AnimalType=\"Damızlık Boğa\",AnimalType=\"Kastre Erkek\",AnimalType=\"Buzağı\",AnimalType=\"Besi Sığırı\")=TRUE,  0,  IF(DaysPreg>0,  CBW*(18.28*(0.02-0.0000286*DaysPreg)*EXP((0.02*DaysPreg)-(0.0000143*DaysPreg^2)))/1000,  0)   )","v":0},"Gebeler için uterusa bağlı ağırlık artışı, kg/gün (günlük artışa (SWG) ilave edilmelidir)",null,"Merada kalınan süre :",null,"gün",null,"12",1.3,50]
[null,null,null,null,null,null,null,null,null,null,null,null,null,null,null,null,null,null,null,null,null,null,null,null,0,2.0401899680000002E-2,0,1,51.329648498372464,1.4285714285714286,"",0,0,0,0,0,0,0,0,0,0,0,0,0,0,0,0,0,0,0,0,0,0,0,0,0,0,0,0,0,0,0,0,0,0,0,0,0,0,0,0,0,0,0,0,0,0,0,null,0,0,0,0,0,0,0,0,0,0,"Gebe Olmayan İnek","Gebe düveler için büyüme ihtiyaçlarını hesaplamak için EQEBW'den fötal ve uterus dokusu ağırlıkları elde edilir",null,null,null,"Meranın arazi durumu :"]
[null,null,null,null,null,null,null,null,null,null,null,null,null,null,null,null,null,null,null,null,null,null,null,null,0,2.0401899680000002E-2,0,1,51.329648498372464,1.4285714285714286,"",0,0,0,0,0,0,0,0,0,0,0,0,0,0,0,0,0,0,0,0,0,0,0,0,0,0,0,0,0,0,0,0,0,0,0,0,0,0,0,0,0,0,0,0,0,0,0,null,0,0,0,0,0,0,0,0,0,0,"Diğerleri","CW=",{"$f":"IF(OR(AnimalType=\"Damızlık Boğa\",AnimalType=\"Kastre Erkek\",AnimalType=\"Buzağı\",AnimalType=\"Besi Sığırı\")=TRUE,0,(CBW*0.01828)*EXP((0.02*DaysPreg)-(0.0000143*DaysPreg^2)))","v":0},"Fötüs ağırlığı, kg",null,"Meradaki kuru madde tüketimi :",null,"kg/gün",null,"Table 5. Additive codes and adjustment factors"]
[null,null,null,null,null,null,null,null,null,null,null,null,null,null,null,null,null,null,null,null,null,null,null,null,0,2.0401899680000002E-2,0,1,51.329648498372464,1.4285714285714286,"",0,0,0,0,0,0,0,0,0,0,0,0,0,0,0,0,0,0,0,0,0,0,0,0,0,0,0,0,0,0,0,0,0,0,0,0,0,0,0,0,0,0,0,0,0,0,0,null,0,0,0,0,0,0,0,0,0,0,null,"CBW=",{"$f":"IF(OR(AnimalType=\"Damızlık Boğa\",AnimalType=\"Kastre Erkek\",AnimalType=\"Buzağı\",AnimalType=\"Besi Sığırı\")=TRUE,0,VLOOKUP(Breed,CQ3:CT30,4,FALSE))","v":0},"Buzağı doğum ağırlığı, kg  ",null,"TPA, TPW ve İBY KONTROLÜ",null,null,null,"Code","Additive","DMIreal","NEma"]
[null,null,null,null,null,null,null,null,null,null,null,null,null,null,null,null,null,null,null,null,null,null,null,null,0,2.0401899680000002E-2,0,1,51.329648498372464,1.4285714285714286,"",0,0,0,0,0,0,0,0,0,0,0,0,0,0,0,0,0,0,0,0,0,0,0,0,0,0,0,0,0,0,0,0,0,0,0,0,0,0,0,0,0,0,0,0,0,0,0,null,0,0,0,0,0,0,0,0,0,0,null,"Laktasyon",null,null,null,"IBYbreed",{"$f":"VLOOKUP(Breed,CQ3:DA30,11,FALSE)*30.4","v":729.59999999999991},null,null,"Yok","No anabolic implant or ionophore",0.94,1]
[null,null,null,null,null,null,null,null,null,null,null,null,null,null,null,null,null,null,null,null,null,null,null,null,0,2.0401899680000002E-2,0,1,51.329648498372464,1.4285714285714286,"",0,0,0,0,0,0,0,0,0,0,0,0,0,0,0,0,0,0,0,0,0,0,0,0,0,0,0,0,0,0,0,0,0,0,0,0,0,0,0,0,0,0,0,0,0,0,0,null,0,0,0,0,0,0,0,0,0,0,null,"küçükk=",{"$f":"IF(AnimalType=\"Laktasyondaki İnek\",1/LactPeak,0)","v":0},"ara oran sabiti",null,"TPAbreed",{"$f":"CR79-GS","v":729.59999999999991},null,null,"İonofor","Ionophore only",0.94,1.1200000000000001]
[null,null,null,null,null,null,null,null,null,null,null,null,null,null,null,null,null,null,null,null,null,null,null,null,0,2.0401899680000002E-2,0,1,51.329648498372464,1.4285714285714286,"",0,0,0,0,0,0,0,0,0,0,0,0,0,0,0,0,0,0,0,0,0,0,0,0,0,0,0,0,0,0,0,0,0,0,0,0,0,0,0,0,0,0,0,0,0,0,0,null,0,0,0,0,0,0,0,0,0,0,null,"LactPeak, T =",{"$f":"IF(AnimalType=\"Laktasyondaki İnek\",8.5,0)","v":0},"Laktasyon piki, hafta, Eq. 4-15",null,null,null,null,null,"İmplant","Implant only",1,1]
[null,null,null,null,null,null,null,null,null,null,null,null,null,null,null,null,null,null,null,null,null,null,null,null,0,2.0401899680000002E-2,0,1,51.329648498372464,1.4285714285714286,"",0,0,0,0,0,0,0,0,0,0,0,0,0,0,0,0,0,0,0,0,0,0,0,0,0,0,0,0,0,0,0,0,0,0,0,0,0,0,0,0,0,0,0,0,0,0,0,null,0,0,0,0,0,0,0,0,0,0,null,"küçüka=",{"$f":"IF(AnimalType=\"Laktasyondaki İnek\",1/(PKYD*küçükk*EXP(1)),0)","v":0},"ara oran sabiti",null,null,null,null,null,"İonofor+İmplant","Ionophore + Implant",1,1.1200000000000001]
[null,null,null,null,null,null,null,null,null,null,null,null,null,null,null,null,null,null,null,null,null,null,null,null,0,2.0401899680000002E-2,0,1,51.329648498372464,1.4285714285714286,"",0,0,0,0,0,0,0,0,0,0,0,0,0,0,0,0,0,0,0,0,0,0,0,0,0,0,0,0,0,0,0,0,0,0,0,0,0,0,0,0,0,0,0,0,0,0,0,null,0,0,0,0,0,0,0,0,0,0,null,"PKYD =",{"$f":"IF(AnimalType=\"Laktasyondaki İnek\",VLOOKUP(Breed,CQ3:CU30,5,FALSE),0)","v":0},"pik süt verimi, kg/gün (Tablo 10-1)"]
[null,null,null,null,null,null,null,null,null,null,null,null,null,null,null,null,null,null,null,null,null,null,null,null,0,2.0401899680000002E-2,0,1,51.329648498372464,1.4285714285714286,"",0,0,0,0,0,0,0,0,0,0,0,0,0,0,0,0,0,0,0,0,0,0,0,0,0,0,0,0,0,0,0,0,0,0,0,0,0,0,0,0,0,0,0,0,0,0,0,null,0,0,0,0,0,0,0,0,0,0,null,"küçükn =",{"$f":"IF(AnimalType=\"Laktasyondaki İnek\",ROUND(SonDogumTarihi/7,0),0)","v":0},"Postpartum hafta, Eq. 4-11"]
[null,null,null,null,null,null,null,null,null,null,null,null,null,null,null,null,null,null,null,null,null,null,null,null,0,2.0401899680000002E-2,0,1,51.329648498372464,1.4285714285714286,"",0,0,0,0,0,0,0,0,0,0,0,0,0,0,0,0,0,0,0,0,0,0,0,0,0,0,0,0,0,0,0,0,0,0,0,0,0,0,0,0,0,0,0,0,0,0,0,null,0,0,0,0,0,0,0,0,0,0,"Geceleri Serinliyor mu?","Yn=",{"$f":"IF(AnimalType=\"Laktasyondaki İnek\",IF(Age<36,0.74*küçükn/(küçüka*EXP(küçükk*küçükn)),IF(Age<48,0.88*küçükn/(küçüka*EXP(küçükk*küçükn)),küçükn/(küçüka*EXP(küçükk*küçükn)))),0)","v":0},"mevcut laktasyon haftasındaki günlük süt verimi, kg/gün"]
[null,null,null,null,null,null,null,null,null,null,null,null,null,null,null,null,null,null,null,null,null,null,null,null,0,2.0401899680000002E-2,0,1,51.329648498372464,1.4285714285714286,"",0,0,0,0,0,0,0,0,0,0,0,0,0,0,0,0,0,0,0,0,0,0,0,0,0,0,0,0,0,0,0,0,0,0,0,0,0,0,0,0,0,0,0,0,0,0,0,null,0,0,0,0,0,0,0,0,0,0,"Evet","TotalY=",{"$f":"IF(AnimalType=\"Laktasyondaki İnek\",IF(Age<36,0.74*(-7/(küçüka*küçükk)*((büyükD*EXP(-küçükk*büyükD))+((1/küçükk)*EXP(-küçükk*büyükD))-(1/küçükk))),IF(Age<48,0.88*(-7/(küçüka*küçükk)*((büyükD*EXP(-küçükk*büyükD))+((1/küçükk)*EXP(-küçükk*büyükD))-(1/küçükk))),(-7/(küçüka*küçükk)*((büyükD*EXP(-küçükk*büyükD))+((1/küçükk)*EXP(-küçükk*büyükD))-(1/küçükk))))),0)","v":0},"Laktasyon toplam süt verimi, kg"]
[null,null,null,null,null,null,null,null,null,null,null,null,null,null,null,null,null,null,null,null,null,null,null,null,0,2.0401899680000002E-2,0,1,51.329648498372464,1.4285714285714286,"",0,0,0,0,0,0,0,0,0,0,0,0,0,0,0,0,0,0,0,0,0,0,0,0,0,0,0,0,0,0,0,0,0,0,0,0,0,0,0,0,0,0,0,0,0,0,0,null,0,0,0,0,0,0,0,0,0,0,"Hayır","büyükD =",{"$f":"IF(AnimalType=\"Laktasyondaki İnek\",30,0)","v":0},"Laktasyon süresi, hafta",null,"MİNERAL VE VİTAMİN İHTİYAÇLARI"]
[null,null,null,null,null,null,null,null,null,null,null,null,null,null,null,null,null,null,null,null,null,null,null,null,0,2.0401899680000002E-2,0,1,51.329648498372464,1.4285714285714286,"",0,0,0,0,0,0,0,0,0,0,0,0,0,0,0,0,0,0,0,0,0,0,0,0,0,0,0,0,0,0,0,0,0,0,0,0,0,0,0,0,0,0,0,0,0,0,0,null,0,0,0,0,0,0,0,0,0,0,null,"EMilk =",{"$f":"IF(AnimalType=\"Laktasyondaki İnek\",0.092*MilkFat+0.049*SNF-0.0569,0)","v":0},"Sütün enerji içeriği, Mcal (NEm)/kg",null,"Min-Vit","Maint","Growth","Lact","Preg","Total","Max","Tablo 10-3. Diğer mineral ihtiyaçları, maksimum tolerans konsantrasyonları ve vitamin ihtiyaçları"]
[null,null,null,null,null,null,null,null,null,null,null,null,null,null,null,null,null,null,null,null,null,null,null,null,0,2.0401899680000002E-2,0,1,51.329648498372464,1.4285714285714286,"",0,0,0,0,0,0,0,0,0,0,0,0,0,0,0,0,0,0,0,0,0,0,0,0,0,0,0,0,0,0,0,0,0,0,0,0,0,0,0,0,0,0,0,0,0,0,0,null,0,0,0,0,0,0,0,0,0,0,"Zemindeki çamur miktarı","MilkFat =",{"$f":"IF(AnimalType=\"Laktasyondaki İnek\",VLOOKUP(Breed,CQ3:CZ30,10,FALSE),0)","v":0},"Sütteki yağ oranı, %",null,"Ca, g",{"$f":"0.0154*SBW/0.5","v":8.8704000000000001},{"$f":"NPg*(0.071/0.5)","v":30.66560096362856},{"$f":"Yn*1.23/0.5","v":0},{"$f":"CBW*(13.7/90)/0.5","v":0},{"$f":"SUM(CR89:CU89)","v":39.53600096362856},{"$f":"DMIreal*0.2*1000","v":1650.0725180890688},null,null,"Büyüme, Besi","İnekler",null,"Maksimum"]
[null,null,null,null,null,null,null,null,null,null,null,null,null,null,null,null,null,null,null,null,null,null,null,null,0,2.0401899680000002E-2,0,1,51.329648498372464,1.4285714285714286,"",0,0,0,0,0,0,0,0,0,0,0,0,0,0,0,0,0,0,0,0,0,0,0,0,0,0,0,0,0,0,0,0,0,0,0,0,0,0,0,0,0,0,0,0,0,0,0,null,0,0,0,0,0,0,0,0,0,0,"Yok","MilkProtein =",{"$f":"IF(AnimalType=\"Laktasyondaki İnek\",3.38,0)","v":0},"Sütteki protein oranı, %",null,"P, g",{"$f":"0.016*SBW/0.68","v":6.776470588235294},{"$f":"NPg*0.045/0.68","v":14.291135494648769},{"$f":"Yn*0.95/0.68","v":0},{"$f":"CBW*(7.6/90)/0.68","v":0},{"$f":"SUM(CR90:CU90)","v":21.067606082884062},{"$f":"DMIreal*0.1*1000","v":825.0362590445344},"Mineral/vitamin","Birim","Damızlık boğa","Gebelik","Laktasyon başı","tolerans"]
[null,null,null,null,null,null,null,null,null,null,null,null,null,null,null,null,null,null,null,null,null,null,null,null,0,2.0401899680000002E-2,0,1,51.329648498372464,1.4285714285714286,"",0,0,0,0,0,0,0,0,0,0,0,0,0,0,0,0,0,0,0,0,0,0,0,0,0,0,0,0,0,0,0,0,0,0,0,0,0,0,0,0,0,0,0,0,0,0,0,null,0,0,0,0,0,0,0,0,0,0,"Hafif (10-20 cm)","SNF =",{"$f":"IF(AnimalType=\"Laktasyondaki İnek\",8.31,0)","v":0},"Sütte yağsız katı maddeler, %",null,"Mg, g",null,{"$f":"IF(AND(CT91=0,CU91=0)=TRUE,CZ91*10*DMIreal,0)","v":8.2503625904453433},{"$f":"IF(AnimalType=\"Laktasyondaki İnek\",IF(SonDogumTarihi<90,DB91*10*DMIreal,0),0)","v":0},{"$f":"IF(OR(AnimalType=\"Damızlık Düve\",AnimalType=\"Kurudaki İnek\",AnimalType=\"Laktasyondaki İnek\")=TRUE,IF(DaysPreg>190,DA91*10*DMIreal,0),0)","v":0},{"$f":"SUM(CS91:CU91)","v":8.2503625904453433},{"$f":"DMIreal*DC91*10","v":33.001450361781373},"Mg","%",0.1,0.12,0.2,0.4]
[null,null,null,null,null,null,null,null,null,null,null,null,null,null,null,null,null,null,null,null,null,null,null,null,0,2.0401899680000002E-2,0,1,51.329648498372464,1.4285714285714286,"",0,0,0,0,0,0,0,0,0,0,0,0,0,0,0,0,0,0,0,0,0,0,0,0,0,0,0,0,0,0,0,0,0,0,0,0,0,0,0,0,0,0,0,0,0,0,0,null,"REAA","REAA","REAA","REAA","REAA","REAA","REAA","REAA","REAA","REAA","Çok (30-60 cm)","YEn=",{"$f":"IF(AnimalType=\"Laktasyondaki İnek\",EMilk*Yn,0)","v":0},"Mevcut laktasyon döneminde sütle günlük enerji salınımı, Mcal(NEm)/gün",null,"K, g",null,{"$f":"IF(AND(CT92=0,CU92=0)=TRUE,CZ92*10*DMIreal,0)","v":49.502175542672063},{"$f":"IF(AnimalType=\"Laktasyondaki İnek\",IF(SonDogumTarihi<90,DB92*10*DMIreal,0),0)","v":0},{"$f":"IF(OR(AnimalType=\"Damızlık Düve\",AnimalType=\"Kurudaki İnek\",AnimalType=\"Laktasyondaki İnek\")=TRUE,IF(DaysPreg>190,DA92*10*DMIreal,0),0)","v":0},{"$f":"SUM(CS92:CU92)","v":49.502175542672063},{"$f":"DMIreal*DC92*10","v":247.51087771336032},"K","%",0.6,0.6,0.7,3]
[null,null,null,null,null,null,null,null,null,null,null,null,null,null,null,null,null,null,null,null,null,null,null,null,null,null,null,null,null,null,null,null,null,null,null,null,null,null,null,null,null,null,null,null,null,null,null,null,null,null,null,null,null,null,null,null,null,null,null,null,null,null,null,null,null,null,null,null,null,null,null,null,null,null,null,null,null,null,null,{"$f":"SUM(CB95:CB121)","v":8.6115215531411167},{"$f":"SUM(CC95:CC121)","v":20.43208111504735},19.764313509917535,21.227329511522044,57.145895353144262,21.640156912385457,27.558433851179416,12.652107382272099,25.890281554091569,9.5145732504992857,null,"YFatn=",{"$f":"IF(AnimalType=\"Laktasyondaki İnek\",MilkFat/100*Yn,0)","v":0},"Mevcut laktasyon döneminde günlük süt yağı verimi, kg/gün",null,"Na, g",null,{"$f":"IF(AND(CT93=0,CU93=0)=TRUE,CZ93*10*DMIreal,0)","v":5.7752538133117408},{"$f":"IF(AnimalType=\"Laktasyondaki İnek\",IF(SonDogumTarihi<90,DB93*10*DMIreal,0),0)","v":0},{"$f":"IF(OR(AnimalType=\"Damızlık Düve\",AnimalType=\"Kurudaki İnek\",AnimalType=\"Laktasyondaki İnek\")=TRUE,IF(DaysPreg>190,DA93*10*DMIreal,0),0)","v":0},{"$f":"SUM(CS93:CU93)","v":5.7752538133117408},null,"Na","%",7.0000000000000007E-2,7.0000000000000007E-2,0.1]
[null,null,null,null,null,null,null,null,null,null,null,null,null,null,null,null,null,null,null,null,null,null,null,null,{"$f":"SUM(Y96:Y122)","v":2812.6628835407705},{"$f":"SUM(Z96:Z122)","v":264.322778610059},251.10663967955605,28.721682723042861,279.82832240259887,12.005690835995821,125.4023760987136,137.40806693470941,763.20520117614285,1510.015100635329,894.62922851681844,3167.8495303282903,217.55600313918171,{"$f":"SUM(AL96:AL122)","v":13.216138930502963},39.366341451539007,39.366341451539007,2.6454181455434238,1.5116675117390994,5.5427808763766917,{"$f":"SUM(AR96:AR122)","v":49.066207985198226},378.50365961742864,99.645663367813157,142.35094766830449,555.27806800367705,3170.494948473834,114.37346981005521,365.44973168386286,4205.5962179714288,4280.7633003931633,15.47658602097543,4.7260795908214464,-39.741276921847671,-25.248089114030769,474.63676222130829,4.7260795908214464,null,{"$f":"SUM(BI96:BI122)","v":7034.9748500963924},null,{"$f":"SUM(BK96:BK122)","v":894.62922851681833},null,{"$f":"SUM(BM96:BM122)","v":2004.492253673784},null,{"$f":"SUM(BO96:BO122)","v":3782.6010311152113},null,{"$f":"SUM(BQ96:BQ122)","v":353.25233679057942},null,{"$f":"SUM(BS96:BS122)","v":68.17708243333162},null,{"$f":"SUM(BU96:BU122)","v":20.601436302294641},null,{"$f":"SUM(BW96:BW122)","v":125.4023760987136},null,{"$f":"SUM(BY96:BY122)","v":60.140185659228166},null,{"$f":"SUM(CA96:CA122)","v":359.85444148070411},"MET, g","LİZ, g","ARJ, g","TRE, g","LÖY, g","İZOLÖY, g","VAL, g","HIS, g","FENAL, g","TRİP, g","Kirlilik","YProtn=",{"$f":"IF(AnimalType=\"Laktasyondaki İnek\",MilkProtein/100*Yn,0)","v":0},"Mevcut laktasyon döneminde günlük süt proteini verimi, kg/gün",null,"S, g",null,{"$f":"IF(AND(CT94=0,CU94=0)=TRUE,CZ94*10*DMIreal,0)","v":12.375543885668016},{"$f":"IF(AnimalType=\"Laktasyondaki İnek\",IF(SonDogumTarihi<90,DB94*10*DMIreal,0),0)","v":0},{"$f":"IF(OR(AnimalType=\"Damızlık Düve\",AnimalType=\"Kurudaki İnek\",AnimalType=\"Laktasyondaki İnek\")=TRUE,IF(DaysPreg>190,DA94*10*DMIreal,0),0)","v":0},{"$f":"SUM(CS94:CU94)","v":12.375543885668016},{"$f":"DMIreal*DC94*10","v":33.001450361781373},"S","%",0.15,0.15,0.15,0.4]
[null,null,null,null,null,null,null,null,null,null,null,null,null,null,null,null,null,null,null,null,null,null,null,null,"DIGCj","REFATj","DIGFFj","DIGBFj","DIGFj","FEPB3j","FEPCj","FEFPj","FECB1j","FECB2j","FECCj","FEFCj","FEFAj","FEFFj","FEBCWj","FEBCPj","FEBCj","FEBFj","FEBASHj","FEBACTj","FEENGPj","FEENGFj","FEENGAj","FEPROTj","FECHOj","FEFATj","FEASHj","FEDMj","TDNAPPj","MEaj","MECj","NEgaj","NEmaj","MPaj","REBAAj","CHO,%","CHO,g","CC,%","CC,g","CB2j, %","CB2j, g","CB1j,%","CB1j,g","CAj, %","CAj, g","PAj, %","PAj, g","PB1j, %","PB1j, g","PCj, %","PCj, g","PB3j, %","PB3j, g","PB2j, %","PB2j, g",{"$f":"IF(ISERROR(CB5+CB65)=TRUE,0,CB5+CB65)","v":0},0,0,0,0,0,0,0,0,0,"Kuru","TotalE=",{"$f":"IF(AnimalType=\"Laktasyondaki İnek\",EMilk*TotalY,0)","v":0},"Laktasyonda toplam enerji verimi, Mcal ",null,"Co, mg",null,{"$f":"IF(AND(CT95=0,CU95=0)=TRUE,CZ95*DMIreal,0)","v":0.82503625904453437},{"$f":"IF(AnimalType=\"Laktasyondaki İnek\",IF(SonDogumTarihi<90,DB95*DMIreal,0),0)","v":0},{"$f":"IF(OR(AnimalType=\"Damızlık Düve\",AnimalType=\"Kurudaki İnek\",AnimalType=\"Laktasyondaki İnek\")=TRUE,IF(DaysPreg>190,DA95*DMIreal,0),0)","v":0},{"$f":"SUM(CS95:CU95)","v":0.82503625904453437},{"$f":"DMIreal*DC95","v":82.503625904453429},"Co","mg/kg",0.1,0.1,0.1,10]
[null,null,null,null,null,null,null,null,null,null,null,null,null,null,null,null,null,null,null,null,null,null,null,null,{"$f":"IF(ISERROR(BY66+BZ66)=TRUE,0,BY66+BZ66)","v":0},{"$f":"IF(ISERROR(AQ5*Z36*10)=TRUE,0,AQ5*Z36*10)","v":0},{"$f":"IF(ISERROR(0.95*Z96)=TRUE,0,0.95*Z96)","v":0},{"$f":"IF(ISERROR(0.95*BP66)=TRUE,0,0.95*BP66)","v":0},{"$f":"IF(ISERROR(AA96+AB96)=TRUE,0,AA96+AB96)","v":0},{"$f":"IF(ISERROR((1-0.8)*AM66)=TRUE,0,(1-0.8)*AM66)","v":0},{"$f":"AN66","v":0},{"$f":"IF(ISERROR(AD96+AE96)=TRUE,0,AD96+AE96)","v":0},{"$f":"IF(ISERROR((1-stdig)*AS66)=TRUE,0,(1-stdig)*AS66)","v":0},{"$f":"IF(ISERROR((1-0.2)*AT66)=TRUE,0,(1-0.2)*AT66)","v":0},{"$f":"AU66","v":0},{"$f":"IF(ISERROR(AG96+AH96+AI96)=TRUE,0,AG96+AH96+AI96)","v":0},{"$f":"IF(ISERROR(AR5*10*Z36*(1-0.5))=TRUE,0,AR5*10*Z36*(1-0.5))","v":0},{"$f":"IF(ISERROR(Z96*(1-0.95))=TRUE,0,Z96*(1-0.95))","v":0},{"$f":"BM66","v":0},{"$f":"AM96","v":0},{"$f":"IF(ISERROR(BO66*(1-0.95))=TRUE,0,BO66*(1-0.95))","v":0},{"$f":"IF(ISERROR(BP66*(1-0.95))=TRUE,0,BP66*(1-0.95))","v":0},{"$f":"IF(ISERROR(BQ66*(1-0.5))=TRUE,0,BQ66*(1-0.5))","v":0},{"$f":"IF(ISERROR(AN96+AO96+AP96+AQ96)=TRUE,0,AN96+AO96+AP96+AQ96)","v":0},{"$f":"IF(ISERROR(0.09*AZ96)=TRUE,0,0.09*AZ96)","v":0},{"$f":"IF(ISERROR(0.0119*Z36*1000)=TRUE,0,0.0119*Z36*1000)","v":0},{"$f":"IF(ISERROR(0.017*Z36*1000)=TRUE,0,0.017*Z36*1000)","v":0},{"$f":"IF(ISERROR(AF96+AN96+AS96)=TRUE,0,AF96+AN96+AS96)","v":0},{"$f":"IF(ISERROR(AJ96+AO96)=TRUE,0,AJ96+AO96)","v":0},{"$f":"IF(ISERROR(AP96+AL96+AT96)=TRUE,0,AP96+AL96+AT96)","v":0},{"$f":"IF(ISERROR(AK96+AQ96+AU96)=TRUE,0,AK96+AQ96+AU96)","v":0},{"$f":"IF(ISERROR((AF96+AN96+AW96+AX96+AY96)/0.91)=TRUE,0,(AF96+AN96+AW96+AX96+AY96)/0.91)","v":0},{"$f":"IF(ISERROR((AI36-AV96)+(BI96-AW96)+(2.25*(AQ36-AX96)))=TRUE,0,(AI36-AV96)+(BI96-AW96)+(2.25*(AQ36-AX96)))","v":0},{"$f":"IF(ISERROR(0.001*BA96*4.409*0.82)=TRUE,0,0.001*BA96*4.409*0.82)","v":0},{"$f":"IF(ISERROR(BB96/Z36)=TRUE,0,BB96/Z36)","v":0},{"$f":"IF(ISERROR((1.42*BC96-0.174*BC96^2+0.0122*BC96^3-1.65))=TRUE,0,(1.42*BC96-0.174*BC96^2+0.0122*BC96^3-1.65))","v":-1.65},{"$f":"IF(ISERROR((1.37*BC96-0.138*BC96^2+0.0105*BC96^3-1.12))=TRUE,0,(1.37*BC96-0.138*BC96^2+0.0105*BC96^3-1.12))","v":-1.1200000000000001},{"$f":"IF(ISERROR(BX66-BW66)=TRUE,0,BX66-BW66)","v":0},{"$f":"IF(B5=0,0,IF(C5<=0,0,BC96))","v":0},{"$f":"IF(ISERROR(IF(A5=7,0,100-AI5-AQ5-AR5))=TRUE,0,IF(A5=7,0,100-AI5-AQ5-AR5))","v":100},{"$f":"IF(B5=0,0,IF(C5<=0,0,Z36*BH96*10))","v":0},{"$f":"IF(ISERROR(AA5*0.01*AB5*2.4)=TRUE,0,AA5*0.01*AB5*2.4)","v":0},{"$f":"IF(B5=0,0,IF(C5<=0,0,Z36*BJ96*10))","v":0},{"$f":"IF(ISERROR(AA5-(AN5*0.01*AI5)-BJ96)=TRUE,0,AA5-(AN5*0.01*AI5)-BJ96)","v":0},{"$f":"IF(ISERROR(BL96*Z36*10)=TRUE,0,BL96*Z36*10)","v":0},{"$f":"IF(ISERROR(AP5*AT36/100)=TRUE,0,AP5*AT36/100)","v":0},{"$f":"IF(ISERROR(BN96*Z36*10)=TRUE,0,BN96*Z36*10)","v":0},{"$f":"IF(ISERROR(AT36-BN96)=TRUE,0,AT36-BN96)","v":100},{"$f":"IF(ISERROR(BP96*Z36*10)=TRUE,0,BP96*Z36*10)","v":0},{"$f":"IF(ISERROR(AM5*0.0001*AL5*AI5)=TRUE,0,AM5*0.0001*AL5*AI5)","v":0},{"$f":"IF(ISERROR(BR96*Z36*10)=TRUE,0,BR96*Z36*10)","v":0},{"$f":"IF(ISERROR(AL5*AI5*0.01-BR96)=TRUE,0,AL5*AI5*0.01-BR96)","v":0},{"$f":"IF(ISERROR(BT96*Z36*10)=TRUE,0,BT96*Z36*10)","v":0},{"$f":"IF(ISERROR(AO5*AI5*0.01)=TRUE,0,AO5*AI5*0.01)","v":0},{"$f":"IF(ISERROR(BV96*Z36*10)=TRUE,0,BV96*Z36*10)","v":0},{"$f":"IF(ISERROR((AN5-AO5)*AI5*0.01)=TRUE,0,(AN5-AO5)*AI5*0.01)","v":0},{"$f":"IF(ISERROR(BX96*Z36*10)=TRUE,0,BX96*Z36*10)","v":0},{"$f":"IF(ISERROR(AI5-BR96-BT96-BX96-BV96)=TRUE,0,AI5-BR96-BT96-BX96-BV96)","v":0},{"$f":"IF(ISERROR(BZ96*Z36*10)=TRUE,0,BZ96*Z36*10)","v":0},{"$f":"IF(ISERROR(CB6+CB66)=TRUE,0,CB6+CB66)","v":1.2965195759431261},4.8415879203748178,4.590542543212436,4.3895373295382667,8.0665161735452955,4.4632251652234407,5.7749336386019543,1.6719131945215102,5.2128923216118412,5.8693280212111683,"Hayvanın aşağı kısımları biraz çamurlu","TotalFat=",{"$f":"IF(AnimalType=\"Laktasyondaki İnek\",MilkFat/100*TotalY,0)","v":0},"Laktasyonda toplam yağ verimi, kg ",null,"Cu, mg",null,82.503625904453429,0,0,{"$f":"SUM(CS96:CU96)","v":82.503625904453429},825.03625904453429,"Cu","mg/kg",10,10,10,100]
[null,null,null,null,null,null,null,null,null,null,null,null,null,null,null,null,null,null,null,null,null,null,null,null,594.20521009834351,67.430999999999997,64.059449999999998,3.8511923292193777,67.910642329219371,3.1175756386544635,{"$f":"AN67","v":101.50139999999999},104.61897563865445,94.696034405456473,1213.5100812233611,{"$f":"AU67","v":849.09825000000012},2157.3043656288178,133.08750000000001,3.3715500000000027,{"$f":"BM67","v":5.2784982582502433},{"$f":"AM97","v":5.2784982582502433},0.35471508295441667,0.20269433311680954,0.74321255476163428,6.5791202290831041,247.9972363018571,42.2331,60.333000000000006,357.8947101987618,2157.6590807117723,45.807344333116809,194.16371255476164,2755.5248477984123,748.49343433995296,2.7060881926439788,0.76249315092814285,-0.66301420989165849,-0.15096224599349173,31.978167908678142,{"$f":"IF(B6=0,0,IF(C6=0,0,BC97))","v":0.76249315092814285},86.199999999999989,3059.2379999999998,23.925000000000001,849.09825000000001,45.275000000000006,1606.8097500000001,16.999999999999982,603.32999999999936,0,0,0.83600000000000008,29.669640000000005,4.3999999999999928E-2,1.5615599999999974,2.86,101.50139999999999,0.44,15.615600000000001,0.2200000000000002,7.8078000000000074,{"$f":"IF(ISERROR(CB7+CB67)=TRUE,0,CB7+CB67)","v":0.68519411929129947},2.2142624669009692,2.5846870696758426,1.8412255233190062,3.416829420836522,2.1656635548921517,2.5529489080718779,1.1537692345749511,2.6599138835035752,0.6830424361664611,"Üzeri ıslak ve keçeleşmiş","Total Prot=",{"$f":"IF(AnimalType=\"Laktasyondaki İnek\",MilkProtein/100*TotalY,0)","v":0},"Laktasyonda toplam protein verimi, kg ",null,"I, mg",null,4.1251812952226716,0,0,4.1251812952226716,412.51812952226715,"I","mg/kg",0.5,0.5,0.5,50]
[null,null,null,null,null,null,null,null,null,null,null,null,null,null,null,null,null,null,null,null,null,null,null,null,99.2611922956429,7.6917786100589902,7.30718967955604,3.4075057059042937,10.714695385460335,0.27920872366250815,2.3409760987136061,2.6201848223761144,26.071295805510516,49.021804482222734,23.259938516818391,98.353038804551645,6.6885031391817309,0.38458893050294984,4.6703751451539119,4.6703751451539119,0.31384920975434316,0.17934240557391037,0.65758882043767075,5.8211555809198359,12.217485987064274,3.9796593678131296,5.6852276683044716,19.508045954594301,98.666888014305982,4.5435907038899899,13.031319627923875,135.74984430071416,202.26486089064403,0.73126433276681657,2.1866307529498421,0.75061174536514619,1.3256353586384528,42.256195337265609,2.1866307529498421,79.7,266.53685009639196,6.9552000000000005,23.259938516818387,19.924799999999998,66.633543673784061,47.538000000000011,158.97903111521057,5.2819999999999965,17.66433679057894,0.69020000000000004,2.3082024333316156,1.6898,5.6511163022946445,0.70000000000000007,2.3409760987136061,0.42,1.4045856592281634,10.5,35.114641480704087,{"$f":"IF(ISERROR(CB8+CB68)=TRUE,0,CB8+CB68)","v":6.629807857906691},13.376230727771564,12.589083897029255,14.996566658664772,45.662549758762445,15.011268192269863,19.230551304505582,9.8264249531756391,18.017475348976152,2.9622027931216564,"Islak ve kar veya çamurla kaplı","MPlact=",{"$f":"IF(AnimalType=\"Laktasyondaki İnek\",(YProtn/0.65)*1000,0)","v":0},"Süt verimi için MP ihtiyacı, g/gün",null,"Fe, mg",null,412.51812952226715,0,0,412.51812952226715,8250.3625904453438,"Fe","mg/kg",50,50,50,1000]
[null,null,null,null,null,null,null,null,null,null,null,null,null,null,null,null,null,null,null,null,null,null,null,null,2119.1964811467842,189.20000000000002,179.74,21.462984687919189,201.20298468791918,8.6089064736788501,21.560000000000002,30.168906473678852,642.43787096517588,247.4832149297452,22.271040000000003,912.19212589492111,35.200000000000003,9.4600000000000097,29.417468048134854,29.417468048134854,1.976853852834664,1.1296307730483794,4.1419795011773868,36.665932175195287,113.82002946037535,52.360000000000014,74.800000000000011,173.40640398218906,914.16897974775577,62.949630773048405,114.1419795011774,1264.6669940041706,3336.8879470306974,12.064117945935841,2.7418449877126911,1.1868090141459873,1.8153133758099576,400.40239897536452,2.7418449877126911,84.300000000000011,3709.2000000000007,0.50616000000000005,22.271040000000006,7.523839999999999,331.04895999999997,68.643000000000015,3020.2920000000013,7.6270000000000095,335.58800000000048,0.82271000000000005,36.199240000000003,0.30428999999999995,13.38876,0.49,21.560000000000002,0.98,43.120000000000005,7.2029999999999994,316.93200000000002,{"$f":"IF(ISERROR(CB9+CB69)=TRUE,0,CB9+CB69)","v":0},0,0,0,0,0,0,0,0,0,null,"Gebelik",null,null,null,"Mn, mg",null,165.00725180890686,0,0,165.00725180890686,8250.3625904453438,"Mn","mg/kg",20,40,40,1000]
[null,null,null,null,null,null,null,null,null,null,null,null,null,null,null,null,null,null,null,null,null,null,null,null,0,0,0,0,0,0,0,0,0,0,0,0,0,0,0,0,0,0,0,0,0,0,0,0,0,0,0,0,0,0,0,-1.65,-1.1200000000000001,0,0,100,0,0,0,0,0,0,0,100,0,0,0,0,0,0,0,0,0,0,0,{"$f":"IF(ISERROR(CB10+CB70)=TRUE,0,CB10+CB70)","v":0},0,0,0,0,0,0,0,0,0,null,"NEm_req=",{"$f":"IF(DaysPreg>0,CBW*(km/0.13)*(0.05855-0.0000996*DaysPreg)*EXP((0.03233-0.0000275*DaysPreg)*DaysPreg),0)","v":0},"kcal/gün",null,"Se, mg",null,0.82503625904453437,0,0,0.82503625904453437,16.500725180890687,"Se","mg/kg",0.1,0.1,0.1,2]
[null,null,null,null,null,null,null,null,null,null,null,null,null,null,null,null,null,null,null,null,null,null,null,null,0,0,0,0,0,0,0,0,0,0,0,0,0,0,0,0,0,0,0,0,0,0,0,0,0,0,0,0,0,0,0,-1.65,-1.1200000000000001,0,0,100,0,0,0,0,0,0,0,100,0,0,0,0,0,0,0,0,0,0,0,{"$f":"IF(ISERROR(CB11+CB71)=TRUE,0,CB11+CB71)","v":0},0,0,0,0,0,0,0,0,0,null,"Ypn=",{"$f":"IF(DaysPreg>0,((CBW*(0.001669-(0.00000211*DaysPreg))*EXP((0.0278-0.0000176*DaysPreg)*DaysPreg)))*6.25,0)","v":0},"g/gün    Gebelik olarak alıkonulan net protein",null,"Zn, mg",null,247.51087771336029,0,0,247.51087771336029,4125.1812952226719,"Zn","mg/kg",30,30,30,500]
[null,null,null,null,null,null,null,null,null,null,null,null,null,null,null,null,null,null,null,null,null,null,null,null,0,0,0,0,0,0,0,0,0,0,0,0,9.7000000000000011,0,0,0,0,0,0,0,1.0147905494505496,0.23086000000000001,0.32980000000000004,1.0147905494505496,0,0.23086000000000001,10.029800000000002,11.27545054945055,-1.5342255494505497,-5.5468083669725282E-3,-0.2859179570604396,-2.0705129956862836,-1.5232343960191386,0,-0.2859179570604396,0,0,0,0,0,0,0,0,0,0,0,0,0,0,0,0,0,0,0,0,{"$f":"IF(ISERROR(CB12+CB72)=TRUE,0,CB12+CB72)","v":0},0,0,0,0,0,0,0,0,0,null,"MPpreg=",{"$f":"IF(DaysPreg>0,Ypn/0.65,0)","v":0},"g/gün",null,"VitA, IU",null,18150.797698979753,0,0,{"$f":"SUM(CS102:CU102)","v":18150.797698979753},null,"VitA","IU/kg",2200,2800,3900]
[null,null,null,null,null,null,null,null,null,null,null,null,null,null,null,null,null,null,null,null,null,null,null,null,0,0,0,0,0,0,0,0,0,0,0,0,30.38,0,0,0,0,0,0,0,3.1782821538461539,0.72304399999999991,1.0329199999999998,3.1782821538461539,0,0.72304399999999991,31.41292,35.314246153846156,-4.8051311538461539,-1.7372375070992308E-2,-0.2859179570604396,-2.0705129956862836,-1.5232343960191386,0,-0.2859179570604396,0,0,0,0,0,0,0,0,0,0,0,0,0,0,0,0,0,0,0,0,{"$f":"IF(ISERROR(CB13+CB73)=TRUE,0,CB13+CB73)","v":0},0,0,0,0,0,0,0,0,0,null,"Enerji ve protein depolarını hesaplamak için",null,"CS, vücut ağırlığı ve kompozisyonu kullanılır.",null,"VitD, IU",null,2268.8497123724692,0,0,{"$f":"SUM(CS103:CU103)","v":2268.8497123724692},null,"VitD","IU/kg",275,275,275]
[null,null,null,null,null,null,null,null,null,null,null,null,null,null,null,null,null,null,null,null,null,null,null,null,0,0,0,0,0,0,0,0,0,0,0,0,2.5,0,0,0,0,0,0,0,0.26154395604395603,5.9500000000000004E-2,8.5000000000000006E-2,0.26154395604395603,0,5.9500000000000004E-2,2.585,2.9060439560439559,-0.39541895604395605,-1.4295897853021978E-3,-0.28591795706043954,-2.0705129956862836,-1.5232343960191383,0,-0.28591795706043954,0,0,0,0,0,0,0,0,0,0,0,0,0,0,0,0,0,0,0,0,{"$f":"IF(ISERROR(CB14+CB74)=TRUE,0,CB14+CB74)","v":0},0,0,0,0,0,0,0,0,0,null,"1) Mevcut CS için vücut kompozisyonu hesabı:"]
[null,null,null,null,null,null,null,null,null,null,null,null,null,null,null,null,null,null,null,null,null,null,null,null,0,0,0,0,0,0,0,0,0,0,0,0,0,0,0,0,0,0,0,0,1.4291208791208793E-2,5.9500000000000004E-2,8.5000000000000006E-2,1.4291208791208793E-2,0,5.9500000000000004E-2,8.5000000000000006E-2,0.15879120879120881,-0.14816620879120881,-5.3567714793956048E-4,-0.1071354295879121,-1.8041444844083134,-1.2683724144282573,0,-0.1071354295879121,0,0,0,0,0,0,0,0,0,0,0,0,0,0,0,0,0,0,0,0,{"$f":"IF(ISERROR(CB15+CB75)=TRUE,0,CB15+CB75)","v":0},0,0,0,0,0,0,0,0,0,"Sıcaklık Stresi","AF=",{"$f":"0.037683*CS","v":0.188415},"Boş (empty) vücut yağı oranı",null,"Aminoasit İhtiyaçları"]
[null,null,null,null,null,null,null,null,null,null,null,null,null,null,null,null,null,null,null,null,null,null,null,null,0,0,0,0,0,0,0,0,0,0,0,0,0,0,0,0,0,0,0,0,0,0,0,0,0,0,0,0,0,0,0,-1.65,-1.1200000000000001,0,0,100,0,0,0,0,0,0,0,100,0,0,0,0,0,0,0,0,0,0,0,{"$f":"IF(ISERROR(CB16+CB76)=TRUE,0,CB16+CB76)","v":0},0,0,0,0,0,0,0,0,0,"Normal","AP=",{"$f":"0.200886-0.0066762*CS","v":0.16750500000000001},"Boş (empty) vücut proteini oranı",null,null,"Maint","Growth","Lact","Preg","Total"]
[null,null,null,null,null,null,null,null,null,null,null,null,null,null,null,null,null,null,null,null,null,null,null,null,0,0,0,0,0,0,0,0,0,0,0,0,0,0,0,0,0,0,0,0,0,0,0,0,0,0,0,0,0,0,0,-1.65,-1.1200000000000001,0,0,100,0,0,0,0,0,0,0,100,0,0,0,0,0,0,0,0,0,0,0,{"$f":"IF(ISERROR(CB17+CB77)=TRUE,0,CB17+CB77)","v":0},0,0,0,0,0,0,0,0,0,"Yüzeysel hızlı soluma","AW=",{"$f":"0.766637-0.034506*CS","v":0.59410699999999994},"Boş (empty) vücut suyu oranı",null,null,"MPAA","RPAA","LPAA","MPAA"]
[null,null,null,null,null,null,null,null,null,null,null,null,null,null,null,null,null,null,null,null,null,null,null,null,0,0,0,0,0,0,0,0,0,0,0,0,0,0,0,0,0,0,0,0,0,0,0,0,0,0,0,0,0,0,0,-1.65,-1.1200000000000001,0,0,100,0,0,0,0,0,0,0,100,0,0,0,0,0,0,0,0,0,0,0,{"$f":"IF(ISERROR(CB18+CB78)=TRUE,0,CB18+CB78)","v":0},0,0,0,0,0,0,0,0,0,"Ağzı açık soluma","AA=",{"$f":"0.078982-0.00438*CS","v":5.7081999999999994E-2},"Boş (empty) vücut külü oranı",null,"Metionin",{"$f":"VLOOKUP(CQ108,CQ121:CR130,2,FALSE)*0.01*MPmaint","v":5.3132219495649471},{"$f":"VLOOKUP(CQ108,CQ121:CS130,2,FALSE)*RPN/EAAGi","v":0.48498477675782858},{"$f":"VLOOKUP(CQ108,CQ121:CS130,3,FALSE)*0.01*YProtn/VLOOKUP(CQ108,CT121:CV130,3,FALSE)","v":0},{"$f":"VLOOKUP(CQ108,CQ121:CR130,2,FALSE)*0.01*Ypn/VLOOKUP(CQ108,CT121:CV130,2,FALSE)","v":0},{"$f":"SUM(CR108:CU108)","v":5.7982067263227757}]
[null,null,null,null,null,null,null,null,null,null,null,null,null,null,null,null,null,null,null,null,null,null,null,null,0,0,0,0,0,0,0,0,0,0,0,0,0,0,0,0,0,0,0,0,0,0,0,0,0,0,0,0,0,0,0,-1.65,-1.1200000000000001,0,0,100,0,0,0,0,0,0,0,100,0,0,0,0,0,0,0,0,0,0,0,{"$f":"IF(ISERROR(CB19+CB79)=TRUE,0,CB19+CB79)","v":0},0,0,0,0,0,0,0,0,0,null,"G_EBW=",{"$f":"0.851*SBW","v":245.08799999999999},"Empty body weight, kg",null,"Lizin",{"$f":"VLOOKUP(CQ109,CQ121:CR130,2,FALSE)*0.01*MPmaint","v":17.002310238607834},{"$f":"VLOOKUP(CQ109,CQ121:CS130,2,FALSE)*RPN/EAAGi","v":1.5519512856250517},{"$f":"VLOOKUP(CQ109,CQ121:CS130,3,FALSE)*0.01*YProtn/VLOOKUP(CQ109,CT121:CV130,3,FALSE)","v":0},{"$f":"VLOOKUP(CQ109,CQ121:CR130,2,FALSE)*0.01*Ypn/VLOOKUP(CQ109,CT121:CV130,2,FALSE)","v":0},{"$f":"SUM(CR109:CU109)","v":18.554261524232885}]
[null,null,null,null,null,null,null,null,null,null,null,null,null,null,null,null,null,null,null,null,null,null,null,null,0,0,0,0,0,0,0,0,0,0,0,0,0,0,0,0,0,0,0,0,0,0,0,0,0,0,0,0,0,0,0,-1.65,-1.1200000000000001,0,0,100,0,0,0,0,0,0,0,100,0,0,0,0,0,0,0,0,0,0,0,{"$f":"IF(ISERROR(CB20+CB80)=TRUE,0,CB20+CB80)","v":0},0,0,0,0,0,0,0,0,0,"Merada otluyor mu?","TA=",{"$f":"AA*G_EBW","v":13.990113215999997},"Toplam kül, kg",null,"Histidin",{"$f":"VLOOKUP(CQ110,CQ121:CR130,2,FALSE)*0.01*MPmaint","v":6.641527436956185},{"$f":"VLOOKUP(CQ110,CQ121:CS130,2,FALSE)*RPN/EAAGi","v":0.60623097094728584},{"$f":"VLOOKUP(CQ110,CQ121:CS130,3,FALSE)*0.01*YProtn/VLOOKUP(CQ110,CT121:CV130,3,FALSE)","v":0},{"$f":"VLOOKUP(CQ110,CQ121:CR130,2,FALSE)*0.01*Ypn/VLOOKUP(CQ110,CT121:CV130,2,FALSE)","v":0},7.2477584079034711]
[null,null,null,null,null,null,null,null,null,null,null,null,null,null,null,null,null,null,null,null,null,null,null,null,0,0,0,0,0,0,0,0,0,0,0,0,0,0,0,0,0,0,0,0,0,0,0,0,0,0,0,0,0,0,0,-1.65,-1.1200000000000001,0,0,100,0,0,0,0,0,0,0,100,0,0,0,0,0,0,0,0,0,0,0,{"$f":"IF(ISERROR(CB21+CB81)=TRUE,0,CB21+CB81)","v":0},0,0,0,0,0,0,0,0,0,"Otluyor","2) CS= 1 kül, yağ, protein kompozisyonu:",null,null,null,"Fenilalanin",{"$f":"VLOOKUP(CQ111,CQ121:CR130,2,FALSE)*0.01*MPmaint","v":9.298138411738659},{"$f":"VLOOKUP(CQ111,CQ121:CS130,2,FALSE)*RPN/EAAGi","v":0.84872335932620002},{"$f":"VLOOKUP(CQ111,CQ121:CS130,3,FALSE)*0.01*YProtn/VLOOKUP(CQ111,CT121:CV130,3,FALSE)","v":0},{"$f":"VLOOKUP(CQ111,CQ121:CR130,2,FALSE)*0.01*Ypn/VLOOKUP(CQ111,CT121:CV130,2,FALSE)","v":0},10.146861771064859]
[null,null,null,null,null,null,null,null,null,null,null,null,null,null,null,null,null,null,null,null,null,null,null,null,0,0,0,0,0,0,0,0,0,0,0,0,0,0,0,0,0,0,0,0,0,0,0,0,0,0,0,0,0,0,0,-1.65,-1.1200000000000001,0,0,100,0,0,0,0,0,0,0,100,0,0,0,0,0,0,0,0,0,0,0,{"$f":"IF(ISERROR(CB22+CB82)=TRUE,0,CB22+CB82)","v":0},0,0,0,0,0,0,0,0,0,"Otlamıyor","AA1=",7.4602000000000002E-2,"Empty vücut külü oranı @ CS=1",null,"Triptofan",{"$f":"VLOOKUP(CQ112,CQ121:CR130,2,FALSE)*0.01*MPmaint","v":1.5939665848694842},{"$f":"VLOOKUP(CQ112,CQ121:CS130,2,FALSE)*RPN/EAAGi","v":0.14549543302734858},{"$f":"VLOOKUP(CQ112,CQ121:CS130,3,FALSE)*0.01*YProtn/VLOOKUP(CQ112,CT121:CV130,3,FALSE)","v":0},{"$f":"VLOOKUP(CQ112,CQ121:CR130,2,FALSE)*0.01*Ypn/VLOOKUP(CQ112,CT121:CV130,2,FALSE)","v":0},1.7394620178968327]
[null,null,null,null,null,null,null,null,null,null,null,null,null,null,null,null,null,null,null,null,null,null,null,null,0,0,0,0,0,0,0,0,0,0,0,0,0,0,0,0,0,0,0,0,0,0,0,0,0,0,0,0,0,0,0,-1.65,-1.1200000000000001,0,0,100,0,0,0,0,0,0,0,100,0,0,0,0,0,0,0,0,0,0,0,{"$f":"IF(ISERROR(CB23+CB83)=TRUE,0,CB23+CB83)","v":0},0,0,0,0,0,0,0,0,0,null,"AF1=",3.7683000000000001E-2,"Empty vücut yağı oranı @ CS=1",null,"Treonin",{"$f":"VLOOKUP(CQ113,CQ121:CR130,2,FALSE)*0.01*MPmaint","v":10.360782801651647},{"$f":"VLOOKUP(CQ113,CQ121:CS130,2,FALSE)*RPN/EAAGi","v":0.94572031467776574},{"$f":"VLOOKUP(CQ113,CQ121:CS130,3,FALSE)*0.01*YProtn/VLOOKUP(CQ113,CT121:CV130,3,FALSE)","v":0},{"$f":"VLOOKUP(CQ113,CQ121:CR130,2,FALSE)*0.01*Ypn/VLOOKUP(CQ113,CT121:CV130,2,FALSE)","v":0},11.306503116329413]
[null,null,null,null,null,null,null,null,null,null,null,null,null,null,null,null,null,null,null,null,null,null,null,null,0,0,0,0,0,0,0,0,0,0,0,0,0,0,0,0,0,0,0,0,0,0,0,0,0,0,0,0,0,0,0,-1.65,-1.1200000000000001,0,0,100,0,0,0,0,0,0,0,100,0,0,0,0,0,0,0,0,0,0,0,{"$f":"IF(ISERROR(CB24+CB84)=TRUE,0,CB24+CB84)","v":0},0,0,0,0,0,0,0,0,0,"Arazinin durumu","AP1=",0.19420799999999999,"Empty vücut proteini oranı @ CS=1",null,"Löysin",{"$f":"VLOOKUP(CQ114,CQ121:CR130,2,FALSE)*0.01*MPmaint","v":17.799293531042576},{"$f":"VLOOKUP(CQ114,CQ121:CS130,2,FALSE)*RPN/EAAGi","v":1.624699002138726},{"$f":"VLOOKUP(CQ114,CQ121:CS130,3,FALSE)*0.01*YProtn/VLOOKUP(CQ114,CT121:CV130,3,FALSE)","v":0},{"$f":"VLOOKUP(CQ114,CQ121:CR130,2,FALSE)*0.01*Ypn/VLOOKUP(CQ114,CT121:CV130,2,FALSE)","v":0},19.423992533181302]
[null,null,null,null,null,null,null,null,null,null,null,null,null,null,null,null,null,null,null,null,null,null,null,null,0,0,0,0,0,0,0,0,0,0,0,0,0,0,0,0,0,0,0,0,0,0,0,0,0,0,0,0,0,0,0,-1.65,-1.1200000000000001,0,0,100,0,0,0,0,0,0,0,100,0,0,0,0,0,0,0,0,0,0,0,{"$f":"IF(ISERROR(CB25+CB85)=TRUE,0,CB25+CB85)","v":0},0,0,0,0,0,0,0,0,0,"Düz","3) Kül miktarının CS'nu, EBW'i ve CS 1'de vücut kütlesini değiştirmediği farzedilirse:",null,null,null,"İzolöysin",{"$f":"VLOOKUP(CQ115,CQ121:CR130,2,FALSE)*0.01*MPmaint","v":7.4385107293909254},{"$f":"VLOOKUP(CQ115,CQ121:CS130,2,FALSE)*RPN/EAAGi","v":0.67897868746096002},{"$f":"VLOOKUP(CQ115,CQ121:CS130,3,FALSE)*0.01*YProtn/VLOOKUP(CQ115,CT121:CV130,3,FALSE)","v":0},{"$f":"VLOOKUP(CQ115,CQ121:CR130,2,FALSE)*0.01*Ypn/VLOOKUP(CQ115,CT121:CV130,2,FALSE)","v":0},8.1174894168518854]
[null,null,null,null,null,null,null,null,null,null,null,null,null,null,null,null,null,null,null,null,null,null,null,null,0,0,0,0,0,0,0,0,0,0,0,0,0,0,0,0,0,0,0,0,0,0,0,0,0,0,0,0,0,0,0,-1.65,-1.1200000000000001,0,0,100,0,0,0,0,0,0,0,100,0,0,0,0,0,0,0,0,0,0,0,{"$f":"IF(ISERROR(CB26+CB86)=TRUE,0,CB26+CB86)","v":0},0,0,0,0,0,0,0,0,0,"Engebeli","EBW1=",{"$f":"TA/AAbir","v":187.53000209109672},"CS=1'de hesaplanan EBW, kg",null,"Valin",{"$f":"VLOOKUP(CQ116,CQ121:CR130,2,FALSE)*0.01*MPmaint","v":10.626443899129894},{"$f":"VLOOKUP(CQ116,CQ121:CS130,2,FALSE)*RPN/EAAGi","v":0.96996955351565717},{"$f":"VLOOKUP(CQ116,CQ121:CS130,3,FALSE)*0.01*YProtn/VLOOKUP(CQ116,CT121:CV130,3,FALSE)","v":0},{"$f":"VLOOKUP(CQ116,CQ121:CR130,2,FALSE)*0.01*Ypn/VLOOKUP(CQ116,CT121:CV130,2,FALSE)","v":0},11.596413452645551]
[null,null,null,null,null,null,null,null,null,null,null,null,null,null,null,null,null,null,null,null,null,null,null,null,0,0,0,0,0,0,0,0,0,0,0,0,0,0,0,0,0,0,0,0,0,0,0,0,0,0,0,0,0,0,0,-1.65,-1.1200000000000001,0,0,100,0,0,0,0,0,0,0,100,0,0,0,0,0,0,0,0,0,0,0,{"$f":"IF(ISERROR(CB27+CB87)=TRUE,0,CB27+CB87)","v":0},0,0,0,0,0,0,0,0,0,"Tepelik","TF=",{"$f":"AF*G_EBW","v":46.17825552},"Toplam vücut yağı, kg",null,"Arjinin",{"$f":"VLOOKUP(CQ117,CQ121:CR130,2,FALSE)*0.01*MPmaint","v":8.7668162167821642},{"$f":"VLOOKUP(CQ117,CQ121:CS130,2,FALSE)*RPN/EAAGi","v":0.80022488165041716},{"$f":"VLOOKUP(CQ117,CQ121:CS130,3,FALSE)*0.01*YProtn/VLOOKUP(CQ117,CT121:CV130,3,FALSE)","v":0},{"$f":"VLOOKUP(CQ117,CQ121:CR130,2,FALSE)*0.01*Ypn/VLOOKUP(CQ117,CT121:CV130,2,FALSE)","v":0},9.5670410984325809]
[null,null,null,null,null,null,null,null,null,null,null,null,null,null,null,null,null,null,null,null,null,null,null,null,0,0,0,0,0,0,0,0,0,0,0,0,0,0,0,0,0,0,0,0,0,0,0,0,0,0,0,0,0,0,0,-1.65,-1.1200000000000001,0,0,100,0,0,0,0,0,0,0,100,0,0,0,0,0,0,0,0,0,0,0,{"$f":"IF(ISERROR(CB28+CB88)=TRUE,0,CB28+CB88)","v":0},0,0,0,0,0,0,0,0,0,null,"TP=",{"$f":"AP*G_EBW","v":41.053465440000004},"Toplam vücut proteini, kg"]
[null,null,null,null,null,null,null,null,null,null,null,null,null,null,null,null,null,null,null,null,null,null,null,null,0,0,0,0,0,0,0,0,0,0,0,0,0,0,0,0,0,0,0,0,0,0,0,0,0,0,0,0,0,0,0,-1.65,-1.1200000000000001,0,0,100,0,0,0,0,0,0,0,100,0,0,0,0,0,0,0,0,0,0,0,{"$f":"IF(ISERROR(CB29+CB89)=TRUE,0,CB29+CB89)","v":0},0,0,0,0,0,0,0,0,0,null,"TF1=",{"$f":"_EBW1*AFbir","v":7.0666930687987977},"Toplam vücut yağı @ CS=1, kg",null,"Tablo 10-5 Doku ve süt proteininin amino asit kompozisyonu, g/100 g protein",null,null,"Tablo 10-6 Emilen amino asitlerin fizyolojik fonksiyonlardaki kullanımları (g/g)"]
[null,null,null,null,null,null,null,null,null,null,null,null,null,null,null,null,null,null,null,null,null,null,null,null,0,0,0,0,0,0,0,0,0,0,0,0,0,0,0,0,0,0,0,0,0,0,0,0,0,0,0,0,0,0,0,-1.65,-1.1200000000000001,0,0,100,0,0,0,0,0,0,0,100,0,0,0,0,0,0,0,0,0,0,0,{"$f":"IF(ISERROR(CB30+CB90)=TRUE,0,CB30+CB90)","v":0},0,0,0,0,0,0,0,0,0,null,"TP1=",{"$f":"_EBW1*APbir","v":36.419826646107708},"Toplam vücut proteini @ CS=1, kg",null,"Amino a.","Doku","Süt","Amino a.","Gebelik","Laktasyon"]
[null,null,null,null,null,null,null,null,null,null,null,null,null,null,null,null,null,null,null,null,null,null,null,null,0,0,0,0,0,0,0,0,0,0,0,0,0,0,0,0,0,0,0,0,0,0,0,0,0,0,0,0,0,0,0,-1.65,-1.1200000000000001,0,0,100,0,0,0,0,0,0,0,100,0,0,0,0,0,0,0,0,0,0,0,{"$f":"IF(ISERROR(CB31+CB91)=TRUE,0,CB31+CB91)","v":0},0,0,0,0,0,0,0,0,0,null,"4) Mobilize edilebilir enerji ve protein hesabı:",null,null,null,"Metionin",2,2.71,"Metionin",0.85,0.98]
[null,null,null,null,null,null,null,null,null,null,null,null,null,null,null,null,null,null,null,null,null,null,null,null,0,0,0,0,0,0,0,0,0,0,0,0,0,0,0,0,0,0,0,0,0,0,0,0,0,0,0,0,0,0,0,-1.65,-1.1200000000000001,0,0,100,0,0,0,0,0,0,0,100,0,0,0,0,0,0,0,0,0,0,0,"DIGFAA","DIGFAA","DIGFAA","DIGFAA","DIGFAA","DIGFAA","DIGFAA","DIGFAA","DIGFAA","DIGFAA",null,"FM=",{"$f":"(TF-TFbir)","v":39.111562451201202},"Mobilize edilebilir yağ, kg",null,"Lizin",6.4,7.62,"Lizin",0.85,0.88]
[null,null,null,null,null,null,null,null,null,null,null,null,null,null,null,null,null,null,null,null,null,null,null,null,null,null,null,null,null,null,null,null,null,null,null,null,null,null,null,null,null,null,null,null,null,null,null,null,null,null,null,null,null,null,null,null,null,null,null,null,null,null,null,null,null,null,null,null,null,null,null,null,null,null,null,null,null,null,null,{"$f":"SUM(CB125:CB151)","v":4.074623889795757},6.9413263546617232,8.0484195550880262,10.758869660741009,38.568227773721915,10.635153308929684,14.622190103706178,7.6979705747272211,14.452207904073093,2.4803974208009931,null,"PM=",{"$f":"(TP-TPbir)","v":4.6336387938922954},"Mobilize edilebilir protein, kg",null,"Histidin",2.5,2.74,"Histidin",0.85,0.9]
[null,null,null,null,null,null,null,null,null,null,null,null,null,null,null,null,null,null,null,null,null,null,null,"YEMLER","en az","en çok","KM %Yem","NDF %KM","Lignin %NDF","Effekt. %NDF","HS,%","TDN %KM","ME,Mcal/kg","NEm,Mcal/kg","NEg,Mcal/kg","HP,%","DIP %HP","UIP %HP","SoIP %HP","NPN %SoIP","NDFIP %HP","ADFIP %HP","Nişasta %NSC","HY %KM","HK %KM","A kd %/sa©","B1 kd %/sa©","B2 kd %/sa©","B1 kd %/sa(p)","B2 kd %/sa(p)","B3 kd %/sa(p)","MET %UIP","LİZ %UIP","ARJ %UIP","TRE %UIP","LÖY %UIP","İZOLÖY %UIP","VAL %UIP","HIS %UIP","FENAL %UIP","TRİP %UIP","Ca %KM","P %KM","Mg %KM","Cl %KM","K %KM","Na %KM","S %KM","Co mg/kg","Cu mg/kg","I mg/kg","Fe mg/kg","Mn mg/kg","Se mg/kg","Zn mg/kg","Vit A 1000 IU/kg","Vit D 1000 IU/kg","Vit E IU/kg","FİYAT,TL","MET, g","LİZ, g","ARJ, g","TRE, g","LÖY, g","İZOLÖY, g","VAL, g","HIS, g","FENAL, g","TRİP, g","Yem Hammaddeleri","ER=",{"$f":"9.4*FM+5.7*PM","v":394.06042816647744},"Enerji depoları, Mcal",null,"Fenilalanin",3.5,4.75,"Fenilalanin",0.85,1]
[null,null,null,null,null,null,null,null,null,null,null,null,null,null,null,null,null,null,null,null,null,null,null,"SULU KABA YEMLER",null,null,null,null,null,null,null,null,null,null,null,null,null,null,null,null,null,null,null,null,null,null,null,null,null,null,null,null,null,null,null,null,null,null,null,null,null,null,null,null,null,null,null,null,null,null,null,null,null,null,null,null,null,null,null,{"$f":"IF(ISERROR(AY5*0.01*(AK66+AL66+0.8*AM66))=TRUE,0,AY5*0.01*(AK66+AL66+0.8*AM66))","v":0},{"$f":"IF(ISERROR(AZ5*0.01*(AK66+AL66+0.8*AM66))=TRUE,0,AZ5*0.01*(AK66+AL66+0.8*AM66))","v":0},{"$f":"IF(ISERROR(BA5*0.01*(AK66+AL66+0.8*AM66))=TRUE,0,BA5*0.01*(AK66+AL66+0.8*AM66))","v":0},{"$f":"IF(ISERROR(BB5*0.01*(AK66+AL66+0.8*AM66))=TRUE,0,BB5*0.01*(AK66+AL66+0.8*AM66))","v":0},{"$f":"IF(ISERROR(BC5*0.01*(AK66+AL66+0.8*AM66))=TRUE,0,BC5*0.01*(AK66+AL66+0.8*AM66))","v":0},{"$f":"IF(ISERROR(BD5*0.01*(AK66+AL66+0.8*AM66))=TRUE,0,BD5*0.01*(AK66+AL66+0.8*AM66))","v":0},{"$f":"IF(ISERROR(BE5*0.01*(AK66+AL66+0.8*AM66))=TRUE,0,BE5*0.01*(AK66+AL66+0.8*AM66))","v":0},{"$f":"IF(ISERROR(BF5*0.01*(AK66+AL66+0.8*AM66))=TRUE,0,BF5*0.01*(AK66+AL66+0.8*AM66))","v":0},{"$f":"IF(ISERROR(BG5*0.01*(AK66+AL66+0.8*AM66))=TRUE,0,BG5*0.01*(AK66+AL66+0.8*AM66))","v":0},{"$f":"IF(ISERROR(BH5*0.01*(AK66+AL66+0.8*AM66))=TRUE,0,BH5*0.01*(AK66+AL66+0.8*AM66))","v":0},"Sulu Kaba Yemler","5) Sonraki CS'na ulaşmak için enerji ve protein kazancını veya kaybını hesap etmek için EBW, AF ve AP kullanılır:",null,null,null,"Triptofan",0.6,1.51,"Triptofan",0.85,0.85]
[null,null,null,null,null,null,null,null,null,null,null,null,null,null,null,null,null,null,null,null,null,null,null,"AGRİTOM",0,3,11.9,41.93,19.23,65,0,77,2.69,1.76,1.01,20.5,86,14,70,100,7.7,6.1,90,2.94,3.36,10,50,4,300,10,0.5,1.73,3.65,1.73,3.94,6.35,3.65,5.48,1.83,3.94,1.35,0.16,0.3,0.25,0.72,0.6,0.21,0.22,0.72,6,0,121,21,0.12,21,0,0,0,15,0.12937547299547963,0.54646655011523482,0.54646655011523482,0.54646655011523482,1.0601064876793778,0.54646655011523482,0.73956427100401034,0.19309772088877555,0.67584202311071451,0.86893974399948992,"Kuru Kaba Yemler","EBWN=",{"$f":"TA/AAN","v":265.45696967857003},"Sonraki skorda EBW",null,"Treonin",3.9,3.72,"Treonin",0.85,0.83]
[null,null,null,null,null,null,null,null,null,null,null,null,null,null,null,null,null,null,null,null,null,null,null,"AK TAVUS OTU (RED TOP), YAŞ",0,5,29,64,12.5,41,0,63,2.2799999999999998,1.41,0.83,11.6,87,13,42,4.8,24,2.2000000000000002,5,3.9,8,350,25,9,200,14,2,0.67,2.83,2.83,2.83,5.49,2.83,3.83,1,3.5,4.5,0.62,0.37,0.25,0,2.35,0.05,0.16,0,0,0,200,0,0,0,254.4,0,0,15,0.25148308941005942,0.95315195615911386,1.4995843479636874,0.97798979215023096,2.1205302477416117,1.2170539635647317,1.5151079954581357,0.71098305524572347,1.738648519378188,0.39119591686009236,"Enerji Kaynakları","AAN =",{"$f":"0.078982-0.00438*(CS+1)","v":5.2701999999999999E-2},"Sonraki skorda kül oranı",null,"Löysin",6.7,9.18,"Löysin",0.66,0.72]
[null,null,null,null,null,null,null,null,null,null,null,null,null,null,null,null,null,null,null,null,null,null,null,"ARPA ÇİMİ",0,10,16.07,35.71,14.18,65,30,72.680000000000007,2.65,1.79,1.1499999999999999,20.64,72,28,70,100,3.94,1.3,90,3.41,2.91,10,50,4,"300","10",0.5,1.73,3.65,1.73,3.94,6.35,3.65,5.48,1.83,3.94,1.35,0.52,0.28999999999999998,0.19,0,2.57,0.12,0.24,0.72,7.7,0,375,44.8,0.15,24.5,0,0,0,15,3.693765327390218,5.4417078483873746,6.0023686570091037,9.2344133184755428,35.387591038300926,8.8716327952497185,12.367517837244032,6.7938897985927218,12.037717361584191,1.2202617599414112,"Protein Kaynakları","ERcs=",{"$f":"CN124-CN126","v":128.6034584879074},"1 CS değişimi için gerekli enerji, Mcal",{"$f":"NEmsup","v":12.692086540374309},"İzolöysin",2.8,5.79,"İzolöysin",0.66,0.62]
[null,null,null,null,null,null,null,null,null,null,null,null,null,null,null,null,null,null,null,null,null,null,null,"ARPA SİLAJI",0,5,39,56.8,5.44,65,30,60,2.17,1.31,0.74,11.9,86,14,70,100,7.7,6.1,100,2.92,8.3000000000000007,10,50,4,300,10,0.5,1.73,3.65,1.73,3.94,6.35,3.65,5.48,1.83,3.94,1.35,0.52,0.28999999999999998,0.19,0,2.57,0.12,0.24,0.72,7.7,0,375,44.8,0.15,24.5,0,0,0,3.5,0,0,0,0,0,0,0,0,0,0,"Yan Ürünler","DaysToChange=",{"$f":"IF(NEmsup-NEmtotal>0,ERcs/(NEmsup-NEmtotal),IF(NEmsup-NEmtotal<0,(ERcs*0.8)/(NEmsup-NEmtotal),0))","v":19.293101319197159},"1 CS değişimi için gerekli zaman, gün",{"$f":"NEmtotal","v":6.0263122638486637},"Valin",4,5.89,"Valin",0.66,0.72]
[null,null,null,null,null,null,null,null,null,null,null,null,null,null,null,null,null,null,null,null,null,null,null,"BAKLA OTU, HASAT SONRASI",0,5,19.399999999999999,43.4,8.6999999999999993,81,0,60,1.93,1.08,0.51,17,75,25,26,92,21.659081885746346,9.2631226782089158,64,2.5,9.1,250,30,5.5,150,9,1.25,0.73,6.02,6.39,5,9.26,6.01,7.14,2.62,6.32,1.84,1.19,0.24,0.27,0,1.56,7.0000000000000007E-2,0.3,0.23,9.9,0.13,160,42.3,0.55000000000000004,26.1,19.3,1,0,8,0,0,0,0,0,0,0,0,0,0,"Karma Yemler","AF, AP, TF ve TP sonraki CS için adım 1 ve 3' deki gibi, FM, PM ve ER sonraki ve mevcut skorlar arasındaki fark olarak hesaplanır.",null,null,null,"Arjinin",3.3,3.4,"Arjinin",0.66,0.85]
[null,null,null,null,null,null,null,null,null,null,null,null,null,null,null,null,null,null,null,null,null,null,null,"BEZELYE SİLAJI",0,5,25,55,23.4,61,0,58,2.1,1.3,0.6,16,91,9,45,100,32,18,10,3.3,8,10,25,5.5,"150","11",1.75,1.22,3.21,2.44,3.3,6.4,3.13,0,0.63,4.18,1.84,1.25,0.28000000000000003,0.33,0.41,1.6,0.16,0.28999999999999998,0,11.1,0,280,49.7,0,32,155,0,0,5.5,0,0,0,0,0,0,0,0,0,0,"Vitamin-Mineral Kaynakları","Mobilizasyon esnasında 1 Mcal RE, 0,80 Mcal rasyon NEm'i yerine geçer; yeniden dolma esnasında 1 Mcal rasyon NEm'i 1 Mcal RE sağlar. "]
[null,null,null,null,null,null,null,null,null,null,null,null,null,null,null,null,null,null,null,null,null,null,null,"BUĞDAY SİLAJI, HAMUR",0,5,35,60.7,14.81,61,0,57,2.06,1.21,0.64,12.5,81,19,45,100,27,8,100,2.5,7.5,10,50,6,300,14,0.2,0.98,3,4.33,2.82,13.64,3.98,4.5,2.23,4.84,1.06,0.44,0.28999999999999998,0.17,0,2.2400000000000002,0.04,0.21,0,9,0,386,79.5,0,28,59,0,0,4,0,0,0,0,0,0,0,0,0,0,null,"KURU MADDE TÜKETİMİ TAHMİNİ"]
[null,null,null,null,null,null,null,null,null,null,null,null,null,null,null,null,null,null,null,null,null,null,null,"BUĞDAYGİL MERASI, İLKBAHAR",0,5,23,47.9,6,41,0,74,2.68,1.76,1.1399999999999999,21.3,94,6,41,2.44,14.5,2,8,4,10.4,350,40,9,200,12,2,0.67,2.83,2.83,2.83,5.49,2.83,3.83,1,3.5,4.5,0.55000000000000004,0.45,0.32,0,3.16,0,0.2,0,0,0,0,0,0,21,184,0,0,6,0,0,0,0,0,0,0,0,0,0,"Yem silmek için sütun listesi","BI =",{"$f":"IF(Breed=\"Siyah Alaca\",1.08,1)","v":1.08},"DMI için Tablo 10-1'teki ırk düzeltme faktörü, BE olarak önceden bulundu…."]
[null,null,null,null,null,null,null,null,null,null,null,null,null,null,null,null,null,null,null,null,null,null,null,"BUĞDAYGİL MERASI, SONBAHAR",0,5,24,67,6.5,41,0,53,1.92,1.07,0.52,22,93,7,43,2.33,16.399999999999999,2,8,3.7,10,350,45,7,200,12,2,0.67,2.83,2.83,2.83,5.49,2.83,3.83,1,3.5,4.5,0,0,0,0,0,0,0,0,0,0,0,0,0,0,0,0,0,6,0,0,0,0,0,0,0,0,0,0,"Y","BFAF =",{"$f":"IF(EBW<=350,1,IF(EBW<=400,0.97,IF(EBW<=450,0.9,IF(EBW<=500,0.82,0.73))))","v":1},"Vücut yağına göre düzeltme faktörü (Tablo 10-4)"]
[null,null,null,null,null,null,null,null,null,null,null,null,null,null,null,null,null,null,null,null,null,null,null,"BUĞDAYGİL MERASI, YAZ",0,5,25,55,7,41,0,67,2.42,1.54,0.94,15,90,10,42,4.76,24,2.2000000000000002,8,3.7,9,350,40,9,200,10,2,0.67,2.83,2.83,2.83,5.49,2.83,3.83,1,3.5,4.5,0,0,0,0,0,0,0,0,0,0,0,0,0,0,0,0,0,6,0,0,0,0,0,0,0,0,0,0,"Z","DMI_ADTV =",0.94,"DMI için Tablo 10-4'teki yem katkısı düzeltme faktörü"]
[null,null,null,null,null,null,null,null,null,null,null,null,null,null,null,null,null,null,null,null,null,null,null,"ÇAVDAR SİLAJI,KÖRPE",0,5,15,53,8,41,0,60,2.08,1.37,0.79,16.100000000000001,81,19,45,100,27,8,6,2.5,7.5,10,50,6,300,14,0.2,0.98,3,4.33,2.82,13.64,3.98,4.5,2.23,4.84,1.06,0.44,0.28999999999999998,0.17,0,2.2400000000000002,0.04,0.21,0,9,0,386,79.5,0,28,59,0,0,3,0,0,0,0,0,0,0,0,0,0,"AA","TEMP1 =",{"$f":"IF(Tc<-15,1.16,IF(Tc>35,IF(GeceSerinleme=\"Hayır\",0.65,0.9),  -0.000006*Tc^3+0.00015*Tc^2-0.0026*Tc+1.0573  ))","v":1.0172999999999999},"DMI için Tablo 10-4'teki çevre sıcaklığı düzeltme faktörü,  Bütün sığır tipleri için kullanılır.",{"$f":"IF(Tc<-15,1.16,IF(Tc<-5,1.07,IF(Tc<5,1.05,IF(Tc<15,1.03,IF(Tc<25,1,IF(Tc<35,0.9,IF(AND(GeceSerinleme=\"Evet\",Tc>=35)=TRUE,0.9,0.65)))))))","v":1}]
[null,null,null,null,null,null,null,null,null,null,null,null,null,null,null,null,null,null,null,null,null,null,null,"ÇAYIR (MEADOW) OTU, İLKBAHAR",0,5,15,53,8,41,0,44.8,1.62,0.78,0.25,20.3,94,6,60,5,2,1,0,3,10,250,30,9,135,40,6,0.67,2.83,2.83,2.83,5.49,2.83,3.83,1,3.5,4.5,0.26,0.15,0,0,0,0,0,0.24,0,0,0,0,0,0,37.200000000000003,0,0,6,0,0,0,0,0,0,0,0,0,0,"AB","MUD1 =",{"$f":"IF(CamurMiktar=\"Yok\",1,IF(CamurMiktar=\"Hafif (10-20 cm)\",0.85,0.7))","v":1},"DMI için Tablo 10-4'teki çamur düzeltme faktörü,  Bütün sığır tipleri için kullanılır."]
[null,null,null,null,null,null,null,null,null,null,null,null,null,null,null,null,null,null,null,null,null,null,null,"ÇAYIR (MEADOW) OTU, SONBAHAR",0,5,20,52,8,41,0,51.9,1.88,1.03,0.48,13.4,92,8,60,5,2,1,0,3,10,250,30,7,135,40,6,0.67,2.83,2.83,2.83,5.49,2.83,3.83,1,3.5,4.5,0.26,0.15,0,0,0,0,0,0.24,0,0,0,0,0,0,37.200000000000003,0,0,6,0,0,0,0,0,0,0,0,0,0,"AC","DMI_NEma =",{"$f":"IF(NEma<1,0.95,NEma)","v":1.6271250000000002}]
[null,null,null,null,null,null,null,null,null,null,null,null,null,null,null,null,null,null,null,null,null,null,null,"ÇAYIR OTU (NAPIERGRASS) YAŞ, 30 GÜNLÜK",0,5,20,70,14.29,41,0,55,1.99,1.1399999999999999,0.57999999999999996,8.6999999999999993,83,17,46,2.2000000000000002,10,2.2000000000000002,8,3,9,250,30,3,135,11,0.09,0.67,2.83,2.83,2.83,5.49,2.83,3.83,1,3.5,4.5,0.6,0.41,0.26,0,1.31,0.01,0.1,0,0,0,0,0,0,0,0,0,0,6,0,0,0,0,0,0,0,0,0,0,"AD","DMIcalf =",{"$f":"((SBW^0.75*(0.2435*DMI_NEma-0.0466*DMI_NEma^2-0.1128))/DMI_NEma)*(BFAF*BI*DMI_ADTV*TEMP1*_MUD1)","v":7.1010878392961638},"kg/gün Buzağılar için"]
[null,null,null,null,null,null,null,null,null,null,null,null,null,null,null,null,null,null,null,null,null,null,null,"ÇAYIR OTU (NAPIERGRASS) YAŞ, 60 GÜNLÜK",0,5,23,75,18.670000000000002,41,0,53,1.92,1.07,0.52,7.8,81,19,46,2.2000000000000002,10,2.2000000000000002,8,1,6,250,30,3,135,11,0.09,0.67,2.83,2.83,2.83,5.49,2.83,3.83,1,3.5,4.5,0.6,0.41,0.26,0,1.31,0.01,0.1,0,0,0,0,0,0,0,0,0,0,6,0,0,0,0,0,0,0,0,0,0,"AE","DMIyearling =",{"$f":"IF(BW<500,((SBW^0.75*(0.2435*DMI_NEma-0.0466*DMI_NEma^2-0.0869))/DMI_NEma)*(BFAF*BI*DMI_ADTV*TEMP1*_MUD1), DMreqYearling)","v":8.2503625904453433},"kg/gün Bir yaşındakiler için"]
[null,null,null,null,null,null,null,null,null,null,null,null,null,null,null,null,null,null,null,null,null,null,null,"ÇAYIR SİLAJI, KÖRPE <%55 NDF",0,5,36.200000000000003,51,4.8,41,0,60.4,2.1,1.39,0.81,16.8,80.900000000000006,19.100000000000001,46,100,4.3,1.1000000000000001,8,3.2,10.25,250,30,3,135,11,0.09,0.67,2.83,2.83,2.83,5.49,2.83,3.83,1,3.5,4.5,0.6,0.41,0.26,0,1.31,0.01,0.1,0,0,0,0,0,0,0,0,0,0,3,0,0,0,0,0,0,0,0,0,0,"AF","DMInonpreg =",{"$f":"((SBW^0.75*(0.04997*DMI_NEma^2+0.0384)/DMI_NEma)*TEMP1*_MUD1+0.2*Yn)","v":7.4610388684179574},"kg/gün Gebe olmayan İnekler için"]
[null,null,null,null,null,null,null,null,null,null,null,null,null,null,null,null,null,null,null,null,null,null,null,"ÇAYIR SİLAJI, OLGUN >%60 NDF",0,5,38.700000000000003,66.599999999999994,7.4,41,0,53.2,1.75,1.1100000000000001,0.55000000000000004,12.7,67.099999999999994,32.9,46,100,3.2,1.4,8,3.2,10.25,250,30,3,135,11,0.09,0.67,2.83,2.83,2.83,5.49,2.83,3.83,1,3.5,4.5,0.6,0.41,0.26,0,1.31,0.01,0.1,0,0,0,0,0,0,0,0,0,0,3,0,0,0,0,0,0,0,0,0,0,"AG","DMIpreg =",{"$f":"((SBW^0.75*(0.04997*DMI_NEma^2+0.04631)/DMI_NEma)*TEMP1*_MUD1+0.2*Yn)","v":7.8067783496008882},"kg/gün  Gebe İnekler için (gebeliğin son 2/3'si)"]
[null,null,null,null,null,null,null,null,null,null,null,null,null,null,null,null,null,null,null,null,null,null,null,"KARIŞIK MERA, İLKBAHAR",0,5,21,41.5,7,41,0,79,2.86,1.91,1.27,26,94,6,43,2.33,12.4,2.1,50,3.2,10.25,350,45,9,200,14,2,0.7,4.43,4.6100000000000003,3.92,7.38,4.42,5.49,1.81,4.91,3.17,0,0,0,0,0,0,0,0,0,0,0,0,0,0,0,0,0,6,0,0,0,0,0,0,0,0,0,0,"AH","DMIreal =",{"$f":"IF(AnimalType=\"Buzağı\",DMIcalf,IF(OR(AnimalType=\"Besi Sığırı\",AnimalType=\"Kastre Erkek\")=TRUE,DMIyearling,IF(AnimalType=\"Damızlık Düve\",IF(DaysPreg>95,DMIpreg,DMIyearling),IF(OR(AnimalType=\"Laktasyondaki İnek\",AnimalType=\"Kurudaki İnek\")=TRUE,IF(DaysPreg>95,DMIpreg,DMInonpreg),DMInonpreg))))","v":8.2503625904453433}]
[null,null,null,null,null,null,null,null,null,null,null,null,null,null,null,null,null,null,null,null,null,null,null,"KARIŞIK MERA, YAZ",0,5,22,46.5,7.8,41,0,67,2.42,1.54,0.94,19.5,92,8,44,3.41,12.5,2.6,48,3.2,9.4,350,45,9,200,14,2,0.7,4.43,4.6100000000000003,3.92,7.38,4.42,5.49,1.81,4.91,3.17,0,0,0,0,0,0,0,0,0,0,0,0,0,0,0,0,0,6,0,0,0,0,0,0,0,0,0,0,"AI","Merada otlayan hayvanlar için","ot miktarına oranla","DMI düzenlemesi"]
[null,null,null,null,null,null,null,null,null,null,null,null,null,null,null,null,null,null,null,null,null,null,null,"MERA (LEG PASTURE), İLKBAHAR",0,5,20,33,8,41,0,79,2.86,1.91,1.27,28,95,5,46,2.17,10,2.15,8,2.7,10,350,45,9,200,20,2,0.73,6.02,6.39,5,9.26,6.01,7.14,2.62,6.32,1.84,1.71,0.3,0.36,0,2.27,0.21,0.36,0.17,10.7,0,111,41,0.55000000000000004,30,253,2,26,6,0,0,0,0,0,0,0,0,0,0,"AJ","pI=",{"$f":"IF(Otlama=\"Otluyor\",GRAZE*DMIreal,0)","v":0},"Otlama durumlarında DMIreal tahmini için düzeltme, kg"]
[null,null,null,null,null,null,null,null,null,null,null,null,null,null,null,null,null,null,null,null,null,null,null,"MERA (LEG PASTURE), YAZ",0,5,21,38,8.5,41,0,66,2.39,1.51,0.91,22.2,94,6,46,2.17,12,3,8,2.9,10.199999999999999,350,45,9,200,18,2,0.73,6.02,6.39,5,9.26,6.01,7.14,2.62,6.32,1.84,1.71,0.3,0.36,0,2.27,0.21,0.36,0.17,10.7,0,111,41,0.55000000000000004,30,253,2,26,6,0,0,0,0,0,0,0,0,0,0,"AK","FA=",{"$f":"IF(Otlama=\"Otluyor\",1000*GU*IPM/(SBW*GrazeN*DOP),0)","v":0},"Günlük ot toleransı, g/kg SBW/gün"]
[null,null,null,null,null,null,null,null,null,null,null,null,null,null,null,null,null,null,null,null,null,null,null,"MISIR SİLAJI, %23-26 KM",0,5,25.02,55.78,8.2899999999999991,81,0,60.14,2.0099999999999998,1.19,0.62,7.26,69.2,30.8,55,100,25.41,11.41,100,3.32,6.63,10,25,6,300,10,0.2,0.8,2.13,1.87,2.13,6.4,2.4,3.2,1.07,2.94,0.11,0.31,0.27,0.22,0.18,1.22,0.03,0.12,9.7000000000000003E-2,9.1999999999999993,0,180,41.1,0,21.2,58.1,0,0,2.5,0,0,0,0,0,0,0,0,0,0,"AL","GRAZE=",{"$f":"IF(Otlama=\"Otluyor\",IF(OR(FA>DMIreal*1000*4,IPM>1150)=TRUE,1,((0.17*IPM)-(0.000074*IPM^2)+2.4)/100),0)","v":0},"Otlama varsa ot varlığı faktörü, %"]
[null,null,null,null,null,null,null,null,null,null,null,null,null,null,null,null,null,null,null,null,null,null,null,"MISIR SİLAJI, %26-29 KM",0,5,27.73,52.96,9.26,81,0,62.17,2.08,1.26,0.68,7.2,70,30,55,100,22.53,8.83,100,3.55,5.75,10,25,5,300,10,0.2,0.8,2.13,1.87,2.13,6.4,2.4,3.2,1.07,2.94,0.11,0.31,0.27,0.22,0.18,1.22,0.03,0.12,9.7000000000000003E-2,9.1999999999999993,0,180,41.1,0,21.2,58.1,0,0,2.5,0,0,0,0,0,0,0,0,0,0,"AM","IPM =",{"$f":"pAVAIL*0.15*1000","v":0},"Başlangıç mera miktarı (kg KM/ha)"]
[null,null,null,null,null,null,null,null,null,null,null,null,null,null,null,null,null,null,null,null,null,null,null,"MISIR SİLAJI, %29-33 KM",0,5,31.29,52.92,9.4700000000000006,81,0,60.99,2.04,1.22,0.64,7.22,70.2,29.8,50,100,22.05,10.17,100,3.43,5.8,10,30,6,300,10,0.2,0.8,2.13,1.87,2.13,6.4,2.4,3.2,1.07,2.94,0.11,0.31,0.27,0.22,0.18,1.22,0.03,0.12,9.7000000000000003E-2,9.1999999999999993,0,180,41.1,0,21.2,58.1,0,0,2.5,0,0,0,0,0,0,0,0,0,0,"AN","BESİN MADDELERİNİN SAĞLANMASI                                                               Besin madde miktarları DMIreal yerine TotalDMFed'den hesaplanmalıdır."]
[null,null,null,null,null,null,null,null,null,null,null,null,null,null,null,null,null,null,null,null,null,null,null,"MISIR SİLAJI, %33-40 KM",0,5,35.479999999999997,51.58,9.59,81,0,60.87,2.0299999999999998,1.22,0.64,7.29,66.2,33.799999999999997,50,100,21.48,9.2799999999999994,100,3.5,5.83,10,30,6,300,10,0.2,0.8,2.13,1.87,2.13,6.4,2.4,3.2,1.07,2.94,0.11,0.31,0.27,0.22,0.18,1.22,0.03,0.12,9.7000000000000003E-2,9.1999999999999993,0,180,41.1,0,21.2,58.1,0,0,2.5,0,0,0,0,0,0,0,0,0,0,"AO","SEVİYE BİR"]
[null,null,null,null,null,null,null,null,null,null,null,null,null,null,null,null,null,null,null,null,null,null,null,"OTLAK (RANGE), AĞUSTOS",0,5,20,63.7,8,41,0,59.4,2.15,1.29,0.72,9.6999999999999993,66,34,42,5,24,2,0,3,10,250,30,7,135,10,0.75,0.67,2.83,2.83,2.83,5.49,2.83,3.83,1,3.5,4.5,0.26,0.15,0,0,0,0,0,0.24,0,0,0,0,0,0,37.200000000000003,0,0,6,0,0,0,0,0,0,0,0,0,0,"AP","NDF =",{"$f":"AA33/TotalDMFed*100","v":36.838032767660494}]
[null,null,null,null,null,null,null,null,null,null,null,null,null,null,null,null,null,null,null,null,null,null,null,"OTLAK (RANGE), EYLÜL",0,5,20,66.599999999999994,9,41,0,57.3,2.0699999999999998,1.22,0.65,6.9,67,33,42,5,24,2,0,3,10,250,30,7,135,12,0.75,0.67,2.83,2.83,2.83,5.49,2.83,3.83,1,3.5,4.5,0.26,0.15,0,0,0,0,0,0.24,0,0,0,0,0,0,37.200000000000003,0,0,6,"AAA","AAA","AAA","AAA","AAA","AAA","AAA","AAA","AAA","AAA","AQ","eNDF =",{"$f":"AC33/TotalDMFed*100","v":34.103221277557935}]
[null,null,null,null,null,null,null,null,null,null,null,null,null,null,null,null,null,null,null,null,null,null,null,"OTLAK (RANGE), HAZİRAN",0,5,20,65.599999999999994,5,41,0,64.900000000000006,2.35,1.47,0.88,11,72,28,42,5,24,2,0,3,10,250,30,7,135,12,3,0.67,2.83,2.83,2.83,5.49,2.83,3.83,1,3.5,4.5,0.26,0.15,0,0,0,0,0,0.24,0,0,0,0,0,0,37.200000000000003,0,0,6,{"$f":"SUM(CB155:CB181)","v":6.606666971958747},14.688622352324598,14.624173231153103,16.040258029879482,45.663617156947303,16.00157297560348,20.442110023901705,10.239461578838579,19.327335629431687,4.0204086983851992,"AR","MPfeed=",{"$f":"UIPintake*0.8","v":296.46113273351347}]
[null,null,null,null,null,null,null,null,null,null,null,null,null,null,null,null,null,null,null,null,null,null,null,"OTLAK (RANGE), KIŞ",0,5,80,66.099999999999994,11,41,0,50.5,1.83,0.99,0.44,4.7,63,37,42,5,24,2,0,3,10,250,30,7,135,10,0.2,0.67,2.83,2.83,2.83,5.49,2.83,3.83,1,3.5,4.5,0.26,0.15,0,0,0,0,0,0.24,0,0,0,0,0,0,37.200000000000003,0,0,6,"MET, g","LİZ, g","ARJ, g","TRE, g","LÖY, g","İZOLÖY, g","VAL, g","HIS, g","FENAL, g","TRİP, g","AS","MCP=",{"$f":"0.13*TDN*eNDFadj","v":721.38395821160464},"Mikrobiyel ham protein, g/gün"]
[null,null,null,null,null,null,null,null,null,null,null,null,null,null,null,null,null,null,null,null,null,null,null,"OTLAK (RANGE), TEMMUZ",0,5,20,67.7,5.5,41,0,62.3,2.25,1.39,0.81,10.5,70,30,42,5,24,2,0,3,10,250,30,7,135,12,2,0.67,2.83,2.83,2.83,5.49,2.83,3.83,1,3.5,4.5,0.26,0.15,0,0,0,0,0,0.24,0,0,0,0,0,0,37.200000000000003,0,0,6,{"$f":"IF(ISERROR(CB35+CB125)=TRUE,0,CB35+CB125)","v":0},0,0,0,0,0,0,0,0,0,"AT","eNDFadj=",{"$f":"IF(eNDF>20,1,1-((20-eNDF)*0.025))","v":1}]
[null,null,null,null,null,null,null,null,null,null,null,null,null,null,null,null,null,null,null,null,null,null,null,"PARLAK YALANCI DARI (BAHIAGRASS), YAŞ",0,5,30,68,10.29,41,30.4,54,1.95,1.1100000000000001,0.55000000000000004,8.9,83,17,41,2.4,14.5,2,5,2.1,10,250,30,3,135,11,0.09,0.67,2.83,2.83,2.83,5.49,2.83,3.83,1,3.5,4.5,0.46,0.22,0.25,0,1.45,0,0,0,0,0,0,0,0,0,304.2,0,0,6,{"$f":"IF(ISERROR(CB36+CB126)=TRUE,0,CB36+CB126)","v":0.46888848096613533},1.5852750073388826,1.4281868991733555,1.2546298764420873,2.0115030137464016,1.266031432679908,1.5199374535037264,0.53387756844141132,1.3295312474124246,1.0754345958622396,"AU","TDN=",{"$f":"TDN","v":5549.1073708584972},"Toplam sindirilebilir besin maddeleri, g/gün"]
[null,null,null,null,null,null,null,null,null,null,null,null,null,null,null,null,null,null,null,null,null,null,null,"SORGUM SİLAJI",0,5,30,60.8,9.375,81,0,60,2.17,1.31,0.74,9.39,73,27,45,100,50,5,100,2.64,5.9,10,20,5,300,8,0.2,0.75,3.61,7.07,2.2599999999999998,4.29,3.01,2.78,1.35,2.78,0.75,0.49,0.22,0.28000000000000003,0.13,1.72,0.01,0.12,0.3,9.1999999999999993,0,383,68.5,0.03,32,0,0,0,5,{"$f":"IF(ISERROR(CB37+CB127)=TRUE,0,CB37+CB127)","v":0.5518816187463591},1.8722817847254039,2.279723812210197,1.6045673216240799,2.9623186639041528,1.853719503352113,2.20557625691769,1.01250247461686,2.3170277773540486,0.57390099253851345,"AV","MPbact=",{"$f":"MCP*0.64","v":461.68573325542695}]
[null,null,null,null,null,null,null,null,null,null,null,null,null,null,null,null,null,null,null,null,null,null,null,"SORGUM-SUDAN OTU SİLAJI",0,5,28,68,7.04,41,0,55,1.99,1.1399999999999999,0.57999999999999996,10.8,72,28,50,90,40,11,100,2.8,9.8000000000000007,10,20,5,175,12,1.5,0.67,2.83,2.83,2.83,5.49,2.83,3.83,1,3.5,4.5,0.5,0.21,0.42,0,2.61,0.02,0.06,0.27,36.6,0,120,98.8,0,0,175.4,0,0,5,{"$f":"IF(ISERROR(CB38+CB128)=TRUE,0,CB38+CB128)","v":5.5858968722462521},11.231065560260312,10.91626251976955,13.181060831813316,40.689795479296748,12.88182203957146,16.716596313480288,8.6930815357803084,15.680776604665212,2.3710731099844464,"AW","MPtotal=",{"$f":"MPbact+MPfeed","v":758.14686598894036}]
[null,null,null,null,null,null,null,null,null,null,null,null,null,null,null,null,null,null,null,null,null,null,null,"SORGUM-SUDAN OTU, YAŞ",0,5,18,55,5.45,41,0,65,2.35,1.47,0.88,16.8,88,12,45,11.11,30,5,90,3.9,9,300,20,9,200,14,2,0.67,2.83,2.83,2.83,5.49,2.83,3.83,1,3.5,4.5,0.49,0.44,0.35,0,2.14,0,0.11,0.13,35.9,0,210,81.400000000000006,0,0,304.60000000000002,0,0,5,{"$f":"IF(ISERROR(CB39+CB129)=TRUE,0,CB39+CB129)","v":0},0,0,0,0,0,0,0,0,0,"AX","SEVİYE İKİ","YAŞAMA PAYI AMİNO ASİT İHTİYAÇLARI"]
[null,null,null,null,null,null,null,null,null,null,null,null,null,null,null,null,null,null,null,null,null,null,null,"ŞEYTAN OTU (PANGOLAGRASS), YAŞ",0,5,21,70,11.4,41,0,55,1.99,1.1399999999999999,0.57999999999999996,9.1,84,16,42,4.8,24,2.2000000000000002,5,2.2999999999999998,7.6,250,30,3,135,11,0.09,0.67,2.83,2.83,2.83,5.49,2.83,3.83,1,3.5,4.5,0.38,0.22,0.18,0,1.43,0,0,0,0,0,0,0,0,0,0,0,0,5,{"$f":"IF(ISERROR(CB40+CB130)=TRUE,0,CB40+CB130)","v":0},0,0,0,0,0,0,0,0,0,"AY","RPN =",{"$f":"PB*0.01*EBG","v":0.13130159695927898},"Büyüme için net protein ihtiyacı, g/gün"]
[null,null,null,null,null,null,null,null,null,null,null,null,null,null,null,null,null,null,null,null,null,null,null,"YERFISTIĞI OTU, HASAT SONRASI",0,5,18,60,4.3,98,0,60,2.02,1.33,0.75,15,70,30,25,92,21.02053313340874,7.8604205518261523,64,2.5526495842329253,8.1664840330743669,250,30,5.5,150,9,1.25,0.73,6.02,6.39,5,9.26,6.01,7.14,2.62,6.32,1.84,1.18,0.21,0.22,0,2.0699999999999998,0.08,0.25,0.41,13.7,0,170,38.5,0.55000000000000004,22.1,19.3,1,0,5,{"$f":"IF(ISERROR(CB41+CB131)=TRUE,0,CB41+CB131)","v":0},0,0,0,0,0,0,0,0,0,"AZ","PB =",{"$f":"100*aaRP","v":9.5378310204032282},"EBG'de protein içeriği, g/100 g     (Tablo 3-1)???"]
[null,null,null,null,null,null,null,null,null,null,null,null,null,null,null,null,null,null,null,null,null,null,null,"YONCA SİLAJI, ÇİÇ.BAŞI",0,5,35,43,23.26,82,0,63,2.2799999999999998,1.41,0.83,19,92,8,50,100,27,15,10,3.2,9.5,10,25,5.5,150,11,1.75,1.22,3.21,2.44,3.3,6.4,3.13,0,0.63,4.18,1.84,1.32,0.31,0.26,0,2.85,0.02,0.28000000000000003,0.65,12.1,0.16,252,32.4,0.18,19.5,155,0,0,4,{"$f":"IF(ISERROR(CB42+CB132)=TRUE,0,CB42+CB132)","v":0},0,0,0,0,0,0,0,0,0,"BA","aaRP =",{"$f":"0.248-0.0264*aaRE","v":9.5378310204032285E-2},"Ağırlık artışında alıkonulan protein oranı, Eq. 3-3"]
[null,null,null,null,null,null,null,null,null,null,null,null,null,null,null,null,null,null,null,null,null,null,null,"YONCA SİLAJI, ÇİÇ.ORTASI",0,5,38,47,23.4,82,0,58,2.1,1.24,0.68,17,91,9,45,100,32,18,10,3.1,9,10,25,5.5,150,11,1.75,1.22,3.21,2.44,3.3,6.4,3.13,0,0.63,4.18,1.84,1.74,0.27,0.33,0.41,2.35,0.16,0.31,0,11.1,0,280,49.7,0,40.700000000000003,155,0,0,4,{"$f":"IF(ISERROR(CB43+CB133)=TRUE,0,CB43+CB133)","v":0},0,0,0,0,0,0,0,0,0,"BB","aaRE =",{"$f":"0.0635*EBW^0.75*EBG^1.097","v":5.7811246134836258},"Eq. 3-1"]
[null,null,null,null,null,null,null,null,null,null,null,null,null,null,null,null,null,null,null,null,null,null,null,"YONCA SİLAJI, TAM ÇİÇ.",0,5,40,51,23.53,82,0,55,1.99,1.1399999999999999,0.57999999999999996,16,91,9,40,100,37,21,10,2.7,8,10,25,5.5,150,11,1.75,1.22,3.21,2.44,3.3,6.4,3.13,0,0.63,4.18,1.84,1.74,0.27,0.33,0.41,2.35,0.16,0.31,0,11.1,0,280,49.7,0,40.700000000000003,155,0,0,4,{"$f":"IF(ISERROR(CB44+CB134)=TRUE,0,CB44+CB134)","v":0},0,0,0,0,0,0,0,0,0,"BC","EAAGi =",{"$f":"IF(SBW<300,0.834-(0.00114*EBW),0.492)","v":0.54146687999999998},"Büyüme için i. Amino asitin kullanım etkinliği, g/g (Tablo 10-6)"]
[null,null,null,null,null,null,null,null,null,null,null,null,null,null,null,null,null,null,null,null,null,null,null,"YULAF SİLAJI, HAMUR",0,5,36.4,58.1,16.07,61,0,59,2.13,1.28,0.71,12.7,85,15,50,100,30,10,100,3.12,10.1,10,50,5,300,12,0.2,2.12,2.02,4.38,2.16,7.7,3.84,0,1.8,5.86,1.28,0.57999999999999996,0.31,0.21,0,2.88,0.09,0.24,0,8,0,367,66.3,7.0000000000000007E-2,29.8,0,0,0,4,{"$f":"IF(ISERROR(CB45+CB135)=TRUE,0,CB45+CB135)","v":0},0,0,0,0,0,0,0,0,0,"BD","KARBONHİDRAT TÜKETİMİ"]
[null,null,null,null,null,null,null,null,null,null,null,null,null,null,null,null,null,null,null,null,null,null,null,null,null,null,null,null,null,null,null,null,null,null,null,null,null,null,null,null,null,null,null,null,null,null,null,null,null,null,null,null,null,null,null,null,null,null,null,null,null,null,null,null,null,null,null,null,null,null,null,null,null,null,null,null,null,null,null,{"$f":"IF(ISERROR(CB46+CB136)=TRUE,0,CB46+CB136)","v":0},0,0,0,0,0,0,0,0,0,"BE","CHO=",{"$f":"(BI94/1000)/TotalDMFed*100","v":84.013892714159496},"KM'deki CHO oranı"]
[null,null,null,null,null,null,null,null,null,null,null,null,null,null,null,null,null,null,null,null,null,null,null,null,null,null,null,null,null,null,null,null,null,null,null,null,null,null,null,null,null,null,null,null,null,null,null,null,null,null,null,null,null,null,null,null,null,null,null,null,null,null,null,null,null,null,null,null,null,null,null,null,null,null,null,null,null,null,null,{"$f":"IF(ISERROR(CB47+CB137)=TRUE,0,CB47+CB137)","v":0},0,0,0,0,0,0,0,0,0,"BF","CC=",{"$f":"(BK94/1000)/TotalDMFed*100","v":10.683944950070916},"KM'deki değerlendirilemeyen selüloz oranı"]
[null,null,null,null,null,null,null,null,null,null,null,null,null,null,null,null,null,null,null,null,null,null,null,null,null,null,null,null,null,null,null,null,null,null,null,null,null,null,null,null,null,null,null,null,null,null,null,null,null,null,null,null,null,null,null,null,null,null,null,null,null,null,null,null,null,null,null,null,null,null,null,null,null,null,null,null,null,null,null,{"$f":"IF(ISERROR(CB48+CB138)=TRUE,0,CB48+CB138)","v":0},0,0,0,0,0,0,0,0,0,"BG","CB2=",{"$f":"(BM94/1000)/TotalDMFed*100","v":23.938279913567229},"KM'deki değerlendirilebilir selüloz oranı"]
[null,null,null,null,null,null,null,null,null,null,null,null,null,null,null,null,null,null,null,null,null,null,null,null,null,null,null,null,null,null,null,null,null,null,null,null,null,null,null,null,null,null,null,null,null,null,null,null,null,null,null,null,null,null,null,null,null,null,null,null,null,null,null,null,null,null,null,null,null,null,null,null,null,null,null,null,null,null,null,{"$f":"IF(ISERROR(CB49+CB139)=TRUE,0,CB49+CB139)","v":0},0,0,0,0,0,0,0,0,0,"BH","NFC=",{"$f":"(AU33/1000)/TotalDMFed*100","v":49.391667850521358},"KM'deki selüloz olmayan CHO oranı"]
[null,null,null,null,null,null,null,null,null,null,null,null,null,null,null,null,null,null,null,null,null,null,null,null,null,null,null,null,null,null,null,null,null,null,null,null,null,null,null,null,null,null,null,null,null,null,null,null,null,null,null,null,null,null,null,null,null,null,null,null,null,null,null,null,null,null,null,null,null,null,null,null,null,null,null,null,null,null,null,{"$f":"IF(ISERROR(CB50+CB140)=TRUE,0,CB50+CB140)","v":0},0,0,0,0,0,0,0,0,0,"BI","CB1=",{"$f":"(BO94/1000)/TotalDMFed*100","v":45.173016816716569},"KM'deki nişasta oranı"]
[null,null,null,null,null,null,null,null,null,null,null,null,null,null,null,null,null,null,null,null,null,null,null,null,null,null,null,null,null,null,null,null,null,null,null,null,null,null,null,null,null,null,null,null,null,null,null,null,null,null,null,null,null,null,null,null,null,null,null,null,null,null,null,null,null,null,null,null,null,null,null,null,null,null,null,null,null,null,null,{"$f":"IF(ISERROR(CB51+CB141)=TRUE,0,CB51+CB141)","v":0},0,0,0,0,0,0,0,0,0,"BJ","CA=",{"$f":"(BQ94/1000)/TotalDMFed*100","v":4.2186510338047958},"KM'deki şeker oranı"]
[null,null,null,null,null,null,null,null,null,null,null,null,null,null,null,null,null,null,null,null,null,null,null,null,null,null,null,null,null,null,null,null,null,null,null,null,null,null,null,null,null,null,null,null,null,null,null,null,null,null,null,null,null,null,null,null,null,null,null,null,null,null,null,null,null,null,null,null,null,null,null,null,null,null,null,null,null,null,null,{"$f":"IF(ISERROR(CB52+CB142)=TRUE,0,CB52+CB142)","v":0},0,0,0,0,0,0,0,0,0,"BK","PROTEİN TÜKETİMİ"]
[null,null,null,null,null,null,null,null,null,null,null,null,null,null,null,null,null,null,null,null,null,null,null,null,null,null,null,null,null,null,null,null,null,null,null,null,null,null,null,null,null,null,null,null,null,null,null,null,null,null,null,null,null,null,null,null,null,null,null,null,null,null,null,null,null,null,null,null,null,null,null,null,null,null,null,null,null,null,null,{"$f":"IF(ISERROR(CB53+CB143)=TRUE,0,CB53+CB143)","v":0},0,0,0,0,0,0,0,0,0,"BL","U=",{"$f":"121.7-12.01*büyükX+0.3235*büyükX^2","v":49.297372304668542},"Geri alınan üre N'u (N tüketiminin %'si olarak)"]
[null,null,null,null,null,null,null,null,null,null,null,null,null,null,null,null,null,null,null,null,null,null,null,null,null,null,null,null,null,null,null,null,null,null,null,null,null,null,null,null,null,null,null,null,null,null,null,null,null,null,null,null,null,null,null,null,null,null,null,null,null,null,null,null,null,null,null,null,null,null,null,null,null,null,null,null,null,null,null,{"$f":"IF(ISERROR(CB54+CB144)=TRUE,0,CB54+CB144)","v":0},0,0,0,0,0,0,0,0,0,"BM","X=",{"$f":"CPtotal/(TotalDMFed*10)","v":7.5735244830850501},"Rasyon KM'sindeki % HP"]
[null,null,null,null,null,null,null,null,null,null,null,null,null,null,null,null,null,null,null,null,null,null,null,null,null,null,null,null,null,null,null,null,null,null,null,null,null,null,null,null,null,null,null,null,null,null,null,null,null,null,null,null,null,null,null,null,null,null,null,null,null,null,null,null,null,null,null,null,null,null,null,null,null,null,null,null,null,null,null,{"$f":"IF(ISERROR(CB55+CB145)=TRUE,0,CB55+CB145)","v":0},0,0,0,0,0,0,0,0,0,"BN","Değerlendirilebilir selülozun yıkımlanma oranını pH'nın etkisine göre ayarlama"]
[null,null,null,null,null,null,null,null,null,null,null,null,null,null,null,null,null,null,null,null,null,null,null,null,null,null,null,null,null,null,null,null,null,null,null,null,null,null,null,null,null,null,null,null,null,null,null,null,null,null,null,null,null,null,null,null,null,null,null,null,null,null,null,null,null,null,null,null,null,null,null,null,null,null,null,null,null,null,null,{"$f":"IF(ISERROR(CB56+CB146)=TRUE,0,CB56+CB146)","v":0},0,0,0,0,0,0,0,0,0,"BO","1) Rumen pH'sını belirlemek; eğer eNDF<24,5 % ise, pH=",{"$f":"IF(eNDF<24.5,5.425+0.04229*eNDF,6.46)","v":6.46},"Rumen pH'sı"]
[null,null,null,null,null,null,null,null,null,null,null,null,null,null,null,null,null,null,null,null,null,null,null,null,null,null,null,null,null,null,null,null,null,null,null,null,null,null,null,null,null,null,null,null,null,null,null,null,null,null,null,null,null,null,null,null,null,null,null,null,null,null,null,null,null,null,null,null,null,null,null,null,null,null,null,null,null,null,null,{"$f":"IF(ISERROR(CB57+CB147)=TRUE,0,CB57+CB147)","v":0},0,0,0,0,0,0,0,0,0,"BP","2) Her yem için orijinal verimi hesaplamak, Y="]
[null,null,null,null,null,null,null,null,null,null,null,null,null,null,null,null,null,null,null,null,null,null,null,null,null,null,null,null,null,null,null,null,null,null,null,null,null,null,null,null,null,null,null,null,null,null,null,null,null,null,null,null,null,null,null,null,null,null,null,null,null,null,null,null,null,null,null,null,null,null,null,null,null,null,null,null,null,null,null,{"$f":"IF(ISERROR(CB58+CB148)=TRUE,0,CB58+CB148)","v":0},0,0,0,0,0,0,0,0,0,"BQ","3) Nispi verim ayarlamasını hesaplamak, relY=",{"$f":"(1-  EXP(-5.624*((pH-5.7)^0.909))  )/0.9968","v":0.99067392149952638}]
[null,null,null,null,null,null,null,null,null,null,null,null,null,null,null,null,null,null,null,null,null,null,null,null,null,null,null,null,null,null,null,null,null,null,null,null,null,null,null,null,null,null,null,null,null,null,null,null,null,null,null,null,null,null,null,null,null,null,null,null,null,null,null,null,null,null,null,null,null,null,null,null,null,null,null,null,null,null,null,{"$f":"IF(ISERROR(CB59+CB149)=TRUE,0,CB59+CB149)","v":0},0,0,0,0,0,0,0,0,0,"BR","4) Her yem için yeni verimi hesaplamak, Y'="]
[null,null,null,null,null,null,null,null,null,null,null,null,null,null,null,null,null,null,null,null,null,null,null,null,null,null,null,null,null,null,null,null,null,null,null,null,null,null,null,null,null,null,null,null,null,null,null,null,null,null,null,null,null,null,null,null,null,null,null,null,null,null,null,null,null,null,null,null,null,null,null,null,null,null,null,null,null,null,null,{"$f":"IF(ISERROR(CB60+CB150)=TRUE,0,CB60+CB150)","v":0},0,0,0,0,0,0,0,0,0,"BS","5) Her yem için yeni Kd'yi hesaplamak, Kd'="]
[null,null,null,null,null,null,null,null,null,null,null,null,null,null,null,null,null,null,null,null,null,null,null,null,null,null,null,null,null,null,null,null,null,null,null,null,null,null,null,null,null,null,null,null,null,null,null,null,null,null,null,null,null,null,null,null,null,null,null,null,null,null,null,null,null,null,null,null,null,null,null,null,null,null,null,null,null,null,null,{"$f":"IF(ISERROR(CB61+CB151)=TRUE,0,CB61+CB151)","v":0},0,0,0,0,0,0,0,0,0,"BT","büyükA=",{"$f":"(-0.01490722+(0.012024*pH)-(0.0010152*pH^2))","v":2.0401899680000002E-2}]
[null,null,null,null,null,null,null,null,null,null,null,null,null,null,null,null,null,null,null,null,null,null,null,null,null,null,null,null,null,null,null,null,null,null,null,null,null,null,null,null,null,null,null,null,null,null,null,null,null,null,null,null,null,null,null,null,null,null,null,null,null,null,null,null,null,null,null,null,null,null,null,null,null,null,null,null,null,null,null,null,null,null,null,null,null,null,null,null,null,"BU","Rumenden kaçan CHO ve proteini hesaplamak"]
[null,null,null,null,null,null,null,null,null,null,null,null,null,null,null,null,null,null,null,null,null,null,null,null,null,null,null,null,null,null,null,null,null,null,null,null,null,null,null,null,null,null,null,null,null,null,null,null,null,null,null,null,null,null,null,null,null,null,null,null,null,null,null,null,null,null,null,null,null,null,null,null,null,null,null,null,null,null,null,null,null,null,"AMİNO ASİT TABLOSU",null,null,null,null,null,null,"BV","RD=",{"$f":"AA64","v":0.20188135386026268},"Yem maddesinin rumende yıkımlanan komponent oranı"]
[null,null,null,null,null,null,null,null,null,null,null,null,null,null,null,null,null,null,null,null,null,null,null,null,null,null,null,null,null,null,null,null,null,null,null,null,null,null,null,null,null,null,null,null,null,null,null,null,null,null,null,null,null,null,null,null,null,null,null,null,null,null,null,null,null,null,null,null,null,null,null,null,null,null,null,null,null,null,null,null,null,null,"REBAA","DIGBAA","REFAA","REAA","DIGFAA","AAA",null,"BW","RESC=",{"$f":"AB64","v":22.798118646139738},"Yem maddesinin rumende yıkımlanmadan kaçan komponent oranı"]
[null,null,null,null,null,null,null,null,null,null,null,null,null,null,null,null,null,null,null,null,null,null,null,null,null,null,null,null,null,null,null,null,null,null,null,null,null,null,null,null,null,null,null,null,null,null,null,null,null,null,null,null,null,null,null,null,null,null,null,null,null,null,null,null,null,null,null,null,null,null,null,null,null,null,null,null,null,null,null,null,null,"MET, g",{"$f":"CB2","v":3.4768352769999256},{"$f":"CB33","v":2.5320430821629891},{"$f":"CB63","v":5.1346862761411911},{"$f":"CB93","v":8.6115215531411167},{"$f":"CB123","v":4.074623889795757},{"$f":"CB153","v":6.606666971958747},19,"BX","GEÇİŞ ORANI FORMÜLÜ"]
[null,null,null,null,null,null,null,null,null,null,null,null,null,null,null,null,null,null,null,null,null,null,null,null,null,null,null,null,null,null,null,null,null,null,null,null,null,null,null,null,null,null,null,null,null,null,null,null,null,null,null,null,null,null,null,null,null,null,null,null,null,null,null,null,null,null,null,null,null,null,null,null,null,null,null,null,null,null,null,null,null,"LİZ, g",{"$f":"CC2","v":9.9518111189490597},{"$f":"CC33","v":7.7472959976628761},{"$f":"CC63","v":10.480269996098292},{"$f":"CC93","v":20.43208111504735},{"$f":"CC123","v":6.9413263546617232},{"$f":"CC153","v":14.688622352324598},61,"BY","Kp_forages=",{"$f":"(0.388+(0.022*TotalDMFed/SBW^0.75)+2*FORAGE^2)/100","v":35.930753948860726}]
[null,null,null,null,null,null,null,null,null,null,null,null,null,null,null,null,null,null,null,null,null,null,null,null,null,null,null,null,null,null,null,null,null,null,null,null,null,null,null,null,null,null,null,null,null,null,null,null,null,null,null,null,null,null,null,null,null,null,null,null,null,null,null,null,null,null,null,null,null,null,null,null,null,null,null,null,null,null,null,null,null,"ARJ, g",{"$f":"CD2","v":8.0795479195138658},{"$f":"CD33","v":6.5757536760650765},{"$f":"CD63","v":11.684765590403668},{"$f":"CD93","v":19.764313509917535},{"$f":"CD123","v":8.0484195550880262},{"$f":"CD153","v":14.624173231153103},53,"BZ","Kp_conc=",{"$f":"-0.424+(1.45*Kp_forages)","v":51.675593225848054}]
[null,null,null,null,null,null,null,null,null,null,null,null,null,null,null,null,null,null,null,null,null,null,null,null,null,null,null,null,null,null,null,null,null,null,null,null,null,null,null,null,null,null,null,null,null,null,null,null,null,null,null,null,null,null,null,null,null,null,null,null,null,null,null,null,null,null,null,null,null,null,null,null,null,null,null,null,null,null,null,null,null,"TRE, g",{"$f":"CE2","v":6.5804776370392606},{"$f":"CE33","v":5.2813883691384733},{"$f":"CE63","v":14.646851874482785},{"$f":"CE93","v":21.227329511522044},{"$f":"CE123","v":10.758869660741009},{"$f":"CE153","v":16.040258029879482},44,"CA","FORAGE",{"$f":"KabaYemDMI/TotalDMFed*100","v":42.383279485137983},"Rasyondaki kaba yem oranı, %"]
[null,null,null,null,null,null,null,null,null,null,null,null,null,null,null,null,null,null,null,null,null,null,null,null,null,null,null,null,null,null,null,null,null,null,null,null,null,null,null,null,null,null,null,null,null,null,null,null,null,null,null,null,null,null,null,null,null,null,null,null,null,null,null,null,null,null,null,null,null,null,null,null,null,null,null,null,null,null,null,null,null,"LÖY, g",{"$f":"CF2","v":9.4180035288661923},{"$f":"CF33","v":7.0953893832253918},{"$f":"CF63","v":47.727891824278068},{"$f":"CF93","v":57.145895353144262},{"$f":"CF123","v":38.568227773721915},{"$f":"CF153","v":45.663617156947303},63,"X","Af_forages=",{"$f":"Af_forages","v":27.122736418511057}]
[null,null,null,null,null,null,null,null,null,null,null,null,null,null,null,null,null,null,null,null,null,null,null,null,null,null,null,null,null,null,null,null,null,null,null,null,null,null,null,null,null,null,null,null,null,null,null,null,null,null,null,null,null,null,null,null,null,null,null,null,null,null,null,null,null,null,null,null,null,null,null,null,null,null,null,null,null,null,null,null,null,"İZOLÖY, g",{"$f":"CG2","v":7.1300317637027462},{"$f":"CG33","v":5.3664196666737976},{"$f":"CG63","v":14.510125148682711},{"$f":"CG93","v":21.640156912385457},{"$f":"CG123","v":10.635153308929684},{"$f":"CG153","v":16.00157297560348},46,null,"Af_conc=",{"$f":"Af_conc","v":4.432904359509811}]
[null,null,null,null,null,null,null,null,null,null,null,null,null,null,null,null,null,null,null,null,null,null,null,null,null,null,null,null,null,null,null,null,null,null,null,null,null,null,null,null,null,null,null,null,null,null,null,null,null,null,null,null,null,null,null,null,null,null,null,null,null,null,null,null,null,null,null,null,null,null,null,null,null,null,null,null,null,null,null,null,null,"VAL, g",{"$f":"CH2","v":7.670137968417861},{"$f":"CH33","v":5.8199199201955274},{"$f":"CH63","v":19.888295882761554},{"$f":"CH93","v":27.558433851179416},{"$f":"CH123","v":14.622190103706178},{"$f":"CH153","v":20.442110023901705},50,null,"Rumende yıkımlanan protein fraksiyonlarının miktarını hesaplamak için,"]
[null,null,null,null,null,null,null,null,null,null,null,null,null,null,null,null,null,null,null,null,null,null,null,null,null,null,null,null,null,null,null,null,null,null,null,null,null,null,null,null,null,null,null,null,null,null,null,null,null,null,null,null,null,null,null,null,null,null,null,null,null,null,null,null,null,null,null,null,null,null,null,null,null,null,null,null,null,null,null,null,null,"HIS, g",{"$f":"CI2","v":3.2264653453681369},{"$f":"CI33","v":2.5414910041113585},{"$f":"CI63","v":9.4256420369039624},{"$f":"CI93","v":12.652107382272099},{"$f":"CI123","v":7.6979705747272211},{"$f":"CI153","v":10.239461578838579},20,"Seçilen Yemler Alanı","RDPA=",{"$f":"AF64","v":68.17708243333162},"rumende yıkımlanan NPN miktarı, g/gün"]
[null,null,null,null,null,null,null,null,null,null,null,null,null,null,null,null,null,null,null,null,null,null,null,null,null,null,null,null,null,null,null,null,null,null,null,null,null,null,null,null,null,null,null,null,null,null,null,null,null,null,null,null,null,null,null,null,null,null,null,null,null,null,null,null,null,null,null,null,null,null,null,null,null,null,null,null,null,null,null,null,null,"FENAL, g",{"$f":"CJ2","v":6.5285140663232291},{"$f":"CJ33","v":4.875127725358591},{"$f":"CJ63","v":19.36176748776834},{"$f":"CJ93","v":25.890281554091569},{"$f":"CJ123","v":14.452207904073093},{"$f":"CJ153","v":19.327335629431687},43,null,"RDPB1=",{"$f":"AG64","v":15.294108152070617},"rumende yıkımlanan B1 gerçek protein miktarı, g/gün"]
[null,null,null,null,null,null,null,null,null,null,null,null,null,null,null,null,null,null,null,null,null,null,null,null,null,null,null,null,null,null,null,null,null,null,null,null,null,null,null,null,null,null,null,null,null,null,null,null,null,null,null,null,null,null,null,null,null,null,null,null,null,null,null,null,null,null,null,null,null,null,null,null,null,null,null,null,null,null,null,null,null,"TRİP, g",{"$f":"CK2","v":2.181682643244292},{"$f":"CK33","v":1.5400112775842061},{"$f":"CK63","v":7.3328906072549946},{"$f":"CK93","v":9.5145732504992857},{"$f":"CK123","v":2.4803974208009931},{"$f":"CK153","v":4.0204086983851992},22,null,"RDPB2=",{"$f":"AH64","v":33.026990237296758},"rumende yıkımlanan B2 gerçek protein miktarı, g/gün"]
[null,null,null,null,null,null,null,null,null,null,null,null,null,null,null,null,null,null,null,null,null,null,null,null,null,null,null,null,null,null,null,null,null,null,null,null,null,null,null,null,null,null,null,null,null,null,null,null,null,null,null,null,null,null,null,null,null,null,null,null,null,null,null,null,null,null,null,null,null,null,null,null,null,null,null,null,null,null,null,null,null,"REBAA=","Duodenumda görülen Bakteriyel amino asit miktarı, g/gün",null,null,null,null,null,null,null,"RDPB3=",{"$f":"AI64","v":0.11173147924904386},"rumende yıkımlanan B3 gerçek protein miktarı, g/gün"]
[null,null,null,null,null,null,null,null,null,null,null,null,null,null,null,null,null,null,null,null,null,null,null,null,null,null,null,null,null,null,null,null,null,null,null,null,null,null,null,null,null,null,null,null,null,null,null,null,null,null,null,null,null,null,null,null,null,null,null,null,null,null,null,null,null,null,null,null,null,null,null,null,null,null,null,null,null,null,null,null,null,"DIGBAA=","Emilen Bakteriyel Amino asit miktarı, g/gün ",null,null,null,null,null,null,null,"RDPEP=",{"$f":"AJ64","v":48.432829868616423},"rumende yıkımlanan peptid miktarı, g/gün"]
[null,null,null,null,null,null,null,null,null,null,null,null,null,null,null,null,null,null,null,null,null,null,null,null,null,null,null,null,null,null,null,null,null,null,null,null,null,null,null,null,null,null,null,null,null,null,null,null,null,null,null,null,null,null,null,null,null,null,null,null,null,null,null,null,null,null,null,null,null,null,null,null,null,null,null,null,null,null,null,null,null,"REFAA=","Duodenumda görülen Yem amino asit miktarı, g/gün",null,null,null,null,null,null,null,"Rumende yıkımlanmadan kaçan ve ince barsaklara geçen protein fraksiyonlarının miktarını hesaplamak için,"]
[null,null,null,null,null,null,null,null,null,null,null,null,null,null,null,null,null,null,null,null,null,null,null,null,null,null,null,null,null,null,null,null,null,null,null,null,null,null,null,null,null,null,null,null,null,null,null,null,null,null,null,null,null,null,null,null,null,null,null,null,null,null,null,null,null,null,null,null,null,null,null,null,null,null,null,null,null,null,null,null,null,"REAA=","Duodenumda görülen amino asitin toplam miktarı, g/gün",null,null,null,null,null,null,null,"REPB1=",{"$f":"AK64","v":5.3073281502240235},"rumenden kaçan B1 gerçek protein miktarı, g/gün"]
[null,null,null,null,null,null,null,null,null,null,null,null,null,null,null,null,null,null,null,null,null,null,null,null,null,null,null,null,null,null,null,null,null,null,null,null,null,null,null,null,null,null,null,null,null,null,null,null,null,null,null,null,null,null,null,null,null,null,null,null,null,null,null,null,null,null,null,null,null,null,null,null,null,null,null,null,null,null,null,null,null,"DIGFAA=","Rumenden kaçan rasyon proteininden emilen amino asit, g/gün ",null,null,null,null,null,null,null,"REPB2=",{"$f":"AL64","v":326.82745124340732},"rumenden kaçan B2 gerçek protein miktarı, g/gün"]
[null,null,null,null,null,null,null,null,null,null,null,null,null,null,null,null,null,null,null,null,null,null,null,null,null,null,null,null,null,null,null,null,null,null,null,null,null,null,null,null,null,null,null,null,null,null,null,null,null,null,null,null,null,null,null,null,null,null,null,null,null,null,null,null,null,null,null,null,null,null,null,null,null,null,null,null,null,null,null,null,null,"AAA=","Rasyon ve bakteriyel kökenli emilen toplam amino asit, g/gün",null,null,null,null,null,null,null,"REPB3=",{"$f":"AM64","v":60.028454179979121},"rumenden kaçan B3 gerçek protein miktarı, g/gün"]
[null,null,null,null,null,null,null,null,null,null,null,null,null,null,null,null,null,null,null,null,null,null,null,"KURU KABA YEMLER","en az","en çok","KM %Yem","NDF %KM","Lignin %NDF","Effekt. %NDF","HS,%","TDN %KM","ME,Mcal/kg","NEm,Mcal/kg","NEg,Mcal/kg","HP,%","DIP %HP","UIP %HP","SoIP %HP","NPN %SoIP","NDFIP %HP","ADFIP %HP","Nişasta %NSC","HY %KM","HK %KM","A kd %/sa©","B1 kd %/sa©","B2 kd %/sa©","B1 kd %/sa(p)","B2 kd %/sa(p)","B3 kd %/sa(p)","MET %UIP","LİZ %UIP","ARJ %UIP","TRE %UIP","LÖY %UIP","İZOLÖY %UIP","VAL %UIP","HIS %UIP","FENAL %UIP","TRİP %UIP","Ca %KM","P %KM","Mg %KM","Cl %KM","K %KM","Na %KM","S %KM","Co mg/kg","Cu mg/kg","I mg/kg","Fe mg/kg","Mn mg/kg","Se mg/kg","Zn mg/kg","Vit A 1000 IU/kg","Vit D 1000 IU/kg","Vit E IU/kg","FİYAT,TL",null,null,null,null,null,null,null,null,null,null,null,"REPC=",{"$f":"AN64","v":125.4023760987136},"rumenden kaçan bağlı C protein miktarı, g/gün"]
[null,null,null,null,null,null,null,null,null,null,null,null,null,null,null,null,null,null,null,null,null,null,null,"AK ÜÇGÜL (CLOVER LADINO) KURU OTU",0,5,89,36,19.440000000000001,92,20.8,60,2.17,1.31,0.74,22.4,86,14,30,96,15,10,10,2.7,9.4,250,30,5.5,150,9,1.25,0.73,6.02,6.39,5,9.26,6.01,7.14,2.62,6.32,1.84,1.45,0.33,0.47,0.3,2.44,0.13,0.21,0.16,9.41,0.30099999999999999,470,123,0,17,33,0,0,6,null,null,null,null,null,null,null,null,null,null,null,"Rumende yıkımlanan j. Yem maddesinin CHO fraksiyonlarının miktarını hesaplamak için,"]
[null,null,null,null,null,null,null,null,null,null,null,null,null,null,null,null,null,null,null,null,null,null,null,"ARPA SAMANI",0,5,91,72.5,13.75,100,42,40,1.45,0.6,0.08,4.4000000000000004,30,70,20,95,75,65,100,1.9,7.5,250,30,3,135,11,0.09,0.67,2.83,2.83,2.83,5.49,2.83,3.83,1,3.5,4.5,0.3,7.0000000000000007E-2,0.23,0.67,2.37,0.14000000000000001,0.17,7.0000000000000007E-2,5.4,0,200,16,0,7,1,0.7,0,1.5,null,null,null,null,null,null,null,null,null,null,null,"RDCA=",{"$f":"AO64","v":257.97177670239444},"rumende yıkımlanan şeker miktarı, g/gün"]
[null,null,null,null,null,null,null,null,null,null,null,null,null,null,null,null,null,null,null,null,null,null,null,"BUĞDAY SAMANI",0,5,89,78.900000000000006,16.47,98,41.6,41,1.48,0.64,0.11,3.5,31,69,20,95,75,65,100,2,7.7,250,50,3,135,11,0.09,0.67,2.83,2.83,2.83,5.49,2.83,3.83,1,3.5,4.5,0.17,0.05,0.12,0.32,1.41,0.14000000000000001,0.19,0.05,3.6,0,157,41,0,6,1,7.0000000000000007E-2,0,1.5,null,null,null,null,null,null,null,null,null,null,null,"RDCB1=",{"$f":"AP64","v":729.78022641063956},"rumende yıkımlanan nişasta miktarı, g/gün"]
[null,null,null,null,null,null,null,null,null,null,null,null,null,null,null,null,null,null,null,null,null,null,null,"BUĞDAYGİL (WHEATGRASS) KURU OTU",0,5,92,65,9.23,98,0,53,1.92,1.07,0.52,9,67,33,25,96,31,6.1,6,2.2999999999999998,9,250,30,3,135,11,0.09,0.67,2.83,2.83,2.83,5.49,2.83,3.83,1,3.5,4.5,0.26,0.15,0,0,0,0,0,0.24,0,0,0,0,0,0,37.200000000000003,0,0,6,null,null,null,null,null,null,null,null,null,null,null,"RDCB2=",{"$f":"AQ64","v":116.9733778796231},"rumende yıkımlanan değerlendirilebilir selüloz miktarı, g/gün"]
[null,null,null,null,null,null,null,null,null,null,null,null,null,null,null,null,null,null,null,null,null,null,null,"ÇAYIR (RYEGRASS) KURU OTU",0,5,88,41,4.88,98,0,60,2.17,1.31,0.74,8.6,77,35.5,25,96,31,5.7,6,2.2000000000000002,10,250,30,5,135,11,0.09,0.67,2.83,2.83,2.83,5.49,2.83,3.83,1,3.5,4.5,0.65,0.32,0,0,1.67,0,0,0,5,0,0,74,0,19,0,0,0,6,null,null,null,null,null,null,null,null,null,null,null,"Rumende yıkımlanmadan kaçan CHO fraksiyonlarının miktarını hesaplamak için,"]
[null,null,null,null,null,null,null,null,null,null,null,null,null,null,null,null,null,null,null,null,null,null,null,"ÇAYIR (MEADOW) KURU OTU",0,5,90,67.599999999999994,5,98,0,60,2.17,1.31,0.74,13.4,77,23,25,5,2,1,0,3,11,250,30,6,135,8,0.09,0.67,2.83,2.83,2.83,5.49,2.83,3.83,1,3.5,4.5,0.26,0.15,0,0,0,0,0,0.24,0,0,0,0,0,0,37.200000000000003,0,0,6,null,null,null,null,null,null,null,null,null,null,null,"RECA=",{"$f":"AR64","v":95.280560088184927},"rumendeki yıkımlanmadan kaçan şeker miktarı, g/gün"]
[null,null,null,null,null,null,null,null,null,null,null,null,null,null,null,null,null,null,null,null,null,null,null,"ÇAYIR (PRAIRIE) KURU OTU",0,5,91,72.7,6,98,0,48,1.74,0.9,0.35,5.3,62,38,25,5,2,1,0,3,8,250,30,3.5,135,3.5,0.09,0.67,2.83,2.83,2.83,5.49,2.83,3.83,1,3.5,4.5,0.35,0.14000000000000001,0.26,0,1,0,0,0,0,0,88,0,0,34,37.200000000000003,0,0,6,null,null,null,null,null,null,null,null,null,null,null,"RECB1=",{"$f":"AS64","v":3052.8208047045714},"rumendeki yıkımlanmadan kaçan nişasta miktarı, g/gün"]
[null,null,null,null,null,null,null,null,null,null,null,null,null,null,null,null,null,null,null,null,null,null,null,"ÇAYIR KELPKUYRUĞU (TIMOTHY) KURU OTU, ÇİÇ.BAŞI",0,5,89,61.4,6.56,98,0,59,2.13,1.28,0.71,10.8,73,27,25,96,31,5.7,6,2.8,5.7,250,30,4,135,11,0.09,0.67,2.83,2.83,2.83,5.49,2.83,3.83,1,3.5,4.5,0.51,0.28999999999999998,0.13,0,2.41,0.01,0.13,0,11,0,203,103,0,62,87.5,0,13,6,null,null,null,null,null,null,null,null,null,null,null,"RECB2=",{"$f":"AT64","v":1887.5188757941614},"rumendeki yıkımlanmadan kaçan değerlendirilebilir selüloz miktarı, g/gün"]
[null,null,null,null,null,null,null,null,null,null,null,null,null,null,null,null,null,null,null,null,null,null,null,"ÇAYIR KELPKUYRUĞU (TIMOTHY) KURU OTU, ÇİÇ.ORTASI",0,5,89,63.7,7.46,98,0,57,2.06,1.21,0.64,9.6999999999999993,69,31,25,96,31,6.1,6,2.7,7,250,30,3,135,11,0.09,0.67,2.83,2.83,2.83,5.49,2.83,3.83,1,3.5,4.5,0.48,0.23,0.13,0,1.82,0.01,0.13,0,16,0,150,56.1,0,43,88.9,2,0,6,null,null,null,null,null,null,null,null,null,null,null,"RECC=",{"$f":"AU64","v":894.62922851681844},"rumendeki yıkımlanmadan kaçan değerlendirilemeyen selüloz miktarı, g/gün"]
[null,null,null,null,null,null,null,null,null,null,null,null,null,null,null,null,null,null,null,null,null,null,null,"ÇAYIR KELPKUYRUĞU (TIMOTHY) KURU OTU, OLGUN",0,5,89,72,12.5,98,0,47,1.7,0.86,0.32,6,50,50,25,96,31,6.5,6,2,6,250,30,3,135,11,0.09,0.67,2.83,2.83,2.83,5.49,2.83,3.83,1,3.5,4.5,0,0,0,0,0,0,0,0,0,0,0,0,0,0,0,0,0,6,null,null,null,null,null,null,null,null,null,null,null,"Mikrobiyel verimin hesaplanması"]
[null,null,null,null,null,null,null,null,null,null,null,null,null,null,null,null,null,null,null,null,null,null,null,"ÇAYIR KELPKUYRUĞU (TIMOTHY) KURU OTU, TAM ÇİÇ.",0,5,89,64.2,8.82,98,0,56,2.02,1.18,0.61,8.1,62,38,25,96,31,6.1,6,2.9,5.2,250,30,3,135,11,0.09,0.67,2.83,2.83,2.83,5.49,2.83,3.83,1,3.5,4.5,0.43,0.2,0.09,0.62,1.99,7.0000000000000007E-2,0.14000000000000001,0,29,0,140,93,0,54,0,0,0,6,null,null,null,null,null,null,null,null,null,null,null,"Eğer eNDF<20 ise   YG1=",{"$f":"IF(ISERROR(IF(eNDF<20,(0.4*(BK94+BM94))*(1-((20-eNDF)*0.025)),(0.4*(BK94+BM94))))=TRUE,0,IF(eNDF<20,(0.4*(BK94+BM94))*(1-((20-eNDF)*0.025)),(0.4*(BK94+BM94))))","v":1159.6485928762411},"FC bakterilerinin teorik maksimum verimi, 0,4 g bakteri/g FC/saat"]
[null,null,null,null,null,null,null,null,null,null,null,null,null,null,null,null,null,null,null,null,null,null,null,"ÇAYIR KELPKUYRUĞU (TIMOTHY) KURU OTU, VEJ.SONU",0,5,89,55,5.45,98,0,62,2.2400000000000002,1.38,0.8,14,79,21,25,96,31,5.7,6,3,8,250,30,4,135,11,0.09,0.67,2.83,2.83,2.83,5.49,2.83,3.83,1,3.5,4.5,0.45,0.4,0.11,0,3.05,7.0000000000000007E-2,0.13,0,25.8,0,240,89,0,67,208.4,0,0,6,null,null,null,null,null,null,null,null,null,null,null,"Eğer eNDF<20 ise   YG2=",{"$f":"IF(ISERROR(IF(eNDF<20,(0.4*(AU33))*(1-((20-eNDF)*0.025)),(0.4*(AU33))))=TRUE,0,IF(eNDF<20,(0.4*(AU33))*(1-((20-eNDF)*0.025)),(0.4*(AU33))))","v":1654.3413471623162},"NFC bakterilerinin teorik maksimum verimi, 0,4 g bakteri/g NFC/saat"]
[null,null,null,null,null,null,null,null,null,null,null,null,null,null,null,null,null,null,null,null,null,null,null,"ÇAYIR ÜÇGÜLÜ (CLOVER RED) KURU OTU",0,5,88,46.9,17.850000000000001,92,0,55,1.99,1.1399999999999999,0.57999999999999996,15,80,20,25,92,35.6,20,10,2.8,7.5,250,30,5.5,150,9,1.25,0.73,6.02,6.39,5,9.26,6.01,7.14,2.62,6.32,1.84,1.38,0.24,0.38,0.32,1.81,0.18,0.16,0.16,11,0.25,238,108,0,17,8,1.9,0,6,null,null,null,null,null,null,null,null,null,null,null,"1/Y1=",{"$f":"AV64","v":45.422156878244948}]
[null,null,null,null,null,null,null,null,null,null,null,null,null,null,null,null,null,null,null,null,null,null,null,"DOMUZ AYRIĞI (ORCHARDGRASS) KURU OTU, ÇİÇ.BAŞI",0,5,89,59.6,7.7,98,0,65,2.35,1.47,0.88,12.8,77,23,25,96,31,5.7,6,2.9,8.5,250,30,3,135,11,0.09,0.67,2.83,2.83,2.83,5.49,2.83,3.83,1,3.5,4.5,0.27,0.34,0.11,0.41,2.91,0.01,0.26,0.43,19,0,93,157,0,40,15,0,0,6,null,null,null,null,null,null,null,null,null,null,null,"1/Y2=",{"$f":"AW64","v":3.4759302395592835}]
[null,null,null,null,null,null,null,null,null,null,null,null,null,null,null,null,null,null,null,null,null,null,null,"DOMUZ AYRIĞI (ORCHARDGRASS) KURU OTU, ÇİÇ.SONU",0,5,90.6,65,11.4,98,0,54,1.95,1.1100000000000001,0.55000000000000004,8.4,64,36,25,96,31,6.1,6,3.4,10.1,250,30,3,135,11,0.09,0.67,2.83,2.83,2.83,5.49,2.83,3.83,1,3.5,4.5,0.26,0.3,0.11,0,2.67,0.01,0,0.3,20,20,84,167,0.03,38,8,0,0,6,null,null,null,null,null,null,null,null,null,null,null,"1/Y3=",{"$f":"AX64","v":41.360347089576322}]
[null,null,null,null,null,null,null,null,null,null,null,null,null,null,null,null,null,null,null,null,null,null,null,"FİĞ KURU OTU",0,5,89,48,16.66,92,0,57,2.06,1.21,0.64,20.8,86,14,28,96,25.2,14,10,3,7,250,30,5.5,150,9,1.25,0.73,6.02,6.39,5,9.26,6.01,7.14,2.62,6.32,1.84,1.36,0.34,0.27,0,2.12,0.52,0.15,0.34,9.9,0.49,490,60.8,0,0,0,0,0,6,null,null,null,null,null,null,null,null,null,null,null,"KM1=",{"$f":"_YG1*0.05","v":57.982429643812054},"FC (selüloz karbonhidrat) bakterilerinin yaşama oranı, 0,05g FC/g bakteri/saat"]
[null,null,null,null,null,null,null,null,null,null,null,null,null,null,null,null,null,null,null,null,null,null,null,"KAMIŞSI YUMAK (FESCUE, ALTA) KURU OTU",0,5,89,70,9.2899999999999991,98,0,55,1.99,1.1399999999999999,0.57999999999999996,10.199999999999999,71,29,25,96,31,6.5,6,2.2000000000000002,10,250,30,3,135,11,0.09,0.67,2.83,2.83,2.83,5.49,2.83,3.83,1,3.5,4.5,0.39,0.24,0.23,0.06,2.38,0,0,0,0,0,0,0,0,0,34.6,0,0,6,null,null,null,null,null,null,null,null,null,null,null,"KM2=",{"$f":"_YG2*0.15","v":248.15120207434742},"NFC (selüloz olmayan karbonhidrat) bakterilerinin yaşama oranı, 0,15g NFC/g bakteri/saat"]
[null,null,null,null,null,null,null,null,null,null,null,null,null,null,null,null,null,null,null,null,null,null,null,"KAMIŞSI YUMAK (FESCUE, K31) KURU OTU",0,5,91,62.2,6.35,98,0,61,2.21,1.34,0.77,15,82,18,25.9,25.4,34.200000000000003,8.9,6,5.5,9,250,30,3,135,11,0.09,0.67,2.83,2.83,2.83,5.49,2.83,3.83,1,3.5,4.5,0.51,0.37,0.27,0,2.2999999999999998,0,0.18,0,0,0,0,0,0,22,0,0,0,6,null,null,null,null,null,null,null,null,null,null,null,"RATIO=",{"$f":"AY64","v":0.18},"peptidlerin peptid+NFC'ye oranı"]
[null,null,null,null,null,null,null,null,null,null,null,null,null,null,null,null,null,null,null,null,null,null,null,"KAMIŞSI YUMAK (FESCUE, K31) KURU OTU, OLGUN",0,5,91,70,10,98,0,44,1.59,0.75,0.22,10.8,86,14,25.9,25.4,34.200000000000003,8.9,6,4.7,6.8,250,30,3,135,11,0.09,0.67,2.83,2.83,2.83,5.49,2.83,3.83,1,3.5,4.5,0.41,0.3,0.16,0,1.96,0.02,0,0,22,0,132,97,0,35,0,0,0,6,null,null,null,null,null,null,null,null,null,null,null,"IMP=",{"$f":"AZ64","v":0},"Peptidlerin peptid+yapısal olmayan CHO'lara oranına bağlı bakteriyel verimdeki düzelme, %"]
[null,null,null,null,null,null,null,null,null,null,null,null,null,null,null,null,null,null,null,null,null,null,null,"KAMIŞSI YUMAK (FESCUE, K31) KURU OTU, TAM ÇİÇ.",0,5,91,67,7.46,98,0,58,2.1,1.24,0.68,12.9,77,23,25.9,25.4,34.200000000000003,8.9,6,5.3,8,250,30,3,135,11,0.09,0.67,2.83,2.83,2.83,5.49,2.83,3.83,1,3.5,4.5,0.43,0.32,0.17,0,2.2999999999999998,0,0.26,38,28,0,0,103,0,0,0,0,0,6,null,null,null,null,null,null,null,null,null,null,null,"FCBACT=",{"$f":"BD64","v":6.6107692347182549},"selüloz karbonhidrat bakterilerinin verimi, g/gün"]
[null,null,null,null,null,null,null,null,null,null,null,null,null,null,null,null,null,null,null,null,null,null,null,"KAMIŞSI YUMAK (FESCUE, MEADOW) KURU OTU",0,5,88,65,10.76,98,0,56,2.02,1.18,0.61,9.1,67,33,25,96,31,6.5,6,2.4,8,250,30,3,135,11,0.09,0.67,2.83,2.83,2.83,5.49,2.83,3.83,1,3.5,4.5,0.37,0.28999999999999998,0.5,0,1.84,0,0,0.14000000000000001,0,0,0,24.5,0,0,120.9,0,135.6,6,null,null,null,null,null,null,null,null,null,null,null,"Y1=",{"$f":"BA64","v":0.20694642339265776},"değerlendirilebilir selüloz fraksiyonunda FC bakterilerinin verim etkinliği, g FC bakteri/g sindirilen FC"]
[null,null,null,null,null,null,null,null,null,null,null,null,null,null,null,null,null,null,null,null,null,null,null,"KILÇIKSIZ BROM KURU OTU, OLGUN",0,5,92,70.5,11.26,98,0,53,1.92,1.07,0.52,6,48,52,25,96,31,6.5,6,2,7.2,250,30,3,135,11,0.09,0.67,2.83,2.83,2.83,5.49,2.83,3.83,1,3.5,4.5,0.26,0.22,0.12,0,1.85,0.01,0,0,10.4,0,80,73,0,24,15,1,0,6,null,null,null,null,null,null,null,null,null,null,null,"Y2=",{"$f":"BB64","v":3.213263126085721},"şeker fraksiyonunda NFC bakterilerinin verim etkinliği, g NFC bakteri/g sindirilen NFC"]
[null,null,null,null,null,null,null,null,null,null,null,null,null,null,null,null,null,null,null,null,null,null,null,"KILÇIKSIZ BROM KURU OTU,ÇİÇ.ORTASI",0,5,88,57.7,6.06,98,0,56,2.02,1.18,0.61,14.4,79,21,25,96,31,6.5,6,2.2000000000000002,10.9,250,30,3,135,11,0.09,0.67,2.83,2.83,2.83,5.49,2.83,3.83,1,3.5,4.5,0.28999999999999998,0.28000000000000003,0.1,0,1.99,0.01,0,0.57999999999999996,25,0,91,40,0,30,26,0,0,6,null,null,null,null,null,null,null,null,null,null,null,"Y3=",{"$f":"BC64","v":0.32032645279916638},"nişasta fraksiyonunda NFC bakterilerinin verim etkinliği, g NFC bakteri/g sindirilen NFC"]
[null,null,null,null,null,null,null,null,null,null,null,null,null,null,null,null,null,null,null,null,null,null,null,"KILÇIKSIZ BROM KURU OTU,ÇİÇ.ÖNCESİ",0,5,88,55,7.69,98,0,60,2.17,1.31,0.74,16,79,21,25,96,31,6.5,6,2.6,10,250,30,3,135,11,0.09,0.67,2.83,2.83,2.83,5.49,2.83,3.83,1,3.5,4.5,0.32,0.37,0.09,0,2.3199999999999998,0.02,0.2,0,0,0,0,0,0,0,108.4,1,0,6,null,null,null,null,null,null,null,null,null,null,null,"NFCBACT=",{"$f":"BE64","v":245.33381605513142},"selüloz olmayan karbonhidrat bakterilerinin verimi, g/gün"]
[null,null,null,null,null,null,null,null,null,null,null,null,null,null,null,null,null,null,null,null,null,null,null,"KILÇIKSIZ BROM KURU OTU,ÇİÇ.SONU",0,5,91,68,11.11,98,0,55,1.99,1.1399999999999999,0.57999999999999996,10,59,41,25,96,31,6.5,6,2.2999999999999998,9,250,30,3,135,11,0.09,0.67,2.83,2.83,2.83,5.49,2.83,3.83,1,3.5,4.5,0,0,0,0,0,0,0,0,0,0,0,0,0,0,0,0,0,6,null,null,null,null,null,null,null,null,null,null,null,"BACT=",{"$f":"BF64","v":251.94458528984967},"bakterilerinin verimi, g/gün"]
[null,null,null,null,null,null,null,null,null,null,null,null,null,null,null,null,null,null,null,null,null,null,null,"KÖPEKDİŞİ (BERMUDAGRASS) KURU OTU, VEJ.SONU",0,5,91,76.599999999999994,8.57,98,0,49,1.77,0.93,0.39,7.8,85,15,25.9,25.4,34.200000000000003,8.9,6,2.7,8,250,30,3,135,11,0.09,0.67,2.83,2.83,2.83,5.49,2.83,3.83,1,3.5,4.5,0.26,0.18,0.13,0,1.3,0.08,0.21,0.12,9,0,290,0,0,20,136.19999999999999,0,0,6,null,null,null,null,null,null,null,null,null,null,null,"BACTN=",{"$f":"BG64","v":25.194458528984967},"bakteriyel nitrojen, g/gün"]
[null,null,null,null,null,null,null,null,null,null,null,null,null,null,null,null,null,null,null,null,null,null,null,"MISIR KOÇANI, ÖĞÜTÜLMÜŞ",0,5,90,87,7.78,56,36.200000000000003,50,1.81,0.97,0.42,2.8,22,78,25,10,15,10,90,0.6,1.8,300,35,4,150,12,0.1,0.76,1.1399999999999999,1.9,3.42,14.4,3.42,4.5599999999999996,2.66,4.9000000000000004,0.38,0.12,0.04,7.0000000000000007E-2,0,0.89,0.08,0.47,0.13,7,0,230,6,0.08,5,1.2,0,0,3,null,null,null,null,null,null,null,null,null,null,null,"NFCBACTN=",{"$f":"BH64","v":24.533381605513142},"selüloz olmayan karbonhidrat bakteriyel nitrojeni, g/gün"]
[null,null,null,null,null,null,null,null,null,null,null,null,null,null,null,null,null,null,null,null,null,null,null,"MISIR SAPLARI",0,5,50,65,10,100,0,65.849999999999994,2.38,1.5,0.91,6.5,69,31,20,95,31.43,13.57,10,2.1,7.2,250,30,5,135,4,0.09,0.8,2.13,1.87,2.13,6.4,2.4,3.2,1.07,2.94,0.11,0.62,0.09,0,0,1.63,0,0,0,0,0,0,0,0,0,0,0,0,2,null,null,null,null,null,null,null,null,null,null,null,"FCBACTN=",{"$f":"BI64","v":0.66107692347182556},"selüloz karbonhidrat bakteriyel nitrojeni, g/gün"]
[null,null,null,null,null,null,null,null,null,null,null,null,null,null,null,null,null,null,null,null,null,null,null,"MISIR SAPLARI,KURU","0","5","88",65,"10",100,0,65.849999999999994,2.38,1.5,0.91,6.5,69,31,20,95,31.43,13.57,10,2.1,7.2,250,30,5,"135","4",0.09,0.8,2.13,1.87,2.13,6.4,2.4,3.2,1.07,2.94,0.11,0.62,0.09,0,0,1.63,0,0,0,0,0,0,0,0,0,0,0,0,2,null,null,null,null,null,null,null,null,null,null,null,"PEPUP=",{"$f":"BJ64","v":48.432829868616423},"bakteriyel peptid, g/gün"]
[null,null,null,null,null,null,null,null,null,null,null,null,null,null,null,null,null,null,null,null,null,null,null,"PAMUK TOHUMU KAPÇIĞI ",0,5,91,90,24,100,47.8,45,1.55,0.78,0.25,4.0999999999999996,50,50,20,50,13,13,90,1.7,4,300,25,6,175,11,0.09,1.91,5.05,11.81,4.1399999999999997,6.67,4.34,5.49,2.4,6.59,0.3,0.15,0.09,0.14000000000000001,0.02,0.87,0.02,0.09,0.02,13,0,131,119,0.02,22,0,0,0,9,null,null,null,null,null,null,null,null,null,null,null,"PEPUPN=",{"$f":"BK64","v":7.7492527789786267},"bakteriyel peptid nitrojeni, g/gün"]
[null,null,null,null,null,null,null,null,null,null,null,null,null,null,null,null,null,null,null,null,null,null,null,"PARLAK YALANCI DARI (BAHIAGRASS) KURU OTU",0,5,90,72,11.11,98,0,51,1.84,1,0.45,8.1999999999999993,63,37,25,96,31,6.5,6,1.6,11,250,30,3,135,11,0.09,0.67,2.83,2.83,2.83,5.49,2.83,3.83,1,3.5,4.5,0.5,0.22,0.19,0,0,0,0,0,0,0,60,0,0,0,0,0,0,6,null,null,null,null,null,null,null,null,null,null,null,"EN=",{"$f":"BK64+AF64/6.25+((MPtotal-(MPpreg+MPmaint+MPg+MPlact))/6.25)-BG64","v":9.0606934318888079},"Bakteriyel rumen nitrojeni ve doku ihtiyaçlarının fazlası nitrojen, g/gün "]
[null,null,null,null,null,null,null,null,null,null,null,null,null,null,null,null,null,null,null,null,null,null,null,"SARI GAZALBOYNUZU (TREFOIL BIRDSFOOT) KURU OTU",0,5,91,47.5,19.14,92,0,59,2.13,1.28,0.71,15.9,82,18,28,96,25.2,14,10,2.1,7.4,250,30,5.5,150,9,1.25,0.73,6.02,6.39,5,9.26,6.01,7.14,2.62,6.32,1.84,1.7,0.23,0.51,0,1.92,7.0000000000000007E-2,0.25,0.11,9.26,0,227,29,0,77,75,1.5,0,6,null,null,null,null,null,null,null,null,null,null,null,"PEPBAL=",{"$f":"(BJ64/6.25)-(2/3)*BH64","v":-8.6063349580301338},"Peptid dengesi, g nitrojen/gün"]
[null,null,null,null,null,null,null,null,null,null,null,null,null,null,null,null,null,null,null,null,null,null,null,"SORGUM-SUDAN KURU OTU",0,5,91,66,6.06,98,0,56.09,2.0299999999999998,1.18,0.62,11.3,69,31,20,95,40,11,10,1.8,9.6,250,20,3,135,11,0.09,0.67,2.83,2.83,2.83,5.49,2.83,3.83,1,3.5,4.5,0.51,0.31,0.37,0,2.08,0.02,0.06,0.13,31.4,0,170,76.3,0,38,0,0,0,7,null,null,null,null,null,null,null,null,null,null,null,"BACTNBAL=",{"$f":"(((BJ64+AF64)/6.25)+büyükU)-BG64","v":42.760499743995268},"Bakteriyel nitrojen dengesi, g/gün"]
[null,null,null,null,null,null,null,null,null,null,null,null,null,null,null,null,null,null,null,null,null,null,null,"SOYA TOHUM KABUKLARI",0,5,91,66.3,2.99,2,0,80,2.89,1.94,1.3,12.2,58,42,18,72,20,14,100,2.1,4.9000000000000004,350,40,8,150,12,0.15,0.47,4.54,4.72,2.74,4.8600000000000003,2.46,3.3,1.84,2.99,0.67,0.53,0.18,0.22,0,1.29,0.03,0.11,0.12,17.8,0,409,10,0.14000000000000001,48,0,0,3.7,6,null,null,null,null,null,null,null,null,null,null,null,"Mikrobiyel kompozisyon"]
[null,null,null,null,null,null,null,null,null,null,null,null,null,null,null,null,null,null,null,null,null,null,null,"RYEGRASS KURU OTU",0,5,88,41,4.88,98,0,64,2.31,1.44,0.86,8.6,65,35,25,96,31,5.7,6,2.2000000000000002,10,250,30,5,135,11,0.09,0.67,2.83,2.83,2.83,5.49,2.83,3.83,1,3.5,4.5,0,0,0,0,0,0,0,0,0,0,0,0,0,0,199.9,0,0,7,null,null,null,null,null,null,null,null,null,null,null,"Rumenden kaçan bakteriyel fraksiyonlar:"]
[null,null,null,null,null,null,null,null,null,null,null,null,null,null,null,null,null,null,null,null,null,null,null,"YEM KANYAŞI (CANARYGRASS REED) KURU OTU",0,5,89,64,6.25,98,0,55,1.99,1.1399999999999999,0.57999999999999996,10.3,71,29,25,96,31,6.1,6,3.1,10,250,30,3,135,11,0.09,0.67,2.83,2.83,2.83,5.49,2.83,3.83,1,3.5,4.5,0.36,0.24,0.22,0,2.91,0.02,0,0,11.9,0,150,92.4,0,0,31.6,0,0,8,null,null,null,null,null,null,null,null,null,null,null,"REBTP=",{"$f":"BL64","v":94.479219483693626},"barsaklara geçen bakteriyel gerçek protein miktarı, g/gün"]
[null,null,null,null,null,null,null,null,null,null,null,null,null,null,null,null,null,null,null,null,null,null,null,"YONCA KURU OTU, ERKEN VEJETATİF",0,5,91,26.96,14.27,92,0,71,2.71,1.84,1.19,30.02,82.4,17.600000000000001,29,93,7.37,3.79,10,5.31,10.24,250,30,5.5,150,9,1.25,0.73,6.02,6.39,5,9.26,6.01,7.14,2.62,6.32,1.84,1.41,0.22,0.34,0.34,2.5099999999999998,0.12,0.3,0.28999999999999998,12.7,0.17,240,36,0.55000000000000004,30,56,2,26,8.5,null,null,null,null,null,null,null,null,null,null,null,"REBCW=",{"$f":"BM64","v":39.366341451539007},"barsaklara geçen bakteriyel hücre duvarı protein miktarı, g/gün"]
[null,null,null,null,null,null,null,null,null,null,null,null,null,null,null,null,null,null,null,null,null,null,null,"YONCA KURU OTU, GEÇ VEJETATİF",0,5,91,37.29,22.14,92,0,61,2.23,1.4,0.81,23.29,82.1,17.899999999999999,29,93,8.66,5.75,10,3.49,8.9,250,30,5.5,150,9,1.25,0.73,6.02,6.39,5,9.26,6.01,7.14,2.62,6.32,1.84,1.63,0.22,0.21,0.34,2.5099999999999998,0.12,0.54,0.28999999999999998,11.4,0,240,47.1,0.55000000000000004,37.4,56,2,26,8.5,null,null,null,null,null,null,null,null,null,null,null,"REBNA=",{"$f":"BN64","v":23.619804870923407},"barsaklara geçen bakteriyel nükleik asit miktarı, g/gün"]
[null,null,null,null,null,null,null,null,null,null,null,null,null,null,null,null,null,null,null,null,null,null,null,"YONCA KURU OTU, KM'de  >%21 HP, <%37 NDF",0,5,91,36.840000000000003,16,92,0,56.5,2.06,1.24,0.66,22.79,80.349999999999994,19.649999999999999,28,93,8.93,5.51,10,3.1,9.99,250,30,5.5,150,9,1.25,0.73,6.02,6.39,5,9.26,6.01,7.14,2.62,6.32,1.84,1.37,0.22,0.35,0.38,1.56,0.12,0.28000000000000003,0.39,17.7,0.16,225,28,0.55000000000000004,30.9,46,2,11,8.5,null,null,null,null,null,null,null,null,null,null,null,"REBCHO=",{"$f":"BO64","v":52.908362910868426},"barsaklara geçen bakteriyel CHO miktarı, g/gün"]
[null,null,null,null,null,null,null,null,null,null,null,null,null,null,null,null,null,null,null,null,null,null,null,"YONCA KURU OTU, KM'de %19-21 HP, %37-40 NDF",0,5,91,39.630000000000003,21.1,92,0,55.03,1.98,1.1599999999999999,0.59,20.2,70.91,29.09,28,93,16.920000000000002,6.44,10,3.03,9.75,250,30,5.5,150,9,1.25,0.73,6.02,6.39,5,9.26,6.01,7.14,2.62,6.32,1.84,1.39,0.24,0.35,0,1.56,0.12,0.28000000000000003,0.39,17.100000000000001,0,225,60.5,0.55000000000000004,30.9,46,2,11,8.5,null,null,null,null,null,null,null,null,null,null,null,"REBFAT=",{"$f":"BP64","v":30.233350234781959},"barsaklara geçen bakteriyel yağ miktarı, g/gün"]
[null,null,null,null,null,null,null,null,null,null,null,null,null,null,null,null,null,null,null,null,null,null,null,"YONCA KURU OTU, KM'de %17-19 HP, %40-44 NDF",0,5,91,43.36,20.059999999999999,92,0,54.46,1.93,1.08,0.51,17.93,68.56,31.44,26,92,21.66,9.26,10,2.48,9.07,250,30,5.5,150,9,1.25,0.73,6.02,6.39,5,9.26,6.01,7.14,2.62,6.32,1.84,1.19,0.24,0.27,0,1.56,7.0000000000000007E-2,0.3,0.23,9.9,0.13,160,42.3,0.55000000000000004,26.1,19.3,1,0,8.5,null,null,null,null,null,null,null,null,null,null,null,"REBASH=",{"$f":"BQ64","v":11.085561752753383},"barsaklara geçen bakteriyel kül miktarı, g/gün"]
[null,null,null,null,null,null,null,null,null,null,null,null,null,null,null,null,null,null,null,null,null,null,null,"YONCA KURU OTU, KM'de %15-17 HP, %44-48 NDF",0,5,91,47.37,19.239999999999998,92,0,52.69,1.84,1.03,0.46,16.079999999999998,68.040000000000006,31.96,26,92,20.43,9.51,10,2.59,8.91,250,30,5.5,150,9,1.25,0.73,6.02,6.39,5,9.26,6.01,7.14,2.62,6.32,1.84,1.19,0.24,0.27,0,1.56,7.0000000000000007E-2,0.3,0.23,9.9,0.13,160,42.3,0.55000000000000004,26.1,19.3,1,0,8.5,null,null,null,null,null,null,null,null,null,null,null,"İntestinal sindirilebilirlikler ve emilim"]
[null,null,null,null,null,null,null,null,null,null,null,null,null,null,null,null,null,null,null,null,null,null,null,"YONCA KURU OTU, KM'de %13-15 HP, %48-54 NDF",0,5,91,52.65,18.11,92,0,52.13,1.8,1,0.43,14.32,67.94,32.06,25,92,21.02,7.86,10,2.5499999999999998,8.17,250,30,5.5,150,9,1.25,0.73,6.02,6.39,5,9.26,6.01,7.14,2.62,6.32,1.84,1.18,0.21,0.22,0,2.0699999999999998,0.08,0.25,0.41,13.7,0,170,38.5,0.55000000000000004,22.1,19.3,1,0,8.5,null,null,null,null,null,null,null,null,null,null,null,"Yemden ve bakteriyel kaynaklardan sindirilen proteinin hesaplanması:"]
[null,null,null,null,null,null,null,null,null,null,null,null,null,null,null,null,null,null,null,null,null,null,null,"YONCA KURU OTU, KM'de <%13 HP, >%54 NDF",0,5,89,54.82,17.559999999999999,92,0,50.42,1.71,0.88,0.32,12.44,65.27,34.729999999999997,15,100,17.16,10.32,10,2.54,7.56,250,30,5.5,150,9,1.25,0.73,6.02,6.39,5,9.26,6.01,7.14,2.62,6.32,1.84,1.18,0.21,0.22,0,2.0699999999999998,0.08,0.25,0.41,13.7,0,170,38.5,0.55000000000000004,22.1,19.3,1,0,8.5,null,null,null,null,null,null,null,null,null,null,null,"DIGPB1=",{"$f":"BR64","v":5.3073281502240235},"sindirilebilir B1 protein, g/gün"]
[null,null,null,null,null,null,null,null,null,null,null,null,null,null,null,null,null,null,null,null,null,null,null,"YONCA UNU, %15",0,5,90,55.4,26,6,0,59,2.13,1.28,0.71,17.3,54,46,28,100,25,17,10,2.4,9.9,300,37,10,150,8,0.15,0.73,6.02,6.39,5,9.26,6.01,7.14,2.62,6.32,1.84,1.38,0.25,0.28999999999999998,0,2.46,0.08,0.21,0.19,10.5,0.13,309,31,0.31,21,33,0,91,10,null,null,null,null,null,null,null,null,null,null,null,"DIGPB2=",{"$f":"BS64","v":326.82745124340732},"sindirilebilir B2 protein, g/gün"]
[null,null,null,null,null,null,null,null,null,null,null,null,null,null,null,null,null,null,null,null,null,null,null,"YULAF KURU OTU",0,5,91,63,9.09,98,0,53,1.92,1.07,0.52,9.5,68,32,30,93,30,10,90,2.4,7.9,250,30,4,135,11,0.09,0.67,2.83,2.83,2.83,5.49,2.83,3.83,1,3.5,4.5,0.32,0.25,0.28999999999999998,0.52,1.49,0.18,0.23,7.0000000000000007E-2,4.8,0,406,99,0,45,49.6,2,0,6,null,null,null,null,null,null,null,null,null,null,null,"DIGPB3=",{"$f":"BT64","v":48.0227633439833},"sindirilebilir B3 protein, g/gün"]
[null,null,null,null,null,null,null,null,null,null,null,null,null,null,null,null,null,null,null,null,null,null,null,"YULAF SAMANI",0,5,92.2,74.400000000000006,20,98,40.5,45,1.63,0.79,0.25,4.4000000000000004,55,45,20,95,75,65,5,2.2000000000000002,7.8,250,30,3,135,11,0.09,0.67,2.83,2.83,2.83,5.49,2.83,3.83,1,3.5,4.5,0.23,0.06,0.17,0.78,2.5299999999999998,0.42,0.22,0,10.3,0,164,31,0,6,6.3,1,0,3,null,null,null,null,null,null,null,null,null,null,null,"DIGFP=",{"$f":"BU64","v":380.15754273761462},"sindirilebilir yem proteini, g/gün"]
[null,null,null,null,null,null,null,null,null,null,null,null,null,null,null,null,null,null,null,null,null,null,null,null,null,null,null,null,null,null,null,null,null,null,null,null,null,null,null,null,null,null,null,null,null,null,null,null,null,null,null,null,null,null,null,null,null,null,null,null,null,null,null,null,null,null,null,null,null,null,null,null,null,null,null,null,null,null,null,null,null,null,null,null,null,null,null,null,null,null,"DIGBTP=",{"$f":"BV64","v":94.479219483693626},"sindirilebilir bakteriyel gerçek protein, g/gün"]
[null,null,null,null,null,null,null,null,null,null,null,null,null,null,null,null,null,null,null,null,null,null,null,null,null,null,null,null,null,null,null,null,null,null,null,null,null,null,null,null,null,null,null,null,null,null,null,null,null,null,null,null,null,null,null,null,null,null,null,null,null,null,null,null,null,null,null,null,null,null,null,null,null,null,null,null,null,null,null,null,null,null,null,null,null,null,null,null,null,null,"DIGBNA=",{"$f":"BW64","v":23.619804870923407},"sindirilebilir bakteriyel nükleik asitler, g/gün"]
[null,null,null,null,null,null,null,null,null,null,null,null,null,null,null,null,null,null,null,null,null,null,null,null,null,null,null,null,null,null,null,null,null,null,null,null,null,null,null,null,null,null,null,null,null,null,null,null,null,null,null,null,null,null,null,null,null,null,null,null,null,null,null,null,null,null,null,null,null,null,null,null,null,null,null,null,null,null,null,null,null,null,null,null,null,null,null,null,null,null,"DIGP=",{"$f":"BX64","v":498.25656709223165},"sindirilebilir protein, g/gün"]
[null,null,null,null,null,null,null,null,null,null,null,null,null,null,null,null,null,null,null,null,null,null,null,null,null,null,null,null,null,null,null,null,null,null,null,null,null,null,null,null,null,null,null,null,null,null,null,null,null,null,null,null,null,null,null,null,null,null,null,null,null,null,null,null,null,null,null,null,null,null,null,null,null,null,null,null,null,null,null,null,null,null,null,null,null,null,null,null,null,null,"Yem maddesinden sindirilen CHO'ın hesaplanması:"]
[null,null,null,null,null,null,null,null,null,null,null,null,null,null,null,null,null,null,null,null,null,null,null,null,null,null,null,null,null,null,null,null,null,null,null,null,null,null,null,null,null,null,null,null,null,null,null,null,null,null,null,null,null,null,null,null,null,null,null,null,null,null,null,null,null,null,null,null,null,null,null,null,null,null,null,null,null,null,null,null,null,null,null,null,null,null,null,null,null,null,"DIGFC=",{"$f":"BY64","v":2762.3999387754457},"sindirilen intestinal  yem CHO'ı, g/gün"]
[null,null,null,null,null,null,null,null,null,null,null,null,null,null,null,null,null,null,null,null,null,null,null,null,null,null,null,null,null,null,null,null,null,null,null,null,null,null,null,null,null,null,null,null,null,null,null,null,null,null,null,null,null,null,null,null,null,null,null,null,null,null,null,null,null,null,null,null,null,null,null,null,null,null,null,null,null,null,null,null,null,null,null,null,null,null,null,null,null,null,"DIGBC=",{"$f":"BZ64","v":50.262944765325003},"sindirilen bakteriyel CHO, g/gün"]
[null,null,null,null,null,null,null,null,null,null,null,null,null,null,null,null,null,null,null,null,null,null,null,null,null,null,null,null,null,null,null,null,null,null,null,null,null,null,null,null,null,null,null,null,null,null,null,null,null,null,null,null,null,null,null,null,null,null,null,null,null,null,null,null,null,null,null,null,null,null,null,null,null,null,null,null,null,null,null,null,null,null,null,null,null,null,null,null,null,null,"DIGC=",{"$f":"Y94","v":2812.6628835407705},"sindirilebilir CHO, g/gün"]
[null,null,null,null,null,null,null,null,null,null,null,null,null,null,null,null,null,null,null,null,null,null,null,null,null,null,null,null,null,null,null,null,null,null,null,null,null,null,null,null,null,null,null,null,null,null,null,null,null,null,null,null,null,null,null,null,null,null,null,null,null,null,null,null,null,null,null,null,null,null,null,null,null,null,null,null,null,null,null,null,null,null,null,null,null,null,null,null,null,null,"stdig",0.75,"postruminal nişasta sindirilebilirliği, g/g"]
[null,null,null,null,null,null,null,null,null,null,null,null,null,null,null,null,null,null,null,null,null,null,null,null,null,null,null,null,null,null,null,null,null,null,null,null,null,null,null,null,null,null,null,null,null,null,null,null,null,null,null,null,null,null,null,null,null,null,null,null,null,null,null,null,null,null,null,null,null,null,null,null,null,null,null,null,null,null,null,null,null,null,null,null,null,null,null,null,null,null,"Rumenden kaçan yağın hesaplanması:"]
[null,null,null,null,null,null,null,null,null,null,null,null,null,null,null,null,null,null,null,null,null,null,null,null,null,null,null,null,null,null,null,null,null,null,null,null,null,null,null,null,null,null,null,null,null,null,null,null,null,null,null,null,null,null,null,null,null,null,null,null,null,null,null,null,null,null,null,null,null,null,null,null,null,null,null,null,null,null,null,null,null,null,null,null,null,null,null,null,null,null,"REFAT=",{"$f":"Z94","v":264.322778610059},"rumenden  kaçan yağ miktarı, g/gün"]
[null,null,null,null,null,null,null,null,null,null,null,null,null,null,null,null,null,null,null,null,null,null,null,null,null,null,null,null,null,null,null,null,null,null,null,null,null,null,null,null,null,null,null,null,null,null,null,null,null,null,null,null,null,null,null,null,null,null,null,null,null,null,null,null,null,null,null,null,null,null,null,null,null,null,null,null,null,null,null,null,null,null,null,null,null,null,null,null,null,null,"Yemden ve bakteriyel kaynaklardan sindirilebilir yağın hesaplanması:"]
[null,null,null,null,null,null,null,null,null,null,null,null,null,null,null,null,null,null,null,null,null,null,null,null,null,null,null,null,null,null,null,null,null,null,null,null,null,null,null,null,null,null,null,null,null,null,null,null,null,null,null,null,null,null,null,null,null,null,null,null,null,null,null,null,null,null,null,null,null,null,null,null,null,null,null,null,null,null,null,null,null,null,null,null,null,null,null,null,null,null,"DIGFF=",{"$f":"AA94","v":251.10663967955605},"sindirilebilir yem yağı, g/gün"]
[null,null,null,null,null,null,null,null,null,null,null,null,null,null,null,null,null,null,null,null,null,null,null,null,null,null,null,null,null,null,null,null,null,null,null,null,null,null,null,null,null,null,null,null,null,null,null,null,null,null,null,null,null,null,null,null,null,null,null,null,null,null,null,null,null,null,null,null,null,null,null,null,null,null,null,null,null,null,null,null,null,null,null,null,null,null,null,null,null,null,"DIGBF=",{"$f":"AB94","v":28.721682723042861},"sindirilebilir bakteriyel yağı, g/gün"]
[null,null,null,null,null,null,null,null,null,null,null,null,null,null,null,null,null,null,null,null,null,null,null,null,null,null,null,null,null,null,null,null,null,null,null,null,null,null,null,null,null,null,null,null,null,null,null,null,null,null,null,null,null,null,null,null,null,null,null,null,null,null,null,null,null,null,null,null,null,null,null,null,null,null,null,null,null,null,null,null,null,null,null,null,null,null,null,null,null,null,"DIGF=",{"$f":"AC94","v":279.82832240259887},"sindirilebilir yağ, g/gün"]
[null,null,null,null,null,null,null,null,null,null,null,null,null,null,null,null,null,null,null,null,null,null,null,null,null,null,null,null,null,null,null,null,null,null,null,null,null,null,null,null,null,null,null,null,null,null,null,null,null,null,null,null,null,null,null,null,null,null,null,null,null,null,null,null,null,null,null,null,null,null,null,null,null,null,null,null,null,null,null,null,null,null,null,null,null,null,null,null,null,null,"Dışkı ile atılım"]
[null,null,null,null,null,null,null,null,null,null,null,null,null,null,null,null,null,null,null,null,null,null,null,null,null,null,null,null,null,null,null,null,null,null,null,null,null,null,null,null,null,null,null,null,null,null,null,null,null,null,null,null,null,null,null,null,null,null,null,null,null,null,null,null,null,null,null,null,null,null,null,null,null,null,null,null,null,null,null,null,null,null,null,null,null,null,null,null,null,null,"Dışkıdaki sindirilmeyen NDFIP, ADFIP, nişasta, şeker, yağ, kül fraksiyonlarını hesaplama:"]
[null,null,null,null,null,null,null,null,null,null,null,null,null,null,null,null,null,null,null,null,null,null,null,null,null,null,null,null,null,null,null,null,null,null,null,null,null,null,null,null,null,null,null,null,null,null,null,null,null,null,null,null,null,null,null,null,null,null,null,null,null,null,null,null,null,null,null,null,null,null,null,null,null,null,null,null,null,null,null,null,null,null,null,null,null,null,null,null,null,null,"FEPB3=",{"$f":"AD94","v":12.005690835995821},"dışkıdaki B3 protein fraksiyonu miktarı, g/gün"]
[null,null,null,null,null,null,null,null,null,null,null,null,null,null,null,null,null,null,null,null,null,null,null,null,null,null,null,null,null,null,null,null,null,null,null,null,null,null,null,null,null,null,null,null,null,null,null,null,null,null,null,null,null,null,null,null,null,null,null,null,null,null,null,null,null,null,null,null,null,null,null,null,null,null,null,null,null,null,null,null,null,null,null,null,null,null,null,null,null,null,"FEPC=",{"$f":"AE94","v":125.4023760987136},"dışkıdaki C protein fraksiyonu miktarı, g/gün"]
[null,null,null,null,null,null,null,null,null,null,null,null,null,null,null,null,null,null,null,null,null,null,null,null,null,null,null,null,null,null,null,null,null,null,null,null,null,null,null,null,null,null,null,null,null,null,null,null,null,null,null,null,null,null,null,null,null,null,null,null,null,null,null,null,null,null,null,null,null,null,null,null,null,null,null,null,null,null,null,null,null,null,null,null,null,null,null,null,null,null,"FEFP=",{"$f":"AF94","v":137.40806693470941},"dışkıdaki yem proteini miktarı, g/gün"]
[null,null,null,null,null,null,null,null,null,null,null,null,null,null,null,null,null,null,null,null,null,null,null,null,null,null,null,null,null,null,null,null,null,null,null,null,null,null,null,null,null,null,null,null,null,null,null,null,null,null,null,null,null,null,null,null,null,null,null,null,null,null,null,null,null,null,null,null,null,null,null,null,null,null,null,null,null,null,null,null,null,null,null,null,null,null,null,null,null,null,"FECB1=",{"$f":"AG94","v":763.20520117614285},"dışkıdaki yem nişastası miktarı, g/gün"]
[null,null,null,null,null,null,null,null,null,null,null,null,null,null,null,null,null,null,null,null,null,null,null,null,null,null,null,null,null,null,null,null,null,null,null,null,null,null,null,null,null,null,null,null,null,null,null,null,null,null,null,null,null,null,null,null,null,null,null,null,null,null,null,null,null,null,null,null,null,null,null,null,null,null,null,null,null,null,null,null,null,null,null,null,null,null,null,null,null,"Tanımlamalar","FECB2=",{"$f":"AH94","v":1510.015100635329},"dışkıdaki yem değerlendirilebilir selüloz miktarı, g/gün"]
[null,null,null,null,null,null,null,null,null,null,null,null,null,null,null,null,null,null,null,null,null,null,null,null,null,null,null,null,null,null,null,null,null,null,null,null,null,null,null,null,null,null,null,null,null,null,null,null,null,null,null,null,null,null,null,null,null,null,null,null,null,null,null,null,null,null,null,null,null,null,null,null,null,null,null,null,null,null,null,null,null,null,null,null,null,null,null,null,null,"Irkı","FECC=",{"$f":"AI94","v":894.62922851681844},"dışkıdaki yem değerlendirilemeyen selüloz miktarı, g/gün"]
[null,null,null,null,null,null,null,null,null,null,null,null,null,null,null,null,null,null,null,null,null,null,null,null,null,null,null,null,null,null,null,null,null,null,null,null,null,null,null,null,null,null,null,null,null,null,null,null,null,null,null,null,null,null,null,null,null,null,null,null,null,null,null,null,null,null,null,null,null,null,null,null,null,null,null,null,null,null,null,null,null,null,null,null,null,null,null,null,null,"Angus","FEFC=",{"$f":"AJ94","v":3167.8495303282903},"dışkıdaki yem CHO'ı miktarı, g/gün"]
[null,null,null,null,null,null,null,null,null,null,null,null,null,null,null,null,null,null,null,null,null,null,null,null,null,null,null,null,null,null,null,null,null,null,null,null,null,null,null,null,null,null,null,null,null,null,null,null,null,null,null,null,null,null,null,null,null,null,null,null,null,null,null,null,null,null,null,null,null,null,null,null,null,null,null,null,null,null,null,null,null,null,null,null,null,null,null,null,null,"Ayrşayr","FEFA=",{"$f":"AK94","v":217.55600313918171},"dışkıdaki sindirilmemiş yem külü miktarı, g/gün"]
[null,null,null,null,null,null,null,null,null,null,null,null,null,null,null,null,null,null,null,null,null,null,null,null,null,null,null,null,null,null,null,null,null,null,null,null,null,null,null,null,null,null,null,null,null,null,null,null,null,null,null,null,null,null,null,null,null,null,null,null,null,null,null,null,null,null,null,null,null,null,null,null,null,null,null,null,null,null,null,null,null,null,null,null,null,null,null,null,null,"İsviçre Esmeri","FEFF=",{"$f":"AL94","v":13.216138930502963},"dışkıdaki sindirilmemiş yem yağı miktarı, g/gün"]
[null,null,null,null,null,null,null,null,null,null,null,null,null,null,null,null,null,null,null,null,null,null,null,null,null,null,null,null,null,null,null,null,null,null,null,null,null,null,null,null,null,null,null,null,null,null,null,null,null,null,null,null,null,null,null,null,null,null,null,null,null,null,null,null,null,null,null,null,null,null,null,null,null,null,null,null,null,null,null,null,null,null,null,null,null,null,null,null,null,"Braford","Dışkıdaki mikrobiyel madde, sindirilmeyen bakteriyel hücre duvarları, bakteriyel CHO, yağ ve külden oluşur:"]
[null,null,null,null,null,null,null,null,null,null,null,null,null,null,null,null,null,null,null,null,null,null,null,null,null,null,null,null,null,null,null,null,null,null,null,null,null,null,null,null,null,null,null,null,null,null,null,null,null,null,null,null,null,null,null,null,null,null,null,null,null,null,null,null,null,null,null,null,null,null,null,null,null,null,null,null,null,null,null,null,null,null,null,null,null,null,null,null,null,"Brangus","FEBCW=",{"$f":"AM94","v":39.366341451539007},"fekal bakteriyel hücre duvarı proteini miktarı, g/gün"]
[null,null,null,null,null,null,null,null,null,null,null,null,null,null,null,null,null,null,null,null,null,null,null,null,null,null,null,null,null,null,null,null,null,null,null,null,null,null,null,null,null,null,null,null,null,null,null,null,null,null,null,null,null,null,null,null,null,null,null,null,null,null,null,null,null,null,null,null,null,null,null,null,null,null,null,null,null,null,null,null,null,null,null,null,null,null,null,null,null,"Braunvieh","FEBCP=",{"$f":"AN94","v":39.366341451539007},"fekal bakteriyel protein miktarı, g/gün"]
[null,null,null,null,null,null,null,null,null,null,null,null,null,null,null,null,null,null,null,null,null,null,null,"ENERJİ KAYNAKLARI","en az","en çok","KM %Yem","NDF %KM","Lignin %NDF","Effekt. %NDF","HS,%","TDN %KM","ME,Mcal/kg","NEm,Mcal/kg","NEg,Mcal/kg","HP,%","DIP %HP","UIP %HP","SoIP %HP","NPN %SoIP","NDFIP %HP","ADFIP %HP","Nişasta %NSC","HY %KM","HK %KM","A kd %/sa©","B1 kd %/sa©","B2 kd %/sa©","B1 kd %/sa(p)","B2 kd %/sa(p)","B3 kd %/sa(p)","MET %UIP","LİZ %UIP","ARJ %UIP","TRE %UIP","LÖY %UIP","İZOLÖY %UIP","VAL %UIP","HIS %UIP","FENAL %UIP","TRİP %UIP","Ca %KM","P %KM","Mg %KM","Cl %KM","K %KM","Na %KM","S %KM","Co mg/kg","Cu mg/kg","I mg/kg","Fe mg/kg","Mn mg/kg","Se mg/kg","Zn mg/kg","Vit A 1000 IU/kg","Vit D 1000 IU/kg","Vit E IU/kg","FİYAT,TL",null,null,null,null,null,null,null,null,null,null,"Şarole","FEBC=",{"$f":"AO94","v":2.6454181455434238},"fekal bakteriyel CHO miktarı, g/gün"]
[null,null,null,null,null,null,null,null,null,null,null,null,null,null,null,null,null,null,null,null,null,null,null,"ARPA, AĞIR",0,5,88,18.100000000000001,10.52,34,0,84,3.04,2.06,1.4,13.2,66.92,33.07,17,29,8,5,90,2.2000000000000002,2.4,300,30,5,300,12,0.35,0.81,3.07,4.83,3.15,6.83,3.92,4.88,2.29,5.6,1.26,0.05,0.35,0.12,0.13,0.56999999999999995,0.01,0.15,0.35,5.3,0.05,59.5,18.3,0.18,13,3.8,0,26.2,8.5,null,null,null,null,null,null,null,null,null,null,"Çiyanina","FEBF=",{"$f":"AP94","v":1.5116675117390994},"fekal bakteriyel yağ miktarı, g/gün"]
[null,null,null,null,null,null,null,null,null,null,null,null,null,null,null,null,null,null,null,null,null,null,null,"ARPA, HAFİF",0,5,88,28,10.35,34,0,77,2.78,1.85,1.22,14,66.92,33.07,17,29,8,5,90,2.2999999999999998,4,300,30,5,300,12,0.35,0.81,3.07,4.83,3.15,6.83,3.92,4.88,2.29,5.6,1.26,0.06,0.39,0.15,0.13,0.52,0.03,0.17,0.19,8.6,0.05,90,18.100000000000001,0.18,44.4,3.8,0,26.2,8,null,null,null,null,null,null,null,null,null,null,"Frezyan","FEBASH=",{"$f":"AQ94","v":5.5427808763766917},"fekal bakteriyel kül miktarı, g/gün"]
[null,null,null,null,null,null,null,null,null,null,null,null,null,null,null,null,null,null,null,null,null,null,null,"BUĞDAY",0,5,89,35,5.95,2,0,83,3,2.0299999999999998,1.37,18.399999999999999,77.150000000000006,22.85,40,75,4,3,90,3.2,2.87,300,70,6,250,6,0.35,1.02,3.77,6.96,3.67,7.37,4.09,5.79,2.41,4.74,1.2,0.15,1,0.38,0.04,1.1000000000000001,0.01,0.19,0.11,11,0.12,110,128.30000000000001,0.83,109.1,5.8,0,26.9,10.5,null,null,null,null,null,null,null,null,null,null,"Gernzey","FEBACT=",{"$f":"AR94","v":49.066207985198226},"fekal bakteri miktarı, g/gün"]
[null,null,null,null,null,null,null,null,null,null,null,null,null,null,null,null,null,null,null,null,null,null,null,"BUĞDAY, ÖĞÜTÜLMÜŞ",0,5,89,11.8,6.25,0,0,88,3.18,2.1800000000000002,1.5,14.2,77,23,30,25,4,2,90,2.34,2.0099999999999998,300,40,9,300,12,0.35,0.98,3,4.33,2.82,13.64,3.98,4.5,2.23,4.84,1.06,0.05,0.44,0.13,0.09,0.4,0.01,0.14000000000000001,0.5,6.5,0.1,45.1,36.6,0.05,38.1,0,0,17,12,null,null,null,null,null,null,null,null,null,null,"Hereford","Endoen protein, CHO ve kül:"]
[null,null,null,null,null,null,null,null,null,null,null,null,null,null,null,null,null,null,null,null,null,null,null,"BUĞDAY, SERT, KIRMIZI, YAZLIK",0,5,88,11.7,6.25,0,0,84,3.04,2.06,1.4,14.2,73.95,26.05,30,73,4,2,90,2,2,300,40,6,300,12,0.35,0.98,3,4.33,2.82,13.64,3.98,4.5,2.23,4.84,1.06,0.05,0.42,0.16,0.09,0.41,0.02,0.17,0.14000000000000001,6.8,0,70,42.2,0.3,43.3,0,0,14.4,10.5,null,null,null,null,null,null,null,null,null,null,"Siyah Alaca","FEENGP=",{"$f":"AS94","v":378.50365961742864},"dışkıdaki endojen protein miktarı, g/gün"]
[null,null,null,null,null,null,null,null,null,null,null,null,null,null,null,null,null,null,null,null,null,null,null,"BUĞDAY, YUMUŞAK, BEYAZ",0,5,90,9.6999999999999993,4.29,2.6,0,85,3.07,2.09,1.42,11.3,73.95,26.05,30,73,4,2,90,1.9,2,300,40,6,300,12,0.35,0.98,3,4.33,2.82,13.64,3.98,4.5,2.23,4.84,1.06,7.0000000000000007E-2,0.33,0.11,0,0.43,0.02,0.13,0.15,7.8,0,40,40,0.05,30,0,0,34.200000000000003,10.5,null,null,null,null,null,null,null,null,null,null,"Jersey","FEENGF=",{"$f":"AT94","v":99.645663367813157},"dışkıdaki endojen yağ miktarı, g/gün"]
[null,null,null,null,null,null,null,null,null,null,null,null,null,null,null,null,null,null,null,null,null,null,null,"ÇAVDAR",0,2,88,19,5.3,34,0,84,3.04,2.06,1.4,13.8,78.989999999999995,21.01,53,19,7,4,90,1.7,2,300,40,8,300,12,0.35,1.38,3.47,4.42,2.97,5.8,3.84,4.6399999999999997,2.1,4.6399999999999997,0.94,7.0000000000000007E-2,0.36,0.14000000000000001,0.03,0.52,0.03,0.17,0,8.6,0,80,82.3,0.44,32.200000000000003,0.2,0,16.600000000000001,11,null,null,null,null,null,null,null,null,null,null,"Limuzin","FEENGA=",{"$f":"AU94","v":142.35094766830449},"dışkıdaki endojen kül miktarı, g/gün"]
[null,null,null,null,null,null,null,null,null,null,null,null,null,null,null,null,null,null,null,null,null,null,null,"HAVUÇ",0,5,11,9,0.08,33,0,84,3.3,2,1.35,10,33.799999999999997,66.2,4.5,96,5.2,2.2999999999999998,14,1.3,8.4,300,40,8,300,12,0.35,0.65,3,4.43,3.17,4.6100000000000003,2.69,4.5,1.87,2.8,1.1000000000000001,0.4,0.35,0.2,0.5,2.8,0.48,0.17,0,10.4,0,130,31.5,0,32.700000000000003,0,0,0,1.2,null,null,null,null,null,null,null,null,null,null,"Longhorn","IDM",{"$f":"AZ94","v":4205.5962179714288},"Sindirilmeyen kuru madde, g/gün         (NRC,1989)"]
[null,null,null,null,null,null,null,null,null,null,null,null,null,null,null,null,null,null,null,null,null,null,null,"HAYVAN PANCARI",0,5,11,44.6,3.7,33,0,72,3.12,1.94,1.3,11,42.62,57.37,27,96,53,11,90,2.1,4.7,300,40,8,300,12,0.35,0.65,3,4.43,3.17,4.6100000000000003,2.69,4.5,1.87,2.8,1.1000000000000001,0.87,0.1,0.22,0.04,0.19,0.19,0.22,0.08,13.8,0,330,37.700000000000003,0.12,10,0.4,0.6,0,2,null,null,null,null,null,null,null,null,null,null,"Meyn Anju","Toplam dışkı kuru maddesi, sindirilmemiş yem kalıntıları, mikrobiyel madde ve endoen maddelerde bulunan protein, CHO, yağ ve kül kuru maddelerini toplayarak hesap edilir:"]
[null,null,null,null,null,null,null,null,null,null,null,null,null,null,null,null,null,null,null,null,null,null,null,"KUYRUK YAĞI",0,0.5,99,0,0,0,0,177,6.4,4.75,3.51,0,100,0,0,0,0,0,0,99,1,0,0,0,0,0,0,0,0,0,0,0,0,0,0,0,0,0.56999999999999995,0.06,0.06,0,0.32,0.01,0,0.56999999999999995,15,0.68,482,47,0,42,0,0,0,400,null,null,null,null,null,null,null,null,null,null,"Piedmontese","FEPROT=",{"$f":"AV94","v":555.27806800367705},"fekal protein miktarı, g/gün"]
[null,null,null,null,null,null,null,null,null,null,null,null,null,null,null,null,null,null,null,null,null,null,null,"LUPENLER",0,5,90,33,10,0,0,78,2.82,1.88,1.24,34.200000000000003,69.19,30.8,26,23,4,3,0,5.5,5.0999999999999996,300,30,5,200,10,0.2,1.01,7.06,9.3699999999999992,3.53,6.93,4.08,4.62,2.48,4.62,0.76,0.26,0.44,0,0,0.91,0,0,0,0,0,0,0,0,0,0,0,0,20,null,null,null,null,null,null,null,null,null,null,"Pinzgauer","FECHO=",{"$f":"AW94","v":3170.494948473834},"dışkıdaki CHO miktarı, g/gün"]
[null,null,null,null,null,null,null,null,null,null,null,null,null,null,null,null,null,null,null,null,null,null,null,"MISIR PULU (FLAKED)",0,5,86,9,2.2200000000000002,48,0,93,3.36,2.33,1.62,9.8000000000000007,43.03,56.96,8,73,15,5,90,4.3,1.6,300,25,6,135,5,0.08,1.1200000000000001,1.65,1.82,2.8,10.73,2.69,3.75,2.06,3.65,0.37,0.03,0.31,0.11,0.06,0.33,0.01,0.14000000000000001,0.43,4.8,0,30,6.4,0,0,0,0,0,11.5,null,null,null,null,null,null,null,null,null,null,"Polled Hereford","FEFAT=",{"$f":"AX94","v":114.37346981005521},"dışkıdaki yağ miktarı, g/gün"]
[null,null,null,null,null,null,null,null,null,null,null,null,null,null,null,null,null,null,null,null,null,null,null,"MISIR, 58 kg/hektolitre",0,5,88,10,2.2200000000000002,60,0,88,3.18,2.1800000000000002,1.5,9.8000000000000007,41.22,58.78,12,73,15,5,90,4.3,1.6,150,10,4,135,5,0.1,1.1200000000000001,1.65,1.82,2.8,10.73,2.69,3.75,2.06,3.65,0.37,0.04,0.3,0.15,0.06,0.32,0.01,0.12,0.43,2.5,0,30,5.8,0,0,0,0,0,8.5,null,null,null,null,null,null,null,null,null,null,"Red Poll","FEASH=",{"$f":"AY94","v":365.44973168386286},"dışkıdaki kül miktarı, g/gün"]
[null,null,null,null,null,null,null,null,null,null,null,null,null,null,null,null,null,null,null,null,null,null,null,"MISIR, 58 kg/hektolitre, YÜKSEK NEMLİ",0,5,72,10.5,2.2200000000000002,0,0,90,3.25,2.2400000000000002,1.55,9.8000000000000007,67.819999999999993,32.18,40,100,15.9,5.3,100,4.3,1.6,50,30,6,135,10,0.15,0.99,2.4700000000000002,4.1100000000000003,3.33,12.1,3.85,4.78,2.7,4.99,0.37,0.04,0.3,0.15,0.06,0.32,0.01,0.12,0.43,2.5,0,30,5.8,0,0,0,0,0,8.5,null,null,null,null,null,null,null,null,null,null,"Seylırz","FEDM=",{"$f":"AZ94","v":4205.5962179714288},"fekal kuru madde miktarı, g/gün"]
[null,null,null,null,null,null,null,null,null,null,null,null,null,null,null,null,null,null,null,null,null,null,null,"MISIR, 65 kg/hektolitre",0,5,88,9.5,2.2200000000000002,60,0,88,3.27,2.2599999999999998,1.56,9.8000000000000007,43,57,11.5,73,15,5,90,4.3,1.6,150,10,4,135,5,0.1,1.1200000000000001,1.65,1.82,2.8,10.73,2.69,3.75,2.06,3.65,0.37,3.5000000000000003E-2,0.3,0.13,0.06,0.32,0.01,0.13,0.43,3,0,30,6.1,0,0,0,0,0,9,null,null,null,null,null,null,null,null,null,null,"Santa Gertudis","Yem maddelerinin toplam sindirilebilir besin maddesi ve eneri değerleri"]
[null,null,null,null,null,null,null,null,null,null,null,null,null,null,null,null,null,null,null,null,null,null,null,"MISIR, 72 kg/hektolitre",0,5,88,9,2.2200000000000002,60,0,88,3.18,2.1800000000000002,1.5,9.8000000000000007,44.66,55.33,11,73,15,5,90,4.3,1.6,150,10,4,135,4,0.1,1.1200000000000001,1.65,1.82,2.8,10.73,2.69,3.75,2.06,3.65,0.37,0.03,0.31,0.11,0.06,0.33,0.01,0.14000000000000001,0.43,4.8,0,30,6.4,0,0,0,0,0,9.5,null,null,null,null,null,null,null,null,null,null,"Şorthorn","Sindirilebilir besin maddeleri tüketiminden dışkıdaki sindirilmeyen bakteriyel ve yem komponentlerini çıkararak zahiri TDN bulunur:"]
[null,null,null,null,null,null,null,null,null,null,null,null,null,null,null,null,null,null,null,null,null,null,null,"MISIR, 72 kg/hektolitre, ÖĞÜTÜLMÜŞ",0,5,88,9,2.2200000000000002,0,0,88,3.18,2.1800000000000002,1.5,9.8000000000000007,57.36,42.63,11,73,15,5,90,4.3,1.6,250,25,6,135,10,0.1,1.1200000000000001,1.65,1.82,2.8,10.73,2.69,3.75,2.06,3.65,0.37,0.03,0.31,0.11,0.06,0.33,0.01,0.14000000000000001,0.43,4.8,0,30,6.4,0,0,0,0,0,9.5,null,null,null,null,null,null,null,null,null,null,"Simental","TDNAPP=",{"$f":"BA94","v":4280.7633003931633},"zahiri TDN, g/gün"]
[null,null,null,null,null,null,null,null,null,null,null,null,null,null,null,null,null,null,null,null,null,null,null,"MISIR, 72 kg/hektolitre, YÜKSEK NEMLİ",0,5,72,9,2.2200000000000002,0,0,93,3.36,2.33,1.62,9.8000000000000007,67.819999999999993,32.18,40,100,15.9,5.3,95,4.3,1.6,50,30,6,135,10,0.15,0.99,2.4700000000000002,4.1100000000000003,3.33,12.1,3.85,4.78,2.7,4.99,0.37,0.03,0.31,0.11,0.06,0.33,0.01,0.14000000000000001,0.43,4.8,0,30,6.4,0,0,0,0,0,9.5,null,null,null,null,null,null,null,null,null,null,"South Devon","Yemlerin ME değerleri 1 kg TDN=4,409 Mcal SE ve 1 Mcal SE=0,82 Mcal ME farzedilerek hesaplanır:"]
[null,null,null,null,null,null,null,null,null,null,null,null,null,null,null,null,null,null,null,null,null,null,null,"MISIR, YARMA",0,5,88,10.8,2.2200000000000002,30,0,90,3.25,2.2400000000000002,1.55,9.8000000000000007,44.66,55.33,11,73,15,5,90,4.0599999999999996,1.46,200,15,5,135,5,0.09,1.1200000000000001,1.65,1.82,2.8,10.73,2.69,3.75,2.06,3.65,0.37,0.03,0.32,0.12,0.05,0.44,0.01,0.11,0.31,2.5099999999999998,0.03,54.5,7.9,0.14000000000000001,24.2,1,0,25,9.5,null,null,null,null,null,null,null,null,null,null,"Tarentez","MEa=",{"$f":"BB94","v":15.47658602097543},"kullanılabilir ME, Mcal/gün"]
[null,null,null,null,null,null,null,null,null,null,null,null,null,null,null,null,null,null,null,null,null,null,null,"PAMUK TOHUMU, BÜTÜN",0,1,92,40,15,100,0,95,3.43,2.38,1.67,23,69.56,30.44,40,2.5,6,6,90,17.5,5,300,25,6,175,8,0.25,0.63,3.85,10.4,3.45,6.33,3.77,5.27,3.14,5.85,1.74,0.16,0.62,0.35,0,1.22,0.03,0.26,0,7.9,0,160,12.2,0,37.700000000000003,0,0,0,80,null,null,null,null,null,null,null,null,null,null,null,"MEC=",{"$f":"BC94","v":4.7260795908214464},"ME konsantrasyonu, Mcal/kg"]
[null,null,null,null,null,null,null,null,null,null,null,null,null,null,null,null,null,null,null,null,null,null,null,"PAMUK TOHUMU, YÜKSEK LİNTLİ",0,1,92,51.6,16,100,0,90,3.25,2.2400000000000002,1.55,24.4,69.56,30.44,40,2.5,10,6,90,17.5,4.16,300,25,6,175,8,0.25,0.63,3.85,10.4,3.45,6.33,3.77,5.27,3.14,5.85,1.74,0.17,0.62,0.38,0,1.24,0.01,0.27,0,7.9,0,107,131,0,37.700000000000003,0,0,0,85,null,null,null,null,null,null,null,null,null,null,null,"MEI=",{"$f":"MEI","v":20.463751936346263},"Rasyondan sağlanan ME, Mcal/gün"]
[null,null,null,null,null,null,null,null,null,null,null,null,null,null,null,null,null,null,null,null,null,null,null,"PATATES",0,5,24,9,8.1,0,0,81,3.16,1.92,1.28,9.3000000000000007,0,0,0,0,5.2,2.2999999999999998,100,0,4.8,0,0,0,0,0,0,0,0,0,0,0,0,0,0,0,0,0.04,0.24,0.14000000000000001,0.28000000000000003,2.17,0.09,0.09,0,28.4,0,80,41.7,0,0,0,0,0,2.5,null,null,null,null,null,null,null,null,null,null,null,"MEC=",{"$f":"MEI/TotalDMFed","v":2.4438459217602064},"Rasyonun ME konsantrasyonu, Mcal/kg"]
[null,null,null,null,null,null,null,null,null,null,null,null,null,null,null,null,null,null,null,null,null,null,null,"PİRİNÇ, ÖĞÜTÜLMÜŞ",0,2,89,16,13,0,0,79,2.86,1.91,1.27,8.9,69.849999999999994,30.15,40,50,21.4,2.7,90,1.9,5,350,50,10,300,15,1,2.2000000000000002,4.3,7.4,3.6,7.4,3.7,5.4,2.6,4.8,1,7.0000000000000007E-2,0.36,0.14000000000000001,0.08,0.53,7.0000000000000007E-2,0.05,0.05,3,0.05,0,20.2,0,16.899999999999999,0,0,15.7,13,null,null,null,null,null,null,null,null,null,null,null,"NET ENERİ DEĞERLERİNİN HESAPLANMASI"]
[null,null,null,null,null,null,null,null,null,null,null,null,null,null,null,null,null,null,null,null,null,null,null,"PİRİNÇ, PARLATILMIŞ",0,2,89,1.84,0,0,0,89,3.22,2.21,1.52,8.6,66.290000000000006,33.700000000000003,40,50,21.4,2.7,90,0.8,1,300,40,8,250,12,0.35,2.2000000000000002,4.3,7.4,3.6,7.4,3.7,5.4,2.6,4.8,1,0.03,0.13,0.1,0.04,0.26,0.02,0.09,0.96,6.1,0,20,33.4,0,15.4,0,0,11.7,13,null,null,null,null,null,null,null,null,null,null,null,"NEga=",{"$f":"BD94","v":-39.741276921847671},"büyüme için NE içeriği, Mcal/kg            (NRC, 1984)"]
[null,null,null,null,null,null,null,null,null,null,null,null,null,null,null,null,null,null,null,null,null,null,null,"SORGUM",0,5,89,23,6.09,34,0,76,2.75,1.82,1.19,12.4,50.75,49.24,12,33,10,5,90,3.1,2,150,10,5,135,6,0.12,0.75,3.61,7.07,2.2599999999999998,4.29,3.01,2.78,1.35,2.78,0.75,0.05,0.34,0.14000000000000001,0.09,0.47,0.04,0.12,0.53,4.9000000000000004,7.0000000000000007E-2,60,17.899999999999999,0.23,19.100000000000001,0.05,0,12,100,null,null,null,null,null,null,null,null,null,null,null,"NEma=",{"$f":"BE94","v":-25.248089114030769},"yaşama payı için NE içeriği, Mcal/kg            (NRC, 1984)"]
[null,null,null,null,null,null,null,null,null,null,null,null,null,null,null,null,null,null,null,null,null,null,null,"SORGUM PULU (FLAKED)",0,5,70,23,6.09,34,0,88,3.18,2.1800000000000002,1.5,12,56.4,43.6,8,80,10,5,100,3.1,2,250,15,5,160,8,0.15,0.75,3.61,7.07,2.2599999999999998,4.29,3.01,2.78,1.35,2.78,0.75,0.05,0.34,0.14000000000000001,0.09,0.35,0.04,0.12,0.53,4.9000000000000004,7.0000000000000007E-2,60,17.899999999999999,0.23,19.100000000000001,0.05,0,12,120,null,null,null,null,null,null,null,null,null,null,"AnimalType grubu","METABOLİK PROTEİN"]
[null,null,null,null,null,null,null,null,null,null,null,null,null,null,null,null,null,null,null,null,null,null,null,"SORGUM, EZME",0,5,90,23,6.09,34,0,82,2.96,2,1.35,12.6,43,57,12,33,10,5,90,3.03,1.87,200,10,5,135,6,0.12,0.75,3.61,7.07,2.2599999999999998,4.29,3.01,2.78,1.35,2.78,0.75,0.04,0.34,0.17,0.09,0.44,0.01,0.14000000000000001,0.53,4.7,7.0000000000000007E-2,80.8,15.4,0.46,16,0.05,0,12,120,null,null,null,null,null,null,null,null,null,null,"Buzağı","MPa=",{"$f":"BF94","v":474.63676222130829},"metabolize olabilir protein, g/gün"]
[null,null,null,null,null,null,null,null,null,null,null,null,null,null,null,null,null,null,null,null,null,null,null,"ŞEKER PANCARI",0,5,17,44.6,3.7,33,0,72,2.54,1.74,1.1200000000000001,8.8000000000000007,42.62,57.37,27,96,53,11,90,2.1,4.7,300,40,8,300,12,0.35,0.65,3,4.43,3.17,4.6100000000000003,2.69,4.5,1.87,2.8,1.1000000000000001,0.69,0.08,0.22,0.04,0.19,0.19,0.22,0.08,13.8,0,330,37.700000000000003,0.12,10,0.4,0.6,0,2,null,null,null,null,null,null,null,null,null,null,"Besi Sığırı"]
[null,null,null,null,null,null,null,null,null,null,null,null,null,null,null,null,null,null,null,null,null,null,null,"TAPİOKA",0,1,89,8,0,0,0,84,3.04,2.06,1.4,3.1,56.1,43.89,25,45,30,5,13.6,0.8,3,300,40,8,300,12,0.35,1.33,3.33,4.67,2.67,4.67,3,3.67,3,1,0.67,0,0,0,0,0,0,0,0,0,0,0,0,0,0,0,0,0,20,null,null,null,null,null,null,null,null,null,null,"Damızlık Düve"]
[null,null,null,null,null,null,null,null,null,null,null,null,null,null,null,null,null,null,null,null,null,null,null,"YULAF, 41 kg/hektolitre",0,5,91,42,9.52,34,0,73,2.64,1.73,1.1100000000000001,13.6,76.55,23.45,53,19,11,5,90,4.9000000000000004,5,300,35,5,325,12,0.35,2.12,2.02,4.38,2.16,7.7,3.84,0,1.8,5.86,1.28,7.0000000000000007E-2,0.3,0.16,0.1,0.45,0.06,0.23,0.06,6.7,0.13,80,40.1,0.24,39.200000000000003,0.2,0,15,7,null,null,null,null,null,null,null,null,null,null,"Damızlık Boğa"]
[null,null,null,null,null,null,null,null,null,null,null,null,null,null,null,null,null,null,null,null,null,null,null,"YULAF, 49 kg/hektolitre",0,5,89,29.3,9.3800000000000008,34,0,77,2.78,1.85,1.22,13.6,83,17,53,19,11,5,90,5.2,3.3,300,35,5,325,12,0.35,2.12,2.02,4.38,2.16,7.7,3.84,0,1.8,5.86,1.28,8.9999999999999993E-3,0.41,0.16,0.1,0.51,0.02,0.21,0.06,8.6,0.13,94.1,40.299999999999997,0.24,40.799999999999997,0.2,0,15,7.5,null,null,null,null,null,null,null,null,null,null,"Kurudaki İnek"]
[null,null,null,null,null,null,null,null,null,null,null,null,null,null,null,null,null,null,null,null,null,null,null,null,null,null,null,null,null,null,null,null,null,null,null,null,null,null,null,null,null,null,null,null,null,null,null,null,null,null,null,null,null,null,null,null,null,null,null,null,null,null,null,null,null,null,null,null,null,null,null,null,null,null,null,null,null,null,null,null,null,null,null,null,null,null,null,null,null,"Laktasyondaki İnek"]
[null,null,null,null,null,null,null,null,null,null,null,null,null,null,null,null,null,null,null,null,null,null,null,null,null,null,null,null,null,null,null,null,null,null,null,null,null,null,null,null,null,null,null,null,null,null,null,null,null,null,null,null,null,null,null,null,null,null,null,null,null,null,null,null,null,null,null,null,null,null,null,null,null,null,null,null,null,null,null,null,null,null,null,null,null,null,null,null,null,"Kastre Erkek"]
[]
[]
[]
[]
[]
[]
[]
[]
[]
[]
[]
[]
[]
[]
[]
[]
[]
[]
[]
[]
[]
[]
[]
[]
[]
[]
[]
[]
[]
[]
[]
[]
[]
[]
[]
[]
[]
[]
[]
[]
[]
[]
[null,null,null,null,null,null,null,null,null,null,null,null,null,null,null,null,null,null,null,null,null,null,null,"PROTEİN KAYNAKLARI","en az","en çok","KM %Yem","NDF %KM","Lignin %NDF","Effekt. %NDF","HS,%","TDN %KM","ME,Mcal/kg","NEm,Mcal/kg","NEg,Mcal/kg","HP,%","DIP %HP","UIP %HP","SoIP %HP","NPN %SoIP","NDFIP %HP","ADFIP %HP","Nişasta %NSC","HY %KM","HK %KM","A kd %/sa©","B1 kd %/sa©","B2 kd %/sa©","B1 kd %/sa(p)","B2 kd %/sa(p)","B3 kd %/sa(p)","MET %UIP","LİZ %UIP","ARJ %UIP","TRE %UIP","LÖY %UIP","İZOLÖY %UIP","VAL %UIP","HIS %UIP","FENAL %UIP","TRİP %UIP","Ca %KM","P %KM","Mg %KM","Cl %KM","K %KM","Na %KM","S %KM","Co mg/kg","Cu mg/kg","I mg/kg","Fe mg/kg","Mn mg/kg","Se mg/kg","Zn mg/kg","Vit A 1000 IU/kg","Vit D 1000 IU/kg","Vit E IU/kg","FİYAT,TL"]
[null,null,null,null,null,null,null,null,null,null,null,null,null,null,null,null,null,null,null,null,null,null,null,"AYÇİÇEĞİ  KÜSPESİ, %25 HP",0,5,90,40,30,23,0,65,2.35,1.47,0.88,25.9,80,20,30,37,8,5,90,2.9,8.1,300,35,4,160,10,0.15,2.15,4.29,9.8699999999999992,4.51,6.86,4.29,6.87,2.36,4.9400000000000004,1.93,0.45,1.02,0.7,0.11,1.27,0.03,0.33,0,4,0,33,20,2.2999999999999998,105,0,0,0,11]
[null,null,null,null,null,null,null,null,null,null,null,null,null,null,null,null,null,null,null,null,null,null,null,"AYÇİÇEĞİ  KÜSPESİ, %28 HP",0,5,90,38,28,23,0,65,2.4,1.58,1.1000000000000001,31,80,20,30,37,8,5,90,1.4,7.5,300,35,4,160,10,0.15,2.15,4.29,9.8699999999999992,4.51,6.86,4.29,6.87,2.36,4.9400000000000004,1.93,0.45,1.02,0.7,0.11,1.27,0.03,0.33,0,4,0,33,20,2.2999999999999998,105,0,0,0,11]
[null,null,null,null,null,null,null,null,null,null,null,null,null,null,null,null,null,null,null,null,null,null,null,"AYÇİÇEĞİ  KÜSPESİ, %32 HP",0,5,90,36,26,23,0,65,2.4500000000000002,1.65,1.1299999999999999,35.6,80,20,30,37,8,5,90,1.5,7.3,300,35,4,160,10,0.15,2.15,4.29,9.8699999999999992,4.51,6.86,4.29,6.87,2.36,4.9400000000000004,1.93,0.45,1.02,0.7,0.11,1.27,0.03,0.33,0,4,0,33,20,2.2999999999999998,105,0,0,0,11]
[null,null,null,null,null,null,null,null,null,null,null,null,null,null,null,null,null,null,null,null,null,null,null,"AYÇİÇEĞİ  KÜSPESİ, %36 HP",0,5,90,32,22,23,0,65,2.6,1.7,1.1499999999999999,40,80,20,30,37,8,5,90,1.5,7.2,300,35,4,160,10,0.15,2.15,4.29,9.8699999999999992,4.51,6.86,4.29,6.87,2.36,4.9400000000000004,1.93,0.45,1.02,0.7,0.11,1.27,0.03,0.33,0,4,0,33,20,2.2999999999999998,105,0,0,0,11]
[null,null,null,null,null,null,null,null,null,null,null,null,null,null,null,null,null,null,null,null,null,null,null,"BALIK UNU",0,0.5,90,0.67900000000000005,0,10,0,73,2.64,1.73,1.1100000000000001,67.900000000000006,40,60,21,0,1,1,90,10.7,20.6,0,0,0,150,1,0.8,2.84,7.13,7.19,4.17,7.0119999999999996,4.53,4.8099999999999996,2.2999999999999998,4.33,1.52,5.46,3.14,0.16,1.37,0.77,0.44,0.57999999999999996,0.12,11.3,1.19,594,40,2.34,157,0,0,13,70]
[null,null,null,null,null,null,null,null,null,null,null,null,null,null,null,null,null,null,null,null,null,null,null,"ECOMASS",0,1,94,18.09,5.88,0,0,87.23,3.26,null,2.0699999999999998,51.06,86.87,13.13,null,null,null,null,null,1.06,12.77,0,0,0,150,5,0.12,1.05,8.83,10.54,11.43,12.97,7.86,8.43,6.97,11.91,2.76,2.13,0.5,0.31,0,1.07,0.72,1.83,0,null,0,null,null,0,null,0,0,null,15]
[null,null,null,null,null,null,null,null,null,null,null,null,null,null,null,null,null,null,null,null,null,null,null,"ET UNU",0,5,95,32.840000000000003,0,0,0,71,2.57,1.66,1.05,58.2,45,55,13.36,26.5,56.41,3.16,0,11,21.3,0,0,0,150,5,0.12,1.34,5.0599999999999996,6.36,3.37,6.36,2.98,4.57,1.86,3.51,0.52,9.1300000000000008,4.34,0.27,0,0.49,0.8,0.51,0,21.4,0,758,174,0,265,0,0,1,70]
[null,null,null,null,null,null,null,null,null,null,null,null,null,null,null,null,null,null,null,null,null,null,null,"FİĞ, TANE","0","3","87,9",15.7,"10",30,4.7,90,3.29,2.21,1.52,28.4,38.31,61.69,5.7,100,23.6,7.29,90,1.5,4,300,25,5,"150","5",0.18,1.02,5.77,6.42,3.56,7.15,4.6100000000000003,4.91,2.96,4.8099999999999996,1.64,0.62,0.48,0.14000000000000001,0.03,1.8,0,0.24,0,19.8,0,100,39.6,0.12,61.8,1.6,0,36.6,30]
[null,null,null,null,null,null,null,null,null,null,null,null,null,null,null,null,null,null,null,null,null,null,null,"HİNDİSTAN CEVİZİ KÜSPESİ",0,5,92,56,17.850000000000001,23,0,64,2.31,1.44,0.86,21.5,61.64,38.36,14,75,10,3,90,7.4,7,300,40,6,230,12,0.2,1.45,2.6,10.26,2.29,6.15,3.28,4.74,1.88,4.58,0.63,0.21,0.65,0.33,0,1.8,0.04,0.37,0.14000000000000001,18.2,0,750,76.599999999999994,0,53,0,0,0,12]
[null,null,null,null,null,null,null,null,null,null,null,null,null,null,null,null,null,null,null,null,null,null,null,"KAN UNU",0,0.2,90,0.94,0,0,0,66,2.39,1.51,0.91,93.79,25,75,5,0,1,1,0,1.7,2.62,0,0,0,135,1.3,0.09,1.07,9.34,5.01,4.7300000000000004,13.4,0.88,9.08,6.45,7.86,1.88,0.4,0.32,0.04,0.33,0.31,0.4,0.8,9.7000000000000003E-2,13.9,0,2281,11.7,0.8,33,0,0,0,65]
[null,null,null,null,null,null,null,null,null,null,null,null,null,null,null,null,null,null,null,null,null,null,null,"KANOLA KÜSPESİ",0,5,92,27.2,12.76,23,0,69,2.4900000000000002,1.6,1,40.9,67.849999999999994,32.15,32.4,65,10.64,6.38,90,3.47,7.1,300,40,6,230,12,0.2,1.4,6.67,6.78,4.8499999999999996,7.99,4.9400000000000004,6.44,4.04,4.68,1.22,0.7,1.2,0.56999999999999995,0,1.37,0.03,1.17,0,7.95,0,211,55.8,0,71.5,0,0,0,12]
[null,null,null,null,null,null,null,null,null,null,null,null,null,null,null,null,null,null,null,null,null,null,null,"KETEN TOHUMU KÜSPESİ",0,5,90,25,24,23,0,78,3.02,1.83,1.2,38.299999999999997,65,35,20,10,10,2.4,90,1.5,6.5,300,35,6,230,11,0.2,1.95,4.3099999999999996,10.7,4.22,6.8,5.37,5.76,2.52,5.25,1.63,0.43,0.89,0.66,0.04,1.53,0.15,0.43,0.21,29,0,354,42,0.91,0,0,0,0,12]
[null,null,null,null,null,null,null,null,null,null,null,null,null,null,null,null,null,null,null,null,null,null,null,"MISIR GLUTENİ",0,2,91,37,2.7,36,0,84,3.04,2.06,1.4,46.8,38.08,61.92,4,75,11,2,100,2.4,3,300,50,5,150,4,0.1,2.09,1.24,3.17,2.93,16.22,4.34,5.04,2.4500000000000002,6.48,0.37,0.16,0.51,0.06,7.0000000000000007E-2,0.03,0.1,0.22,0.09,30.3,0,430,8.5,1.111,190.2,29.8,0,32,20]
[null,null,null,null,null,null,null,null,null,null,null,null,null,null,null,null,null,null,null,null,null,null,null,"MISIR GLUTENİ, % 60 HP",0,1,91,8.9,7.14,36,0,89,3.22,2.21,1.52,66.3,41,59,4,75,11,2,100,2.56,2.86,300,50,5,150,4,0.1,2.09,1.24,3.17,2.93,16.22,4.34,5.04,2.4500000000000002,6.48,0.37,7.0000000000000007E-2,0.61,0.15,7.0000000000000007E-2,0.48,0.06,0.9,0.09,4.76,0,159,20.6,0,61.4,14,0,26,25]
[null,null,null,null,null,null,null,null,null,null,null,null,null,null,null,null,null,null,null,null,null,null,null,"PAMUK TOHUMU KÜSPESİ, SOLVENT, % 25",0,5,92,40,30,36,0,65,2.2999999999999998,1.5,0.9,27.6,57,43,20,40,10,8,90,1.4,7,300,25,6,175,8,0.25,0.63,3.85,10.4,3.45,6.33,3.77,5.27,3.14,5.85,1.74,0.2,1.1599999999999999,0.65,0,1.65,7.0000000000000007E-2,0.42,0.53,16.5,0,162,26.9,0.98,74,0,0,0,13]
[null,null,null,null,null,null,null,null,null,null,null,null,null,null,null,null,null,null,null,null,null,null,null,"PAMUK TOHUMU KÜSPESİ, SOLVENT, % 28",0,5,92,38,28,36,0,70,2.4,1.55,1,30.9,57,43,20,40,10,8,90,1.5,7,300,25,6,175,8,0.25,0.63,3.85,10.4,3.45,6.33,3.77,5.27,3.14,5.85,1.74,0.2,1.1599999999999999,0.65,0,1.65,7.0000000000000007E-2,0.42,0.53,16.5,0,162,26.9,0.98,74,0,0,0,13]
[null,null,null,null,null,null,null,null,null,null,null,null,null,null,null,null,null,null,null,null,null,null,null,"PAMUK TOHUMU KÜSPESİ, SOLVENT, % 32",0,5,92,36,26,36,0,70,2.5,1.6,1.1000000000000001,35.4,57,43,20,40,10,8,90,1.6,7,300,25,6,175,8,0.25,0.63,3.85,10.4,3.45,6.33,3.77,5.27,3.14,5.85,1.74,0.2,1.1599999999999999,0.65,0,1.65,7.0000000000000007E-2,0.42,0.53,16.5,0,162,26.9,0.98,74,0,0,0,14.5]
[null,null,null,null,null,null,null,null,null,null,null,null,null,null,null,null,null,null,null,null,null,null,null,"PAMUK TOHUMU KÜSPESİ, SOLVENT, % 36",0,5,92,32,22,36,0,70,2.6,1.7,1.1499999999999999,39.799999999999997,57,43,20,40,10,8,90,1.7,7,300,25,6,175,8,0.25,0.63,3.85,10.4,3.45,6.33,3.77,5.27,3.14,5.85,1.74,0.2,1.1599999999999999,0.65,0,1.65,7.0000000000000007E-2,0.42,0.53,16.5,0,162,26.9,0.98,74,0,0,0,14.5]
[null,null,null,null,null,null,null,null,null,null,null,null,null,null,null,null,null,null,null,null,null,null,null,"PAMUK TOHUMU KÜSPESİ, SOLVENT, % 41",0,5,92,28.9,20.8,36,0,75,2.71,1.79,1.1599999999999999,46.1,57,43,20,40,10,8,90,1.9,7,300,25,6,175,8,0.25,0.63,3.85,10.4,3.45,6.33,3.77,5.27,3.14,5.85,1.74,0.2,1.1599999999999999,0.65,0,1.65,7.0000000000000007E-2,0.42,0.53,16.5,0,162,26.9,0.98,74,0,0,0,15]
[null,null,null,null,null,null,null,null,null,null,null,null,null,null,null,null,null,null,null,null,null,null,null,"PAMUK TOHUMU KÜSPESİ, SOLVENT, % 43",0,5,92,28,20.8,36,0,75,2.71,1.79,1.1599999999999999,48.9,57,43,20,40,10,8,90,1.7,7,300,25,6,175,8,0.25,0.63,3.85,10.4,3.45,6.33,3.77,5.27,3.14,5.85,1.74,0.16,0.76,0.35,0,1.22,0.03,0.26,0,53.9,0,160,12.2,0,0,0,0,0,15]
[null,null,null,null,null,null,null,null,null,null,null,null,null,null,null,null,null,null,null,null,null,null,null,"PEYNİR ALTI SUYU TOZU",0,1,7,0,0,0,0,78,2.82,1.88,1.24,14.2,100,0,100,8,0,0,0,0.7,10,350,0,0,350,0,0,0,0,0,0,0,0,0,0,0,0,0.81,0.71,0,0,2.75,0,0,0,0,0,290,3.2,0,0,0,0,0,70]
[null,null,null,null,null,null,null,null,null,null,null,null,null,null,null,null,null,null,null,null,null,null,null,"PEYNİR ALTI SUYU TOZU, DÜŞÜK LAKTOZLU",0,1,93,0,0,0,0,71,2.57,1.66,1.05,17.899999999999999,100,0,100,8,0,0,0,1.1000000000000001,17,350,0,0,350,0,0,0,0,0,0,0,0,0,0,0,0,1.6,1.18,0.23,1.1000000000000001,3.16,1.54,1.1499999999999999,0,7.5,10.554,270,8.6,0.06,8.4,0,0,0,65]
[null,null,null,null,null,null,null,null,null,null,null,null,null,null,null,null,null,null,null,null,null,null,null,"SOYA FASULYESİ",0,1,90,14.9,1.54,30,0,94,3.4,2.35,1.65,40.340000000000003,75,25,44,22.73,4,3,90,18.2,4.5599999999999996,300,30,5,200,10,0.2,1.01,5.36,6.55,3.52,7.23,4.6500000000000004,5.09,2.82,4.9400000000000004,1.64,0.27,0.65,0.27,0.03,2.0099999999999998,0.04,0.35,0,14.58,0,182,34.5,0.12,59,1.6,0,36.6,40]
[null,null,null,null,null,null,null,null,null,null,null,null,null,null,null,null,null,null,null,null,null,null,null,"SOYA KÜSPESİ, SOLVENT, %44",0,5,89,14.9,2.14,23,0,84,3.04,2.06,1.4,49.9,65,35,20,55,5,2,90,1.6,7.2,300,25,6,230,11,0.2,1.01,5.36,6.55,3.52,7.23,4.6500000000000004,5.09,2.82,4.9400000000000004,1.64,0.4,0.71,0.31,0,2.2200000000000002,0.04,0.46,0.12,22.4,0,185,35,0.51,57,0,0,0,17]
[null,null,null,null,null,null,null,null,null,null,null,null,null,null,null,null,null,null,null,null,null,null,null,"SOYA KÜSPESİ, SOLVENT, %49",0,5,90,7.79,2.5,23,0,87,3.15,2.15,1.47,54,65,35,20,55,5,2,90,1.1000000000000001,6.7,300,25,6,230,11,0.2,0.83,6.08,7.69,3.03,6.13,4.25,3.79,2.27,3.88,1.64,0.28999999999999998,0.71,0.33,0.08,2.36,0.01,0.48,0.12,22.5,0.12,145,41,0.22,63,0,0,0,20]
[null,null,null,null,null,null,null,null,null,null,null,null,null,null,null,null,null,null,null,null,null,null,null,"SOYA,TAM YAĞLI, İŞLENMİŞ",0,5,90,13.4,10,30,0,94,3.4,2.35,1.65,42.8,38.31,61.69,5.7,100,23.6,7.29,90,18.8,5.8,300,25,5,150,5,0.18,1.02,5.77,6.42,3.56,7.15,4.6100000000000003,4.91,2.96,4.8099999999999996,1.64,0.27,0.65,0.28999999999999998,0.03,1.8,0,0.24,0,19.8,0,100,39.6,0.12,61.8,1.6,0,36.6,18]
[null,null,null,null,null,null,null,null,null,null,null,null,null,null,null,null,null,null,null,null,null,null,null,"TÜY UNU",0,0.5,90,42.9,0,23,0,68,2.46,1.57,0.97,85.8,30,70,9,89,50,32,90,7.21,4.5199999999999996,0,0,0,125,3,0.09,0.49,2.57,7.42,4.17,8.31,4.5999999999999996,7.95,0.94,5.21,0.8,1.19,0.68,0.06,0.3,0.2,0.24,1.85,0.125,14.2,4.7E-2,702,12,0.98,105,0,0,0,20]
[null,null,null,null,null,null,null,null,null,null,null,null,null,null,null,null,null,null,null,null,null,null,null,"ÜRE",0,0.05,99,0,0,0,0,0,0,0,0,281,99.999999939999995,0,100,100,0,0,0,0,0,0,0,0,400,0,0,0,0,0,0,0,0,0,0,0,0,0,0,0,0,0,0,0,0,0,0,0,0,0,0,0,0,0,17]
[null,null,null,null,null,null,null,null,null,null,null,null,null,null,null,null,null,null,null,null,null,null,null,"YERFISTIĞI KÜSPESİ",0,5,92.4,14,10,36,0,77,2.78,1.85,1.22,52.9,80,20,33,27,10,1,90,2.2999999999999998,6.3,300,45,6,230,13,0.2,1.1000000000000001,3.14,10.88,2.5299999999999998,6.06,3.16,3.82,2.1800000000000002,4.92,0.98,0.32,0.66,0.17,0,1.28,0.03,0.33,0,16,7.0000000000000007E-2,155,29,0,36,0,0,0,11]
[]
[]
[]
[]
[]
[]
[]
[]
[]
[]
[]
[]
[]
[]
[]
[]
[]
[]
[]
[]
[]
[]
[]
[]
[]
[]
[]
[]
[]
[]
[]
[]
[]
[]
[]
[]
[]
[]
[]
[]
[]
[]
[]
[]
[]
[]
[null,null,null,null,null,null,null,null,null,null,null,null,null,null,null,null,null,null,null,null,null,null,null,"YAN ÜRÜNLER","en az","en çok","KM %Yem","NDF %KM","Lignin %NDF","Effekt. %NDF","HS,%","TDN %KM","ME,Mcal/kg","NEm,Mcal/kg","NEg,Mcal/kg","HP,%","DIP %HP","UIP %HP","SoIP %HP","NPN %SoIP","NDFIP %HP","ADFIP %HP","Nişasta %NSC","HY %KM","HK %KM","A kd %/sa©","B1 kd %/sa©","B2 kd %/sa©","B1 kd %/sa(p)","B2 kd %/sa(p)","B3 kd %/sa(p)","MET %UIP","LİZ %UIP","ARJ %UIP","TRE %UIP","LÖY %UIP","İZOLÖY %UIP","VAL %UIP","HIS %UIP","FENAL %UIP","TRİP %UIP","Ca %KM","P %KM","Mg %KM","Cl %KM","K %KM","Na %KM","S %KM","Co mg/kg","Cu mg/kg","I mg/kg","Fe mg/kg","Mn mg/kg","Se mg/kg","Zn mg/kg","Vit A 1000 IU/kg","Vit D 1000 IU/kg","Vit E IU/kg","FİYAT,TL"]
[null,null,null,null,null,null,null,null,null,null,null,null,null,null,null,null,null,null,null,null,null,null,null,"ARPA MALT ÇİMİ",0,1,93,46,6.52,34,0,71,2.57,1.66,1.05,28.1,64.16,35.83,48,83,27,4,85,1.4,7,250,30,6,135,11,0.09,1.17,3.5,11.7,2.83,6.67,3.67,4.5,2.17,5.17,1,0.19,0.68,0.18,0.39,0.27,0.95,0.85,0,6.3,0,200,31.7,0.44800000000000001,60.7,0,0,4,15]
[null,null,null,null,null,null,null,null,null,null,null,null,null,null,null,null,null,null,null,null,null,null,null,"BİRA POSASI, %21 KM",0,5,21,42,9.52,18,0,70,2.5299999999999998,1.63,1.03,26,40.85,59.14,8,50,38,10,100,6.5,10,300,38,6,150,8,0.5,1.7,3.23,4.6900000000000004,3.43,9.18,5.71,5.95,1.9,5.31,1.36,0.28999999999999998,0.7,0.27,0.13,0.57999999999999996,0.15,0.34,0.10100000000000001,11.3,7.1999999999999995E-2,270,40.9,0,106,0.8,0,29,3]
[null,null,null,null,null,null,null,null,null,null,null,null,null,null,null,null,null,null,null,null,null,null,null,"BİRA POSASI, KURUTULMUŞ",0,2,92,48.7,13.04,18,0,66,2.39,1.51,0.91,29.2,34.11,65.88,4,75,40,12,100,10.8,4,300,38,6,150,6,0.5,1.26,2.15,2.61,2.76,8.4600000000000009,3.53,3.78,1.47,4.8,1.1200000000000001,0.28999999999999998,0.7,0.27,0.17,0.57999999999999996,0.15,0.4,8.3000000000000004E-2,11.3,7.1999999999999995E-2,221,44,0.76,82,0.8,0,29,3]
[null,null,null,null,null,null,null,null,null,null,null,null,null,null,null,null,null,null,null,null,null,null,null,"BUĞDAY KEPEĞİ",0,2,89,51,5.88,19,0,70,2.7,1.66,1.05,17.100000000000001,77,23,29.4,45,35,6.4,90,4.4000000000000004,6.9,300,40,4,250,12,0.35,0.75,3.67,7.76,3.71,6.56,3.68,5.4,2.96,4.53,1.2,0.13,1.38,0.6,0.05,1.56,0.04,0.25,0.11,14,7.0000000000000007E-2,128,125,0.43,128,0,0,0,7]
[null,null,null,null,null,null,null,null,null,null,null,null,null,null,null,null,null,null,null,null,null,null,null,"DİSTİLASYON ÇÖZÜNÜRLERİ, KURUTULMUŞ",0,2,91,23,4.3499999999999996,4,0,88,3.18,2.1800000000000002,1.5,29.7,45.08,54.91,44,100,55,13,100,9.1999999999999993,8,300,17,7,150,6,0.5,1.2,2.06,4.1500000000000004,3.12,9.07,2.78,5.24,1.82,4.2,1.64,0.32,1.4,0.65,0.28000000000000003,1.83,0.24,0.4,0.18,83.9,8.5000000000000006E-2,560,77.599999999999994,0.4,94.8,1.2,0,49.4,3]
[null,null,null,null,null,null,null,null,null,null,null,null,null,null,null,null,null,null,null,null,null,null,null,"DİSTİLASYON POSASI, KURUTULMUŞ",0,2,91,46,10,4,0,88,3.18,2.1800000000000002,1.5,30.4,27.96,72.03,6,67,40,13,100,9.8000000000000007,5.2,300,17,7,150,6,0.5,1.2,2.06,4.1500000000000004,3.12,9.07,2.78,5.24,1.82,4.2,1.64,0.32,1.4,0.65,0.28000000000000003,1.83,0.24,0.4,0.18,83.9,8.5000000000000006E-2,560,77.599999999999994,0.4,94.8,1.2,0,49.4,3]
[null,null,null,null,null,null,null,null,null,null,null,null,null,null,null,null,null,null,null,null,null,null,null,"DİSTİLASYON POSASI, KURUTULMUŞ",0,2,91,46,10,4,0,88,3.18,2.1800000000000002,1.5,30.4,26.35,73.650000000000006,6,67,44,18,100,10.7,5.2,300,17,7,150,6,0.5,1.2,2.06,4.1500000000000004,3.12,9.07,2.78,5.24,1.82,4.2,1.64,0.26,0.83,0.33,0.28000000000000003,1.08,0.3,0.44,0.18,10.6,8.5000000000000006E-2,358,27.6,0.4,67.8,1,0.6,43,3]
[null,null,null,null,null,null,null,null,null,null,null,null,null,null,null,null,null,null,null,null,null,null,null,"DİSTİLASYON POSASI, KURUTULMUŞ",0,2,91,46,10,4,0,88,3.18,2.1800000000000002,1.5,30.4,25.91,74.08,6,67,45,21,100,9.8000000000000007,5.2,300,17,7,150,6,0.5,1.2,2.06,4.1500000000000004,3.12,9.07,2.78,5.24,1.82,4.2,1.64,0.32,1.4,0.65,0.28000000000000003,1.83,0.24,0.4,0.18,83.9,8.5000000000000006E-2,560,77.599999999999994,0.4,94.8,1.2,0,49.4,3]
[null,null,null,null,null,null,null,null,null,null,null,null,null,null,null,null,null,null,null,null,null,null,null,"DİSTİLASYON POSASI, KURUTULMUŞ",0,2,91,46,10,4,0,88,3.18,2.1800000000000002,1.5,30.4,24.9,75.099999999999994,6,67,47,36,100,9.8000000000000007,5.2,300,17,7,150,6,0.5,1.2,2.06,4.1500000000000004,3.12,9.07,2.78,5.24,1.82,4.2,1.64,0.32,1.4,0.65,0.28000000000000003,1.83,0.24,0.4,0.18,83.9,8.5000000000000006E-2,560,77.599999999999994,0.4,94.8,1.2,0,49.4,3]
[null,null,null,null,null,null,null,null,null,null,null,null,null,null,null,null,null,null,null,null,null,null,null,"DİSTİLASYON POSASI, YAŞ",0,5,25,40,10,4,0,90,3.25,2.2400000000000002,1.55,29.7,33.39,66.599999999999994,25,68,55,12,100,9.9,5.2,300,17,7,150,6,0.5,1.2,2.06,4.1500000000000004,3.12,9.07,2.78,5.24,1.82,4.2,1.64,0.32,1.4,0.65,0.28000000000000003,1.83,0.24,0.4,0.18,83.9,8.5000000000000006E-2,560,77.599999999999994,0.4,94.8,1.2,0,49.4,3]
[null,null,null,null,null,null,null,null,null,null,null,null,null,null,null,null,null,null,null,null,null,null,null,"DİSTİLASYON POSASI+ÇÖZÜNÜRLERİ, YAŞ",0,5,91,46,9.09,4,0,88,3.18,2.1800000000000002,1.5,29.5,27.19,72.81,19,89,62,21,100,10.3,5.2,300,17,7,150,6,0.5,1.2,2.06,4.1500000000000004,3.12,9.07,2.78,5.24,1.82,4.2,1.64,0.32,0.83,0.33,0.28000000000000003,1.07,0.24,0.4,0.18,10.56,8.5000000000000006E-2,560,27.6,0.4,67.8,1.2,0,49.4,3]
[null,null,null,null,null,null,null,null,null,null,null,null,null,null,null,null,null,null,null,null,null,null,null,"DOMATES KURUSU",0,5,86.18,null,null,null,20.350000000000001,null,2.2999999999999998,null,null,13.87,null,null,null,null,null,null,null,4.01,10.52,350,50,5,350,11,0.25,null,null,null,null,null,null,null,null,null,null,null,null,null,null,null,null,null,null,null,null,null,null,null,null,null,null,null,35]
[null,null,null,null,null,null,null,null,null,null,null,null,null,null,null,null,null,null,null,null,null,null,null,"ELMA POSASI",0,5,22,41,2,34,0,68.900000000000006,2.4900000000000002,1.6,1,5.4,48.2,51.79,11,100,32,31.5,0,4.7,5,350,50,5,350,11,0.25,0.67,2.83,2.83,2.83,5.49,2.83,3.83,1,3.5,4.5,0.23,0.11,0,0,0.53,0,0.11,0,0,0,0,0,0,0,0,0,0,2]
[null,null,null,null,null,null,null,null,null,null,null,null,null,null,null,null,null,null,null,null,null,null,null,"FIRINCILIK ARTIKLARI",0,1,92,18,5.56,0,0,89,3.22,2.21,1.52,9,75.59,24.4,40,75,6,3,100,12.7,5,300,16,7,100,12,0.35,1.77,3.17,4.7699999999999996,4.95,7.47,4.57,4.3,1.3,4.0999999999999996,1,0.15,0.24,0.18,1.61,0.43,1.1200000000000001,0.02,1.3420000000000001,12.1,0,180,71.2,0,19.5,7.7,0,44.9,10]
[null,null,null,null,null,null,null,null,null,null,null,null,null,null,null,null,null,null,null,null,null,null,null,"İNCİR KURUSU",0,5,85.18,8.9,23,34,24.37,82.18,2.2599999999999998,1.93,1.28,4.47,100,0,0,0,0,0,0,4.9400000000000004,3.47,350,50,9,350,11,0.25,null,null,null,null,null,null,null,null,null,null,null,null,null,null,null,null,null,null,null,null,null,null,null,null,null,null,null,50]
[null,null,null,null,null,null,null,null,null,null,null,null,null,null,null,null,null,null,null,null,null,null,null,"MELAS,ŞEKER KAMIŞI",0,1,74.3,0,0,0,0,72,2.6,1.7,1.08,5.8,99.99,0,100,100,0,0,0,0,13.3,500,30,20,350,11,0.25,0,0,0,0,0,0,0,0,0,0,1,0.1,0.42,3.04,4.01,0.22,0.47,1.587,65.7,2.1030000000000002,263,59,0,21,0,0,7,4]
[null,null,null,null,null,null,null,null,null,null,null,null,null,null,null,null,null,null,null,null,null,null,null,"MELAS,ŞEKER PANCARI",0,1,77.900000000000006,0,0,0,0,75,2.71,1.79,1.1599999999999999,8.5,99.99,0,100,100,0,0,0,0,11.4,500,30,3,300,11,0.25,0,0,0,0,0,0,0,0,0,0,0.15,0.03,0.28999999999999998,1.64,6.06,1.48,0.6,0.46500000000000002,21.6,0,87,6,0,18,0,0,0,4]
[null,null,null,null,null,null,null,null,null,null,null,null,null,null,null,null,null,null,null,null,null,null,null,"MISIR GLUTEN YEMİ",0,1,90,36.200000000000003,2.2200000000000002,36,0,80,2.89,1.94,1.3,23.8,75,25,49,100,8,2,100,3.91,6.9,300,50,5,150,4,0.1,1.68,1.5,6.97,1.71,7.04,0.89,5.32,2.1800000000000002,1.68,0.66,7.0000000000000007E-2,0.95,0.4,0.25,1.4,0.26,0.47,9.7000000000000003E-2,6.98,7.3999999999999996E-2,226,22.1,0.30199999999999999,73.3,1,0,94,9]
[null,null,null,null,null,null,null,null,null,null,null,null,null,null,null,null,null,null,null,null,null,null,null,"MISIR GRİZİ",0,1,90,23,3.64,9,0,91,3.29,2.27,1.57,11.5,47.49,52.51,18,78,8,5,90,7.3,1.71,150,20,5,150,4,0.09,1.1100000000000001,3.2,5.42,3.67,10.83,3.91,5.19,2.87,4.88,0.11,0.05,0.56999999999999995,0.26,0.06,0.65,0.09,0.03,6.0999999999999999E-2,15.1,0,80,16.100000000000001,0,0,0,0,0,9]
[null,null,null,null,null,null,null,null,null,null,null,null,null,null,null,null,null,null,null,null,null,null,null,"MISIR KOÇANI, 20,4 kg/kile",0,5,86,31,7.14,56,0,77,2.78,1.85,1.22,9,46.03,53.97,16,69,18,3,90,3.7,2,150,18,5,135,7,0.1,1.1200000000000001,1.65,1.82,2.8,10.73,2.69,3.75,2.06,3.65,0.37,7.0000000000000007E-2,0.27,0.14000000000000001,0.05,0.53,0.02,0.16,0.31,8,0.03,54.5,14,0.14000000000000001,14,0,0,0,3]
[null,null,null,null,null,null,null,null,null,null,null,null,null,null,null,null,null,null,null,null,null,null,null,"MISIR KOÇANI, 25,4 kg/kile",0,5,87,28,7.1,56,0,82,2.96,2,1.35,9,46.03,53.97,16,69,18,3,90,3.7,1.9,150,18,5,135,7,0.1,1.1200000000000001,1.65,1.82,2.8,10.73,2.69,3.75,2.06,3.65,0.37,7.0000000000000007E-2,0.27,0.14000000000000001,0.05,0.53,0.02,0.16,0.19,8,0.03,91,23,7.0000000000000007E-2,14,1.5E-3,0,0,3]
[null,null,null,null,null,null,null,null,null,null,null,null,null,null,null,null,null,null,null,null,null,null,null,"MISIR KOÇANI, 25,4 kg/kile, YÜKSEK NEMLİ",0,5,72,28,7.1,56,0,85,3.07,2.09,1.42,9,62.04,37.950000000000003,30,80,18.72,8.2799999999999994,100,3.7,1.9,25,30,6,135,10,0.1,0.99,2.4700000000000002,4.1100000000000003,3.33,12.1,3.85,4.78,2.7,4.99,0.37,7.0000000000000007E-2,0.27,0.14000000000000001,0.05,0.53,0.02,0.16,0.31,8,0.03,910,14,0.09,14,1.5E-3,0,0,3]
[null,null,null,null,null,null,null,null,null,null,null,null,null,null,null,null,null,null,null,null,null,null,null,"MISIR ÖZÜ KÜSPESİ",0,2,93,47.91,0,9,0,74,2.98,1.76,1.1399999999999999,21.38,37,63,0,0,0,0,90,3.27,3.22,0,0,0,0,0,0,0,0,0,0,0,0,0,0,0,0,0.04,0.55000000000000004,0.17,0.04,0.38,0.04,0.34,0,4.9000000000000004,0,370,4.0999999999999996,0.37,114.2,0,0,0,15]
[null,null,null,null,null,null,null,null,null,null,null,null,null,null,null,null,null,null,null,null,null,null,null,"PİRİNÇ KEPEĞİ",0,1,90.5,33,13,0,0,70,2.5299999999999998,1.63,1.03,14.4,50.95,49.04,40,80,47,2,90,15,11.5,300,40,8,250,12,0.35,1.88,4.3099999999999996,7.01,3.5,6.64,3.28,4.96,2.5499999999999998,4.38,0.88,0.1,1.73,0.97,0.08,1.89,0.03,0.2,1.526,12.2,0,229,396,0.44,33,0,0,66.7,9]
[null,null,null,null,null,null,null,null,null,null,null,null,null,null,null,null,null,null,null,null,null,null,null,"ŞEK. PAN. POSASI, KURUTULMUŞ",0,5,91,44.6,3.7,33,0,74,2.68,1.76,1.1399999999999999,9.8000000000000007,42.62,57.37,27,96,53,11,90,0.6,5.3,300,40,8,300,12,0.35,0.65,3,4.43,3.17,4.6100000000000003,2.69,4.5,1.87,2.8,1.1000000000000001,0.68,0.1,0.28000000000000003,0.04,0.22,0.2,0.22,8.1000000000000003E-2,13.8,0,293,37.700000000000003,0.12,1,0.4,0.6,0,2]
[null,null,null,null,null,null,null,null,null,null,null,null,null,null,null,null,null,null,null,null,null,null,null,"ŞEK. PAN. POSASI, YAŞ",0,5,19,44.6,3.7,33,0,72,2.76,1.57,0.97,11.2,42.62,57.37,27,96,53,11,90,2.1,4.7,300,40,8,300,12,0.35,0.65,3,4.43,3.17,4.6100000000000003,2.69,4.5,1.87,2.8,1.1000000000000001,0.87,0.1,0.22,0.04,0.19,0.19,0.22,8.1000000000000003E-2,13.8,0,330,37.700000000000003,0.12,10,0.4,0.6,0,2]
[null,null,null,null,null,null,null,null,null,null,null,null,null,null,null,null,null,null,null,null,null,null,null,"ŞEK. PAN. POSASI, YAŞ, AMBALAJLI",0,5,19.7,44.6,3.7,33,0,72,2.9,1.65,1.1000000000000001,11,42.62,57.37,27,96,53,11,90,2.1,4.7,300,40,8,300,12,0.35,0.65,3,4.43,3.17,4.6100000000000003,2.69,4.5,1.87,2.8,1.1000000000000001,0.87,0.1,0.22,0.04,0.19,0.19,0.22,8.1000000000000003E-2,13.8,0,330,37.700000000000003,0.12,10,0.4,0.6,0,2]
[null,null,null,null,null,null,null,null,null,null,null,null,null,null,null,null,null,null,null,null,null,null,null,"TURUNÇGİL POSASI, KURUTULMUŞ",0,5,91,23,13.04,33,0,82,2.96,2,1.35,6.7,41.6,58.4,27,96,53,11,90,3.7,6.6,350,50,9,350,11,0.25,0.65,3,4.43,3.17,4.6100000000000003,2.69,4.5,1.87,2.8,1.1000000000000001,1.88,0.13,0.17,0,0.77,0.08,0.08,0.185,6.15,0,360,7,0,15,0,0,0,2]
[null,null,null,null,null,null,null,null,null,null,null,null,null,null,null,null,null,null,null,null,null,null,null,"ÜZÜM KURUSU",0,5,86.44,22.84,50.96,34,25.87,68.8,1.9,1.54,0.94,5.59,100,0,0,0,0,0,90,2.79,8.3800000000000008,350,50,9,350,11,0.25,0,0,0,0,0,0,0,0,0,0,0.57999999999999996,0.17,0.1,0.01,0.91,0.09,0,0,0,0,0,40.700000000000003,0,24.2,0,0,0,6]
[null,null,null,null,null,null,null,null,null,null,null,null,null,null,null,null,null,null,null,null,null,null,null,"ÜZÜM POSASI",0,5,90,55,41,34,0,33,1.19,0.34,0.18,0,100,0,0,0,0,0,90,7.9,10,350,50,9,350,11,0.25,0,0,0,0,0,0,0,0,0,0,0.57999999999999996,0.17,0.1,0.01,0.91,0.09,0,0,0,0,0,40.700000000000003,0,24.2,0,0,0,2.5]
[]
[]
[]
[]
[]
[]
[]
[]
[]
[]
[]
[]
[]
[]
[]
[]
[]
[]
[]
[]
[]
[]
[]
[]
[]
[]
[]
[]
[]
[]
[]
[]
[]
[]
[]
[]
[]
[]
[]
[]
[]
[]
[]
[]
[]
[null,null,null,null,null,null,null,null,null,null,null,null,null,null,null,null,null,null,null,null,null,null,null,"Karma Yemler","en az","en çok","KM %Yem","NDF %KM","Lignin %NDF","Effekt. %NDF","HS,%","TDN %KM","ME,Mcal/kg","NEm,Mcal/kg","NEg,Mcal/kg","HP,%","DIP %HP","UIP %HP","SoIP %HP","NPN %SoIP","NDFIP %HP","ADFIP %HP","Nişasta %NSC","HY %KM","HK %KM","A kd %/sa©","B1 kd %/sa©","B2 kd %/sa©","B1 kd %/sa(p)","B2 kd %/sa(p)","B3 kd %/sa(p)","MET %UIP","LİZ %UIP","ARJ %UIP","TRE %UIP","LÖY %UIP","İZOLÖY %UIP","VAL %UIP","HIS %UIP","FENAL %UIP","TRİP %UIP","Ca %KM","P %KM","Mg %KM","Cl %KM","K %KM","Na %KM","S %KM","Co mg/kg","Cu mg/kg","I mg/kg","Fe mg/kg","Mn mg/kg","Se mg/kg","Zn mg/kg","Vit A 1000 IU/kg","Vit D 1000 IU/kg","Vit E IU/kg","FİYAT,TL"]
[null,null,null,null,null,null,null,null,null,null,null,null,null,null,null,null,null,null,null,null,null,null,null,"BUZAĞI BAŞLANGIÇ YEMİ",0,5,87.6,8.9879999999999995,3.2854999999999999,39.21,0,87.25,3.15,2.1800000000000002,1.52,20.38,43.11,55.19,8.9260000000000002,70.459999999999994,14.03,4.641,85.12,5.7469999999999999,6.59,283.7,23.64,5.5270000000000001,143.30000000000001,5.5780000000000003,0.107,1.0029999999999999,2.7930000000000001,3.2290000000000001,2.7919999999999998,8.9700000000000006,3.0470000000000002,3.7229999999999999,2.11,3.6549999999999998,0.71599999999999997,1.17,0.56799999999999995,0.22,0.22600000000000001,0.81899999999999995,0.12,0.20599999999999999,0.55400000000000005,20.57,0.91500000000000004,327.10000000000002,74.63,0.217,75.06,11.47,2.2469999999999999,39.090000000000003,13]
[null,null,null,null,null,null,null,null,null,null,null,null,null,null,null,null,null,null,null,null,null,null,null,"BUZAĞI BÜYÜTME YEMİ",0,5,88.15,18.835000000000001,5.5311000000000003,33.643999999999998,0,80.84,2.93,2,1.36,19.190000000000001,55.62,43.3,15.35,50.76,13.87,4.657,86.35,3.246,7.4,285.5,27.18,5.1829999999999998,200.1,8.4879999999999995,0.20499999999999999,0.89700000000000002,2.887,4.4859999999999998,3.0259999999999998,7.9279999999999999,3.3490000000000002,4.3600000000000003,2.3210000000000002,4.3630000000000004,0.94699999999999995,1.2390000000000001,0.63400000000000001,0.28899999999999998,0.23,0.89700000000000002,0.13200000000000001,0.214,0.48399999999999999,22.61,0.92,305.89999999999998,88.82,0.35299999999999998,87.63,12.1,2.2469999999999999,39.659999999999997,12]
[null,null,null,null,null,null,null,null,null,null,null,null,null,null,null,null,null,null,null,null,null,null,null,"KAZEİN",0,1,91,0,0,0,0,100,5.08,4.37,3.5,92.7,0,0,0,0,0,0,0,0.7,4,0,0,0,0,0,0,0,0,0,0,0,0,0,0,0,0,0.4,0.35,0.01,0.04,0.01,0.01,0.6,0.01,4,0,14,4,0.16,30,0,0,0,10]
[null,null,null,null,null,null,null,null,null,null,null,null,null,null,null,null,null,null,null,null,null,null,null,"PEYNİR ALTI SUYU",0,1,7,0,0,0,0,100,3.62,3.12,2.5,14.2,0,0,0,0,0,0,0,0.7,8.6999999999999993,0,0,0,0,0,0,0,0,0,0,0,0,0,0,0,0,0.73,0.65,0.18,1.4,2,1,1.1200000000000001,0.01,0.72,0,9,0.1,0.25,20,0,0,0,70]
[null,null,null,null,null,null,null,null,null,null,null,null,null,null,null,null,null,null,null,null,null,null,null,"PEYNİR ALTI SUYU PROTEİN KONSANTRESİ",0,1,93,0,0,0,0,100,4.17,3.59,2.88,37.1,0,0,0,0,0,0,0,2.2000000000000002,6,0,0,0,0,0,0,0,0,0,0,0,0,0,0,0,0,0.54,0.6,0.1,1.4,1.05,0.59,2.4,0.11,3.39,0,5.85,2.2599999999999998,0.25,2.8,0,0,0,70]
[null,null,null,null,null,null,null,null,null,null,null,null,null,null,null,null,null,null,null,null,null,null,null,"PEYNİR ALTI SUYU TOZU",0,1,98,0,0,0,0,100,3.41,2.93,2.35,3.7,0,0,0,0,0,0,0,0,9,0,0,0,0,0,0,0,0,0,0,0,0,0,0,0,0,1.77,0.97,0.18,1.4,3.5,0.5,0.3,5.8,2,0,104,4.46,0.25,2.8,0,0,0,70]
[null,null,null,null,null,null,null,null,null,null,null,null,null,null,null,null,null,null,null,null,null,null,null,"PEYNİR ALTI SUYU TOZU, DÜŞÜK LAKTOZLU",0,1,93,0,0,0,0,100,3.4,2.92,2.34,17.899999999999999,0,0,0,0,0,0,0,0.7,16.5,0,0,0,0,0,0,0,0,0,0,0,0,0,0,0,0,1.71,1.1200000000000001,0.23,1.1000000000000001,3.16,1.54,1.1499999999999999,0.01,0.72,0,9,0.1,0.25,20,0,0,0,70]
[null,null,null,null,null,null,null,null,null,null,null,null,null,null,null,null,null,null,null,null,null,null,null,"SIĞIR SÜT YEMİ",0,5,88.35,22.04,9.61,27.4,0,76.3,2.76,1.87,1.25,18.78,66,33.159999999999997,24.38,37.71,11.21,4.87,79.92,2.61,8.57,299.12,29.09,4.6500000000000004,257.32,10.75,0.3,0.69,3.01,5.53,2.92,5.93,3.43,4.4400000000000004,2.2599999999999998,4.7699999999999996,1.18,1.34,0.62,0.31,0.39,1.25,0.25,0.23,0.46,26.15,0.94,325.45999999999998,90.04,0.36,87.02,13.31,2.25,48.01,13]
[null,null,null,null,null,null,null,null,null,null,null,null,null,null,null,null,null,null,null,null,null,null,null,"SÜT",0,5,12.5,0,0,0,0,100,5.37,4.62,3.7,25.4,0,0,0,0,0,0,0,30.8,6.3,0,0,0,0,0,0,0,0,0,0,0,0,0,0,0,0,1,0.75,0.1,0.92,1.23,0.4,0.32,0.01,0.8,0.15,4.0999999999999996,0.4,0.16,38,0,0,0,25]
[null,null,null,null,null,null,null,null,null,null,null,null,null,null,null,null,null,null,null,null,null,null,null,"SÜT İKAMESİ, 18 HP, 20 YAĞ",0,0.5,12.5,0,0,0,0,100,4.72,4.0599999999999996,3.26,18,0,0,0,0,0,0,0,20,6.3,0,0,0,0,0,0,0,0,0,0,0,0,0,0,0,0,1,0.7,7.0000000000000007E-2,0.25,0.65,0.4,0.28999999999999998,0.11,10,0.5,100,40,0.3,40,0,0,0,100]
[null,null,null,null,null,null,null,null,null,null,null,null,null,null,null,null,null,null,null,null,null,null,null,"SÜT İKAMESİ, 20 HP, 20 YAĞ",0,0.5,12.5,0,0,0,0,100,4.75,4.09,3.28,20,0,0,0,0,0,0,0,20,6.3,0,0,0,0,0,0,0,0,0,0,0,0,0,0,0,0,1,0.7,7.0000000000000007E-2,0.25,0.65,0.4,0.28999999999999998,0.11,10,0.5,100,40,0.3,40,0,0,0,116]
[null,null,null,null,null,null,null,null,null,null,null,null,null,null,null,null,null,null,null,null,null,null,null,"SÜT İKAMESİ, 22 HP, 10 YAĞ",0,0.5,12.5,0,0,0,0,100,4.29,3.69,2.96,22,0,0,0,0,0,0,0,10,6.3,0,0,0,0,0,0,0,0,0,0,0,0,0,0,0,0,1,0.7,7.0000000000000007E-2,0.25,0.65,0.4,0.28999999999999998,0.11,10,0.5,100,40,0.3,40,0,0,0,128]
[null,null,null,null,null,null,null,null,null,null,null,null,null,null,null,null,null,null,null,null,null,null,null,"YAĞSIZ SÜT",0,5,10,0,0,0,0,100,4.0199999999999996,3.46,2.77,35.5,0,0,0,0,0,0,0,0.3,6.9,0,0,0,0,0,0,0,0,0,0,0,0,0,0,0,0,1.35,1.02,0.1,1,1.85,0.55000000000000004,0.45,0.01,0.42,0.15,3.3,0.2,0.2,42,0,0,0,6]
[null,null,null,null,null,null,null,null,null,null,null,null,null,null,null,null,null,null,null,null,null,null,null,"YAĞSIZ SÜT TOZU",0,0.5,94,0,0,0,0,100,4.08,3.51,2.82,37.4,0,0,0,0,0,0,0,1,6.9,0,0,0,0,0,0,0,0,0,0,0,0,0,0,0,0,1.29,1.08,0.1,1,1.85,0.55000000000000004,0.45,0.01,0.42,0.15,3.3,0.2,0.2,42,0,0,0,80]
[null,null,null,null,null,null,null,null,null,null,null,null,null,null,null,null,null,null,null,null,null,null,null,"SIĞIR BESİ YEMİ,13,2700",0,5,88.35,21.29,9.02,25.4,0,77.73,2.81,1.91,1.28,14.66,67.3,31.85,23.17,33.340000000000003,11.04,4.62,82.61,2.4900000000000002,7.31,294.95999999999998,30.86,4.9800000000000004,272.25,11.2,0.32,0.74,2.92,5.07,2.93,6.83,3.53,4.5,2.2200000000000002,4.87,1.1399999999999999,1.2,0.59,0.27,0.34,0.95,0.19,0.19,0.51,20.99,0.95,297.13,91.93,0.35,88.33,13.55,2.25,51.35,9.5]
[null,null,null,null,null,null,null,null,null,null,null,null,null,null,null,null,null,null,null,null,null,null,null,"SIĞIR BESİ YEMİ,14,2800",0,5,88.35,21.29,9.02,25.4,0,77.73,3.01,1.91,1.28,15.9,67.3,31.85,23.17,33.340000000000003,11.04,4.62,82.61,2.4900000000000002,7.31,294.95999999999998,30.86,4.9800000000000004,272.25,11.2,0.32,0.74,2.92,5.07,2.93,6.83,3.53,4.5,2.2200000000000002,4.87,1.1399999999999999,1.2,0.59,0.27,0.34,0.95,0.19,0.19,0.51,20.99,0.95,297.13,91.93,0.35,88.33,13.55,2.25,51.35,10.5]
[null,null,null,null,null,null,null,null,null,null,null,null,null,null,null,null,null,null,null,null,null,null,null,"SIĞIR BESİ YEMİ,15,2700",0,5,88.35,21.29,9.02,25.4,0,77.73,2.85,1.91,1.28,16.899999999999999,67.3,31.85,23.17,33.340000000000003,11.04,4.62,82.61,2.4900000000000002,7.31,294.95999999999998,30.86,4.9800000000000004,272.25,11.2,0.32,0.74,2.92,5.07,2.93,6.83,3.53,4.5,2.2200000000000002,4.87,1.1399999999999999,1.2,0.59,0.27,0.34,0.95,0.19,0.19,0.51,20.99,0.95,297.13,91.93,0.35,88.33,13.55,2.25,51.35,13.2]
[null,null,null,null,null,null,null,null,null,null,null,null,null,null,null,null,null,null,null,null,null,null,null,"SIĞIR BESİ YEMİ,14,2600",0,5,88.35,21.29,9.02,25.4,0,77.73,2.9,1.91,1.28,15.9,67.3,31.85,23.17,33.340000000000003,11.04,4.62,82.61,2.4900000000000002,7.31,294.95999999999998,30.86,4.9800000000000004,272.25,11.2,0.32,0.74,2.92,5.07,2.93,6.83,3.53,4.5,2.2200000000000002,4.87,1.1399999999999999,1.2,0.59,0.27,0.34,0.95,0.19,0.19,0.51,20.99,0.95,297.13,91.93,0.35,88.33,13.55,2.25,51.35,10]
[]
[]
[]
[]
[]
[]
[]
[]
[]
[]
[]
[]
[]
[]
[]
[]
[]
[]
[]
[]
[]
[]
[]
[]
[]
[]
[]
[]
[]
[]
[]
[]
[]
[]
[]
[]
[]
[]
[]
[]
[]
[]
[]
[]
[]
[]
[]
[]
[]
[]
[]
[]
[]
[]
[]
[]
[]
[null,null,null,null,null,null,null,null,null,null,null,null,null,null,null,null,null,null,null,null,null,null,null,"VİTAMİN-MİNERAL ve KATKILAR","en az","en çok","KM %Yem","NDF %KM","Lignin %NDF","Effekt. %NDF","HS,%","TDN %KM","ME,Mcal/kg","NEm,Mcal/kg","NEg,Mcal/kg","HP,%","DIP %HP","UIP %HP","SoIP %HP","NPN %SoIP","NDFIP %HP","ADFIP %HP","Nişasta %NSC","HY %KM","HK %KM","A kd %/sa©","B1 kd %/sa©","B2 kd %/sa©","B1 kd %/sa(p)","B2 kd %/sa(p)","B3 kd %/sa(p)","MET %UIP","LİZ %UIP","ARJ %UIP","TRE %UIP","LÖY %UIP","İZOLÖY %UIP","VAL %UIP","HIS %UIP","FENAL %UIP","TRİP %UIP","Ca %KM","P %KM","Mg %KM","Cl %KM","K %KM","Na %KM","S %KM","Co mg/kg","Cu mg/kg","I mg/kg","Fe mg/kg","Mn mg/kg","Se mg/kg","Zn mg/kg","Vit A 1000 IU/kg","Vit D 1000 IU/kg","Vit E IU/kg","FİYAT,TL"]
[null,null,null,null,null,null,null,null,null,null,null,null,null,null,null,null,null,null,null,null,null,null,null,"AMONYUMFOSFAT (DİBAZİK)",0,0.1,97,0,0,0,0,0,0,0,0,115.9,100,0,100,100,0,0,0,0,100,0,0,0,0,0,0,0,0,0,0,0,0,0,0,0,0,0.52,20.6,0.46,0,0.01,0.05,2.16,0,10,0,12400,400,0,100,0,0,0,9]
[null,null,null,null,null,null,null,null,null,null,null,null,null,null,null,null,null,null,null,null,null,null,null,"AMONYUMFOSFAT (MONOBAZİK)",0,0.1,97,0,0,0,0,0,0,0,0,70.900000000000006,100,0,100,100,0,0,0,0,100,0,0,0,0,0,0,0,0,0,0,0,0,0,0,0,0,0.28000000000000003,24.74,0.46,0,0.01,0.06,1.46,10,10,0,17400,400,0,100,0,0,0,9]
[null,null,null,null,null,null,null,null,null,null,null,null,null,null,null,null,null,null,null,null,null,null,null,"AMONYUMSÜLFAT",0,0.1,100,0,0,0,0,0,0,0,0,134.1,100,0,100,100,0,0,0,0,100,0,0,0,0,0,0,0,0,0,0,0,0,0,0,0,0,0,0,0,0,0,0,24.1,0,1,0,10,1,0,0,0,0,0,9]
[null,null,null,null,null,null,null,null,null,null,null,null,null,null,null,null,null,null,null,null,null,null,null,"BAKIRSÜLFAT",0,0.1,100,0,0,0,0,0,0,0,0,0,0,0,0,0,0,0,0,0,100,0,0,0,0,0,0,0,0,0,0,0,0,0,0,0,0,0,0,0,0,0,0,12.84,0,254500,0,0,0,0,0,0,0,0,115]
[null,null,null,null,null,null,null,null,null,null,null,null,null,null,null,null,null,null,null,null,null,null,null,"ÇİNKOOKSİT",0,0.1,100,0,0,0,0,0,0,0,0,0,0,0,0,0,0,0,0,0,100,0,0,0,0,0,0,0,0,0,0,0,0,0,0,0,0,0,0,0,0,0,0,0,0,0,0,0,0,0,780000,0,0,0,105]
[null,null,null,null,null,null,null,null,null,null,null,null,null,null,null,null,null,null,null,null,null,null,null,"ÇİNKOSÜLFAT",0,0.1,99,0,0,0,0,0,0,0,0,0,0,0,0,0,0,0,0,0,100,0,0,0,0,0,0,0,0,0,0,0,0,0,0,0,0,0.02,0,0,1.4999999999999999E-2,0,0,17.68,0,0,0,10,10,0,363600,0,0,0,105]
[null,null,null,null,null,null,null,null,null,null,null,null,null,null,null,null,null,null,null,null,null,null,null,"DEFLORİNEFOSFAT",0,0.1,100,0,0,0,0,0,0,0,0,0,0,0,0,0,0,0,0,0,100,0,0,0,0,0,0,0,0,0,0,0,0,0,0,0,0,32,18,0.42,0,0.08,4.9000000000000004,0,10,20,0,6700,200,0,60,0,0,0,11]
[null,null,null,null,null,null,null,null,null,null,null,null,null,null,null,null,null,null,null,null,null,null,null,"DEMİRSÜLFAT",0,0.1,98,0,0,0,0,0,0,0,0,0,0,0,0,0,0,0,0,0,100,0,0,0,0,0,0,0,0,0,0,0,0,0,0,0,0,0,0,0,0,0,0,12.35,0,0,0,218400,0,0,0,0,0,0,11]
[null,null,null,null,null,null,null,null,null,null,null,null,null,null,null,null,null,null,null,null,null,null,null,"DİKALSİYUMFOSFAT",0,0.1,97,0,0,0,0,0,0,0,0,0,0,0,0,0,0,0,0,0,100,0,0,0,0,0,0,0,0,0,0,0,0,0,0,0,0,22,19.3,0.59,0,7.0000000000000007E-2,0.05,1.1399999999999999,10,10,0,14400,300,0,100,0,0,0,35]
[null,null,null,null,null,null,null,null,null,null,null,null,null,null,null,null,null,null,null,null,null,null,null,"EDTA",0,0.1,98,0,0,0,0,0,0,0,0,0,0,0,0,0,0,0,0,0,100,0,0,0,0,0,0,0,0,0,0,0,0,0,0,0,0,0,0,0,0,0,0,0,0,0,803400,0,0,0,0,0,0,0,10]
[null,null,null,null,null,null,null,null,null,null,null,null,null,null,null,null,null,null,null,null,null,null,null,"FOSFORİK ASİT",0,0.1,75,0,0,0,0,0,0,0,0,0,0,0,0,0,0,0,0,0,100,0,0,0,0,0,0,0,0,0,0,0,0,0,0,0,0,0.05,31.6,0.51,0,0.02,0.04,1.55,10,10,0,17500,500,0,130,0,0,0,11]
[null,null,null,null,null,null,null,null,null,null,null,null,null,null,null,null,null,null,null,null,null,null,null,"İSTİRİDYE KABUĞU, ÖĞÜTÜLMÜŞ",0,0.5,99,0,0,0,0,0,0,0,0,0,0,0,0,0,0,0,0,0,100,0,0,0,0,0,0,0,0,0,0,0,0,0,0,0,0,38,7.0000000000000007E-2,0.3,0.01,0.1,0.21,0,0,0,0,2870,100,0,0,0,0,0,2]
[null,null,null,null,null,null,null,null,null,null,null,null,null,null,null,null,null,null,null,null,null,null,null,"KALSİYUMKARBONAT",0,0.1,100,0,0,0,0,0,0,0,0,0,0,0,0,0,0,0,0,0,100,0,0,0,0,0,0,0,0,0,0,0,0,0,0,0,0,39.39,0.04,0.05,0,0.06,0.06,0,0,0,0,300,300,0,0,0,0,0,2]
[null,null,null,null,null,null,null,null,null,null,null,null,null,null,null,null,null,null,null,null,null,null,null,"KALSİYUMMONOFOSFAT",0,0.1,97,0,0,0,0,0,0,0,0,0,0,0,0,0,0,0,0,0,100,0,0,0,0,0,0,0,0,0,0,0,0,0,0,0,0,16.399999999999999,21.6,0.61,0,0.08,0.06,1.22,10,10,0,15800,360,0,90,0,0,0,2]
[null,null,null,null,null,null,null,null,null,null,null,null,null,null,null,null,null,null,null,null,null,null,null,"KALSİYUMSÜLFAT",0,0.1,97,0,0,0,0,0,0,0,0,0,0,0,0,0,0,0,0,0,100,0,0,0,0,0,0,0,0,0,0,0,0,0,0,0,0,23.28,0,0,0,0,0,18.62,0,0,0,0,0,0,0,0,0,0,2]
[null,null,null,null,null,null,null,null,null,null,null,null,null,null,null,null,null,null,null,null,null,null,null,"KAYAFOSFATI",0,0.1,100,0,0,0,0,0,0,0,0,0,0,0,0,0,0,0,0,0,100,0,0,0,0,0,0,0,0,0,0,0,0,0,0,0,0,35,13,0.41,0,0.06,0.03,0,10,10,0,16800,200,0,100,0,0,0,2]
[null,null,null,null,null,null,null,null,null,null,null,null,null,null,null,null,null,null,null,null,null,null,null,"KAYAFOSFATI,DÜŞÜK Fl",0,0.1,100,0,0,0,0,0,0,0,0,0,0,0,0,0,0,0,0,0,100,0,0,0,0,0,0,0,0,0,0,0,0,0,0,0,0,36,14,0,0,0,0,0,0,0,0,0,0,0,0,0,0,0,2]
[null,null,null,null,null,null,null,null,null,null,null,null,null,null,null,null,null,null,null,null,null,null,null,"KAYAFOSFATI,YUMUŞAK",0,0.1,100,0,0,0,0,0,0,0,0,0,0,0,0,0,0,0,0,0,100,0,0,0,0,0,0,0,0,0,0,0,0,0,0,0,0,17,9,0.38,0,0,0.1,0,0,0,0,19000,1000,0,0,0,0,0,2]
[null,null,null,null,null,null,null,null,null,null,null,null,null,null,null,null,null,null,null,null,null,null,null,"KEMİK UNU",0,0.5,97,0,0,0,0,0,0,0,0,13.2,40,60,40,0,0,0,0,0,100,0,0,0,500,0,0,0,0,0,0,0,0,0,0,0,0,30.71,12.86,0.33,0,0.19,5.69,2.5099999999999998,0,0,0,26700,0,0,100,0,0,0,75]
[null,null,null,null,null,null,null,null,null,null,null,null,null,null,null,null,null,null,null,null,null,null,null,"KİREÇTAŞI",0,0.2,100,0,0,0,0,0,0,0,0,0,0,0,0,0,0,0,0,0,100,0,0,0,0,0,0,0,0,0,0,0,0,0,0,0,0,34,0.02,2.06,0.03,0.12,0.06,0.04,0,0,0,3500,0,0,0,0,0,0,2]
[null,null,null,null,null,null,null,null,null,null,null,null,null,null,null,null,null,null,null,null,null,null,null,"KİREÇTAŞI, Mg",0,0.2,99,0,0,0,0,0,0,0,0,0,0,0,0,0,0,0,0,0,100,0,0,0,0,0,0,0,0,0,0,0,0,0,0,0,0,22.3,0.04,9.99,0.12,0.36,0,0,0,0,0,770,0,0,0,0,0,0,2]
[null,null,null,null,null,null,null,null,null,null,null,null,null,null,null,null,null,null,null,null,null,null,null,"KOBALTKARBONAT",0,0.1,99,0,0,0,0,0,0,0,0,0,0,0,0,0,0,0,0,0,100,0,0,0,0,0,0,0,0,0,0,0,0,0,0,0,0,0,0,0,0,0,0,0.2,460000,0,0,500,0,0,0,0,0,0,8]
[null,null,null,null,null,null,null,null,null,null,null,null,null,null,null,null,null,null,null,null,null,null,null,"MAGNEZYUMKARBONAT",0,0.1,98,0,0,0,0,0,0,0,0,0,0,0,0,0,0,0,0,0,100,0,0,0,0,0,0,0,0,0,0,0,0,0,0,0,0,0.02,0,30.81,0,0,0,0,0,0,0,220,0,0,0,0,0,0,8]
[null,null,null,null,null,null,null,null,null,null,null,null,null,null,null,null,null,null,null,null,null,null,null,"MAGNEZYUMOKSİT",0,0.1,98,0,0,0,0,0,0,0,0,0,0,0,0,0,0,0,0,0,100,0,0,0,0,0,0,0,0,0,0,0,0,0,0,0,0,3.07,0,56.2,0,0,0,0,0,0,0,0,100,0,0,0,0,0,8]
[null,null,null,null,null,null,null,null,null,null,null,null,null,null,null,null,null,null,null,null,null,null,null,"MANGANEZKARBONAT",0,0.1,97,0,0,0,0,0,0,0,0,0,0,0,0,0,0,0,0,0,100,0,0,0,0,0,0,0,0,0,0,0,0,0,0,0,0,0,0,0,0,0,0,0,0,0,0,0,478000,0,0,0,0,0,8]
[null,null,null,null,null,null,null,null,null,null,null,null,null,null,null,null,null,null,null,null,null,null,null,"MANGANEZOKSİT",0,0.1,99,0,0,0,0,0,0,0,0,0,0,0,0,0,0,0,0,0,100,0,0,0,0,0,0,0,0,0,0,0,0,0,0,0,0,0,0,0,0,0,0,0,0,0,0,0,774500,0,0,0,0,0,8]
[null,null,null,null,null,null,null,null,null,null,null,null,null,null,null,null,null,null,null,null,null,null,null,"MERMER TOZU",0,3,98,0,0,0,0,0,0,0,0,0,0,0,0,0,0,0,0,0,100,0,0,0,0,0,0,0,0,0,0,0,0,0,0,0,0,37,0,0,0,0,0,0,0,0,0,0,0,0,0,0,0,0,2]
[null,null,null,null,null,null,null,null,null,null,null,null,null,null,null,null,null,null,null,null,null,null,null,"MONOFOSFAT",0,0.1,97,0,0,0,0,0,0,0,0,0,0,0,0,0,0,0,0,0,100,0,0,0,0,0,0,0,0,0,0,0,0,0,0,0,0,0,22.5,0,0,0,16.68,0,0,0,0,0,0,0,0,0,0,0,11]
[null,null,null,null,null,null,null,null,null,null,null,null,null,null,null,null,null,null,null,null,null,null,null,"MONOSODYUMFOSFAT",0,0.1,97,0,0,0,0,0,0,0,0,0,0,0,0,0,0,0,0,0,100,0,0,0,0,0,0,0,0,0,0,0,0,0,0,0,0,0,22.5,0,0,0,16.68,0,0,0,0,0,0,0,0,0,0,0,13.5]
[null,null,null,null,null,null,null,null,null,null,null,null,null,null,null,null,null,null,null,null,null,null,null,"POTASYUMBİKARBONAT",0,0.1,99,0,0,0,0,0,0,0,0,0,0,0,0,0,0,0,0,0,100,0,0,0,0,0,0,0,0,0,0,0,0,0,0,0,0,0,0,0,0,39.049999999999997,0,0,0,0,0,0,0,0,0,0,0,0,11]
[null,null,null,null,null,null,null,null,null,null,null,null,null,null,null,null,null,null,null,null,null,null,null,"POTASYUMİYODİD",0,0.1,100,0,0,0,0,0,0,0,0,0,0,0,0,0,0,0,0,0,100,0,0,0,0,0,0,0,0,0,0,0,0,0,0,0,0,0,0,0,0,21,0,0,0,0,681700,0,0,0,0,0,0,0,11]
[null,null,null,null,null,null,null,null,null,null,null,null,null,null,null,null,null,null,null,null,null,null,null,"POTASYUMKLORİD",0,0.1,100,0,0,0,0,0,0,0,0,0,0,0,0,0,0,0,0,0,100,0,0,0,0,0,0,0,0,0,0,0,0,0,0,0,0,0.05,0,0.34,47.3,50,1,0.45,0,0,0,600,0,0,0,0,0,0,11]
[null,null,null,null,null,null,null,null,null,null,null,null,null,null,null,null,null,null,null,null,null,null,null,"POTASYUMSÜLFAT",0,0.1,98,0,0,0,0,0,0,0,0,0,0,0,0,0,0,0,0,0,100,0,0,0,0,0,0,0,0,0,0,0,0,0,0,0,0,0.15,0,0.61,1.55,41.84,0.09,17.350000000000001,0,0,0,710,10,0,0,0,0,0,11]
[null,null,null,null,null,null,null,null,null,null,null,null,null,null,null,null,null,null,null,null,null,null,null,"SODYUMBİKARBONAT",0,0.1,100,0,0,0,0,0,0,0,0,0,0,0,0,0,0,0,0,0,100,0,0,0,0,0,0,0,0,0,0,0,0,0,0,0,0,0,0,0,0,0,27,0,0,0,0,0,0,0,0,0,0,0,13.5]
[null,null,null,null,null,null,null,null,null,null,null,null,null,null,null,null,null,null,null,null,null,null,null,"SODYUMSELENİT",0,0.01,98,0,0,0,0,0,0,0,0,0,0,0,0,0,0,0,0,0,100,0,0,0,0,0,0,0,0,0,0,0,0,0,0,0,0,0,0,0,0,0,26.6,0,0,0,0,0,0,456000,0,0,0,0,13.5]
[null,null,null,null,null,null,null,null,null,null,null,null,null,null,null,null,null,null,null,null,null,null,null,"SODYUMSÜLFAT",0,0.1,97,0,0,0,0,0,0,0,0,0,0,0,0,0,0,0,0,0,100,0,0,0,0,0,0,0,0,0,0,0,0,0,0,0,0,0,0,0,0,0,14.27,9.9499999999999993,0,0,0,0,0,0,0,0,0,0,13.5]
[null,null,null,null,null,null,null,null,null,null,null,null,null,null,null,null,null,null,null,null,null,null,null,"SODYUMTRİPOLİFOSFAT",0,0.1,96,0,0,0,0,0,0,0,0,0,0,0,0,0,0,0,0,0,100,0,0,0,0,0,0,0,0,0,0,0,0,0,0,0,0,0,25,0,0,0,31,0,0,0,0,40,0,0,0,0,0,0,13.5]
[null,null,null,null,null,null,null,null,null,null,null,null,null,null,null,null,null,null,null,null,null,null,null,"TUZ",5.0000000000000001E-3,0.05,100,0,0,0,0,0,0,0,0,0,0,0,0,0,0,0,0,0,100,0,0,0,0,0,0,0,0,0,0,0,0,0,0,0,0,0,0,0,60.66,0,39.340000000000003,0,0,0,0,0,0,0,0,0,0,0,1.5]
[null,null,null,null,null,null,null,null,null,null,null,null,null,null,null,null,null,null,null,null,null,null,null,"VİT. KAR. (KAVIMIX 802-EKONOMİK) (SÜT, BESİ, BUZAĞI)",5.0000000000000001E-3,0.05,100,0,0,0,0,0,0,0,0,0,0,0,0,0,0,0,0,0,0,0,0,0,0,0,0,0,0,0,0,0,0,0,0,0,0,0,0,0,0,0,0,0,0,0,0,0,0,0,0,7000,700,30000,25]
[null,null,null,null,null,null,null,null,null,null,null,null,null,null,null,null,null,null,null,null,null,null,null,"VİT. KAR. (KAVIMIX 803-ZENGİN) (SÜT, BESİ, BUZAĞI)",5.0000000000000001E-3,0.05,100,0,0,0,0,0,0,0,0,0,0,0,0,0,0,0,0,0,0,0,0,0,0,0,0,0,0,0,0,0,0,0,0,0,0,0,0,0,0,0,0,0,0,0,0,0,0,0,0,15000,3000,30000,26]
[null,null,null,null,null,null,null,null,null,null,null,null,null,null,null,null,null,null,null,null,null,null,null,"VİT. KAR. (ROVIMIX 302-F/30) (SÜT, BESİ)",5.0000000000000001E-3,0.05,100,0,0,0,0,0,0,0,0,0,0,0,0,0,0,0,0,0,0,0,0,0,0,0,0,0,0,0,0,0,0,0,0,0,0,0,0,0,0,0,0,0,0,0,0,0,0,0,0,15000,3000,30000,30]
[null,null,null,null,null,null,null,null,null,null,null,null,null,null,null,null,null,null,null,null,null,null,null,"VİT.-MİN. KAR. (FARMIX-STANDART) (SÜT, BESİ)",5.0000000000000001E-3,0.05,100,0,0,0,0,0,0,0,0,0,0,0,0,0,0,0,0,0,0,0,0,0,0,0,0,0,0,0,0,0,0,0,0,0,0,0,0,0,0,0,0,0,200,10000,800,50000,50000,150,50000,7000,700,30000,25]
[null,null,null,null,null,null,null,null,null,null,null,null,null,null,null,null,null,null,null,null,null,null,null,"VİT.-MİN. KAR. (KAVIMIX VM 602-EKONOMİK) (SÜT, BESİ, BUZAĞI)",5.0000000000000001E-3,0.05,100,0,0,0,0,0,0,0,0,0,0,0,0,0,0,0,0,0,0,0,0,0,0,0,0,0,0,0,0,0,0,0,0,0,0,0,0,0,0,0,0,0,150,10000,800,50000,50000,150,50000,10000,2000,30000,20]
[null,null,null,null,null,null,null,null,null,null,null,null,null,null,null,null,null,null,null,null,null,null,null,"VİT.-MİN. KAR. (KAVIMIX VM 812) (BUZAĞI )",5.0000000000000001E-3,0.05,100,0,0,0,0,0,0,0,0,0,0,0,0,0,0,0,0,0,0,0,0,0,0,0,0,0,0,0,0,0,0,0,0,0,0,0,0,0,0,0,0,0,150,10000,800,50000,50000,150,50000,7000,700,30000,25]
[null,null,null,null,null,null,null,null,null,null,null,null,null,null,null,null,null,null,null,null,null,null,null,"VİT.-MİN. KAR. (KAVIMIX VM 902-E/20-ZENGİN) (SÜT, BESİ)",5.0000000000000001E-3,0.05,100,0,0,0,0,0,0,0,0,0,0,0,0,0,0,0,0,0,0,0,0,0,0,0,0,0,0,0,0,0,0,0,0,0,0,0,0,0,0,0,0,0,150,10000,800,50000,50000,150,50000,15000,3000,30000,30]
[null,null,null,null,null,null,null,null,null,null,null,null,null,null,null,null,null,null,null,null,null,null,null,"VİT.-MİN. KAR. (KAVIMIX VM 902-ZENGİN) (SÜT, BESİ)",5.0000000000000001E-3,0.05,100,0,0,0,0,0,0,0,0,0,0,0,0,0,0,0,0,0,0,0,0,0,0,0,0,0,0,0,0,0,0,0,0,0,0,0,0,0,0,0,0,0,150,10000,800,50000,50000,150,50000,15000,3000,30000,25]
[null,null,null,null,null,null,null,null,null,null,null,null,null,null,null,null,null,null,null,null,null,null,null,"VİT.-MİN. KAR. (ROVIMIX 301-F) (BUZAĞI )",5.0000000000000001E-3,0.05,100,0,0,0,0,0,0,0,0,0,0,0,0,0,0,0,0,0,0,0,0,0,0,0,0,0,0,0,0,0,0,0,0,0,0,1.26,0,0,0,0,0,0,0,0,0,0,0,0,0,15000,4000,20000,25]
[null,null,null,null,null,null,null,null,null,null,null,null,null,null,null,null,null,null,null,null,null,null,null,"VİT.-MİN. KAR. (ROVIMIX 302-FM/30) (SÜT, BESİ)",5.0000000000000001E-3,0.05,100,0,0,0,0,0,0,0,0,0,0,0,0,0,0,0,0,0,0,0,0,0,0,0,0,0,0,0,0,0,0,0,0,0,0,0,0,0,0,0,0,0,150,10000,800,50000,50000,150,50000,15000,3000,30000,30]
[]
[]
[]
[]
[]
[]
[]
[]
[]
[]
[]
[]
[]
[]
[]
[]
[]
[]
[]
[]
[]
[]
[]
[]
[]
[]
[]
[]
[null,null,null,null,null,null,null,null,null,null,null,null,null,null,null,null,null,null,null,null,null,null,null,null,"en az","KM %Yem","NDF %KM","Lignin %NDF","Effekt. %NDF","HS,%","TDN %KM","ME,Mcal/kg","NEm,Mcal/kg","NEg,Mcal/kg","HP,%","DIP %HP","UIP %HP","SoIP %HP","NPN %SoIP","NDFIP %HP","ADFIP %HP","Nişasta %NSC","HY %KM","HK %KM","A kd %/sa©","B1 kd %/sa©","B2 kd %/sa©","B1 kd %/sa(p)","B2 kd %/sa(p)","B3 kd %/sa(p)","MET %UIP","LİZ %UIP","ARJ %UIP","TRE %UIP","LÖY %UIP","İZOLÖY %UIP","VAL %UIP","HIS %UIP","FENAL %UIP","TRİP %UIP","Ca %KM","P %KM","Mg %KM","Cl %KM","K %KM","Na %KM","S %KM","Co mg/kg","Cu mg/kg","I mg/kg","Fe mg/kg","Mn mg/kg","Se mg/kg","Zn mg/kg","Vit A 1000 IU/kg","Vit D 1000 IU/kg","Vit E IU/kg","FİYAT,Krş"]
[null,null,null,null,null,null,null,null,null,null,null,null,null,null,null,null,null,null,null,null,null,null,null,null,0.01,{"$f":"ROUND(SUM(Z660:Z686),2)","v":89.35},36.369999999999997,7.33,75,17.48,66.72,{"$f":"ROUND(SUM(AF660:AF686),2)","v":2.46},{"$f":"ROUND(SUM(AG660:AG686),2)","v":1.53},0.92,7.63,38.14,60.88,15.15,79.650000000000006,39.54,29.92,93.28,3.18,5.07,{"$f":"ROUND(SUM(AS660:AS686),2)","v":196.22},{"$f":"ROUND(SUM(AT660:AT686),2)","v":19.04},{"$f":"ROUND(SUM(AU660:AU686),2)","v":3.59},{"$f":"ROUND(SUM(AV660:AV686),2)","v":140.37},7.73,0.1,0.91,{"$f":"ROUND(SUM(AZ660:AZ686),2)","v":2.1800000000000002},{"$f":"ROUND(SUM(BA660:BA686),2)","v":2.34},{"$f":"ROUND(SUM(BB660:BB686),2)","v":2.8},{"$f":"ROUND(SUM(BC660:BC686),2)","v":8.2899999999999991},{"$f":"ROUND(SUM(BD660:BD686),2)","v":2.77},{"$f":"ROUND(SUM(BE660:BE686),2)","v":3.79},{"$f":"ROUND(SUM(BF660:BF686),2)","v":1.61},{"$f":"ROUND(SUM(BG660:BG686),2)","v":3.63},{"$f":"ROUND(SUM(BH660:BH686),2)","v":2.12},{"$f":"ROUND(SUM(BI660:BI686),2)","v":0.44},{"$f":"ROUND(SUM(BJ660:BJ686),2)","v":0.25},{"$f":"ROUND(SUM(BK660:BK686),2)","v":0.17},{"$f":"ROUND(SUM(BL660:BL686),2)","v":0.35},{"$f":"ROUND(SUM(BM660:BM686),2)","v":1.18},{"$f":"ROUND(SUM(BN660:BN686),2)","v":0.09},{"$f":"ROUND(SUM(BO660:BO686),2)","v":0.15},{"$f":"ROUND(SUM(BP660:BP686),2)","v":0.37},{"$f":"ROUND(SUM(BQ660:BQ686),2)","v":9.5500000000000007},{"$f":"ROUND(SUM(BR660:BR686),2)","v":0.43},{"$f":"ROUND(SUM(BS660:BS686),2)","v":160.29},{"$f":"ROUND(SUM(BT660:BT686),2)","v":37.96},{"$f":"ROUND(SUM(BU660:BU686),2)","v":0.09},{"$f":"ROUND(SUM(BV660:BV686),2)","v":31.6},{"$f":"ROUND(SUM(BW660:BW686),2)","v":8.57},{"$f":"ROUND(SUM(BX660:BX686),2)","v":1.89},{"$f":"ROUND(SUM(BY660:BY686),2)","v":17.07},{"$f":"ROUND(SUM(BZ660:BZ686)/Y2,2)","v":5.85}]
[null,null,null,null,null,null,null,null,null,null,null,null,null,null,null,null,null,null,null,null,null,null,null,null,"en çok",{"$f":"IF($Y5=0,0,Z5*($Y5/$Y$2))","v":0},{"$f":"IF($Y5=0,0,AA5*($Y5/$Y$2))","v":0},0,0,0,0,{"$f":"IF($Y5=0,0,AF5*($Y5/$Y$2))","v":0},{"$f":"IF($Y5=0,0,AG5*($Y5/$Y$2))","v":0},0,0,0,0,0,0,0,0,0,0,0,{"$f":"IF($Y5=0,0,AS5*($Y5/$Y$2))","v":0},0,0,0,0,0,0,{"$f":"IF($Y5=0,0,AZ5*($Y5/$Y$2))","v":0},0,0,0,0,0,0,0,0,0,0,0,0,0,0,0,0,0,0,0,0,0,0,0,0,0,{"$f":"IF($Y5=0,0,BZ36)","v":0}]
[null,null,null,null,null,null,null,null,null,null,null,null,null,null,null,null,null,null,null,null,null,null,null,null,10,{"$f":"IF($Y6=0,0,Z6*($Y6/$Y$2))","v":37.868002288758547},{"$f":"IF($Y6=0,0,AA6*($Y6/$Y$2))","v":30.16956226302192},5.7218135326420878,41.613189328306092,17.477539517888559,16.645275731322439,{"$f":"IF($Y6=0,0,AF6*($Y6/$Y$2))","v":0.6033912452604383},{"$f":"IF($Y6=0,0,AG6*($Y6/$Y$2))","v":0.24967913596983654},3.3290551462644875E-2,1.8309803304454684,12.483956798491828,29.129232529814267,8.3226378656612194,39.532529861890787,31.209891996229569,27.048573063398962,41.613189328306092,0.79065059723781572,3.1209891996229571,{"$f":"IF($Y6=0,0,AS6*($Y6/$Y$2))","v":104.03297332076524},12.483956798491828,{"$f":"IF($Y6=0,0,AU6*($Y6/$Y$2))","v":1.2483956798491829},56.177805593213229,4.5774508261136706,3.7451870395475484E-2,{"$f":"IF($Y6=0,0,AY6*($Y6/$Y$2))","v":0.27880836849965085},1.1776532579910626,1.1776532579910626,1.1776532579910626,2.2845640941240046,1.1776532579910626,1.5937851512741235,0.41613189328306094,1.4564616264907133,1.8725935197737742,0.12483956798491827,2.9129232529814267E-2,9.5710335455104018E-2,0.27880836849965085,0.98623258708085448,5.8258465059628534E-2,7.0742421858120366E-2,2.9129232529814267E-2,2.247112223728529,0,83.226378656612184,6.658110292528975,0,2.9129232529814266,0.41613189328306094,0.29129232529814264,0,{"$f":"IF($Y6=0,0,BZ37)","v":5.85}]
[null,null,null,null,null,null,null,null,null,null,null,null,null,null,null,null,null,null,null,null,null,null,null,null,null,{"$f":"IF($Y7=0,0,Z7*($Y7/$Y$2))","v":3.5683326596633211},{"$f":"IF($Y7=0,0,AA7*($Y7/$Y$2))","v":1.1353785735292385},0.41968457985812924,1.3786739821426468,0,3.1222910772054062,{"$f":"IF($Y7=0,0,AF7*($Y7/$Y$2))","v":0.11272687265754582},{"$f":"IF($Y7=0,0,AG7*($Y7/$Y$2))","v":7.5016084322467549E-2},4.9470066418059677E-2,0.56768928676461927,2.71355479073488,1.3409631938075686,0.6893369910713234,1.1759278082981399,0.32439387815121101,0.20274617384450688,3.6494311292011239,9.3263239968473161E-2,0.16219693907560551,12.164770430670412,1.2164770430670413,{"$f":"IF($Y7=0,0,AU7*($Y7/$Y$2))","v":0.20274617384450688},12.164770430670412,0.48659081722681652,1.4192232169115481E-2,{"$f":"IF($Y7=0,0,AY7*($Y7/$Y$2))","v":3.2844880162810119E-2},0.12448615074052721,0.19585280393379365,0.12773008952203932,0.27695127347159643,0.1589530002940934,0.19788026567223871,9.2857747620784151E-2,0.2270757147058477,5.1092035808815738E-2,2.4329540861340827E-3,1.5814201559871538E-2,6.0823852153352063E-3,5.2714005199571787E-3,2.1085602079828715E-2,1.2164770430670413E-3,6.8933699107132347E-3,7.7043546060912614E-3,0.34872341901255183,2.0274617384450689E-3,3.6494311292011239,0.73394114931711496,7.2988622584022472E-3,1.8003860237392211,0.15408709212182523,0,1.0623899509452159,{"$f":"IF($Y7=0,0,BZ38)","v":3.0402286996280594}]
[null,null,null,null,null,null,null,null,null,null,null,null,null,null,null,null,null,null,null,null,null,null,null,null,null,{"$f":"IF($Y8=0,0,Z8*($Y8/$Y$2))","v":46.948213601165854},{"$f":"IF($Y8=0,0,AA8*($Y8/$Y$2))","v":5.0682730592167688},1.184375388574866,32.010145637158537,0,46.948213601165854,{"$f":"IF($Y8=0,0,AF8*($Y8/$Y$2))","v":1.7445529372251403},{"$f":"IF($Y8=0,0,AG8*($Y8/$Y$2))","v":1.2057154856663048},0.83226378656612199,5.2283237874025614,22.940604373296953,30.409638355300611,6.1352779137887197,38.945677191876221,8.0025364092896343,2.6675121364298784,48.015218455737809,2.2940604373296951,0.85360388365756101,80.025364092896339,5.3350242728597568,{"$f":"IF($Y8=0,0,AU8*($Y8/$Y$2))","v":2.1340097091439025},72.022827683606707,2.6675121364298784,5.3350242728597563E-2,{"$f":"IF($Y8=0,0,AY8*($Y8/$Y$2))","v":0.59752271856029282},0.88027900502185974,0.97097441766047565,1.4938067964007318,5.7244810447785186,1.4351215293992745,2.0006341023224086,1.0990150002091099,1.9472838595938111,0.19739589809581098,1.8672584955009151E-2,0.16005072818579269,6.9355315547176832E-2,3.2010145637158538E-2,0.1707207767315122,5.3350242728597563E-3,6.9355315547176832E-2,0.22940604373296952,1.6005072818579269,0,16.005072818579269,3.254364806444451,0,0,0,0,0,{"$f":"IF($Y8=0,0,BZ39)","v":45}]
[null,null,null,null,null,null,null,null,null,null,null,null,null,null,null,null,null,null,null,null,null,null,null,null,null,{"$f":"IF($Y9=0,0,Z9*($Y9/$Y$2))","v":0},{"$f":"IF($Y9=0,0,AA9*($Y9/$Y$2))","v":0},0,0,0,0,{"$f":"IF($Y9=0,0,AF9*($Y9/$Y$2))","v":0},{"$f":"IF($Y9=0,0,AG9*($Y9/$Y$2))","v":0},0,0,0,0,0,0,0,0,0,0,0,0,0,{"$f":"IF($Y9=0,0,AU9*($Y9/$Y$2))","v":0},0,0,0,{"$f":"IF($Y9=0,0,AY9*($Y9/$Y$2))","v":0},0,0,0,0,0,0,0,0,0,0,0,0,0,0,0,0,0,0,0,0,0,0,0,0,0,0,{"$f":"IF($Y9=0,0,BZ40)","v":0}]
[null,null,null,null,null,null,null,null,null,null,null,null,null,null,null,null,null,null,null,null,null,null,null,null,null,{"$f":"IF($Y10=0,0,Z10*($Y10/$Y$2))","v":0},{"$f":"IF($Y10=0,0,AA10*($Y10/$Y$2))","v":0},0,0,0,0,{"$f":"IF($Y10=0,0,AF10*($Y10/$Y$2))","v":0},{"$f":"IF($Y10=0,0,AG10*($Y10/$Y$2))","v":0},0,0,0,0,0,0,0,0,0,0,0,0,0,{"$f":"IF($Y10=0,0,AU10*($Y10/$Y$2))","v":0},0,0,0,{"$f":"IF($Y10=0,0,AY10*($Y10/$Y$2))","v":0},0,0,0,0,0,0,0,0,0,0,0,0,0,0,0,0,0,0,0,0,0,0,0,0,0,0,{"$f":"IF($Y10=0,0,BZ41)","v":0}]
[null,null,null,null,null,null,null,null,null,null,null,null,null,null,null,null,null,null,null,null,null,null,null,null,null,{"$f":"IF($Y11=0,0,Z11*($Y11/$Y$2))","v":0.20699894178695855},{"$f":"IF($Y11=0,0,AA11*($Y11/$Y$2))","v":0},0,0,0,0,{"$f":"IF($Y11=0,0,AF11*($Y11/$Y$2))","v":0},{"$f":"IF($Y11=0,0,AG11*($Y11/$Y$2))","v":0},0,0,0,0,0,0,0,0,0,0,0.21340097091439025,0,0,{"$f":"IF($Y11=0,0,AU11*($Y11/$Y$2))","v":0},0,0,0,{"$f":"IF($Y11=0,0,AY11*($Y11/$Y$2))","v":0},0,0,0,0,0,0,0,0,0,4.6948213601165856E-2,4.118638738647732E-2,1.2590657283949025E-3,0,1.4938067964007318E-4,1.0670048545719513E-4,2.4327710684240488E-3,2.1340097091439025E-2,2.1340097091439025E-2,0,30.729739811672196,0.64020291274317076,0,0.21340097091439025,0,0,0,{"$f":"IF($Y11=0,0,BZ42)","v":0.70000000000000007}]
[null,null,null,null,null,null,null,null,null,null,null,null,null,null,null,null,null,null,null,null,null,null,null,null,null,{"$f":"IF($Y12=0,0,Z12*($Y12/$Y$2))","v":0.6483121496379175},{"$f":"IF($Y12=0,0,AA12*($Y12/$Y$2))","v":0},0,0,0,0,{"$f":"IF($Y12=0,0,AF12*($Y12/$Y$2))","v":0},{"$f":"IF($Y12=0,0,AG12*($Y12/$Y$2))","v":0},0,0,0,0,0,0,0,0,0,0,0.66154300983460967,0,0,{"$f":"IF($Y12=0,0,AU12*($Y12/$Y$2))","v":0},0,0,0,{"$f":"IF($Y12=0,0,AY12*($Y12/$Y$2))","v":0},0,0,0,0,0,0,0,0,0,0.2447709136388056,0,0,0,0,0,0,0,0,0,0,0,0,0,0,0,0,{"$f":"IF($Y12=0,0,BZ43)","v":0.124}]
[null,null,null,null,null,null,null,null,null,null,null,null,null,null,null,null,null,null,null,null,null,null,null,null,null,{"$f":"IF($Y13=0,0,Z13*($Y13/$Y$2))","v":5.3350242728597563E-2},{"$f":"IF($Y13=0,0,AA13*($Y13/$Y$2))","v":0},0,0,0,0,{"$f":"IF($Y13=0,0,AF13*($Y13/$Y$2))","v":0},{"$f":"IF($Y13=0,0,AG13*($Y13/$Y$2))","v":0},0,0,0,0,0,0,0,0,0,0,5.3350242728597563E-2,0,0,{"$f":"IF($Y13=0,0,AU13*($Y13/$Y$2))","v":0},0,0,0,{"$f":"IF($Y13=0,0,AY13*($Y13/$Y$2))","v":0},0,0,0,0,0,0,0,0,0,0,0,0,3.2362257239167282E-2,0,2.0987985489430282E-2,0,0,0,0,0,0,0,0,0,0,0,{"$f":"IF($Y13=0,0,BZ44)","v":7.4999999999999997E-3}]
[null,null,null,null,null,null,null,null,null,null,null,null,null,null,null,null,null,null,null,null,null,null,null,null,null,{"$f":"IF($Y14=0,0,Z14*($Y14/$Y$2))","v":5.3350242728597563E-2},{"$f":"IF($Y14=0,0,AA14*($Y14/$Y$2))","v":0},0,0,0,0,{"$f":"IF($Y14=0,0,AF14*($Y14/$Y$2))","v":0},{"$f":"IF($Y14=0,0,AG14*($Y14/$Y$2))","v":0},0,0,0,0,0,0,0,0,0,0,0,0,0,{"$f":"IF($Y14=0,0,AU14*($Y14/$Y$2))","v":0},0,0,0,{"$f":"IF($Y14=0,0,AY14*($Y14/$Y$2))","v":0},0,0,0,0,0,0,0,0,0,0,0,0,0,0,0,0,8.0025364092896345E-2,5.3350242728597568,0.42680194182878051,26.675121364298782,26.675121364298782,8.0025364092896345E-2,26.675121364298782,8.0025364092896343,1.6005072818579269,16.005072818579269,{"$f":"IF($Y14=0,0,BZ45)","v":0.15}]
[null,null,null,null,null,null,null,null,null,null,null,null,null,null,null,null,null,null,null,null,null,null,null,null,null,{"$f":"IF($Y15=0,0,Z15*($Y15/$Y$2))","v":0},{"$f":"IF($Y15=0,0,AA15*($Y15/$Y$2))","v":0},0,0,0,0,{"$f":"IF($Y15=0,0,AF15*($Y15/$Y$2))","v":0},{"$f":"IF($Y15=0,0,AG15*($Y15/$Y$2))","v":0},0,0,0,0,0,0,0,0,0,0,0,0,0,{"$f":"IF($Y15=0,0,AU15*($Y15/$Y$2))","v":0},0,0,0,{"$f":"IF($Y15=0,0,AY15*($Y15/$Y$2))","v":0},0,0,0,0,0,0,0,0,0,0,0,0,0,0,0,0,0,0,0,0,0,0,0,0,0,0,{"$f":"IF($Y15=0,0,BZ46)","v":0}]
[null,null,null,null,null,null,null,null,null,null,null,null,null,null,null,null,null,null,null,null,null,null,null,null,null,{"$f":"IF($Y16=0,0,Z16*($Y16/$Y$2))","v":0},{"$f":"IF($Y16=0,0,AA16*($Y16/$Y$2))","v":0},0,0,0,0,{"$f":"IF($Y16=0,0,AF16*($Y16/$Y$2))","v":0},{"$f":"IF($Y16=0,0,AG16*($Y16/$Y$2))","v":0},0,0,0,0,0,0,0,0,0,0,0,0,0,{"$f":"IF($Y16=0,0,AU16*($Y16/$Y$2))","v":0},0,0,0,{"$f":"IF($Y16=0,0,AY16*($Y16/$Y$2))","v":0},0,0,0,0,0,0,0,0,0,0,0,0,0,0,0,0,0,0,0,0,0,0,0,0,0,0,{"$f":"IF($Y16=0,0,BZ47)","v":0}]
[null,null,null,null,null,null,null,null,null,null,null,null,null,null,null,null,null,null,null,null,null,null,null,null,null,{"$f":"IF($Y17=0,0,Z17*($Y17/$Y$2))","v":0},{"$f":"IF($Y17=0,0,AA17*($Y17/$Y$2))","v":0},0,0,0,0,{"$f":"IF($Y17=0,0,AF17*($Y17/$Y$2))","v":0},{"$f":"IF($Y17=0,0,AG17*($Y17/$Y$2))","v":0},0,0,0,0,0,0,0,0,0,0,0,0,0,{"$f":"IF($Y17=0,0,AU17*($Y17/$Y$2))","v":0},0,0,0,{"$f":"IF($Y17=0,0,AY17*($Y17/$Y$2))","v":0},0,0,0,0,0,0,0,0,0,0,0,0,0,0,0,0,0,0,0,0,0,0,0,0,0,0,{"$f":"IF($Y17=0,0,BZ48)","v":0}]
[null,null,null,null,null,null,null,null,null,null,null,null,null,null,null,null,null,null,null,null,null,null,null,null,null,{"$f":"IF($Y18=0,0,Z18*($Y18/$Y$2))","v":0},{"$f":"IF($Y18=0,0,AA18*($Y18/$Y$2))","v":0},0,0,0,0,{"$f":"IF($Y18=0,0,AF18*($Y18/$Y$2))","v":0},{"$f":"IF($Y18=0,0,AG18*($Y18/$Y$2))","v":0},0,0,0,0,0,0,0,0,0,0,0,0,0,{"$f":"IF($Y18=0,0,AU18*($Y18/$Y$2))","v":0},0,0,0,{"$f":"IF($Y18=0,0,AY18*($Y18/$Y$2))","v":0},0,0,0,0,0,0,0,0,0,0,0,0,0,0,0,0,0,0,0,0,0,0,0,0,0,0,{"$f":"IF($Y18=0,0,BZ49)","v":0}]
[null,null,null,null,null,null,null,null,null,null,null,null,null,null,null,null,null,null,null,null,null,null,null,null,null,{"$f":"IF($Y19=0,0,Z19*($Y19/$Y$2))","v":0},{"$f":"IF($Y19=0,0,AA19*($Y19/$Y$2))","v":0},0,0,0,0,{"$f":"IF($Y19=0,0,AF19*($Y19/$Y$2))","v":0},{"$f":"IF($Y19=0,0,AG19*($Y19/$Y$2))","v":0},0,0,0,0,0,0,0,0,0,0,0,0,0,{"$f":"IF($Y19=0,0,AU19*($Y19/$Y$2))","v":0},0,0,0,{"$f":"IF($Y19=0,0,AY19*($Y19/$Y$2))","v":0},0,0,0,0,0,0,0,0,0,0,0,0,0,0,0,0,0,0,0,0,0,0,0,0,0,0,{"$f":"IF($Y19=0,0,BZ50)","v":0}]
[null,null,null,null,null,null,null,null,null,null,null,null,null,null,null,null,null,null,null,null,null,null,null,null,null,{"$f":"IF($Y20=0,0,Z20*($Y20/$Y$2))","v":0},{"$f":"IF($Y20=0,0,AA20*($Y20/$Y$2))","v":0},0,0,0,0,{"$f":"IF($Y20=0,0,AF20*($Y20/$Y$2))","v":0},{"$f":"IF($Y20=0,0,AG20*($Y20/$Y$2))","v":0},0,0,0,0,0,0,0,0,0,0,0,0,0,{"$f":"IF($Y20=0,0,AU20*($Y20/$Y$2))","v":0},0,0,0,{"$f":"IF($Y20=0,0,AY20*($Y20/$Y$2))","v":0},0,0,0,0,0,0,0,0,0,0,0,0,0,0,0,0,0,0,0,0,0,0,0,0,0,0,{"$f":"IF($Y20=0,0,BZ51)","v":0}]
[null,null,null,null,null,null,null,null,null,null,null,null,null,null,null,null,null,null,null,null,null,null,null,null,null,{"$f":"IF($Y21=0,0,Z21*($Y21/$Y$2))","v":0},{"$f":"IF($Y21=0,0,AA21*($Y21/$Y$2))","v":0},0,0,0,0,{"$f":"IF($Y21=0,0,AF21*($Y21/$Y$2))","v":0},{"$f":"IF($Y21=0,0,AG21*($Y21/$Y$2))","v":0},0,0,0,0,0,0,0,0,0,0,0,0,0,{"$f":"IF($Y21=0,0,AU21*($Y21/$Y$2))","v":0},0,0,0,{"$f":"IF($Y21=0,0,AY21*($Y21/$Y$2))","v":0},0,0,0,0,0,0,0,0,0,0,0,0,0,0,0,0,0,0,0,0,0,0,0,0,0,0,{"$f":"IF($Y21=0,0,BZ52)","v":0}]
[null,null,null,null,null,null,null,null,null,null,null,null,null,null,null,null,null,null,null,null,null,null,null,null,null,{"$f":"IF($Y22=0,0,Z22*($Y22/$Y$2))","v":0},{"$f":"IF($Y22=0,0,AA22*($Y22/$Y$2))","v":0},0,0,0,0,{"$f":"IF($Y22=0,0,AF22*($Y22/$Y$2))","v":0},{"$f":"IF($Y22=0,0,AG22*($Y22/$Y$2))","v":0},0,0,0,0,0,0,0,0,0,0,0,0,0,{"$f":"IF($Y22=0,0,AU22*($Y22/$Y$2))","v":0},0,0,0,{"$f":"IF($Y22=0,0,AY22*($Y22/$Y$2))","v":0},0,0,0,0,0,0,0,0,0,0,0,0,0,0,0,0,0,0,0,0,0,0,0,0,0,0,{"$f":"IF($Y22=0,0,BZ53)","v":0}]
[null,null,null,null,null,null,null,null,null,null,null,null,null,null,null,null,null,null,null,null,null,null,null,null,null,{"$f":"IF($Y23=0,0,Z23*($Y23/$Y$2))","v":0},{"$f":"IF($Y23=0,0,AA23*($Y23/$Y$2))","v":0},0,0,0,0,{"$f":"IF($Y23=0,0,AF23*($Y23/$Y$2))","v":0},{"$f":"IF($Y23=0,0,AG23*($Y23/$Y$2))","v":0},0,0,0,0,0,0,0,0,0,0,0,0,0,{"$f":"IF($Y23=0,0,AU23*($Y23/$Y$2))","v":0},0,0,0,{"$f":"IF($Y23=0,0,AY23*($Y23/$Y$2))","v":0},0,0,0,0,0,0,0,0,0,0,0,0,0,0,0,0,0,0,0,0,0,0,0,0,0,0,{"$f":"IF($Y23=0,0,BZ54)","v":0}]
[null,null,null,null,null,null,null,null,null,null,null,null,null,null,null,null,null,null,null,null,null,null,null,null,null,{"$f":"IF($Y24=0,0,Z24*($Y24/$Y$2))","v":0},{"$f":"IF($Y24=0,0,AA24*($Y24/$Y$2))","v":0},0,0,0,0,{"$f":"IF($Y24=0,0,AF24*($Y24/$Y$2))","v":0},{"$f":"IF($Y24=0,0,AG24*($Y24/$Y$2))","v":0},0,0,0,0,0,0,0,0,0,0,0,0,0,{"$f":"IF($Y24=0,0,AU24*($Y24/$Y$2))","v":0},0,0,0,{"$f":"IF($Y24=0,0,AY24*($Y24/$Y$2))","v":0},0,0,0,0,0,0,0,0,0,0,0,0,0,0,0,0,0,0,0,0,0,0,0,0,0,0,{"$f":"IF($Y24=0,0,BZ55)","v":0}]
[null,null,null,null,null,null,null,null,null,null,null,null,null,null,null,null,null,null,null,null,null,null,null,null,null,{"$f":"IF($Y25=0,0,Z25*($Y25/$Y$2))","v":0},{"$f":"IF($Y25=0,0,AA25*($Y25/$Y$2))","v":0},0,0,0,0,{"$f":"IF($Y25=0,0,AF25*($Y25/$Y$2))","v":0},{"$f":"IF($Y25=0,0,AG25*($Y25/$Y$2))","v":0},0,0,0,0,0,0,0,0,0,0,0,0,0,{"$f":"IF($Y25=0,0,AU25*($Y25/$Y$2))","v":0},0,0,0,{"$f":"IF($Y25=0,0,AY25*($Y25/$Y$2))","v":0},0,0,0,0,0,0,0,0,0,0,0,0,0,0,0,0,0,0,0,0,0,0,0,0,0,0,{"$f":"IF($Y25=0,0,BZ56)","v":0}]
[null,null,null,null,null,null,null,null,null,null,null,null,null,null,null,null,null,null,null,null,null,null,null,null,null,{"$f":"IF($Y26=0,0,Z26*($Y26/$Y$2))","v":0},{"$f":"IF($Y26=0,0,AA26*($Y26/$Y$2))","v":0},0,0,0,0,{"$f":"IF($Y26=0,0,AF26*($Y26/$Y$2))","v":0},{"$f":"IF($Y26=0,0,AG26*($Y26/$Y$2))","v":0},0,0,0,0,0,0,0,0,0,0,0,0,0,{"$f":"IF($Y26=0,0,AU26*($Y26/$Y$2))","v":0},0,0,0,{"$f":"IF($Y26=0,0,AY26*($Y26/$Y$2))","v":0},0,0,0,0,0,0,0,0,0,0,0,0,0,0,0,0,0,0,0,0,0,0,0,0,0,0,{"$f":"IF($Y26=0,0,BZ57)","v":0}]
[null,null,null,null,null,null,null,null,null,null,null,null,null,null,null,null,null,null,null,null,null,null,null,null,null,{"$f":"IF($Y27=0,0,Z27*($Y27/$Y$2))","v":0},{"$f":"IF($Y27=0,0,AA27*($Y27/$Y$2))","v":0},0,0,0,0,{"$f":"IF($Y27=0,0,AF27*($Y27/$Y$2))","v":0},{"$f":"IF($Y27=0,0,AG27*($Y27/$Y$2))","v":0},0,0,0,0,0,0,0,0,0,0,0,0,0,{"$f":"IF($Y27=0,0,AU27*($Y27/$Y$2))","v":0},0,0,0,{"$f":"IF($Y27=0,0,AY27*($Y27/$Y$2))","v":0},0,0,0,0,0,0,0,0,0,0,0,0,0,0,0,0,0,0,0,0,0,0,0,0,0,0,{"$f":"IF($Y27=0,0,BZ58)","v":0}]
[null,null,null,null,null,null,null,null,null,null,null,null,null,null,null,null,null,null,null,null,null,null,null,null,null,{"$f":"IF($Y28=0,0,Z28*($Y28/$Y$2))","v":0},{"$f":"IF($Y28=0,0,AA28*($Y28/$Y$2))","v":0},0,0,0,0,{"$f":"IF($Y28=0,0,AF28*($Y28/$Y$2))","v":0},{"$f":"IF($Y28=0,0,AG28*($Y28/$Y$2))","v":0},0,0,0,0,0,0,0,0,0,0,0,0,0,{"$f":"IF($Y28=0,0,AU28*($Y28/$Y$2))","v":0},0,0,0,{"$f":"IF($Y28=0,0,AY28*($Y28/$Y$2))","v":0},0,0,0,0,0,0,0,0,0,0,0,0,0,0,0,0,0,0,0,0,0,0,0,0,0,0,{"$f":"IF($Y28=0,0,BZ59)","v":0}]
[null,null,null,null,null,null,null,null,null,null,null,null,null,null,null,null,null,null,null,null,null,null,null,null,null,{"$f":"IF($Y29=0,0,Z29*($Y29/$Y$2))","v":0},{"$f":"IF($Y29=0,0,AA29*($Y29/$Y$2))","v":0},0,0,0,0,{"$f":"IF($Y29=0,0,AF29*($Y29/$Y$2))","v":0},{"$f":"IF($Y29=0,0,AG29*($Y29/$Y$2))","v":0},0,0,0,0,0,0,0,0,0,0,0,0,0,{"$f":"IF($Y29=0,0,AU29*($Y29/$Y$2))","v":0},0,0,0,{"$f":"IF($Y29=0,0,AY29*($Y29/$Y$2))","v":0},0,0,0,0,0,0,0,0,0,0,0,0,0,0,0,0,0,0,0,0,0,0,0,0,0,0,{"$f":"IF($Y29=0,0,BZ60)","v":0}]
[null,null,null,null,null,null,null,null,null,null,null,null,null,null,null,null,null,null,null,null,null,null,null,null,null,{"$f":"IF($Y30=0,0,Z30*($Y30/$Y$2))","v":0},{"$f":"IF($Y30=0,0,AA30*($Y30/$Y$2))","v":0},0,0,0,0,{"$f":"IF($Y30=0,0,AF30*($Y30/$Y$2))","v":0},{"$f":"IF($Y30=0,0,AG30*($Y30/$Y$2))","v":0},0,0,0,0,0,0,0,0,0,0,0,0,0,{"$f":"IF($Y30=0,0,AU30*($Y30/$Y$2))","v":0},0,0,0,{"$f":"IF($Y30=0,0,AY30*($Y30/$Y$2))","v":0},0,0,0,0,0,0,0,0,0,0,0,0,0,0,0,0,0,0,0,0,0,0,0,0,0,0,{"$f":"IF($Y30=0,0,BZ61)","v":0}]
[null,null,null,null,null,null,null,null,null,null,null,null,null,null,null,null,null,null,null,null,null,null,null,null,null,{"$f":"IF($Y31=0,0,Z31*($Y31/$Y$2))","v":0},{"$f":"IF($Y31=0,0,AA31*($Y31/$Y$2))","v":0},0,0,0,0,{"$f":"IF($Y31=0,0,AF31*($Y31/$Y$2))","v":0},{"$f":"IF($Y31=0,0,AG31*($Y31/$Y$2))","v":0},0,0,0,0,0,0,0,0,0,0,0,0,0,{"$f":"IF($Y31=0,0,AU31*($Y31/$Y$2))","v":0},0,0,0,{"$f":"IF($Y31=0,0,AY31*($Y31/$Y$2))","v":0},0,0,0,0,0,0,0,0,0,0,0,0,0,0,0,0,0,0,0,0,0,0,0,0,0,0,{"$f":"IF($Y31=0,0,BZ62)","v":0}]