{"text_format":"1","workbook":"xlsx","n_sheets":3,"sheets":["Köpek","Hesap","FEDIAF2021"],"not_rendered":{"charts":1,"images":0,"macros":1,"external_links":0,"defined_names":41,"comments":2,"pivot_tables":0},"unopened":[],"bounds":{"document_bytes":16777216,"sheet_cells":100000,"rows_first":2000,"rows_last":500,"rows_between":2000,"halvings":0,"cell_chars":16384,"cell_head_chars":4096},"cells_cut":0,"cells_raw":0,"read":"whole","date_system":"1900"}

{"sheet":"Köpek","index":0,"n_rows":80,"n_cols":54,"rows_kept":80,"cut":false,"hidden":false,"merged":[[0,0,0,1],[0,3,0,8],[0,9,0,13],[10,23,10,25],[55,20,57,21],[2,14,2,16],[29,14,29,16],[55,27,55,28],[56,27,56,28],[7,23,7,25],[5,20,5,26],[1,20,1,26],[2,20,2,26],[3,20,3,26],[4,20,4,26]]}
["KEDİ/KÖPEK DİYET PROGRAMI ",null,"MİKTAR,kg","EV YEMEĞİ",null,null,null,null,null,"MAMA",null,null,null,null,{"$f":"TODAY()","v":"2024-11-12"},null,"Coşkun & İnal & İnal"]
[null,"YİYECEK",{"$f":"Hesap!AA1","v":0.32250000000000001},"Besin Maddesi","İhtiyaç","Yemek","Sonuç","%","KM'de %","Besin maddesi","İhtiyaç","KM'de %","Sonuç","100 kcal ME'de",null,null,null,null,null,null,"SELÇUK ÜNİVERSİTESİ"]
[1,"Peynir,süzme",0.01,{"$f":"Hesap!D3","v":"Kuru madde, g"},null,{"$f":"Hesap!F3","v":143.23329999999999},{"$f":"Hesap!G3","v":0},{"$f":"Hesap!H3","v":44.413426356589142},null,"Kuru madde, g",null,{"$f":"Hesap!F3/1000","v":0.14323329999999998},null,null,"Kedi / Köpek Tanımlama Bilgileri",null,null,null,null,null,"VETERİNER FAKÜLTESİ"]
[1,"Piliç,Göğüs,Et,Çiğ",0.1,{"$f":"Hesap!D4","v":"Ham protein, g "},15.547983166315181,{"$f":"Hesap!F4","v":33.621400000000001},{"$f":"Hesap!G4","v":"TAMAM"},{"$f":"Hesap!H4","v":10.42524031007752},{"$f":"Hesap!I4","v":23.47317278873},{"$f":"FEDIAF2021!G4","v":"Protein, g"},20,{"$f":"I4","v":23.47317278873},{"$f":"IF(K4=0,\"\",   IF(L4<K4,\"EKSİK\", \"TAMAM\"))","v":"TAMAM"},{"$f":"Hesap!J4","v":5.4053697749196141},"Hayvan türü",":","Köpek",null,null,null,"KONYA"]
[1,"Yumurta kabuğu",5.0000000000000001E-4,{"$f":"Hesap!D5","v":"Enerji, kcal"},621.9193266526072,{"$f":"Hesap!F5","v":622.00000000000011},{"$f":"Hesap!G5","v":"TAMAM"},{"$f":"Hesap!H5","v":192.8682170542636},{"$f":"Hesap!I5","v":434.25655905435406},"Enerji, kcal",null,434.25655905435406,null,null,{"$f":"Hesap!O3","v":"Tip"},":","Yetişkin"]
[2,"Balkabağı, çiğ",0.04,{"$f":"Hesap!D6","v":"Lif, g"},null,{"$f":"Hesap!F6","v":5.3068},{"$f":"Hesap!G6","v":0},{"$f":"Hesap!H6","v":1.645519379844961},{"$f":"Hesap!I6","v":3.7050043530380159},"Lif, g",null,3.7050043530380159,null,{"$f":"Hesap!J6","v":0.85318327974276509},{"$f":"Hesap!O4","v":"Yaş"},":",3]
[2,"Bezelye, yeşil, çiğ",0.04,{"$f":"Hesap!D7","v":"Kül, g"},null,{"$f":"Hesap!F7","v":4.5386500000000005},{"$f":"Hesap!G7","v":0},null,{"$f":"Hesap!I7","v":3.1687114658392992},"Kül, g",null,3.1687114658392992,null,{"$f":"Hesap!J7","v":0.7296864951768488},{"$f":"Hesap!O5","v":"Canlı ağırlık, kg"},":",7]
[2,"Havuç, çiğ",0.02,{"$f":"Hesap!D8","v":"Karbonhidrat, g"},null,{"$f":"Hesap!F8","v":85.577600000000004},{"$f":"Hesap!G8","v":0},{"$f":"Hesap!H8","v":26.535689922480621},{"$f":"Hesap!I8","v":59.74700017384226},"Karbonhidrat, g",null,59.74700017384226,null,{"$f":"Hesap!J8","v":13.758456591639868},{"$f":"Hesap!O6","v":"Irk"},":","Terrier, West Highland White",null,null,null,"Hayvanın türü",{"$f":"KKSecim","v":"Köpek"},null,"GÜNLÜK VERİLECEK MİKTAR"]
[2,"Pirinç, beyaz, çiğ",0.1,{"$f":"Hesap!D9","v":"Kalsiyum, g"},0.62191932665260719,{"$f":"Hesap!F9","v":0.8450700000000001},{"$f":"Hesap!G9","v":"FAZLA"},{"$f":"Hesap!H9","v":0.2620372093023256},{"$f":"Hesap!I9","v":0.58999548289399195},{"$f":"FEDIAF2021!G9","v":"Kalsiyum, g"},0.9,0.58999548289399195,{"$f":"IF(K9=0,\"\",   IF(L9<K9,\"EKSİK\", \"TAMAM\"))","v":"EKSİK"},{"$f":"Hesap!J9","v":0.13586334405144693},{"$f":"Hesap!O7","v":"Yavru sayısı"},":",null,null,null,null,"Tip",{"$f":"Q5","v":"Yetişkin"},null,{"$f":"Köpek!O31","v":322.5},"GRAM"]
[3,"Kemik unu",2E-3,{"$f":"Hesap!D10","v":"Fosfor, g "},0.46643949498945542,{"$f":"Hesap!F10","v":0.64678000000000002},{"$f":"Hesap!G10","v":"FAZLA"},{"$f":"Hesap!H10","v":0.20055193798449611},{"$f":"Hesap!I10","v":0.45155700524947762},{"$f":"FEDIAF2021!G10","v":"Fosfor, g"},0.7,0.45155700524947762,"EKSİK",{"$f":"Hesap!J10","v":0.10398392282958197},{"$f":"Hesap!O8","v":"Kaç hafta önce doğurdu?"},":",null,null,null,null,"Yaş",{"$f":"CONCATENATE(Q6,IF(Q5=\"Yavru\",\" hafta\",\" yıl\"))","v":"3 yıl"}]
[3,"Vit-Min. (TheraVet ProCure)",null,{"$f":"Hesap!D11","v":"Ca/P oranı"},1,{"$f":"Hesap!F11","v":1.306580290052259},{"$f":"Hesap!G11","v":"TAMAM"},null,{"$f":"F11","v":1.306580290052259},{"$f":"FEDIAF2021!G11","v":"Ca/P oranı"},1,1.306580290052259,"TAMAM",null,{"$f":"Hesap!O9","v":"Gebelik süresi, hafta"},":",null,null,null,null,"Canlı ağırlık",{"$f":"CONCATENATE(Q7,\" kg\")","v":"7 kg"},null,"MAMADAKİ ENERJİNİN DAĞILIMI"]
[4,"Ayçiçeği yağı ",0.01,{"$f":"Hesap!D12","v":"Magnezyum, mg "},74.630319198312861,{"$f":"Hesap!F12","v":86.81},{"$f":"Hesap!G12","v":"TAMAM"},{"$f":"Hesap!H12","v":2.6917829457364345E-2},{"$f":"Hesap!I12","v":6.0607414616573117E-2},{"$f":"FEDIAF2021!G12","v":"Magnezyum, g"},0.04,6.0607414616573117E-2,"TAMAM",{"$f":"Hesap!J12/1000","v":1.3956591639871381E-2},{"$f":"Hesap!O10","v":"Hareketlilik durumu"},":","Aktif",null,null,null,"Irk",{"$f":"Q8","v":"Terrier, West Highland White"},null,{"$f":"Hesap!Q21","v":0.21429569771997745},"PROTEİNDEN"]
[null,null,null,{"$f":"Hesap!D13","v":"Sodyum, mg"},124.38386533052145,{"$f":"Hesap!F13","v":139.714},{"$f":"Hesap!G13","v":"FAZLA"},{"$f":"Hesap!H13","v":4.3322170542635659E-2},{"$f":"Hesap!I13","v":9.7542959632990395E-2},{"$f":"FEDIAF2021!G13","v":"Sodyum, g"},0.22,9.7542959632990395E-2,"EKSİK",{"$f":"Hesap!J13/1000","v":2.24620578778135E-2},"Mama tipi",":","Ev yemeği",null,null,null,"Yavru sayısı",{"$f":"IF(Q5=\"Emziren dişi\",Q9,\"\")","v":""},null,{"$f":"Hesap!Q22","v":0.240250766698484},"YAĞDAN"]
[null,null,null,{"$f":"Hesap!D14","v":"Taurin, g "},null,{"$f":"Hesap!F14","v":3.3000000000000002E-2},{"$f":"Hesap!G14","v":""},{"$f":"Hesap!H14","v":1.0232558139534885E-2},{"$f":"Hesap!I14","v":2.3039335126677947E-2},{"$f":"FEDIAF2021!G14","v":"Taurin, g"},null,2.3039335126677947E-2,"",{"$f":"Hesap!J14","v":5.3054662379421217E-3},null,null,null,null,null,null,"Kaç hafta önce doğurdu?",{"$f":"IF(Q5=\"Emziren dişi\",CONCATENATE(Q10,\" hafta\"),\"\")","v":""},null,{"$f":"Hesap!Q23","v":0.54545353558153864},"KARBONHİDRATTAN"]
[null,null,null,{"$f":"Hesap!D15","v":"Yağ, g "},8.5513907414733499,{"$f":"Hesap!F15","v":13.8871},{"$f":"Hesap!G15","v":"FAZLA"},{"$f":"Hesap!H15","v":4.3060775193798451},{"$f":"Hesap!I15","v":9.6954409344754353},{"$f":"FEDIAF2021!G15","v":"Yağ, g"},8.5,9.6954409344754353,"TAMAM",{"$f":"Hesap!J15","v":2.2326527331189707},null,null,null,null,null,null,"Gebelik süresi",{"$f":"IF(Q5=\"Gebe dişi\",CONCATENATE(Q11,\" hafta\"),\"\")","v":""}]
[null,null,null,{"$f":"Hesap!D16","v":"Linoleik asit, g "},1.7102781482946698,{"$f":"Hesap!F16","v":5.6434999999999995},{"$f":"Hesap!G16","v":"FAZLA"},{"$f":"Hesap!H16","v":1.7499224806201548},{"$f":"Hesap!I16","v":3.9400753874971812},{"$f":"FEDIAF2021!G16","v":"Linoleik asit, g"},1.3,3.9400753874971812,"TAMAM",{"$f":"Hesap!J16","v":0.90731511254019259},null,null,null,null,null,null,"Hareketlilik durumu",{"$f":"IF(KKSecim=\"Köpek\",Q12,\"\")","v":"Aktif"},null,null,null,null,null,null,"11.06.2020"]
[null,null,null,{"$f":"Hesap!D17","v":"Arahidonik asit, g "},0,{"$f":"Hesap!F17","v":0.55000000000000004},{"$f":"Hesap!G17","v":""},{"$f":"Hesap!H17","v":0.17054263565891475},{"$f":"Hesap!I17","v":0.38398891877796582},{"$f":"FEDIAF2021!G17","v":"Arahidonik asit, g"},0.03,{"$f":"I17","v":0.38398891877796582},"TAMAM",{"$f":"Hesap!J17*1000","v":88.424437299035361}]
[null,null,null,{"$f":"Hesap!D18","v":"Vitamin A, µg"},235.55194496967499,{"$f":"Hesap!F18","v":311.37650000000002},{"$f":"Hesap!G18","v":"TAMAM"},{"$f":"Hesap!H18","v":96.550852713178301},{"$f":"Hesap!I18","v":217.3911373961223},{"$f":"FEDIAF2021!G18","v":"Vitamin A, μg"},150,217.3911373961223,"TAMAM",{"$f":"Hesap!J18/0.3","v":166.86843515541264}]
[null,null,null,{"$f":"Hesap!D19","v":"Vitamin D, µg"},2.1456216769514951,{"$f":"Hesap!F19","v":0},{"$f":"Hesap!G19","v":"EKSİK"},{"$f":"Hesap!H19","v":0},{"$f":"Hesap!I19","v":0},{"$f":"FEDIAF2021!G19","v":"Vitamin D, μg"},1.25,0,"EKSİK",{"$f":"Hesap!J19/0.025","v":0},null,null,null,null,null,null,null,null,null,"Besin Maddesi",{"$f":"IF(MamaTipi=\"Mama\", K2, IF(MamaTipi=\"Ev yemeği\", E2, \"\"))","v":"İhtiyaç"},{"$f":"IF(MamaTipi=\"Mama\", L2, IF(MamaTipi=\"Ev yemeği\", F2, \"\"))","v":"Yemek"},{"$f":"IF(MamaTipi=\"Mama\", M2, IF(MamaTipi=\"Ev yemeği\", G2, \"\"))","v":"Sonuç"},{"$f":"IF(MamaTipi=\"Mama\", N2, IF(MamaTipi=\"Ev yemeği\", H2, \"\"))","v":"%"},{"$f":"IF(MamaTipi=\"Mama\", \"\", IF(MamaTipi=\"Ev yemeği\", I2, \"\"))","v":"KM'de %"}]
[null,null,null,{"$f":"Hesap!D20","v":"Vitamin E, mg "},4.6643949498945538,{"$f":"Hesap!F20","v":5.2379999999999995},{"$f":"Hesap!G20","v":"TAMAM"},{"$f":"Hesap!H20","v":1.6241860465116278},{"$f":"Hesap!I20","v":3.656970830107245},{"$f":"FEDIAF2021!G20","v":"Vitamin E, mg"},3.35,3.656970830107245,"TAMAM",{"$f":"Hesap!J20/1","v":0.84212218649517667},null,null,null,null,null,null,"YİYECEK","MİKTAR,kg",null,{"$f":"IF(MamaTipi=\"Mama\", J3, IF(MamaTipi=\"Ev yemeği\", D3, \"\"))","v":"Kuru madde, g"},{"$f":"IF(MamaTipi=\"Mama\", IF(OR(K3=0,K3=\"\")=TRUE,\"\",K3), IF(MamaTipi=\"Ev yemeği\",  IF(OR(E3=0,E3=\"\")=TRUE,\"\",E3), \"\"))","v":""},{"$f":"IF(MamaTipi=\"Mama\", IF(OR(L3=0,L3=\"\")=TRUE,\"\",L3), IF(MamaTipi=\"Ev yemeği\",  IF(OR(F3=0,F3=\"\")=TRUE,\"\",F3), \"\"))","v":143.23329999999999},{"$f":"IF(MamaTipi=\"Mama\", IF(OR(M3=0,M3=\"\")=TRUE,\"\",M3), IF(MamaTipi=\"Ev yemeği\",  IF(OR(G3=0,G3=\"\")=TRUE,\"\",G3), \"\"))","v":""},{"$f":"IF(MamaTipi=\"Mama\", IF(OR(N3=0,N3=\"\")=TRUE,\"\",N3), IF(MamaTipi=\"Ev yemeği\",  IF(OR(H3=0,H3=\"\")=TRUE,\"\",H3), \"\"))","v":44.413426356589142},0]
[null,null,null,{"$f":"Hesap!D21","v":"Potasyum, g "},0.62191932665260719,{"$f":"Hesap!F21","v":0.6341},{"$f":"Hesap!G21","v":"TAMAM"},{"$f":"Hesap!H21","v":0.19662015503875968},{"$f":"Hesap!I21","v":0.44270431526746923},{"$f":"FEDIAF2021!G21","v":"Potasyum, g"},0.44,0.44270431526746923,"TAMAM",{"$f":"Hesap!J21","v":0.10194533762057875},null,null,null,null,null,null,"Peynir altı suyu protein tozu, 70",3.5,null,"Ham protein, g ",15.547983166315181,33.621400000000001,"TAMAM",10.42524031007752,23.47317278873]
[null,null,null,{"$f":"Hesap!D22","v":"Klorid, mg"},186.57579799578215,{"$f":"Hesap!F22","v":0},{"$f":"Hesap!G22","v":"EKSİK"},{"$f":"Hesap!H22","v":0},{"$f":"Hesap!I22","v":0},{"$f":"FEDIAF2021!G22","v":"Klorid, g"},0.33,0,"EKSİK",{"$f":"Hesap!J22","v":0},null,null,null,null,null,null,"Süt,%3.25 Yağlı",59,null,"Enerji, kcal",{"$f":"IF(MamaTipi=\"Mama\", IF(OR(K5=0,K5=\"\")=TRUE,\"\",K5), IF(MamaTipi=\"Ev yemeği\",  IF(OR(E5=0,E5=\"\")=TRUE,\"\",E5), \"\"))","v":621.9193266526072},622.00000000000011,{"$f":"IF(MamaTipi=\"Mama\", IF(OR(M5=0,M5=\"\")=TRUE,\"\",M5), IF(MamaTipi=\"Ev yemeği\",  IF(OR(G5=0,G5=\"\")=TRUE,\"\",G5), \"\"))","v":"TAMAM"},{"$f":"IF(MamaTipi=\"Mama\", IF(OR(N5=0,N5=\"\")=TRUE,\"\",N5), IF(MamaTipi=\"Ev yemeği\",  IF(OR(H5=0,H5=\"\")=TRUE,\"\",H5), \"\"))","v":192.8682170542636},434.25655905435406]
[null,null,null,{"$f":"Hesap!D23","v":"Bakır, mg"},0.93287898997891083,{"$f":"Hesap!F23","v":0.34296000000000004},{"$f":"Hesap!G23","v":"EKSİK"},{"$f":"Hesap!H23","v":0.10634418604651165},{"$f":"Hesap!I23","v":0.23944152651652939},{"$f":"FEDIAF2021!G23","v":"Bakır, mg"},1.1000000000000001,0.23944152651652939,"EKSİK",{"$f":"Hesap!J23","v":5.5138263665594857E-2},null,null,null,null,null,null,"Yumurta kabuğu",0.2,null,"Lif, g",{"$f":"IF(MamaTipi=\"Mama\", IF(OR(K6=0,K6=\"\")=TRUE,\"\",K6), IF(MamaTipi=\"Ev yemeği\",  IF(OR(E6=0,E6=\"\")=TRUE,\"\",E6), \"\"))","v":""},5.3068,{"$f":"IF(MamaTipi=\"Mama\", IF(OR(M6=0,M6=\"\")=TRUE,\"\",M6), IF(MamaTipi=\"Ev yemeği\",  IF(OR(G6=0,G6=\"\")=TRUE,\"\",G6), \"\"))","v":""},1.645519379844961,3.7050043530380159]
[null,null,null,{"$f":"Hesap!D24","v":"Çinko, mg"},9.3287898997891077,{"$f":"Hesap!F24","v":3.3294800000000002},{"$f":"Hesap!G24","v":"EKSİK"},{"$f":"Hesap!H24","v":1.0323968992248063},{"$f":"Hesap!I24","v":2.3245153187142935},{"$f":"FEDIAF2021!G24","v":"Çinko, mg"},10,2.3245153187142935,"EKSİK",{"$f":"Hesap!J24","v":0.53528617363344044},null,null,null,null,null,null,"Yumurta sarısı,Çiğ",17.3,null,"Kül, g",{"$f":"IF(MamaTipi=\"Mama\", IF(OR(K7=0,K7=\"\")=TRUE,\"\",K7), IF(MamaTipi=\"Ev yemeği\",  IF(OR(E7=0,E7=\"\")=TRUE,\"\",E7), \"\"))","v":""},4.5386500000000005,{"$f":"IF(MamaTipi=\"Mama\", IF(OR(M7=0,M7=\"\")=TRUE,\"\",M7), IF(MamaTipi=\"Ev yemeği\",  IF(OR(G7=0,G7=\"\")=TRUE,\"\",G7), \"\"))","v":""},0,3.1687114658392992]
[null,null,null,{"$f":"Hesap!D25","v":"Demir, mg"},4.6643949498945538,{"$f":"Hesap!F25","v":4.0418000000000003},{"$f":"Hesap!G25","v":"EKSİK"},{"$f":"Hesap!H25","v":1.2532713178294574},{"$f":"Hesap!I25","v":2.8218298398486947},{"$f":"FEDIAF2021!G25","v":"Demir, mg"},8.8000000000000007,2.8218298398486947,"EKSİK",{"$f":"Hesap!J25","v":0.64980707395498383},null,null,null,null,null,null,"Su",12,null,"Karbonhidrat, g",{"$f":"IF(MamaTipi=\"Mama\", IF(OR(K8=0,K8=\"\")=TRUE,\"\",K8), IF(MamaTipi=\"Ev yemeği\",  IF(OR(E8=0,E8=\"\")=TRUE,\"\",E8), \"\"))","v":""},85.577600000000004,{"$f":"IF(MamaTipi=\"Mama\", IF(OR(M8=0,M8=\"\")=TRUE,\"\",M8), IF(MamaTipi=\"Ev yemeği\",  IF(OR(G8=0,G8=\"\")=TRUE,\"\",G8), \"\"))","v":""},26.535689922480621,59.74700017384226]
[null,null,null,{"$f":"Hesap!D26","v":"İyot, mg "},0.13682225186357361,{"$f":"Hesap!F26","v":3.576E-2},{"$f":"Hesap!G26","v":"EKSİK"},{"$f":"Hesap!H26","v":1.1088372093023257E-2},{"$f":"Hesap!I26","v":2.4966261337272835E-2},{"$f":"FEDIAF2021!G26","v":"İyot, mg"},0.15,2.4966261337272835E-2,"EKSİK",{"$f":"Hesap!J26","v":5.7491961414790991E-3},null,null,null,null,null,null,"Krema",8,null,"Kalsiyum, g",0.62191932665260719,0.8450700000000001,"FAZLA",0.2620372093023256,0.58999548289399195]
[null,null,null,{"$f":"Hesap!D27","v":"Manganez, mg"},0.74630319198312867,{"$f":"Hesap!F27","v":1.4279600000000001},{"$f":"Hesap!G27","v":"FAZLA"},{"$f":"Hesap!H27","v":0.44277829457364348},{"$f":"Hesap!I27","v":0.99694693901488018},{"$f":"FEDIAF2021!G27","v":"Manganez, mg"},0.56000000000000005,0.99694693901488018,"TAMAM",{"$f":"Hesap!J27","v":0.22957556270096463},null,null,null,null,null,null,null,null,null,"Fosfor, g ",0.46643949498945542,0.64678000000000002,"FAZLA",0.20055193798449611,0.45155700524947762]
[null,null,null,{"$f":"Hesap!D28","v":"Selenyum, µg "},54.417941082103127,{"$f":"Hesap!F28","v":20.865449999999999},{"$f":"Hesap!G28","v":"EKSİK"},{"$f":"Hesap!H28","v":6.4699069767441859},{"$f":"Hesap!I28","v":14.567457427846739},{"$f":"FEDIAF2021!G28","v":"Selenyum, μg"},40,14.567457427846739,"EKSİK",{"$f":"Hesap!J28","v":3.3545739549839224},null,null,null,null,null,null,null,null,null,"Ca/P oranı",1,1.306580290052259,"TAMAM",{"$f":"IF(MamaTipi=\"Mama\", IF(OR(N11=0,N11=\"\")=TRUE,\"\",N11), IF(MamaTipi=\"Ev yemeği\",  IF(OR(H11=0,H11=\"\")=TRUE,\"\",H11), \"\"))","v":""},1.306580290052259]
[null,null,null,{"$f":"Hesap!D29","v":"Tiamin, mg"},0.34982962124209155,{"$f":"Hesap!F29","v":0.325936},{"$f":"Hesap!G29","v":"EKSİK"},{"$f":"Hesap!H29","v":0.10106542635658915},{"$f":"Hesap!I29","v":0.22755602223784557},{"$f":"FEDIAF2021!G29","v":"Tiamin, mg"},0.18,0.22755602223784557,"TAMAM",{"$f":"Hesap!J29","v":5.2401286173633432E-2},null,null,null,null,null,null,null,null,null,"Magnezyum, mg ",74.630319198312861,86.81,"TAMAM",2.6917829457364345E-2,6.0607414616573117E-2]
[null,null,null,{"$f":"Hesap!D30","v":"Riboflavin, mg"},0.81626911623154697,{"$f":"Hesap!F30","v":0.275646},{"$f":"Hesap!G30","v":"EKSİK"},{"$f":"Hesap!H30","v":8.5471627906976738E-2},{"$f":"Hesap!I30","v":0.19244547182812938},{"$f":"FEDIAF2021!G30","v":"Riboflavin, mg"},0.42,0.19244547182812938,"EKSİK",{"$f":"Hesap!J30","v":4.4316077170417995E-2},"Günlük Verilecek Miktar",null,null,null,null,null,null,null,null,"Sodyum, mg",124.38386533052145,139.714,"FAZLA",4.3322170542635659E-2,9.7542959632990395E-2]
[null,null,null,{"$f":"Hesap!D31","v":"Niasin, mg"},2.6431571382735806,{"$f":"Hesap!F31","v":14.02716},{"$f":"Hesap!G31","v":"FAZLA"},{"$f":"Hesap!H31","v":4.3495069767441867},{"$f":"Hesap!I31","v":9.7932254580464217},{"$f":"FEDIAF2021!G31","v":"Niasin, mg"},1.36,9.7932254580464217,"TAMAM",{"$f":"Hesap!J31","v":2.2551704180064305},{"$f":"IF(MamaTipi=\"Mama\",IF(KKSecim=\"Köpek\", Hesap!HG5*100/Köpek!L5/(L3/100), Hesap!HX5*100/Köpek!L5/(L3/100)),C2*1000)","v":322.5},null,"gram",null,null,null,null,null,null,"Taurin, g ",{"$f":"IF(MamaTipi=\"Mama\", IF(OR(K14=0,K14=\"\")=TRUE,\"\",K14), IF(MamaTipi=\"Ev yemeği\",  IF(OR(E14=0,E14=\"\")=TRUE,\"\",E14), \"\"))","v":""},3.3000000000000002E-2,{"$f":"IF(MamaTipi=\"Mama\", IF(OR(M14=0,M14=\"\")=TRUE,\"\",M14), IF(MamaTipi=\"Ev yemeği\",  IF(OR(G14=0,G14=\"\")=TRUE,\"\",G14), \"\"))","v":""},1.0232558139534885E-2,2.3039335126677947E-2]
[null,null,null,{"$f":"Hesap!D32","v":"Pantotenik asit, mg"},2.3321974749472769,{"$f":"Hesap!F32","v":2.6628500000000002},{"$f":"Hesap!G32","v":"TAMAM"},{"$f":"Hesap!H32","v":0.82568992248062023},{"$f":"Hesap!I32","v":1.859099804305284},{"$f":"FEDIAF2021!G32","v":"Pantotenik asit, mg"},1.2,1.859099804305284,"TAMAM",{"$f":"Hesap!J32","v":0.42811093247588422},null,null,null,null,null,null,null,null,null,"Yağ, g ",8.5513907414733499,13.8871,"FAZLA",4.3060775193798451,9.6954409344754353]
[null,null,null,{"$f":"Hesap!D33","v":"Pridoksin, mg"},0.23321974749472771,{"$f":"Hesap!F33","v":0.82350000000000001},{"$f":"Hesap!G33","v":"FAZLA"},{"$f":"Hesap!H33","v":0.25534883720930229},{"$f":"Hesap!I33","v":0.57493613566119051},{"$f":"FEDIAF2021!G33","v":"Vitamin B6, mg"},0.12,0.57493613566119051,"TAMAM",{"$f":"Hesap!J33","v":0.13239549839228293},null,null,null,null,null,null,null,null,null,"Linoleik asit, g ",1.7102781482946698,5.6434999999999995,"FAZLA",1.7499224806201548,3.9400753874971812]
[null,null,null,{"$f":"Hesap!D34","v":"Vitamin B12, µg"},5.4417941082103134,{"$f":"Hesap!F34","v":0.50600000000000001},{"$f":"Hesap!G34","v":"EKSİK"},{"$f":"Hesap!H34","v":0.15689922480620155},{"$f":"Hesap!I34","v":0.35326980527572849},{"$f":"FEDIAF2021!G34","v":"Vitamin B12, μg"},2.8,0.35326980527572849,"EKSİK",{"$f":"Hesap!J34","v":8.1350482315112521E-2},null,null,null,null,null,null,null,null,null,"Arahidonik asit, g ",0,0.55000000000000004,"",0.17054263565891475,0.38398891877796582]
[null,null,null,{"$f":"Hesap!D35","v":"Folik asit,  µg"},41.979554549050981,{"$f":"Hesap!F35","v":45.46},{"$f":"Hesap!G35","v":"TAMAM"},{"$f":"Hesap!H35","v":14.096124031007752},{"$f":"Hesap!I35","v":31.738429541175137},{"$f":"FEDIAF2021!G35","v":"Folik asit, μg"},21.6,31.738429541175137,"TAMAM",{"$f":"Hesap!J35","v":7.3086816720257222},null,null,null,null,null,null,null,null,null,"Vitamin A, µg",235.55194496967499,311.37650000000002,"TAMAM",96.550852713178301,217.3911373961223]
[null,null,null,{"$f":"Hesap!D36","v":"Kolin, mg"},264.31571382735802,{"$f":"Hesap!F36","v":82.500000000000014},{"$f":"Hesap!G36","v":"EKSİK"},{"$f":"Hesap!H36","v":25.581395348837216},{"$f":"Hesap!I36","v":57.59833781669488},{"$f":"FEDIAF2021!G36","v":"Kolin, mg"},170,57.59833781669488,"EKSİK",{"$f":"Hesap!J36","v":13.263665594855306},null,null,null,null,null,null,null,null,null,"Vitamin D, µg",2.1456216769514951,0,"EKSİK",0,0]
[null,null,null,{"$f":"Hesap!D37","v":"Biotin, µg"},null,{"$f":"Hesap!F37","v":11.100000000000001},{"$f":"Hesap!G37","v":""},{"$f":"Hesap!H37","v":3.4418604651162799},{"$f":"Hesap!I37","v":7.7495945426098567},{"$f":"FEDIAF2021!G37","v":"Biotin, μg"},null,7.7495945426098567,"",{"$f":"Hesap!J37","v":1.7845659163987138},null,null,null,null,null,null,null,null,null,"Vitamin E, mg ",4.6643949498945538,5.2379999999999995,"TAMAM",1.6241860465116278,3.656970830107245]
[null,null,null,{"$f":"Hesap!D38","v":"FİYAT,TL"},null,{"$f":"Hesap!F38","v":23.559000000000001},null,null,null,null,null,null,null,null,null,null,null,null,null,null,null,null,null,"Potasyum, g ",0.62191932665260719,0.6341,"TAMAM",0.19662015503875968,0.44270431526746923]
[null,null,null,null,null,null,null,null,null,null,null,null,null,null,null,null,null,null,null,null,null,null,null,"Klorid, mg",186.57579799578215,0,"EKSİK",0,0]
[null,null,null,null,null,null,null,null,null,null,null,null,null,null,null,null,null,null,null,null,null,null,null,"Bakır, mg",0.93287898997891083,0.34296000000000004,"EKSİK",0.10634418604651165,0.23944152651652939]
[null,null,null,null,null,null,null,null,null,null,null,null,null,null,null,null,null,null,null,null,null,null,null,"Çinko, mg",9.3287898997891077,3.3294800000000002,"EKSİK",1.0323968992248063,2.3245153187142935]
[null,null,null,null,null,null,null,null,null,null,null,null,null,null,null,null,null,null,null,null,null,null,null,"Demir, mg",4.6643949498945538,4.0418000000000003,"EKSİK",1.2532713178294574,2.8218298398486947]
[null,null,null,null,null,null,null,null,null,null,null,null,null,null,null,null,null,null,null,null,null,null,null,"İyot, mg ",0.13682225186357361,3.576E-2,"EKSİK",1.1088372093023257E-2,2.4966261337272835E-2]
[null,null,null,null,null,null,null,null,null,null,null,null,null,null,null,null,null,null,null,null,null,null,null,"Manganez, mg",0.74630319198312867,1.4279600000000001,"FAZLA",0.44277829457364348,0.99694693901488018]
[null,null,null,null,null,null,null,null,null,null,null,null,null,null,null,null,null,null,null,null,null,null,null,"Selenyum, µg ",54.417941082103127,20.865449999999999,"EKSİK",6.4699069767441859,14.567457427846739]
[null,null,null,null,null,null,null,null,null,null,null,null,null,null,null,null,null,null,null,null,null,null,null,"Tiamin, mg",0.34982962124209155,0.325936,"EKSİK",0.10106542635658915,0.22755602223784557]
[null,null,null,null,null,null,null,null,null,null,null,null,null,null,null,null,null,null,null,null,null,null,null,"Riboflavin, mg",0.81626911623154697,0.275646,"EKSİK",8.5471627906976738E-2,0.19244547182812938]
[null,null,null,null,null,null,null,null,null,null,null,null,null,null,null,null,null,null,null,null,null,null,null,"Niasin, mg",2.6431571382735806,14.02716,"FAZLA",4.3495069767441867,9.7932254580464217]
[null,null,null,null,null,null,null,null,null,null,null,null,null,null,null,null,null,null,null,null,null,null,null,"Pantotenik asit, mg",2.3321974749472769,2.6628500000000002,"TAMAM",0.82568992248062023,1.859099804305284]
[null,null,null,null,null,null,null,null,null,null,null,null,null,null,null,null,null,null,null,null,null,null,null,"Pridoksin, mg",0.23321974749472771,0.82350000000000001,"FAZLA",0.25534883720930229,0.57493613566119051]
[null,null,null,null,null,null,null,null,null,null,null,null,null,null,null,null,null,null,null,null,null,null,null,"Vitamin B12, µg",5.4417941082103134,0.50600000000000001,"EKSİK",0.15689922480620155,0.35326980527572849]
[null,null,null,null,null,null,null,null,null,null,null,null,null,null,null,null,null,null,null,null,null,null,null,"Folik asit,  µg",41.979554549050981,45.46,"TAMAM",14.096124031007752,31.738429541175137]
[null,null,null,null,null,null,null,null,null,null,null,null,null,null,null,null,null,null,null,null,"TOPLAM =",100,"kg","Kolin, mg",264.31571382735802,82.500000000000014,"EKSİK",25.581395348837216,57.59833781669488]
[null,null,null,null,null,null,null,null,null,null,null,null,null,null,null,null,null,null,null,null,null,null,null,"Biotin, µg",{"$f":"IF(MamaTipi=\"Mama\", IF(OR(K37=0,K37=\"\")=TRUE,\"\",K37), IF(MamaTipi=\"Ev yemeği\",  IF(OR(E37=0,E37=\"\")=TRUE,\"\",E37), \"\"))","v":""},11.100000000000001,{"$f":"IF(MamaTipi=\"Mama\", IF(OR(M37=0,M37=\"\")=TRUE,\"\",M37), IF(MamaTipi=\"Ev yemeği\",  IF(OR(G37=0,G37=\"\")=TRUE,\"\",G37), \"\"))","v":""},3.4418604651162799,7.7495945426098567]
[null,null,null,null,null,null,null,null,null,null,null,null,null,null,null,null,null,null,null,null,"Hazırlayan Kurum:"]
[null,null,null,null,null,null,null,null,null,null,null,null,null,null,null,null,null,null,null,null,"selçuk",null,null,null,null,null,null,"HAZIRLAYAN"]
[null,null,null,null,null,null,null,null,null,null,null,null,null,null,null,null,null,null,null,null,null,null,null,null,null,null,null,"Fatma İnal"]
[]
[]
[]
[]
[]
[]
[]
[]
[]
[]
[]
[]
[]
[]
[]
[]
[]
[]
[]
[]
[]
[]
[null,null,null,null,null,null,null,null,null,null,null,null,null,null,null,null,null,null,null,null,null,null,null,null,null,null,null,null,null,null,null,null,null,null,null,null,null,null,null,null,null,null,null,null,null,null,null,null,null,null,null,null,null,"Ayçiçeği yağı "]

{"sheet":"Hesap","index":1,"n_rows":482,"n_cols":236,"rows_kept":482,"cut":false,"hidden":false,"merged":[[38,195,38,196],[11,20,11,21],[19,16,19,18]]}
[null,"KEDİ / KÖPEK MAMASI","MİKTAR",null,null,null,null,null,null,null,null,null,{"$f":"TODAY()","v":"2024-11-12"},null,"Coşkun & İnal & İnal",null,null,null,null,null,null,null,null,null,null,null,{"$f":"SUM(AA3:AA34)","v":0.32250000000000001},null,"HESAPLAMA TABLOSU",3,7,8,15,16,17,20,21,18,19,22,23,24,25,26,27,4,12,13,14,54,55,28,29,31,33,32,34,38,36,41,39,40,37,51,52,53,48,47,49,45,46,50,44,43,2,5,6,9,10,11,58,null,{"$f":"SUM(CE3:CE34)","v":33.621400000000001},622.00000000000011,2.3035999999999999,1.0044,1.6864999999999999,0.86430000000000007,0.43489999999999995,2.6135999999999999,2.5567000000000002,1.4910000000000001,1.2684000000000002,{"$f":"SUM(CP3:CP34)","v":1.131},0.39690000000000003,{"$f":"SUM(CR3:CR34)","v":3.3000000000000002E-2},1.7860999999999998,13.8871,5.6434999999999995,0.1517,0.55000000000000004,{"$f":"SUM(CX3:CX34)","v":2.4277500000000001},{"$f":"SUM(CY3:CY34)","v":5.8470000000000013},0.8450700000000001,0.64678000000000002,86.81,139.714,0.6341,0,4.0418000000000003,0.34296000000000004,3.3294800000000002,1.4279600000000001,20.865449999999999,3.576E-2,311.37650000000002,0,5.2379999999999995,0.325936,0.275646,0.82350000000000001,14.02716,2.6628500000000002,0.50600000000000001,45.46,{"$f":"SUM(DV3:DV34)","v":82.500000000000014},{"$f":"SUM(DW3:DW34)","v":143.23329999999999},5.3068,4.5386500000000005,85.577600000000004,4.0599999999999996,76.099999999999994,{"$f":"SUM(EC3:EC34)","v":23.559000000000001},null,"  ",2,3,4,5,6,7,8,9,10,11,12,13,14,15,16,17,18,19,20,21,22,23,24,25,26,27,28,29,30,31,32,33,34,35,36,37,38,39,40,41,42,43,44,45,46,47,48,49,50,51,52,53,54,55,56,57,58,"silme",null,"KÖPEK",null,null,null,null,null,null,null,null,null,null,null,null,null,null,null,null,null,null,null,null,null,null,null,null,null,"KEDİ",null,null,null,null,null,null,"Kedi ergin ağırlıklar",null,null,"KEDİ İhtiyaçlar"]
[null,null,{"$f":"SUM(C3:C34)","v":0.32250000000000001},"BESİN MADDESİ","İHTİYAÇ","MAMA","SONUÇ","%","KM'de %","100 kcal ME'de",null,null,null,null,"Hayvanın türü",":","Köpek",null,"Kedi",null,null,null,null,null,"Seçenekler",null,"Miktar",null,"HAMMADDELER","Ham protein,%","ME,kcal/g (köpek)","ME,kcal/g (kedi)","Arjinin,%","Histidin,%","İzolöysin,%","Metiyonin,%","Sistin,%","Löysin,%","Lizin,%","Fenilalanin,%","Tirozin,%","Treonin,%","Triptofan,%","Taurin,%","Valin,%","Yağ,%","Linoleik asit,%","Linolenik asit,%","Arahidonik asit,%","Toplam doymuş yağlar, % ","Toplam PUFA, % ","Kalsiyum,%","Fosfor,%","Magnezyum,%","Sodyum,%","Potasyum,%","Klorid,%","Demir,mg/kg","Bakır,mg/kg","Çinko,mg/kg","Manganez,mg/kg","Selenyum,mg/kg","İyot,mg/kg","Vitamin A,µg/kg ","Kolekalsiferol,µg/kg","Vitamin E,mg/kg","Tiamin,mg/kg","Riboflavin,mg/kg","Pridoksin,mg/kg","Niasin,mg/kg","Pantotenik asit,mg/kg","Kobalamin,mg/kg","Folat,mg/kg","Kolin,mg/kg","KM,%","HS,%","HK,%","CHO,%","Şeker,%","Nişasta,%","Fiyat,TL",null,"Ham protein, g ","Enerji, kcal","Arjinin, g","Histidin, g ","İzolöysin, g ","Metiyonin, g ","Sistin, g ","Löysin, g ","Lizin, g ","Fenilalanin, g","Tirozin, g","Treonin, g ","Triptofan, g ","Taurin, g ","Valin, g ","Yağ, g ","Linoleik asit, g ","Linolenik asit, g","Arahidonik asit, g ","Toplam doymuş yağlar, g","Toplam PUFA, g ","Kalsiyum, g","Fosfor, g ","Magnezyum, mg ","Sodyum, mg","Potasyum, g ","Klorid, mg","Demir, mg","Bakır, mg","Çinko, mg","Manganez, mg","Selenyum, µg ","İyot, mg ","Vitamin A, µg","Vitamin D, µg","Vitamin E, mg ","Tiamin, mg","Riboflavin, mg","Pridoksin, mg","Niasin, mg","Pantotenik asit, mg","Vitamin B12, µg","Folik asit,  µg","Kolin, mg","Kuru madde, g","Lif, g","Kül, g","CHO, g","Şeker, g","Nişasta, g","FİYAT,TL",null,null,"KM,%","HP,%","HY,%","HS,%","HK,%","ME,kcal/g (köpek)","ME,kcal/g (kedi)","CHO,%","Şeker,%","Nişasta,%","18:2n-6, %","18:3n-3, %","20:4n-6, %","Arjinin, %","Histidin, %","İzolöysin, %","Löysin, %","Lizin, %","Metiyonin, %","Sistin,% ","Fenilalanin, %","Tirozin, % ","Treonin, %","Triptofan, %","Taurin,%","Valin, %","Ca,%","P,%","Kul P,%","Mg,%","K,%","Na,%","Cl,%","S,%","Cu,mg/kg","I,mg/kg","Fe,mg/kg","Mn,mg/kg","Se,mg/kg","Zn,mg/kg","Biotin,mg/kg","Kolin,mg/kg","Folat,mg/kg","Niasin,mg/kg","Pant. asit,mg/kg","Riboflavin,mg/kg","Tiamin,mg/kg","Vit. B6,mg/kg","Vit. B12,mg/kg","Vitamin A,µg/kg","Kolekalsiferol,µg/kg","Vit. E,mg/kg","Doymuş,%","PUFA,%","Toplam n-6,%","Toplam n-3,%","Fiyat,TL","EF",null,null,null,"Yavru","Yetişkin","Gebe dişi","Emziren dişi",null,null,null,null,"Farklı köpek ırklarında canlı ağırlıklar","Enaz","Ençok","Ort.","Cüsse","Hayat","Erkek","Dişi",null,"KÖPEK İhtiyaçlar","Yeni Liste","Köpek Tanımlama",{"$f":"IF(Q3=\"Yavru\", IF(Q4<5,1,2), IF(LEFT(Q3,8)=\"Yetişkin\",3,  IF(RIGHT(Q3,4)=\"dişi\",4, 0)))","v":3},"Enerji İhtiyacı",null,null,null,null,"Yavru","Yetişkin","Gebe dişi","Emziren dişi",null,"Abyssinian",4.3,null,"Kedi Tanımlama",{"$f":"IF(KediTipi=\"Yavru\", 1, IF(KediTipi=\"Yetişkin\",2,  IF(KediTipi=\"Gebe Dişi\",3,  IF(KediTipi=\"Emziren Dişi\",4,   0))))","v":4},{"$f":"100*KediCA^0.67*6.732*(EXP(-0.189*HN16)-0.66)","v":292.46234180501841},{"$f":"IF(HN16<1,100,HN16*100) * KediCA^IF(HN16<1,  0.67, 0.67 - (HN16-1)*0.9 )","v":253.15131879405598},{"$f":"HZ2* (100 + KediGebeSure*HN15)/100","v":253.15131879405598},{"$f":"100 * KediCA^0.67 + HN14 * KediCA * HN13","v":440.35131879405594}]
[{"$f":"Köpek!A3","v":1},{"$f":"Köpek!B3","v":"Peynir,süzme"},{"$f":"Köpek!C3","v":0.01},{"$f":"DW2","v":"Kuru madde, g"},null,{"$f":"DW1","v":143.23329999999999},null,{"$f":"(F3*100)/(C2*1000)","v":44.413426356589142},null,null,null,null,null,null,"Tip",":","Yetişkin",null,"Emziren dişi",null,null,null,null,null,null,null,{"$f":"IF(B3=\"\",\"\",IF(C3=\"\",\"\",C3))","v":0.01},null,{"$f":"IF(B3=\"\",0,IF(C3=\"\",0,B3))","v":"Peynir,süzme"},{"$f":"IF($AC3=0,\"\",VLOOKUP($AC3,$EE$3:$GJ$510,AD$1,FALSE))","v":11},1.96,1.96,0.87,0.82,1.1399999999999999,0.56999999999999995,0.13,2.2400000000000002,2.12,{"$f":"IF($AC3=0,\"\",VLOOKUP($AC3,$EE$3:$GJ$510,AN$1,FALSE))","v":1.23},1.1200000000000001,0.88,0.32,0,1.47,16,0.49,0.29299999999999998,0,{"$f":"IF($AC3=0,\"\",VLOOKUP($AC3,$EE$3:$GJ$510,AX$1,FALSE))","v":10},0.8,0.2,0.1,2.4E-2,0.5,0.13600000000000001,0,4.3,0.2,{"$f":"IF($AC3=0,\"\",VLOOKUP($AC3,$EE$3:$GJ$510,BH$1,FALSE))","v":26},0.1,0.14499999999999999,0.39,3240,0,3,0.1,3.5,0.7,{"$f":"IF($AC3=0,\"\",VLOOKUP($AC3,$EE$3:$GJ$510,BR$1,FALSE))","v":1.2},2.9,1.26E-2,0.2,154,58.89,0,3.18,2,1.8,0,100,null,{"$f":"IF(Köpek!$B3=\"\",\"\",IF(Köpek!$C3=\"\",\"\",Köpek!$C3*AD3*10))","v":1.1000000000000001},{"$f":"IF(Köpek!$B3=\"\",\"\",IF(Köpek!$C3=\"\",\"\",   IF(KKSecim=\"Köpek\", Köpek!$C3*AE3*1000, Köpek!$C3*AF3*1000)  )  )","v":19.599999999999998},{"$f":"IF(Köpek!$B3=\"\",\"\",IF(Köpek!$C3=\"\",\"\",Köpek!$C3*AG3*10))","v":8.6999999999999994E-2},{"$f":"IF(Köpek!$B3=\"\",\"\",IF(Köpek!$C3=\"\",\"\",Köpek!$C3*AH3*10))","v":8.199999999999999E-2},{"$f":"IF(Köpek!$B3=\"\",\"\",IF(Köpek!$C3=\"\",\"\",Köpek!$C3*AI3*10))","v":0.11399999999999999},{"$f":"IF(Köpek!$B3=\"\",\"\",IF(Köpek!$C3=\"\",\"\",Köpek!$C3*AJ3*10))","v":5.6999999999999995E-2},{"$f":"IF(Köpek!$B3=\"\",\"\",IF(Köpek!$C3=\"\",\"\",Köpek!$C3*AK3*10))","v":1.3000000000000001E-2},{"$f":"IF(Köpek!$B3=\"\",\"\",IF(Köpek!$C3=\"\",\"\",Köpek!$C3*AL3*10))","v":0.22400000000000003},{"$f":"IF(Köpek!$B3=\"\",\"\",IF(Köpek!$C3=\"\",\"\",Köpek!$C3*AM3*10))","v":0.21199999999999999},{"$f":"IF(Köpek!$B3=\"\",\"\",IF(Köpek!$C3=\"\",\"\",Köpek!$C3*AN3*10))","v":0.123},{"$f":"IF(Köpek!$B3=\"\",\"\",IF(Köpek!$C3=\"\",\"\",Köpek!$C3*AO3*10))","v":0.11200000000000002},{"$f":"IF(Köpek!$B3=\"\",\"\",IF(Köpek!$C3=\"\",\"\",Köpek!$C3*AP3*10))","v":8.8000000000000009E-2},{"$f":"IF(Köpek!$B3=\"\",\"\",IF(Köpek!$C3=\"\",\"\",Köpek!$C3*AQ3*10))","v":3.2000000000000001E-2},{"$f":"IF(Köpek!$B3=\"\",\"\",IF(Köpek!$C3=\"\",\"\",Köpek!$C3*AR3*10))","v":0},{"$f":"IF(Köpek!$B3=\"\",\"\",IF(Köpek!$C3=\"\",\"\",Köpek!$C3*AS3*10))","v":0.14699999999999999},{"$f":"IF(Köpek!$B3=\"\",\"\",IF(Köpek!$C3=\"\",\"\",Köpek!$C3*AT3*10))","v":1.6},{"$f":"IF(Köpek!$B3=\"\",\"\",IF(Köpek!$C3=\"\",\"\",Köpek!$C3*AU3*10))","v":4.9000000000000002E-2},{"$f":"IF(Köpek!$B3=\"\",\"\",IF(Köpek!$C3=\"\",\"\",Köpek!$C3*AV3*10))","v":2.93E-2},{"$f":"IF(Köpek!$B3=\"\",\"\",IF(Köpek!$C3=\"\",\"\",Köpek!$C3*AW3*10))","v":0},{"$f":"IF(Köpek!$B3=\"\",\"\",IF(Köpek!$C3=\"\",\"\",Köpek!$C3*AX3*10))","v":1},{"$f":"IF(Köpek!$B3=\"\",\"\",IF(Köpek!$C3=\"\",\"\",Köpek!$C3*AY3*10))","v":0.08},{"$f":"IF(Köpek!$B3=\"\",\"\",IF(Köpek!$C3=\"\",\"\",Köpek!$C3*AZ3*10))","v":0.02},{"$f":"IF(Köpek!$B3=\"\",\"\",IF(Köpek!$C3=\"\",\"\",Köpek!$C3*BA3*10))","v":0.01},{"$f":"IF(Köpek!$B3=\"\",\"\",IF(Köpek!$C3=\"\",\"\",Köpek!$C3*BB3*10000))","v":2.4},{"$f":"IF(Köpek!$B3=\"\",\"\",IF(Köpek!$C3=\"\",\"\",Köpek!$C3*BC3*10000))","v":50},{"$f":"IF(Köpek!$B3=\"\",\"\",IF(Köpek!$C3=\"\",\"\",Köpek!$C3*BD3*10))","v":1.3600000000000001E-2},{"$f":"IF(Köpek!$B3=\"\",\"\",IF(Köpek!$C3=\"\",\"\",Köpek!$C3*BE3*10000))","v":0},{"$f":"IF(Köpek!$B3=\"\",\"\",IF(Köpek!$C3=\"\",\"\",Köpek!$C3*BF3))","v":4.2999999999999997E-2},{"$f":"IF(Köpek!$B3=\"\",\"\",IF(Köpek!$C3=\"\",\"\",Köpek!$C3*BG3))","v":2E-3},{"$f":"IF(Köpek!$B3=\"\",\"\",IF(Köpek!$C3=\"\",\"\",Köpek!$C3*BH3))","v":0.26},{"$f":"IF(Köpek!$B3=\"\",\"\",IF(Köpek!$C3=\"\",\"\",Köpek!$C3*BI3))","v":1E-3},{"$f":"IF(Köpek!$B3=\"\",\"\",IF(Köpek!$C3=\"\",\"\",Köpek!$C3*BJ3))","v":1.4499999999999999E-3},{"$f":"IF(Köpek!$B3=\"\",\"\",IF(Köpek!$C3=\"\",\"\",Köpek!$C3*BK3))","v":3.9000000000000003E-3},{"$f":"IF(Köpek!$B3=\"\",\"\",IF(Köpek!$C3=\"\",\"\",Köpek!$C3*BL3))","v":32.4},{"$f":"IF(Köpek!$B3=\"\",\"\",IF(Köpek!$C3=\"\",\"\",Köpek!$C3*BM3))","v":0},{"$f":"IF(Köpek!$B3=\"\",\"\",IF(Köpek!$C3=\"\",\"\",Köpek!$C3*BN3))","v":0.03},{"$f":"IF(Köpek!$B3=\"\",\"\",IF(Köpek!$C3=\"\",\"\",Köpek!$C3*BO3))","v":1E-3},{"$f":"IF(Köpek!$B3=\"\",\"\",IF(Köpek!$C3=\"\",\"\",Köpek!$C3*BP3))","v":3.5000000000000003E-2},{"$f":"IF(Köpek!$B3=\"\",\"\",IF(Köpek!$C3=\"\",\"\",Köpek!$C3*BQ3))","v":6.9999999999999993E-3},{"$f":"IF(Köpek!$B3=\"\",\"\",IF(Köpek!$C3=\"\",\"\",Köpek!$C3*BR3))","v":1.2E-2},{"$f":"IF(Köpek!$B3=\"\",\"\",IF(Köpek!$C3=\"\",\"\",Köpek!$C3*BS3))","v":2.8999999999999998E-2},{"$f":"IF(Köpek!$B3=\"\",\"\",IF(Köpek!$C3=\"\",\"\",Köpek!$C3*BT3*1000))","v":0.126},{"$f":"IF(Köpek!$B3=\"\",\"\",IF(Köpek!$C3=\"\",\"\",Köpek!$C3*BU3*1000))","v":2},{"$f":"IF(Köpek!$B3=\"\",\"\",IF(Köpek!$C3=\"\",\"\",Köpek!$C3*BV3))","v":1.54},{"$f":"IF(Köpek!$B3=\"\",\"\",IF(Köpek!$C3=\"\",\"\",Köpek!$C3*BW3*10))","v":5.8889999999999993},{"$f":"IF(Köpek!$B3=\"\",\"\",IF(Köpek!$C3=\"\",\"\",Köpek!$C3*BX3*10))","v":0},{"$f":"IF(Köpek!$B3=\"\",\"\",IF(Köpek!$C3=\"\",\"\",Köpek!$C3*BY3*10))","v":0.318},{"$f":"IF(Köpek!$B3=\"\",\"\",IF(Köpek!$C3=\"\",\"\",Köpek!$C3*BZ3*10))","v":0.2},{"$f":"IF(Köpek!$B3=\"\",\"\",IF(Köpek!$C3=\"\",\"\",Köpek!$C3*CA3*10))","v":0.18000000000000002},{"$f":"IF(Köpek!$B3=\"\",\"\",IF(Köpek!$C3=\"\",\"\",Köpek!$C3*CB3*10))","v":0},{"$f":"IF(Köpek!$B3=\"\",\"\",IF(Köpek!$C3=\"\",\"\",Köpek!$C3*CC3))","v":1},null,"Hayvansal kaynaklı yiyecekler",null,null,null,null,null,null,null,null,null,null,null,null,null,null,null,null,null,null,null,null,null,null,null,null,null,null,null,null,null,null,null,null,null,null,null,null,null,null,null,null,null,null,null,null,null,null,null,null,null,null,null,null,null,null,null,null,null,"EG",null,null,null,"hafta","yıl",null,null,null,"SEÇİLEN",null,null,"Afgan tazısı",26,34,30,{"$f":"IF(GZ3<10,\"Küçük\", IF(GZ3<20,\"Orta\", IF(GZ3<50,\"İri\",\"Dev\")))","v":"İri"}," 12-14"," 26-28"," 22-24",null,"1000 kcal ME'de","İhtiyaç","Yavru 4-14 hf","Yavru >14 hf","Yetişkin, YP","Gebe, Emziren",null,null,null,"hafta","yıl","yıl","yıl",null,"American Bob",5,null,"1000 kcal ME'de","İhtiyaç","Yavru","Yetişkin","Gebe Dişi","Emziren Dişi"]
[{"$f":"Köpek!A4","v":1},{"$f":"Köpek!B4","v":"Piliç,Göğüs,Et,Çiğ"},{"$f":"Köpek!C4","v":0.1},{"$f":"CE2","v":"Ham protein, g "},{"$f":"Köpek!E4","v":15.547983166315181},{"$f":"CE1","v":33.621400000000001},{"$f":"IF(E4=0,\"\",   IF(F4<E4,\"EKSİK\",      IF(F4>E4*2.5,\"FAZLA\",    \"TAMAM\")) )","v":"TAMAM"},{"$f":"(F4*100)/(C2*1000)","v":10.42524031007752},{"$f":"H4*100/H$3","v":23.47317278873},{"$f":"F4*100/$F$5","v":5.4053697749196141},null,null,null,null,{"$f":"CONCATENATE(\"Yaş\",IF(Köpek!Q5=\"Yavru\",\", hafta\", \"\"))","v":"Yaş"},":",3,null,3,null,null,null,null,null,"Hayvanın Türü",null,0.1,null,"Piliç,Göğüs,Et,Çiğ",23.09,1.1000000000000001,1.1000000000000001,1.39,0.72,1.22,0.64,0.3,1.73,1.96,0.92,0.78,0.73,0.27,3.3000000000000002E-2,1.1499999999999999,1.24,0.17,0.04,0.05,0.3,0.3,1.0999999999999999E-2,0.19600000000000001,2.8000000000000001E-2,6.5000000000000002E-2,0.255,0,7.2,0.4,8,0.2,0.17799999999999999,2.4E-2,63,0,1,0.7,0.9,5.5,111.9,8.1999999999999993,3.8E-3,0.04,734,25.24,0,1.02,0,0,0,175,null,{"$f":"IF(Köpek!$B4=\"\",\"\",IF(Köpek!$C4=\"\",\"\",Köpek!$C4*AD4*10))","v":23.090000000000003},{"$f":"IF(Köpek!$B4=\"\",\"\",IF(Köpek!$C4=\"\",\"\",   IF(KKSecim=\"Köpek\", Köpek!$C4*AE4*1000, Köpek!$C4*AF4*1000)  )  )","v":110.00000000000001},{"$f":"IF(Köpek!$B4=\"\",\"\",IF(Köpek!$C4=\"\",\"\",Köpek!$C4*AG4*10))","v":1.39},{"$f":"IF(Köpek!$B4=\"\",\"\",IF(Köpek!$C4=\"\",\"\",Köpek!$C4*AH4*10))","v":0.72},{"$f":"IF(Köpek!$B4=\"\",\"\",IF(Köpek!$C4=\"\",\"\",Köpek!$C4*AI4*10))","v":1.22},{"$f":"IF(Köpek!$B4=\"\",\"\",IF(Köpek!$C4=\"\",\"\",Köpek!$C4*AJ4*10))","v":0.64},{"$f":"IF(Köpek!$B4=\"\",\"\",IF(Köpek!$C4=\"\",\"\",Köpek!$C4*AK4*10))","v":0.3},{"$f":"IF(Köpek!$B4=\"\",\"\",IF(Köpek!$C4=\"\",\"\",Köpek!$C4*AL4*10))","v":1.7300000000000002},{"$f":"IF(Köpek!$B4=\"\",\"\",IF(Köpek!$C4=\"\",\"\",Köpek!$C4*AM4*10))","v":1.96},{"$f":"IF(Köpek!$B4=\"\",\"\",IF(Köpek!$C4=\"\",\"\",Köpek!$C4*AN4*10))","v":0.92000000000000015},{"$f":"IF(Köpek!$B4=\"\",\"\",IF(Köpek!$C4=\"\",\"\",Köpek!$C4*AO4*10))","v":0.78000000000000014},{"$f":"IF(Köpek!$B4=\"\",\"\",IF(Köpek!$C4=\"\",\"\",Köpek!$C4*AP4*10))","v":0.73},{"$f":"IF(Köpek!$B4=\"\",\"\",IF(Köpek!$C4=\"\",\"\",Köpek!$C4*AQ4*10))","v":0.27},{"$f":"IF(Köpek!$B4=\"\",\"\",IF(Köpek!$C4=\"\",\"\",Köpek!$C4*AR4*10))","v":3.3000000000000002E-2},{"$f":"IF(Köpek!$B4=\"\",\"\",IF(Köpek!$C4=\"\",\"\",Köpek!$C4*AS4*10))","v":1.1499999999999999},{"$f":"IF(Köpek!$B4=\"\",\"\",IF(Köpek!$C4=\"\",\"\",Köpek!$C4*AT4*10))","v":1.24},{"$f":"IF(Köpek!$B4=\"\",\"\",IF(Köpek!$C4=\"\",\"\",Köpek!$C4*AU4*10))","v":0.17},{"$f":"IF(Köpek!$B4=\"\",\"\",IF(Köpek!$C4=\"\",\"\",Köpek!$C4*AV4*10))","v":0.04},{"$f":"IF(Köpek!$B4=\"\",\"\",IF(Köpek!$C4=\"\",\"\",Köpek!$C4*AW4*10))","v":5.000000000000001E-2},{"$f":"IF(Köpek!$B4=\"\",\"\",IF(Köpek!$C4=\"\",\"\",Köpek!$C4*AX4*10))","v":0.3},{"$f":"IF(Köpek!$B4=\"\",\"\",IF(Köpek!$C4=\"\",\"\",Köpek!$C4*AY4*10))","v":0.3},{"$f":"IF(Köpek!$B4=\"\",\"\",IF(Köpek!$C4=\"\",\"\",Köpek!$C4*AZ4*10))","v":1.1000000000000001E-2},{"$f":"IF(Köpek!$B4=\"\",\"\",IF(Köpek!$C4=\"\",\"\",Köpek!$C4*BA4*10))","v":0.19600000000000004},{"$f":"IF(Köpek!$B4=\"\",\"\",IF(Köpek!$C4=\"\",\"\",Köpek!$C4*BB4*10000))","v":28.000000000000004},{"$f":"IF(Köpek!$B4=\"\",\"\",IF(Köpek!$C4=\"\",\"\",Köpek!$C4*BC4*10000))","v":65},{"$f":"IF(Köpek!$B4=\"\",\"\",IF(Köpek!$C4=\"\",\"\",Köpek!$C4*BD4*10))","v":0.255},{"$f":"IF(Köpek!$B4=\"\",\"\",IF(Köpek!$C4=\"\",\"\",Köpek!$C4*BE4*10000))","v":0},{"$f":"IF(Köpek!$B4=\"\",\"\",IF(Köpek!$C4=\"\",\"\",Köpek!$C4*BF4))","v":0.72000000000000008},{"$f":"IF(Köpek!$B4=\"\",\"\",IF(Köpek!$C4=\"\",\"\",Köpek!$C4*BG4))","v":4.0000000000000008E-2},{"$f":"IF(Köpek!$B4=\"\",\"\",IF(Köpek!$C4=\"\",\"\",Köpek!$C4*BH4))","v":0.8},{"$f":"IF(Köpek!$B4=\"\",\"\",IF(Köpek!$C4=\"\",\"\",Köpek!$C4*BI4))","v":2.0000000000000004E-2},{"$f":"IF(Köpek!$B4=\"\",\"\",IF(Köpek!$C4=\"\",\"\",Köpek!$C4*BJ4*1000))","v":17.8},{"$f":"IF(Köpek!$B4=\"\",\"\",IF(Köpek!$C4=\"\",\"\",Köpek!$C4*BK4))","v":2.4000000000000002E-3},{"$f":"IF(Köpek!$B4=\"\",\"\",IF(Köpek!$C4=\"\",\"\",Köpek!$C4*BL4))","v":6.3000000000000007},{"$f":"IF(Köpek!$B4=\"\",\"\",IF(Köpek!$C4=\"\",\"\",Köpek!$C4*BM4))","v":0},{"$f":"IF(Köpek!$B4=\"\",\"\",IF(Köpek!$C4=\"\",\"\",Köpek!$C4*BN4))","v":0.1},{"$f":"IF(Köpek!$B4=\"\",\"\",IF(Köpek!$C4=\"\",\"\",Köpek!$C4*BO4))","v":6.9999999999999993E-2},{"$f":"IF(Köpek!$B4=\"\",\"\",IF(Köpek!$C4=\"\",\"\",Köpek!$C4*BP4))","v":9.0000000000000011E-2},{"$f":"IF(Köpek!$B4=\"\",\"\",IF(Köpek!$C4=\"\",\"\",Köpek!$C4*BQ4))","v":0.55000000000000004},{"$f":"IF(Köpek!$B4=\"\",\"\",IF(Köpek!$C4=\"\",\"\",Köpek!$C4*BR4))","v":11.190000000000001},{"$f":"IF(Köpek!$B4=\"\",\"\",IF(Köpek!$C4=\"\",\"\",Köpek!$C4*BS4))","v":0.82},{"$f":"IF(Köpek!$B4=\"\",\"\",IF(Köpek!$C4=\"\",\"\",Köpek!$C4*BT4*1000))","v":0.38},{"$f":"IF(Köpek!$B4=\"\",\"\",IF(Köpek!$C4=\"\",\"\",Köpek!$C4*BU4*1000))","v":4},{"$f":"IF(Köpek!$B4=\"\",\"\",IF(Köpek!$C4=\"\",\"\",Köpek!$C4*BV4))","v":73.400000000000006},{"$f":"IF(Köpek!$B4=\"\",\"\",IF(Köpek!$C4=\"\",\"\",Köpek!$C4*BW4*10))","v":25.240000000000002},{"$f":"IF(Köpek!$B4=\"\",\"\",IF(Köpek!$C4=\"\",\"\",Köpek!$C4*BX4*10))","v":0},{"$f":"IF(Köpek!$B4=\"\",\"\",IF(Köpek!$C4=\"\",\"\",Köpek!$C4*BY4*10))","v":1.02},{"$f":"IF(Köpek!$B4=\"\",\"\",IF(Köpek!$C4=\"\",\"\",Köpek!$C4*BZ4*10))","v":0},{"$f":"IF(Köpek!$B4=\"\",\"\",IF(Köpek!$C4=\"\",\"\",Köpek!$C4*CA4*10))","v":0},{"$f":"IF(Köpek!$B4=\"\",\"\",IF(Köpek!$C4=\"\",\"\",Köpek!$C4*CB4*10))","v":0},{"$f":"IF(Köpek!$B4=\"\",\"\",IF(Köpek!$C4=\"\",\"\",Köpek!$C4*CC4))","v":17.5},null,"Ahtapot, çiğ",19,16.399999999999999,0.9,null,1,0.77,0.77,1.5,0,1.5,null,null,null,null,null,null,null,null,null,null,null,null,null,null,null,null,2.8000000000000001E-2,0.109,null,null,0.23200000000000001,0.36299999999999999,null,null,null,0.2,15,0.1,0.26,16.200000000000003,null,null,0.1,32,0,0.73,0.67,3.5999999999999996,0.1,500,10,21,null,null,null,null,700,"EH",null,null,null,"kg",null,null,null,null,"IRK","Terrier, West Highland White",null,"Akbaş",35,55,45,"İri"," 10-13"," 41-61"," 38-58",2,"Ham protein, g ",{"$f":"IF(HI$2=1,HH4,  IF(HI$2=2,HI4,  IF(HI$2=3,HJ4,  IF(HI$2=4,HK4,  \"YOK\")))) * HG$5/1000","v":15.547983166315181},56.3,43.8,25,50,null,null,null,"kg",null,null,null,null,"Allerca",4.3,null,"Ham protein, g ",{"$f":"IF(HX$2=1,HY4,  IF(HX$2=2,HZ4,  IF(HX$2=3,IA4,  IF(HX$2=4,IB4,  \"YOK\")))) * HX$5/1000","v":33.026348909554194},56.3,50,53.25,75]
[{"$f":"Köpek!A5","v":1},{"$f":"Köpek!B5","v":"Yumurta kabuğu"},{"$f":"Köpek!C5","v":5.0000000000000001E-4},{"$f":"CF2","v":"Enerji, kcal"},{"$f":"Köpek!E5","v":621.9193266526072},{"$f":"CF1","v":622.00000000000011},{"$f":"IF(E5=0,\"\",   IF(F5<E5*0.99,\"EKSİK\",      IF(F5>E5*1.1,\"FAZLA\",    \"TAMAM\")) )","v":"TAMAM"},{"$f":"F5/C2/10","v":192.8682170542636},434.25655905435406,null,null,null,null,null,"Canlı ağırlık, kg",":",7,null,4,null,null,null,null,null,"Köpek",null,5.0000000000000001E-4,null,"Yumurta kabuğu",4.4800000000000004,0,0,0,0,0,0,0,0,0,0,0,0,0,0,0,0.22,0,0,0,0,0,33.630000000000003,0.06,0.33,0.05,0.04,0,0,0,0,0,0,0,0,0,0,0,0,0,0,0,0,0,0,99.66,0,94.45,0,0,0,70,null,{"$f":"IF(Köpek!$B5=\"\",\"\",IF(Köpek!$C5=\"\",\"\",Köpek!$C5*AD5*10))","v":2.2400000000000003E-2},{"$f":"IF(Köpek!$B5=\"\",\"\",IF(Köpek!$C5=\"\",\"\",   IF(KKSecim=\"Köpek\", Köpek!$C5*AE5*1000, Köpek!$C5*AF5*1000)  )  )","v":0},{"$f":"IF(Köpek!$B5=\"\",\"\",IF(Köpek!$C5=\"\",\"\",Köpek!$C5*AG5*10))","v":0},{"$f":"IF(Köpek!$B5=\"\",\"\",IF(Köpek!$C5=\"\",\"\",Köpek!$C5*AH5*10))","v":0},{"$f":"IF(Köpek!$B5=\"\",\"\",IF(Köpek!$C5=\"\",\"\",Köpek!$C5*AI5*10))","v":0},{"$f":"IF(Köpek!$B5=\"\",\"\",IF(Köpek!$C5=\"\",\"\",Köpek!$C5*AJ5*10))","v":0},{"$f":"IF(Köpek!$B5=\"\",\"\",IF(Köpek!$C5=\"\",\"\",Köpek!$C5*AK5*10))","v":0},{"$f":"IF(Köpek!$B5=\"\",\"\",IF(Köpek!$C5=\"\",\"\",Köpek!$C5*AL5*10))","v":0},{"$f":"IF(Köpek!$B5=\"\",\"\",IF(Köpek!$C5=\"\",\"\",Köpek!$C5*AM5*10))","v":0},{"$f":"IF(Köpek!$B5=\"\",\"\",IF(Köpek!$C5=\"\",\"\",Köpek!$C5*AN5*10))","v":0},{"$f":"IF(Köpek!$B5=\"\",\"\",IF(Köpek!$C5=\"\",\"\",Köpek!$C5*AO5*10))","v":0},{"$f":"IF(Köpek!$B5=\"\",\"\",IF(Köpek!$C5=\"\",\"\",Köpek!$C5*AP5*10))","v":0},{"$f":"IF(Köpek!$B5=\"\",\"\",IF(Köpek!$C5=\"\",\"\",Köpek!$C5*AQ5*10))","v":0},{"$f":"IF(Köpek!$B5=\"\",\"\",IF(Köpek!$C5=\"\",\"\",Köpek!$C5*AR5*10))","v":0},{"$f":"IF(Köpek!$B5=\"\",\"\",IF(Köpek!$C5=\"\",\"\",Köpek!$C5*AS5*10))","v":0},{"$f":"IF(Köpek!$B5=\"\",\"\",IF(Köpek!$C5=\"\",\"\",Köpek!$C5*AT5*10))","v":1.1000000000000001E-3},{"$f":"IF(Köpek!$B5=\"\",\"\",IF(Köpek!$C5=\"\",\"\",Köpek!$C5*AU5*10))","v":0},{"$f":"IF(Köpek!$B5=\"\",\"\",IF(Köpek!$C5=\"\",\"\",Köpek!$C5*AV5*10))","v":0},{"$f":"IF(Köpek!$B5=\"\",\"\",IF(Köpek!$C5=\"\",\"\",Köpek!$C5*AW5*10))","v":0},{"$f":"IF(Köpek!$B5=\"\",\"\",IF(Köpek!$C5=\"\",\"\",Köpek!$C5*AX5*10))","v":0},{"$f":"IF(Köpek!$B5=\"\",\"\",IF(Köpek!$C5=\"\",\"\",Köpek!$C5*AY5*10))","v":0},{"$f":"IF(Köpek!$B5=\"\",\"\",IF(Köpek!$C5=\"\",\"\",Köpek!$C5*AZ5*10))","v":0.16814999999999999},{"$f":"IF(Köpek!$B5=\"\",\"\",IF(Köpek!$C5=\"\",\"\",Köpek!$C5*BA5*10))","v":3.0000000000000003E-4},{"$f":"IF(Köpek!$B5=\"\",\"\",IF(Köpek!$C5=\"\",\"\",Köpek!$C5*BB5*10000))","v":1.65},{"$f":"IF(Köpek!$B5=\"\",\"\",IF(Köpek!$C5=\"\",\"\",Köpek!$C5*BC5*10000))","v":0.25},{"$f":"IF(Köpek!$B5=\"\",\"\",IF(Köpek!$C5=\"\",\"\",Köpek!$C5*BD5*10))","v":2.0000000000000001E-4},{"$f":"IF(Köpek!$B5=\"\",\"\",IF(Köpek!$C5=\"\",\"\",Köpek!$C5*BE5*10000))","v":0},{"$f":"IF(Köpek!$B5=\"\",\"\",IF(Köpek!$C5=\"\",\"\",Köpek!$C5*BF5))","v":0},{"$f":"IF(Köpek!$B5=\"\",\"\",IF(Köpek!$C5=\"\",\"\",Köpek!$C5*BG5))","v":0},{"$f":"IF(Köpek!$B5=\"\",\"\",IF(Köpek!$C5=\"\",\"\",Köpek!$C5*BH5))","v":0},{"$f":"IF(Köpek!$B5=\"\",\"\",IF(Köpek!$C5=\"\",\"\",Köpek!$C5*BI5))","v":0},{"$f":"IF(Köpek!$B5=\"\",\"\",IF(Köpek!$C5=\"\",\"\",Köpek!$C5*BJ5*1000))","v":0},{"$f":"IF(Köpek!$B5=\"\",\"\",IF(Köpek!$C5=\"\",\"\",Köpek!$C5*BK5))","v":0},{"$f":"IF(Köpek!$B5=\"\",\"\",IF(Köpek!$C5=\"\",\"\",Köpek!$C5*BL5))","v":0},{"$f":"IF(Köpek!$B5=\"\",\"\",IF(Köpek!$C5=\"\",\"\",Köpek!$C5*BM5))","v":0},{"$f":"IF(Köpek!$B5=\"\",\"\",IF(Köpek!$C5=\"\",\"\",Köpek!$C5*BN5))","v":0},{"$f":"IF(Köpek!$B5=\"\",\"\",IF(Köpek!$C5=\"\",\"\",Köpek!$C5*BO5))","v":0},{"$f":"IF(Köpek!$B5=\"\",\"\",IF(Köpek!$C5=\"\",\"\",Köpek!$C5*BP5))","v":0},{"$f":"IF(Köpek!$B5=\"\",\"\",IF(Köpek!$C5=\"\",\"\",Köpek!$C5*BQ5))","v":0},{"$f":"IF(Köpek!$B5=\"\",\"\",IF(Köpek!$C5=\"\",\"\",Köpek!$C5*BR5))","v":0},{"$f":"IF(Köpek!$B5=\"\",\"\",IF(Köpek!$C5=\"\",\"\",Köpek!$C5*BS5))","v":0},{"$f":"IF(Köpek!$B5=\"\",\"\",IF(Köpek!$C5=\"\",\"\",Köpek!$C5*BT5*1000))","v":0},{"$f":"IF(Köpek!$B5=\"\",\"\",IF(Köpek!$C5=\"\",\"\",Köpek!$C5*BU5*1000))","v":0},{"$f":"IF(Köpek!$B5=\"\",\"\",IF(Köpek!$C5=\"\",\"\",Köpek!$C5*BV5))","v":0},{"$f":"IF(Köpek!$B5=\"\",\"\",IF(Köpek!$C5=\"\",\"\",Köpek!$C5*BW5*10))","v":0.49829999999999997},{"$f":"IF(Köpek!$B5=\"\",\"\",IF(Köpek!$C5=\"\",\"\",Köpek!$C5*BX5*10))","v":0},{"$f":"IF(Köpek!$B5=\"\",\"\",IF(Köpek!$C5=\"\",\"\",Köpek!$C5*BY5*10))","v":0.47225000000000006},{"$f":"IF(Köpek!$B5=\"\",\"\",IF(Köpek!$C5=\"\",\"\",Köpek!$C5*BZ5*10))","v":0},{"$f":"IF(Köpek!$B5=\"\",\"\",IF(Köpek!$C5=\"\",\"\",Köpek!$C5*CA5*10))","v":0},{"$f":"IF(Köpek!$B5=\"\",\"\",IF(Köpek!$C5=\"\",\"\",Köpek!$C5*CB5*10))","v":0},{"$f":"IF(Köpek!$B5=\"\",\"\",IF(Köpek!$C5=\"\",\"\",Köpek!$C5*CC5))","v":3.5000000000000003E-2},null,"At eti, çiğ",27.37,21.39,4.5999999999999996,0,0.99,1.33,1.3,null,null,null,1.151,1.0049999999999999,0.19900000000000001,1.1599999999999999,0.73,0.91200000000000003,1.49,1.64,0.45600000000000002,0.13700000000000001,0.73,0.66900000000000004,0.73,0.19500000000000001,null,0.91200000000000003,0.01,0.22,null,0.02,0.36,0.05,null,null,1.4,0.01,38.200000000000003,0.2,0.10100000000000001,29,3.6999999999999998E-2,null,0.08,46,6,1,1.3,3.8,3.0000000000000001E-3,243,3,2.2999999999999998,3.6429999999999998,2.4079999999999999,1.35,1.0569999999999999,100,"EI",null,null,null,"Irklar tablosu",null,null,null,null,"Ortalama",{"$f":"CONCATENATE(GU9,GU13)","v":"8"},null,"Akita",34,54,44,"İri"," 10-12"," 39-59"," 29-50",null,"Enerji, kcal",{"$f":"GN22","v":621.9193266526072},null,null,null,null,null,null,null,"Irklar tablosu",null,null,null,null,"Ashera GD",11.3,null,"Enerji, kcal",{"$f":"IF(KediTipi=\"Yavru\",  HY2,   IF(KediTipi=\"Yetişkin\",HZ2, IF(KediTipi=\"Gebe dişi\", IA2, IF(KediTipi=\"Emziren dişi\",IB2,0))) )","v":440.35131879405594}]
[{"$f":"Köpek!A6","v":2},{"$f":"Köpek!B6","v":"Balkabağı, çiğ"},{"$f":"Köpek!C6","v":0.04},{"$f":"DX2","v":"Lif, g"},null,{"$f":"DX1","v":5.3068},null,{"$f":"(F6*100)/(C2*1000)","v":1.645519379844961},3.7050043530380159,{"$f":"F6*100/$F$5","v":0.85318327974276509},null,null,null,null,"Irk",":","Terrier, West Highland White",null,"Türk Ankara Kedisi",null,null,null,null,null,"Kedi",null,0.04,null,"Balkabağı, çiğ",1,0.185,0.185,4.4499999999999998E-2,1.8000000000000002E-2,3.5999999999999997E-2,1.35E-2,8.0000000000000002E-3,5.2500000000000005E-2,4.7E-2,9.7000000000000003E-2,2.4500000000000001E-2,2.1999999999999999E-2,1.0499999999999999E-2,0,4.1999999999999996E-2,0.15000000000000002,2.8499999999999998E-2,4.9000000000000002E-2,0,3.9E-2,7.7499999999999999E-2,2.4550000000000002E-2,4.2200000000000001E-2,1.44E-2,3.4100000000000003E-3,0.25850000000000001,0,4.3900000000000006,0.65500000000000003,2.4749999999999996,1.075,2.8999999999999998E-3,1.5E-3,65.5,0,1,0.379,0.80999999999999994,0.76500000000000001,3.4350000000000001,2.7749999999999999,0,0.37149999999999994,0,5.5500000000000007,1.05,0.6,2.8499999999999996,2.2999999999999998,0.6,40,null,{"$f":"IF(Köpek!$B6=\"\",\"\",IF(Köpek!$C6=\"\",\"\",Köpek!$C6*AD6*10))","v":0.4},{"$f":"IF(Köpek!$B6=\"\",\"\",IF(Köpek!$C6=\"\",\"\",   IF(KKSecim=\"Köpek\", Köpek!$C6*AE6*1000, Köpek!$C6*AF6*1000)  )  )","v":7.4},{"$f":"IF(Köpek!$B6=\"\",\"\",IF(Köpek!$C6=\"\",\"\",Köpek!$C6*AG6*10))","v":1.78E-2},{"$f":"IF(Köpek!$B6=\"\",\"\",IF(Köpek!$C6=\"\",\"\",Köpek!$C6*AH6*10))","v":7.2000000000000007E-3},{"$f":"IF(Köpek!$B6=\"\",\"\",IF(Köpek!$C6=\"\",\"\",Köpek!$C6*AI6*10))","v":1.44E-2},{"$f":"IF(Köpek!$B6=\"\",\"\",IF(Köpek!$C6=\"\",\"\",Köpek!$C6*AJ6*10))","v":5.4000000000000003E-3},{"$f":"IF(Köpek!$B6=\"\",\"\",IF(Köpek!$C6=\"\",\"\",Köpek!$C6*AK6*10))","v":3.2000000000000002E-3},{"$f":"IF(Köpek!$B6=\"\",\"\",IF(Köpek!$C6=\"\",\"\",Köpek!$C6*AL6*10))","v":2.1000000000000005E-2},{"$f":"IF(Köpek!$B6=\"\",\"\",IF(Köpek!$C6=\"\",\"\",Köpek!$C6*AM6*10))","v":1.8800000000000001E-2},{"$f":"IF(Köpek!$B6=\"\",\"\",IF(Köpek!$C6=\"\",\"\",Köpek!$C6*AN6*10))","v":3.8800000000000001E-2},{"$f":"IF(Köpek!$B6=\"\",\"\",IF(Köpek!$C6=\"\",\"\",Köpek!$C6*AO6*10))","v":9.7999999999999997E-3},{"$f":"IF(Köpek!$B6=\"\",\"\",IF(Köpek!$C6=\"\",\"\",Köpek!$C6*AP6*10))","v":8.7999999999999988E-3},{"$f":"IF(Köpek!$B6=\"\",\"\",IF(Köpek!$C6=\"\",\"\",Köpek!$C6*AQ6*10))","v":4.1999999999999997E-3},{"$f":"IF(Köpek!$B6=\"\",\"\",IF(Köpek!$C6=\"\",\"\",Köpek!$C6*AR6*10))","v":0},{"$f":"IF(Köpek!$B6=\"\",\"\",IF(Köpek!$C6=\"\",\"\",Köpek!$C6*AS6*10))","v":1.6799999999999999E-2},{"$f":"IF(Köpek!$B6=\"\",\"\",IF(Köpek!$C6=\"\",\"\",Köpek!$C6*AT6*10))","v":6.0000000000000012E-2},{"$f":"IF(Köpek!$B6=\"\",\"\",IF(Köpek!$C6=\"\",\"\",Köpek!$C6*AU6*10))","v":1.14E-2},{"$f":"IF(Köpek!$B6=\"\",\"\",IF(Köpek!$C6=\"\",\"\",Köpek!$C6*AV6*10))","v":1.9599999999999999E-2},{"$f":"IF(Köpek!$B6=\"\",\"\",IF(Köpek!$C6=\"\",\"\",Köpek!$C6*AW6*10))","v":0},{"$f":"IF(Köpek!$B6=\"\",\"\",IF(Köpek!$C6=\"\",\"\",Köpek!$C6*AX6*10))","v":1.5599999999999999E-2},{"$f":"IF(Köpek!$B6=\"\",\"\",IF(Köpek!$C6=\"\",\"\",Köpek!$C6*AY6*10))","v":3.1E-2},{"$f":"IF(Köpek!$B6=\"\",\"\",IF(Köpek!$C6=\"\",\"\",Köpek!$C6*AZ6*10))","v":9.8200000000000006E-3},{"$f":"IF(Köpek!$B6=\"\",\"\",IF(Köpek!$C6=\"\",\"\",Köpek!$C6*BA6*10))","v":1.6879999999999999E-2},{"$f":"IF(Köpek!$B6=\"\",\"\",IF(Köpek!$C6=\"\",\"\",Köpek!$C6*BB6*10000))","v":5.76},{"$f":"IF(Köpek!$B6=\"\",\"\",IF(Köpek!$C6=\"\",\"\",Köpek!$C6*BC6*10000))","v":1.3640000000000001},{"$f":"IF(Köpek!$B6=\"\",\"\",IF(Köpek!$C6=\"\",\"\",Köpek!$C6*BD6*10))","v":0.10340000000000001},{"$f":"IF(Köpek!$B6=\"\",\"\",IF(Köpek!$C6=\"\",\"\",Köpek!$C6*BE6*10000))","v":0},{"$f":"IF(Köpek!$B6=\"\",\"\",IF(Köpek!$C6=\"\",\"\",Köpek!$C6*BF6))","v":0.17560000000000003},{"$f":"IF(Köpek!$B6=\"\",\"\",IF(Köpek!$C6=\"\",\"\",Köpek!$C6*BG6))","v":2.6200000000000001E-2},{"$f":"IF(Köpek!$B6=\"\",\"\",IF(Köpek!$C6=\"\",\"\",Köpek!$C6*BH6))","v":9.8999999999999991E-2},{"$f":"IF(Köpek!$B6=\"\",\"\",IF(Köpek!$C6=\"\",\"\",Köpek!$C6*BI6))","v":4.2999999999999997E-2},{"$f":"IF(Köpek!$B6=\"\",\"\",IF(Köpek!$C6=\"\",\"\",Köpek!$C6*BJ6*1000))","v":0.11600000000000001},{"$f":"IF(Köpek!$B6=\"\",\"\",IF(Köpek!$C6=\"\",\"\",Köpek!$C6*BK6))","v":6.0000000000000002E-5},{"$f":"IF(Köpek!$B6=\"\",\"\",IF(Köpek!$C6=\"\",\"\",Köpek!$C6*BL6))","v":2.62},{"$f":"IF(Köpek!$B6=\"\",\"\",IF(Köpek!$C6=\"\",\"\",Köpek!$C6*BM6))","v":0},{"$f":"IF(Köpek!$B6=\"\",\"\",IF(Köpek!$C6=\"\",\"\",Köpek!$C6*BN6))","v":0.04},{"$f":"IF(Köpek!$B6=\"\",\"\",IF(Köpek!$C6=\"\",\"\",Köpek!$C6*BO6))","v":1.516E-2},{"$f":"IF(Köpek!$B6=\"\",\"\",IF(Köpek!$C6=\"\",\"\",Köpek!$C6*BP6))","v":3.2399999999999998E-2},{"$f":"IF(Köpek!$B6=\"\",\"\",IF(Köpek!$C6=\"\",\"\",Köpek!$C6*BQ6))","v":3.0600000000000002E-2},{"$f":"IF(Köpek!$B6=\"\",\"\",IF(Köpek!$C6=\"\",\"\",Köpek!$C6*BR6))","v":0.13739999999999999},{"$f":"IF(Köpek!$B6=\"\",\"\",IF(Köpek!$C6=\"\",\"\",Köpek!$C6*BS6))","v":0.111},{"$f":"IF(Köpek!$B6=\"\",\"\",IF(Köpek!$C6=\"\",\"\",Köpek!$C6*BT6*1000))","v":0},{"$f":"IF(Köpek!$B6=\"\",\"\",IF(Köpek!$C6=\"\",\"\",Köpek!$C6*BU6*1000))","v":14.859999999999998},{"$f":"IF(Köpek!$B6=\"\",\"\",IF(Köpek!$C6=\"\",\"\",Köpek!$C6*BV6))","v":0},{"$f":"IF(Köpek!$B6=\"\",\"\",IF(Köpek!$C6=\"\",\"\",Köpek!$C6*BW6*10))","v":2.2200000000000002},{"$f":"IF(Köpek!$B6=\"\",\"\",IF(Köpek!$C6=\"\",\"\",Köpek!$C6*BX6*10))","v":0.42000000000000004},{"$f":"IF(Köpek!$B6=\"\",\"\",IF(Köpek!$C6=\"\",\"\",Köpek!$C6*BY6*10))","v":0.24},{"$f":"IF(Köpek!$B6=\"\",\"\",IF(Köpek!$C6=\"\",\"\",Köpek!$C6*BZ6*10))","v":1.1399999999999999},{"$f":"IF(Köpek!$B6=\"\",\"\",IF(Köpek!$C6=\"\",\"\",Köpek!$C6*CA6*10))","v":0.91999999999999993},{"$f":"IF(Köpek!$B6=\"\",\"\",IF(Köpek!$C6=\"\",\"\",Köpek!$C6*CB6*10))","v":0.24},{"$f":"IF(Köpek!$B6=\"\",\"\",IF(Köpek!$C6=\"\",\"\",Köpek!$C6*CC6))","v":1.6},null,"Balık Çözünürleri,Kurutulmuş",93,62.5,8.277000000000001,1.395,12.555,2.81,2.81,6.51,null,null,7.0000000000000007E-2,7.0000000000000007E-2,2.4,3.23,3.06,2.17,3.84,3.67,1.39,0.77,2.12,0.99,1.79,0.65,null,2.5,1.2927,1.488,null,0.1,5,8,null,null,150,null,303.18,50.22,null,77.19,null,null,0.55799999999999994,256.68,50.499000000000002,13.578000000000001,7.44,24.087,0.48732000000000009,0,null,null,null,null,null,null,100,"EJ",null,null,null,"adet",null,null,null,null,"En az",{"$f":"CONCATENATE(GU10,GU14)","v":"6"},null,"Alaska kurdu",32,43,37.5,"İri"," 10-12"," 38-39"," 33-35",null,null,null,null,null,null,null,null,null,null,null,null,null,"adet",null,"American Curl",3.9]
[{"$f":"Köpek!A7","v":2},{"$f":"Köpek!B7","v":"Bezelye, yeşil, çiğ"},{"$f":"Köpek!C7","v":0.04},{"$f":"DY2","v":"Kül, g"},null,{"$f":"DY1","v":4.5386500000000005},null,{"$f":"(F7*100)/(C2*1000)","v":1.4073333333333335},3.1687114658392992,0.7296864951768488,null,null,null,null,"Yavru sayısı",":",null,null,3,null,null,null,null,null,null,null,0.04,null,"Bezelye, yeşil, çiğ",5.09,0.7,0.7,0.70399999999999996,0.105,0.22800000000000001,0.05,1.9E-2,0.35199999999999998,0.371,0.20899999999999999,0.13300000000000001,0.219,4.7E-2,0,0.28499999999999998,0.7,0.32,6.4000000000000001E-2,0,0.128,0.38400000000000001,0.03,0.13,2.8000000000000001E-2,2E-3,0.3,0,18,1.1000000000000001,7.5,3.8,1.0200000000000001E-2,1.5E-3,180.2,0,0.2,3.1,1.3,1.6,22,7.5,0,0.25,0,20.04,5.09,0.8,7,4.7,1.8,40,null,{"$f":"IF(Köpek!$B7=\"\",\"\",IF(Köpek!$C7=\"\",\"\",Köpek!$C7*AD7*10))","v":2.036},{"$f":"IF(Köpek!$B7=\"\",\"\",IF(Köpek!$C7=\"\",\"\",   IF(KKSecim=\"Köpek\", Köpek!$C7*AE7*1000, Köpek!$C7*AF7*1000)  )  )","v":27.999999999999996},{"$f":"IF(Köpek!$B7=\"\",\"\",IF(Köpek!$C7=\"\",\"\",Köpek!$C7*AG7*10))","v":0.28159999999999996},{"$f":"IF(Köpek!$B7=\"\",\"\",IF(Köpek!$C7=\"\",\"\",Köpek!$C7*AH7*10))","v":4.1999999999999996E-2},{"$f":"IF(Köpek!$B7=\"\",\"\",IF(Köpek!$C7=\"\",\"\",Köpek!$C7*AI7*10))","v":9.1200000000000017E-2},{"$f":"IF(Köpek!$B7=\"\",\"\",IF(Köpek!$C7=\"\",\"\",Köpek!$C7*AJ7*10))","v":0.02},{"$f":"IF(Köpek!$B7=\"\",\"\",IF(Köpek!$C7=\"\",\"\",Köpek!$C7*AK7*10))","v":7.6000000000000009E-3},{"$f":"IF(Köpek!$B7=\"\",\"\",IF(Köpek!$C7=\"\",\"\",Köpek!$C7*AL7*10))","v":0.14079999999999998},{"$f":"IF(Köpek!$B7=\"\",\"\",IF(Köpek!$C7=\"\",\"\",Köpek!$C7*AM7*10))","v":0.1484},{"$f":"IF(Köpek!$B7=\"\",\"\",IF(Köpek!$C7=\"\",\"\",Köpek!$C7*AN7*10))","v":8.3599999999999994E-2},{"$f":"IF(Köpek!$B7=\"\",\"\",IF(Köpek!$C7=\"\",\"\",Köpek!$C7*AO7*10))","v":5.3199999999999997E-2},{"$f":"IF(Köpek!$B7=\"\",\"\",IF(Köpek!$C7=\"\",\"\",Köpek!$C7*AP7*10))","v":8.7600000000000011E-2},{"$f":"IF(Köpek!$B7=\"\",\"\",IF(Köpek!$C7=\"\",\"\",Köpek!$C7*AQ7*10))","v":1.8800000000000001E-2},{"$f":"IF(Köpek!$B7=\"\",\"\",IF(Köpek!$C7=\"\",\"\",Köpek!$C7*AR7*10))","v":0},{"$f":"IF(Köpek!$B7=\"\",\"\",IF(Köpek!$C7=\"\",\"\",Köpek!$C7*AS7*10))","v":0.11399999999999999},{"$f":"IF(Köpek!$B7=\"\",\"\",IF(Köpek!$C7=\"\",\"\",Köpek!$C7*AT7*10))","v":0.27999999999999997},{"$f":"IF(Köpek!$B7=\"\",\"\",IF(Köpek!$C7=\"\",\"\",Köpek!$C7*AU7*10))","v":0.128},{"$f":"IF(Köpek!$B7=\"\",\"\",IF(Köpek!$C7=\"\",\"\",Köpek!$C7*AV7*10))","v":2.5600000000000001E-2},{"$f":"IF(Köpek!$B7=\"\",\"\",IF(Köpek!$C7=\"\",\"\",Köpek!$C7*AW7*10))","v":0},{"$f":"IF(Köpek!$B7=\"\",\"\",IF(Köpek!$C7=\"\",\"\",Köpek!$C7*AX7*10))","v":5.1200000000000002E-2},{"$f":"IF(Köpek!$B7=\"\",\"\",IF(Köpek!$C7=\"\",\"\",Köpek!$C7*AY7*10))","v":0.15360000000000001},{"$f":"IF(Köpek!$B7=\"\",\"\",IF(Köpek!$C7=\"\",\"\",Köpek!$C7*AZ7*10))","v":1.1999999999999999E-2},{"$f":"IF(Köpek!$B7=\"\",\"\",IF(Köpek!$C7=\"\",\"\",Köpek!$C7*BA7*10))","v":5.2000000000000005E-2},{"$f":"IF(Köpek!$B7=\"\",\"\",IF(Köpek!$C7=\"\",\"\",Köpek!$C7*BB7*10000))","v":11.200000000000001},{"$f":"IF(Köpek!$B7=\"\",\"\",IF(Köpek!$C7=\"\",\"\",Köpek!$C7*BC7*10000))","v":0.8},{"$f":"IF(Köpek!$B7=\"\",\"\",IF(Köpek!$C7=\"\",\"\",Köpek!$C7*BD7*10))","v":0.12},{"$f":"IF(Köpek!$B7=\"\",\"\",IF(Köpek!$C7=\"\",\"\",Köpek!$C7*BE7*10000))","v":0},{"$f":"IF(Köpek!$B7=\"\",\"\",IF(Köpek!$C7=\"\",\"\",Köpek!$C7*BF7))","v":0.72},{"$f":"IF(Köpek!$B7=\"\",\"\",IF(Köpek!$C7=\"\",\"\",Köpek!$C7*BG7))","v":4.4000000000000004E-2},{"$f":"IF(Köpek!$B7=\"\",\"\",IF(Köpek!$C7=\"\",\"\",Köpek!$C7*BH7))","v":0.3},{"$f":"IF(Köpek!$B7=\"\",\"\",IF(Köpek!$C7=\"\",\"\",Köpek!$C7*BI7))","v":0.152},{"$f":"IF(Köpek!$B7=\"\",\"\",IF(Köpek!$C7=\"\",\"\",Köpek!$C7*BJ7*1000))","v":0.40800000000000003},{"$f":"IF(Köpek!$B7=\"\",\"\",IF(Köpek!$C7=\"\",\"\",Köpek!$C7*BK7))","v":6.0000000000000002E-5},{"$f":"IF(Köpek!$B7=\"\",\"\",IF(Köpek!$C7=\"\",\"\",Köpek!$C7*BL7))","v":7.2079999999999993},{"$f":"IF(Köpek!$B7=\"\",\"\",IF(Köpek!$C7=\"\",\"\",Köpek!$C7*BM7))","v":0},{"$f":"IF(Köpek!$B7=\"\",\"\",IF(Köpek!$C7=\"\",\"\",Köpek!$C7*BN7))","v":8.0000000000000002E-3},{"$f":"IF(Köpek!$B7=\"\",\"\",IF(Köpek!$C7=\"\",\"\",Köpek!$C7*BO7))","v":0.12400000000000001},{"$f":"IF(Köpek!$B7=\"\",\"\",IF(Köpek!$C7=\"\",\"\",Köpek!$C7*BP7))","v":5.2000000000000005E-2},{"$f":"IF(Köpek!$B7=\"\",\"\",IF(Köpek!$C7=\"\",\"\",Köpek!$C7*BQ7))","v":6.4000000000000001E-2},{"$f":"IF(Köpek!$B7=\"\",\"\",IF(Köpek!$C7=\"\",\"\",Köpek!$C7*BR7))","v":0.88},{"$f":"IF(Köpek!$B7=\"\",\"\",IF(Köpek!$C7=\"\",\"\",Köpek!$C7*BS7))","v":0.3},{"$f":"IF(Köpek!$B7=\"\",\"\",IF(Köpek!$C7=\"\",\"\",Köpek!$C7*BT7*1000))","v":0},{"$f":"IF(Köpek!$B7=\"\",\"\",IF(Köpek!$C7=\"\",\"\",Köpek!$C7*BU7*1000))","v":10},{"$f":"IF(Köpek!$B7=\"\",\"\",IF(Köpek!$C7=\"\",\"\",Köpek!$C7*BV7))","v":0},{"$f":"IF(Köpek!$B7=\"\",\"\",IF(Köpek!$C7=\"\",\"\",Köpek!$C7*BW7*10))","v":8.016},{"$f":"IF(Köpek!$B7=\"\",\"\",IF(Köpek!$C7=\"\",\"\",Köpek!$C7*BX7*10))","v":2.036},{"$f":"IF(Köpek!$B7=\"\",\"\",IF(Köpek!$C7=\"\",\"\",Köpek!$C7*BY7*10))","v":0.32},{"$f":"IF(Köpek!$B7=\"\",\"\",IF(Köpek!$C7=\"\",\"\",Köpek!$C7*BZ7*10))","v":2.8000000000000003},{"$f":"IF(Köpek!$B7=\"\",\"\",IF(Köpek!$C7=\"\",\"\",Köpek!$C7*CA7*10))","v":1.88},{"$f":"IF(Köpek!$B7=\"\",\"\",IF(Köpek!$C7=\"\",\"\",Köpek!$C7*CB7*10))","v":0.72000000000000008},{"$f":"IF(Köpek!$B7=\"\",\"\",IF(Köpek!$C7=\"\",\"\",Köpek!$C7*CC7))","v":1.6},null,"Balık Çözünürleri,Yoğunlaştırılmış",50,31.5,10.416,0.83700000000000008,17.856000000000002,2.9918099999999996,2.9918099999999996,3.2549999999999999,null,null,0.36270000000000002,null,null,1.63,1.54,1.0900000000000001,1.94,1.85,0.7,0.39,1.07,0.5,0.9,0.33,null,1.26,0.39989999999999998,1.0974000000000002,null,5.5799999999999995E-2,2.9945999999999997,4.3431000000000006,null,null,85.56,null,413.85,25.11,null,80.91,null,null,0.37200000000000005,325.5,65.843999999999994,23.436,9.3000000000000007,22.506,0.93651000000000006,660,null,null,null,null,null,null,150,"EK",null,null,null,"hafta",null,null,null,null,"En çok",{"$f":"CONCATENATE(GU11,GU15)","v":"10"},null,"Alman kısa tüylü pointeri",20,32,26,"İri"," 12-14"," 25-32"," 20-27",null,null,null,null,null,null,null,null,null,null,null,null,null,"hafta",null,"American Ringtail",4.3]
[{"$f":"Köpek!A8","v":2},{"$f":"Köpek!B8","v":"Havuç, çiğ"},{"$f":"Köpek!C8","v":0.02},"Karbonhidrat, g",null,{"$f":"DZ1","v":85.577600000000004},null,{"$f":"(F8*100)/(C2*1000)","v":26.535689922480621},59.74700017384226,{"$f":"F8*100/$F$5","v":13.758456591639868},null,null,null,null,"Kaç hafta önce doğurdu?",":",null,null,3,null,null,null,null,null,null,null,0.02,null,"Havuç, çiğ",1,0.4,0.4,3.5999999999999997E-2,1.6E-2,3.4500000000000003E-2,9.4999999999999998E-3,5.4999999999999997E-3,3.9E-2,3.7499999999999999E-2,2.8000000000000001E-2,1.7000000000000001E-2,3.3000000000000002E-2,9.4999999999999998E-3,0,4.1500000000000002E-2,0.3,0.161,1.6E-2,0,3.95E-2,0.16750000000000001,3.4500000000000003E-2,3.2000000000000001E-2,1.2E-2,6.7500000000000004E-2,0.3115,0,3.5,0.18,2.35,2.2999999999999998,2E-3,1.4999999999999999E-2,12937,0,6.25,0.75,0.72499999999999998,1.095,10,2.9,0,0.28000000000000003,88,11.6,2.0499999999999998,0.9,9.4499999999999993,5.4,0.7,1.2,null,{"$f":"IF(Köpek!$B8=\"\",\"\",IF(Köpek!$C8=\"\",\"\",Köpek!$C8*AD8*10))","v":0.2},{"$f":"IF(Köpek!$B8=\"\",\"\",IF(Köpek!$C8=\"\",\"\",   IF(KKSecim=\"Köpek\", Köpek!$C8*AE8*1000, Köpek!$C8*AF8*1000)  )  )","v":8},{"$f":"IF(Köpek!$B8=\"\",\"\",IF(Köpek!$C8=\"\",\"\",Köpek!$C8*AG8*10))","v":7.1999999999999998E-3},{"$f":"IF(Köpek!$B8=\"\",\"\",IF(Köpek!$C8=\"\",\"\",Köpek!$C8*AH8*10))","v":3.2000000000000002E-3},{"$f":"IF(Köpek!$B8=\"\",\"\",IF(Köpek!$C8=\"\",\"\",Köpek!$C8*AI8*10))","v":6.9000000000000008E-3},{"$f":"IF(Köpek!$B8=\"\",\"\",IF(Köpek!$C8=\"\",\"\",Köpek!$C8*AJ8*10))","v":1.9000000000000002E-3},{"$f":"IF(Köpek!$B8=\"\",\"\",IF(Köpek!$C8=\"\",\"\",Köpek!$C8*AK8*10))","v":1.0999999999999998E-3},{"$f":"IF(Köpek!$B8=\"\",\"\",IF(Köpek!$C8=\"\",\"\",Köpek!$C8*AL8*10))","v":7.7999999999999996E-3},{"$f":"IF(Köpek!$B8=\"\",\"\",IF(Köpek!$C8=\"\",\"\",Köpek!$C8*AM8*10))","v":7.4999999999999997E-3},{"$f":"IF(Köpek!$B8=\"\",\"\",IF(Köpek!$C8=\"\",\"\",Köpek!$C8*AN8*10))","v":5.6000000000000008E-3},{"$f":"IF(Köpek!$B8=\"\",\"\",IF(Köpek!$C8=\"\",\"\",Köpek!$C8*AO8*10))","v":3.4000000000000002E-3},{"$f":"IF(Köpek!$B8=\"\",\"\",IF(Köpek!$C8=\"\",\"\",Köpek!$C8*AP8*10))","v":6.6E-3},{"$f":"IF(Köpek!$B8=\"\",\"\",IF(Köpek!$C8=\"\",\"\",Köpek!$C8*AQ8*10))","v":1.9000000000000002E-3},{"$f":"IF(Köpek!$B8=\"\",\"\",IF(Köpek!$C8=\"\",\"\",Köpek!$C8*AR8*10))","v":0},{"$f":"IF(Köpek!$B8=\"\",\"\",IF(Köpek!$C8=\"\",\"\",Köpek!$C8*AS8*10))","v":8.3000000000000001E-3},{"$f":"IF(Köpek!$B8=\"\",\"\",IF(Köpek!$C8=\"\",\"\",Köpek!$C8*AT8*10))","v":0.06},{"$f":"IF(Köpek!$B8=\"\",\"\",IF(Köpek!$C8=\"\",\"\",Köpek!$C8*AU8*10))","v":3.2199999999999999E-2},{"$f":"IF(Köpek!$B8=\"\",\"\",IF(Köpek!$C8=\"\",\"\",Köpek!$C8*AV8*10))","v":3.2000000000000002E-3},{"$f":"IF(Köpek!$B8=\"\",\"\",IF(Köpek!$C8=\"\",\"\",Köpek!$C8*AW8*10))","v":0},{"$f":"IF(Köpek!$B8=\"\",\"\",IF(Köpek!$C8=\"\",\"\",Köpek!$C8*AX8*10))","v":7.9000000000000008E-3},{"$f":"IF(Köpek!$B8=\"\",\"\",IF(Köpek!$C8=\"\",\"\",Köpek!$C8*AY8*10))","v":3.3500000000000002E-2},{"$f":"IF(Köpek!$B8=\"\",\"\",IF(Köpek!$C8=\"\",\"\",Köpek!$C8*AZ8*10))","v":6.9000000000000008E-3},{"$f":"IF(Köpek!$B8=\"\",\"\",IF(Köpek!$C8=\"\",\"\",Köpek!$C8*BA8*10))","v":6.4000000000000003E-3},{"$f":"IF(Köpek!$B8=\"\",\"\",IF(Köpek!$C8=\"\",\"\",Köpek!$C8*BB8*10000))","v":2.4},{"$f":"IF(Köpek!$B8=\"\",\"\",IF(Köpek!$C8=\"\",\"\",Köpek!$C8*BC8*10000))","v":13.5},{"$f":"IF(Köpek!$B8=\"\",\"\",IF(Köpek!$C8=\"\",\"\",Köpek!$C8*BD8*10))","v":6.2300000000000001E-2},{"$f":"IF(Köpek!$B8=\"\",\"\",IF(Köpek!$C8=\"\",\"\",Köpek!$C8*BE8*10000))","v":0},{"$f":"IF(Köpek!$B8=\"\",\"\",IF(Köpek!$C8=\"\",\"\",Köpek!$C8*BF8))","v":7.0000000000000007E-2},{"$f":"IF(Köpek!$B8=\"\",\"\",IF(Köpek!$C8=\"\",\"\",Köpek!$C8*BG8))","v":3.5999999999999999E-3},{"$f":"IF(Köpek!$B8=\"\",\"\",IF(Köpek!$C8=\"\",\"\",Köpek!$C8*BH8))","v":4.7E-2},{"$f":"IF(Köpek!$B8=\"\",\"\",IF(Köpek!$C8=\"\",\"\",Köpek!$C8*BI8))","v":4.5999999999999999E-2},{"$f":"IF(Köpek!$B8=\"\",\"\",IF(Köpek!$C8=\"\",\"\",Köpek!$C8*BJ8*1000))","v":0.04},{"$f":"IF(Köpek!$B8=\"\",\"\",IF(Köpek!$C8=\"\",\"\",Köpek!$C8*BK8))","v":2.9999999999999997E-4},{"$f":"IF(Köpek!$B8=\"\",\"\",IF(Köpek!$C8=\"\",\"\",Köpek!$C8*BL8))","v":258.74},{"$f":"IF(Köpek!$B8=\"\",\"\",IF(Köpek!$C8=\"\",\"\",Köpek!$C8*BM8))","v":0},{"$f":"IF(Köpek!$B8=\"\",\"\",IF(Köpek!$C8=\"\",\"\",Köpek!$C8*BN8))","v":0.125},{"$f":"IF(Köpek!$B8=\"\",\"\",IF(Köpek!$C8=\"\",\"\",Köpek!$C8*BO8))","v":1.4999999999999999E-2},{"$f":"IF(Köpek!$B8=\"\",\"\",IF(Köpek!$C8=\"\",\"\",Köpek!$C8*BP8))","v":1.4499999999999999E-2},{"$f":"IF(Köpek!$B8=\"\",\"\",IF(Köpek!$C8=\"\",\"\",Köpek!$C8*BQ8))","v":2.1899999999999999E-2},{"$f":"IF(Köpek!$B8=\"\",\"\",IF(Köpek!$C8=\"\",\"\",Köpek!$C8*BR8))","v":0.2},{"$f":"IF(Köpek!$B8=\"\",\"\",IF(Köpek!$C8=\"\",\"\",Köpek!$C8*BS8))","v":5.7999999999999996E-2},{"$f":"IF(Köpek!$B8=\"\",\"\",IF(Köpek!$C8=\"\",\"\",Köpek!$C8*BT8*1000))","v":0},{"$f":"IF(Köpek!$B8=\"\",\"\",IF(Köpek!$C8=\"\",\"\",Köpek!$C8*BU8*1000))","v":5.6000000000000005},{"$f":"IF(Köpek!$B8=\"\",\"\",IF(Köpek!$C8=\"\",\"\",Köpek!$C8*BV8))","v":1.76},{"$f":"IF(Köpek!$B8=\"\",\"\",IF(Köpek!$C8=\"\",\"\",Köpek!$C8*BW8*10))","v":2.3199999999999998},{"$f":"IF(Köpek!$B8=\"\",\"\",IF(Köpek!$C8=\"\",\"\",Köpek!$C8*BX8*10))","v":0.40999999999999992},{"$f":"IF(Köpek!$B8=\"\",\"\",IF(Köpek!$C8=\"\",\"\",Köpek!$C8*BY8*10))","v":0.18000000000000002},{"$f":"IF(Köpek!$B8=\"\",\"\",IF(Köpek!$C8=\"\",\"\",Köpek!$C8*BZ8*10))","v":1.8900000000000001},{"$f":"IF(Köpek!$B8=\"\",\"\",IF(Köpek!$C8=\"\",\"\",Köpek!$C8*CA8*10))","v":1.08},{"$f":"IF(Köpek!$B8=\"\",\"\",IF(Köpek!$C8=\"\",\"\",Köpek!$C8*CB8*10))","v":0.13999999999999999},{"$f":"IF(Köpek!$B8=\"\",\"\",IF(Köpek!$C8=\"\",\"\",Köpek!$C8*CC8))","v":2.4E-2},null,"Balık,Alabalık",28.6,20.87,6.6,0,1.2,1.48,1.48,0,0,0,0.17499999999999999,1.0680000000000001,null,1.07,0.53,0.82,1.45,1.64,0.53,0.19,0.7,0.6,0.78,0.2,0.126,0.92,4.2999999999999997E-2,0.245,null,2.1999999999999999E-2,0.36099999999999999,5.1999999999999998E-2,null,null,2,0.6,2.7,9,0.126,7,null,650,0.13,45,19,3,4,2,7.8E-2,170.99999999999997,null,2,1.1000000000000001,1.5,0.17499999999999999,1.0680000000000001,150,"EL",null,null,null,"İnaktif","Aktif",null,null,null,null,null,null,"Alman kurdu",35,40,37.5,"İri"," 10-12"," 34-43"," 34-43",null,null,null,null,null,null,null,null,null,null,null,null,"hafta",null,null,"American SH",4.8]
[{"$f":"Köpek!A9","v":2},{"$f":"Köpek!B9","v":"Pirinç, beyaz, çiğ"},{"$f":"Köpek!C9","v":0.1},{"$f":"CZ2","v":"Kalsiyum, g"},{"$f":"Köpek!E9","v":0.62191932665260719},{"$f":"CZ1","v":0.8450700000000001},{"$f":"IF(E9=0,\"\",   IF(F9<E9*0.99,\"EKSİK\",      IF(F9>E9*1.2,\"FAZLA\",    \"TAMAM\")) )","v":"FAZLA"},{"$f":"(F9*100)/(C2*1000)","v":0.2620372093023256},0.58999548289399195,0.13586334405144693,null,null,null,null,"Gebelik süresi, hafta",":",null,null,null,null,null,null,null,null,"Tipi",null,0.1,null,"Pirinç, beyaz, çiğ",6.61,3.58,3.58,0.52,0.15,0.24,0.14000000000000001,0.11,0.49,0.21,0.32,0.31,0.21,7.0000000000000007E-2,0,0.35,0.57999999999999996,0.114,2.4E-2,0.5,0.1,0.1,3.0000000000000001E-3,0.108,2.3E-2,1E-3,7.5999999999999998E-2,0,8,2,11.6,11,2.5000000000000001E-2,0.29039999999999999,40,0,1.3,1,0.5,1.5,16,13.4,0,0.09,58,87.11,2.4,0.57999999999999996,79.34,0,75,12,null,{"$f":"IF(Köpek!$B9=\"\",\"\",IF(Köpek!$C9=\"\",\"\",Köpek!$C9*AD9*10))","v":6.61},{"$f":"IF(Köpek!$B9=\"\",\"\",IF(Köpek!$C9=\"\",\"\",   IF(KKSecim=\"Köpek\", Köpek!$C9*AE9*1000, Köpek!$C9*AF9*1000)  )  )","v":358.00000000000006},{"$f":"IF(Köpek!$B9=\"\",\"\",IF(Köpek!$C9=\"\",\"\",Köpek!$C9*AG9*10))","v":0.52},{"$f":"IF(Köpek!$B9=\"\",\"\",IF(Köpek!$C9=\"\",\"\",Köpek!$C9*AH9*10))","v":0.15},{"$f":"IF(Köpek!$B9=\"\",\"\",IF(Köpek!$C9=\"\",\"\",Köpek!$C9*AI9*10))","v":0.24},{"$f":"IF(Köpek!$B9=\"\",\"\",IF(Köpek!$C9=\"\",\"\",Köpek!$C9*AJ9*10))","v":0.14000000000000001},{"$f":"IF(Köpek!$B9=\"\",\"\",IF(Köpek!$C9=\"\",\"\",Köpek!$C9*AK9*10))","v":0.11000000000000001},{"$f":"IF(Köpek!$B9=\"\",\"\",IF(Köpek!$C9=\"\",\"\",Köpek!$C9*AL9*10))","v":0.49},{"$f":"IF(Köpek!$B9=\"\",\"\",IF(Köpek!$C9=\"\",\"\",Köpek!$C9*AM9*10))","v":0.21000000000000002},{"$f":"IF(Köpek!$B9=\"\",\"\",IF(Köpek!$C9=\"\",\"\",Köpek!$C9*AN9*10))","v":0.32},{"$f":"IF(Köpek!$B9=\"\",\"\",IF(Köpek!$C9=\"\",\"\",Köpek!$C9*AO9*10))","v":0.31},{"$f":"IF(Köpek!$B9=\"\",\"\",IF(Köpek!$C9=\"\",\"\",Köpek!$C9*AP9*10))","v":0.21000000000000002},{"$f":"IF(Köpek!$B9=\"\",\"\",IF(Köpek!$C9=\"\",\"\",Köpek!$C9*AQ9*10))","v":7.0000000000000007E-2},{"$f":"IF(Köpek!$B9=\"\",\"\",IF(Köpek!$C9=\"\",\"\",Köpek!$C9*AR9*10))","v":0},{"$f":"IF(Köpek!$B9=\"\",\"\",IF(Köpek!$C9=\"\",\"\",Köpek!$C9*AS9*10))","v":0.35},{"$f":"IF(Köpek!$B9=\"\",\"\",IF(Köpek!$C9=\"\",\"\",Köpek!$C9*AT9*10))","v":0.57999999999999996},{"$f":"IF(Köpek!$B9=\"\",\"\",IF(Köpek!$C9=\"\",\"\",Köpek!$C9*AU9*10))","v":0.114},{"$f":"IF(Köpek!$B9=\"\",\"\",IF(Köpek!$C9=\"\",\"\",Köpek!$C9*AV9*10))","v":2.4E-2},{"$f":"IF(Köpek!$B9=\"\",\"\",IF(Köpek!$C9=\"\",\"\",Köpek!$C9*AW9*10))","v":0.5},{"$f":"IF(Köpek!$B9=\"\",\"\",IF(Köpek!$C9=\"\",\"\",Köpek!$C9*AX9*10))","v":0.10000000000000002},{"$f":"IF(Köpek!$B9=\"\",\"\",IF(Köpek!$C9=\"\",\"\",Köpek!$C9*AY9*10))","v":0.10000000000000002},{"$f":"IF(Köpek!$B9=\"\",\"\",IF(Köpek!$C9=\"\",\"\",Köpek!$C9*AZ9*10))","v":3.0000000000000001E-3},{"$f":"IF(Köpek!$B9=\"\",\"\",IF(Köpek!$C9=\"\",\"\",Köpek!$C9*BA9*10))","v":0.10800000000000001},{"$f":"IF(Köpek!$B9=\"\",\"\",IF(Köpek!$C9=\"\",\"\",Köpek!$C9*BB9*10000))","v":23},{"$f":"IF(Köpek!$B9=\"\",\"\",IF(Köpek!$C9=\"\",\"\",Köpek!$C9*BC9*10000))","v":1},{"$f":"IF(Köpek!$B9=\"\",\"\",IF(Köpek!$C9=\"\",\"\",Köpek!$C9*BD9*10))","v":7.5999999999999998E-2},{"$f":"IF(Köpek!$B9=\"\",\"\",IF(Köpek!$C9=\"\",\"\",Köpek!$C9*BE9*10000))","v":0},{"$f":"IF(Köpek!$B9=\"\",\"\",IF(Köpek!$C9=\"\",\"\",Köpek!$C9*BF9))","v":0.8},{"$f":"IF(Köpek!$B9=\"\",\"\",IF(Köpek!$C9=\"\",\"\",Köpek!$C9*BG9))","v":0.2},{"$f":"IF(Köpek!$B9=\"\",\"\",IF(Köpek!$C9=\"\",\"\",Köpek!$C9*BH9))","v":1.1599999999999999},{"$f":"IF(Köpek!$B9=\"\",\"\",IF(Köpek!$C9=\"\",\"\",Köpek!$C9*BI9))","v":1.1000000000000001},{"$f":"IF(Köpek!$B9=\"\",\"\",IF(Köpek!$C9=\"\",\"\",Köpek!$C9*BJ9*1000))","v":2.5000000000000004},{"$f":"IF(Köpek!$B9=\"\",\"\",IF(Köpek!$C9=\"\",\"\",Köpek!$C9*BK9))","v":2.904E-2},{"$f":"IF(Köpek!$B9=\"\",\"\",IF(Köpek!$C9=\"\",\"\",Köpek!$C9*BL9))","v":4},{"$f":"IF(Köpek!$B9=\"\",\"\",IF(Köpek!$C9=\"\",\"\",Köpek!$C9*BM9))","v":0},{"$f":"IF(Köpek!$B9=\"\",\"\",IF(Köpek!$C9=\"\",\"\",Köpek!$C9*BN9))","v":0.13},{"$f":"IF(Köpek!$B9=\"\",\"\",IF(Köpek!$C9=\"\",\"\",Köpek!$C9*BO9))","v":0.1},{"$f":"IF(Köpek!$B9=\"\",\"\",IF(Köpek!$C9=\"\",\"\",Köpek!$C9*BP9))","v":0.05},{"$f":"IF(Köpek!$B9=\"\",\"\",IF(Köpek!$C9=\"\",\"\",Köpek!$C9*BQ9))","v":0.15000000000000002},{"$f":"IF(Köpek!$B9=\"\",\"\",IF(Köpek!$C9=\"\",\"\",Köpek!$C9*BR9))","v":1.6},{"$f":"IF(Köpek!$B9=\"\",\"\",IF(Köpek!$C9=\"\",\"\",Köpek!$C9*BS9))","v":1.34},{"$f":"IF(Köpek!$B9=\"\",\"\",IF(Köpek!$C9=\"\",\"\",Köpek!$C9*BT9*1000))","v":0},{"$f":"IF(Köpek!$B9=\"\",\"\",IF(Köpek!$C9=\"\",\"\",Köpek!$C9*BU9*1000))","v":9},{"$f":"IF(Köpek!$B9=\"\",\"\",IF(Köpek!$C9=\"\",\"\",Köpek!$C9*BV9))","v":5.8000000000000007},{"$f":"IF(Köpek!$B9=\"\",\"\",IF(Köpek!$C9=\"\",\"\",Köpek!$C9*BW9*10))","v":87.11},{"$f":"IF(Köpek!$B9=\"\",\"\",IF(Köpek!$C9=\"\",\"\",Köpek!$C9*BX9*10))","v":2.4},{"$f":"IF(Köpek!$B9=\"\",\"\",IF(Köpek!$C9=\"\",\"\",Köpek!$C9*BY9*10))","v":0.57999999999999996},{"$f":"IF(Köpek!$B9=\"\",\"\",IF(Köpek!$C9=\"\",\"\",Köpek!$C9*BZ9*10))","v":79.34},{"$f":"IF(Köpek!$B9=\"\",\"\",IF(Köpek!$C9=\"\",\"\",Köpek!$C9*CA9*10))","v":0},{"$f":"IF(Köpek!$B9=\"\",\"\",IF(Köpek!$C9=\"\",\"\",Köpek!$C9*CB9*10))","v":75},{"$f":"IF(Köpek!$B9=\"\",\"\",IF(Köpek!$C9=\"\",\"\",Köpek!$C9*CC9))","v":1.2000000000000002},null,"Balık, Kalkan",21.7,16.399999999999999,1.4,null,1,0.9,0.9,null,null,null,null,3.6999999999999998E-2,null,0.97099999999999997,0.47199999999999998,0.76100000000000001,1.34,1.5,0.47199999999999998,0.17599999999999999,0.63,0.55100000000000005,0.70799999999999996,0.184,0.126,0.84,4.9000000000000002E-2,0.20300000000000001,null,2.3E-2,0.33,7.0000000000000007E-2,null,null,null,0.35,2.5,null,null,null,null,null,0.16,61,0,0.8,0.36,1.52,8.0000000000000002E-3,117,null,0,0.25800000000000001,0.46500000000000002,0,0.46500000000000002,300,"EM",null,null,null,"hafta",null,null,null,"KÖPEK","Ortalama",{"$f":"IF(ISERROR(VLOOKUP(SecilenIrk,Hesap!GW3:GZ110,4,FALSE))=TRUE,\"\",VLOOKUP(SecilenIrk,Hesap!GW3:GZ110,4,FALSE))","v":8},null,"Apso",5.9,6.8,6.35,"Küçük"," 12-14"," 6-7"," 6-7",null,"Kalsiyum, g",{"$f":"IF(HI$2=1,HH9,  IF(HI$2=2,HI9,  IF(HI$2=3,HJ9,  IF(HI$2=4,HK9,  \"YOK\")))) * HG$5/1000","v":0.62191932665260719},3,3,1,2,null,null,null,null,null,null,null,null,"American Wirehair",4.5,null,"Kalsiyum, g",{"$f":"IF(HX$2=1,HY9,  IF(HX$2=2,HZ9,  IF(HX$2=3,IA9,  IF(HX$2=4,IB9,  \"YOK\")))) * HX$5/1000","v":1.1889485607439509},2,0.72,2.7,2.7]
[{"$f":"Köpek!A10","v":3},{"$f":"Köpek!B10","v":"Kemik unu"},{"$f":"Köpek!C10","v":2E-3},{"$f":"DA2","v":"Fosfor, g "},{"$f":"Köpek!E10","v":0.46643949498945542},{"$f":"DA1","v":0.64678000000000002},{"$f":"IF(E10=0,\"\",   IF(F10<E10*0.99,\"EKSİK\",      IF(F10>E10*1.1,\"FAZLA\",    \"TAMAM\")) )","v":"FAZLA"},{"$f":"(F10*100)/(C2*1000)","v":0.20055193798449611},0.45155700524947762,0.10398392282958197,null,null,null,null,"Hareketlilik durumu",":","Aktif",null,"İnaktif",null,null,null,null,null,"Yavru",null,2E-3,null,"Kemik unu",8.15,0.9,0.9,0,0,0,0,0,0,0,0,0,0,0,0,0,3.3,0,0,0,0,0,30.71,12.86,0.62,0.39,0.18,0,756.6,13.58,331.74,32.979999999999997,0,0,0,0,0,0.38800000000000001,0.873,0,3.88,2.4249999999999998,0,0,0,97,2.04,70.42,10.38,0,0,75,null,{"$f":"IF(Köpek!$B10=\"\",\"\",IF(Köpek!$C10=\"\",\"\",Köpek!$C10*AD10*10))","v":0.16300000000000003},{"$f":"IF(Köpek!$B10=\"\",\"\",IF(Köpek!$C10=\"\",\"\",   IF(KKSecim=\"Köpek\", Köpek!$C10*AE10*1000, Köpek!$C10*AF10*1000)  )  )","v":1.8000000000000003},{"$f":"IF(Köpek!$B10=\"\",\"\",IF(Köpek!$C10=\"\",\"\",Köpek!$C10*AG10*10))","v":0},{"$f":"IF(Köpek!$B10=\"\",\"\",IF(Köpek!$C10=\"\",\"\",Köpek!$C10*AH10*10))","v":0},{"$f":"IF(Köpek!$B10=\"\",\"\",IF(Köpek!$C10=\"\",\"\",Köpek!$C10*AI10*10))","v":0},{"$f":"IF(Köpek!$B10=\"\",\"\",IF(Köpek!$C10=\"\",\"\",Köpek!$C10*AJ10*10))","v":0},{"$f":"IF(Köpek!$B10=\"\",\"\",IF(Köpek!$C10=\"\",\"\",Köpek!$C10*AK10*10))","v":0},{"$f":"IF(Köpek!$B10=\"\",\"\",IF(Köpek!$C10=\"\",\"\",Köpek!$C10*AL10*10))","v":0},{"$f":"IF(Köpek!$B10=\"\",\"\",IF(Köpek!$C10=\"\",\"\",Köpek!$C10*AM10*10))","v":0},{"$f":"IF(Köpek!$B10=\"\",\"\",IF(Köpek!$C10=\"\",\"\",Köpek!$C10*AN10*10))","v":0},{"$f":"IF(Köpek!$B10=\"\",\"\",IF(Köpek!$C10=\"\",\"\",Köpek!$C10*AO10*10))","v":0},{"$f":"IF(Köpek!$B10=\"\",\"\",IF(Köpek!$C10=\"\",\"\",Köpek!$C10*AP10*10))","v":0},{"$f":"IF(Köpek!$B10=\"\",\"\",IF(Köpek!$C10=\"\",\"\",Köpek!$C10*AQ10*10))","v":0},{"$f":"IF(Köpek!$B10=\"\",\"\",IF(Köpek!$C10=\"\",\"\",Köpek!$C10*AR10*10))","v":0},{"$f":"IF(Köpek!$B10=\"\",\"\",IF(Köpek!$C10=\"\",\"\",Köpek!$C10*AS10*10))","v":0},{"$f":"IF(Köpek!$B10=\"\",\"\",IF(Köpek!$C10=\"\",\"\",Köpek!$C10*AT10*10))","v":6.6000000000000003E-2},{"$f":"IF(Köpek!$B10=\"\",\"\",IF(Köpek!$C10=\"\",\"\",Köpek!$C10*AU10*10))","v":0},{"$f":"IF(Köpek!$B10=\"\",\"\",IF(Köpek!$C10=\"\",\"\",Köpek!$C10*AV10*10))","v":0},{"$f":"IF(Köpek!$B10=\"\",\"\",IF(Köpek!$C10=\"\",\"\",Köpek!$C10*AW10*10))","v":0},{"$f":"IF(Köpek!$B10=\"\",\"\",IF(Köpek!$C10=\"\",\"\",Köpek!$C10*AX10*10))","v":0},{"$f":"IF(Köpek!$B10=\"\",\"\",IF(Köpek!$C10=\"\",\"\",Köpek!$C10*AY10*10))","v":0},{"$f":"IF(Köpek!$B10=\"\",\"\",IF(Köpek!$C10=\"\",\"\",Köpek!$C10*AZ10*10))","v":0.61420000000000008},{"$f":"IF(Köpek!$B10=\"\",\"\",IF(Köpek!$C10=\"\",\"\",Köpek!$C10*BA10*10))","v":0.25719999999999998},{"$f":"IF(Köpek!$B10=\"\",\"\",IF(Köpek!$C10=\"\",\"\",Köpek!$C10*BB10*10000))","v":12.4},{"$f":"IF(Köpek!$B10=\"\",\"\",IF(Köpek!$C10=\"\",\"\",Köpek!$C10*BC10*10000))","v":7.8000000000000007},{"$f":"IF(Köpek!$B10=\"\",\"\",IF(Köpek!$C10=\"\",\"\",Köpek!$C10*BD10*10))","v":3.5999999999999999E-3},{"$f":"IF(Köpek!$B10=\"\",\"\",IF(Köpek!$C10=\"\",\"\",Köpek!$C10*BE10*10000))","v":0},{"$f":"IF(Köpek!$B10=\"\",\"\",IF(Köpek!$C10=\"\",\"\",Köpek!$C10*BF10))","v":1.5132000000000001},{"$f":"IF(Köpek!$B10=\"\",\"\",IF(Köpek!$C10=\"\",\"\",Köpek!$C10*BG10))","v":2.716E-2},{"$f":"IF(Köpek!$B10=\"\",\"\",IF(Köpek!$C10=\"\",\"\",Köpek!$C10*BH10))","v":0.66348000000000007},{"$f":"IF(Köpek!$B10=\"\",\"\",IF(Köpek!$C10=\"\",\"\",Köpek!$C10*BI10))","v":6.5959999999999991E-2},{"$f":"IF(Köpek!$B10=\"\",\"\",IF(Köpek!$C10=\"\",\"\",Köpek!$C10*BJ10*1000))","v":0},{"$f":"IF(Köpek!$B10=\"\",\"\",IF(Köpek!$C10=\"\",\"\",Köpek!$C10*BK10))","v":0},{"$f":"IF(Köpek!$B10=\"\",\"\",IF(Köpek!$C10=\"\",\"\",Köpek!$C10*BL10))","v":0},{"$f":"IF(Köpek!$B10=\"\",\"\",IF(Köpek!$C10=\"\",\"\",Köpek!$C10*BM10))","v":0},{"$f":"IF(Köpek!$B10=\"\",\"\",IF(Köpek!$C10=\"\",\"\",Köpek!$C10*BN10))","v":0},{"$f":"IF(Köpek!$B10=\"\",\"\",IF(Köpek!$C10=\"\",\"\",Köpek!$C10*BO10))","v":7.76E-4},{"$f":"IF(Köpek!$B10=\"\",\"\",IF(Köpek!$C10=\"\",\"\",Köpek!$C10*BP10))","v":1.7459999999999999E-3},{"$f":"IF(Köpek!$B10=\"\",\"\",IF(Köpek!$C10=\"\",\"\",Köpek!$C10*BQ10))","v":0},{"$f":"IF(Köpek!$B10=\"\",\"\",IF(Köpek!$C10=\"\",\"\",Köpek!$C10*BR10))","v":7.7599999999999995E-3},{"$f":"IF(Köpek!$B10=\"\",\"\",IF(Köpek!$C10=\"\",\"\",Köpek!$C10*BS10))","v":4.8500000000000001E-3},{"$f":"IF(Köpek!$B10=\"\",\"\",IF(Köpek!$C10=\"\",\"\",Köpek!$C10*BT10*1000))","v":0},{"$f":"IF(Köpek!$B10=\"\",\"\",IF(Köpek!$C10=\"\",\"\",Köpek!$C10*BU10*1000))","v":0},{"$f":"IF(Köpek!$B10=\"\",\"\",IF(Köpek!$C10=\"\",\"\",Köpek!$C10*BV10))","v":0},{"$f":"IF(Köpek!$B10=\"\",\"\",IF(Köpek!$C10=\"\",\"\",Köpek!$C10*BW10*10))","v":1.94},{"$f":"IF(Köpek!$B10=\"\",\"\",IF(Köpek!$C10=\"\",\"\",Köpek!$C10*BX10*10))","v":4.0800000000000003E-2},{"$f":"IF(Köpek!$B10=\"\",\"\",IF(Köpek!$C10=\"\",\"\",Köpek!$C10*BY10*10))","v":1.4083999999999999},{"$f":"IF(Köpek!$B10=\"\",\"\",IF(Köpek!$C10=\"\",\"\",Köpek!$C10*BZ10*10))","v":0.20760000000000001},{"$f":"IF(Köpek!$B10=\"\",\"\",IF(Köpek!$C10=\"\",\"\",Köpek!$C10*CA10*10))","v":0},{"$f":"IF(Köpek!$B10=\"\",\"\",IF(Köpek!$C10=\"\",\"\",Köpek!$C10*CB10*10))","v":0},{"$f":"IF(Köpek!$B10=\"\",\"\",IF(Köpek!$C10=\"\",\"\",Köpek!$C10*CC10))","v":0.15},null,"Balık, Morina",19.3,17.600000000000001,0.6,null,1.2,0.75,0.75,null,null,null,1E-3,8.0000000000000002E-3,null,1.08,0.35899999999999999,0.86899999999999999,1.35,1.65,0.56899999999999995,0.129,0.68899999999999995,0.65900000000000003,0.749,0.17100000000000001,0.126,0.95899999999999996,1.4999999999999999E-2,0.2,null,2.5000000000000001E-2,0.33800000000000002,7.5999999999999998E-2,null,null,0.19,2.5299999999999998,2,0.2,0.28699999999999998,3.8,1.1000000000000001E-2,null,0.16,20,1.4000000000000001,0.4,0.5,2.21,1.11E-2,null,10,4.5,0.10199999999999999,0.24,1E-3,0.23899999999999999,350,"EN",null,null,null,null,null,null,null,null,"En az",{"$f":"    IF(ISERROR(VLOOKUP(SecilenIrk,Hesap!GW3:GZ110,2,FALSE))=TRUE,\"\",VLOOKUP(SecilenIrk,Hesap!GW3:GZ110,2,FALSE))","v":6},null,"Avustralya çoban köpeği",18,29,23.5,"İri"," 12-15"," 23-29"," 18-25",null,"Fosfor, g ",{"$f":"IF(HI$2=1,HH10,  IF(HI$2=2,HI10,  IF(HI$2=3,HJ10,  IF(HI$2=4,HK10,  \"YOK\")))) * HG$5/1000","v":0.46643949498945542},2.5,2.5,0.75,1.25,null,null,null,null,null,null,null,null,"Balinese",3.9,null,"Fosfor, g ",0.83666750570870629,1.8,0.64,1.9,1.9]
[{"$f":"Köpek!A11","v":3},{"$f":"Köpek!B11","v":"Vit-Min. (TheraVet ProCure)"},{"$f":"Köpek!C11","v":0},"Ca/P oranı",{"$f":"Köpek!E11","v":1},{"$f":"F9/F10","v":1.306580290052259},{"$f":"IF(E11=0,\"\",   IF(F11<E11*0.99,\"EKSİK\",      IF(F11>E11*1.5,\"FAZLA\",    \"TAMAM\")) )","v":"TAMAM"},null,null,null,null,null,null,null,"Mama tipi",":","Ev yemeği",null,{"$f":"MamaTipi","v":"Ev yemeği"},null,null,null,null,null,"Yetişkin",null,0,null,"Vit-Min. (TheraVet ProCure)",0,0,0,0,0,0,0,0,0,0,0,0,0,0,0,0,0,0,0,0,0,0,0.17,0,0,0,0,0,0,0,0,0,0,0,0,0,0,0,0,0,0,0,0,0,0,0,0,0,0,0,0,25,null,{"$f":"IF(Köpek!$B11=\"\",\"\",IF(Köpek!$C11=\"\",\"\",Köpek!$C11*AD11*10))","v":""},{"$f":"IF(Köpek!$B11=\"\",\"\",IF(Köpek!$C11=\"\",\"\",   IF(KKSecim=\"Köpek\", Köpek!$C11*AE11*1000, Köpek!$C11*AF11*1000)  )  )","v":""},{"$f":"IF(Köpek!$B11=\"\",\"\",IF(Köpek!$C11=\"\",\"\",Köpek!$C11*AG11*10))","v":""},{"$f":"IF(Köpek!$B11=\"\",\"\",IF(Köpek!$C11=\"\",\"\",Köpek!$C11*AH11*10))","v":""},{"$f":"IF(Köpek!$B11=\"\",\"\",IF(Köpek!$C11=\"\",\"\",Köpek!$C11*AI11*10))","v":""},{"$f":"IF(Köpek!$B11=\"\",\"\",IF(Köpek!$C11=\"\",\"\",Köpek!$C11*AJ11*10))","v":""},{"$f":"IF(Köpek!$B11=\"\",\"\",IF(Köpek!$C11=\"\",\"\",Köpek!$C11*AK11*10))","v":""},{"$f":"IF(Köpek!$B11=\"\",\"\",IF(Köpek!$C11=\"\",\"\",Köpek!$C11*AL11*10))","v":""},{"$f":"IF(Köpek!$B11=\"\",\"\",IF(Köpek!$C11=\"\",\"\",Köpek!$C11*AM11*10))","v":""},{"$f":"IF(Köpek!$B11=\"\",\"\",IF(Köpek!$C11=\"\",\"\",Köpek!$C11*AN11*10))","v":""},{"$f":"IF(Köpek!$B11=\"\",\"\",IF(Köpek!$C11=\"\",\"\",Köpek!$C11*AO11*10))","v":""},{"$f":"IF(Köpek!$B11=\"\",\"\",IF(Köpek!$C11=\"\",\"\",Köpek!$C11*AP11*10))","v":""},{"$f":"IF(Köpek!$B11=\"\",\"\",IF(Köpek!$C11=\"\",\"\",Köpek!$C11*AQ11*10))","v":""},{"$f":"IF(Köpek!$B11=\"\",\"\",IF(Köpek!$C11=\"\",\"\",Köpek!$C11*AR11*10))","v":""},{"$f":"IF(Köpek!$B11=\"\",\"\",IF(Köpek!$C11=\"\",\"\",Köpek!$C11*AS11*10))","v":""},{"$f":"IF(Köpek!$B11=\"\",\"\",IF(Köpek!$C11=\"\",\"\",Köpek!$C11*AT11*10))","v":""},{"$f":"IF(Köpek!$B11=\"\",\"\",IF(Köpek!$C11=\"\",\"\",Köpek!$C11*AU11*10))","v":""},{"$f":"IF(Köpek!$B11=\"\",\"\",IF(Köpek!$C11=\"\",\"\",Köpek!$C11*AV11*10))","v":""},{"$f":"IF(Köpek!$B11=\"\",\"\",IF(Köpek!$C11=\"\",\"\",Köpek!$C11*AW11*10))","v":""},{"$f":"IF(Köpek!$B11=\"\",\"\",IF(Köpek!$C11=\"\",\"\",Köpek!$C11*AX11*10))","v":""},{"$f":"IF(Köpek!$B11=\"\",\"\",IF(Köpek!$C11=\"\",\"\",Köpek!$C11*AY11*10))","v":""},{"$f":"IF(Köpek!$B11=\"\",\"\",IF(Köpek!$C11=\"\",\"\",Köpek!$C11*AZ11*10))","v":""},{"$f":"IF(Köpek!$B11=\"\",\"\",IF(Köpek!$C11=\"\",\"\",Köpek!$C11*BA11*10))","v":""},{"$f":"IF(Köpek!$B11=\"\",\"\",IF(Köpek!$C11=\"\",\"\",Köpek!$C11*BB11*10000))","v":""},{"$f":"IF(Köpek!$B11=\"\",\"\",IF(Köpek!$C11=\"\",\"\",Köpek!$C11*BC11*10000))","v":""},{"$f":"IF(Köpek!$B11=\"\",\"\",IF(Köpek!$C11=\"\",\"\",Köpek!$C11*BD11*10))","v":""},{"$f":"IF(Köpek!$B11=\"\",\"\",IF(Köpek!$C11=\"\",\"\",Köpek!$C11*BE11*10000))","v":""},{"$f":"IF(Köpek!$B11=\"\",\"\",IF(Köpek!$C11=\"\",\"\",Köpek!$C11*BF11))","v":""},{"$f":"IF(Köpek!$B11=\"\",\"\",IF(Köpek!$C11=\"\",\"\",Köpek!$C11*BG11))","v":""},{"$f":"IF(Köpek!$B11=\"\",\"\",IF(Köpek!$C11=\"\",\"\",Köpek!$C11*BH11))","v":""},{"$f":"IF(Köpek!$B11=\"\",\"\",IF(Köpek!$C11=\"\",\"\",Köpek!$C11*BI11))","v":""},{"$f":"IF(Köpek!$B11=\"\",\"\",IF(Köpek!$C11=\"\",\"\",Köpek!$C11*BJ11*1000))","v":""},{"$f":"IF(Köpek!$B11=\"\",\"\",IF(Köpek!$C11=\"\",\"\",Köpek!$C11*BK11))","v":""},{"$f":"IF(Köpek!$B11=\"\",\"\",IF(Köpek!$C11=\"\",\"\",Köpek!$C11*BL11))","v":""},{"$f":"IF(Köpek!$B11=\"\",\"\",IF(Köpek!$C11=\"\",\"\",Köpek!$C11*BM11))","v":""},{"$f":"IF(Köpek!$B11=\"\",\"\",IF(Köpek!$C11=\"\",\"\",Köpek!$C11*BN11))","v":""},{"$f":"IF(Köpek!$B11=\"\",\"\",IF(Köpek!$C11=\"\",\"\",Köpek!$C11*BO11))","v":""},{"$f":"IF(Köpek!$B11=\"\",\"\",IF(Köpek!$C11=\"\",\"\",Köpek!$C11*BP11))","v":""},{"$f":"IF(Köpek!$B11=\"\",\"\",IF(Köpek!$C11=\"\",\"\",Köpek!$C11*BQ11))","v":""},{"$f":"IF(Köpek!$B11=\"\",\"\",IF(Köpek!$C11=\"\",\"\",Köpek!$C11*BR11))","v":""},{"$f":"IF(Köpek!$B11=\"\",\"\",IF(Köpek!$C11=\"\",\"\",Köpek!$C11*BS11))","v":""},{"$f":"IF(Köpek!$B11=\"\",\"\",IF(Köpek!$C11=\"\",\"\",Köpek!$C11*BT11*1000))","v":""},{"$f":"IF(Köpek!$B11=\"\",\"\",IF(Köpek!$C11=\"\",\"\",Köpek!$C11*BU11*1000))","v":""},{"$f":"IF(Köpek!$B11=\"\",\"\",IF(Köpek!$C11=\"\",\"\",Köpek!$C11*BV11))","v":""},{"$f":"IF(Köpek!$B11=\"\",\"\",IF(Köpek!$C11=\"\",\"\",Köpek!$C11*BW11*10))","v":""},{"$f":"IF(Köpek!$B11=\"\",\"\",IF(Köpek!$C11=\"\",\"\",Köpek!$C11*BX11*10))","v":""},{"$f":"IF(Köpek!$B11=\"\",\"\",IF(Köpek!$C11=\"\",\"\",Köpek!$C11*BY11*10))","v":""},{"$f":"IF(Köpek!$B11=\"\",\"\",IF(Köpek!$C11=\"\",\"\",Köpek!$C11*BZ11*10))","v":""},{"$f":"IF(Köpek!$B11=\"\",\"\",IF(Köpek!$C11=\"\",\"\",Köpek!$C11*CA11*10))","v":""},{"$f":"IF(Köpek!$B11=\"\",\"\",IF(Köpek!$C11=\"\",\"\",Köpek!$C11*CB11*10))","v":""},{"$f":"IF(Köpek!$B11=\"\",\"\",IF(Köpek!$C11=\"\",\"\",Köpek!$C11*CC11))","v":""},null,"Balık,Sazan",23.69,17.829999999999998,5.6,0,1.46,1.27,1.27,0,null,null,0.51700000000000002,0.70399999999999996,null,1.24,0.61,0.96,1.69,1.91,0.62,0.22,0.81,0.7,0.91,0.23,0.126,1.07,4.1000000000000002E-2,0.41499999999999998,null,2.9000000000000001E-2,0.33300000000000002,4.9000000000000002E-2,null,null,1,0.6,12.4,0.4,0.126,14.8,null,650,0.15,16,7,1,1,2,1.5300000000000001E-2,90,null,6,1.1000000000000001,1.4,0.51700000000000002,0.70399999999999996,200,"EO",null,"Yavru sayısı, n",{"$f":"IF(Q7<5,Q7,4)","v":0},null,null,null,null,null,"En çok",{"$f":"    IF(ISERROR(VLOOKUP(SecilenIrk,Hesap!GW3:GZ110,3,FALSE))=TRUE,\"\",VLOOKUP(SecilenIrk,Hesap!GW3:GZ110,3,FALSE))","v":10},null,"Bassett Hound",20,29,24.5,"İri"," 8-12"," 18-27"," 18-27",null,null,1,1,1,1,1,null,"Enerji İhtiyacı",{"$f":"IF(KediTipi=\"Yavru\",  HY2,  IF(KediTipi=\"Yetişkin\",  HZ2,  IF(KediTipi=\"Gebe dişi\", IA2, IF(KediTipi=\"Emziren dişi\",IB2,0)))   )","v":440.35131879405594},null,null,null,null,null,"Bambino",3.9,null,null,1,1,1,1,1]
[{"$f":"Köpek!A12","v":4},{"$f":"Köpek!B12","v":"Ayçiçeği yağı "},{"$f":"Köpek!C12","v":0.01},{"$f":"DB2","v":"Magnezyum, mg "},{"$f":"Köpek!E12","v":74.630319198312861},{"$f":"DB1","v":86.81},{"$f":"IF(E12=0,\"\",   IF(F12<E12*0.99,\"EKSİK\",      IF(F12>E12*1.5,\"FAZLA\",    \"TAMAM\")) )","v":"TAMAM"},{"$f":"(F12/10)/(C2*1000)","v":2.6917829457364345E-2},{"$f":"H12*100/H$3","v":6.0607414616573117E-2},{"$f":"F12*100/$F$5","v":13.95659163987138},null,null,null,null,null,null,null,null,null,null,"Mama seçimi",null,null,null,"Gebe dişi",null,0.01,null,"Ayçiçeği yağı ",0,8.92,8.92,0,0,0,0,0,0,0,0,0,0,0,0,0,100,51.388999999999996,0.1,0,9.5305,51.489000000000004,0,0,0,0,0,0,0,0,0,0,0,0,10.85,0,480.5,0,0,0,0,0,0,0,0,100,0,0,0,0,0,45,null,{"$f":"IF(Köpek!$B12=\"\",\"\",IF(Köpek!$C12=\"\",\"\",Köpek!$C12*AD12*10))","v":0},{"$f":"IF(Köpek!$B12=\"\",\"\",IF(Köpek!$C12=\"\",\"\",   IF(KKSecim=\"Köpek\", Köpek!$C12*AE12*1000, Köpek!$C12*AF12*1000)  )  )","v":89.2},{"$f":"IF(Köpek!$B12=\"\",\"\",IF(Köpek!$C12=\"\",\"\",Köpek!$C12*AG12*10))","v":0},{"$f":"IF(Köpek!$B12=\"\",\"\",IF(Köpek!$C12=\"\",\"\",Köpek!$C12*AH12*10))","v":0},{"$f":"IF(Köpek!$B12=\"\",\"\",IF(Köpek!$C12=\"\",\"\",Köpek!$C12*AI12*10))","v":0},{"$f":"IF(Köpek!$B12=\"\",\"\",IF(Köpek!$C12=\"\",\"\",Köpek!$C12*AJ12*10))","v":0},{"$f":"IF(Köpek!$B12=\"\",\"\",IF(Köpek!$C12=\"\",\"\",Köpek!$C12*AK12*10))","v":0},{"$f":"IF(Köpek!$B12=\"\",\"\",IF(Köpek!$C12=\"\",\"\",Köpek!$C12*AL12*10))","v":0},{"$f":"IF(Köpek!$B12=\"\",\"\",IF(Köpek!$C12=\"\",\"\",Köpek!$C12*AM12*10))","v":0},{"$f":"IF(Köpek!$B12=\"\",\"\",IF(Köpek!$C12=\"\",\"\",Köpek!$C12*AN12*10))","v":0},{"$f":"IF(Köpek!$B12=\"\",\"\",IF(Köpek!$C12=\"\",\"\",Köpek!$C12*AO12*10))","v":0},{"$f":"IF(Köpek!$B12=\"\",\"\",IF(Köpek!$C12=\"\",\"\",Köpek!$C12*AP12*10))","v":0},{"$f":"IF(Köpek!$B12=\"\",\"\",IF(Köpek!$C12=\"\",\"\",Köpek!$C12*AQ12*10))","v":0},{"$f":"IF(Köpek!$B12=\"\",\"\",IF(Köpek!$C12=\"\",\"\",Köpek!$C12*AR12*10))","v":0},{"$f":"IF(Köpek!$B12=\"\",\"\",IF(Köpek!$C12=\"\",\"\",Köpek!$C12*AS12*10))","v":0},{"$f":"IF(Köpek!$B12=\"\",\"\",IF(Köpek!$C12=\"\",\"\",Köpek!$C12*AT12*10))","v":10},{"$f":"IF(Köpek!$B12=\"\",\"\",IF(Köpek!$C12=\"\",\"\",Köpek!$C12*AU12*10))","v":5.1388999999999996},{"$f":"IF(Köpek!$B12=\"\",\"\",IF(Köpek!$C12=\"\",\"\",Köpek!$C12*AV12*10))","v":0.01},{"$f":"IF(Köpek!$B12=\"\",\"\",IF(Köpek!$C12=\"\",\"\",Köpek!$C12*AW12*10))","v":0},{"$f":"IF(Köpek!$B12=\"\",\"\",IF(Köpek!$C12=\"\",\"\",Köpek!$C12*AX12*10))","v":0.95304999999999995},{"$f":"IF(Köpek!$B12=\"\",\"\",IF(Köpek!$C12=\"\",\"\",Köpek!$C12*AY12*10))","v":5.1489000000000011},{"$f":"IF(Köpek!$B12=\"\",\"\",IF(Köpek!$C12=\"\",\"\",Köpek!$C12*AZ12*10))","v":0},{"$f":"IF(Köpek!$B12=\"\",\"\",IF(Köpek!$C12=\"\",\"\",Köpek!$C12*BA12*10))","v":0},{"$f":"IF(Köpek!$B12=\"\",\"\",IF(Köpek!$C12=\"\",\"\",Köpek!$C12*BB12*10000))","v":0},{"$f":"IF(Köpek!$B12=\"\",\"\",IF(Köpek!$C12=\"\",\"\",Köpek!$C12*BC12*10000))","v":0},{"$f":"IF(Köpek!$B12=\"\",\"\",IF(Köpek!$C12=\"\",\"\",Köpek!$C12*BD12*10))","v":0},{"$f":"IF(Köpek!$B12=\"\",\"\",IF(Köpek!$C12=\"\",\"\",Köpek!$C12*BE12*10000))","v":0},{"$f":"IF(Köpek!$B12=\"\",\"\",IF(Köpek!$C12=\"\",\"\",Köpek!$C12*BF12))","v":0},{"$f":"IF(Köpek!$B12=\"\",\"\",IF(Köpek!$C12=\"\",\"\",Köpek!$C12*BG12))","v":0},{"$f":"IF(Köpek!$B12=\"\",\"\",IF(Köpek!$C12=\"\",\"\",Köpek!$C12*BH12))","v":0},{"$f":"IF(Köpek!$B12=\"\",\"\",IF(Köpek!$C12=\"\",\"\",Köpek!$C12*BI12))","v":0},{"$f":"IF(Köpek!$B12=\"\",\"\",IF(Köpek!$C12=\"\",\"\",Köpek!$C12*BJ12*1000))","v":0},{"$f":"IF(Köpek!$B12=\"\",\"\",IF(Köpek!$C12=\"\",\"\",Köpek!$C12*BK12))","v":0},{"$f":"IF(Köpek!$B12=\"\",\"\",IF(Köpek!$C12=\"\",\"\",Köpek!$C12*BL12))","v":0.1085},{"$f":"IF(Köpek!$B12=\"\",\"\",IF(Köpek!$C12=\"\",\"\",Köpek!$C12*BM12))","v":0},{"$f":"IF(Köpek!$B12=\"\",\"\",IF(Köpek!$C12=\"\",\"\",Köpek!$C12*BN12))","v":4.8049999999999997},{"$f":"IF(Köpek!$B12=\"\",\"\",IF(Köpek!$C12=\"\",\"\",Köpek!$C12*BO12))","v":0},{"$f":"IF(Köpek!$B12=\"\",\"\",IF(Köpek!$C12=\"\",\"\",Köpek!$C12*BP12))","v":0},{"$f":"IF(Köpek!$B12=\"\",\"\",IF(Köpek!$C12=\"\",\"\",Köpek!$C12*BQ12))","v":0},{"$f":"IF(Köpek!$B12=\"\",\"\",IF(Köpek!$C12=\"\",\"\",Köpek!$C12*BR12))","v":0},{"$f":"IF(Köpek!$B12=\"\",\"\",IF(Köpek!$C12=\"\",\"\",Köpek!$C12*BS12))","v":0},{"$f":"IF(Köpek!$B12=\"\",\"\",IF(Köpek!$C12=\"\",\"\",Köpek!$C12*BT12*1000))","v":0},{"$f":"IF(Köpek!$B12=\"\",\"\",IF(Köpek!$C12=\"\",\"\",Köpek!$C12*BU12*1000))","v":0},{"$f":"IF(Köpek!$B12=\"\",\"\",IF(Köpek!$C12=\"\",\"\",Köpek!$C12*BV12))","v":0},{"$f":"IF(Köpek!$B12=\"\",\"\",IF(Köpek!$C12=\"\",\"\",Köpek!$C12*BW12*10))","v":10},{"$f":"IF(Köpek!$B12=\"\",\"\",IF(Köpek!$C12=\"\",\"\",Köpek!$C12*BX12*10))","v":0},{"$f":"IF(Köpek!$B12=\"\",\"\",IF(Köpek!$C12=\"\",\"\",Köpek!$C12*BY12*10))","v":0},{"$f":"IF(Köpek!$B12=\"\",\"\",IF(Köpek!$C12=\"\",\"\",Köpek!$C12*BZ12*10))","v":0},{"$f":"IF(Köpek!$B12=\"\",\"\",IF(Köpek!$C12=\"\",\"\",Köpek!$C12*CA12*10))","v":0},{"$f":"IF(Köpek!$B12=\"\",\"\",IF(Köpek!$C12=\"\",\"\",Köpek!$C12*CB12*10))","v":0},{"$f":"IF(Köpek!$B12=\"\",\"\",IF(Köpek!$C12=\"\",\"\",Köpek!$C12*CC12))","v":0.45},null,"Balık, Somon, Atlantik, çiğ",32,18.399999999999999,7.5,0,1.6,1.59,1.59,null,null,null,0.214,0.13700000000000001,null,2.06,0.41199999999999998,0.91300000000000003,1.44,1.65,0.55900000000000005,0.11799999999999999,0.73599999999999999,0.61799999999999999,0.82399999999999995,0.19400000000000001,0.126,1.06,0.02,0.2,null,2.4E-2,0.33,5.7000000000000002E-2,null,null,1.7000000000000002,0.3,8,0.4,0.32200000000000001,10.4,0.05,null,0.26,60,20,1,2.3000000000000003,9.75,6.2E-2,150,300,13,1.3580000000000001,1.9079999999999999,0.249,1.659,350,"EP",null,"Yavru sayısı, m",{"$f":"IF(Q7<5,0,Q7-4)","v":0},null,null,null,null,null,null,null,null,"Beagle",9,11,10,"Orta"," 12-15"," 8-14"," 8-14",null,"Magnezyum, mg ",{"$f":"IF(HI$2=1,HH12,  IF(HI$2=2,HI12,  IF(HI$2=3,HJ12,  IF(HI$2=4,HK12,  \"YOK\")))) * HG$5/1000","v":74.630319198312861},100,100,120,150,null,"Ergin canlı ağırlık, kg",{"$f":"VLOOKUP(KediIrk,HT2:HU71,2,FALSE)","v":4.0999999999999996},null,null,null,null,null,"Bengal",5,null,"Magnezyum, mg ",55.043914849256993,100,100,125,125]
[{"$f":"Köpek!A13","v":0},{"$f":"Köpek!B13","v":0},{"$f":"Köpek!C13","v":0},{"$f":"DC2","v":"Sodyum, mg"},{"$f":"Köpek!E13","v":124.38386533052145},{"$f":"DC1","v":139.714},{"$f":"IF(E13=0,\"\",   IF(F13<E13*0.99,\"EKSİK\",      IF(F13>E13*1.05,\"FAZLA\",    \"TAMAM\")) )","v":"FAZLA"},{"$f":"(F13/10)/(C2*1000)","v":4.3322170542635659E-2},9.7542959632990395E-2,22.4620578778135,null,null,null,null,"Mama seçimi",null,{"$f":"VLOOKUP(CONCATENATE(KopekTipi,KopekHareket,IF(KopekYas<14,\"Küçük\",\"Büyük\")),MamaSec,2,FALSE)","v":2},null,{"$f":"VLOOKUP(CONCATENATE(KediTipi,KediHareket,IF(KediYas<14,\"Küçük\",\"Büyük\")),MamaSec,2,FALSE)","v":4},null,"YavruİnaktifKüçük",3,null,null,"Emziren dişi",null,0,null,0,{"$f":"IF($AC13=0,\"\",VLOOKUP($AC13,$EE$3:$GJ$510,AD$1,FALSE))","v":""},"","","","","","","","","",{"$f":"IF($AC13=0,\"\",VLOOKUP($AC13,$EE$3:$GJ$510,AN$1,FALSE))","v":""},"","","","","","","","","",{"$f":"IF($AC13=0,\"\",VLOOKUP($AC13,$EE$3:$GJ$510,AX$1,FALSE))","v":""},"","","","","","","","","",{"$f":"IF($AC13=0,\"\",VLOOKUP($AC13,$EE$3:$GJ$510,BH$1,FALSE))","v":""},"","","","","","","","","",{"$f":"IF($AC13=0,\"\",VLOOKUP($AC13,$EE$3:$GJ$510,BR$1,FALSE))","v":""},"","","","","","","","","","","",null,{"$f":"IF(Köpek!$B13=\"\",\"\",IF(Köpek!$C13=\"\",\"\",Köpek!$C13*AD13*10))","v":""},{"$f":"IF(Köpek!$B13=\"\",\"\",IF(Köpek!$C13=\"\",\"\",   IF(KKSecim=\"Köpek\", Köpek!$C13*AE13*1000, Köpek!$C13*AF13*1000)  )  )","v":""},{"$f":"IF(Köpek!$B13=\"\",\"\",IF(Köpek!$C13=\"\",\"\",Köpek!$C13*AG13*10))","v":""},{"$f":"IF(Köpek!$B13=\"\",\"\",IF(Köpek!$C13=\"\",\"\",Köpek!$C13*AH13*10))","v":""},{"$f":"IF(Köpek!$B13=\"\",\"\",IF(Köpek!$C13=\"\",\"\",Köpek!$C13*AI13*10))","v":""},{"$f":"IF(Köpek!$B13=\"\",\"\",IF(Köpek!$C13=\"\",\"\",Köpek!$C13*AJ13*10))","v":""},{"$f":"IF(Köpek!$B13=\"\",\"\",IF(Köpek!$C13=\"\",\"\",Köpek!$C13*AK13*10))","v":""},{"$f":"IF(Köpek!$B13=\"\",\"\",IF(Köpek!$C13=\"\",\"\",Köpek!$C13*AL13*10))","v":""},{"$f":"IF(Köpek!$B13=\"\",\"\",IF(Köpek!$C13=\"\",\"\",Köpek!$C13*AM13*10))","v":""},{"$f":"IF(Köpek!$B13=\"\",\"\",IF(Köpek!$C13=\"\",\"\",Köpek!$C13*AN13*10))","v":""},{"$f":"IF(Köpek!$B13=\"\",\"\",IF(Köpek!$C13=\"\",\"\",Köpek!$C13*AO13*10))","v":""},{"$f":"IF(Köpek!$B13=\"\",\"\",IF(Köpek!$C13=\"\",\"\",Köpek!$C13*AP13*10))","v":""},{"$f":"IF(Köpek!$B13=\"\",\"\",IF(Köpek!$C13=\"\",\"\",Köpek!$C13*AQ13*10))","v":""},{"$f":"IF(Köpek!$B13=\"\",\"\",IF(Köpek!$C13=\"\",\"\",Köpek!$C13*AR13*10))","v":""},{"$f":"IF(Köpek!$B13=\"\",\"\",IF(Köpek!$C13=\"\",\"\",Köpek!$C13*AS13*10))","v":""},{"$f":"IF(Köpek!$B13=\"\",\"\",IF(Köpek!$C13=\"\",\"\",Köpek!$C13*AT13*10))","v":""},{"$f":"IF(Köpek!$B13=\"\",\"\",IF(Köpek!$C13=\"\",\"\",Köpek!$C13*AU13*10))","v":""},{"$f":"IF(Köpek!$B13=\"\",\"\",IF(Köpek!$C13=\"\",\"\",Köpek!$C13*AV13*10))","v":""},{"$f":"IF(Köpek!$B13=\"\",\"\",IF(Köpek!$C13=\"\",\"\",Köpek!$C13*AW13*10))","v":""},{"$f":"IF(Köpek!$B13=\"\",\"\",IF(Köpek!$C13=\"\",\"\",Köpek!$C13*AX13*10))","v":""},{"$f":"IF(Köpek!$B13=\"\",\"\",IF(Köpek!$C13=\"\",\"\",Köpek!$C13*AY13*10))","v":""},{"$f":"IF(Köpek!$B13=\"\",\"\",IF(Köpek!$C13=\"\",\"\",Köpek!$C13*AZ13*10))","v":""},{"$f":"IF(Köpek!$B13=\"\",\"\",IF(Köpek!$C13=\"\",\"\",Köpek!$C13*BA13*10))","v":""},{"$f":"IF(Köpek!$B13=\"\",\"\",IF(Köpek!$C13=\"\",\"\",Köpek!$C13*BB13*10000))","v":""},{"$f":"IF(Köpek!$B13=\"\",\"\",IF(Köpek!$C13=\"\",\"\",Köpek!$C13*BC13*10000))","v":""},{"$f":"IF(Köpek!$B13=\"\",\"\",IF(Köpek!$C13=\"\",\"\",Köpek!$C13*BD13*10))","v":""},{"$f":"IF(Köpek!$B13=\"\",\"\",IF(Köpek!$C13=\"\",\"\",Köpek!$C13*BE13*10000))","v":""},{"$f":"IF(Köpek!$B13=\"\",\"\",IF(Köpek!$C13=\"\",\"\",Köpek!$C13*BF13))","v":""},{"$f":"IF(Köpek!$B13=\"\",\"\",IF(Köpek!$C13=\"\",\"\",Köpek!$C13*BG13))","v":""},{"$f":"IF(Köpek!$B13=\"\",\"\",IF(Köpek!$C13=\"\",\"\",Köpek!$C13*BH13))","v":""},{"$f":"IF(Köpek!$B13=\"\",\"\",IF(Köpek!$C13=\"\",\"\",Köpek!$C13*BI13))","v":""},{"$f":"IF(Köpek!$B13=\"\",\"\",IF(Köpek!$C13=\"\",\"\",Köpek!$C13*BJ13*1000))","v":""},{"$f":"IF(Köpek!$B13=\"\",\"\",IF(Köpek!$C13=\"\",\"\",Köpek!$C13*BK13))","v":""},{"$f":"IF(Köpek!$B13=\"\",\"\",IF(Köpek!$C13=\"\",\"\",Köpek!$C13*BL13))","v":""},{"$f":"IF(Köpek!$B13=\"\",\"\",IF(Köpek!$C13=\"\",\"\",Köpek!$C13*BM13))","v":""},{"$f":"IF(Köpek!$B13=\"\",\"\",IF(Köpek!$C13=\"\",\"\",Köpek!$C13*BN13))","v":""},{"$f":"IF(Köpek!$B13=\"\",\"\",IF(Köpek!$C13=\"\",\"\",Köpek!$C13*BO13))","v":""},{"$f":"IF(Köpek!$B13=\"\",\"\",IF(Köpek!$C13=\"\",\"\",Köpek!$C13*BP13))","v":""},{"$f":"IF(Köpek!$B13=\"\",\"\",IF(Köpek!$C13=\"\",\"\",Köpek!$C13*BQ13))","v":""},{"$f":"IF(Köpek!$B13=\"\",\"\",IF(Köpek!$C13=\"\",\"\",Köpek!$C13*BR13))","v":""},{"$f":"IF(Köpek!$B13=\"\",\"\",IF(Köpek!$C13=\"\",\"\",Köpek!$C13*BS13))","v":""},{"$f":"IF(Köpek!$B13=\"\",\"\",IF(Köpek!$C13=\"\",\"\",Köpek!$C13*BT13*1000))","v":""},{"$f":"IF(Köpek!$B13=\"\",\"\",IF(Köpek!$C13=\"\",\"\",Köpek!$C13*BU13*1000))","v":""},{"$f":"IF(Köpek!$B13=\"\",\"\",IF(Köpek!$C13=\"\",\"\",Köpek!$C13*BV13))","v":""},{"$f":"IF(Köpek!$B13=\"\",\"\",IF(Köpek!$C13=\"\",\"\",Köpek!$C13*BW13*10))","v":""},{"$f":"IF(Köpek!$B13=\"\",\"\",IF(Köpek!$C13=\"\",\"\",Köpek!$C13*BX13*10))","v":""},{"$f":"IF(Köpek!$B13=\"\",\"\",IF(Köpek!$C13=\"\",\"\",Köpek!$C13*BY13*10))","v":""},{"$f":"IF(Köpek!$B13=\"\",\"\",IF(Köpek!$C13=\"\",\"\",Köpek!$C13*BZ13*10))","v":""},{"$f":"IF(Köpek!$B13=\"\",\"\",IF(Köpek!$C13=\"\",\"\",Köpek!$C13*CA13*10))","v":""},{"$f":"IF(Köpek!$B13=\"\",\"\",IF(Köpek!$C13=\"\",\"\",Köpek!$C13*CB13*10))","v":""},{"$f":"IF(Köpek!$B13=\"\",\"\",IF(Köpek!$C13=\"\",\"\",Köpek!$C13*CC13))","v":""},null,"Balık, Somon, Atlantik, kültür, çiğ",35.299999999999997,15.8,18.3,0,1.1000000000000001,2.2799999999999998,2.2799999999999998,null,null,null,2.0489999999999999,0.90800000000000003,null,2.1800000000000002,0.436,0.96599999999999997,1.53,1.75,0.59199999999999997,0.125,0.77900000000000003,0.65500000000000003,0.873,0.20599999999999999,0.126,1.1200000000000001,8.6800000000000002E-3,0.219,null,2.5600000000000001E-2,0.36199999999999999,4.6799999999999994E-2,0.13100000000000001,null,0.379,2.7400000000000001E-2,2.2200000000000002,2.29E-2,0.16600000000000001,3.17,2.75E-2,null,0,76.5,8.1000000000000014,0.70000000000000007,2.5,6.35,4.0999999999999995E-2,70.5,96.6,33,2.206,4.5030000000000001,2.2290000000000001,2.274,350,"EQ",null,"Yetişkin, aktif, b değeri",{"$f":"VLOOKUP(GN16,GR38:GS51,2) + IF(LEFT(Q6,5)=\"Danua\", 60, IF(LEFT(Q6,7)=\"Terrier\",40,0))","v":185},{"$f":"0.0012*Q4^5 - 0.0514*Q4^4 + 0.8431*Q4^3 - 6.4413*Q4^2 + 18.908*Q4 + 126.87","v":144.51420000000002},"hesaplama",null,null,"KEDİ","Ortalama",{"$f":"IF(ISERROR(VLOOKUP(SecilenIrk,Hesap!HT2:HU79,2,FALSE))=TRUE,\"\",VLOOKUP(SecilenIrk,Hesap!HT2:HU79,2,FALSE))","v":""},null,"Belçika kurdu",28,28,28,"İri",null,null,null,null,"Sodyum, mg",{"$f":"IF(HI$2=1,HH13,  IF(HI$2=2,HI13,  IF(HI$2=3,HJ13,  IF(HI$2=4,HK13,  \"YOK\")))) * HG$5/1000","v":124.38386533052145},550,550,200,500,null,"Laktasyon Süresi Katsayısı",{"$f":"VLOOKUP(KediLakSure,HQ15:HR21,2,FALSE)","v":1.2},null,null,null,null,null,"Birman",4.5,null,"Sodyum, mg",295.03538359201747,350,170,670,670]
[{"$f":"Köpek!A14","v":0},{"$f":"Köpek!B14","v":0},{"$f":"Köpek!C14","v":0},{"$f":"CR2","v":"Taurin, g "},{"$f":"Köpek!E14","v":0},{"$f":"CR1","v":3.3000000000000002E-2},{"$f":"IF(E14=0,\"\",   IF(F14<E14*0.99,\"EKSİK\",      IF(F14>E14*1.2,\"FAZLA\",    \"TAMAM\")) )","v":""},{"$f":"(F14*100)/(C2*1000)","v":1.0232558139534885E-2},2.3039335126677947E-2,5.3054662379421217E-3,null,null,null,null,null,null,null,null,null,null,"YetişkinİnaktifKüçük",1,null,null,null,null,0,null,0,"","","","","","","","","","","","","","","","","","","","","","","","","","","","","","","","","","","","","","","","","","","","","","","","","","","","",null,{"$f":"IF(Köpek!$B14=\"\",\"\",IF(Köpek!$C14=\"\",\"\",Köpek!$C14*AD14*10))","v":""},{"$f":"IF(Köpek!$B14=\"\",\"\",IF(Köpek!$C14=\"\",\"\",   IF(KKSecim=\"Köpek\", Köpek!$C14*AE14*1000, Köpek!$C14*AF14*1000)  )  )","v":""},{"$f":"IF(Köpek!$B14=\"\",\"\",IF(Köpek!$C14=\"\",\"\",Köpek!$C14*AG14*10))","v":""},{"$f":"IF(Köpek!$B14=\"\",\"\",IF(Köpek!$C14=\"\",\"\",Köpek!$C14*AH14*10))","v":""},{"$f":"IF(Köpek!$B14=\"\",\"\",IF(Köpek!$C14=\"\",\"\",Köpek!$C14*AI14*10))","v":""},{"$f":"IF(Köpek!$B14=\"\",\"\",IF(Köpek!$C14=\"\",\"\",Köpek!$C14*AJ14*10))","v":""},{"$f":"IF(Köpek!$B14=\"\",\"\",IF(Köpek!$C14=\"\",\"\",Köpek!$C14*AK14*10))","v":""},{"$f":"IF(Köpek!$B14=\"\",\"\",IF(Köpek!$C14=\"\",\"\",Köpek!$C14*AL14*10))","v":""},{"$f":"IF(Köpek!$B14=\"\",\"\",IF(Köpek!$C14=\"\",\"\",Köpek!$C14*AM14*10))","v":""},{"$f":"IF(Köpek!$B14=\"\",\"\",IF(Köpek!$C14=\"\",\"\",Köpek!$C14*AN14*10))","v":""},{"$f":"IF(Köpek!$B14=\"\",\"\",IF(Köpek!$C14=\"\",\"\",Köpek!$C14*AO14*10))","v":""},{"$f":"IF(Köpek!$B14=\"\",\"\",IF(Köpek!$C14=\"\",\"\",Köpek!$C14*AP14*10))","v":""},{"$f":"IF(Köpek!$B14=\"\",\"\",IF(Köpek!$C14=\"\",\"\",Köpek!$C14*AQ14*10))","v":""},{"$f":"IF(Köpek!$B14=\"\",\"\",IF(Köpek!$C14=\"\",\"\",Köpek!$C14*AR14*10))","v":""},{"$f":"IF(Köpek!$B14=\"\",\"\",IF(Köpek!$C14=\"\",\"\",Köpek!$C14*AS14*10))","v":""},{"$f":"IF(Köpek!$B14=\"\",\"\",IF(Köpek!$C14=\"\",\"\",Köpek!$C14*AT14*10))","v":""},{"$f":"IF(Köpek!$B14=\"\",\"\",IF(Köpek!$C14=\"\",\"\",Köpek!$C14*AU14*10))","v":""},{"$f":"IF(Köpek!$B14=\"\",\"\",IF(Köpek!$C14=\"\",\"\",Köpek!$C14*AV14*10))","v":""},{"$f":"IF(Köpek!$B14=\"\",\"\",IF(Köpek!$C14=\"\",\"\",Köpek!$C14*AW14*10))","v":""},{"$f":"IF(Köpek!$B14=\"\",\"\",IF(Köpek!$C14=\"\",\"\",Köpek!$C14*AX14*10))","v":""},{"$f":"IF(Köpek!$B14=\"\",\"\",IF(Köpek!$C14=\"\",\"\",Köpek!$C14*AY14*10))","v":""},{"$f":"IF(Köpek!$B14=\"\",\"\",IF(Köpek!$C14=\"\",\"\",Köpek!$C14*AZ14*10))","v":""},{"$f":"IF(Köpek!$B14=\"\",\"\",IF(Köpek!$C14=\"\",\"\",Köpek!$C14*BA14*10))","v":""},{"$f":"IF(Köpek!$B14=\"\",\"\",IF(Köpek!$C14=\"\",\"\",Köpek!$C14*BB14*10000))","v":""},{"$f":"IF(Köpek!$B14=\"\",\"\",IF(Köpek!$C14=\"\",\"\",Köpek!$C14*BC14*10000))","v":""},{"$f":"IF(Köpek!$B14=\"\",\"\",IF(Köpek!$C14=\"\",\"\",Köpek!$C14*BD14*10))","v":""},{"$f":"IF(Köpek!$B14=\"\",\"\",IF(Köpek!$C14=\"\",\"\",Köpek!$C14*BE14*10000))","v":""},{"$f":"IF(Köpek!$B14=\"\",\"\",IF(Köpek!$C14=\"\",\"\",Köpek!$C14*BF14))","v":""},{"$f":"IF(Köpek!$B14=\"\",\"\",IF(Köpek!$C14=\"\",\"\",Köpek!$C14*BG14))","v":""},{"$f":"IF(Köpek!$B14=\"\",\"\",IF(Köpek!$C14=\"\",\"\",Köpek!$C14*BH14))","v":""},{"$f":"IF(Köpek!$B14=\"\",\"\",IF(Köpek!$C14=\"\",\"\",Köpek!$C14*BI14))","v":""},{"$f":"IF(Köpek!$B14=\"\",\"\",IF(Köpek!$C14=\"\",\"\",Köpek!$C14*BJ14*1000))","v":""},{"$f":"IF(Köpek!$B14=\"\",\"\",IF(Köpek!$C14=\"\",\"\",Köpek!$C14*BK14))","v":""},{"$f":"IF(Köpek!$B14=\"\",\"\",IF(Köpek!$C14=\"\",\"\",Köpek!$C14*BL14))","v":""},{"$f":"IF(Köpek!$B14=\"\",\"\",IF(Köpek!$C14=\"\",\"\",Köpek!$C14*BM14))","v":""},{"$f":"IF(Köpek!$B14=\"\",\"\",IF(Köpek!$C14=\"\",\"\",Köpek!$C14*BN14))","v":""},{"$f":"IF(Köpek!$B14=\"\",\"\",IF(Köpek!$C14=\"\",\"\",Köpek!$C14*BO14))","v":""},{"$f":"IF(Köpek!$B14=\"\",\"\",IF(Köpek!$C14=\"\",\"\",Köpek!$C14*BP14))","v":""},{"$f":"IF(Köpek!$B14=\"\",\"\",IF(Köpek!$C14=\"\",\"\",Köpek!$C14*BQ14))","v":""},{"$f":"IF(Köpek!$B14=\"\",\"\",IF(Köpek!$C14=\"\",\"\",Köpek!$C14*BR14))","v":""},{"$f":"IF(Köpek!$B14=\"\",\"\",IF(Köpek!$C14=\"\",\"\",Köpek!$C14*BS14))","v":""},{"$f":"IF(Köpek!$B14=\"\",\"\",IF(Köpek!$C14=\"\",\"\",Köpek!$C14*BT14*1000))","v":""},{"$f":"IF(Köpek!$B14=\"\",\"\",IF(Köpek!$C14=\"\",\"\",Köpek!$C14*BU14*1000))","v":""},{"$f":"IF(Köpek!$B14=\"\",\"\",IF(Köpek!$C14=\"\",\"\",Köpek!$C14*BV14))","v":""},{"$f":"IF(Köpek!$B14=\"\",\"\",IF(Köpek!$C14=\"\",\"\",Köpek!$C14*BW14*10))","v":""},{"$f":"IF(Köpek!$B14=\"\",\"\",IF(Köpek!$C14=\"\",\"\",Köpek!$C14*BX14*10))","v":""},{"$f":"IF(Köpek!$B14=\"\",\"\",IF(Köpek!$C14=\"\",\"\",Köpek!$C14*BY14*10))","v":""},{"$f":"IF(Köpek!$B14=\"\",\"\",IF(Köpek!$C14=\"\",\"\",Köpek!$C14*BZ14*10))","v":""},{"$f":"IF(Köpek!$B14=\"\",\"\",IF(Köpek!$C14=\"\",\"\",Köpek!$C14*CA14*10))","v":""},{"$f":"IF(Köpek!$B14=\"\",\"\",IF(Köpek!$C14=\"\",\"\",Köpek!$C14*CB14*10))","v":""},{"$f":"IF(Köpek!$B14=\"\",\"\",IF(Köpek!$C14=\"\",\"\",Köpek!$C14*CC14))","v":""},null,"Balık unu, % 63 HP",91.2,62.5,9.5,1,18,3.72,3.67,null,null,null,4.4800000000000004,0.94,2.4,3.64,1.64,2.48,4.46,4.74,1.73,0.53,2,null,2.69,0.57999999999999996,0.32,2.91,4.87,2.78,2.61,0.18,0.68,0.62,0.75,1.04,6.41,2,518,29,2.06,102,0.15,3080,1,55,8.8000000000000007,4.8,0.2,5,0.08,null,null,5.7,null,null,null,null,130,"ER",null,"Yetişkin, İnaktif, b değeri",{"$f":"VLOOKUP(GN16,GR38:GU51,4) + IF(Q6=\"Great Dane\", 60, IF(Q6=\"Terier\",40,0))","v":126.15},{"$f":" 0.0023*Q4^5 - 0.0988*Q4^4 + 1.5871*Q4^3 - 11.338*Q4^2 + 28.512*Q4 + 107.41","v":126.31180000000001},"hesaplama",null,null,null,null,null,null,"Bernese Mountain Dog",36,50,43,"İri",null,null,null,null,null,null,null,null,null,null,null,"Yavru Sayısı Katsayısı",{"$f":"IF(KediYavruSay>0,  IF(KediYavruSay<3,18,  KediYavruSay*21-24), 0)","v":39},null,null,"hafta","katsayı",null,"Bombay",4.5,null,"Taurin (g) ",5.8346549740212417E-2,0.1,0.1,0.13250000000000001,0.13250000000000001]
[{"$f":"Köpek!A15","v":0},{"$f":"Köpek!B15","v":0},{"$f":"Köpek!C15","v":0},{"$f":"CT2","v":"Yağ, g "},{"$f":"Köpek!E15","v":8.5513907414733499},{"$f":"CT1","v":13.8871},{"$f":"IF(E15=0,\"\",   IF(F15<E15*0.99,\"EKSİK\",      IF(F15>E15*1.5,\"FAZLA\",    \"TAMAM\")) )","v":"FAZLA"},{"$f":"(F15*100)/(C2*1000)","v":4.3060775193798451},9.6954409344754353,2.2326527331189707,null,null,null,null,null,null,null,null,null,null,"Gebe dişiİnaktifKüçük",4,null,null,null,null,0,null,0,"","","","","","","","","","","","","","","","","","","","","","","","","","","","","","","","","","","","","","","","","","","","","","","","","","","","",null,{"$f":"IF(Köpek!$B15=\"\",\"\",IF(Köpek!$C15=\"\",\"\",Köpek!$C15*AD15*10))","v":""},{"$f":"IF(Köpek!$B15=\"\",\"\",IF(Köpek!$C15=\"\",\"\",   IF(KKSecim=\"Köpek\", Köpek!$C15*AE15*1000, Köpek!$C15*AF15*1000)  )  )","v":""},{"$f":"IF(Köpek!$B15=\"\",\"\",IF(Köpek!$C15=\"\",\"\",Köpek!$C15*AG15*10))","v":""},{"$f":"IF(Köpek!$B15=\"\",\"\",IF(Köpek!$C15=\"\",\"\",Köpek!$C15*AH15*10))","v":""},{"$f":"IF(Köpek!$B15=\"\",\"\",IF(Köpek!$C15=\"\",\"\",Köpek!$C15*AI15*10))","v":""},{"$f":"IF(Köpek!$B15=\"\",\"\",IF(Köpek!$C15=\"\",\"\",Köpek!$C15*AJ15*10))","v":""},{"$f":"IF(Köpek!$B15=\"\",\"\",IF(Köpek!$C15=\"\",\"\",Köpek!$C15*AK15*10))","v":""},{"$f":"IF(Köpek!$B15=\"\",\"\",IF(Köpek!$C15=\"\",\"\",Köpek!$C15*AL15*10))","v":""},{"$f":"IF(Köpek!$B15=\"\",\"\",IF(Köpek!$C15=\"\",\"\",Köpek!$C15*AM15*10))","v":""},{"$f":"IF(Köpek!$B15=\"\",\"\",IF(Köpek!$C15=\"\",\"\",Köpek!$C15*AN15*10))","v":""},{"$f":"IF(Köpek!$B15=\"\",\"\",IF(Köpek!$C15=\"\",\"\",Köpek!$C15*AO15*10))","v":""},{"$f":"IF(Köpek!$B15=\"\",\"\",IF(Köpek!$C15=\"\",\"\",Köpek!$C15*AP15*10))","v":""},{"$f":"IF(Köpek!$B15=\"\",\"\",IF(Köpek!$C15=\"\",\"\",Köpek!$C15*AQ15*10))","v":""},{"$f":"IF(Köpek!$B15=\"\",\"\",IF(Köpek!$C15=\"\",\"\",Köpek!$C15*AR15*10))","v":""},{"$f":"IF(Köpek!$B15=\"\",\"\",IF(Köpek!$C15=\"\",\"\",Köpek!$C15*AS15*10))","v":""},{"$f":"IF(Köpek!$B15=\"\",\"\",IF(Köpek!$C15=\"\",\"\",Köpek!$C15*AT15*10))","v":""},{"$f":"IF(Köpek!$B15=\"\",\"\",IF(Köpek!$C15=\"\",\"\",Köpek!$C15*AU15*10))","v":""},{"$f":"IF(Köpek!$B15=\"\",\"\",IF(Köpek!$C15=\"\",\"\",Köpek!$C15*AV15*10))","v":""},{"$f":"IF(Köpek!$B15=\"\",\"\",IF(Köpek!$C15=\"\",\"\",Köpek!$C15*AW15*10))","v":""},{"$f":"IF(Köpek!$B15=\"\",\"\",IF(Köpek!$C15=\"\",\"\",Köpek!$C15*AX15*10))","v":""},{"$f":"IF(Köpek!$B15=\"\",\"\",IF(Köpek!$C15=\"\",\"\",Köpek!$C15*AY15*10))","v":""},{"$f":"IF(Köpek!$B15=\"\",\"\",IF(Köpek!$C15=\"\",\"\",Köpek!$C15*AZ15*10))","v":""},{"$f":"IF(Köpek!$B15=\"\",\"\",IF(Köpek!$C15=\"\",\"\",Köpek!$C15*BA15*10))","v":""},{"$f":"IF(Köpek!$B15=\"\",\"\",IF(Köpek!$C15=\"\",\"\",Köpek!$C15*BB15*10000))","v":""},{"$f":"IF(Köpek!$B15=\"\",\"\",IF(Köpek!$C15=\"\",\"\",Köpek!$C15*BC15*10000))","v":""},{"$f":"IF(Köpek!$B15=\"\",\"\",IF(Köpek!$C15=\"\",\"\",Köpek!$C15*BD15*10))","v":""},{"$f":"IF(Köpek!$B15=\"\",\"\",IF(Köpek!$C15=\"\",\"\",Köpek!$C15*BE15*10000))","v":""},{"$f":"IF(Köpek!$B15=\"\",\"\",IF(Köpek!$C15=\"\",\"\",Köpek!$C15*BF15))","v":""},{"$f":"IF(Köpek!$B15=\"\",\"\",IF(Köpek!$C15=\"\",\"\",Köpek!$C15*BG15))","v":""},{"$f":"IF(Köpek!$B15=\"\",\"\",IF(Köpek!$C15=\"\",\"\",Köpek!$C15*BH15))","v":""},{"$f":"IF(Köpek!$B15=\"\",\"\",IF(Köpek!$C15=\"\",\"\",Köpek!$C15*BI15))","v":""},{"$f":"IF(Köpek!$B15=\"\",\"\",IF(Köpek!$C15=\"\",\"\",Köpek!$C15*BJ15*1000))","v":""},{"$f":"IF(Köpek!$B15=\"\",\"\",IF(Köpek!$C15=\"\",\"\",Köpek!$C15*BK15))","v":""},{"$f":"IF(Köpek!$B15=\"\",\"\",IF(Köpek!$C15=\"\",\"\",Köpek!$C15*BL15))","v":""},{"$f":"IF(Köpek!$B15=\"\",\"\",IF(Köpek!$C15=\"\",\"\",Köpek!$C15*BM15))","v":""},{"$f":"IF(Köpek!$B15=\"\",\"\",IF(Köpek!$C15=\"\",\"\",Köpek!$C15*BN15))","v":""},{"$f":"IF(Köpek!$B15=\"\",\"\",IF(Köpek!$C15=\"\",\"\",Köpek!$C15*BO15))","v":""},{"$f":"IF(Köpek!$B15=\"\",\"\",IF(Köpek!$C15=\"\",\"\",Köpek!$C15*BP15))","v":""},{"$f":"IF(Köpek!$B15=\"\",\"\",IF(Köpek!$C15=\"\",\"\",Köpek!$C15*BQ15))","v":""},{"$f":"IF(Köpek!$B15=\"\",\"\",IF(Köpek!$C15=\"\",\"\",Köpek!$C15*BR15))","v":""},{"$f":"IF(Köpek!$B15=\"\",\"\",IF(Köpek!$C15=\"\",\"\",Köpek!$C15*BS15))","v":""},{"$f":"IF(Köpek!$B15=\"\",\"\",IF(Köpek!$C15=\"\",\"\",Köpek!$C15*BT15*1000))","v":""},{"$f":"IF(Köpek!$B15=\"\",\"\",IF(Köpek!$C15=\"\",\"\",Köpek!$C15*BU15*1000))","v":""},{"$f":"IF(Köpek!$B15=\"\",\"\",IF(Köpek!$C15=\"\",\"\",Köpek!$C15*BV15))","v":""},{"$f":"IF(Köpek!$B15=\"\",\"\",IF(Köpek!$C15=\"\",\"\",Köpek!$C15*BW15*10))","v":""},{"$f":"IF(Köpek!$B15=\"\",\"\",IF(Köpek!$C15=\"\",\"\",Köpek!$C15*BX15*10))","v":""},{"$f":"IF(Köpek!$B15=\"\",\"\",IF(Köpek!$C15=\"\",\"\",Köpek!$C15*BY15*10))","v":""},{"$f":"IF(Köpek!$B15=\"\",\"\",IF(Köpek!$C15=\"\",\"\",Köpek!$C15*BZ15*10))","v":""},{"$f":"IF(Köpek!$B15=\"\",\"\",IF(Köpek!$C15=\"\",\"\",Köpek!$C15*CA15*10))","v":""},{"$f":"IF(Köpek!$B15=\"\",\"\",IF(Köpek!$C15=\"\",\"\",Köpek!$C15*CB15*10))","v":""},{"$f":"IF(Köpek!$B15=\"\",\"\",IF(Köpek!$C15=\"\",\"\",Köpek!$C15*CC15))","v":""},null,"Balık unu, % 53 HP ",93,53,11,5,25,3.35,3.3,null,null,null,null,null,2.4,3.2,1.8,2.4,3.8,3.9,1.5,0.4,2.5,null,2.5,0.71,0.32,2.8,8.4,4.2,4.2,0.3,0.4,0.7,null,null,6,2,650,10,4,240,null,3050,0.24,65,8.8000000000000007,8.8000000000000007,null,4,0.14000000000000001,null,null,5.6,null,null,null,null,100,"ES",null,"Yaş katsayısı",{"$f":"IF(GN18<10,14/12, IF(GN18<20,14/10, IF(GN18<50,14/9,14/7)))","v":1.1666666666666667},null,null,null,null,null,null,null,null,"Bichon Frise",3,5,4,"Küçük",null,null,null,null,"Yağ, g ",{"$f":"IF(HI$2=1,HH15,  IF(HI$2=2,HI15,  IF(HI$2=3,HJ15,  IF(HI$2=4,HK15,  \"YOK\")))) * HG$5/1000","v":8.5513907414733499},21.3,21.3,13.75,21.25,null,"Gebelik Süresi Katsayısı",{"$f":"50 / 9","v":5.5555555555555554},null,null,1,0.9,null,"British SH",4.8,null,"Yağ, g ",9.9079046728662572,22.5,22.5,22.5,22.5]
[{"$f":"Köpek!A16","v":0},{"$f":"Köpek!B16","v":0},{"$f":"Köpek!C16","v":0},{"$f":"CU2","v":"Linoleik asit, g "},{"$f":"Köpek!E16","v":1.7102781482946698},{"$f":"CU1","v":5.6434999999999995},{"$f":"IF(E16=0,\"\",   IF(F16<E16*0.99,\"EKSİK\",      IF(F16>E16*1.5,\"FAZLA\",    \"TAMAM\")) )","v":"FAZLA"},{"$f":"(F16*100)/(C2*1000)","v":1.7499224806201548},3.9400753874971812,0.90731511254019259,null,null,null,null,null,null,null,null,null,null,"Emziren dişiİnaktifKüçük",4,null,null,"Hareketlilik",null,0,null,0,"","","","","","","","","","","","","","","","","","","","","","","","","","","","","","","","","","","","","","","","","","","","","","","","","","","","",null,{"$f":"IF(Köpek!$B16=\"\",\"\",IF(Köpek!$C16=\"\",\"\",Köpek!$C16*AD16*10))","v":""},{"$f":"IF(Köpek!$B16=\"\",\"\",IF(Köpek!$C16=\"\",\"\",   IF(KKSecim=\"Köpek\", Köpek!$C16*AE16*1000, Köpek!$C16*AF16*1000)  )  )","v":""},{"$f":"IF(Köpek!$B16=\"\",\"\",IF(Köpek!$C16=\"\",\"\",Köpek!$C16*AG16*10))","v":""},{"$f":"IF(Köpek!$B16=\"\",\"\",IF(Köpek!$C16=\"\",\"\",Köpek!$C16*AH16*10))","v":""},{"$f":"IF(Köpek!$B16=\"\",\"\",IF(Köpek!$C16=\"\",\"\",Köpek!$C16*AI16*10))","v":""},{"$f":"IF(Köpek!$B16=\"\",\"\",IF(Köpek!$C16=\"\",\"\",Köpek!$C16*AJ16*10))","v":""},{"$f":"IF(Köpek!$B16=\"\",\"\",IF(Köpek!$C16=\"\",\"\",Köpek!$C16*AK16*10))","v":""},{"$f":"IF(Köpek!$B16=\"\",\"\",IF(Köpek!$C16=\"\",\"\",Köpek!$C16*AL16*10))","v":""},{"$f":"IF(Köpek!$B16=\"\",\"\",IF(Köpek!$C16=\"\",\"\",Köpek!$C16*AM16*10))","v":""},{"$f":"IF(Köpek!$B16=\"\",\"\",IF(Köpek!$C16=\"\",\"\",Köpek!$C16*AN16*10))","v":""},{"$f":"IF(Köpek!$B16=\"\",\"\",IF(Köpek!$C16=\"\",\"\",Köpek!$C16*AO16*10))","v":""},{"$f":"IF(Köpek!$B16=\"\",\"\",IF(Köpek!$C16=\"\",\"\",Köpek!$C16*AP16*10))","v":""},{"$f":"IF(Köpek!$B16=\"\",\"\",IF(Köpek!$C16=\"\",\"\",Köpek!$C16*AQ16*10))","v":""},{"$f":"IF(Köpek!$B16=\"\",\"\",IF(Köpek!$C16=\"\",\"\",Köpek!$C16*AR16*10))","v":""},{"$f":"IF(Köpek!$B16=\"\",\"\",IF(Köpek!$C16=\"\",\"\",Köpek!$C16*AS16*10))","v":""},{"$f":"IF(Köpek!$B16=\"\",\"\",IF(Köpek!$C16=\"\",\"\",Köpek!$C16*AT16*10))","v":""},{"$f":"IF(Köpek!$B16=\"\",\"\",IF(Köpek!$C16=\"\",\"\",Köpek!$C16*AU16*10))","v":""},{"$f":"IF(Köpek!$B16=\"\",\"\",IF(Köpek!$C16=\"\",\"\",Köpek!$C16*AV16*10))","v":""},{"$f":"IF(Köpek!$B16=\"\",\"\",IF(Köpek!$C16=\"\",\"\",Köpek!$C16*AW16*10))","v":""},{"$f":"IF(Köpek!$B16=\"\",\"\",IF(Köpek!$C16=\"\",\"\",Köpek!$C16*AX16*10))","v":""},{"$f":"IF(Köpek!$B16=\"\",\"\",IF(Köpek!$C16=\"\",\"\",Köpek!$C16*AY16*10))","v":""},{"$f":"IF(Köpek!$B16=\"\",\"\",IF(Köpek!$C16=\"\",\"\",Köpek!$C16*AZ16*10))","v":""},{"$f":"IF(Köpek!$B16=\"\",\"\",IF(Köpek!$C16=\"\",\"\",Köpek!$C16*BA16*10))","v":""},{"$f":"IF(Köpek!$B16=\"\",\"\",IF(Köpek!$C16=\"\",\"\",Köpek!$C16*BB16*10000))","v":""},{"$f":"IF(Köpek!$B16=\"\",\"\",IF(Köpek!$C16=\"\",\"\",Köpek!$C16*BC16*10000))","v":""},{"$f":"IF(Köpek!$B16=\"\",\"\",IF(Köpek!$C16=\"\",\"\",Köpek!$C16*BD16*10))","v":""},{"$f":"IF(Köpek!$B16=\"\",\"\",IF(Köpek!$C16=\"\",\"\",Köpek!$C16*BE16*10000))","v":""},{"$f":"IF(Köpek!$B16=\"\",\"\",IF(Köpek!$C16=\"\",\"\",Köpek!$C16*BF16))","v":""},{"$f":"IF(Köpek!$B16=\"\",\"\",IF(Köpek!$C16=\"\",\"\",Köpek!$C16*BG16))","v":""},{"$f":"IF(Köpek!$B16=\"\",\"\",IF(Köpek!$C16=\"\",\"\",Köpek!$C16*BH16))","v":""},{"$f":"IF(Köpek!$B16=\"\",\"\",IF(Köpek!$C16=\"\",\"\",Köpek!$C16*BI16))","v":""},{"$f":"IF(Köpek!$B16=\"\",\"\",IF(Köpek!$C16=\"\",\"\",Köpek!$C16*BJ16*1000))","v":""},{"$f":"IF(Köpek!$B16=\"\",\"\",IF(Köpek!$C16=\"\",\"\",Köpek!$C16*BK16))","v":""},{"$f":"IF(Köpek!$B16=\"\",\"\",IF(Köpek!$C16=\"\",\"\",Köpek!$C16*BL16))","v":""},{"$f":"IF(Köpek!$B16=\"\",\"\",IF(Köpek!$C16=\"\",\"\",Köpek!$C16*BM16))","v":""},{"$f":"IF(Köpek!$B16=\"\",\"\",IF(Köpek!$C16=\"\",\"\",Köpek!$C16*BN16))","v":""},{"$f":"IF(Köpek!$B16=\"\",\"\",IF(Köpek!$C16=\"\",\"\",Köpek!$C16*BO16))","v":""},{"$f":"IF(Köpek!$B16=\"\",\"\",IF(Köpek!$C16=\"\",\"\",Köpek!$C16*BP16))","v":""},{"$f":"IF(Köpek!$B16=\"\",\"\",IF(Köpek!$C16=\"\",\"\",Köpek!$C16*BQ16))","v":""},{"$f":"IF(Köpek!$B16=\"\",\"\",IF(Köpek!$C16=\"\",\"\",Köpek!$C16*BR16))","v":""},{"$f":"IF(Köpek!$B16=\"\",\"\",IF(Köpek!$C16=\"\",\"\",Köpek!$C16*BS16))","v":""},{"$f":"IF(Köpek!$B16=\"\",\"\",IF(Köpek!$C16=\"\",\"\",Köpek!$C16*BT16*1000))","v":""},{"$f":"IF(Köpek!$B16=\"\",\"\",IF(Köpek!$C16=\"\",\"\",Köpek!$C16*BU16*1000))","v":""},{"$f":"IF(Köpek!$B16=\"\",\"\",IF(Köpek!$C16=\"\",\"\",Köpek!$C16*BV16))","v":""},{"$f":"IF(Köpek!$B16=\"\",\"\",IF(Köpek!$C16=\"\",\"\",Köpek!$C16*BW16*10))","v":""},{"$f":"IF(Köpek!$B16=\"\",\"\",IF(Köpek!$C16=\"\",\"\",Köpek!$C16*BX16*10))","v":""},{"$f":"IF(Köpek!$B16=\"\",\"\",IF(Köpek!$C16=\"\",\"\",Köpek!$C16*BY16*10))","v":""},{"$f":"IF(Köpek!$B16=\"\",\"\",IF(Köpek!$C16=\"\",\"\",Köpek!$C16*BZ16*10))","v":""},{"$f":"IF(Köpek!$B16=\"\",\"\",IF(Köpek!$C16=\"\",\"\",Köpek!$C16*CA16*10))","v":""},{"$f":"IF(Köpek!$B16=\"\",\"\",IF(Köpek!$C16=\"\",\"\",Köpek!$C16*CB16*10))","v":""},{"$f":"IF(Köpek!$B16=\"\",\"\",IF(Köpek!$C16=\"\",\"\",Köpek!$C16*CC16))","v":""},null,"Balık unu, % 62 HP",91,61.8,4.3,0.9,24,3.22,3.2,null,null,null,null,null,2.4,4.1100000000000003,1.64,2.91,4.43,4.42,1.67,0.75,2.54,1.83,2.59,0.69,0.32,2.48,7.16,3.66,3.5,0.2,0.97,0.88,0.5,0.48,7,3,131,11,1.56,85,0.8,3575,0.3,49,7.3,6.9,1.6,5.9,0.08,null,null,7.3,null,null,null,null,120,"ET",null,"Düzeltilmiş yaş",{"$f":"Q4*GN15","v":3.5},null,null,null,null,null,null,null,null,"Blood Hound",32,50,41,"İri",null,null,null,null,"Linoleik asit, g ",1.7102781482946698,3.3,3.3,2.75,3.25,null,"Yaşama Payı Katsayısı",{"$f":"KediCA/KediEA","v":0.97560975609756106},null,null,2,0.9,null,"Burmese ",3.9,null,"Linoleik asit, g ",0.60548306334182689,1.375,1.4,1.375,1.375]
[{"$f":"Köpek!A17","v":0},{"$f":"Köpek!B17","v":0},{"$f":"Köpek!C17","v":0},{"$f":"CW2","v":"Arahidonik asit, g "},{"$f":"Köpek!E17","v":0},{"$f":"CW1","v":0.55000000000000004},{"$f":"IF(E17=0,\"\",   IF(F17<E17*0.99,\"EKSİK\",      IF(F17>E17*1.5,\"FAZLA\",    \"TAMAM\")) )","v":""},{"$f":"(F17*100)/(C2*1000)","v":0.17054263565891475},0.38398891877796582,8.8424437299035361E-2,null,null,null,null,null,null,null,null,null,null,"YavruAktifKüçük",3,null,null,"İnaktif",null,{"$f":"IF(B17=\"\",\"\",IF(C17=\"\",\"\",C17))","v":0},null,{"$f":"IF(B17=\"\",0,IF(C17=\"\",0,B17))","v":0},"","","","","","","","","","","","","","","","","","","","","","","","","","","","","","","","","","","","","","","","","","","","","","","","","","","","",null,{"$f":"IF(Köpek!$B17=\"\",\"\",IF(Köpek!$C17=\"\",\"\",Köpek!$C17*AD17*10))","v":""},{"$f":"IF(Köpek!$B17=\"\",\"\",IF(Köpek!$C17=\"\",\"\",   IF(KKSecim=\"Köpek\", Köpek!$C17*AE17*1000, Köpek!$C17*AF17*1000)  )  )","v":""},{"$f":"IF(Köpek!$B17=\"\",\"\",IF(Köpek!$C17=\"\",\"\",Köpek!$C17*AG17*10))","v":""},{"$f":"IF(Köpek!$B17=\"\",\"\",IF(Köpek!$C17=\"\",\"\",Köpek!$C17*AH17*10))","v":""},{"$f":"IF(Köpek!$B17=\"\",\"\",IF(Köpek!$C17=\"\",\"\",Köpek!$C17*AI17*10))","v":""},{"$f":"IF(Köpek!$B17=\"\",\"\",IF(Köpek!$C17=\"\",\"\",Köpek!$C17*AJ17*10))","v":""},{"$f":"IF(Köpek!$B17=\"\",\"\",IF(Köpek!$C17=\"\",\"\",Köpek!$C17*AK17*10))","v":""},{"$f":"IF(Köpek!$B17=\"\",\"\",IF(Köpek!$C17=\"\",\"\",Köpek!$C17*AL17*10))","v":""},{"$f":"IF(Köpek!$B17=\"\",\"\",IF(Köpek!$C17=\"\",\"\",Köpek!$C17*AM17*10))","v":""},{"$f":"IF(Köpek!$B17=\"\",\"\",IF(Köpek!$C17=\"\",\"\",Köpek!$C17*AN17*10))","v":""},{"$f":"IF(Köpek!$B17=\"\",\"\",IF(Köpek!$C17=\"\",\"\",Köpek!$C17*AO17*10))","v":""},{"$f":"IF(Köpek!$B17=\"\",\"\",IF(Köpek!$C17=\"\",\"\",Köpek!$C17*AP17*10))","v":""},{"$f":"IF(Köpek!$B17=\"\",\"\",IF(Köpek!$C17=\"\",\"\",Köpek!$C17*AQ17*10))","v":""},{"$f":"IF(Köpek!$B17=\"\",\"\",IF(Köpek!$C17=\"\",\"\",Köpek!$C17*AR17*10))","v":""},{"$f":"IF(Köpek!$B17=\"\",\"\",IF(Köpek!$C17=\"\",\"\",Köpek!$C17*AS17*10))","v":""},{"$f":"IF(Köpek!$B17=\"\",\"\",IF(Köpek!$C17=\"\",\"\",Köpek!$C17*AT17*10))","v":""},{"$f":"IF(Köpek!$B17=\"\",\"\",IF(Köpek!$C17=\"\",\"\",Köpek!$C17*AU17*10))","v":""},{"$f":"IF(Köpek!$B17=\"\",\"\",IF(Köpek!$C17=\"\",\"\",Köpek!$C17*AV17*10))","v":""},{"$f":"IF(Köpek!$B17=\"\",\"\",IF(Köpek!$C17=\"\",\"\",Köpek!$C17*AW17*10))","v":""},{"$f":"IF(Köpek!$B17=\"\",\"\",IF(Köpek!$C17=\"\",\"\",Köpek!$C17*AX17*10))","v":""},{"$f":"IF(Köpek!$B17=\"\",\"\",IF(Köpek!$C17=\"\",\"\",Köpek!$C17*AY17*10))","v":""},{"$f":"IF(Köpek!$B17=\"\",\"\",IF(Köpek!$C17=\"\",\"\",Köpek!$C17*AZ17*10))","v":""},{"$f":"IF(Köpek!$B17=\"\",\"\",IF(Köpek!$C17=\"\",\"\",Köpek!$C17*BA17*10))","v":""},{"$f":"IF(Köpek!$B17=\"\",\"\",IF(Köpek!$C17=\"\",\"\",Köpek!$C17*BB17*10000))","v":""},{"$f":"IF(Köpek!$B17=\"\",\"\",IF(Köpek!$C17=\"\",\"\",Köpek!$C17*BC17*10000))","v":""},{"$f":"IF(Köpek!$B17=\"\",\"\",IF(Köpek!$C17=\"\",\"\",Köpek!$C17*BD17*10))","v":""},{"$f":"IF(Köpek!$B17=\"\",\"\",IF(Köpek!$C17=\"\",\"\",Köpek!$C17*BE17*10000))","v":""},{"$f":"IF(Köpek!$B17=\"\",\"\",IF(Köpek!$C17=\"\",\"\",Köpek!$C17*BF17))","v":""},{"$f":"IF(Köpek!$B17=\"\",\"\",IF(Köpek!$C17=\"\",\"\",Köpek!$C17*BG17))","v":""},{"$f":"IF(Köpek!$B17=\"\",\"\",IF(Köpek!$C17=\"\",\"\",Köpek!$C17*BH17))","v":""},{"$f":"IF(Köpek!$B17=\"\",\"\",IF(Köpek!$C17=\"\",\"\",Köpek!$C17*BI17))","v":""},{"$f":"IF(Köpek!$B17=\"\",\"\",IF(Köpek!$C17=\"\",\"\",Köpek!$C17*BJ17*1000))","v":""},{"$f":"IF(Köpek!$B17=\"\",\"\",IF(Köpek!$C17=\"\",\"\",Köpek!$C17*BK17))","v":""},{"$f":"IF(Köpek!$B17=\"\",\"\",IF(Köpek!$C17=\"\",\"\",Köpek!$C17*BL17))","v":""},{"$f":"IF(Köpek!$B17=\"\",\"\",IF(Köpek!$C17=\"\",\"\",Köpek!$C17*BM17))","v":""},{"$f":"IF(Köpek!$B17=\"\",\"\",IF(Köpek!$C17=\"\",\"\",Köpek!$C17*BN17))","v":""},{"$f":"IF(Köpek!$B17=\"\",\"\",IF(Köpek!$C17=\"\",\"\",Köpek!$C17*BO17))","v":""},{"$f":"IF(Köpek!$B17=\"\",\"\",IF(Köpek!$C17=\"\",\"\",Köpek!$C17*BP17))","v":""},{"$f":"IF(Köpek!$B17=\"\",\"\",IF(Köpek!$C17=\"\",\"\",Köpek!$C17*BQ17))","v":""},{"$f":"IF(Köpek!$B17=\"\",\"\",IF(Köpek!$C17=\"\",\"\",Köpek!$C17*BR17))","v":""},{"$f":"IF(Köpek!$B17=\"\",\"\",IF(Köpek!$C17=\"\",\"\",Köpek!$C17*BS17))","v":""},{"$f":"IF(Köpek!$B17=\"\",\"\",IF(Köpek!$C17=\"\",\"\",Köpek!$C17*BT17*1000))","v":""},{"$f":"IF(Köpek!$B17=\"\",\"\",IF(Köpek!$C17=\"\",\"\",Köpek!$C17*BU17*1000))","v":""},{"$f":"IF(Köpek!$B17=\"\",\"\",IF(Köpek!$C17=\"\",\"\",Köpek!$C17*BV17))","v":""},{"$f":"IF(Köpek!$B17=\"\",\"\",IF(Köpek!$C17=\"\",\"\",Köpek!$C17*BW17*10))","v":""},{"$f":"IF(Köpek!$B17=\"\",\"\",IF(Köpek!$C17=\"\",\"\",Köpek!$C17*BX17*10))","v":""},{"$f":"IF(Köpek!$B17=\"\",\"\",IF(Köpek!$C17=\"\",\"\",Köpek!$C17*BY17*10))","v":""},{"$f":"IF(Köpek!$B17=\"\",\"\",IF(Köpek!$C17=\"\",\"\",Köpek!$C17*BZ17*10))","v":""},{"$f":"IF(Köpek!$B17=\"\",\"\",IF(Köpek!$C17=\"\",\"\",Köpek!$C17*CA17*10))","v":""},{"$f":"IF(Köpek!$B17=\"\",\"\",IF(Köpek!$C17=\"\",\"\",Köpek!$C17*CB17*10))","v":""},{"$f":"IF(Köpek!$B17=\"\",\"\",IF(Köpek!$C17=\"\",\"\",Köpek!$C17*CC17))","v":""},null,"Böcek unu, cırcır böceği unu (Acheta domesticus)",93,{"$f":"(66.6+64.9+64.38+70.75+73.1)/5*0.93","v":63.189779999999999},{"$f":"(22.1+13.8+18.55+22.8+15.9)/5*0.93","v":17.325900000000004},{"$f":"2.1*0.93","v":1.9530000000000003},{"$f":"(3.6+5.7+3.57+5.1+5.6)/5*0.93","v":4.3840200000000005},4.2,4.2,{"$f":"(5.4+2.6)/2*0.93","v":3.72},null,null,{"$f":"36.3/EH17","v":2.0951292573545954},{"$f":"1/EH17","v":5.7717059431256081E-2},null,null,{"$f":"(((22.7+23.4)/2)/100*0.93)/(EG17/100)","v":0.3392399846937274},{"$f":"(((36.4+45.9)/2)/100*0.93)/(EG17/100)","v":0.60562799870485395},{"$f":"(((66.7+100)/2)/100*0.93)/(EG17/100)","v":1.2267094457363199},{"$f":"(((51.1+53.7)/2)/100*0.93)/(EG17/100)","v":0.77120065934712867},{"$f":"(((14.6+19.6)/2)/100*0.93)/(EG17/100)","v":0.25167044417625767},{"$f":"(((8.3+9.8)/2)/100*0.93)/(EG17/100)","v":0.13319400700556328},{"$f":"(((74.2+80.5)/4)/100*0.93)/(EG17/100)","v":0.56920201336355347},{"$f":"(((74.2+80.5)/4)/100*0.93)/(EG17/100)","v":0.56920201336355347},{"$f":"(((31.1+36.1)/2)/100*0.93)/(EG17/100)","v":0.49451034645159403},{"$f":"(((6.3+7.6)/2)/100*0.93)/(EG17/100)","v":0.10228711035233863},{"$f":"1410/10000*0.93","v":0.13113},{"$f":"(((48.4+52.2)/2)/100*0.93)/(EG17/100)","v":0.74029376269390412},{"$f":"((132.14+210)/2)*0.93/1000","v":0.15909509999999999},{"$f":"((780+957.79)/2)*0.93/1000","v":0.80807234999999999},null,{"$f":"((80+109.42)/2)*0.93/1000","v":8.8080300000000014E-2},{"$f":"1126.62*0.93/1000","v":1.0477566},{"$f":"435.06*0.93/1000","v":0.40460580000000007},{"$f":"0.23*0.93","v":0.21390000000000001},null,{"$f":"((0.85+2.01)/2)*10*0.93","v":13.298999999999999},{"$f":"0.21*0.93","v":0.1953},{"$f":"((6.27+11.23)/2)*10*0.93","v":81.375},{"$f":"((2.97+3.73)/2)*10*0.93","v":31.155000000000001},{"$f":"0.6*10*0.93","v":5.58},{"$f":"((18.64+21.79)/2)*10*0.93","v":187.99950000000001},{"$f":"55.19/100*0.93","v":0.51326700000000003},null,{"$f":"0.93*0.49*10","v":4.5570000000000004},{"$f":"0.93*12.59*10","v":117.087},{"$f":"0.93*7.47*10","v":69.471000000000004},{"$f":"0.93*11.07*10","v":102.95100000000002},{"$f":"0.93*0.13*10","v":1.2090000000000001},null,null,{"$f":"0.93*24.33*10","v":226.26900000000001},null,{"$f":"0.93*(63.96+81)/2","v":67.406400000000005},{"$f":"0.356*(EH17/100)","v":6.1680204000000016E-2},{"$f":"0.373*(EH17/100)","v":6.4625607000000015E-2},{"$f":"EP17+ER17","v":2.0951292573545954},{"$f":"EQ17","v":5.7717059431256081E-2},1500,"EU",null,"Emziren dişi katsayı",{"$f":"VLOOKUP(Q8,GN40:GO43,2)","v":{"$error":"#N/A"}},null,null,null,null,null,null,null,null,"Border Collie",12,40,26,"İri",null,null,null,null,"Arahidonik Asit, g ",{"$f":"IF(HI$2=1,HH17,  IF(HI$2=2,HI17,  IF(HI$2=3,HJ17,  IF(HI$2=4,HK17,  \"YOK\")))) * HG$5/1000","v":0},0.08,0.08,null,null,null,null,null,null,null,3,1.2,null,"Burmilla",4.3,null,"Arahidonik asit, g ",{"$f":"IF(HX$2=1,HY17,  IF(HX$2=2,HZ17,  IF(HX$2=3,IA17,  IF(HX$2=4,IB17,  \"YOK\")))) * HX$5/1000","v":2.2017565939702798E-2},0.05,1.4999999999999999E-2,0.05,0.05]
[{"$f":"Köpek!A18","v":0},{"$f":"Köpek!B18","v":0},{"$f":"Köpek!C18","v":0},{"$f":"DL2","v":"Vitamin A, µg"},{"$f":"Köpek!E18","v":235.55194496967499},{"$f":"DL1","v":311.37650000000002},{"$f":"IF(E18=0,\"\",   IF(F18<E18*0.99,\"EKSİK\",      IF(F18>E18*4,\"FAZLA\",    \"TAMAM\")) )","v":"TAMAM"},{"$f":"(F18*100)/(C2*1000)","v":96.550852713178301},{"$f":"H18*100/H$3","v":217.3911373961223},50.060530546623788,null,null,null,null,null,null,null,null,null,null,"YetişkinAktifKüçük",2,null,null,"Aktif",null,0,null,0,"","","","","","","","","","","","","","","","","","","","","","","","","","","","","","","","","","","","","","","","","","","","","","","","","","","","",null,{"$f":"IF(Köpek!$B18=\"\",\"\",IF(Köpek!$C18=\"\",\"\",Köpek!$C18*AD18*10))","v":""},{"$f":"IF(Köpek!$B18=\"\",\"\",IF(Köpek!$C18=\"\",\"\",   IF(KKSecim=\"Köpek\", Köpek!$C18*AE18*1000, Köpek!$C18*AF18*1000)  )  )","v":""},{"$f":"IF(Köpek!$B18=\"\",\"\",IF(Köpek!$C18=\"\",\"\",Köpek!$C18*AG18*10))","v":""},{"$f":"IF(Köpek!$B18=\"\",\"\",IF(Köpek!$C18=\"\",\"\",Köpek!$C18*AH18*10))","v":""},{"$f":"IF(Köpek!$B18=\"\",\"\",IF(Köpek!$C18=\"\",\"\",Köpek!$C18*AI18*10))","v":""},{"$f":"IF(Köpek!$B18=\"\",\"\",IF(Köpek!$C18=\"\",\"\",Köpek!$C18*AJ18*10))","v":""},{"$f":"IF(Köpek!$B18=\"\",\"\",IF(Köpek!$C18=\"\",\"\",Köpek!$C18*AK18*10))","v":""},{"$f":"IF(Köpek!$B18=\"\",\"\",IF(Köpek!$C18=\"\",\"\",Köpek!$C18*AL18*10))","v":""},{"$f":"IF(Köpek!$B18=\"\",\"\",IF(Köpek!$C18=\"\",\"\",Köpek!$C18*AM18*10))","v":""},{"$f":"IF(Köpek!$B18=\"\",\"\",IF(Köpek!$C18=\"\",\"\",Köpek!$C18*AN18*10))","v":""},{"$f":"IF(Köpek!$B18=\"\",\"\",IF(Köpek!$C18=\"\",\"\",Köpek!$C18*AO18*10))","v":""},{"$f":"IF(Köpek!$B18=\"\",\"\",IF(Köpek!$C18=\"\",\"\",Köpek!$C18*AP18*10))","v":""},{"$f":"IF(Köpek!$B18=\"\",\"\",IF(Köpek!$C18=\"\",\"\",Köpek!$C18*AQ18*10))","v":""},{"$f":"IF(Köpek!$B18=\"\",\"\",IF(Köpek!$C18=\"\",\"\",Köpek!$C18*AR18*10))","v":""},{"$f":"IF(Köpek!$B18=\"\",\"\",IF(Köpek!$C18=\"\",\"\",Köpek!$C18*AS18*10))","v":""},{"$f":"IF(Köpek!$B18=\"\",\"\",IF(Köpek!$C18=\"\",\"\",Köpek!$C18*AT18*10))","v":""},{"$f":"IF(Köpek!$B18=\"\",\"\",IF(Köpek!$C18=\"\",\"\",Köpek!$C18*AU18*10))","v":""},{"$f":"IF(Köpek!$B18=\"\",\"\",IF(Köpek!$C18=\"\",\"\",Köpek!$C18*AV18*10))","v":""},{"$f":"IF(Köpek!$B18=\"\",\"\",IF(Köpek!$C18=\"\",\"\",Köpek!$C18*AW18*10))","v":""},{"$f":"IF(Köpek!$B18=\"\",\"\",IF(Köpek!$C18=\"\",\"\",Köpek!$C18*AX18*10))","v":""},{"$f":"IF(Köpek!$B18=\"\",\"\",IF(Köpek!$C18=\"\",\"\",Köpek!$C18*AY18*10))","v":""},{"$f":"IF(Köpek!$B18=\"\",\"\",IF(Köpek!$C18=\"\",\"\",Köpek!$C18*AZ18*10))","v":""},{"$f":"IF(Köpek!$B18=\"\",\"\",IF(Köpek!$C18=\"\",\"\",Köpek!$C18*BA18*10))","v":""},{"$f":"IF(Köpek!$B18=\"\",\"\",IF(Köpek!$C18=\"\",\"\",Köpek!$C18*BB18*10000))","v":""},{"$f":"IF(Köpek!$B18=\"\",\"\",IF(Köpek!$C18=\"\",\"\",Köpek!$C18*BC18*10000))","v":""},{"$f":"IF(Köpek!$B18=\"\",\"\",IF(Köpek!$C18=\"\",\"\",Köpek!$C18*BD18*10))","v":""},{"$f":"IF(Köpek!$B18=\"\",\"\",IF(Köpek!$C18=\"\",\"\",Köpek!$C18*BE18*10000))","v":""},{"$f":"IF(Köpek!$B18=\"\",\"\",IF(Köpek!$C18=\"\",\"\",Köpek!$C18*BF18))","v":""},{"$f":"IF(Köpek!$B18=\"\",\"\",IF(Köpek!$C18=\"\",\"\",Köpek!$C18*BG18))","v":""},{"$f":"IF(Köpek!$B18=\"\",\"\",IF(Köpek!$C18=\"\",\"\",Köpek!$C18*BH18))","v":""},{"$f":"IF(Köpek!$B18=\"\",\"\",IF(Köpek!$C18=\"\",\"\",Köpek!$C18*BI18))","v":""},{"$f":"IF(Köpek!$B18=\"\",\"\",IF(Köpek!$C18=\"\",\"\",Köpek!$C18*BJ18*1000))","v":""},{"$f":"IF(Köpek!$B18=\"\",\"\",IF(Köpek!$C18=\"\",\"\",Köpek!$C18*BK18))","v":""},{"$f":"IF(Köpek!$B18=\"\",\"\",IF(Köpek!$C18=\"\",\"\",Köpek!$C18*BL18))","v":""},{"$f":"IF(Köpek!$B18=\"\",\"\",IF(Köpek!$C18=\"\",\"\",Köpek!$C18*BM18))","v":""},{"$f":"IF(Köpek!$B18=\"\",\"\",IF(Köpek!$C18=\"\",\"\",Köpek!$C18*BN18))","v":""},{"$f":"IF(Köpek!$B18=\"\",\"\",IF(Köpek!$C18=\"\",\"\",Köpek!$C18*BO18))","v":""},{"$f":"IF(Köpek!$B18=\"\",\"\",IF(Köpek!$C18=\"\",\"\",Köpek!$C18*BP18))","v":""},{"$f":"IF(Köpek!$B18=\"\",\"\",IF(Köpek!$C18=\"\",\"\",Köpek!$C18*BQ18))","v":""},{"$f":"IF(Köpek!$B18=\"\",\"\",IF(Köpek!$C18=\"\",\"\",Köpek!$C18*BR18))","v":""},{"$f":"IF(Köpek!$B18=\"\",\"\",IF(Köpek!$C18=\"\",\"\",Köpek!$C18*BS18))","v":""},{"$f":"IF(Köpek!$B18=\"\",\"\",IF(Köpek!$C18=\"\",\"\",Köpek!$C18*BT18*1000))","v":""},{"$f":"IF(Köpek!$B18=\"\",\"\",IF(Köpek!$C18=\"\",\"\",Köpek!$C18*BU18*1000))","v":""},{"$f":"IF(Köpek!$B18=\"\",\"\",IF(Köpek!$C18=\"\",\"\",Köpek!$C18*BV18))","v":""},{"$f":"IF(Köpek!$B18=\"\",\"\",IF(Köpek!$C18=\"\",\"\",Köpek!$C18*BW18*10))","v":""},{"$f":"IF(Köpek!$B18=\"\",\"\",IF(Köpek!$C18=\"\",\"\",Köpek!$C18*BX18*10))","v":""},{"$f":"IF(Köpek!$B18=\"\",\"\",IF(Köpek!$C18=\"\",\"\",Köpek!$C18*BY18*10))","v":""},{"$f":"IF(Köpek!$B18=\"\",\"\",IF(Köpek!$C18=\"\",\"\",Köpek!$C18*BZ18*10))","v":""},{"$f":"IF(Köpek!$B18=\"\",\"\",IF(Köpek!$C18=\"\",\"\",Köpek!$C18*CA18*10))","v":""},{"$f":"IF(Köpek!$B18=\"\",\"\",IF(Köpek!$C18=\"\",\"\",Köpek!$C18*CB18*10))","v":""},{"$f":"IF(Köpek!$B18=\"\",\"\",IF(Köpek!$C18=\"\",\"\",Köpek!$C18*CC18))","v":""},null,"Böcek unu, çekirge unu (Locusta migratoria)",93,60,16,null,{"$f":"5.1*0.93","v":4.7430000000000003},3.63,3.63,null,null,null,0.59799999999999998,0.58399999999999996,null,5.0599999999999996,2.1859999999999999,4.32,7.6340000000000003,5.4649999999999999,2.2679999999999998,1.466,6.2169999999999996,6.7309999999999999,3.6520000000000001,0.62,null,5.4169999999999998,{"$f":"70*0.93/1000","v":6.5100000000000005E-2},{"$f":"123.32*0.93/1000","v":0.1146876},null,{"$f":"33.1*0.93/1000","v":3.0783000000000001E-2},{"$f":"259.7*0.93/1000","v":0.24152100000000001},{"$f":"121*0.93/1000","v":0.11253000000000001},null,null,{"$f":"2.5*10*0.93","v":23.25},null,{"$f":"229.7*10*0.93","v":2136.21},{"$f":"12.4*10*0.93","v":115.32000000000001},{"$f":"0.5*10*0.93","v":4.6500000000000004},{"$f":"13*10*0.93","v":120.9},null,null,{"$f":"0.93*0.9*10","v":8.370000000000001},{"$f":"0.93*2.4*10","v":22.32},null,{"$f":"0.93*1.4*10","v":13.02},null,null,null,{"$f":"0.93*2.8*10","v":26.04},null,{"$f":"0.93*22.64","v":21.055200000000003},{"$f":"0.277*(EH18/100)","v":4.4320000000000005E-2},{"$f":"0.421*(EH18/100)","v":6.7360000000000003E-2},{"$f":"EP18+ER18","v":0.59799999999999998},{"$f":"EQ18","v":0.58399999999999996},1575,"EV",null,"Ergin canlı ağırlık, kg",{"$f":"VLOOKUP(Q6,GW3:GZ84,4,FALSE)","v":8},null,null,null,null,null,null,null,null,"Bouvier",25,41,33,"İri",null,null,null,null,"Vitamin A, µg retinol ",235.55194496967499,378.75,378.75,378.75,378.75,null,null,null,null,null,4,1.2,null,"Calif Spangled",5,null,"Vitamin A, µg retinol ",220.17565939702797,250,250,500,500]
[{"$f":"Köpek!A19","v":0},{"$f":"Köpek!B19","v":0},{"$f":"Köpek!C19","v":0},{"$f":"DM2","v":"Vitamin D, µg"},{"$f":"Köpek!E19","v":2.1456216769514951},{"$f":"DM1","v":0},{"$f":"IF(E19=0,\"\",   IF(F19<E19*0.99,\"EKSİK\",      IF(F19>E19*2,\"FAZLA\",    \"TAMAM\")) )","v":"EKSİK"},{"$f":"(F19*100)/(C2*1000)","v":0},{"$f":"H19*100/H$3","v":0},0,null,null,null,null,null,null,null,null,null,null,"Gebe dişiAktifKüçük",4,null,null,null,null,0,null,0,"","","","","","","","","","","","","","","","","","","","","","","","","","","","","","","","","","","","","","","","","","","","","","","","","","","","",null,{"$f":"IF(Köpek!$B19=\"\",\"\",IF(Köpek!$C19=\"\",\"\",Köpek!$C19*AD19*10))","v":""},{"$f":"IF(Köpek!$B19=\"\",\"\",IF(Köpek!$C19=\"\",\"\",   IF(KKSecim=\"Köpek\", Köpek!$C19*AE19*1000, Köpek!$C19*AF19*1000)  )  )","v":""},{"$f":"IF(Köpek!$B19=\"\",\"\",IF(Köpek!$C19=\"\",\"\",Köpek!$C19*AG19*10))","v":""},{"$f":"IF(Köpek!$B19=\"\",\"\",IF(Köpek!$C19=\"\",\"\",Köpek!$C19*AH19*10))","v":""},{"$f":"IF(Köpek!$B19=\"\",\"\",IF(Köpek!$C19=\"\",\"\",Köpek!$C19*AI19*10))","v":""},{"$f":"IF(Köpek!$B19=\"\",\"\",IF(Köpek!$C19=\"\",\"\",Köpek!$C19*AJ19*10))","v":""},{"$f":"IF(Köpek!$B19=\"\",\"\",IF(Köpek!$C19=\"\",\"\",Köpek!$C19*AK19*10))","v":""},{"$f":"IF(Köpek!$B19=\"\",\"\",IF(Köpek!$C19=\"\",\"\",Köpek!$C19*AL19*10))","v":""},{"$f":"IF(Köpek!$B19=\"\",\"\",IF(Köpek!$C19=\"\",\"\",Köpek!$C19*AM19*10))","v":""},{"$f":"IF(Köpek!$B19=\"\",\"\",IF(Köpek!$C19=\"\",\"\",Köpek!$C19*AN19*10))","v":""},{"$f":"IF(Köpek!$B19=\"\",\"\",IF(Köpek!$C19=\"\",\"\",Köpek!$C19*AO19*10))","v":""},{"$f":"IF(Köpek!$B19=\"\",\"\",IF(Köpek!$C19=\"\",\"\",Köpek!$C19*AP19*10))","v":""},{"$f":"IF(Köpek!$B19=\"\",\"\",IF(Köpek!$C19=\"\",\"\",Köpek!$C19*AQ19*10))","v":""},{"$f":"IF(Köpek!$B19=\"\",\"\",IF(Köpek!$C19=\"\",\"\",Köpek!$C19*AR19*10))","v":""},{"$f":"IF(Köpek!$B19=\"\",\"\",IF(Köpek!$C19=\"\",\"\",Köpek!$C19*AS19*10))","v":""},{"$f":"IF(Köpek!$B19=\"\",\"\",IF(Köpek!$C19=\"\",\"\",Köpek!$C19*AT19*10))","v":""},{"$f":"IF(Köpek!$B19=\"\",\"\",IF(Köpek!$C19=\"\",\"\",Köpek!$C19*AU19*10))","v":""},{"$f":"IF(Köpek!$B19=\"\",\"\",IF(Köpek!$C19=\"\",\"\",Köpek!$C19*AV19*10))","v":""},{"$f":"IF(Köpek!$B19=\"\",\"\",IF(Köpek!$C19=\"\",\"\",Köpek!$C19*AW19*10))","v":""},{"$f":"IF(Köpek!$B19=\"\",\"\",IF(Köpek!$C19=\"\",\"\",Köpek!$C19*AX19*10))","v":""},{"$f":"IF(Köpek!$B19=\"\",\"\",IF(Köpek!$C19=\"\",\"\",Köpek!$C19*AY19*10))","v":""},{"$f":"IF(Köpek!$B19=\"\",\"\",IF(Köpek!$C19=\"\",\"\",Köpek!$C19*AZ19*10))","v":""},{"$f":"IF(Köpek!$B19=\"\",\"\",IF(Köpek!$C19=\"\",\"\",Köpek!$C19*BA19*10))","v":""},{"$f":"IF(Köpek!$B19=\"\",\"\",IF(Köpek!$C19=\"\",\"\",Köpek!$C19*BB19*10000))","v":""},{"$f":"IF(Köpek!$B19=\"\",\"\",IF(Köpek!$C19=\"\",\"\",Köpek!$C19*BC19*10000))","v":""},{"$f":"IF(Köpek!$B19=\"\",\"\",IF(Köpek!$C19=\"\",\"\",Köpek!$C19*BD19*10))","v":""},{"$f":"IF(Köpek!$B19=\"\",\"\",IF(Köpek!$C19=\"\",\"\",Köpek!$C19*BE19*10000))","v":""},{"$f":"IF(Köpek!$B19=\"\",\"\",IF(Köpek!$C19=\"\",\"\",Köpek!$C19*BF19))","v":""},{"$f":"IF(Köpek!$B19=\"\",\"\",IF(Köpek!$C19=\"\",\"\",Köpek!$C19*BG19))","v":""},{"$f":"IF(Köpek!$B19=\"\",\"\",IF(Köpek!$C19=\"\",\"\",Köpek!$C19*BH19))","v":""},{"$f":"IF(Köpek!$B19=\"\",\"\",IF(Köpek!$C19=\"\",\"\",Köpek!$C19*BI19))","v":""},{"$f":"IF(Köpek!$B19=\"\",\"\",IF(Köpek!$C19=\"\",\"\",Köpek!$C19*BJ19*1000))","v":""},{"$f":"IF(Köpek!$B19=\"\",\"\",IF(Köpek!$C19=\"\",\"\",Köpek!$C19*BK19))","v":""},{"$f":"IF(Köpek!$B19=\"\",\"\",IF(Köpek!$C19=\"\",\"\",Köpek!$C19*BL19))","v":""},{"$f":"IF(Köpek!$B19=\"\",\"\",IF(Köpek!$C19=\"\",\"\",Köpek!$C19*BM19))","v":""},{"$f":"IF(Köpek!$B19=\"\",\"\",IF(Köpek!$C19=\"\",\"\",Köpek!$C19*BN19))","v":""},{"$f":"IF(Köpek!$B19=\"\",\"\",IF(Köpek!$C19=\"\",\"\",Köpek!$C19*BO19))","v":""},{"$f":"IF(Köpek!$B19=\"\",\"\",IF(Köpek!$C19=\"\",\"\",Köpek!$C19*BP19))","v":""},{"$f":"IF(Köpek!$B19=\"\",\"\",IF(Köpek!$C19=\"\",\"\",Köpek!$C19*BQ19))","v":""},{"$f":"IF(Köpek!$B19=\"\",\"\",IF(Köpek!$C19=\"\",\"\",Köpek!$C19*BR19))","v":""},{"$f":"IF(Köpek!$B19=\"\",\"\",IF(Köpek!$C19=\"\",\"\",Köpek!$C19*BS19))","v":""},{"$f":"IF(Köpek!$B19=\"\",\"\",IF(Köpek!$C19=\"\",\"\",Köpek!$C19*BT19*1000))","v":""},{"$f":"IF(Köpek!$B19=\"\",\"\",IF(Köpek!$C19=\"\",\"\",Köpek!$C19*BU19*1000))","v":""},{"$f":"IF(Köpek!$B19=\"\",\"\",IF(Köpek!$C19=\"\",\"\",Köpek!$C19*BV19))","v":""},{"$f":"IF(Köpek!$B19=\"\",\"\",IF(Köpek!$C19=\"\",\"\",Köpek!$C19*BW19*10))","v":""},{"$f":"IF(Köpek!$B19=\"\",\"\",IF(Köpek!$C19=\"\",\"\",Köpek!$C19*BX19*10))","v":""},{"$f":"IF(Köpek!$B19=\"\",\"\",IF(Köpek!$C19=\"\",\"\",Köpek!$C19*BY19*10))","v":""},{"$f":"IF(Köpek!$B19=\"\",\"\",IF(Köpek!$C19=\"\",\"\",Köpek!$C19*BZ19*10))","v":""},{"$f":"IF(Köpek!$B19=\"\",\"\",IF(Köpek!$C19=\"\",\"\",Köpek!$C19*CA19*10))","v":""},{"$f":"IF(Köpek!$B19=\"\",\"\",IF(Köpek!$C19=\"\",\"\",Köpek!$C19*CB19*10))","v":""},{"$f":"IF(Köpek!$B19=\"\",\"\",IF(Köpek!$C19=\"\",\"\",Köpek!$C19*CC19))","v":""},null,"Böcek unu, çekirge unu (Hetracris littoralis, Ruspolia differens)",93,{"$f":"(69.19+68)/2","v":68.594999999999999},{"$f":"(8.18+9.66)/2","v":8.92},null,{"$f":"5.1*0.93","v":4.7430000000000003},3.63,3.63,null,null,null,0.59799999999999998,0.58399999999999996,null,5.0599999999999996,2.1859999999999999,4.32,7.6340000000000003,5.4649999999999999,2.2679999999999998,1.466,6.2169999999999996,6.7309999999999999,3.6520000000000001,0.62,null,5.4169999999999998,{"$f":"70*0.93/1000","v":6.5100000000000005E-2},{"$f":"123.32*0.93/1000","v":0.1146876},null,{"$f":"33.1*0.93/1000","v":3.0783000000000001E-2},{"$f":"259.7*0.93/1000","v":0.24152100000000001},{"$f":"121*0.93/1000","v":0.11253000000000001},null,null,{"$f":"2.5*10*0.93","v":23.25},null,{"$f":"229.7*10*0.93","v":2136.21},{"$f":"12.4*10*0.93","v":115.32000000000001},{"$f":"0.5*10*0.93","v":4.6500000000000004},{"$f":"13*10*0.93","v":120.9},null,null,{"$f":"0.93*0.9*10","v":8.370000000000001},{"$f":"0.93*2.4*10","v":22.32},null,{"$f":"0.93*1.4*10","v":13.02},null,null,null,{"$f":"0.93*2.8*10","v":26.04},null,{"$f":"0.93*22.64","v":21.055200000000003},{"$f":"0.277*(EH19/100)","v":2.4708400000000002E-2},{"$f":"0.421*(EH19/100)","v":3.7553200000000002E-2},{"$f":"EP19+ER19","v":0.59799999999999998},{"$f":"EQ19","v":0.58399999999999996},1575,"EW",null,null,null,null,null,null,null,null,null,null,null,"Boxer ",24,32,28,"İri"," 12-13",null,null,null,"Kolekalsiferol, µg",2.1456216769514951,3.45,3.45,3.45,3.45,null,null,null,null,null,5,1.1000000000000001,null,"Chausie",6.8,null,"Kolekalsiferol, µg",{"$f":"IF(HX$2=1,HY19,  IF(HX$2=2,HZ19,  IF(HX$2=3,IA19,  IF(HX$2=4,IB19,  \"YOK\")))) * HX$5/1000","v":0.7706148078895978},1.4,1.75,1.75,1.75]
[{"$f":"Köpek!A20","v":0},{"$f":"Köpek!B20","v":0},{"$f":"Köpek!C20","v":0},{"$f":"DN2","v":"Vitamin E, mg "},{"$f":"Köpek!E20","v":4.6643949498945538},{"$f":"DN1","v":5.2379999999999995},{"$f":"IF(E20=0,\"\",   IF(F20<E20*0.99,\"EKSİK\",      IF(F20>E20*2,\"FAZLA\",    \"TAMAM\")) )","v":"TAMAM"},{"$f":"(F20*100)/(C2*1000)","v":1.6241860465116278},{"$f":"H20*100/H$3","v":3.656970830107245},0.84212218649517667,null,null,null,null,"SİLİNMESİN % HESAP",null,"Enerjinin Dağılımı",null,null,null,"Emziren dişiAktifKüçük",4,null,null,null,null,0,null,0,"","","","","","","","","","","","","","","","","","","","","","","","","","","","","","","","","","","","","","","","","","","","","","","","","","","","",null,{"$f":"IF(Köpek!$B20=\"\",\"\",IF(Köpek!$C20=\"\",\"\",Köpek!$C20*AD20*10))","v":""},{"$f":"IF(Köpek!$B20=\"\",\"\",IF(Köpek!$C20=\"\",\"\",   IF(KKSecim=\"Köpek\", Köpek!$C20*AE20*1000, Köpek!$C20*AF20*1000)  )  )","v":""},{"$f":"IF(Köpek!$B20=\"\",\"\",IF(Köpek!$C20=\"\",\"\",Köpek!$C20*AG20*10))","v":""},{"$f":"IF(Köpek!$B20=\"\",\"\",IF(Köpek!$C20=\"\",\"\",Köpek!$C20*AH20*10))","v":""},{"$f":"IF(Köpek!$B20=\"\",\"\",IF(Köpek!$C20=\"\",\"\",Köpek!$C20*AI20*10))","v":""},{"$f":"IF(Köpek!$B20=\"\",\"\",IF(Köpek!$C20=\"\",\"\",Köpek!$C20*AJ20*10))","v":""},{"$f":"IF(Köpek!$B20=\"\",\"\",IF(Köpek!$C20=\"\",\"\",Köpek!$C20*AK20*10))","v":""},{"$f":"IF(Köpek!$B20=\"\",\"\",IF(Köpek!$C20=\"\",\"\",Köpek!$C20*AL20*10))","v":""},{"$f":"IF(Köpek!$B20=\"\",\"\",IF(Köpek!$C20=\"\",\"\",Köpek!$C20*AM20*10))","v":""},{"$f":"IF(Köpek!$B20=\"\",\"\",IF(Köpek!$C20=\"\",\"\",Köpek!$C20*AN20*10))","v":""},{"$f":"IF(Köpek!$B20=\"\",\"\",IF(Köpek!$C20=\"\",\"\",Köpek!$C20*AO20*10))","v":""},{"$f":"IF(Köpek!$B20=\"\",\"\",IF(Köpek!$C20=\"\",\"\",Köpek!$C20*AP20*10))","v":""},{"$f":"IF(Köpek!$B20=\"\",\"\",IF(Köpek!$C20=\"\",\"\",Köpek!$C20*AQ20*10))","v":""},{"$f":"IF(Köpek!$B20=\"\",\"\",IF(Köpek!$C20=\"\",\"\",Köpek!$C20*AR20*10))","v":""},{"$f":"IF(Köpek!$B20=\"\",\"\",IF(Köpek!$C20=\"\",\"\",Köpek!$C20*AS20*10))","v":""},{"$f":"IF(Köpek!$B20=\"\",\"\",IF(Köpek!$C20=\"\",\"\",Köpek!$C20*AT20*10))","v":""},{"$f":"IF(Köpek!$B20=\"\",\"\",IF(Köpek!$C20=\"\",\"\",Köpek!$C20*AU20*10))","v":""},{"$f":"IF(Köpek!$B20=\"\",\"\",IF(Köpek!$C20=\"\",\"\",Köpek!$C20*AV20*10))","v":""},{"$f":"IF(Köpek!$B20=\"\",\"\",IF(Köpek!$C20=\"\",\"\",Köpek!$C20*AW20*10))","v":""},null,{"$f":"IF(Köpek!$B20=\"\",\"\",IF(Köpek!$C20=\"\",\"\",Köpek!$C20*AY20*10))","v":""},{"$f":"IF(Köpek!$B20=\"\",\"\",IF(Köpek!$C20=\"\",\"\",Köpek!$C20*AZ20*10))","v":""},{"$f":"IF(Köpek!$B20=\"\",\"\",IF(Köpek!$C20=\"\",\"\",Köpek!$C20*BA20*10))","v":""},{"$f":"IF(Köpek!$B20=\"\",\"\",IF(Köpek!$C20=\"\",\"\",Köpek!$C20*BB20*10000))","v":""},{"$f":"IF(Köpek!$B20=\"\",\"\",IF(Köpek!$C20=\"\",\"\",Köpek!$C20*BC20*10000))","v":""},{"$f":"IF(Köpek!$B20=\"\",\"\",IF(Köpek!$C20=\"\",\"\",Köpek!$C20*BD20*10))","v":""},{"$f":"IF(Köpek!$B20=\"\",\"\",IF(Köpek!$C20=\"\",\"\",Köpek!$C20*BE20*10000))","v":""},{"$f":"IF(Köpek!$B20=\"\",\"\",IF(Köpek!$C20=\"\",\"\",Köpek!$C20*BF20))","v":""},{"$f":"IF(Köpek!$B20=\"\",\"\",IF(Köpek!$C20=\"\",\"\",Köpek!$C20*BG20))","v":""},{"$f":"IF(Köpek!$B20=\"\",\"\",IF(Köpek!$C20=\"\",\"\",Köpek!$C20*BH20))","v":""},{"$f":"IF(Köpek!$B20=\"\",\"\",IF(Köpek!$C20=\"\",\"\",Köpek!$C20*BI20))","v":""},{"$f":"IF(Köpek!$B20=\"\",\"\",IF(Köpek!$C20=\"\",\"\",Köpek!$C20*BJ20*1000))","v":""},{"$f":"IF(Köpek!$B20=\"\",\"\",IF(Köpek!$C20=\"\",\"\",Köpek!$C20*BK20))","v":""},{"$f":"IF(Köpek!$B20=\"\",\"\",IF(Köpek!$C20=\"\",\"\",Köpek!$C20*BL20))","v":""},{"$f":"IF(Köpek!$B20=\"\",\"\",IF(Köpek!$C20=\"\",\"\",Köpek!$C20*BM20))","v":""},{"$f":"IF(Köpek!$B20=\"\",\"\",IF(Köpek!$C20=\"\",\"\",Köpek!$C20*BN20))","v":""},{"$f":"IF(Köpek!$B20=\"\",\"\",IF(Köpek!$C20=\"\",\"\",Köpek!$C20*BO20))","v":""},{"$f":"IF(Köpek!$B20=\"\",\"\",IF(Köpek!$C20=\"\",\"\",Köpek!$C20*BP20))","v":""},{"$f":"IF(Köpek!$B20=\"\",\"\",IF(Köpek!$C20=\"\",\"\",Köpek!$C20*BQ20))","v":""},{"$f":"IF(Köpek!$B20=\"\",\"\",IF(Köpek!$C20=\"\",\"\",Köpek!$C20*BR20))","v":""},{"$f":"IF(Köpek!$B20=\"\",\"\",IF(Köpek!$C20=\"\",\"\",Köpek!$C20*BS20))","v":""},{"$f":"IF(Köpek!$B20=\"\",\"\",IF(Köpek!$C20=\"\",\"\",Köpek!$C20*BT20*1000))","v":""},{"$f":"IF(Köpek!$B20=\"\",\"\",IF(Köpek!$C20=\"\",\"\",Köpek!$C20*BU20*1000))","v":""},{"$f":"IF(Köpek!$B20=\"\",\"\",IF(Köpek!$C20=\"\",\"\",Köpek!$C20*BV20))","v":""},{"$f":"IF(Köpek!$B20=\"\",\"\",IF(Köpek!$C20=\"\",\"\",Köpek!$C20*BW20*10))","v":""},{"$f":"IF(Köpek!$B20=\"\",\"\",IF(Köpek!$C20=\"\",\"\",Köpek!$C20*BX20*10))","v":""},{"$f":"IF(Köpek!$B20=\"\",\"\",IF(Köpek!$C20=\"\",\"\",Köpek!$C20*BY20*10))","v":""},{"$f":"IF(Köpek!$B20=\"\",\"\",IF(Köpek!$C20=\"\",\"\",Köpek!$C20*BZ20*10))","v":""},{"$f":"IF(Köpek!$B20=\"\",\"\",IF(Köpek!$C20=\"\",\"\",Köpek!$C20*CA20*10))","v":""},{"$f":"IF(Köpek!$B20=\"\",\"\",IF(Köpek!$C20=\"\",\"\",Köpek!$C20*CB20*10))","v":""},{"$f":"IF(Köpek!$B20=\"\",\"\",IF(Köpek!$C20=\"\",\"\",Köpek!$C20*CC20))","v":""},null,"Böcek unu, siyah asker sineği larva unu (Hermetia illucens)",93,56,12.8,{"$f":"2.5*0.93","v":2.3250000000000002},10,4.2,4.2,0.8,null,null,{"$f":"13.75/EH20","v":1.07421875},{"$f":"1.2/EH20","v":9.3749999999999986E-2},{"$f":"1.15/EH20","v":8.9843749999999986E-2},{"$f":"3.7*0.93","v":3.4410000000000003},4,3.6,5.5,{"$f":"5.4*0.93","v":5.0220000000000002},{"$f":"1.4*0.93","v":1.302},null,2.8,null,3.3,null,1E-3,5,7.56,0.9,null,0.17,0.45,0.2,{"$f":"0.12*0.93","v":0.1116},null,4,{"$f":"0.26*0.93","v":0.24180000000000001},66.599999999999994,61.8,0.32,56.2,0.35,1100,2.7,71,38.5,16.2,7.7,6,5.6000000000000001E-2,270,2.5,6.6,{"$f":"69.4/EH20","v":5.421875},{"$f":"14.1/EH20","v":1.1015625},{"$f":"12.8/EH20","v":1},{"$f":"1.37/EH20","v":0.10703125000000001},300,"EX",null,"Yavru ise",{"$f":"IF(Q3=\"Yavru\",  IF(Q4<5,GP25,  IF(Q4<15,GP26,GP27)  ) * IF(Q10=\"İnaktif\",0.9,1), \"Yavru değil\")","v":"Yavru değil"},null,null,null,null,null,null,null,null,"Bulldog",22,25,23.5,"İri",null,null,null,null,"Vitamin E (α-tokoferol), mg ",4.6643949498945538,7.5,7.5,7.5,7.5,null,null,null,null,null,6,1,null,"Chartreux",4.8,null,"Vitamin E (α-tokoferol), mg ",3.4127227206539339,9.5,10,7.75,7.75]
[{"$f":"Köpek!A21","v":0},{"$f":"Köpek!B21","v":0},{"$f":"Köpek!C21","v":0},{"$f":"B62","v":"Potasyum, g "},{"$f":"Köpek!E21","v":0.62191932665260719},{"$f":"DD1","v":0.6341},{"$f":"IF(E21=0,\"\",   IF(F21<E21*0.99,\"EKSİK\",      IF(F21>E21*1.5,\"FAZLA\",    \"TAMAM\")) )","v":"TAMAM"},{"$f":"(F21*100)/(C2*1000)","v":0.19662015503875968},{"$f":"H21*100/H$3","v":0.44270431526746923},0.10194533762057875,null,null,null,null,{"$f":"(F4*100/(F3)*3.5/(F5*100/(F3)))","v":0.18918794212218648},null,{"$f":"O21/SUM(O21:O23)","v":0.21429569771997745},null,"Proteinden",null,"YavruİnaktifBüyük",5,null,null,"Yemler",null,0,null,0,"","","","","","","","","","","","","","","","","","","","","","","","","","","","","","","","","","","","","","","","","","","","","","","","","","","","",null,{"$f":"IF(Köpek!$B21=\"\",\"\",IF(Köpek!$C21=\"\",\"\",Köpek!$C21*AD21*10))","v":""},{"$f":"IF(Köpek!$B21=\"\",\"\",IF(Köpek!$C21=\"\",\"\",   IF(KKSecim=\"Köpek\", Köpek!$C21*AE21*1000, Köpek!$C21*AF21*1000)  )  )","v":""},{"$f":"IF(Köpek!$B21=\"\",\"\",IF(Köpek!$C21=\"\",\"\",Köpek!$C21*AG21*10))","v":""},{"$f":"IF(Köpek!$B21=\"\",\"\",IF(Köpek!$C21=\"\",\"\",Köpek!$C21*AH21*10))","v":""},{"$f":"IF(Köpek!$B21=\"\",\"\",IF(Köpek!$C21=\"\",\"\",Köpek!$C21*AI21*10))","v":""},{"$f":"IF(Köpek!$B21=\"\",\"\",IF(Köpek!$C21=\"\",\"\",Köpek!$C21*AJ21*10))","v":""},{"$f":"IF(Köpek!$B21=\"\",\"\",IF(Köpek!$C21=\"\",\"\",Köpek!$C21*AK21*10))","v":""},{"$f":"IF(Köpek!$B21=\"\",\"\",IF(Köpek!$C21=\"\",\"\",Köpek!$C21*AL21*10))","v":""},{"$f":"IF(Köpek!$B21=\"\",\"\",IF(Köpek!$C21=\"\",\"\",Köpek!$C21*AM21*10))","v":""},{"$f":"IF(Köpek!$B21=\"\",\"\",IF(Köpek!$C21=\"\",\"\",Köpek!$C21*AN21*10))","v":""},{"$f":"IF(Köpek!$B21=\"\",\"\",IF(Köpek!$C21=\"\",\"\",Köpek!$C21*AO21*10))","v":""},{"$f":"IF(Köpek!$B21=\"\",\"\",IF(Köpek!$C21=\"\",\"\",Köpek!$C21*AP21*10))","v":""},{"$f":"IF(Köpek!$B21=\"\",\"\",IF(Köpek!$C21=\"\",\"\",Köpek!$C21*AQ21*10))","v":""},{"$f":"IF(Köpek!$B21=\"\",\"\",IF(Köpek!$C21=\"\",\"\",Köpek!$C21*AR21*10))","v":""},{"$f":"IF(Köpek!$B21=\"\",\"\",IF(Köpek!$C21=\"\",\"\",Köpek!$C21*AS21*10))","v":""},{"$f":"IF(Köpek!$B21=\"\",\"\",IF(Köpek!$C21=\"\",\"\",Köpek!$C21*AT21*10))","v":""},{"$f":"IF(Köpek!$B21=\"\",\"\",IF(Köpek!$C21=\"\",\"\",Köpek!$C21*AU21*10))","v":""},{"$f":"IF(Köpek!$B21=\"\",\"\",IF(Köpek!$C21=\"\",\"\",Köpek!$C21*AV21*10))","v":""},{"$f":"IF(Köpek!$B21=\"\",\"\",IF(Köpek!$C21=\"\",\"\",Köpek!$C21*AW21*10))","v":""},{"$f":"IF(Köpek!$B21=\"\",\"\",IF(Köpek!$C21=\"\",\"\",Köpek!$C21*AX21*10))","v":""},{"$f":"IF(Köpek!$B21=\"\",\"\",IF(Köpek!$C21=\"\",\"\",Köpek!$C21*AY21*10))","v":""},{"$f":"IF(Köpek!$B21=\"\",\"\",IF(Köpek!$C21=\"\",\"\",Köpek!$C21*AZ21*10))","v":""},{"$f":"IF(Köpek!$B21=\"\",\"\",IF(Köpek!$C21=\"\",\"\",Köpek!$C21*BA21*10))","v":""},{"$f":"IF(Köpek!$B21=\"\",\"\",IF(Köpek!$C21=\"\",\"\",Köpek!$C21*BB21*10000))","v":""},{"$f":"IF(Köpek!$B21=\"\",\"\",IF(Köpek!$C21=\"\",\"\",Köpek!$C21*BC21*10000))","v":""},{"$f":"IF(Köpek!$B21=\"\",\"\",IF(Köpek!$C21=\"\",\"\",Köpek!$C21*BD21*10))","v":""},{"$f":"IF(Köpek!$B21=\"\",\"\",IF(Köpek!$C21=\"\",\"\",Köpek!$C21*BE21*10000))","v":""},{"$f":"IF(Köpek!$B21=\"\",\"\",IF(Köpek!$C21=\"\",\"\",Köpek!$C21*BF21))","v":""},{"$f":"IF(Köpek!$B21=\"\",\"\",IF(Köpek!$C21=\"\",\"\",Köpek!$C21*BG21))","v":""},{"$f":"IF(Köpek!$B21=\"\",\"\",IF(Köpek!$C21=\"\",\"\",Köpek!$C21*BH21))","v":""},{"$f":"IF(Köpek!$B21=\"\",\"\",IF(Köpek!$C21=\"\",\"\",Köpek!$C21*BI21))","v":""},{"$f":"IF(Köpek!$B21=\"\",\"\",IF(Köpek!$C21=\"\",\"\",Köpek!$C21*BJ21*1000))","v":""},{"$f":"IF(Köpek!$B21=\"\",\"\",IF(Köpek!$C21=\"\",\"\",Köpek!$C21*BK21))","v":""},{"$f":"IF(Köpek!$B21=\"\",\"\",IF(Köpek!$C21=\"\",\"\",Köpek!$C21*BL21))","v":""},{"$f":"IF(Köpek!$B21=\"\",\"\",IF(Köpek!$C21=\"\",\"\",Köpek!$C21*BM21))","v":""},{"$f":"IF(Köpek!$B21=\"\",\"\",IF(Köpek!$C21=\"\",\"\",Köpek!$C21*BN21))","v":""},{"$f":"IF(Köpek!$B21=\"\",\"\",IF(Köpek!$C21=\"\",\"\",Köpek!$C21*BO21))","v":""},{"$f":"IF(Köpek!$B21=\"\",\"\",IF(Köpek!$C21=\"\",\"\",Köpek!$C21*BP21))","v":""},{"$f":"IF(Köpek!$B21=\"\",\"\",IF(Köpek!$C21=\"\",\"\",Köpek!$C21*BQ21))","v":""},{"$f":"IF(Köpek!$B21=\"\",\"\",IF(Köpek!$C21=\"\",\"\",Köpek!$C21*BR21))","v":""},{"$f":"IF(Köpek!$B21=\"\",\"\",IF(Köpek!$C21=\"\",\"\",Köpek!$C21*BS21))","v":""},{"$f":"IF(Köpek!$B21=\"\",\"\",IF(Köpek!$C21=\"\",\"\",Köpek!$C21*BT21*1000))","v":""},{"$f":"IF(Köpek!$B21=\"\",\"\",IF(Köpek!$C21=\"\",\"\",Köpek!$C21*BU21*1000))","v":""},{"$f":"IF(Köpek!$B21=\"\",\"\",IF(Köpek!$C21=\"\",\"\",Köpek!$C21*BV21))","v":""},{"$f":"IF(Köpek!$B21=\"\",\"\",IF(Köpek!$C21=\"\",\"\",Köpek!$C21*BW21*10))","v":""},{"$f":"IF(Köpek!$B21=\"\",\"\",IF(Köpek!$C21=\"\",\"\",Köpek!$C21*BX21*10))","v":""},{"$f":"IF(Köpek!$B21=\"\",\"\",IF(Köpek!$C21=\"\",\"\",Köpek!$C21*BY21*10))","v":""},{"$f":"IF(Köpek!$B21=\"\",\"\",IF(Köpek!$C21=\"\",\"\",Köpek!$C21*BZ21*10))","v":""},{"$f":"IF(Köpek!$B21=\"\",\"\",IF(Köpek!$C21=\"\",\"\",Köpek!$C21*CA21*10))","v":""},{"$f":"IF(Köpek!$B21=\"\",\"\",IF(Köpek!$C21=\"\",\"\",Köpek!$C21*CB21*10))","v":""},{"$f":"IF(Köpek!$B21=\"\",\"\",IF(Köpek!$C21=\"\",\"\",Köpek!$C21*CC21))","v":""},null,"Böcek unu, bufalo kurdu unu (Alphitobius diaperinus)",92,61,21,null,4,5.2,5.2,1.1000000000000001,null,null,{"$f":"26/EH21","v":1.2380952380952381},{"$f":"0.8/EH21","v":3.8095238095238099E-2},null,3.9,3.7,3.65,5.3,5,1,null,4,null,3.2,0.5,null,3.8,{"$f":"0.02*0.93","v":1.8600000000000002E-2},{"$f":"0.29*0.93","v":0.2697},null,{"$f":"0.08*0.93","v":7.4400000000000008E-2},{"$f":"0.34*0.93","v":0.31620000000000004},{"$f":"0.05*0.93","v":4.6500000000000007E-2},{"$f":"0.19*0.93","v":0.17670000000000002},null,{"$f":"6.1*0.93","v":5.673},{"$f":"0.17*0.93","v":0.15810000000000002},{"$f":"20.6*0.93","v":19.158000000000001},{"$f":"5.2*0.93","v":4.8360000000000003},{"$f":"0.25*0.93","v":0.23250000000000001},{"$f":"52*0.93","v":48.36},{"$f":"0.3*0.93","v":0.27900000000000003},{"$f":"1844*0.93","v":1714.92},{"$f":"1.6*0.93","v":1.4880000000000002},{"$f":"40.7*0.93","v":37.851000000000006},{"$f":"26.2*0.93","v":24.366},{"$f":"8.1*0.93","v":7.5330000000000004},{"$f":"2.4*0.93","v":2.2320000000000002},{"$f":"8.1*0.93","v":7.5330000000000004},{"$f":"5*0.93/1000","v":4.6500000000000005E-3},null,null,4,{"$f":"34/(EH21)","v":1.6190476190476191},{"$f":"29.6/(EH21)","v":1.4095238095238096},{"$f":"26.6/EH21","v":1.2666666666666668},{"$f":"EQ21","v":3.8095238095238099E-2},395,"EY",null,"Yetişkin ise",{"$f":"IF(OR(Q3=\"Yetişkin\", Q3=\"Gebe dişi\", Q3=\"Emziren dişi\")=TRUE, IF(Q10=\"Aktif\",GO13,GO14) *Q5^0.75 + IF(Q3=\"Gebe dişi\", GP33, IF(Q3=\"Emziren dişi\",GP34,0)), \"Yetişkin değil\")","v":621.9193266526072},null,null,null,null,null,null,null,null,"Bullmastiff",45,60,52.5,"Dev",null,null,null,null,"Potasyum, g ",0.62191932665260719,1.1000000000000001,1.1000000000000001,1,0.9,null,null,null,null,null,7,0.8,null,"Cornish Rex",3.4,null,"Potasyum, g ",0.57245671443227275,1,1.3,1.3,1.3]
[{"$f":"Köpek!A22","v":0},{"$f":"Köpek!B22","v":0},{"$f":"Köpek!C22","v":0},{"$f":"B63","v":"Klorid, mg"},{"$f":"Köpek!E22","v":186.57579799578215},{"$f":"DE1","v":0},"EKSİK",{"$f":"(F22/10)/(C2*1000)","v":0},0,0,null,null,null,null,{"$f":"(((F15*100/(F3))*9.5)/(F5*100/(F3)))","v":0.21210200964630221},null,{"$f":"O22/SUM(O21:O23)","v":0.240250766698484},null,"Yağdan",null,"YetişkinİnaktifBüyük",1,null,null,"Hayvansal kaynaklı yiyecekler",null,0,null,0,"","","","","","","","","","","","","","","","","","","","","","","","","","","","","","","","","","","","","","","","","","","","","","","","","","","","",null,{"$f":"IF(Köpek!$B22=\"\",\"\",IF(Köpek!$C22=\"\",\"\",Köpek!$C22*AD22*10))","v":""},{"$f":"IF(Köpek!$B22=\"\",\"\",IF(Köpek!$C22=\"\",\"\",   IF(KKSecim=\"Köpek\", Köpek!$C22*AE22*1000, Köpek!$C22*AF22*1000)  )  )","v":""},{"$f":"IF(Köpek!$B22=\"\",\"\",IF(Köpek!$C22=\"\",\"\",Köpek!$C22*AG22*10))","v":""},{"$f":"IF(Köpek!$B22=\"\",\"\",IF(Köpek!$C22=\"\",\"\",Köpek!$C22*AH22*10))","v":""},{"$f":"IF(Köpek!$B22=\"\",\"\",IF(Köpek!$C22=\"\",\"\",Köpek!$C22*AI22*10))","v":""},{"$f":"IF(Köpek!$B22=\"\",\"\",IF(Köpek!$C22=\"\",\"\",Köpek!$C22*AJ22*10))","v":""},{"$f":"IF(Köpek!$B22=\"\",\"\",IF(Köpek!$C22=\"\",\"\",Köpek!$C22*AK22*10))","v":""},{"$f":"IF(Köpek!$B22=\"\",\"\",IF(Köpek!$C22=\"\",\"\",Köpek!$C22*AL22*10))","v":""},{"$f":"IF(Köpek!$B22=\"\",\"\",IF(Köpek!$C22=\"\",\"\",Köpek!$C22*AM22*10))","v":""},{"$f":"IF(Köpek!$B22=\"\",\"\",IF(Köpek!$C22=\"\",\"\",Köpek!$C22*AN22*10))","v":""},{"$f":"IF(Köpek!$B22=\"\",\"\",IF(Köpek!$C22=\"\",\"\",Köpek!$C22*AO22*10))","v":""},{"$f":"IF(Köpek!$B22=\"\",\"\",IF(Köpek!$C22=\"\",\"\",Köpek!$C22*AP22*10))","v":""},{"$f":"IF(Köpek!$B22=\"\",\"\",IF(Köpek!$C22=\"\",\"\",Köpek!$C22*AQ22*10))","v":""},{"$f":"IF(Köpek!$B22=\"\",\"\",IF(Köpek!$C22=\"\",\"\",Köpek!$C22*AR22*10))","v":""},{"$f":"IF(Köpek!$B22=\"\",\"\",IF(Köpek!$C22=\"\",\"\",Köpek!$C22*AS22*10))","v":""},{"$f":"IF(Köpek!$B22=\"\",\"\",IF(Köpek!$C22=\"\",\"\",Köpek!$C22*AT22*10))","v":""},{"$f":"IF(Köpek!$B22=\"\",\"\",IF(Köpek!$C22=\"\",\"\",Köpek!$C22*AU22*10))","v":""},{"$f":"IF(Köpek!$B22=\"\",\"\",IF(Köpek!$C22=\"\",\"\",Köpek!$C22*AV22*10))","v":""},{"$f":"IF(Köpek!$B22=\"\",\"\",IF(Köpek!$C22=\"\",\"\",Köpek!$C22*AW22*10))","v":""},{"$f":"IF(Köpek!$B22=\"\",\"\",IF(Köpek!$C22=\"\",\"\",Köpek!$C22*AX22*10))","v":""},{"$f":"IF(Köpek!$B22=\"\",\"\",IF(Köpek!$C22=\"\",\"\",Köpek!$C22*AY22*10))","v":""},{"$f":"IF(Köpek!$B22=\"\",\"\",IF(Köpek!$C22=\"\",\"\",Köpek!$C22*AZ22*10))","v":""},{"$f":"IF(Köpek!$B22=\"\",\"\",IF(Köpek!$C22=\"\",\"\",Köpek!$C22*BA22*10))","v":""},{"$f":"IF(Köpek!$B22=\"\",\"\",IF(Köpek!$C22=\"\",\"\",Köpek!$C22*BB22*10000))","v":""},{"$f":"IF(Köpek!$B22=\"\",\"\",IF(Köpek!$C22=\"\",\"\",Köpek!$C22*BC22*10000))","v":""},{"$f":"IF(Köpek!$B22=\"\",\"\",IF(Köpek!$C22=\"\",\"\",Köpek!$C22*BD22*10))","v":""},{"$f":"IF(Köpek!$B22=\"\",\"\",IF(Köpek!$C22=\"\",\"\",Köpek!$C22*BE22*10000))","v":""},{"$f":"IF(Köpek!$B22=\"\",\"\",IF(Köpek!$C22=\"\",\"\",Köpek!$C22*BF22))","v":""},{"$f":"IF(Köpek!$B22=\"\",\"\",IF(Köpek!$C22=\"\",\"\",Köpek!$C22*BG22))","v":""},{"$f":"IF(Köpek!$B22=\"\",\"\",IF(Köpek!$C22=\"\",\"\",Köpek!$C22*BH22))","v":""},{"$f":"IF(Köpek!$B22=\"\",\"\",IF(Köpek!$C22=\"\",\"\",Köpek!$C22*BI22))","v":""},{"$f":"IF(Köpek!$B22=\"\",\"\",IF(Köpek!$C22=\"\",\"\",Köpek!$C22*BJ22*1000))","v":""},{"$f":"IF(Köpek!$B22=\"\",\"\",IF(Köpek!$C22=\"\",\"\",Köpek!$C22*BK22))","v":""},{"$f":"IF(Köpek!$B22=\"\",\"\",IF(Köpek!$C22=\"\",\"\",Köpek!$C22*BL22))","v":""},{"$f":"IF(Köpek!$B22=\"\",\"\",IF(Köpek!$C22=\"\",\"\",Köpek!$C22*BM22))","v":""},{"$f":"IF(Köpek!$B22=\"\",\"\",IF(Köpek!$C22=\"\",\"\",Köpek!$C22*BN22))","v":""},{"$f":"IF(Köpek!$B22=\"\",\"\",IF(Köpek!$C22=\"\",\"\",Köpek!$C22*BO22))","v":""},{"$f":"IF(Köpek!$B22=\"\",\"\",IF(Köpek!$C22=\"\",\"\",Köpek!$C22*BP22))","v":""},{"$f":"IF(Köpek!$B22=\"\",\"\",IF(Köpek!$C22=\"\",\"\",Köpek!$C22*BQ22))","v":""},{"$f":"IF(Köpek!$B22=\"\",\"\",IF(Köpek!$C22=\"\",\"\",Köpek!$C22*BR22))","v":""},{"$f":"IF(Köpek!$B22=\"\",\"\",IF(Köpek!$C22=\"\",\"\",Köpek!$C22*BS22))","v":""},{"$f":"IF(Köpek!$B22=\"\",\"\",IF(Köpek!$C22=\"\",\"\",Köpek!$C22*BT22*1000))","v":""},{"$f":"IF(Köpek!$B22=\"\",\"\",IF(Köpek!$C22=\"\",\"\",Köpek!$C22*BU22*1000))","v":""},{"$f":"IF(Köpek!$B22=\"\",\"\",IF(Köpek!$C22=\"\",\"\",Köpek!$C22*BV22))","v":""},{"$f":"IF(Köpek!$B22=\"\",\"\",IF(Köpek!$C22=\"\",\"\",Köpek!$C22*BW22*10))","v":""},{"$f":"IF(Köpek!$B22=\"\",\"\",IF(Köpek!$C22=\"\",\"\",Köpek!$C22*BX22*10))","v":""},{"$f":"IF(Köpek!$B22=\"\",\"\",IF(Köpek!$C22=\"\",\"\",Köpek!$C22*BY22*10))","v":""},{"$f":"IF(Köpek!$B22=\"\",\"\",IF(Köpek!$C22=\"\",\"\",Köpek!$C22*BZ22*10))","v":""},{"$f":"IF(Köpek!$B22=\"\",\"\",IF(Köpek!$C22=\"\",\"\",Köpek!$C22*CA22*10))","v":""},{"$f":"IF(Köpek!$B22=\"\",\"\",IF(Köpek!$C22=\"\",\"\",Köpek!$C22*CB22*10))","v":""},{"$f":"IF(Köpek!$B22=\"\",\"\",IF(Köpek!$C22=\"\",\"\",Köpek!$C22*CC22))","v":""},null,"Böcek unu, un kurdu unu (Tenebrio molitor)",93,{"$f":"(46.44+48.82)/2*0.93","v":44.295899999999996},{"$f":"(32.7+36.85)/2*0.93","v":32.340750000000007},{"$f":"4.58*0.93","v":4.2594000000000003},{"$f":"(2.86+3.27)/2*0.93","v":2.8504499999999999},4.8,4.8,2.7,null,null,{"$f":"30.9/EH22","v":0.95545094037707823},{"$f":"1.4/EH22","v":4.3289039369835261E-2},null,null,{"$f":"(31.6/100*0.93)/(EG22/100)","v":0.66344740709636796},{"$f":"(50.3/100*0.93)/(EG22/100)","v":1.0560571068654212},{"$f":"(106.4/100*0.93)/(EG22/100)","v":2.2338862061725808},{"$f":"(54.5/100*0.93)/(EG22/100)","v":1.1442368255301283},{"$f":"(12.8/100*0.93)/(EG22/100)","v":0.26873819021625034},{"$f":"(8.6/100*0.93)/(EG22/100)","v":0.18055847155154317},{"$f":"(36.33/100*0.93)/(EG22/100)","v":0.76275456644971662},{"$f":"(73.47/100*0.93)/(EG22/100)","v":1.5425152214990556},{"$f":"(41.8/100*0.93)/(EG22/100)","v":0.87759815242494243},{"$f":"(8/100*0.93)/(EG22/100)","v":0.16796136888515645},{"$f":"80/10000*0.93","v":7.4400000000000004E-3},{"$f":"(58.8/100*0.93)/(EG22/100)","v":1.2345160613058999},1.65,null,null,{"$f":"0.08*0.93","v":7.4400000000000008E-2},{"$f":"0.34*0.93","v":0.31620000000000004},0.1,{"$f":"0.19*0.93","v":0.17670000000000002},null,{"$f":"6.1*0.93","v":5.673},{"$f":"0.17*0.93","v":0.15810000000000002},{"$f":"20.6*0.93","v":19.158000000000001},{"$f":"5.2*0.93","v":4.8360000000000003},{"$f":"0.25*0.93","v":0.23250000000000001},{"$f":"52*0.93","v":48.36},{"$f":"0.3*0.93","v":0.27900000000000003},{"$f":"1844*0.93","v":1714.92},{"$f":"1.6*0.93","v":1.4880000000000002},{"$f":"40.7*0.93","v":37.851000000000006},{"$f":"26.2*0.93","v":24.366},{"$f":"8.1*0.93","v":7.5330000000000004},{"$f":"2.4*0.93","v":2.2320000000000002},{"$f":"8.1*0.93","v":7.5330000000000004},{"$f":"5*0.93/1000","v":4.6500000000000005E-3},null,null,4,{"$f":"0.223*(EH22/100)","v":7.2119872500000015E-2},{"$f":"0.323*(EH22/100)","v":0.10446062250000003},{"$f":"EP22+ER22","v":0.95545094037707823},{"$f":"EQ22","v":4.3289039369835261E-2},300,"EZ",null,"Enerji İhtiyacı",{"$f":"IF(Q3=\"Yavru\",  IF(Q4<5,GP25,  IF(Q4<15,GP26,GP27)  ) * IF(Q10=\"İnaktif\",0.9,1),   IF(OR(Q3=\"Yetişkin\", Q3=\"Gebe dişi\", Q3=\"Emziren dişi\")=TRUE, IF(Q10=\"Aktif\",GO13,GO14) *Q5^0.75 + IF(Q3=\"Gebe dişi\", GP33, IF(Q3=\"Emziren dişi\",GP34,0)), 0)   )","v":621.9193266526072},null,null,null,null,null,null,null,null,"Cavalier King Charles Spaniel",5,8,6.5,"Küçük",null,null,null,null,"Klorid, mg",{"$f":"IF(HI$2=1,HH22,  IF(HI$2=2,HI22,  IF(HI$2=3,HJ22,  IF(HI$2=4,HK22,  \"YOK\")))) * HG$5/1000","v":186.57579799578215},725,725,300,750,null,null,null,null,null,null,null,null,"Cymric",4.4000000000000004,null,"Klorid, mg",{"$f":"IF(HX$2=1,HY22,  IF(HX$2=2,HZ22,  IF(HX$2=3,IA22,  IF(HX$2=4,IB22,  \"YOK\")))) * HX$5/1000","v":440.35131879405594},225,240,1000,1000]
[{"$f":"Köpek!A23","v":0},{"$f":"Köpek!B23","v":0},{"$f":"Köpek!C23","v":0},{"$f":"B65","v":"Bakır, mg"},{"$f":"Köpek!E23","v":0.93287898997891083},{"$f":"DG1","v":0.34296000000000004},{"$f":"IF(E23=0,\"\",   IF(F23<E23*0.99,\"EKSİK\",      IF(F23>E23*1.2,\"FAZLA\",    \"TAMAM\")) )","v":"EKSİK"},{"$f":"(F23*100)/(C2*1000)","v":0.10634418604651165},0.23944152651652939,5.5138263665594857E-2,null,null,null,null,{"$f":"(((F8*100/(F3))*3.5)/(F5*100/(F3)))","v":0.48154598070739546},null,{"$f":"O23/SUM(O21:O23)","v":0.54545353558153864},null,"Karbonhidrattan",null,"Gebe dişiİnaktifBüyük",4,null,null,"Bitkisel kaynaklı yiyecekler",null,0,null,0,{"$f":"IF($AC23=0,\"\",VLOOKUP($AC23,$EE$3:$GJ$510,AD$1,FALSE))","v":""},"","","","","","","","","",{"$f":"IF($AC23=0,\"\",VLOOKUP($AC23,$EE$3:$GJ$510,AN$1,FALSE))","v":""},"","","","","","","","","",{"$f":"IF($AC23=0,\"\",VLOOKUP($AC23,$EE$3:$GJ$510,AX$1,FALSE))","v":""},"","","","","","","","","",{"$f":"IF($AC23=0,\"\",VLOOKUP($AC23,$EE$3:$GJ$510,BH$1,FALSE))","v":""},"","","","","","","","","",{"$f":"IF($AC23=0,\"\",VLOOKUP($AC23,$EE$3:$GJ$510,BR$1,FALSE))","v":""},"","","","","","","","","","","",null,{"$f":"IF(Köpek!$B23=\"\",\"\",IF(Köpek!$C23=\"\",\"\",Köpek!$C23*AD23*10))","v":""},{"$f":"IF(Köpek!$B23=\"\",\"\",IF(Köpek!$C23=\"\",\"\",   IF(KKSecim=\"Köpek\", Köpek!$C23*AE23*1000, Köpek!$C23*AF23*1000)  )  )","v":""},{"$f":"IF(Köpek!$B23=\"\",\"\",IF(Köpek!$C23=\"\",\"\",Köpek!$C23*AG23*10))","v":""},{"$f":"IF(Köpek!$B23=\"\",\"\",IF(Köpek!$C23=\"\",\"\",Köpek!$C23*AH23*10))","v":""},{"$f":"IF(Köpek!$B23=\"\",\"\",IF(Köpek!$C23=\"\",\"\",Köpek!$C23*AI23*10))","v":""},{"$f":"IF(Köpek!$B23=\"\",\"\",IF(Köpek!$C23=\"\",\"\",Köpek!$C23*AJ23*10))","v":""},{"$f":"IF(Köpek!$B23=\"\",\"\",IF(Köpek!$C23=\"\",\"\",Köpek!$C23*AK23*10))","v":""},{"$f":"IF(Köpek!$B23=\"\",\"\",IF(Köpek!$C23=\"\",\"\",Köpek!$C23*AL23*10))","v":""},{"$f":"IF(Köpek!$B23=\"\",\"\",IF(Köpek!$C23=\"\",\"\",Köpek!$C23*AM23*10))","v":""},{"$f":"IF(Köpek!$B23=\"\",\"\",IF(Köpek!$C23=\"\",\"\",Köpek!$C23*AN23*10))","v":""},{"$f":"IF(Köpek!$B23=\"\",\"\",IF(Köpek!$C23=\"\",\"\",Köpek!$C23*AO23*10))","v":""},{"$f":"IF(Köpek!$B23=\"\",\"\",IF(Köpek!$C23=\"\",\"\",Köpek!$C23*AP23*10))","v":""},{"$f":"IF(Köpek!$B23=\"\",\"\",IF(Köpek!$C23=\"\",\"\",Köpek!$C23*AQ23*10))","v":""},{"$f":"IF(Köpek!$B23=\"\",\"\",IF(Köpek!$C23=\"\",\"\",Köpek!$C23*AR23*10))","v":""},{"$f":"IF(Köpek!$B23=\"\",\"\",IF(Köpek!$C23=\"\",\"\",Köpek!$C23*AS23*10))","v":""},{"$f":"IF(Köpek!$B23=\"\",\"\",IF(Köpek!$C23=\"\",\"\",Köpek!$C23*AT23*10))","v":""},{"$f":"IF(Köpek!$B23=\"\",\"\",IF(Köpek!$C23=\"\",\"\",Köpek!$C23*AU23*10))","v":""},{"$f":"IF(Köpek!$B23=\"\",\"\",IF(Köpek!$C23=\"\",\"\",Köpek!$C23*AV23*10))","v":""},{"$f":"IF(Köpek!$B23=\"\",\"\",IF(Köpek!$C23=\"\",\"\",Köpek!$C23*AW23*10))","v":""},{"$f":"IF(Köpek!$B23=\"\",\"\",IF(Köpek!$C23=\"\",\"\",Köpek!$C23*AX23*10))","v":""},{"$f":"IF(Köpek!$B23=\"\",\"\",IF(Köpek!$C23=\"\",\"\",Köpek!$C23*AY23*10))","v":""},{"$f":"IF(Köpek!$B23=\"\",\"\",IF(Köpek!$C23=\"\",\"\",Köpek!$C23*AZ23*10))","v":""},{"$f":"IF(Köpek!$B23=\"\",\"\",IF(Köpek!$C23=\"\",\"\",Köpek!$C23*BA23*10))","v":""},{"$f":"IF(Köpek!$B23=\"\",\"\",IF(Köpek!$C23=\"\",\"\",Köpek!$C23*BB23*10000))","v":""},{"$f":"IF(Köpek!$B23=\"\",\"\",IF(Köpek!$C23=\"\",\"\",Köpek!$C23*BC23*10000))","v":""},{"$f":"IF(Köpek!$B23=\"\",\"\",IF(Köpek!$C23=\"\",\"\",Köpek!$C23*BD23*10))","v":""},{"$f":"IF(Köpek!$B23=\"\",\"\",IF(Köpek!$C23=\"\",\"\",Köpek!$C23*BE23*10000))","v":""},{"$f":"IF(Köpek!$B23=\"\",\"\",IF(Köpek!$C23=\"\",\"\",Köpek!$C23*BF23))","v":""},{"$f":"IF(Köpek!$B23=\"\",\"\",IF(Köpek!$C23=\"\",\"\",Köpek!$C23*BG23))","v":""},{"$f":"IF(Köpek!$B23=\"\",\"\",IF(Köpek!$C23=\"\",\"\",Köpek!$C23*BH23))","v":""},{"$f":"IF(Köpek!$B23=\"\",\"\",IF(Köpek!$C23=\"\",\"\",Köpek!$C23*BI23))","v":""},{"$f":"IF(Köpek!$B23=\"\",\"\",IF(Köpek!$C23=\"\",\"\",Köpek!$C23*BJ23*1000))","v":""},{"$f":"IF(Köpek!$B23=\"\",\"\",IF(Köpek!$C23=\"\",\"\",Köpek!$C23*BK23))","v":""},{"$f":"IF(Köpek!$B23=\"\",\"\",IF(Köpek!$C23=\"\",\"\",Köpek!$C23*BL23))","v":""},{"$f":"IF(Köpek!$B23=\"\",\"\",IF(Köpek!$C23=\"\",\"\",Köpek!$C23*BM23))","v":""},{"$f":"IF(Köpek!$B23=\"\",\"\",IF(Köpek!$C23=\"\",\"\",Köpek!$C23*BN23))","v":""},{"$f":"IF(Köpek!$B23=\"\",\"\",IF(Köpek!$C23=\"\",\"\",Köpek!$C23*BO23))","v":""},{"$f":"IF(Köpek!$B23=\"\",\"\",IF(Köpek!$C23=\"\",\"\",Köpek!$C23*BP23))","v":""},{"$f":"IF(Köpek!$B23=\"\",\"\",IF(Köpek!$C23=\"\",\"\",Köpek!$C23*BQ23))","v":""},{"$f":"IF(Köpek!$B23=\"\",\"\",IF(Köpek!$C23=\"\",\"\",Köpek!$C23*BR23))","v":""},{"$f":"IF(Köpek!$B23=\"\",\"\",IF(Köpek!$C23=\"\",\"\",Köpek!$C23*BS23))","v":""},{"$f":"IF(Köpek!$B23=\"\",\"\",IF(Köpek!$C23=\"\",\"\",Köpek!$C23*BT23*1000))","v":""},{"$f":"IF(Köpek!$B23=\"\",\"\",IF(Köpek!$C23=\"\",\"\",Köpek!$C23*BU23*1000))","v":""},{"$f":"IF(Köpek!$B23=\"\",\"\",IF(Köpek!$C23=\"\",\"\",Köpek!$C23*BV23))","v":""},{"$f":"IF(Köpek!$B23=\"\",\"\",IF(Köpek!$C23=\"\",\"\",Köpek!$C23*BW23*10))","v":""},{"$f":"IF(Köpek!$B23=\"\",\"\",IF(Köpek!$C23=\"\",\"\",Köpek!$C23*BX23*10))","v":""},{"$f":"IF(Köpek!$B23=\"\",\"\",IF(Köpek!$C23=\"\",\"\",Köpek!$C23*BY23*10))","v":""},{"$f":"IF(Köpek!$B23=\"\",\"\",IF(Köpek!$C23=\"\",\"\",Köpek!$C23*BZ23*10))","v":""},{"$f":"IF(Köpek!$B23=\"\",\"\",IF(Köpek!$C23=\"\",\"\",Köpek!$C23*CA23*10))","v":""},{"$f":"IF(Köpek!$B23=\"\",\"\",IF(Köpek!$C23=\"\",\"\",Köpek!$C23*CB23*10))","v":""},{"$f":"IF(Köpek!$B23=\"\",\"\",IF(Köpek!$C23=\"\",\"\",Köpek!$C23*CC23))","v":""},null,"Dana eti, yağsız  (< %5 yağ), çiğ",26.8,21.5,4.3,null,1,1.25,1.25,null,null,null,8.1000000000000003E-2,5.1999999999999998E-2,0.04,1.32,0.76400000000000001,1.04,1.7,1.84,0.55600000000000005,0.14599999999999999,0.86799999999999999,0.72899999999999998,0.93700000000000006,0.22600000000000001,null,1.1499999999999999,5.0000000000000001E-3,0.17,null,2.1999999999999999E-2,0.36,0.05,null,null,0.85000000000000009,8.0000000000000002E-3,21,0.10999999999999999,6.5000000000000002E-2,36,8.6999999999999994E-3,null,7.0000000000000007E-2,62,6.2,1.9300000000000002,0.55000000000000004,3.2,1.3999999999999999E-2,117,4,2.3000000000000003,1.8080000000000001,0.17299999999999999,0.121,5.1999999999999998E-2,400,"FA",null,null,null,null,null,null,null,null,null,null,null,"Chesapeake Bay Retriever",25,36,30.5,"İri",null,null,null,null,"Bakır, mg",0.93287898997891083,2.75,2.75,1.5,3.1,null,null,null,null,null,null,null,null,"Devon Rex",3.6,null,"Bakır, mg",0.96877290134692318,2.1,1.2,2.2000000000000002,2.2000000000000002]
[{"$f":"Köpek!A24","v":0},{"$f":"Köpek!B24","v":0},{"$f":"Köpek!C24","v":0},{"$f":"B66","v":"Çinko, mg"},{"$f":"Köpek!E24","v":9.3287898997891077},{"$f":"DH1","v":3.3294800000000002},{"$f":"IF(E24=0,\"\",   IF(F24<E24*0.99,\"EKSİK\",      IF(F24>E24*1.2,\"FAZLA\",    \"TAMAM\")) )","v":"EKSİK"},{"$f":"(F24*100)/(C2*1000)","v":1.0323968992248063},2.3245153187142935,0.53528617363344044,null,null,null,null,null,null,null,null,null,null,"Emziren dişiİnaktifBüyük",4,null,null,"Mineral kaynakları",null,0,null,0,"","","","","","","","","","","","","","","","","","","","","","","","","","","","","","","","","","","","","","","","","","","","","","","","","","","","",null,{"$f":"IF(Köpek!$B24=\"\",\"\",IF(Köpek!$C24=\"\",\"\",Köpek!$C24*AD24*10))","v":""},{"$f":"IF(Köpek!$B24=\"\",\"\",IF(Köpek!$C24=\"\",\"\",   IF(KKSecim=\"Köpek\", Köpek!$C24*AE24*1000, Köpek!$C24*AF24*1000)  )  )","v":""},{"$f":"IF(Köpek!$B24=\"\",\"\",IF(Köpek!$C24=\"\",\"\",Köpek!$C24*AG24*10))","v":""},{"$f":"IF(Köpek!$B24=\"\",\"\",IF(Köpek!$C24=\"\",\"\",Köpek!$C24*AH24*10))","v":""},{"$f":"IF(Köpek!$B24=\"\",\"\",IF(Köpek!$C24=\"\",\"\",Köpek!$C24*AI24*10))","v":""},{"$f":"IF(Köpek!$B24=\"\",\"\",IF(Köpek!$C24=\"\",\"\",Köpek!$C24*AJ24*10))","v":""},{"$f":"IF(Köpek!$B24=\"\",\"\",IF(Köpek!$C24=\"\",\"\",Köpek!$C24*AK24*10))","v":""},{"$f":"IF(Köpek!$B24=\"\",\"\",IF(Köpek!$C24=\"\",\"\",Köpek!$C24*AL24*10))","v":""},{"$f":"IF(Köpek!$B24=\"\",\"\",IF(Köpek!$C24=\"\",\"\",Köpek!$C24*AM24*10))","v":""},{"$f":"IF(Köpek!$B24=\"\",\"\",IF(Köpek!$C24=\"\",\"\",Köpek!$C24*AN24*10))","v":""},{"$f":"IF(Köpek!$B24=\"\",\"\",IF(Köpek!$C24=\"\",\"\",Köpek!$C24*AO24*10))","v":""},{"$f":"IF(Köpek!$B24=\"\",\"\",IF(Köpek!$C24=\"\",\"\",Köpek!$C24*AP24*10))","v":""},{"$f":"IF(Köpek!$B24=\"\",\"\",IF(Köpek!$C24=\"\",\"\",Köpek!$C24*AQ24*10))","v":""},{"$f":"IF(Köpek!$B24=\"\",\"\",IF(Köpek!$C24=\"\",\"\",Köpek!$C24*AR24*10))","v":""},{"$f":"IF(Köpek!$B24=\"\",\"\",IF(Köpek!$C24=\"\",\"\",Köpek!$C24*AS24*10))","v":""},{"$f":"IF(Köpek!$B24=\"\",\"\",IF(Köpek!$C24=\"\",\"\",Köpek!$C24*AT24*10))","v":""},{"$f":"IF(Köpek!$B24=\"\",\"\",IF(Köpek!$C24=\"\",\"\",Köpek!$C24*AU24*10))","v":""},{"$f":"IF(Köpek!$B24=\"\",\"\",IF(Köpek!$C24=\"\",\"\",Köpek!$C24*AV24*10))","v":""},{"$f":"IF(Köpek!$B24=\"\",\"\",IF(Köpek!$C24=\"\",\"\",Köpek!$C24*AW24*10))","v":""},{"$f":"IF(Köpek!$B24=\"\",\"\",IF(Köpek!$C24=\"\",\"\",Köpek!$C24*AX24*10))","v":""},{"$f":"IF(Köpek!$B24=\"\",\"\",IF(Köpek!$C24=\"\",\"\",Köpek!$C24*AY24*10))","v":""},{"$f":"IF(Köpek!$B24=\"\",\"\",IF(Köpek!$C24=\"\",\"\",Köpek!$C24*AZ24*10))","v":""},{"$f":"IF(Köpek!$B24=\"\",\"\",IF(Köpek!$C24=\"\",\"\",Köpek!$C24*BA24*10))","v":""},{"$f":"IF(Köpek!$B24=\"\",\"\",IF(Köpek!$C24=\"\",\"\",Köpek!$C24*BB24*10000))","v":""},{"$f":"IF(Köpek!$B24=\"\",\"\",IF(Köpek!$C24=\"\",\"\",Köpek!$C24*BC24*10000))","v":""},{"$f":"IF(Köpek!$B24=\"\",\"\",IF(Köpek!$C24=\"\",\"\",Köpek!$C24*BD24*10))","v":""},{"$f":"IF(Köpek!$B24=\"\",\"\",IF(Köpek!$C24=\"\",\"\",Köpek!$C24*BE24*10000))","v":""},{"$f":"IF(Köpek!$B24=\"\",\"\",IF(Köpek!$C24=\"\",\"\",Köpek!$C24*BF24))","v":""},{"$f":"IF(Köpek!$B24=\"\",\"\",IF(Köpek!$C24=\"\",\"\",Köpek!$C24*BG24))","v":""},{"$f":"IF(Köpek!$B24=\"\",\"\",IF(Köpek!$C24=\"\",\"\",Köpek!$C24*BH24))","v":""},{"$f":"IF(Köpek!$B24=\"\",\"\",IF(Köpek!$C24=\"\",\"\",Köpek!$C24*BI24))","v":""},{"$f":"IF(Köpek!$B24=\"\",\"\",IF(Köpek!$C24=\"\",\"\",Köpek!$C24*BJ24*1000))","v":""},{"$f":"IF(Köpek!$B24=\"\",\"\",IF(Köpek!$C24=\"\",\"\",Köpek!$C24*BK24))","v":""},{"$f":"IF(Köpek!$B24=\"\",\"\",IF(Köpek!$C24=\"\",\"\",Köpek!$C24*BL24))","v":""},{"$f":"IF(Köpek!$B24=\"\",\"\",IF(Köpek!$C24=\"\",\"\",Köpek!$C24*BM24))","v":""},{"$f":"IF(Köpek!$B24=\"\",\"\",IF(Köpek!$C24=\"\",\"\",Köpek!$C24*BN24))","v":""},{"$f":"IF(Köpek!$B24=\"\",\"\",IF(Köpek!$C24=\"\",\"\",Köpek!$C24*BO24))","v":""},{"$f":"IF(Köpek!$B24=\"\",\"\",IF(Köpek!$C24=\"\",\"\",Köpek!$C24*BP24))","v":""},{"$f":"IF(Köpek!$B24=\"\",\"\",IF(Köpek!$C24=\"\",\"\",Köpek!$C24*BQ24))","v":""},{"$f":"IF(Köpek!$B24=\"\",\"\",IF(Köpek!$C24=\"\",\"\",Köpek!$C24*BR24))","v":""},{"$f":"IF(Köpek!$B24=\"\",\"\",IF(Köpek!$C24=\"\",\"\",Köpek!$C24*BS24))","v":""},{"$f":"IF(Köpek!$B24=\"\",\"\",IF(Köpek!$C24=\"\",\"\",Köpek!$C24*BT24*1000))","v":""},{"$f":"IF(Köpek!$B24=\"\",\"\",IF(Köpek!$C24=\"\",\"\",Köpek!$C24*BU24*1000))","v":""},{"$f":"IF(Köpek!$B24=\"\",\"\",IF(Köpek!$C24=\"\",\"\",Köpek!$C24*BV24))","v":""},{"$f":"IF(Köpek!$B24=\"\",\"\",IF(Köpek!$C24=\"\",\"\",Köpek!$C24*BW24*10))","v":""},{"$f":"IF(Köpek!$B24=\"\",\"\",IF(Köpek!$C24=\"\",\"\",Köpek!$C24*BX24*10))","v":""},{"$f":"IF(Köpek!$B24=\"\",\"\",IF(Köpek!$C24=\"\",\"\",Köpek!$C24*BY24*10))","v":""},{"$f":"IF(Köpek!$B24=\"\",\"\",IF(Köpek!$C24=\"\",\"\",Köpek!$C24*BZ24*10))","v":""},{"$f":"IF(Köpek!$B24=\"\",\"\",IF(Köpek!$C24=\"\",\"\",Köpek!$C24*CA24*10))","v":""},{"$f":"IF(Köpek!$B24=\"\",\"\",IF(Köpek!$C24=\"\",\"\",Köpek!$C24*CB24*10))","v":""},{"$f":"IF(Köpek!$B24=\"\",\"\",IF(Köpek!$C24=\"\",\"\",Köpek!$C24*CC24))","v":""},null,"Dana eti, %5-10 yağlı, çiğ",29.2,20.399999999999999,7.8,null,1,1.52,1.52,null,null,null,0.14599999999999999,9.5000000000000001E-2,7.2999999999999995E-2,1.28,0.70899999999999996,1.01,1.62,1.76,0.54,0.14499999999999999,0.84399999999999997,0.70899999999999996,0.91200000000000003,0.23,null,1.1100000000000001,5.0000000000000001E-3,0.17,null,2.1999999999999999E-2,0.32500000000000001,6.5000000000000002E-2,null,null,0.83000000000000007,8.0000000000000002E-3,21,0.10999999999999999,6.8000000000000005E-2,48,8.6999999999999994E-3,null,7.2999999999999995E-2,62,6.2,1.7399999999999998,0.45999999999999996,3.2,1.3999999999999999E-2,117,5,2.3000000000000003,3.2839999999999998,0.314,0.219,9.5000000000000001E-2,450,"FB",null,null,"Enerji ihtiyacı","İnaktif","Aktif",null,"b",null,null,null,null,"Chihuahua",1,3,2,"Küçük",null,null,null,null,"Çinko, mg",9.3287898997891077,25,25,15,24,null,null,null,null,null,null,"Potasyum, g ",null,"Don Sphynx",4.3,null,"Çinko, mg",6.605269781910839,18.75,18.5,15,15]
[{"$f":"Köpek!A25","v":0},{"$f":"Köpek!B25","v":0},{"$f":"Köpek!C25","v":0},{"$f":"B64","v":"Demir, mg"},{"$f":"Köpek!E25","v":4.6643949498945538},{"$f":"DF1","v":4.0418000000000003},{"$f":"IF(E25=0,\"\",   IF(F25<E25*0.99,\"EKSİK\",      IF(F25>E25*1.5,\"FAZLA\",    \"TAMAM\")) )","v":"EKSİK"},{"$f":"(F25*100)/(C2*1000)","v":1.2532713178294574},2.8218298398486947,0.64980707395498383,null,null,null,null,null,null,null,null,null,null,"YavruAktifBüyük",5,null,null,"Yağlar",null,0,null,0,"","","","","","","","","","","","","","","","","","","","","","","","","","","","","","","","","","","","","","","","","","","","","","","","","","","","",null,{"$f":"IF(Köpek!$B25=\"\",\"\",IF(Köpek!$C25=\"\",\"\",Köpek!$C25*AD25*10))","v":""},{"$f":"IF(Köpek!$B25=\"\",\"\",IF(Köpek!$C25=\"\",\"\",   IF(KKSecim=\"Köpek\", Köpek!$C25*AE25*1000, Köpek!$C25*AF25*1000)  )  )","v":""},{"$f":"IF(Köpek!$B25=\"\",\"\",IF(Köpek!$C25=\"\",\"\",Köpek!$C25*AG25*10))","v":""},{"$f":"IF(Köpek!$B25=\"\",\"\",IF(Köpek!$C25=\"\",\"\",Köpek!$C25*AH25*10))","v":""},{"$f":"IF(Köpek!$B25=\"\",\"\",IF(Köpek!$C25=\"\",\"\",Köpek!$C25*AI25*10))","v":""},{"$f":"IF(Köpek!$B25=\"\",\"\",IF(Köpek!$C25=\"\",\"\",Köpek!$C25*AJ25*10))","v":""},{"$f":"IF(Köpek!$B25=\"\",\"\",IF(Köpek!$C25=\"\",\"\",Köpek!$C25*AK25*10))","v":""},{"$f":"IF(Köpek!$B25=\"\",\"\",IF(Köpek!$C25=\"\",\"\",Köpek!$C25*AL25*10))","v":""},{"$f":"IF(Köpek!$B25=\"\",\"\",IF(Köpek!$C25=\"\",\"\",Köpek!$C25*AM25*10))","v":""},{"$f":"IF(Köpek!$B25=\"\",\"\",IF(Köpek!$C25=\"\",\"\",Köpek!$C25*AN25*10))","v":""},{"$f":"IF(Köpek!$B25=\"\",\"\",IF(Köpek!$C25=\"\",\"\",Köpek!$C25*AO25*10))","v":""},{"$f":"IF(Köpek!$B25=\"\",\"\",IF(Köpek!$C25=\"\",\"\",Köpek!$C25*AP25*10))","v":""},{"$f":"IF(Köpek!$B25=\"\",\"\",IF(Köpek!$C25=\"\",\"\",Köpek!$C25*AQ25*10))","v":""},{"$f":"IF(Köpek!$B25=\"\",\"\",IF(Köpek!$C25=\"\",\"\",Köpek!$C25*AR25*10))","v":""},{"$f":"IF(Köpek!$B25=\"\",\"\",IF(Köpek!$C25=\"\",\"\",Köpek!$C25*AS25*10))","v":""},{"$f":"IF(Köpek!$B25=\"\",\"\",IF(Köpek!$C25=\"\",\"\",Köpek!$C25*AT25*10))","v":""},{"$f":"IF(Köpek!$B25=\"\",\"\",IF(Köpek!$C25=\"\",\"\",Köpek!$C25*AU25*10))","v":""},{"$f":"IF(Köpek!$B25=\"\",\"\",IF(Köpek!$C25=\"\",\"\",Köpek!$C25*AV25*10))","v":""},{"$f":"IF(Köpek!$B25=\"\",\"\",IF(Köpek!$C25=\"\",\"\",Köpek!$C25*AW25*10))","v":""},{"$f":"IF(Köpek!$B25=\"\",\"\",IF(Köpek!$C25=\"\",\"\",Köpek!$C25*AX25*10))","v":""},{"$f":"IF(Köpek!$B25=\"\",\"\",IF(Köpek!$C25=\"\",\"\",Köpek!$C25*AY25*10))","v":""},{"$f":"IF(Köpek!$B25=\"\",\"\",IF(Köpek!$C25=\"\",\"\",Köpek!$C25*AZ25*10))","v":""},{"$f":"IF(Köpek!$B25=\"\",\"\",IF(Köpek!$C25=\"\",\"\",Köpek!$C25*BA25*10))","v":""},{"$f":"IF(Köpek!$B25=\"\",\"\",IF(Köpek!$C25=\"\",\"\",Köpek!$C25*BB25*10000))","v":""},{"$f":"IF(Köpek!$B25=\"\",\"\",IF(Köpek!$C25=\"\",\"\",Köpek!$C25*BC25*10000))","v":""},{"$f":"IF(Köpek!$B25=\"\",\"\",IF(Köpek!$C25=\"\",\"\",Köpek!$C25*BD25*10))","v":""},{"$f":"IF(Köpek!$B25=\"\",\"\",IF(Köpek!$C25=\"\",\"\",Köpek!$C25*BE25*10000))","v":""},{"$f":"IF(Köpek!$B25=\"\",\"\",IF(Köpek!$C25=\"\",\"\",Köpek!$C25*BF25))","v":""},{"$f":"IF(Köpek!$B25=\"\",\"\",IF(Köpek!$C25=\"\",\"\",Köpek!$C25*BG25))","v":""},{"$f":"IF(Köpek!$B25=\"\",\"\",IF(Köpek!$C25=\"\",\"\",Köpek!$C25*BH25))","v":""},{"$f":"IF(Köpek!$B25=\"\",\"\",IF(Köpek!$C25=\"\",\"\",Köpek!$C25*BI25))","v":""},{"$f":"IF(Köpek!$B25=\"\",\"\",IF(Köpek!$C25=\"\",\"\",Köpek!$C25*BJ25*1000))","v":""},{"$f":"IF(Köpek!$B25=\"\",\"\",IF(Köpek!$C25=\"\",\"\",Köpek!$C25*BK25))","v":""},{"$f":"IF(Köpek!$B25=\"\",\"\",IF(Köpek!$C25=\"\",\"\",Köpek!$C25*BL25))","v":""},{"$f":"IF(Köpek!$B25=\"\",\"\",IF(Köpek!$C25=\"\",\"\",Köpek!$C25*BM25))","v":""},{"$f":"IF(Köpek!$B25=\"\",\"\",IF(Köpek!$C25=\"\",\"\",Köpek!$C25*BN25))","v":""},{"$f":"IF(Köpek!$B25=\"\",\"\",IF(Köpek!$C25=\"\",\"\",Köpek!$C25*BO25))","v":""},{"$f":"IF(Köpek!$B25=\"\",\"\",IF(Köpek!$C25=\"\",\"\",Köpek!$C25*BP25))","v":""},{"$f":"IF(Köpek!$B25=\"\",\"\",IF(Köpek!$C25=\"\",\"\",Köpek!$C25*BQ25))","v":""},{"$f":"IF(Köpek!$B25=\"\",\"\",IF(Köpek!$C25=\"\",\"\",Köpek!$C25*BR25))","v":""},{"$f":"IF(Köpek!$B25=\"\",\"\",IF(Köpek!$C25=\"\",\"\",Köpek!$C25*BS25))","v":""},{"$f":"IF(Köpek!$B25=\"\",\"\",IF(Köpek!$C25=\"\",\"\",Köpek!$C25*BT25*1000))","v":""},{"$f":"IF(Köpek!$B25=\"\",\"\",IF(Köpek!$C25=\"\",\"\",Köpek!$C25*BU25*1000))","v":""},{"$f":"IF(Köpek!$B25=\"\",\"\",IF(Köpek!$C25=\"\",\"\",Köpek!$C25*BV25))","v":""},{"$f":"IF(Köpek!$B25=\"\",\"\",IF(Köpek!$C25=\"\",\"\",Köpek!$C25*BW25*10))","v":""},{"$f":"IF(Köpek!$B25=\"\",\"\",IF(Köpek!$C25=\"\",\"\",Köpek!$C25*BX25*10))","v":""},{"$f":"IF(Köpek!$B25=\"\",\"\",IF(Köpek!$C25=\"\",\"\",Köpek!$C25*BY25*10))","v":""},{"$f":"IF(Köpek!$B25=\"\",\"\",IF(Köpek!$C25=\"\",\"\",Köpek!$C25*BZ25*10))","v":""},{"$f":"IF(Köpek!$B25=\"\",\"\",IF(Köpek!$C25=\"\",\"\",Köpek!$C25*CA25*10))","v":""},{"$f":"IF(Köpek!$B25=\"\",\"\",IF(Köpek!$C25=\"\",\"\",Köpek!$C25*CB25*10))","v":""},{"$f":"IF(Köpek!$B25=\"\",\"\",IF(Köpek!$C25=\"\",\"\",Köpek!$C25*CC25))","v":""},null,"Dana eti, %10-15 yağlı, çiğ",30,19.399999999999999,9.6999999999999993,null,0.9,1.64,1.64,null,null,null,0.14699999999999999,3.9E-2,7.2999999999999995E-2,1.28,0.70899999999999996,1.01,1.62,1.76,0.54,0.14499999999999999,0.84399999999999997,0.70899999999999996,0.91200000000000003,0.23,null,1.1100000000000001,6.8899999999999994E-3,0.17399999999999999,null,1.9300000000000001E-2,0.30199999999999999,6.4799999999999996E-2,null,null,0.66600000000000004,8.0000000000000002E-3,22.5,8.5000000000000006E-2,6.8000000000000005E-2,44,1.2699999999999999E-2,null,9.6300000000000011E-2,39.300000000000004,3.4000000000000004,1.6600000000000001,0.441,2.6100000000000003,2.0400000000000001E-2,117,5,3.93,2.7959999999999998,0.185,0.14699999999999999,3.9E-2,450,"FC",null,"CA","Yeni doğan",{"$f":"GP25*0.9","v":1575},{"$f":"25*(Q5*10)","v":1750},null,null,null,null,null,null,"Chinese Shar Pei",18,25,21.5,"İri",null,null,null,null,"Demir, mg",4.6643949498945538,22,22,7.5,17.5,null,null,null,null,null,null,"Bakır, mg",null,"Egyptian Mau",3.8,null,"Demir, mg",8.8070263758811205,20,20,20,20]
[{"$f":"Köpek!A26","v":0},{"$f":"Köpek!B26","v":0},{"$f":"Köpek!C26","v":0},{"$f":"B69","v":"İyot, mg "},{"$f":"Köpek!E26","v":0.13682225186357361},{"$f":"DK1","v":3.576E-2},{"$f":"IF(E26=0,\"\",   IF(F26<E26*0.99,\"EKSİK\",      IF(F26>E26*1.1,\"FAZLA\",    \"TAMAM\")) )","v":"EKSİK"},{"$f":"(F26*100)/(C2*1000)","v":1.1088372093023257E-2},2.4966261337272835E-2,5.7491961414790991E-3,null,null,null,null,null,null,null,null,null,null,"YetişkinAktifBüyük",2,null,null,null,null,0,null,0,"","","","","","","","","","","","","","","","","","","","","","","","","","","","","","","","","","","","","","","","","","","","","","","","","","","","",null,{"$f":"IF(Köpek!$B26=\"\",\"\",IF(Köpek!$C26=\"\",\"\",Köpek!$C26*AD26*10))","v":""},{"$f":"IF(Köpek!$B26=\"\",\"\",IF(Köpek!$C26=\"\",\"\",   IF(KKSecim=\"Köpek\", Köpek!$C26*AE26*1000, Köpek!$C26*AF26*1000)  )  )","v":""},{"$f":"IF(Köpek!$B26=\"\",\"\",IF(Köpek!$C26=\"\",\"\",Köpek!$C26*AG26*10))","v":""},{"$f":"IF(Köpek!$B26=\"\",\"\",IF(Köpek!$C26=\"\",\"\",Köpek!$C26*AH26*10))","v":""},{"$f":"IF(Köpek!$B26=\"\",\"\",IF(Köpek!$C26=\"\",\"\",Köpek!$C26*AI26*10))","v":""},{"$f":"IF(Köpek!$B26=\"\",\"\",IF(Köpek!$C26=\"\",\"\",Köpek!$C26*AJ26*10))","v":""},{"$f":"IF(Köpek!$B26=\"\",\"\",IF(Köpek!$C26=\"\",\"\",Köpek!$C26*AK26*10))","v":""},{"$f":"IF(Köpek!$B26=\"\",\"\",IF(Köpek!$C26=\"\",\"\",Köpek!$C26*AL26*10))","v":""},{"$f":"IF(Köpek!$B26=\"\",\"\",IF(Köpek!$C26=\"\",\"\",Köpek!$C26*AM26*10))","v":""},{"$f":"IF(Köpek!$B26=\"\",\"\",IF(Köpek!$C26=\"\",\"\",Köpek!$C26*AN26*10))","v":""},{"$f":"IF(Köpek!$B26=\"\",\"\",IF(Köpek!$C26=\"\",\"\",Köpek!$C26*AO26*10))","v":""},{"$f":"IF(Köpek!$B26=\"\",\"\",IF(Köpek!$C26=\"\",\"\",Köpek!$C26*AP26*10))","v":""},{"$f":"IF(Köpek!$B26=\"\",\"\",IF(Köpek!$C26=\"\",\"\",Köpek!$C26*AQ26*10))","v":""},{"$f":"IF(Köpek!$B26=\"\",\"\",IF(Köpek!$C26=\"\",\"\",Köpek!$C26*AR26*10))","v":""},{"$f":"IF(Köpek!$B26=\"\",\"\",IF(Köpek!$C26=\"\",\"\",Köpek!$C26*AS26*10))","v":""},{"$f":"IF(Köpek!$B26=\"\",\"\",IF(Köpek!$C26=\"\",\"\",Köpek!$C26*AT26*10))","v":""},{"$f":"IF(Köpek!$B26=\"\",\"\",IF(Köpek!$C26=\"\",\"\",Köpek!$C26*AU26*10))","v":""},{"$f":"IF(Köpek!$B26=\"\",\"\",IF(Köpek!$C26=\"\",\"\",Köpek!$C26*AV26*10))","v":""},{"$f":"IF(Köpek!$B26=\"\",\"\",IF(Köpek!$C26=\"\",\"\",Köpek!$C26*AW26*10))","v":""},{"$f":"IF(Köpek!$B26=\"\",\"\",IF(Köpek!$C26=\"\",\"\",Köpek!$C26*AX26*10))","v":""},{"$f":"IF(Köpek!$B26=\"\",\"\",IF(Köpek!$C26=\"\",\"\",Köpek!$C26*AY26*10))","v":""},{"$f":"IF(Köpek!$B26=\"\",\"\",IF(Köpek!$C26=\"\",\"\",Köpek!$C26*AZ26*10))","v":""},{"$f":"IF(Köpek!$B26=\"\",\"\",IF(Köpek!$C26=\"\",\"\",Köpek!$C26*BA26*10))","v":""},{"$f":"IF(Köpek!$B26=\"\",\"\",IF(Köpek!$C26=\"\",\"\",Köpek!$C26*BB26*10000))","v":""},{"$f":"IF(Köpek!$B26=\"\",\"\",IF(Köpek!$C26=\"\",\"\",Köpek!$C26*BC26*10000))","v":""},{"$f":"IF(Köpek!$B26=\"\",\"\",IF(Köpek!$C26=\"\",\"\",Köpek!$C26*BD26*10))","v":""},{"$f":"IF(Köpek!$B26=\"\",\"\",IF(Köpek!$C26=\"\",\"\",Köpek!$C26*BE26*10000))","v":""},{"$f":"IF(Köpek!$B26=\"\",\"\",IF(Köpek!$C26=\"\",\"\",Köpek!$C26*BF26))","v":""},{"$f":"IF(Köpek!$B26=\"\",\"\",IF(Köpek!$C26=\"\",\"\",Köpek!$C26*BG26))","v":""},{"$f":"IF(Köpek!$B26=\"\",\"\",IF(Köpek!$C26=\"\",\"\",Köpek!$C26*BH26))","v":""},{"$f":"IF(Köpek!$B26=\"\",\"\",IF(Köpek!$C26=\"\",\"\",Köpek!$C26*BI26))","v":""},{"$f":"IF(Köpek!$B26=\"\",\"\",IF(Köpek!$C26=\"\",\"\",Köpek!$C26*BJ26*1000))","v":""},{"$f":"IF(Köpek!$B26=\"\",\"\",IF(Köpek!$C26=\"\",\"\",Köpek!$C26*BK26))","v":""},{"$f":"IF(Köpek!$B26=\"\",\"\",IF(Köpek!$C26=\"\",\"\",Köpek!$C26*BL26))","v":""},{"$f":"IF(Köpek!$B26=\"\",\"\",IF(Köpek!$C26=\"\",\"\",Köpek!$C26*BM26))","v":""},{"$f":"IF(Köpek!$B26=\"\",\"\",IF(Köpek!$C26=\"\",\"\",Köpek!$C26*BN26))","v":""},{"$f":"IF(Köpek!$B26=\"\",\"\",IF(Köpek!$C26=\"\",\"\",Köpek!$C26*BO26))","v":""},{"$f":"IF(Köpek!$B26=\"\",\"\",IF(Köpek!$C26=\"\",\"\",Köpek!$C26*BP26))","v":""},{"$f":"IF(Köpek!$B26=\"\",\"\",IF(Köpek!$C26=\"\",\"\",Köpek!$C26*BQ26))","v":""},{"$f":"IF(Köpek!$B26=\"\",\"\",IF(Köpek!$C26=\"\",\"\",Köpek!$C26*BR26))","v":""},{"$f":"IF(Köpek!$B26=\"\",\"\",IF(Köpek!$C26=\"\",\"\",Köpek!$C26*BS26))","v":""},{"$f":"IF(Köpek!$B26=\"\",\"\",IF(Köpek!$C26=\"\",\"\",Köpek!$C26*BT26*1000))","v":""},{"$f":"IF(Köpek!$B26=\"\",\"\",IF(Köpek!$C26=\"\",\"\",Köpek!$C26*BU26*1000))","v":""},{"$f":"IF(Köpek!$B26=\"\",\"\",IF(Köpek!$C26=\"\",\"\",Köpek!$C26*BV26))","v":""},{"$f":"IF(Köpek!$B26=\"\",\"\",IF(Köpek!$C26=\"\",\"\",Köpek!$C26*BW26*10))","v":""},{"$f":"IF(Köpek!$B26=\"\",\"\",IF(Köpek!$C26=\"\",\"\",Köpek!$C26*BX26*10))","v":""},{"$f":"IF(Köpek!$B26=\"\",\"\",IF(Köpek!$C26=\"\",\"\",Köpek!$C26*BY26*10))","v":""},{"$f":"IF(Köpek!$B26=\"\",\"\",IF(Köpek!$C26=\"\",\"\",Köpek!$C26*BZ26*10))","v":""},{"$f":"IF(Köpek!$B26=\"\",\"\",IF(Köpek!$C26=\"\",\"\",Köpek!$C26*CA26*10))","v":""},{"$f":"IF(Köpek!$B26=\"\",\"\",IF(Köpek!$C26=\"\",\"\",Köpek!$C26*CB26*10))","v":""},{"$f":"IF(Köpek!$B26=\"\",\"\",IF(Köpek!$C26=\"\",\"\",Köpek!$C26*CC26))","v":""},null,"Dana eti, % 15-20 yağlı, çiğ",34.9,17.8,16.2,null,0.9,2.17,2.17,null,null,null,0.33100000000000002,8.4000000000000005E-2,0.13100000000000001,1.17,0.66200000000000003,0.94599999999999995,1.48,1.64,0.47299999999999998,0.14199999999999999,0.75600000000000001,0.63,0.82,0.224,null,1.01,8.1600000000000006E-3,0.16200000000000001,null,1.7600000000000001E-2,0.27700000000000002,6.5200000000000008E-2,null,null,0.61699999999999999,0.01,19.7,8.7100000000000011E-2,6.5000000000000002E-2,39.1,1.2800000000000001E-2,null,9.2100000000000015E-2,37.400000000000006,3.1,1.5,0.42999999999999994,2.38,1.8200000000000001E-2,124,6,4.03,6.9210000000000003,0.41599999999999998,0.33100000000000002,8.4000000000000005E-2,400,"FD",null,"CA, ECA"," 4-14 haftalık",{"$f":"GP26*0.9","v":591.45636085932244},{"$f":"130*Q5^0.75*3.2*(EXP(-0.87*(Q5/GN18))-0.1)","v":657.17373428813607},null,130,null,null,null,null,"Chow Chow",25,32,28.5,"İri",null,null,null,null,"İyot, mg ",{"$f":"IF(HI$2=1,HH26,  IF(HI$2=2,HI26,  IF(HI$2=3,HJ26,  IF(HI$2=4,HK26,  \"YOK\")))) * HG$5/1000/1000","v":0.13682225186357361},220,220,220,220,null,null,null,null,null,null,"Çinko, mg",null,"Elf cat",3.9,null,"İyot,mg ",{"$f":"IF(HX$2=1,HY26,  IF(HX$2=2,HZ26,  IF(HX$2=3,IA26,  IF(HX$2=4,IB26,  \"YOK\")))) * HX$5/1000/1000","v":0.19815809345732519},450,350,450,450]
[{"$f":"Köpek!A27","v":0},{"$f":"Köpek!B27","v":0},{"$f":"Köpek!C27","v":0},{"$f":"B67","v":"Manganez, mg"},{"$f":"Köpek!E27","v":0.74630319198312867},{"$f":"DI1","v":1.4279600000000001},{"$f":"IF(E27=0,\"\",   IF(F27<E27*0.99,\"EKSİK\",      IF(F27>E27*1.2,\"FAZLA\",    \"TAMAM\")) )","v":"FAZLA"},{"$f":"(F27*100)/(C2*1000)","v":0.44277829457364348},0.99694693901488018,0.22957556270096463,null,null,null,null,null,null,null,null,null,null,"Gebe dişiAktifBüyük",4,null,null,null,null,0,null,0,"","","","","","","","","","","","","","","","","","","","","","","","","","","","","","","","","","","","","","","","","","","","","","","","","","","","",null,{"$f":"IF(Köpek!$B27=\"\",\"\",IF(Köpek!$C27=\"\",\"\",Köpek!$C27*AD27*10))","v":""},{"$f":"IF(Köpek!$B27=\"\",\"\",IF(Köpek!$C27=\"\",\"\",   IF(KKSecim=\"Köpek\", Köpek!$C27*AE27*1000, Köpek!$C27*AF27*1000)  )  )","v":""},{"$f":"IF(Köpek!$B27=\"\",\"\",IF(Köpek!$C27=\"\",\"\",Köpek!$C27*AG27*10))","v":""},{"$f":"IF(Köpek!$B27=\"\",\"\",IF(Köpek!$C27=\"\",\"\",Köpek!$C27*AH27*10))","v":""},{"$f":"IF(Köpek!$B27=\"\",\"\",IF(Köpek!$C27=\"\",\"\",Köpek!$C27*AI27*10))","v":""},{"$f":"IF(Köpek!$B27=\"\",\"\",IF(Köpek!$C27=\"\",\"\",Köpek!$C27*AJ27*10))","v":""},{"$f":"IF(Köpek!$B27=\"\",\"\",IF(Köpek!$C27=\"\",\"\",Köpek!$C27*AK27*10))","v":""},{"$f":"IF(Köpek!$B27=\"\",\"\",IF(Köpek!$C27=\"\",\"\",Köpek!$C27*AL27*10))","v":""},{"$f":"IF(Köpek!$B27=\"\",\"\",IF(Köpek!$C27=\"\",\"\",Köpek!$C27*AM27*10))","v":""},{"$f":"IF(Köpek!$B27=\"\",\"\",IF(Köpek!$C27=\"\",\"\",Köpek!$C27*AN27*10))","v":""},{"$f":"IF(Köpek!$B27=\"\",\"\",IF(Köpek!$C27=\"\",\"\",Köpek!$C27*AO27*10))","v":""},{"$f":"IF(Köpek!$B27=\"\",\"\",IF(Köpek!$C27=\"\",\"\",Köpek!$C27*AP27*10))","v":""},{"$f":"IF(Köpek!$B27=\"\",\"\",IF(Köpek!$C27=\"\",\"\",Köpek!$C27*AQ27*10))","v":""},{"$f":"IF(Köpek!$B27=\"\",\"\",IF(Köpek!$C27=\"\",\"\",Köpek!$C27*AR27*10))","v":""},{"$f":"IF(Köpek!$B27=\"\",\"\",IF(Köpek!$C27=\"\",\"\",Köpek!$C27*AS27*10))","v":""},{"$f":"IF(Köpek!$B27=\"\",\"\",IF(Köpek!$C27=\"\",\"\",Köpek!$C27*AT27*10))","v":""},{"$f":"IF(Köpek!$B27=\"\",\"\",IF(Köpek!$C27=\"\",\"\",Köpek!$C27*AU27*10))","v":""},{"$f":"IF(Köpek!$B27=\"\",\"\",IF(Köpek!$C27=\"\",\"\",Köpek!$C27*AV27*10))","v":""},{"$f":"IF(Köpek!$B27=\"\",\"\",IF(Köpek!$C27=\"\",\"\",Köpek!$C27*AW27*10))","v":""},{"$f":"IF(Köpek!$B27=\"\",\"\",IF(Köpek!$C27=\"\",\"\",Köpek!$C27*AX27*10))","v":""},{"$f":"IF(Köpek!$B27=\"\",\"\",IF(Köpek!$C27=\"\",\"\",Köpek!$C27*AY27*10))","v":""},{"$f":"IF(Köpek!$B27=\"\",\"\",IF(Köpek!$C27=\"\",\"\",Köpek!$C27*AZ27*10))","v":""},{"$f":"IF(Köpek!$B27=\"\",\"\",IF(Köpek!$C27=\"\",\"\",Köpek!$C27*BA27*10))","v":""},{"$f":"IF(Köpek!$B27=\"\",\"\",IF(Köpek!$C27=\"\",\"\",Köpek!$C27*BB27*10000))","v":""},{"$f":"IF(Köpek!$B27=\"\",\"\",IF(Köpek!$C27=\"\",\"\",Köpek!$C27*BC27*10000))","v":""},{"$f":"IF(Köpek!$B27=\"\",\"\",IF(Köpek!$C27=\"\",\"\",Köpek!$C27*BD27*10))","v":""},{"$f":"IF(Köpek!$B27=\"\",\"\",IF(Köpek!$C27=\"\",\"\",Köpek!$C27*BE27*10000))","v":""},{"$f":"IF(Köpek!$B27=\"\",\"\",IF(Köpek!$C27=\"\",\"\",Köpek!$C27*BF27))","v":""},{"$f":"IF(Köpek!$B27=\"\",\"\",IF(Köpek!$C27=\"\",\"\",Köpek!$C27*BG27))","v":""},{"$f":"IF(Köpek!$B27=\"\",\"\",IF(Köpek!$C27=\"\",\"\",Köpek!$C27*BH27))","v":""},{"$f":"IF(Köpek!$B27=\"\",\"\",IF(Köpek!$C27=\"\",\"\",Köpek!$C27*BI27))","v":""},{"$f":"IF(Köpek!$B27=\"\",\"\",IF(Köpek!$C27=\"\",\"\",Köpek!$C27*BJ27*1000))","v":""},{"$f":"IF(Köpek!$B27=\"\",\"\",IF(Köpek!$C27=\"\",\"\",Köpek!$C27*BK27))","v":""},{"$f":"IF(Köpek!$B27=\"\",\"\",IF(Köpek!$C27=\"\",\"\",Köpek!$C27*BL27))","v":""},{"$f":"IF(Köpek!$B27=\"\",\"\",IF(Köpek!$C27=\"\",\"\",Köpek!$C27*BM27))","v":""},{"$f":"IF(Köpek!$B27=\"\",\"\",IF(Köpek!$C27=\"\",\"\",Köpek!$C27*BN27))","v":""},{"$f":"IF(Köpek!$B27=\"\",\"\",IF(Köpek!$C27=\"\",\"\",Köpek!$C27*BO27))","v":""},{"$f":"IF(Köpek!$B27=\"\",\"\",IF(Köpek!$C27=\"\",\"\",Köpek!$C27*BP27))","v":""},{"$f":"IF(Köpek!$B27=\"\",\"\",IF(Köpek!$C27=\"\",\"\",Köpek!$C27*BQ27))","v":""},{"$f":"IF(Köpek!$B27=\"\",\"\",IF(Köpek!$C27=\"\",\"\",Köpek!$C27*BR27))","v":""},{"$f":"IF(Köpek!$B27=\"\",\"\",IF(Köpek!$C27=\"\",\"\",Köpek!$C27*BS27))","v":""},{"$f":"IF(Köpek!$B27=\"\",\"\",IF(Köpek!$C27=\"\",\"\",Köpek!$C27*BT27*1000))","v":""},{"$f":"IF(Köpek!$B27=\"\",\"\",IF(Köpek!$C27=\"\",\"\",Köpek!$C27*BU27*1000))","v":""},{"$f":"IF(Köpek!$B27=\"\",\"\",IF(Köpek!$C27=\"\",\"\",Köpek!$C27*BV27))","v":""},{"$f":"IF(Köpek!$B27=\"\",\"\",IF(Köpek!$C27=\"\",\"\",Köpek!$C27*BW27*10))","v":""},{"$f":"IF(Köpek!$B27=\"\",\"\",IF(Köpek!$C27=\"\",\"\",Köpek!$C27*BX27*10))","v":""},{"$f":"IF(Köpek!$B27=\"\",\"\",IF(Köpek!$C27=\"\",\"\",Köpek!$C27*BY27*10))","v":""},{"$f":"IF(Köpek!$B27=\"\",\"\",IF(Köpek!$C27=\"\",\"\",Köpek!$C27*BZ27*10))","v":""},{"$f":"IF(Köpek!$B27=\"\",\"\",IF(Köpek!$C27=\"\",\"\",Köpek!$C27*CA27*10))","v":""},{"$f":"IF(Köpek!$B27=\"\",\"\",IF(Köpek!$C27=\"\",\"\",Köpek!$C27*CB27*10))","v":""},{"$f":"IF(Köpek!$B27=\"\",\"\",IF(Köpek!$C27=\"\",\"\",Köpek!$C27*CC27))","v":""},null,"Dana eti, % 25 yağlı, çiğ",45.8,16.399999999999999,28.4,null,0.8,3.22,3.22,null,null,null,0.52900000000000003,0.34899999999999998,0.26900000000000002,0.97099999999999997,0.55100000000000005,0.78700000000000003,1.23,1.36,0.39400000000000002,0.11799999999999999,0.63,0.52500000000000002,0.68200000000000005,0.186,null,0.84,4.0000000000000001E-3,0.17,null,1.7000000000000001E-2,0.27200000000000002,6.2E-2,null,null,0.59,1.2E-2,16,0.10999999999999999,6.5000000000000002E-2,39,1.2800000000000001E-2,null,6.8600000000000008E-2,50,4.6999999999999993,1.3800000000000001,0.32,3.2,1.3999999999999999E-2,420,8.98,9,11.895,1.1479999999999999,0.79800000000000004,0.34899999999999998,420,"FE",null,"CA, ECA","14 haftadan büyük",{"$f":"GP27*0.9","v":591.45636085932244},{"$f":"130*Q5^0.75*3.2*(EXP(-0.87*(Q5/GN18))-0.1)","v":657.17373428813607},null,130,null,null,null,null,"Cocker Spaniel",7,13,10,"Orta",null,null,null,null,"Manganez, mg",{"$f":"IF(HI$2=1,HH27,  IF(HI$2=2,HI27,  IF(HI$2=3,HJ27,  IF(HI$2=4,HK27,  \"YOK\")))) * HG$5/1000","v":0.74630319198312867},1.4,1.4,1.2,1.8,null,null,null,null,null,null,"Demir, mg",null,"Exotic Shorthair",4.8,null,"Manganez, mg",{"$f":"IF(HX$2=1,HY27,  IF(HX$2=2,HZ27,  IF(HX$2=3,IA27,  IF(HX$2=4,IB27,  \"YOK\")))) * HX$5/1000","v":0.79263237382930074},1.2,1.2,1.8,1.8]
[{"$f":"Köpek!A28","v":0},{"$f":"Köpek!B28","v":0},{"$f":"Köpek!C28","v":0},{"$f":"B68","v":"Selenyum, µg "},{"$f":"Köpek!E28","v":54.417941082103127},{"$f":"DJ1","v":20.865449999999999},{"$f":"IF(E28=0,\"\",   IF(F28<E28*0.99,\"EKSİK\",      IF(F28>E28*1.1,\"FAZLA\",    \"TAMAM\")) )","v":"EKSİK"},{"$f":"(F28*100)/(C2*1000)","v":6.4699069767441859},14.567457427846739,3.3545739549839224,null,null,null,null,null,null,null,null,null,null,"Emziren dişiAktifBüyük",4,null,null,"Mamanın Tipi",null,0,null,0,"","","","","","","","","","","","","","","","","","","","","","","","","","","","","","","","","","","","","","","","","","","","","","","","","","","","",null,{"$f":"IF(Köpek!$B28=\"\",\"\",IF(Köpek!$C28=\"\",\"\",Köpek!$C28*AD28*10))","v":""},{"$f":"IF(Köpek!$B28=\"\",\"\",IF(Köpek!$C28=\"\",\"\",   IF(KKSecim=\"Köpek\", Köpek!$C28*AE28*1000, Köpek!$C28*AF28*1000)  )  )","v":""},{"$f":"IF(Köpek!$B28=\"\",\"\",IF(Köpek!$C28=\"\",\"\",Köpek!$C28*AG28*10))","v":""},{"$f":"IF(Köpek!$B28=\"\",\"\",IF(Köpek!$C28=\"\",\"\",Köpek!$C28*AH28*10))","v":""},{"$f":"IF(Köpek!$B28=\"\",\"\",IF(Köpek!$C28=\"\",\"\",Köpek!$C28*AI28*10))","v":""},{"$f":"IF(Köpek!$B28=\"\",\"\",IF(Köpek!$C28=\"\",\"\",Köpek!$C28*AJ28*10))","v":""},{"$f":"IF(Köpek!$B28=\"\",\"\",IF(Köpek!$C28=\"\",\"\",Köpek!$C28*AK28*10))","v":""},{"$f":"IF(Köpek!$B28=\"\",\"\",IF(Köpek!$C28=\"\",\"\",Köpek!$C28*AL28*10))","v":""},{"$f":"IF(Köpek!$B28=\"\",\"\",IF(Köpek!$C28=\"\",\"\",Köpek!$C28*AM28*10))","v":""},{"$f":"IF(Köpek!$B28=\"\",\"\",IF(Köpek!$C28=\"\",\"\",Köpek!$C28*AN28*10))","v":""},{"$f":"IF(Köpek!$B28=\"\",\"\",IF(Köpek!$C28=\"\",\"\",Köpek!$C28*AO28*10))","v":""},{"$f":"IF(Köpek!$B28=\"\",\"\",IF(Köpek!$C28=\"\",\"\",Köpek!$C28*AP28*10))","v":""},{"$f":"IF(Köpek!$B28=\"\",\"\",IF(Köpek!$C28=\"\",\"\",Köpek!$C28*AQ28*10))","v":""},{"$f":"IF(Köpek!$B28=\"\",\"\",IF(Köpek!$C28=\"\",\"\",Köpek!$C28*AR28*10))","v":""},{"$f":"IF(Köpek!$B28=\"\",\"\",IF(Köpek!$C28=\"\",\"\",Köpek!$C28*AS28*10))","v":""},{"$f":"IF(Köpek!$B28=\"\",\"\",IF(Köpek!$C28=\"\",\"\",Köpek!$C28*AT28*10))","v":""},{"$f":"IF(Köpek!$B28=\"\",\"\",IF(Köpek!$C28=\"\",\"\",Köpek!$C28*AU28*10))","v":""},{"$f":"IF(Köpek!$B28=\"\",\"\",IF(Köpek!$C28=\"\",\"\",Köpek!$C28*AV28*10))","v":""},{"$f":"IF(Köpek!$B28=\"\",\"\",IF(Köpek!$C28=\"\",\"\",Köpek!$C28*AW28*10))","v":""},{"$f":"IF(Köpek!$B28=\"\",\"\",IF(Köpek!$C28=\"\",\"\",Köpek!$C28*AX28*10))","v":""},{"$f":"IF(Köpek!$B28=\"\",\"\",IF(Köpek!$C28=\"\",\"\",Köpek!$C28*AY28*10))","v":""},{"$f":"IF(Köpek!$B28=\"\",\"\",IF(Köpek!$C28=\"\",\"\",Köpek!$C28*AZ28*10))","v":""},{"$f":"IF(Köpek!$B28=\"\",\"\",IF(Köpek!$C28=\"\",\"\",Köpek!$C28*BA28*10))","v":""},{"$f":"IF(Köpek!$B28=\"\",\"\",IF(Köpek!$C28=\"\",\"\",Köpek!$C28*BB28*10000))","v":""},{"$f":"IF(Köpek!$B28=\"\",\"\",IF(Köpek!$C28=\"\",\"\",Köpek!$C28*BC28*10000))","v":""},{"$f":"IF(Köpek!$B28=\"\",\"\",IF(Köpek!$C28=\"\",\"\",Köpek!$C28*BD28*10))","v":""},{"$f":"IF(Köpek!$B28=\"\",\"\",IF(Köpek!$C28=\"\",\"\",Köpek!$C28*BE28*10000))","v":""},{"$f":"IF(Köpek!$B28=\"\",\"\",IF(Köpek!$C28=\"\",\"\",Köpek!$C28*BF28))","v":""},{"$f":"IF(Köpek!$B28=\"\",\"\",IF(Köpek!$C28=\"\",\"\",Köpek!$C28*BG28))","v":""},{"$f":"IF(Köpek!$B28=\"\",\"\",IF(Köpek!$C28=\"\",\"\",Köpek!$C28*BH28))","v":""},{"$f":"IF(Köpek!$B28=\"\",\"\",IF(Köpek!$C28=\"\",\"\",Köpek!$C28*BI28))","v":""},{"$f":"IF(Köpek!$B28=\"\",\"\",IF(Köpek!$C28=\"\",\"\",Köpek!$C28*BJ28*1000))","v":""},{"$f":"IF(Köpek!$B28=\"\",\"\",IF(Köpek!$C28=\"\",\"\",Köpek!$C28*BK28))","v":""},{"$f":"IF(Köpek!$B28=\"\",\"\",IF(Köpek!$C28=\"\",\"\",Köpek!$C28*BL28))","v":""},{"$f":"IF(Köpek!$B28=\"\",\"\",IF(Köpek!$C28=\"\",\"\",Köpek!$C28*BM28))","v":""},{"$f":"IF(Köpek!$B28=\"\",\"\",IF(Köpek!$C28=\"\",\"\",Köpek!$C28*BN28))","v":""},{"$f":"IF(Köpek!$B28=\"\",\"\",IF(Köpek!$C28=\"\",\"\",Köpek!$C28*BO28))","v":""},{"$f":"IF(Köpek!$B28=\"\",\"\",IF(Köpek!$C28=\"\",\"\",Köpek!$C28*BP28))","v":""},{"$f":"IF(Köpek!$B28=\"\",\"\",IF(Köpek!$C28=\"\",\"\",Köpek!$C28*BQ28))","v":""},{"$f":"IF(Köpek!$B28=\"\",\"\",IF(Köpek!$C28=\"\",\"\",Köpek!$C28*BR28))","v":""},{"$f":"IF(Köpek!$B28=\"\",\"\",IF(Köpek!$C28=\"\",\"\",Köpek!$C28*BS28))","v":""},{"$f":"IF(Köpek!$B28=\"\",\"\",IF(Köpek!$C28=\"\",\"\",Köpek!$C28*BT28*1000))","v":""},{"$f":"IF(Köpek!$B28=\"\",\"\",IF(Köpek!$C28=\"\",\"\",Köpek!$C28*BU28*1000))","v":""},{"$f":"IF(Köpek!$B28=\"\",\"\",IF(Köpek!$C28=\"\",\"\",Köpek!$C28*BV28))","v":""},{"$f":"IF(Köpek!$B28=\"\",\"\",IF(Köpek!$C28=\"\",\"\",Köpek!$C28*BW28*10))","v":""},{"$f":"IF(Köpek!$B28=\"\",\"\",IF(Köpek!$C28=\"\",\"\",Köpek!$C28*BX28*10))","v":""},{"$f":"IF(Köpek!$B28=\"\",\"\",IF(Köpek!$C28=\"\",\"\",Köpek!$C28*BY28*10))","v":""},{"$f":"IF(Köpek!$B28=\"\",\"\",IF(Köpek!$C28=\"\",\"\",Köpek!$C28*BZ28*10))","v":""},{"$f":"IF(Köpek!$B28=\"\",\"\",IF(Köpek!$C28=\"\",\"\",Köpek!$C28*CA28*10))","v":""},{"$f":"IF(Köpek!$B28=\"\",\"\",IF(Köpek!$C28=\"\",\"\",Köpek!$C28*CB28*10))","v":""},{"$f":"IF(Köpek!$B28=\"\",\"\",IF(Köpek!$C28=\"\",\"\",Köpek!$C28*CC28))","v":""},null,"Dana, kalp, çiğ",22.9,17.7,3.1,null,1.1000000000000001,1.03,1.03,0.7,null,0.7,0.34599999999999997,0.03,null,1.1100000000000001,0.48199999999999998,0.85099999999999998,1.62,1.64,0.45400000000000001,0.184,0.82199999999999995,0.65200000000000002,0.82199999999999995,1.96,null,6.8000000000000005E-2,3.9500000000000004E-3,0.214,null,1.7000000000000001E-2,0.24,9.5000000000000001E-2,null,null,3.1,1.8000000000000002E-2,42,0.32,0.14000000000000001,14,0.02,null,0.2,75,25,7.5,3.35,2.6,0.1,null,10,2,1.2130000000000001,0.58399999999999996,0.374,0.20899999999999999,200,"FF",null,"CA","Yaşama payı, genç ergin",null,{"$f":"140*Q5^0.75","v":602.49238989223898},null,140,null,null,null,null,"Collie",20,34,27,"İri",null,null,null,null,"Selenyum, µg ",54.417941082103127,87.5,87.5,87.5,87.5,null,null,null,null,null,null,"İyot, mg ",null,"Havana Brown",4,null,"Selenyum, µg ",33.026348909554194,75,75,75,75]
[{"$f":"Köpek!A29","v":0},{"$f":"Köpek!B29","v":0},{"$f":"Köpek!C29","v":0},{"$f":"B71","v":"Tiamin, mg"},{"$f":"Köpek!E29","v":0.34982962124209155},{"$f":"DO1","v":0.325936},{"$f":"IF(E29=0,\"\",   IF(F29<E29*0.99,\"EKSİK\",      IF(F29>E29*2,\"FAZLA\",    \"TAMAM\")) )","v":"EKSİK"},{"$f":"(F29*100)/(C2*1000)","v":0.10106542635658915},0.22755602223784557,5.2401286173633432E-2,null,null,null,null,null,null,null,null,null,null,null,null,null,null,"Ev yemeği",null,0,null,0,"","","","","","","","","","","","","","","","","","","","","","","","","","","","","","","","","","","","","","","","","","","","","","","","","","","","",null,{"$f":"IF(Köpek!$B29=\"\",\"\",IF(Köpek!$C29=\"\",\"\",Köpek!$C29*AD29*10))","v":""},{"$f":"IF(Köpek!$B29=\"\",\"\",IF(Köpek!$C29=\"\",\"\",   IF(KKSecim=\"Köpek\", Köpek!$C29*AE29*1000, Köpek!$C29*AF29*1000)  )  )","v":""},{"$f":"IF(Köpek!$B29=\"\",\"\",IF(Köpek!$C29=\"\",\"\",Köpek!$C29*AG29*10))","v":""},{"$f":"IF(Köpek!$B29=\"\",\"\",IF(Köpek!$C29=\"\",\"\",Köpek!$C29*AH29*10))","v":""},{"$f":"IF(Köpek!$B29=\"\",\"\",IF(Köpek!$C29=\"\",\"\",Köpek!$C29*AI29*10))","v":""},{"$f":"IF(Köpek!$B29=\"\",\"\",IF(Köpek!$C29=\"\",\"\",Köpek!$C29*AJ29*10))","v":""},{"$f":"IF(Köpek!$B29=\"\",\"\",IF(Köpek!$C29=\"\",\"\",Köpek!$C29*AK29*10))","v":""},{"$f":"IF(Köpek!$B29=\"\",\"\",IF(Köpek!$C29=\"\",\"\",Köpek!$C29*AL29*10))","v":""},{"$f":"IF(Köpek!$B29=\"\",\"\",IF(Köpek!$C29=\"\",\"\",Köpek!$C29*AM29*10))","v":""},{"$f":"IF(Köpek!$B29=\"\",\"\",IF(Köpek!$C29=\"\",\"\",Köpek!$C29*AN29*10))","v":""},{"$f":"IF(Köpek!$B29=\"\",\"\",IF(Köpek!$C29=\"\",\"\",Köpek!$C29*AO29*10))","v":""},{"$f":"IF(Köpek!$B29=\"\",\"\",IF(Köpek!$C29=\"\",\"\",Köpek!$C29*AP29*10))","v":""},{"$f":"IF(Köpek!$B29=\"\",\"\",IF(Köpek!$C29=\"\",\"\",Köpek!$C29*AQ29*10))","v":""},{"$f":"IF(Köpek!$B29=\"\",\"\",IF(Köpek!$C29=\"\",\"\",Köpek!$C29*AR29*10))","v":""},{"$f":"IF(Köpek!$B29=\"\",\"\",IF(Köpek!$C29=\"\",\"\",Köpek!$C29*AS29*10))","v":""},{"$f":"IF(Köpek!$B29=\"\",\"\",IF(Köpek!$C29=\"\",\"\",Köpek!$C29*AT29*10))","v":""},{"$f":"IF(Köpek!$B29=\"\",\"\",IF(Köpek!$C29=\"\",\"\",Köpek!$C29*AU29*10))","v":""},{"$f":"IF(Köpek!$B29=\"\",\"\",IF(Köpek!$C29=\"\",\"\",Köpek!$C29*AV29*10))","v":""},{"$f":"IF(Köpek!$B29=\"\",\"\",IF(Köpek!$C29=\"\",\"\",Köpek!$C29*AW29*10))","v":""},{"$f":"IF(Köpek!$B29=\"\",\"\",IF(Köpek!$C29=\"\",\"\",Köpek!$C29*AX29*10))","v":""},{"$f":"IF(Köpek!$B29=\"\",\"\",IF(Köpek!$C29=\"\",\"\",Köpek!$C29*AY29*10))","v":""},{"$f":"IF(Köpek!$B29=\"\",\"\",IF(Köpek!$C29=\"\",\"\",Köpek!$C29*AZ29*10))","v":""},{"$f":"IF(Köpek!$B29=\"\",\"\",IF(Köpek!$C29=\"\",\"\",Köpek!$C29*BA29*10))","v":""},{"$f":"IF(Köpek!$B29=\"\",\"\",IF(Köpek!$C29=\"\",\"\",Köpek!$C29*BB29*10000))","v":""},{"$f":"IF(Köpek!$B29=\"\",\"\",IF(Köpek!$C29=\"\",\"\",Köpek!$C29*BC29*10000))","v":""},{"$f":"IF(Köpek!$B29=\"\",\"\",IF(Köpek!$C29=\"\",\"\",Köpek!$C29*BD29*10))","v":""},{"$f":"IF(Köpek!$B29=\"\",\"\",IF(Köpek!$C29=\"\",\"\",Köpek!$C29*BE29*10000))","v":""},{"$f":"IF(Köpek!$B29=\"\",\"\",IF(Köpek!$C29=\"\",\"\",Köpek!$C29*BF29))","v":""},{"$f":"IF(Köpek!$B29=\"\",\"\",IF(Köpek!$C29=\"\",\"\",Köpek!$C29*BG29))","v":""},{"$f":"IF(Köpek!$B29=\"\",\"\",IF(Köpek!$C29=\"\",\"\",Köpek!$C29*BH29))","v":""},{"$f":"IF(Köpek!$B29=\"\",\"\",IF(Köpek!$C29=\"\",\"\",Köpek!$C29*BI29))","v":""},{"$f":"IF(Köpek!$B29=\"\",\"\",IF(Köpek!$C29=\"\",\"\",Köpek!$C29*BJ29*1000))","v":""},{"$f":"IF(Köpek!$B29=\"\",\"\",IF(Köpek!$C29=\"\",\"\",Köpek!$C29*BK29))","v":""},{"$f":"IF(Köpek!$B29=\"\",\"\",IF(Köpek!$C29=\"\",\"\",Köpek!$C29*BL29))","v":""},{"$f":"IF(Köpek!$B29=\"\",\"\",IF(Köpek!$C29=\"\",\"\",Köpek!$C29*BM29))","v":""},{"$f":"IF(Köpek!$B29=\"\",\"\",IF(Köpek!$C29=\"\",\"\",Köpek!$C29*BN29))","v":""},{"$f":"IF(Köpek!$B29=\"\",\"\",IF(Köpek!$C29=\"\",\"\",Köpek!$C29*BO29))","v":""},{"$f":"IF(Köpek!$B29=\"\",\"\",IF(Köpek!$C29=\"\",\"\",Köpek!$C29*BP29))","v":""},{"$f":"IF(Köpek!$B29=\"\",\"\",IF(Köpek!$C29=\"\",\"\",Köpek!$C29*BQ29))","v":""},{"$f":"IF(Köpek!$B29=\"\",\"\",IF(Köpek!$C29=\"\",\"\",Köpek!$C29*BR29))","v":""},{"$f":"IF(Köpek!$B29=\"\",\"\",IF(Köpek!$C29=\"\",\"\",Köpek!$C29*BS29))","v":""},{"$f":"IF(Köpek!$B29=\"\",\"\",IF(Köpek!$C29=\"\",\"\",Köpek!$C29*BT29*1000))","v":""},{"$f":"IF(Köpek!$B29=\"\",\"\",IF(Köpek!$C29=\"\",\"\",Köpek!$C29*BU29*1000))","v":""},{"$f":"IF(Köpek!$B29=\"\",\"\",IF(Köpek!$C29=\"\",\"\",Köpek!$C29*BV29))","v":""},{"$f":"IF(Köpek!$B29=\"\",\"\",IF(Köpek!$C29=\"\",\"\",Köpek!$C29*BW29*10))","v":""},{"$f":"IF(Köpek!$B29=\"\",\"\",IF(Köpek!$C29=\"\",\"\",Köpek!$C29*BX29*10))","v":""},{"$f":"IF(Köpek!$B29=\"\",\"\",IF(Köpek!$C29=\"\",\"\",Köpek!$C29*BY29*10))","v":""},{"$f":"IF(Köpek!$B29=\"\",\"\",IF(Köpek!$C29=\"\",\"\",Köpek!$C29*BZ29*10))","v":""},{"$f":"IF(Köpek!$B29=\"\",\"\",IF(Köpek!$C29=\"\",\"\",Köpek!$C29*CA29*10))","v":""},{"$f":"IF(Köpek!$B29=\"\",\"\",IF(Köpek!$C29=\"\",\"\",Köpek!$C29*CB29*10))","v":""},{"$f":"IF(Köpek!$B29=\"\",\"\",IF(Köpek!$C29=\"\",\"\",Köpek!$C29*CC29))","v":""},null,"Et unu",93.9,54.1,11.8,2.5,21.8,2.2200000000000002,2.2200000000000002,3.6659999999999999,null,null,5.51,0.53,0.62,3.82,1.1100000000000001,1.6,3.41,2.91,0.77,0.61,1.93,null,1.83,0.36,0.06,2.4,8.31,3.94,null,0.25,0.46,0.75,0.66,0.48,19.559999999999999,null,655,23,0.42,106,0.14000000000000001,2200,0.6,59,5.8,5.2,0.2,null,0.09,null,null,null,null,null,5.51,0.53,80,"FG",null,"CA","Yaşama payı, yetişkin",{"$f":"95*Q5^0.75","v":408.83412171259073},{"$f":"130*Q5^0.75","v":559.4572191856505},95,130,null,null,null,null,"Corgi",11,13,12,"Orta",null,null,null,null,"Tiamin, mg",0.34982962124209155,0.34499999999999997,0.34499999999999997,0.5625,0.5625,null,null,null,null,null,null,"Manganez, mg",null,"Himalayan",4.8,null,"Tiamin, mg",0.69355332710063811,1.375,1.4,1.575,1.575]
[{"$f":"Köpek!A30","v":0},{"$f":"Köpek!B30","v":0},{"$f":"Köpek!C30","v":0},"Riboflavin, mg",{"$f":"Köpek!E30","v":0.81626911623154697},{"$f":"DP1","v":0.275646},"EKSİK",{"$f":"(F30*100)/(C2*1000)","v":8.5471627906976738E-2},0.19244547182812938,4.4316077170417995E-2,null,null,null,null,null,null,null,null,null,null,null,null,null,null,"Mama",null,0,null,0,"","","","","","","","","","","","","","","","","","","","","","","","","","","","","","","","","","","","","","","","","","","","","","","","","","","","",null,{"$f":"IF(Köpek!$B30=\"\",\"\",IF(Köpek!$C30=\"\",\"\",Köpek!$C30*AD30*10))","v":""},{"$f":"IF(Köpek!$B30=\"\",\"\",IF(Köpek!$C30=\"\",\"\",   IF(KKSecim=\"Köpek\", Köpek!$C30*AE30*1000, Köpek!$C30*AF30*1000)  )  )","v":""},{"$f":"IF(Köpek!$B30=\"\",\"\",IF(Köpek!$C30=\"\",\"\",Köpek!$C30*AG30*10))","v":""},{"$f":"IF(Köpek!$B30=\"\",\"\",IF(Köpek!$C30=\"\",\"\",Köpek!$C30*AH30*10))","v":""},{"$f":"IF(Köpek!$B30=\"\",\"\",IF(Köpek!$C30=\"\",\"\",Köpek!$C30*AI30*10))","v":""},{"$f":"IF(Köpek!$B30=\"\",\"\",IF(Köpek!$C30=\"\",\"\",Köpek!$C30*AJ30*10))","v":""},{"$f":"IF(Köpek!$B30=\"\",\"\",IF(Köpek!$C30=\"\",\"\",Köpek!$C30*AK30*10))","v":""},{"$f":"IF(Köpek!$B30=\"\",\"\",IF(Köpek!$C30=\"\",\"\",Köpek!$C30*AL30*10))","v":""},{"$f":"IF(Köpek!$B30=\"\",\"\",IF(Köpek!$C30=\"\",\"\",Köpek!$C30*AM30*10))","v":""},{"$f":"IF(Köpek!$B30=\"\",\"\",IF(Köpek!$C30=\"\",\"\",Köpek!$C30*AN30*10))","v":""},{"$f":"IF(Köpek!$B30=\"\",\"\",IF(Köpek!$C30=\"\",\"\",Köpek!$C30*AO30*10))","v":""},{"$f":"IF(Köpek!$B30=\"\",\"\",IF(Köpek!$C30=\"\",\"\",Köpek!$C30*AP30*10))","v":""},{"$f":"IF(Köpek!$B30=\"\",\"\",IF(Köpek!$C30=\"\",\"\",Köpek!$C30*AQ30*10))","v":""},{"$f":"IF(Köpek!$B30=\"\",\"\",IF(Köpek!$C30=\"\",\"\",Köpek!$C30*AR30*10))","v":""},{"$f":"IF(Köpek!$B30=\"\",\"\",IF(Köpek!$C30=\"\",\"\",Köpek!$C30*AS30*10))","v":""},{"$f":"IF(Köpek!$B30=\"\",\"\",IF(Köpek!$C30=\"\",\"\",Köpek!$C30*AT30*10))","v":""},{"$f":"IF(Köpek!$B30=\"\",\"\",IF(Köpek!$C30=\"\",\"\",Köpek!$C30*AU30*10))","v":""},{"$f":"IF(Köpek!$B30=\"\",\"\",IF(Köpek!$C30=\"\",\"\",Köpek!$C30*AV30*10))","v":""},{"$f":"IF(Köpek!$B30=\"\",\"\",IF(Köpek!$C30=\"\",\"\",Köpek!$C30*AW30*10))","v":""},{"$f":"IF(Köpek!$B30=\"\",\"\",IF(Köpek!$C30=\"\",\"\",Köpek!$C30*AX30*10))","v":""},{"$f":"IF(Köpek!$B30=\"\",\"\",IF(Köpek!$C30=\"\",\"\",Köpek!$C30*AY30*10))","v":""},{"$f":"IF(Köpek!$B30=\"\",\"\",IF(Köpek!$C30=\"\",\"\",Köpek!$C30*AZ30*10))","v":""},{"$f":"IF(Köpek!$B30=\"\",\"\",IF(Köpek!$C30=\"\",\"\",Köpek!$C30*BA30*10))","v":""},{"$f":"IF(Köpek!$B30=\"\",\"\",IF(Köpek!$C30=\"\",\"\",Köpek!$C30*BB30*10000))","v":""},{"$f":"IF(Köpek!$B30=\"\",\"\",IF(Köpek!$C30=\"\",\"\",Köpek!$C30*BC30*10000))","v":""},{"$f":"IF(Köpek!$B30=\"\",\"\",IF(Köpek!$C30=\"\",\"\",Köpek!$C30*BD30*10))","v":""},{"$f":"IF(Köpek!$B30=\"\",\"\",IF(Köpek!$C30=\"\",\"\",Köpek!$C30*BE30*10000))","v":""},{"$f":"IF(Köpek!$B30=\"\",\"\",IF(Köpek!$C30=\"\",\"\",Köpek!$C30*BF30))","v":""},{"$f":"IF(Köpek!$B30=\"\",\"\",IF(Köpek!$C30=\"\",\"\",Köpek!$C30*BG30))","v":""},{"$f":"IF(Köpek!$B30=\"\",\"\",IF(Köpek!$C30=\"\",\"\",Köpek!$C30*BH30))","v":""},{"$f":"IF(Köpek!$B30=\"\",\"\",IF(Köpek!$C30=\"\",\"\",Köpek!$C30*BI30))","v":""},{"$f":"IF(Köpek!$B30=\"\",\"\",IF(Köpek!$C30=\"\",\"\",Köpek!$C30*BJ30*1000))","v":""},{"$f":"IF(Köpek!$B30=\"\",\"\",IF(Köpek!$C30=\"\",\"\",Köpek!$C30*BK30))","v":""},{"$f":"IF(Köpek!$B30=\"\",\"\",IF(Köpek!$C30=\"\",\"\",Köpek!$C30*BL30))","v":""},{"$f":"IF(Köpek!$B30=\"\",\"\",IF(Köpek!$C30=\"\",\"\",Köpek!$C30*BM30))","v":""},{"$f":"IF(Köpek!$B30=\"\",\"\",IF(Köpek!$C30=\"\",\"\",Köpek!$C30*BN30))","v":""},{"$f":"IF(Köpek!$B30=\"\",\"\",IF(Köpek!$C30=\"\",\"\",Köpek!$C30*BO30))","v":""},{"$f":"IF(Köpek!$B30=\"\",\"\",IF(Köpek!$C30=\"\",\"\",Köpek!$C30*BP30))","v":""},{"$f":"IF(Köpek!$B30=\"\",\"\",IF(Köpek!$C30=\"\",\"\",Köpek!$C30*BQ30))","v":""},{"$f":"IF(Köpek!$B30=\"\",\"\",IF(Köpek!$C30=\"\",\"\",Köpek!$C30*BR30))","v":""},{"$f":"IF(Köpek!$B30=\"\",\"\",IF(Köpek!$C30=\"\",\"\",Köpek!$C30*BS30))","v":""},{"$f":"IF(Köpek!$B30=\"\",\"\",IF(Köpek!$C30=\"\",\"\",Köpek!$C30*BT30*1000))","v":""},{"$f":"IF(Köpek!$B30=\"\",\"\",IF(Köpek!$C30=\"\",\"\",Köpek!$C30*BU30*1000))","v":""},{"$f":"IF(Köpek!$B30=\"\",\"\",IF(Köpek!$C30=\"\",\"\",Köpek!$C30*BV30))","v":""},{"$f":"IF(Köpek!$B30=\"\",\"\",IF(Köpek!$C30=\"\",\"\",Köpek!$C30*BW30*10))","v":""},{"$f":"IF(Köpek!$B30=\"\",\"\",IF(Köpek!$C30=\"\",\"\",Köpek!$C30*BX30*10))","v":""},{"$f":"IF(Köpek!$B30=\"\",\"\",IF(Köpek!$C30=\"\",\"\",Köpek!$C30*BY30*10))","v":""},{"$f":"IF(Köpek!$B30=\"\",\"\",IF(Köpek!$C30=\"\",\"\",Köpek!$C30*BZ30*10))","v":""},{"$f":"IF(Köpek!$B30=\"\",\"\",IF(Köpek!$C30=\"\",\"\",Köpek!$C30*CA30*10))","v":""},{"$f":"IF(Köpek!$B30=\"\",\"\",IF(Köpek!$C30=\"\",\"\",Köpek!$C30*CB30*10))","v":""},{"$f":"IF(Köpek!$B30=\"\",\"\",IF(Köpek!$C30=\"\",\"\",Köpek!$C30*CC30))","v":""},null,"Et-kemik unu",94,50.9,9.8000000000000007,2.8,19.2,2.16,2.16,1.581,null,null,0.3,7.0000000000000007E-2,null,3.55,0.96,1.41,3.12,2.64,0.71,0.52,1.71,1.2,1.67,0.3,0.01,2.14,9.9700000000000006,4.46,null,0.24,0.97,0.67,0.51,0.38,9.26,1.2,564,21,0.25,88,0.14000000000000001,1996,0.3,46,4.0999999999999996,4.4000000000000004,0.8,12.8,70,null,null,1,null,null,null,null,80,"FH",null,"CA","Yaşama payı, yaşlı",null,{"$f":"105*Q5^0.75","v":451.8692924191792},null,105,null,null,null,null,"Dalmaçyalı",25,25,25,"İri",null,null,null,null,"Riboflavin, mg",0.81626911623154697,1.3125,1.3125,1.3125,1.325,null,null,null,null,null,null,"Selenyum, µg ",null,"Household Pet",4.3,null,"Riboflavin, mg",0.44035131879405592,1,1,1,1]
[{"$f":"Köpek!A31","v":0},{"$f":"Köpek!B31","v":0},{"$f":"Köpek!C31","v":0},"Niasin, mg",{"$f":"Köpek!E31","v":2.6431571382735806},{"$f":"DR1","v":14.02716},"FAZLA",{"$f":"(F31*100)/(C2*1000)","v":4.3495069767441867},9.7932254580464217,2.2551704180064305,null,null,null,null,null,null,null,null,null,null,null,null,null,null,null,null,0,null,0,"","","","","","","","","","","","","","","","","","","","","","","","","","","","","","","","","","","","","","","","","","","","","","","","","","","","",null,{"$f":"IF(Köpek!$B31=\"\",\"\",IF(Köpek!$C31=\"\",\"\",Köpek!$C31*AD31*10))","v":""},{"$f":"IF(Köpek!$B31=\"\",\"\",IF(Köpek!$C31=\"\",\"\",   IF(KKSecim=\"Köpek\", Köpek!$C31*AE31*1000, Köpek!$C31*AF31*1000)  )  )","v":""},{"$f":"IF(Köpek!$B31=\"\",\"\",IF(Köpek!$C31=\"\",\"\",Köpek!$C31*AG31*10))","v":""},{"$f":"IF(Köpek!$B31=\"\",\"\",IF(Köpek!$C31=\"\",\"\",Köpek!$C31*AH31*10))","v":""},{"$f":"IF(Köpek!$B31=\"\",\"\",IF(Köpek!$C31=\"\",\"\",Köpek!$C31*AI31*10))","v":""},{"$f":"IF(Köpek!$B31=\"\",\"\",IF(Köpek!$C31=\"\",\"\",Köpek!$C31*AJ31*10))","v":""},{"$f":"IF(Köpek!$B31=\"\",\"\",IF(Köpek!$C31=\"\",\"\",Köpek!$C31*AK31*10))","v":""},{"$f":"IF(Köpek!$B31=\"\",\"\",IF(Köpek!$C31=\"\",\"\",Köpek!$C31*AL31*10))","v":""},{"$f":"IF(Köpek!$B31=\"\",\"\",IF(Köpek!$C31=\"\",\"\",Köpek!$C31*AM31*10))","v":""},{"$f":"IF(Köpek!$B31=\"\",\"\",IF(Köpek!$C31=\"\",\"\",Köpek!$C31*AN31*10))","v":""},{"$f":"IF(Köpek!$B31=\"\",\"\",IF(Köpek!$C31=\"\",\"\",Köpek!$C31*AO31*10))","v":""},{"$f":"IF(Köpek!$B31=\"\",\"\",IF(Köpek!$C31=\"\",\"\",Köpek!$C31*AP31*10))","v":""},{"$f":"IF(Köpek!$B31=\"\",\"\",IF(Köpek!$C31=\"\",\"\",Köpek!$C31*AQ31*10))","v":""},{"$f":"IF(Köpek!$B31=\"\",\"\",IF(Köpek!$C31=\"\",\"\",Köpek!$C31*AR31*10))","v":""},{"$f":"IF(Köpek!$B31=\"\",\"\",IF(Köpek!$C31=\"\",\"\",Köpek!$C31*AS31*10))","v":""},{"$f":"IF(Köpek!$B31=\"\",\"\",IF(Köpek!$C31=\"\",\"\",Köpek!$C31*AT31*10))","v":""},{"$f":"IF(Köpek!$B31=\"\",\"\",IF(Köpek!$C31=\"\",\"\",Köpek!$C31*AU31*10))","v":""},{"$f":"IF(Köpek!$B31=\"\",\"\",IF(Köpek!$C31=\"\",\"\",Köpek!$C31*AV31*10))","v":""},{"$f":"IF(Köpek!$B31=\"\",\"\",IF(Köpek!$C31=\"\",\"\",Köpek!$C31*AW31*10))","v":""},{"$f":"IF(Köpek!$B31=\"\",\"\",IF(Köpek!$C31=\"\",\"\",Köpek!$C31*AX31*10))","v":""},{"$f":"IF(Köpek!$B31=\"\",\"\",IF(Köpek!$C31=\"\",\"\",Köpek!$C31*AY31*10))","v":""},{"$f":"IF(Köpek!$B31=\"\",\"\",IF(Köpek!$C31=\"\",\"\",Köpek!$C31*AZ31*10))","v":""},{"$f":"IF(Köpek!$B31=\"\",\"\",IF(Köpek!$C31=\"\",\"\",Köpek!$C31*BA31*10))","v":""},{"$f":"IF(Köpek!$B31=\"\",\"\",IF(Köpek!$C31=\"\",\"\",Köpek!$C31*BB31*10000))","v":""},{"$f":"IF(Köpek!$B31=\"\",\"\",IF(Köpek!$C31=\"\",\"\",Köpek!$C31*BC31*10000))","v":""},{"$f":"IF(Köpek!$B31=\"\",\"\",IF(Köpek!$C31=\"\",\"\",Köpek!$C31*BD31*10))","v":""},{"$f":"IF(Köpek!$B31=\"\",\"\",IF(Köpek!$C31=\"\",\"\",Köpek!$C31*BE31*10000))","v":""},{"$f":"IF(Köpek!$B31=\"\",\"\",IF(Köpek!$C31=\"\",\"\",Köpek!$C31*BF31))","v":""},{"$f":"IF(Köpek!$B31=\"\",\"\",IF(Köpek!$C31=\"\",\"\",Köpek!$C31*BG31))","v":""},{"$f":"IF(Köpek!$B31=\"\",\"\",IF(Köpek!$C31=\"\",\"\",Köpek!$C31*BH31))","v":""},{"$f":"IF(Köpek!$B31=\"\",\"\",IF(Köpek!$C31=\"\",\"\",Köpek!$C31*BI31))","v":""},{"$f":"IF(Köpek!$B31=\"\",\"\",IF(Köpek!$C31=\"\",\"\",Köpek!$C31*BJ31*1000))","v":""},{"$f":"IF(Köpek!$B31=\"\",\"\",IF(Köpek!$C31=\"\",\"\",Köpek!$C31*BK31))","v":""},{"$f":"IF(Köpek!$B31=\"\",\"\",IF(Köpek!$C31=\"\",\"\",Köpek!$C31*BL31))","v":""},{"$f":"IF(Köpek!$B31=\"\",\"\",IF(Köpek!$C31=\"\",\"\",Köpek!$C31*BM31))","v":""},{"$f":"IF(Köpek!$B31=\"\",\"\",IF(Köpek!$C31=\"\",\"\",Köpek!$C31*BN31))","v":""},{"$f":"IF(Köpek!$B31=\"\",\"\",IF(Köpek!$C31=\"\",\"\",Köpek!$C31*BO31))","v":""},{"$f":"IF(Köpek!$B31=\"\",\"\",IF(Köpek!$C31=\"\",\"\",Köpek!$C31*BP31))","v":""},{"$f":"IF(Köpek!$B31=\"\",\"\",IF(Köpek!$C31=\"\",\"\",Köpek!$C31*BQ31))","v":""},{"$f":"IF(Köpek!$B31=\"\",\"\",IF(Köpek!$C31=\"\",\"\",Köpek!$C31*BR31))","v":""},{"$f":"IF(Köpek!$B31=\"\",\"\",IF(Köpek!$C31=\"\",\"\",Köpek!$C31*BS31))","v":""},{"$f":"IF(Köpek!$B31=\"\",\"\",IF(Köpek!$C31=\"\",\"\",Köpek!$C31*BT31*1000))","v":""},{"$f":"IF(Köpek!$B31=\"\",\"\",IF(Köpek!$C31=\"\",\"\",Köpek!$C31*BU31*1000))","v":""},{"$f":"IF(Köpek!$B31=\"\",\"\",IF(Köpek!$C31=\"\",\"\",Köpek!$C31*BV31))","v":""},{"$f":"IF(Köpek!$B31=\"\",\"\",IF(Köpek!$C31=\"\",\"\",Köpek!$C31*BW31*10))","v":""},{"$f":"IF(Köpek!$B31=\"\",\"\",IF(Köpek!$C31=\"\",\"\",Köpek!$C31*BX31*10))","v":""},{"$f":"IF(Köpek!$B31=\"\",\"\",IF(Köpek!$C31=\"\",\"\",Köpek!$C31*BY31*10))","v":""},{"$f":"IF(Köpek!$B31=\"\",\"\",IF(Köpek!$C31=\"\",\"\",Köpek!$C31*BZ31*10))","v":""},{"$f":"IF(Köpek!$B31=\"\",\"\",IF(Köpek!$C31=\"\",\"\",Köpek!$C31*CA31*10))","v":""},{"$f":"IF(Köpek!$B31=\"\",\"\",IF(Köpek!$C31=\"\",\"\",Köpek!$C31*CB31*10))","v":""},{"$f":"IF(Köpek!$B31=\"\",\"\",IF(Köpek!$C31=\"\",\"\",Köpek!$C31*CC31))","v":""},null,"Hindi eti, derili",29.6,20.399999999999999,8,null,1.1000000000000001,1.6,1.6,null,null,null,1.7,0.15,0.05,0.87,0.5,0.5,1.08,1.1499999999999999,0.37,0.1,0.55000000000000004,0.47,0.64,0.11,9.2999999999999999E-2,0.54,0.15,0.12,null,0.01,0.17,0.05,null,null,0.93,0.02,16,0,0.27,29,0.05,680,7.0000000000000007E-2,20,6.7,1.3,0.5,2.1,4.0000000000000001E-3,18,null,4,2.2999999999999998,2,1.7,0.15,170,"FI",null,"CA","Yaşama payı, Danua",null,{"$f":"200*Q5^0.75","v":860.70341413176993},null,200,null,null,null,null,"Danua (Great Dane)",45,90,67.5,"Dev",null,null,null,null,"Niasin, mg",2.6431571382735806,4.25,4.25,4.25,4.25,null,null,null,null,null,null,"Tiamin, mg",null,"Japanese Bobtail",3.6,null,"Niasin, mg",4.4035131879405602,10,10,10,10]
[{"$f":"Köpek!A32","v":0},{"$f":"Köpek!B32","v":0},{"$f":"Köpek!C32","v":0},"Pantotenik asit, mg",{"$f":"Köpek!E32","v":2.3321974749472769},{"$f":"DS1","v":2.6628500000000002},"TAMAM",{"$f":"(F32*100)/(C2*1000)","v":0.82568992248062023},1.859099804305284,0.42811093247588422,null,null,null,null,null,null,null,null,null,null,null,null,null,null,null,null,0,null,0,"","","","","","","","","","","","","","","","","","","","","","","","","","","","","","","","","","","","","","","","","","","","","","","","","","","","",null,{"$f":"IF(Köpek!$B32=\"\",\"\",IF(Köpek!$C32=\"\",\"\",Köpek!$C32*AD32*10))","v":""},{"$f":"IF(Köpek!$B32=\"\",\"\",IF(Köpek!$C32=\"\",\"\",   IF(KKSecim=\"Köpek\", Köpek!$C32*AE32*1000, Köpek!$C32*AF32*1000)  )  )","v":""},{"$f":"IF(Köpek!$B32=\"\",\"\",IF(Köpek!$C32=\"\",\"\",Köpek!$C32*AG32*10))","v":""},{"$f":"IF(Köpek!$B32=\"\",\"\",IF(Köpek!$C32=\"\",\"\",Köpek!$C32*AH32*10))","v":""},{"$f":"IF(Köpek!$B32=\"\",\"\",IF(Köpek!$C32=\"\",\"\",Köpek!$C32*AI32*10))","v":""},{"$f":"IF(Köpek!$B32=\"\",\"\",IF(Köpek!$C32=\"\",\"\",Köpek!$C32*AJ32*10))","v":""},{"$f":"IF(Köpek!$B32=\"\",\"\",IF(Köpek!$C32=\"\",\"\",Köpek!$C32*AK32*10))","v":""},{"$f":"IF(Köpek!$B32=\"\",\"\",IF(Köpek!$C32=\"\",\"\",Köpek!$C32*AL32*10))","v":""},{"$f":"IF(Köpek!$B32=\"\",\"\",IF(Köpek!$C32=\"\",\"\",Köpek!$C32*AM32*10))","v":""},{"$f":"IF(Köpek!$B32=\"\",\"\",IF(Köpek!$C32=\"\",\"\",Köpek!$C32*AN32*10))","v":""},{"$f":"IF(Köpek!$B32=\"\",\"\",IF(Köpek!$C32=\"\",\"\",Köpek!$C32*AO32*10))","v":""},{"$f":"IF(Köpek!$B32=\"\",\"\",IF(Köpek!$C32=\"\",\"\",Köpek!$C32*AP32*10))","v":""},{"$f":"IF(Köpek!$B32=\"\",\"\",IF(Köpek!$C32=\"\",\"\",Köpek!$C32*AQ32*10))","v":""},{"$f":"IF(Köpek!$B32=\"\",\"\",IF(Köpek!$C32=\"\",\"\",Köpek!$C32*AR32*10))","v":""},{"$f":"IF(Köpek!$B32=\"\",\"\",IF(Köpek!$C32=\"\",\"\",Köpek!$C32*AS32*10))","v":""},{"$f":"IF(Köpek!$B32=\"\",\"\",IF(Köpek!$C32=\"\",\"\",Köpek!$C32*AT32*10))","v":""},{"$f":"IF(Köpek!$B32=\"\",\"\",IF(Köpek!$C32=\"\",\"\",Köpek!$C32*AU32*10))","v":""},{"$f":"IF(Köpek!$B32=\"\",\"\",IF(Köpek!$C32=\"\",\"\",Köpek!$C32*AV32*10))","v":""},{"$f":"IF(Köpek!$B32=\"\",\"\",IF(Köpek!$C32=\"\",\"\",Köpek!$C32*AW32*10))","v":""},{"$f":"IF(Köpek!$B32=\"\",\"\",IF(Köpek!$C32=\"\",\"\",Köpek!$C32*AX32*10))","v":""},{"$f":"IF(Köpek!$B32=\"\",\"\",IF(Köpek!$C32=\"\",\"\",Köpek!$C32*AY32*10))","v":""},{"$f":"IF(Köpek!$B32=\"\",\"\",IF(Köpek!$C32=\"\",\"\",Köpek!$C32*AZ32*10))","v":""},{"$f":"IF(Köpek!$B32=\"\",\"\",IF(Köpek!$C32=\"\",\"\",Köpek!$C32*BA32*10))","v":""},{"$f":"IF(Köpek!$B32=\"\",\"\",IF(Köpek!$C32=\"\",\"\",Köpek!$C32*BB32*10000))","v":""},{"$f":"IF(Köpek!$B32=\"\",\"\",IF(Köpek!$C32=\"\",\"\",Köpek!$C32*BC32*10000))","v":""},{"$f":"IF(Köpek!$B32=\"\",\"\",IF(Köpek!$C32=\"\",\"\",Köpek!$C32*BD32*10))","v":""},{"$f":"IF(Köpek!$B32=\"\",\"\",IF(Köpek!$C32=\"\",\"\",Köpek!$C32*BE32*10000))","v":""},{"$f":"IF(Köpek!$B32=\"\",\"\",IF(Köpek!$C32=\"\",\"\",Köpek!$C32*BF32))","v":""},{"$f":"IF(Köpek!$B32=\"\",\"\",IF(Köpek!$C32=\"\",\"\",Köpek!$C32*BG32))","v":""},{"$f":"IF(Köpek!$B32=\"\",\"\",IF(Köpek!$C32=\"\",\"\",Köpek!$C32*BH32))","v":""},{"$f":"IF(Köpek!$B32=\"\",\"\",IF(Köpek!$C32=\"\",\"\",Köpek!$C32*BI32))","v":""},{"$f":"IF(Köpek!$B32=\"\",\"\",IF(Köpek!$C32=\"\",\"\",Köpek!$C32*BJ32*1000))","v":""},{"$f":"IF(Köpek!$B32=\"\",\"\",IF(Köpek!$C32=\"\",\"\",Köpek!$C32*BK32))","v":""},{"$f":"IF(Köpek!$B32=\"\",\"\",IF(Köpek!$C32=\"\",\"\",Köpek!$C32*BL32))","v":""},{"$f":"IF(Köpek!$B32=\"\",\"\",IF(Köpek!$C32=\"\",\"\",Köpek!$C32*BM32))","v":""},{"$f":"IF(Köpek!$B32=\"\",\"\",IF(Köpek!$C32=\"\",\"\",Köpek!$C32*BN32))","v":""},{"$f":"IF(Köpek!$B32=\"\",\"\",IF(Köpek!$C32=\"\",\"\",Köpek!$C32*BO32))","v":""},{"$f":"IF(Köpek!$B32=\"\",\"\",IF(Köpek!$C32=\"\",\"\",Köpek!$C32*BP32))","v":""},{"$f":"IF(Köpek!$B32=\"\",\"\",IF(Köpek!$C32=\"\",\"\",Köpek!$C32*BQ32))","v":""},{"$f":"IF(Köpek!$B32=\"\",\"\",IF(Köpek!$C32=\"\",\"\",Köpek!$C32*BR32))","v":""},{"$f":"IF(Köpek!$B32=\"\",\"\",IF(Köpek!$C32=\"\",\"\",Köpek!$C32*BS32))","v":""},{"$f":"IF(Köpek!$B32=\"\",\"\",IF(Köpek!$C32=\"\",\"\",Köpek!$C32*BT32*1000))","v":""},{"$f":"IF(Köpek!$B32=\"\",\"\",IF(Köpek!$C32=\"\",\"\",Köpek!$C32*BU32*1000))","v":""},{"$f":"IF(Köpek!$B32=\"\",\"\",IF(Köpek!$C32=\"\",\"\",Köpek!$C32*BV32))","v":""},{"$f":"IF(Köpek!$B32=\"\",\"\",IF(Köpek!$C32=\"\",\"\",Köpek!$C32*BW32*10))","v":""},{"$f":"IF(Köpek!$B32=\"\",\"\",IF(Köpek!$C32=\"\",\"\",Köpek!$C32*BX32*10))","v":""},{"$f":"IF(Köpek!$B32=\"\",\"\",IF(Köpek!$C32=\"\",\"\",Köpek!$C32*BY32*10))","v":""},{"$f":"IF(Köpek!$B32=\"\",\"\",IF(Köpek!$C32=\"\",\"\",Köpek!$C32*BZ32*10))","v":""},{"$f":"IF(Köpek!$B32=\"\",\"\",IF(Köpek!$C32=\"\",\"\",Köpek!$C32*CA32*10))","v":""},{"$f":"IF(Köpek!$B32=\"\",\"\",IF(Köpek!$C32=\"\",\"\",Köpek!$C32*CB32*10))","v":""},{"$f":"IF(Köpek!$B32=\"\",\"\",IF(Köpek!$C32=\"\",\"\",Köpek!$C32*CC32))","v":""},null,"Hindi göğüs eti",25.9,24.6,0.7,null,1,1.1100000000000001,1.1100000000000001,null,null,null,0.11,0.02,0.05,0.87,0.5,0.5,1.08,1.1499999999999999,0.37,0.1,0.55000000000000004,0.47,0.64,0.11,9.2999999999999999E-2,0.54,0.01,0.20599999999999999,null,2.8000000000000001E-2,0.29299999999999998,4.9000000000000002E-2,null,null,1,0.02,12,0,0.24399999999999999,12,0.06,680,0.08,63,7,1,null,6,5.0000000000000001E-3,null,null,4,0.2,0.2,0.11,0.02,150,"FJ",null,"CA","Yaşama payı, Terier",null,{"$f":"180*Q5^0.75","v":774.63307271859298},null,180,null,null,null,null,"Daschund, miniature",5,5,5,"Küçük",null,null,null,null,"Pantotenik asit, mg",2.3321974749472769,3.75,3.75,3.75,3.75,null,null,null,null,null,null,"Riboflavin, mg",null,"Javanese",3.6,null,"Pantotenik asit, mg",0.63300502076645548,1.425,1.44,1.4375,1.4375]
[{"$f":"Köpek!A33","v":0},{"$f":"Köpek!B33","v":0},{"$f":"Köpek!C33","v":0},"Pridoksin, mg",{"$f":"Köpek!E33","v":0.23321974749472771},{"$f":"DQ1","v":0.82350000000000001},"FAZLA",{"$f":"(F33*100)/(C2*1000)","v":0.25534883720930229},0.57493613566119051,0.13239549839228293,null,null,null,null,null,null,null,null,null,null,null,null,null,null,null,null,0,null,0,"","","","","","","","","","","","","","","","","","","","","","","","","","","","","","","","","","","","","","","","","","","","","","","","","","","","",null,{"$f":"IF(Köpek!$B33=\"\",\"\",IF(Köpek!$C33=\"\",\"\",Köpek!$C33*AD33*10))","v":""},{"$f":"IF(Köpek!$B33=\"\",\"\",IF(Köpek!$C33=\"\",\"\",   IF(KKSecim=\"Köpek\", Köpek!$C33*AE33*1000, Köpek!$C33*AF33*1000)  )  )","v":""},{"$f":"IF(Köpek!$B33=\"\",\"\",IF(Köpek!$C33=\"\",\"\",Köpek!$C33*AG33*10))","v":""},{"$f":"IF(Köpek!$B33=\"\",\"\",IF(Köpek!$C33=\"\",\"\",Köpek!$C33*AH33*10))","v":""},{"$f":"IF(Köpek!$B33=\"\",\"\",IF(Köpek!$C33=\"\",\"\",Köpek!$C33*AI33*10))","v":""},{"$f":"IF(Köpek!$B33=\"\",\"\",IF(Köpek!$C33=\"\",\"\",Köpek!$C33*AJ33*10))","v":""},{"$f":"IF(Köpek!$B33=\"\",\"\",IF(Köpek!$C33=\"\",\"\",Köpek!$C33*AK33*10))","v":""},{"$f":"IF(Köpek!$B33=\"\",\"\",IF(Köpek!$C33=\"\",\"\",Köpek!$C33*AL33*10))","v":""},{"$f":"IF(Köpek!$B33=\"\",\"\",IF(Köpek!$C33=\"\",\"\",Köpek!$C33*AM33*10))","v":""},{"$f":"IF(Köpek!$B33=\"\",\"\",IF(Köpek!$C33=\"\",\"\",Köpek!$C33*AN33*10))","v":""},{"$f":"IF(Köpek!$B33=\"\",\"\",IF(Köpek!$C33=\"\",\"\",Köpek!$C33*AO33*10))","v":""},{"$f":"IF(Köpek!$B33=\"\",\"\",IF(Köpek!$C33=\"\",\"\",Köpek!$C33*AP33*10))","v":""},{"$f":"IF(Köpek!$B33=\"\",\"\",IF(Köpek!$C33=\"\",\"\",Köpek!$C33*AQ33*10))","v":""},{"$f":"IF(Köpek!$B33=\"\",\"\",IF(Köpek!$C33=\"\",\"\",Köpek!$C33*AR33*10))","v":""},{"$f":"IF(Köpek!$B33=\"\",\"\",IF(Köpek!$C33=\"\",\"\",Köpek!$C33*AS33*10))","v":""},{"$f":"IF(Köpek!$B33=\"\",\"\",IF(Köpek!$C33=\"\",\"\",Köpek!$C33*AT33*10))","v":""},{"$f":"IF(Köpek!$B33=\"\",\"\",IF(Köpek!$C33=\"\",\"\",Köpek!$C33*AU33*10))","v":""},{"$f":"IF(Köpek!$B33=\"\",\"\",IF(Köpek!$C33=\"\",\"\",Köpek!$C33*AV33*10))","v":""},{"$f":"IF(Köpek!$B33=\"\",\"\",IF(Köpek!$C33=\"\",\"\",Köpek!$C33*AW33*10))","v":""},{"$f":"IF(Köpek!$B33=\"\",\"\",IF(Köpek!$C33=\"\",\"\",Köpek!$C33*AX33*10))","v":""},{"$f":"IF(Köpek!$B33=\"\",\"\",IF(Köpek!$C33=\"\",\"\",Köpek!$C33*AY33*10))","v":""},{"$f":"IF(Köpek!$B33=\"\",\"\",IF(Köpek!$C33=\"\",\"\",Köpek!$C33*AZ33*10))","v":""},{"$f":"IF(Köpek!$B33=\"\",\"\",IF(Köpek!$C33=\"\",\"\",Köpek!$C33*BA33*10))","v":""},{"$f":"IF(Köpek!$B33=\"\",\"\",IF(Köpek!$C33=\"\",\"\",Köpek!$C33*BB33*10000))","v":""},{"$f":"IF(Köpek!$B33=\"\",\"\",IF(Köpek!$C33=\"\",\"\",Köpek!$C33*BC33*10000))","v":""},{"$f":"IF(Köpek!$B33=\"\",\"\",IF(Köpek!$C33=\"\",\"\",Köpek!$C33*BD33*10))","v":""},{"$f":"IF(Köpek!$B33=\"\",\"\",IF(Köpek!$C33=\"\",\"\",Köpek!$C33*BE33*10000))","v":""},{"$f":"IF(Köpek!$B33=\"\",\"\",IF(Köpek!$C33=\"\",\"\",Köpek!$C33*BF33))","v":""},{"$f":"IF(Köpek!$B33=\"\",\"\",IF(Köpek!$C33=\"\",\"\",Köpek!$C33*BG33))","v":""},{"$f":"IF(Köpek!$B33=\"\",\"\",IF(Köpek!$C33=\"\",\"\",Köpek!$C33*BH33))","v":""},{"$f":"IF(Köpek!$B33=\"\",\"\",IF(Köpek!$C33=\"\",\"\",Köpek!$C33*BI33))","v":""},{"$f":"IF(Köpek!$B33=\"\",\"\",IF(Köpek!$C33=\"\",\"\",Köpek!$C33*BJ33*1000))","v":""},{"$f":"IF(Köpek!$B33=\"\",\"\",IF(Köpek!$C33=\"\",\"\",Köpek!$C33*BK33))","v":""},{"$f":"IF(Köpek!$B33=\"\",\"\",IF(Köpek!$C33=\"\",\"\",Köpek!$C33*BL33))","v":""},{"$f":"IF(Köpek!$B33=\"\",\"\",IF(Köpek!$C33=\"\",\"\",Köpek!$C33*BM33))","v":""},{"$f":"IF(Köpek!$B33=\"\",\"\",IF(Köpek!$C33=\"\",\"\",Köpek!$C33*BN33))","v":""},{"$f":"IF(Köpek!$B33=\"\",\"\",IF(Köpek!$C33=\"\",\"\",Köpek!$C33*BO33))","v":""},{"$f":"IF(Köpek!$B33=\"\",\"\",IF(Köpek!$C33=\"\",\"\",Köpek!$C33*BP33))","v":""},{"$f":"IF(Köpek!$B33=\"\",\"\",IF(Köpek!$C33=\"\",\"\",Köpek!$C33*BQ33))","v":""},{"$f":"IF(Köpek!$B33=\"\",\"\",IF(Köpek!$C33=\"\",\"\",Köpek!$C33*BR33))","v":""},{"$f":"IF(Köpek!$B33=\"\",\"\",IF(Köpek!$C33=\"\",\"\",Köpek!$C33*BS33))","v":""},{"$f":"IF(Köpek!$B33=\"\",\"\",IF(Köpek!$C33=\"\",\"\",Köpek!$C33*BT33*1000))","v":""},{"$f":"IF(Köpek!$B33=\"\",\"\",IF(Köpek!$C33=\"\",\"\",Köpek!$C33*BU33*1000))","v":""},{"$f":"IF(Köpek!$B33=\"\",\"\",IF(Köpek!$C33=\"\",\"\",Köpek!$C33*BV33))","v":""},{"$f":"IF(Köpek!$B33=\"\",\"\",IF(Köpek!$C33=\"\",\"\",Köpek!$C33*BW33*10))","v":""},{"$f":"IF(Köpek!$B33=\"\",\"\",IF(Köpek!$C33=\"\",\"\",Köpek!$C33*BX33*10))","v":""},{"$f":"IF(Köpek!$B33=\"\",\"\",IF(Köpek!$C33=\"\",\"\",Köpek!$C33*BY33*10))","v":""},{"$f":"IF(Köpek!$B33=\"\",\"\",IF(Köpek!$C33=\"\",\"\",Köpek!$C33*BZ33*10))","v":""},{"$f":"IF(Köpek!$B33=\"\",\"\",IF(Köpek!$C33=\"\",\"\",Köpek!$C33*CA33*10))","v":""},{"$f":"IF(Köpek!$B33=\"\",\"\",IF(Köpek!$C33=\"\",\"\",Köpek!$C33*CB33*10))","v":""},{"$f":"IF(Köpek!$B33=\"\",\"\",IF(Köpek!$C33=\"\",\"\",Köpek!$C33*CC33))","v":""},null,"Hindi unu",93.5,54,20,2,12,3.96,3.89,null,null,null,2.94,0.12,0.27400000000000002,3.89,1.34,2.25,4.2,2.84,1.02,0.99,2.04,1.68,2.1,0.46,0.30499999999999999,2.76,3.5,2.0499999999999998,null,0.21,0.57999999999999996,0.35,0.55000000000000004,0.51,14,0.9,470,11,0.78,120,0.3,5966,1,40,10.6,10.5,1,4.4000000000000004,0.31,null,null,2.1,null,null,null,null,50,"FK",null,"CA","Gebelik + , 4 hf - Doğum",null,{"$f":"IF(KopekGebelik>=4,130*Q5^0.75+26*Q5,GP29)","v":559.4572191856505},null,130,null,null,null,null,"Doberman",30,40,35,"İri",null,null,null,null,"Pridoksin, mg",0.23321974749472771,0.375,0.375,0.375,0.375,null,null,null,null,null,null,"Niasin, mg",null,"Kinkalow",4,null,"Pridoksin, mg",0.27521957424628501,0.625,0.625,0.625,0.625]
[{"$f":"Köpek!A34","v":0},{"$f":"Köpek!B34","v":0},{"$f":"Köpek!C34","v":0},"Vitamin B12, µg",{"$f":"Köpek!E34","v":5.4417941082103134},{"$f":"DT1","v":0.50600000000000001},"EKSİK",{"$f":"(F34*100)/(C2*1000)","v":0.15689922480620155},0.35326980527572849,8.1350482315112521E-2,null,null,null,null,null,null,null,null,null,null,null,null,null,null,null,null,0,null,0,"","","","","","","","","","","","","","","","","","","","","","","","","","","","","","","","","","","","","","","","","","","","","","","","","","","","",null,{"$f":"IF(Köpek!$B34=\"\",\"\",IF(Köpek!$C34=\"\",\"\",Köpek!$C34*AD34*10))","v":""},{"$f":"IF(Köpek!$B34=\"\",\"\",IF(Köpek!$C34=\"\",\"\",   IF(KKSecim=\"Köpek\", Köpek!$C34*AE34*1000, Köpek!$C34*AF34*1000)  )  )","v":""},{"$f":"IF(Köpek!$B34=\"\",\"\",IF(Köpek!$C34=\"\",\"\",Köpek!$C34*AG34*10))","v":""},{"$f":"IF(Köpek!$B34=\"\",\"\",IF(Köpek!$C34=\"\",\"\",Köpek!$C34*AH34*10))","v":""},{"$f":"IF(Köpek!$B34=\"\",\"\",IF(Köpek!$C34=\"\",\"\",Köpek!$C34*AI34*10))","v":""},{"$f":"IF(Köpek!$B34=\"\",\"\",IF(Köpek!$C34=\"\",\"\",Köpek!$C34*AJ34*10))","v":""},{"$f":"IF(Köpek!$B34=\"\",\"\",IF(Köpek!$C34=\"\",\"\",Köpek!$C34*AK34*10))","v":""},{"$f":"IF(Köpek!$B34=\"\",\"\",IF(Köpek!$C34=\"\",\"\",Köpek!$C34*AL34*10))","v":""},{"$f":"IF(Köpek!$B34=\"\",\"\",IF(Köpek!$C34=\"\",\"\",Köpek!$C34*AM34*10))","v":""},{"$f":"IF(Köpek!$B34=\"\",\"\",IF(Köpek!$C34=\"\",\"\",Köpek!$C34*AN34*10))","v":""},{"$f":"IF(Köpek!$B34=\"\",\"\",IF(Köpek!$C34=\"\",\"\",Köpek!$C34*AO34*10))","v":""},{"$f":"IF(Köpek!$B34=\"\",\"\",IF(Köpek!$C34=\"\",\"\",Köpek!$C34*AP34*10))","v":""},{"$f":"IF(Köpek!$B34=\"\",\"\",IF(Köpek!$C34=\"\",\"\",Köpek!$C34*AQ34*10))","v":""},{"$f":"IF(Köpek!$B34=\"\",\"\",IF(Köpek!$C34=\"\",\"\",Köpek!$C34*AR34*10))","v":""},{"$f":"IF(Köpek!$B34=\"\",\"\",IF(Köpek!$C34=\"\",\"\",Köpek!$C34*AS34*10))","v":""},{"$f":"IF(Köpek!$B34=\"\",\"\",IF(Köpek!$C34=\"\",\"\",Köpek!$C34*AT34*10))","v":""},{"$f":"IF(Köpek!$B34=\"\",\"\",IF(Köpek!$C34=\"\",\"\",Köpek!$C34*AU34*10))","v":""},{"$f":"IF(Köpek!$B34=\"\",\"\",IF(Köpek!$C34=\"\",\"\",Köpek!$C34*AV34*10))","v":""},{"$f":"IF(Köpek!$B34=\"\",\"\",IF(Köpek!$C34=\"\",\"\",Köpek!$C34*AW34*10))","v":""},{"$f":"IF(Köpek!$B34=\"\",\"\",IF(Köpek!$C34=\"\",\"\",Köpek!$C34*AX34*10))","v":""},{"$f":"IF(Köpek!$B34=\"\",\"\",IF(Köpek!$C34=\"\",\"\",Köpek!$C34*AY34*10))","v":""},{"$f":"IF(Köpek!$B34=\"\",\"\",IF(Köpek!$C34=\"\",\"\",Köpek!$C34*AZ34*10))","v":""},{"$f":"IF(Köpek!$B34=\"\",\"\",IF(Köpek!$C34=\"\",\"\",Köpek!$C34*BA34*10))","v":""},{"$f":"IF(Köpek!$B34=\"\",\"\",IF(Köpek!$C34=\"\",\"\",Köpek!$C34*BB34*10000))","v":""},{"$f":"IF(Köpek!$B34=\"\",\"\",IF(Köpek!$C34=\"\",\"\",Köpek!$C34*BC34*10000))","v":""},{"$f":"IF(Köpek!$B34=\"\",\"\",IF(Köpek!$C34=\"\",\"\",Köpek!$C34*BD34*10))","v":""},{"$f":"IF(Köpek!$B34=\"\",\"\",IF(Köpek!$C34=\"\",\"\",Köpek!$C34*BE34*10000))","v":""},{"$f":"IF(Köpek!$B34=\"\",\"\",IF(Köpek!$C34=\"\",\"\",Köpek!$C34*BF34))","v":""},{"$f":"IF(Köpek!$B34=\"\",\"\",IF(Köpek!$C34=\"\",\"\",Köpek!$C34*BG34))","v":""},{"$f":"IF(Köpek!$B34=\"\",\"\",IF(Köpek!$C34=\"\",\"\",Köpek!$C34*BH34))","v":""},{"$f":"IF(Köpek!$B34=\"\",\"\",IF(Köpek!$C34=\"\",\"\",Köpek!$C34*BI34))","v":""},{"$f":"IF(Köpek!$B34=\"\",\"\",IF(Köpek!$C34=\"\",\"\",Köpek!$C34*BJ34*1000))","v":""},{"$f":"IF(Köpek!$B34=\"\",\"\",IF(Köpek!$C34=\"\",\"\",Köpek!$C34*BK34))","v":""},{"$f":"IF(Köpek!$B34=\"\",\"\",IF(Köpek!$C34=\"\",\"\",Köpek!$C34*BL34))","v":""},{"$f":"IF(Köpek!$B34=\"\",\"\",IF(Köpek!$C34=\"\",\"\",Köpek!$C34*BM34))","v":""},{"$f":"IF(Köpek!$B34=\"\",\"\",IF(Köpek!$C34=\"\",\"\",Köpek!$C34*BN34))","v":""},{"$f":"IF(Köpek!$B34=\"\",\"\",IF(Köpek!$C34=\"\",\"\",Köpek!$C34*BO34))","v":""},{"$f":"IF(Köpek!$B34=\"\",\"\",IF(Köpek!$C34=\"\",\"\",Köpek!$C34*BP34))","v":""},{"$f":"IF(Köpek!$B34=\"\",\"\",IF(Köpek!$C34=\"\",\"\",Köpek!$C34*BQ34))","v":""},{"$f":"IF(Köpek!$B34=\"\",\"\",IF(Köpek!$C34=\"\",\"\",Köpek!$C34*BR34))","v":""},{"$f":"IF(Köpek!$B34=\"\",\"\",IF(Köpek!$C34=\"\",\"\",Köpek!$C34*BS34))","v":""},{"$f":"IF(Köpek!$B34=\"\",\"\",IF(Köpek!$C34=\"\",\"\",Köpek!$C34*BT34*1000))","v":""},{"$f":"IF(Köpek!$B34=\"\",\"\",IF(Köpek!$C34=\"\",\"\",Köpek!$C34*BU34*1000))","v":""},{"$f":"IF(Köpek!$B34=\"\",\"\",IF(Köpek!$C34=\"\",\"\",Köpek!$C34*BV34))","v":""},{"$f":"IF(Köpek!$B34=\"\",\"\",IF(Köpek!$C34=\"\",\"\",Köpek!$C34*BW34*10))","v":""},{"$f":"IF(Köpek!$B34=\"\",\"\",IF(Köpek!$C34=\"\",\"\",Köpek!$C34*BX34*10))","v":""},{"$f":"IF(Köpek!$B34=\"\",\"\",IF(Köpek!$C34=\"\",\"\",Köpek!$C34*BY34*10))","v":""},{"$f":"IF(Köpek!$B34=\"\",\"\",IF(Köpek!$C34=\"\",\"\",Köpek!$C34*BZ34*10))","v":""},{"$f":"IF(Köpek!$B34=\"\",\"\",IF(Köpek!$C34=\"\",\"\",Köpek!$C34*CA34*10))","v":""},{"$f":"IF(Köpek!$B34=\"\",\"\",IF(Köpek!$C34=\"\",\"\",Köpek!$C34*CB34*10))","v":""},{"$f":"IF(Köpek!$B34=\"\",\"\",IF(Köpek!$C34=\"\",\"\",Köpek!$C34*CC34))","v":""},null,"İstakoz, çiğ",24,19.600000000000001,1.3,null,2.4,0.93,0.93,0.8,null,0.8,0.04,5.3999999999999999E-2,5.0000000000000001E-3,1.63,0.376,0.90900000000000003,1.69,1.54,0.56399999999999995,0.251,0.78400000000000003,0.72099999999999997,0.90900000000000003,0.22,null,0.94099999999999995,4.8000000000000001E-2,0.14399999999999999,null,2.9000000000000001E-2,0.13800000000000001,0.53800000000000003,null,null,7,7,3,0.4,0.38100000000000001,46,0.05,null,0.17,20,15,0.5,0.85000000000000009,2.1,6.3E-2,null,null,15,0.19800000000000001,0.48199999999999998,4.3999999999999997E-2,0.438,500,"FL",null,"CA, ECA, Yavru sayısı","Emziren dişi +",null,{"$f":"145*Q5^0.75 + Q5*(24*GN11+12*GN12)*GN17","v":{"$error":"#N/A"}},null,145,null,null,null,null,"Eskimo köpeği",27,48,37.5,"İri",null,null,null,null,"Kobalamin, µg",5.4417941082103134,8.75,8.75,8.75,8.75,null,null,null,null,null,null,"Pantotenik asit, mg",null,"Korat",4,null,"Kobalamin, µg",2.4769761682165643,5.625,5.6,5.625,5.625]
[null,null,null,"Folik asit,  µg",{"$f":"Köpek!E35","v":41.979554549050981},{"$f":"DU1","v":45.46},"TAMAM",{"$f":"(F35*100)/(C2*1000)","v":14.096124031007752},31.738429541175137,7.3086816720257222,null,null,null,null,null,null,null,null,null,null,null,null,null,null,null,null,null,null,null,null,null,null,null,null,null,null,null,null,null,null,null,null,null,null,null,null,null,null,null,null,null,null,null,null,null,null,null,null,null,null,null,null,null,null,null,null,null,null,null,null,null,null,null,null,null,null,null,null,null,null,null,null,{"$f":"SUM(CE37:CE68)","v":11.100000000000001},null,null,null,null,null,null,null,null,null,null,null,null,null,null,null,null,null,null,null,null,null,null,null,null,null,null,null,null,null,null,null,null,null,null,null,null,null,null,null,null,null,null,null,null,null,null,null,null,null,null,null,"İstiridye, çiğ",15.2,7.8,1.5,null,1.8,0.61,0.61,4.2,null,4.2,2.1000000000000001E-2,1.6E-2,1.7000000000000001E-2,0.64900000000000002,0.15,0.36199999999999999,0.67400000000000004,0.61199999999999999,0.22500000000000001,0.1,0.312,0.28699999999999998,0.36199999999999999,8.6999999999999994E-2,null,0.374,5.5E-2,0.153,null,3.2000000000000001E-2,0.248,0.16,null,null,79.3,0.6,30,3.3000000000000003,0.49200000000000005,844,0.41,null,null,18,3.65,1.88,0.8,1.6600000000000001,0.17199999999999999,570,10,8.5,0.35399999999999998,0.439,3.7999999999999999E-2,0.4,500,"FM",null,null,null,null,null,null,null,null,null,null,null,"Eurasier",18,32,25,{"$f":"IF(GZ35<10,\"Küçük\", IF(GZ35<20,\"Orta\", IF(GZ35<50,\"İri\",\"Dev\")))","v":"İri"},null,null,null,null,"Folik asit,  µg",41.979554549050981,67.5,67.5,67.5,67.5,null,null,null,null,null,null,"Pridoksin, mg",null,"Kurilian Bobtail",4.4000000000000004,null,"Folik asit,  µg",82.565872273885489,187.5,188,187.5,187.5]
[null,null,null,"Kolin, mg",{"$f":"Köpek!E36","v":264.31571382735802},{"$f":"DV1","v":82.500000000000014},{"$f":"IF(E36=0,\"\",   IF(F36<E36*0.99,\"EKSİK\",      IF(F36>E36*1.5,\"FAZLA\",    \"TAMAM\")) )","v":"EKSİK"},{"$f":"(F36*100)/(C2*1000)","v":25.581395348837216},57.59833781669488,13.263665594855306,null,null,null,null,null,null,null,null,null,null,null,null,null,null,null,null,null,"  ","HAMMADDELER","Biotin, mg/kg",null,null,null,null,null,null,null,null,null,null,null,null,null,null,null,null,null,null,null,null,null,null,null,null,null,null,null,null,null,null,null,null,null,null,null,null,null,null,null,null,null,null,null,null,null,null,null,null,null,null,null,null,"Biotin,µg",null,null,null,null,null,null,null,null,null,null,null,null,null,null,null,null,null,null,null,null,null,null,null,null,null,null,null,null,null,null,null,null,null,null,null,null,null,null,null,null,null,null,null,null,null,null,null,null,null,null,null,"Jelatin",88.3,86.9,0.1,0,1.3,3.54,3.54,0,0,0,2E-3,1E-3,null,6.7,0.56999999999999995,1.4,2.5,3.9,0.68,0,1.8,0.11,1.7,0,null,2.4,0.28000000000000003,0,null,1.0999999999999999E-2,1.2E-2,0.29799999999999999,null,null,0,0.05,12,0,0,0,0,null,0,0,0,0.70000000000000007,0,0.06,0,0,0,0,3.5999999999999997E-2,3.0000000000000001E-3,3.0000000000000001E-3,1E-3,50,"FN",null,null,null,null,null,null,null,"Aktif","İnaktif","İnaktif",null,"French Bulldog",9,13,11,"Orta",null,null,null,null,"Kolin, mg",264.31571382735802,425,425,425,425,null,null,null,null,null,null,"Kobalamin, µg",null,"Lambkin",4,null,"Kolin, mg",280.72396573121068,637.5,637,637.5,637.5]
[null,null,null,"Biotin, µg",{"$f":"Köpek!E37","v":0},{"$f":"CE35","v":11.100000000000001},{"$f":"IF(E37=0,\"\",   IF(F37<E37*0.99,\"EKSİK\",      IF(F37>E37*2,\"FAZLA\",    \"TAMAM\")) )","v":""},{"$f":"(F37*100)/(C2*1000)","v":3.4418604651162799},7.7495945426098567,1.7845659163987138,null,null,null,null,null,null,null,null,null,null,null,null,null,null,null,null,null,"  ",{"$f":"AC3","v":"Peynir,süzme"},{"$f":"IF($AC37=0,\"\",VLOOKUP($AC37,$EE$3:$GJ$510,FT$1,FALSE))","v":0},null,null,null,null,null,null,null,null,null,null,null,null,null,null,null,null,null,null,null,null,null,null,null,null,null,null,null,null,null,null,null,null,null,null,null,null,null,null,null,null,null,null,null,null,null,null,null,null,null,null,null,null,{"$f":"IF(Köpek!$B3=\"\",\"\",IF(Köpek!$C3=\"\",\"\",Köpek!$C3*AD37*1000))","v":0},null,null,null,null,null,null,null,null,null,null,null,null,null,null,null,null,null,null,null,null,null,null,null,null,null,null,null,null,null,null,null,null,null,null,null,null,null,null,null,null,null,null,null,null,null,null,null,null,null,null,null,"Kan unu",94.3,89.7,0.8,0,2.8,3.1,3.1,0,0,0,null,null,null,3.76,5.62,1.2,10.96,7.97,0.97,0.96,6.11,2.56,4.04,1.1000000000000001,null,7.47,0.16,0.21,null,0.02,0.36,0.43,0.45,null,5,0.34,2034,5,0.57999999999999996,23,0.18,6930,0.2,26,2,2,0.57999999999999996,4,3.4000000000000002E-2,null,null,1,null,null,null,null,70,"FO",null,null,null,null,null,null,"Yaş","b","%","b",null,"Golden Retriever",25,36,30.5,"İri",null,null,null,null,null,null,null,null,null,null,null,null,null,null,null,null,"Folik asit,  µg",null,"LaPerm",4,null,"Biotin,  µg",8.2565872273885486,18.75,18.75,18.75,18.75]
[null,null,null,{"$f":"EC2","v":"FİYAT,TL"},null,{"$f":"EC1","v":23.559000000000001},null,null,null,null,null,null,null,null,null,null,null,null,null,null,null,null,null,null,null,null,null,"  ",{"$f":"AC4","v":"Piliç,Göğüs,Et,Çiğ"},0.06,null,null,null,null,null,null,null,null,null,null,null,null,null,null,null,null,null,null,null,null,null,null,null,null,null,null,null,null,null,null,null,null,null,null,null,null,null,null,null,null,null,null,null,null,null,null,null,null,null,null,null,null,{"$f":"IF(Köpek!$B4=\"\",\"\",IF(Köpek!$C4=\"\",\"\",Köpek!$C4*AD38*1000))","v":6},null,null,null,null,null,null,null,null,null,null,null,null,null,null,null,null,null,null,null,null,null,null,null,null,null,null,null,null,null,null,null,null,null,null,null,null,null,null,null,null,null,null,null,null,null,null,null,null,null,null,null,"Karaciğer, kuzu",28.6,20.399999999999999,5,null,1.4,1.34,1.31,1.8,null,null,0.32,7.0000000000000007E-2,0.28999999999999998,1.1399999999999999,0.48,0.88,1.67,1.1000000000000001,0.44,0.21,0.91,0.73,0.88,0.24,0.09,1.1200000000000001,0.01,0.36,null,0.02,0.31,7.0000000000000007E-2,null,null,69.790000000000006,null,74,2,0.82,47,1.3,3330,2.2999999999999998,161,61.3,36.299999999999997,3.4,9,0.9,73827,4,6,1.9,0.7,0.32,7.0000000000000007E-2,370,"FP",null,null,"Tablo 3-5 monte edilecek",null,null,null,1,140,90,{"$f":"GS38*(GT38/100)","v":126},null,"Gordon Setter",20,36,28,"İri",null,null,null,null,"Amino asitler",null,null,null,null,null,null,null,null,null,null,null,"BİOTİN",null,"Maine Coon",7.3]
[null,null,null,null,null,null,null,null,null,null,null,null,null,null,null,null,null,null,null,null,null,null,null,null,null,null,null,"  ","Yumurta kabuğu",0,null,null,null,null,null,null,null,null,null,null,null,null,null,null,null,null,null,null,null,null,null,null,null,null,null,null,null,null,null,null,null,null,null,null,null,null,null,null,null,null,null,null,null,null,null,null,null,null,null,null,null,null,{"$f":"IF(Köpek!$B5=\"\",\"\",IF(Köpek!$C5=\"\",\"\",Köpek!$C5*AD39*1000))","v":0},null,null,null,null,null,null,null,null,null,null,null,null,null,null,null,null,null,null,null,null,null,null,null,null,null,null,null,null,null,null,null,null,null,null,null,null,null,null,null,null,null,null,null,null,null,null,null,null,null,null,null,"Karaciğer, sığır, çiğ",29.2,20,3.9,null,1.3,1.38,1.36,3.9,null,null,0.318,7.0000000000000001E-3,0.28999999999999998,1.26,0.55000000000000004,0.92,1.88,1.39,0.51,0.31,1.07,0.79,0.92,0.28999999999999998,6.9000000000000006E-2,1.24,0.01,0.32,null,0.02,0.32,7.0000000000000007E-2,null,null,33.39,0.16,68,3,0.41,39,0.68,3330,2.48,128,76.2,27.8,2.6,9.4,0.69,50697,4,6.7,1.2,0.5,0.318,7.0000000000000001E-3,350,"FQ",null,null,"Emziren dişi katsayı",null,null,null,2,145,90,130.5,null,"Great Pyrenees",41,64,52.5,"Dev",null,null,null,null,"Arjinin, g",{"$f":"IF(HI$2=1,HH39,  IF(HI$2=2,HI39,  IF(HI$2=3,HJ39,  IF(HI$2=4,HK39,  \"YOK\")))) * HG$5/1000","v":0.54728900745429443},1.98,1.65,0.88,2.5,null,null,null,null,null,null,"Kolin, mg",null,"Manx",4.4000000000000004,null,"Amino asitler"]
[null,null,null,null,null,null,null,null,null,null,null,null,null,null,null,null,null,null,null,null,null,null,null,null,null,null,null,"  ","Balkabağı, çiğ",4.0000000000000001E-3,null,null,null,null,null,null,null,null,null,null,null,null,null,null,null,null,null,null,null,null,null,null,null,null,null,null,null,null,null,null,null,null,null,null,null,null,null,null,null,null,null,null,null,null,null,null,null,null,null,null,null,null,{"$f":"IF(Köpek!$B6=\"\",\"\",IF(Köpek!$C6=\"\",\"\",Köpek!$C6*AD40*1000))","v":0.16},null,null,null,null,null,null,null,null,null,null,null,null,null,null,null,null,null,null,null,null,null,null,null,null,null,null,null,null,null,null,null,null,null,null,null,null,null,null,null,null,null,null,null,null,null,null,null,null,null,null,null,"Karaciğer, kaz",28.2,16.399999999999999,4.3,null,1.3,1.29,1.29,6.3,null,null,0.18099999999999999,0.01,7.0999999999999994E-2,0.995,0.44500000000000001,0.86399999999999999,1.47,1.23,0.39300000000000002,0.22,0.81200000000000006,0.57599999999999996,0.73299999999999998,0.23,null,1.02,4.2999999999999997E-2,0.26100000000000001,null,0.02,0.24,7.6999999999999999E-2,null,null,75.199999999999989,2.7999999999999997E-2,305,0,0.61,30.7,0,null,7.38,65,61.8,32,5.6000000000000005,9.3000000000000007,0.54,315000,null,null,1.581,0.26200000000000001,0.252,0.01,190,"FR",null,null,1,0.75,null,null,3,145,87,126.15,null,"İngiliz çoban köpeği",25,45,35,"İri",null,null,null,null,"Histidin, g ",0.29852127679325147,0.98,0.63,0.48,1.1000000000000001,null,null,null,null,null,null,null,null,"Minskin",3.6,null,"Arjinin, g",{"$f":"IF(HX$2=1,HY40,  IF(HX$2=2,HZ40,  IF(HX$2=3,IA40,  IF(HX$2=4,IB40,  \"YOK\")))) * HX$5/1000","v":1.6513174454777098},2.4,1.93,3.75,3.75]
[null,null,null,null,null,null,null,null,null,null,null,null,null,null,null,null,null,null,null,null,null,null,null,null,null,null,null,"  ","Bezelye, yeşil, çiğ",0.03,null,null,null,null,null,null,null,null,null,null,null,null,null,null,null,null,null,null,null,null,null,null,null,null,null,null,null,null,null,null,null,null,null,null,null,null,null,null,null,null,null,null,null,null,null,null,null,null,null,null,null,null,{"$f":"IF(Köpek!$B7=\"\",\"\",IF(Köpek!$C7=\"\",\"\",Köpek!$C7*AD41*1000))","v":1.2},null,null,null,null,null,null,null,null,null,null,null,null,null,null,null,null,null,null,null,null,null,null,null,null,null,null,null,null,null,null,null,null,null,null,null,null,null,null,null,null,null,null,null,null,null,null,null,null,null,null,null,"Karaciğer, piliç",25.01,19.010000000000002,4.01,0,1.04,1.1599999999999999,1.1599999999999999,0.5,0,5,0.61399999999999999,6.2E-2,0.28999999999999998,1.19,0.52,0.91800000000000004,1.68,1.53,0.42899999999999999,0.20200000000000001,0.88800000000000001,0.85699999999999998,0.91800000000000004,0.28799999999999998,0.11,1.38,8.0000000000000002E-3,0.32,0,1.9E-2,0.255,6.7000000000000004E-2,0,null,35.1,null,91.5,2.5499999999999998,0.505,29,2.1,3330,7.8,100.19999999999999,60,34,4.8,8,0.21,93700,2,3.5,1.1499999999999999,1.25,0.63400000000000001,0.33200000000000002,70,"FS",null,null,2,0.95,null,null,4,141,84,118.44,null,"İrlanda kurtçusu",40,69,54.5,"Dev",null,null,null,null,"İzolöysin, g ",0.59082336031997684,1.63,1.25,0.95,1.78,null,null,null,null,null,null,null,null,"Munchkin",4.3,null,"Histidin, g ",0.78162359085944921,0.83,0.65,1.075,1.7749999999999999]
[null,null,null,null,null,null,null,"IU'ye ÇEVİR",null,null,null,null,null,null,null,null,null,null,null,null,null,null,null,null,null,null,null,"  ","Havuç, çiğ",1.7000000000000001E-2,null,null,null,null,null,null,null,null,null,null,null,null,null,null,null,null,null,null,null,null,null,null,null,null,null,null,null,null,null,null,null,null,null,null,null,null,null,null,null,null,null,null,null,null,null,null,null,null,null,null,null,null,{"$f":"IF(Köpek!$B8=\"\",\"\",IF(Köpek!$C8=\"\",\"\",Köpek!$C8*AD42*1000))","v":0.34},null,null,null,null,null,null,null,null,null,null,null,null,null,null,null,null,null,null,null,null,null,null,null,null,null,null,null,null,null,null,null,null,null,null,null,null,null,null,null,null,null,null,null,null,null,null,null,null,null,null,null,"Karaciğer, tavuk",26.4,18,3.9,null,1.2,1.2,1.18,null,null,null,0.48599999999999999,6.0000000000000001E-3,0.28999999999999998,1.1000000000000001,0.48,0.95,1.62,1.36,0.43,0.24,0.89,0.63,0.8,0.25,0.11,1.1299999999999999,0.01,0.27,null,0.02,0.23,0.08,0,null,39.5,null,86,3,0.64,31,2.1,3330,7.38,93,61.8,19.600000000000001,1.4,7.6,0.23,33231,2,3.5,1.6,1.3,0.48599999999999999,6.0000000000000001E-3,70,"FT",null,null,3,1.1000000000000001,null,null,5,137,81,110.97000000000001,null,"İrlanda Seteri",25,34,29.5,"İri",null,null,null,null,"Metiyonin, g ",0.51619304112166386,0.88,0.65,0.83,0.78,null,null,null,null,null,null,null,null,"Napoleon",4.3,null,"İzolöysin, g ",1.3210539563821677,1.4,1.08,1.925,3]
[null,null,null,null,null,null,null,"Vitamin","IU/100 g","IU/100 g KM","IU/100 kcal ME'de",null,null,null,null,null,null,null,null,null,null,null,null,null,null,null,null,"  ","Pirinç, beyaz, çiğ",3.4000000000000002E-2,null,null,null,null,null,null,null,null,null,null,null,null,null,null,null,null,null,null,null,null,null,null,null,null,null,null,null,null,null,null,null,null,null,null,null,null,null,null,null,null,null,null,null,null,null,null,null,null,null,null,null,null,{"$f":"IF(Köpek!$B9=\"\",\"\",IF(Köpek!$C9=\"\",\"\",Köpek!$C9*AD43*1000))","v":3.4000000000000004},null,null,null,null,null,null,null,null,null,null,null,null,null,null,null,null,null,null,null,null,null,null,null,null,null,null,null,null,null,null,null,null,null,null,null,null,null,null,null,null,null,null,null,null,null,null,null,null,null,null,null,"Karides",24.1,20.3,1.7,null,1.2,1.06,1.06,0.9,null,null,2.8000000000000001E-2,0.54,null,1.78,0.41,0.99,1.61,1.77,0.56999999999999995,0.23,0.86,0.68,0.82,0.28000000000000003,3.9E-2,0.96,0.05,0.21,null,0.04,0.19,0.15,null,null,2.64,null,24,1,0.38,11,null,809,0.03,26,2.8,0.3,0.3,1,0.01,540,38,8.1999999999999993,0.3,0.7,2.8000000000000001E-2,0.54,450,"FU",null,null,4,1.2,null,null,6,133,77,102.41,null,"İtalyan tazısı",3,5,4,"Küçük",null,null,null,null,"Metiyonin + Sistin, g ",1.0137285024437497,1.75,1.33,1.63,1.55,null,null,null,null,null,null,null,null,"Nebelung",3.2,null,"Metiyonin, g ",0.66052697819108386,1.1000000000000001,0.43,1.25,1.5]
[null,null,null,null,null,null,null,"Vit A",{"$f":"Köpek!H18/0.3","v":321.83617571059438},{"$f":"Köpek!I18/0.3","v":724.63712465374101},{"$f":"Köpek!N18/0.3","v":556.22811718470882},null,null,null,null,null,null,null,null,null,null,null,null,null,null,null,null,"  ","Kemik unu",0,null,null,null,null,null,null,null,null,null,null,null,null,null,null,null,null,null,null,null,null,null,null,null,null,null,null,null,null,null,null,null,null,null,null,null,null,null,null,null,null,null,null,null,null,null,null,null,null,null,null,null,null,{"$f":"IF(Köpek!$B10=\"\",\"\",IF(Köpek!$C10=\"\",\"\",Köpek!$C10*AD44*1000))","v":0},null,null,null,null,null,null,null,null,null,null,null,null,null,null,null,null,null,null,null,null,null,null,null,null,null,null,null,null,null,null,null,null,null,null,null,null,null,null,null,null,null,null,null,null,null,null,null,null,null,null,null,"Kaz eti, çiğ",31.7,22.8,7.1,null,1.1000000000000001,1.58,1.58,null,null,null,0.85099999999999998,0.107,null,1.46,0.61899999999999999,1.17,1.93,1.93,0.61899999999999999,0.34899999999999998,0.94599999999999995,0.874,0.98299999999999998,0.317,null,1.2,1.2999999999999999E-2,0.312,null,2.4E-2,0.315,6.9000000000000006E-2,null,null,3.06,null,25.7,0.24,0.24,23.4,null,null,0.11,42.800000000000004,19.7,3.77,1.29,6.4,4.8999999999999998E-3,300,10,0,2.6110000000000002,0.95699999999999996,0.85099999999999998,0.107,400,"FV",null,null,null,null,null,null,7,130,74,{"$f":"GS44*(GT44/100)","v":96.2},null,"Kangal",40,70,55,"Dev",null,null,null,null,"Löysin, g ",1.0572628553094321,3.22,2.0499999999999998,1.7,5,null,null,null,null,null,null,null,null,"Norwegian FC",4.0999999999999996,null,"Metiyonin + Sistin, g ",1.1449134288645455,2.2000000000000002,0.85,2.25,2.6]
[null,null,null,null,null,null,null,"Vit D",{"$f":"Köpek!H19/0.025","v":0},{"$f":"Köpek!I19/0.025","v":0},{"$f":"Köpek!N19/0.025","v":0},null,null,null,null,null,null,null,null,null,null,null,null,null,null,null,null,"  ","Vit-Min. (TheraVet ProCure)",0,null,null,null,null,null,null,null,null,null,null,null,null,null,null,null,null,null,null,null,null,null,null,null,null,null,null,null,null,null,null,null,null,null,null,null,null,null,null,null,null,null,null,null,null,null,null,null,null,null,null,null,null,{"$f":"IF(Köpek!$B11=\"\",\"\",IF(Köpek!$C11=\"\",\"\",Köpek!$C11*AD45*1000))","v":""},null,null,null,null,null,null,null,null,null,null,null,null,null,null,null,null,null,null,null,null,null,null,null,null,null,null,null,null,null,null,null,null,null,null,null,null,null,null,null,null,null,null,null,null,null,null,null,null,null,null,null,"Kaz eti, derili, çiğ",50.3,15.8,33.6,null,0.9,3.66,3.66,null,null,null,3.4089999999999998,0.214,null,0.99,0.43099999999999999,0.73599999999999999,1.32,1.24,0.38100000000000001,0.246,0.66,0.50800000000000001,0.71099999999999997,0.20799999999999999,null,0.78700000000000003,1.2E-2,0.23400000000000001,null,2.4E-2,0.315,6.9000000000000006E-2,null,null,1.36,1.2E-2,25,0.2,0.24,13.5,null,null,0.11,80,12.9,3.5,1.25,5.8,3.4000000000000002E-3,300,10,0,9.6460000000000008,3.6230000000000002,3.4089999999999998,0.214,400,"FW",null,null,null,null,null,null,8,126,74,{"$f":"GS45*(GT45/100)","v":93.24},null,"Kuvasz",50,50,50,"Dev",null,null,null,null,"Lizin, g ",0.54728900745429443,2.2000000000000002,1.75,0.88,2.25,null,null,null,null,null,null,null,null,"Ocicat",5.5,null,"Löysin, g ",2.2017565939702801,3.2,2.5499999999999998,4.5,5]
[null,null,null,null,null,null,null,"Vit E",{"$f":"Köpek!H20/1","v":1.6241860465116278},{"$f":"Köpek!I20/1","v":3.656970830107245},{"$f":"Köpek!N20/1","v":0.84212218649517667},null,null,null,null,null,null,null,null,null,null,null,null,null,null,null,null,"  ","Ayçiçeği yağı ",0,null,null,null,null,null,null,null,null,null,null,null,null,null,null,null,null,null,null,null,null,null,null,null,null,null,null,null,null,null,null,null,null,null,null,null,null,null,null,null,null,null,null,null,null,null,null,null,null,null,null,null,null,{"$f":"IF(Köpek!$B12=\"\",\"\",IF(Köpek!$C12=\"\",\"\",Köpek!$C12*AD46*1000))","v":0},null,null,null,null,null,null,null,null,null,null,null,null,null,null,null,null,null,null,null,null,null,null,null,null,null,null,null,null,null,null,null,null,null,null,null,null,null,null,null,null,null,null,null,null,null,null,null,null,null,null,null,"Kazein (Ca kazeinat)",91,87,2,0,1.5,3.07,3.07,1,1,null,null,null,null,null,null,null,null,null,null,null,null,null,null,null,null,null,1.45,null,null,0.01,0.01,0.01,null,null,3.64,null,13.65,4.55,null,27.3,null,null,0.46,0.91,2.64,1.55,0.46,0.46,null,null,null,null,null,null,null,null,50,"FX",null,null,null,null,null,null,9,123,73,89.789999999999992,null,"Labrador",25,34,29.5,"İri",null,null,null,null,"Fenilalanin, g",0.70276883911744603,1.63,1.25,1.1299999999999999,2.08,null,null,null,null,null,null,null,null,"Ojos Azules",4.3,null,"Lizin, g ",1.5412296157791956,2.1,0.85,2.75,3.5]
[null,null,null,null,null,null,null,null,null,null,null,null,null,null,null,null,null,null,null,null,null,null,null,null,null,null,null,"  ",0,"",null,null,null,null,null,null,null,null,null,null,null,null,null,null,null,null,null,null,null,null,null,null,null,null,null,null,null,null,null,null,null,null,null,null,null,null,null,null,null,null,null,null,null,null,null,null,null,null,null,null,null,null,{"$f":"IF(Köpek!$B13=\"\",\"\",IF(Köpek!$C13=\"\",\"\",Köpek!$C13*AD47*1000))","v":""},null,null,null,null,null,null,null,null,null,null,null,null,null,null,null,null,null,null,null,null,null,null,null,null,null,null,null,null,null,null,null,null,null,null,null,null,null,null,null,null,null,null,null,null,null,null,null,null,null,null,null,"Koyun eti, çiğ",28.01,20.010000000000002,6,0,2,1.35,1.35,0,0,0,0.13900000000000001,0.13900000000000001,null,1.35,0.57899999999999996,0.997,1.64,1.83,0.51500000000000001,0.17,0.80400000000000005,0.80400000000000005,0.86799999999999999,0.187,0.05,1.0900000000000001,7.6E-3,0.19,0,2.3E-2,0.38,7.8E-2,0,null,1,0.03,24,0.15,5.0900000000000001E-2,37,0.01,null,0.02,52,5.5,2.2000000000000002,1.6,2.9,0.03,450,4,0,2.91,0.27800000000000002,0.13900000000000001,0.13900000000000001,370,"FY",null,null,null,null,null,null,10,119,72,85.679999999999993,null,"Maltız",3,4,3.5,"Küçük",null,null,null,null,"Fenilalanin + Tirozin, g",1.1505507543073235,3.25,2.5,1.85,3.08,null,null,null,null,null,null,null,null,"Oriental SH",3.7,null,"Fenilalanin, g",0,1.3,1,0,0]
[null,"AMİNO ASİTLER","İHTİYAÇ","MAMA","SONUÇ","%","KM'de %","100 kcal ME'de",null,null,null,null,null,null,null,null,null,null,null,null,null,null,null,null,null,null,null,"  ",0,"",null,null,null,null,null,null,null,null,null,null,null,null,null,null,null,null,null,null,null,null,null,null,null,null,null,null,null,null,null,null,null,null,null,null,null,null,null,null,null,null,null,null,null,null,null,null,null,null,null,null,null,null,{"$f":"IF(Köpek!$B14=\"\",\"\",IF(Köpek!$C14=\"\",\"\",Köpek!$C14*AD48*1000))","v":""},null,null,null,null,null,null,null,null,null,null,null,null,null,null,null,null,null,null,null,null,null,null,null,null,null,null,null,null,null,null,null,null,null,null,null,null,null,null,null,null,null,null,null,null,null,null,null,null,null,null,null,"Kuzu eti, yağsız, çiğ",30.9,17.899999999999999,12,null,2.88,1.54,1.54,0.9,null,null,0.26,1.05,0.12,1.06,0.53,0.84,1.1399999999999999,1.1399999999999999,0.42,0.2,0.57999999999999996,0.56000000000000005,0.53,0.19,7.2999999999999995E-2,0.72,0.16,0.34,null,0.02,0.28999999999999998,0.08,null,null,0.57999999999999996,7.4999999999999997E-2,9.6,null,0.2,22.5,0.03,693,0.05,14.77,2.8,0.9,1,4.07,0.03,null,null,2,4.2699999999999996,1.9,1.36,0.42,550,"FZ",null,null,null,null,null,null,11,116,71,82.36,null,"Miniature Pinscher",4,5,4.5,"Küçük",null,null,null,null,"Treonin, g ",0.6716728727848158,2.0299999999999998,1.58,1.08,2.6,null,null,null,null,null,null,null,null,"Persian",4.8,null,"Fenilalanin + Tirozin, g",2.1026775472416177,4.8,3.83,4.7750000000000004,4.7750000000000004]
[null,{"$f":"Hesap!CG2","v":"Arjinin, g"},{"$f":"IF(KKSecim=\"Köpek\",Hesap!HG39, IF(KKSecim=\"Kedi\",Hesap!HX39,0))","v":0.54728900745429443},{"$f":"Hesap!CG1","v":2.3035999999999999},{"$f":"IF(C49=0,\"\",   IF(D49<C49*0.99,\"EKSİK\",      IF(D49>C49*2,\"FAZLA\",    \"TAMAM\")) )","v":"FAZLA"},{"$f":"(D49*100)/(Köpek!$C$2*1000)","v":0.71429457364341076},{"$f":"F49*100/Köpek!$H$3","v":1.6082852241762216},{"$f":"D49*100/Köpek!$F$5","v":0.37035369774919608},null,"%'ye ÇEVİR",null,null,null,null,null,null,null,null,null,null,null,null,null,null,null,null,null,"  ",0,"",null,null,null,null,null,null,null,null,null,null,null,null,null,null,null,null,null,null,null,null,null,null,null,null,null,null,null,null,null,null,null,null,null,null,null,null,null,null,null,null,null,null,null,null,null,null,null,null,null,null,null,null,{"$f":"IF(Köpek!$B15=\"\",\"\",IF(Köpek!$C15=\"\",\"\",Köpek!$C15*AD49*1000))","v":""},null,null,null,null,null,null,null,null,null,null,null,null,null,null,null,null,null,null,null,null,null,null,null,null,null,null,null,null,null,null,null,null,null,null,null,null,null,null,null,null,null,null,null,null,null,null,null,null,null,null,null,"Kuzu eti, yağlı, çiğ",33.5,18.399999999999999,14.1,0,1.02,3.26,3.26,0,0,0,0.70899999999999996,0.70899999999999996,0.12,0.98099999999999998,0.42,0.72399999999999998,1.19,1.33,0.374,0.124,0.58399999999999996,0.58399999999999996,0.63100000000000001,0.13500000000000001,7.2999999999999995E-2,0.79400000000000004,0.02,0.13,0,1.7000000000000001E-2,0.218,6.6000000000000003E-2,0,null,1.22,7.4999999999999997E-2,15,0.1,6.0499999999999998E-2,34.200000000000003,0.01,null,0.02,43,5.5,3,1.7999999999999998,2,1.2E-2,450,4,7,14.08,1.42,0.70899999999999996,0.70899999999999996,500,"GA",null,null,null,null,null,null,12,112,70,78.399999999999991,null,"Newfoundland",45,68,56.5,"Dev",null,null,null,null,"Triptofan, g ",0.21767176432841251,0.57999999999999996,0.45,0.35,0.3,null,null,null,null,null,null,null,null,"Peterbald",4,null,"Treonin, g ",1.1889485607439509,1.6,1.3,2.2250000000000001,2.7]
[null,{"$f":"Hesap!CH2","v":"Histidin, g "},{"$f":"IF(KKSecim=\"Köpek\",Hesap!HG40, IF(KKSecim=\"Kedi\",Hesap!HX40,0))","v":0.29852127679325147},{"$f":"Hesap!CH1","v":1.0044},"FAZLA",{"$f":"(D50*100)/(Köpek!$C$2*1000)","v":0.31144186046511629},{"$f":"F50*100/Köpek!$H$3","v":0.70123358185561602},{"$f":"D50*100/Köpek!$F$5","v":0.16147909967845656},null,"YİYECEKLER","%",null,null,null,null,null,null,null,null,null,null,null,null,null,null,null,null,"  ",0,"",null,null,null,null,null,null,null,null,null,null,null,null,null,null,null,null,null,null,null,null,null,null,null,null,null,null,null,null,null,null,null,null,null,null,null,null,null,null,null,null,null,null,null,null,null,null,null,null,null,null,null,null,{"$f":"IF(Köpek!$B16=\"\",\"\",IF(Köpek!$C16=\"\",\"\",Köpek!$C16*AD50*1000))","v":""},null,null,null,null,null,null,null,null,null,null,null,null,null,null,null,null,null,null,null,null,null,null,null,null,null,null,null,null,null,null,null,null,null,null,null,null,null,null,null,null,null,null,null,null,null,null,null,null,null,null,null,"Kuzu, kıyma",40.5,16.600000000000001,23.4,null,0.9,2.77,2.65,null,null,null,1.36,0.42,0.12,0.98,0.52,0.8,1.29,1.46,0.43,0.2,0.67,0.56000000000000005,0.71,0.19,7.2999999999999995E-2,0.89,0.02,0.16,null,0.02,0.22,0.06,null,null,1.01,0.03,16,0,0.19,34,0.01,693,0.18,60,6.5,2.1,1.1000000000000001,1.3,0.02,null,null,2,10.199999999999999,1.9,1.36,0.42,450,"GB",null,null,null,null,null,null,13,109,69,75.209999999999994,null,"Papillon",3,5,4,"Küçük",null,null,null,null,"Valin, g ",0.76496077178270683,1.7,1.4,1.23,3.25,null,null,null,null,null,null,null,null,"Pixie-bob",5,null,"Triptofan, g ",0.20916687642717657,0.4,0.33,0.47499999999999998,0.47499999999999998]
[null,{"$f":"Hesap!CI2","v":"İzolöysin, g "},{"$f":"IF(KKSecim=\"Köpek\",Hesap!HG41, IF(KKSecim=\"Kedi\",Hesap!HX41,0))","v":0.59082336031997684},{"$f":"Hesap!CI1","v":1.6864999999999999},"FAZLA",{"$f":"(D51*100)/(Köpek!$C$2*1000)","v":0.52294573643410847},{"$f":"F51*100/Köpek!$H$3","v":1.1774496573073441},{"$f":"D51*100/Köpek!$F$5","v":0.2711414790996784},null,{"$f":"IF(Köpek!B3=\"\",\"\",Köpek!B3)","v":"Peynir,süzme"},{"$f":"IF(Köpek!C3=\"\",\"\",Köpek!C3*100/Köpek!$C$2)","v":3.1007751937984493},null,null,null,null,null,null,null,null,null,null,null,null,null,null,null,null,"  ",{"$f":"AC17","v":0},"",null,null,null,null,null,null,null,null,null,null,null,null,null,null,null,null,null,null,null,null,null,null,null,null,null,null,null,null,null,null,null,null,null,null,null,null,null,null,null,null,null,null,null,null,null,null,null,null,null,null,null,null,{"$f":"IF(Köpek!$B17=\"\",\"\",IF(Köpek!$C17=\"\",\"\",Köpek!$C17*AD51*1000))","v":""},null,null,null,null,null,null,null,null,null,null,null,null,null,null,null,null,null,null,null,null,null,null,null,null,null,null,null,null,null,null,null,null,null,null,null,null,null,null,null,null,null,null,null,null,null,null,null,null,null,null,null,"Laktoz, kuru, toz",98.1,0,0.1,0,0.2,3.92,3.92,97.8,93.5,null,null,null,null,null,null,null,null,null,null,null,null,null,null,null,null,null,4.65E-2,3.1E-2,null,4.5999999999999999E-3,1.95E-2,4.0000000000000001E-3,0,null,0,6.9999999999999993E-3,0.12,0,4.6500000000000007E-2,2.5000000000000001E-2,0,null,0,0,0,0,0,0,null,7.98,0.33599999999999997,2.3E-2,null,null,null,null,50,"GC",null,null,null,null,null,null,14,105,68,71.400000000000006,null,"Pekingese",3.6,4.5,4.05,"Küçük",null,null,null,null,"Mineral elementler",null,null,null,null,null,null,null,null,null,null,null,null,null,"Ragdoll",6.3,null,"Valin, g ",1.3210539563821677,1.6,1.28,2.5,3]
[null,{"$f":"Hesap!CJ2","v":"Metiyonin, g "},{"$f":"IF(KKSecim=\"Köpek\",Hesap!HG42, IF(KKSecim=\"Kedi\",Hesap!HX42,0))","v":0.51619304112166386},{"$f":"Hesap!CJ1","v":0.86430000000000007},"TAMAM",{"$f":"(D52*100)/(Köpek!$C$2*1000)","v":0.26800000000000002},{"$f":"F52*100/Köpek!$H$3","v":0.60342113181781065},{"$f":"D52*100/Köpek!$F$5","v":0.13895498392282957},null,{"$f":"IF(Köpek!B4=\"\",\"\",Köpek!B4)","v":"Piliç,Göğüs,Et,Çiğ"},{"$f":"IF(Köpek!C4=\"\",\"\",Köpek!C4*100/Köpek!$C$2)","v":31.007751937984494},null,null,null,null,null,null,null,null,null,null,null,null,null,null,null,null,"  ",0,"",null,null,null,null,null,null,null,null,null,null,null,null,null,null,null,null,null,null,null,null,null,null,null,null,null,null,null,null,null,null,null,null,null,null,null,null,null,null,null,null,null,null,null,null,null,null,null,null,null,null,null,null,{"$f":"IF(Köpek!$B18=\"\",\"\",IF(Köpek!$C18=\"\",\"\",Köpek!$C18*AD52*1000))","v":""},null,null,null,null,null,null,null,null,null,null,null,null,null,null,null,null,null,null,null,null,null,null,null,null,null,null,null,null,null,null,null,null,null,null,null,null,null,null,null,null,null,null,null,null,null,null,null,null,null,null,null,"Midye, çiğ",19.399999999999999,11.9,2.2000000000000002,null,1.6,0.83,0.83,null,null,null,3.6999999999999998E-2,2.9000000000000001E-2,8.2000000000000003E-2,0.89500000000000002,0.28599999999999998,0.57099999999999995,0.91400000000000003,0.95199999999999996,0.32400000000000001,0.19,0.495,0.495,0.55200000000000005,0.152,null,0.74299999999999999,0.03,0.14499999999999999,null,3.9E-2,0.14499999999999999,0.58199999999999996,null,null,2.2000000000000002,1.4,77,2.3000000000000003,0.46,34,0,null,0.41799999999999998,16,null,2,null,0.96,0.10199999999999999,840,null,35,0.44600000000000001,0.48,0.12,0.36,12,"GD",null,null,null,null,null,null,null,null,null,null,null,"Pomeranian",1,3,2,"Küçük",null,null,null,null,"Vitaminler",null,null,null,null,null,null,null,null,null,null,null,null,null,"RagaMuffin",6.3,null,"Mineral elementler"]
[null,"Metiyonin+Sistin, g ",{"$f":"IF(KKSecim=\"Köpek\",Hesap!HG43, IF(KKSecim=\"Kedi\",Hesap!HX43,0))","v":1.0137285024437497},{"$f":"Hesap!CJ1+Hesap!CK1","v":1.2991999999999999},"TAMAM",{"$f":"(D53*100)/(Köpek!$C$2*1000)","v":0.40285271317829452},{"$f":"F53*100/Köpek!$H$3","v":0.90705164232060564},{"$f":"D53*100/Köpek!$F$5","v":0.20887459807073949},null,{"$f":"IF(Köpek!B5=\"\",\"\",Köpek!B5)","v":"Yumurta kabuğu"},{"$f":"IF(Köpek!C5=\"\",\"\",Köpek!C5*100/Köpek!$C$2)","v":0.15503875968992248},null,null,null,null,null,null,null,null,null,null,null,null,null,null,null,null,"  ",0,"",null,null,null,null,null,null,null,null,null,null,null,null,null,null,null,null,null,null,null,null,null,null,null,null,null,null,null,null,null,null,null,null,null,null,null,null,null,null,null,null,null,null,null,null,null,null,null,null,null,null,null,null,{"$f":"IF(Köpek!$B19=\"\",\"\",IF(Köpek!$C19=\"\",\"\",Köpek!$C19*AD53*1000))","v":""},null,null,null,null,null,null,null,null,null,null,null,null,null,null,null,null,null,null,null,null,null,null,null,null,null,null,null,null,null,null,null,null,null,null,null,null,null,null,null,null,null,null,null,null,null,null,null,null,null,null,null,"Ördek eti, çiğ",26.2,18.3,5.0999999999999996,null,1.1000000000000001,1.26,1.26,null,null,null,0.59899999999999998,0.105,null,1.17,0.497,0.93600000000000005,1.55,1.55,0.497,0.28100000000000003,0.76100000000000001,0.70199999999999996,0.79,0.254,null,0.96499999999999997,1.0999999999999999E-2,0.20300000000000001,null,2.1999999999999999E-2,0.29699999999999999,8.5999999999999993E-2,null,null,1.4000000000000001,1.2E-2,12,0.19,0.24,13.5,null,null,0.48,53,16,4.5,3.5999999999999996,3.4000000000000004,4.0000000000000001E-3,240,null,null,1.069,0.878,0.63100000000000001,0.247,170,"GE",null,null,null,null,null,null,null,null,null,null,null,"Poodle, Miniature",7,8,7.5,"Küçük",null,null,null,null,"Yağ asitleri",null,null,null,null,null,null,null,null,null,null,null,null,null,"Russian Blue",3.2,null,"Vitaminler"]
[null,{"$f":"Hesap!CL2","v":"Löysin, g "},{"$f":"IF(KKSecim=\"Köpek\",Hesap!HG44, IF(KKSecim=\"Kedi\",Hesap!HX44,0))","v":1.0572628553094321},{"$f":"Hesap!CL1","v":2.6135999999999999},"FAZLA",{"$f":"(D54*100)/(Köpek!$C$2*1000)","v":0.81041860465116289},{"$f":"F54*100/Köpek!$H$3","v":1.8247153420328937},{"$f":"D54*100/Köpek!$F$5","v":0.42019292604501601},null,{"$f":"IF(Köpek!B6=\"\",\"\",Köpek!B6)","v":"Balkabağı, çiğ"},{"$f":"IF(Köpek!C6=\"\",\"\",Köpek!C6*100/Köpek!$C$2)","v":12.403100775193797},null,null,null,null,null,null,null,null,null,null,null,null,null,null,null,null,"  ",0,"",null,null,null,null,null,null,null,null,null,null,null,null,null,null,null,null,null,null,null,null,null,null,null,null,null,null,null,null,null,null,null,null,null,null,null,null,null,null,null,null,null,null,null,null,null,null,null,null,null,null,null,null,{"$f":"IF(Köpek!$B20=\"\",\"\",IF(Köpek!$C20=\"\",\"\",Köpek!$C20*AD54*1000))","v":""},null,null,null,null,null,null,null,null,null,null,null,null,null,null,null,null,null,null,null,null,null,null,null,null,null,null,null,null,null,null,null,null,null,null,null,null,null,null,null,null,null,null,null,null,null,null,null,null,null,null,null,"Ördek eti, derili, çiğ",51.5,11.5,39.299999999999997,null,0.7,4,4,null,null,null,4.7220000000000004,0.39200000000000002,null,0.77200000000000002,0.27600000000000002,0.53300000000000003,0.90100000000000002,0.91900000000000004,0.29399999999999998,0.18,0.46,0.38600000000000001,0.47799999999999998,0.14299999999999999,null,0.56999999999999995,1.0999999999999999E-2,0.13900000000000001,null,2.1999999999999999E-2,0.29699999999999999,8.5999999999999993E-2,null,null,1.4000000000000001,1.2E-2,12,0.17,0.24,13.5,0.06,null,0.48,39.300000000000004,9.51,2.1,1.9700000000000002,1.9,2.5000000000000001E-3,510,10,null,13.14,5.1130000000000004,4.7220000000000004,0.39200000000000002,170,"GF",null,null,null,null,null,null,null,null,null,null,null,"Poodle, Standard",20,25,22.5,"İri",null,null,null,null,"α-Linolenik asit, g",{"$f":"IF(HI$2=1,HH54,  IF(HI$2=2,HI54,  IF(HI$2=3,HJ54,  IF(HI$2=4,HK54,  \"YOK\")))) * HG$5/1000","v":6.8411125931786804E-2},0.2,0.2,0.11,0.2,null,null,null,null,null,null,null,null,"Safari",9.1,null,"Yağ asitleri"]
[null,{"$f":"Hesap!CM2","v":"Lizin, g "},{"$f":"IF(KKSecim=\"Köpek\",Hesap!HG45, IF(KKSecim=\"Kedi\",Hesap!HX45,0))","v":0.54728900745429443},{"$f":"Hesap!CM1","v":2.5567000000000002},"FAZLA",{"$f":"(D55*100)/(Köpek!$C$2*1000)","v":0.79277519379844963},{"$f":"F55*100/Köpek!$H$3","v":1.7849899429811367},{"$f":"D55*100/Köpek!$F$5","v":0.41104501607717037},null,{"$f":"IF(Köpek!B7=\"\",\"\",Köpek!B7)","v":"Bezelye, yeşil, çiğ"},{"$f":"IF(Köpek!C7=\"\",\"\",Köpek!C7*100/Köpek!$C$2)","v":12.403100775193797},null,null,null,null,null,null,null,null,null,null,null,null,null,null,null,null,"  ",0,"",null,null,null,null,null,null,null,null,null,null,null,null,null,null,null,null,null,null,null,null,null,null,null,null,null,null,null,null,null,null,null,null,null,null,null,null,null,null,null,null,null,null,null,null,null,null,null,null,null,null,null,null,{"$f":"IF(Köpek!$B21=\"\",\"\",IF(Köpek!$C21=\"\",\"\",Köpek!$C21*AD55*1000))","v":""},null,null,null,null,null,null,null,null,null,null,null,null,null,null,null,null,null,null,null,null,null,null,null,null,null,null,null,null,null,null,null,null,null,null,null,null,null,null,null,null,null,null,null,null,null,null,null,null,null,null,null,"Peynir,beyaz",58.89,23.24,29.68,0,3.18,3.71,3.71,2.79,0.5,null,0.49,0.29299999999999998,null,0.87,0.82,1.1399999999999999,2.2400000000000002,2.12,0.56999999999999995,0.13,1.23,1.1200000000000001,0.88,0.32,null,1.47,0.67400000000000004,0.45100000000000001,null,2.4E-2,0.13600000000000001,0.56000000000000005,null,null,0.2,0.39,4.3,0.1,0.14499999999999999,26,null,154,0.2,1.2,2.9,3.5,0.1,0.7,1.26E-2,3240,null,3,18.8,0.8,0.49,0.29299999999999998,250,"GG",null,null,null,null,null,null,null,null,null,null,null,"Poodle, Toy",3,4,3.5,"Küçük",null,null,null,null,null,null,null,null,null,null,null,null,null,null,null,null,null,null,"Savannah",11.3,null,"α-Linolenik asit, g",{"$f":"IF(HX$2=1,HY55,  IF(HX$2=2,HZ55,  IF(HX$2=3,IA55,  IF(HX$2=4,IB55,  \"YOK\")))) * HX$5/1000","v":2.2017565939702798E-2},0.05,null,0.05,0.05]
[null,{"$f":"Hesap!CN2","v":"Fenilalanin, g"},{"$f":"IF(KKSecim=\"Köpek\",Hesap!HG46, IF(KKSecim=\"Kedi\",Hesap!HX46,0))","v":0.70276883911744603},{"$f":"Hesap!CN1","v":1.4910000000000001},"FAZLA",{"$f":"(D56*100)/(Köpek!$C$2*1000)","v":0.46232558139534891},{"$f":"F56*100/Köpek!$H$3","v":1.04095905072354},{"$f":"D56*100/Köpek!$F$5","v":0.23971061093247586},null,{"$f":"IF(Köpek!B8=\"\",\"\",Köpek!B8)","v":"Havuç, çiğ"},{"$f":"IF(Köpek!C8=\"\",\"\",Köpek!C8*100/Köpek!$C$2)","v":6.2015503875968987},null,null,null,null,null,null,null,null,null,null,null,null,null,null,null,null,"  ",0,"",null,null,null,null,null,null,null,null,null,null,null,null,null,null,null,null,null,null,null,null,null,null,null,null,null,null,null,null,null,null,null,null,null,null,null,null,null,null,null,null,null,null,null,null,null,null,null,null,null,null,null,null,{"$f":"IF(Köpek!$B22=\"\",\"\",IF(Köpek!$C22=\"\",\"\",Köpek!$C22*AD56*1000))","v":""},null,null,null,null,null,null,null,null,null,null,null,null,null,null,null,null,null,null,null,null,null,null,null,null,null,null,null,null,null,null,null,null,null,null,null,null,null,null,null,null,null,null,null,null,null,null,null,null,null,null,null,"Peynir, krem",48.1,9.8999999999999986,34.200000000000003,null,1.5,3.57,3.57,2.1500000000000004,2.1550000000000002,0,0.71,0.26,null,0.3105,0.27949999999999997,0.54350000000000009,0.91549999999999998,0.79149999999999998,0.27949999999999997,3.6000000000000004E-2,0.51249999999999996,0.54350000000000009,0.34150000000000003,0.13650000000000001,null,0.66749999999999998,0.21500000000000002,0.15000000000000002,null,6.0000000000000001E-3,0.11899999999999999,0.52249999999999996,null,null,0.70000000000000007,0.10400000000000001,3,0.35000000000000003,3.2500000000000001E-2,5.4,1.4999999999999999E-2,null,0.13,1.0049999999999999,2.7,2,0.375,0.55000000000000004,2.2000000000000001E-3,3040,3.3499999999999996,8.6999999999999993,22.136000000000003,0.97049999999999992,0.71,0.26,250,"GH",null,null,null,null,null,null,null,null,null,null,null,"Portekiz av köpeği",16,25,20.5,"İri",null,null,null,null,null,null,null,null,null,null,null,null,null,null,null,null,null,null,"Scottish Fold",5]
[null,"Fenilalanin+Tirozin, g",{"$f":"IF(KKSecim=\"Köpek\",Hesap!HG47, IF(KKSecim=\"Kedi\",Hesap!HX47,0))","v":1.1505507543073235},{"$f":"Hesap!CN1+Hesap!CO1","v":2.7594000000000003},"FAZLA",{"$f":"(D57*100)/(Köpek!$C$2*1000)","v":0.8556279069767444},{"$f":"F57*100/Köpek!$H$3","v":1.9265073135925801},{"$f":"D57*100/Köpek!$F$5","v":0.44363344051446946},null,{"$f":"IF(Köpek!B9=\"\",\"\",Köpek!B9)","v":"Pirinç, beyaz, çiğ"},{"$f":"IF(Köpek!C9=\"\",\"\",Köpek!C9*100/Köpek!$C$2)","v":31.007751937984494},null,null,null,null,null,null,null,null,null,null,null,null,null,null,null,null,"  ",0,"",null,null,null,null,null,null,null,null,null,null,null,null,null,null,null,null,null,null,null,null,null,null,null,null,null,null,null,null,null,null,null,null,null,null,null,null,null,null,null,null,null,null,null,null,null,null,null,null,null,null,null,null,{"$f":"IF(Köpek!$B23=\"\",\"\",IF(Köpek!$C23=\"\",\"\",Köpek!$C23*AD57*1000))","v":""},null,null,null,null,null,null,null,null,null,null,null,null,null,null,null,null,null,null,null,null,null,null,null,null,null,null,null,null,null,null,null,null,null,null,null,null,null,null,null,null,null,null,null,null,null,null,null,null,null,null,null,"Peynir,labne",58.89,4.5,17.5,0,3.18,1.9,1.9,4.5,4.5,null,0.49,0.29299999999999998,null,0.87,0.82,1.1399999999999999,2.2400000000000002,2.12,0.56999999999999995,0.13,1.23,1.1200000000000001,0.88,0.32,null,1.47,0.2,0.1,null,2.4E-2,0.13600000000000001,0.2,null,null,0.2,0.39,4.3,0.1,0.14499999999999999,26,null,154,0.2,1.2,2.9,3.5,0.1,0.7,1.26E-2,3240,null,3,11.3,0.8,0.49,0.29299999999999998,200,"GI",null,null,null,null,null,null,null,null,null,null,null,"Pug",6,9,7.5,"Küçük",null,null,null,null,null,null,null,null,null,null,null,null,null,null,null,null,null,null,"Serengeti",4.3]
[null,{"$f":"Hesap!CP2","v":"Treonin, g "},{"$f":"IF(KKSecim=\"Köpek\",Hesap!HG48, IF(KKSecim=\"Kedi\",Hesap!HX48,0))","v":0.6716728727848158},{"$f":"Hesap!CP1","v":1.131},"TAMAM",{"$f":"(D58*100)/(Köpek!$C$2*1000)","v":0.35069767441860461},{"$f":"F58*100/Köpek!$H$3","v":0.78962084934159871},{"$f":"D58*100/Köpek!$F$5","v":0.18183279742765268},null,{"$f":"IF(Köpek!B10=\"\",\"\",Köpek!B10)","v":"Kemik unu"},{"$f":"IF(Köpek!C10=\"\",\"\",Köpek!C10*100/Köpek!$C$2)","v":0.62015503875968991},null,null,null,null,null,null,null,null,null,null,null,null,null,null,null,null,"  ",0,"",null,null,null,null,null,null,null,null,null,null,null,null,null,null,null,null,null,null,null,null,null,null,null,null,null,null,null,null,null,null,null,null,null,null,null,null,null,null,null,null,null,null,null,null,null,null,null,null,null,null,null,null,{"$f":"IF(Köpek!$B24=\"\",\"\",IF(Köpek!$C24=\"\",\"\",Köpek!$C24*AD58*1000))","v":""},null,null,null,null,null,null,null,null,null,null,null,null,null,null,null,null,null,null,null,null,null,null,null,null,null,null,null,null,null,null,null,null,null,null,null,null,null,null,null,null,null,null,null,null,null,null,null,null,null,null,null,"Peynir,mascarpone",58.89,5.8,35.5,0,3.18,3.55,3.55,3,3,null,0.49,0.29299999999999998,null,0.87,0.82,1.1399999999999999,2.2400000000000002,2.12,0.56999999999999995,0.13,1.23,1.1200000000000001,0.88,0.32,null,1.47,0.2,0.1,null,2.4E-2,0.13600000000000001,0.2,null,null,0.2,0.39,4.3,0.1,0.14499999999999999,26,null,154,0.2,1.2,2.9,3.5,0.1,0.7,1.26E-2,3240,null,3,21.3,0.8,0.49,0.29299999999999998,112,"GJ",null,null,null,null,null,null,null,null,null,null,null,"Rhodesian Ridgeback",29,41,35,"İri",null,null,null,null,null,null,null,null,null,null,null,null,null,null,null,null,null,null,"Serval",18]
[null,{"$f":"Hesap!CQ2","v":"Triptofan, g "},{"$f":"IF(KKSecim=\"Köpek\",Hesap!HG49, IF(KKSecim=\"Kedi\",Hesap!HX49,0))","v":0.21767176432841251},{"$f":"Hesap!CQ1","v":0.39690000000000003},"TAMAM",{"$f":"(D59*100)/(Köpek!$C$2*1000)","v":0.12306976744186048},{"$f":"F59*100/Köpek!$H$3","v":0.2771003670235902},{"$f":"D59*100/Köpek!$F$5","v":6.381028938906752E-2},null,{"$f":"IF(Köpek!B11=\"\",\"\",Köpek!B11)","v":"Vit-Min. (TheraVet ProCure)"},{"$f":"IF(Köpek!C11=\"\",\"\",Köpek!C11*100/Köpek!$C$2)","v":""},null,null,null,null,null,null,null,null,null,null,null,null,null,null,null,null,"  ",0,"",null,null,null,null,null,null,null,null,null,null,null,null,null,null,null,null,null,null,null,null,null,null,null,null,null,null,null,null,null,null,null,null,null,null,null,null,null,null,null,null,null,null,null,null,null,null,null,null,null,null,null,null,{"$f":"IF(Köpek!$B25=\"\",\"\",IF(Köpek!$C25=\"\",\"\",Köpek!$C25*AD59*1000))","v":""},null,null,null,null,null,null,null,null,null,null,null,null,null,null,null,null,null,null,null,null,null,null,null,null,null,null,null,null,null,null,null,null,null,null,null,null,null,null,null,null,null,null,null,null,null,null,null,null,null,null,null,"Peynir, Parmesan",63.3,33.6,24.1,null,4.0999999999999996,3.57,3.57,0.1,0.05,0,0.501,0.18,null,1.05,0.94799999999999995,1.84,3.11,2.69,0.94799999999999995,0.121,1.74,1.84,1.1599999999999999,0.46300000000000002,null,2.2599999999999998,1.18,0.93,null,4.3999999999999997E-2,9.1999999999999998E-2,0.998,null,null,0.3,0.13800000000000001,8.1999999999999993,0.59,0.11,27.5,1.4999999999999999E-2,null,7.0000000000000007E-2,2.71,5.3000000000000007,3.3200000000000003,0.39,0.90999999999999992,1.6E-2,2140,2.4,6.1,15.606999999999999,0.68100000000000005,0.501,0.18,150,"EE",null,null,null,null,null,null,null,null,null,null,null,"Rottweiler ",38,59,48.5,"İri",null,null,null,null,null,null,null,null,null,null,null,null,null,null,null,null,null,null,"Skookum",4.3]
[null,{"$f":"Hesap!CS2","v":"Valin, g "},{"$f":"IF(KKSecim=\"Köpek\",Hesap!HG50, IF(KKSecim=\"Kedi\",Hesap!HX50,0))","v":0.76496077178270683},{"$f":"Hesap!CS1","v":1.7860999999999998},"FAZLA",{"$f":"(D60*100)/(Köpek!$C$2*1000)","v":0.55382945736434108},{"$f":"F60*100/Köpek!$H$3","v":1.2469865596896812},{"$f":"D60*100/Köpek!$F$5","v":0.28715434083601277},null,{"$f":"IF(Köpek!B12=\"\",\"\",Köpek!B12)","v":"Ayçiçeği yağı "},{"$f":"IF(Köpek!C12=\"\",\"\",Köpek!C12*100/Köpek!$C$2)","v":3.1007751937984493},null,null,null,null,null,null,null,null,null,null,null,null,null,null,null,null,"  ",0,"",null,null,null,null,null,null,null,null,null,null,null,null,null,null,null,null,null,null,null,null,null,null,null,null,null,null,null,null,null,null,null,null,null,null,null,null,null,null,null,null,null,null,null,null,null,null,null,null,null,null,null,null,{"$f":"IF(Köpek!$B26=\"\",\"\",IF(Köpek!$C26=\"\",\"\",Köpek!$C26*AD60*1000))","v":""},null,null,null,null,null,null,null,null,null,null,null,null,null,null,null,null,null,null,null,null,null,null,null,null,null,null,null,null,null,null,null,null,null,null,null,null,null,null,null,null,null,null,null,null,null,null,null,null,null,null,null,"Peynir,süzme",58.89,11,16,0,3.18,1.96,1.96,2,1.8,null,0.49,0.29299999999999998,null,0.87,0.82,1.1399999999999999,2.2400000000000002,2.12,0.56999999999999995,0.13,1.23,1.1200000000000001,0.88,0.32,null,1.47,0.2,0.1,null,2.4E-2,0.13600000000000001,0.5,null,null,0.2,0.39,4.3,0.1,0.14499999999999999,26,null,154,0.2,1.2,2.9,3.5,0.1,0.7,1.26E-2,3240,null,3,10,0.8,0.49,0.29299999999999998,100,null,null,null,null,null,null,null,null,null,null,null,null,"Saint Bernard",50,91,70.5,"Dev",null,null,null,null,null,null,null,null,null,null,null,null,null,null,null,null,null,null,"Sokoke",3.7]
[null,"MİNERAL ELEMENTLER","İHTİYAÇ","MAMA","SONUÇ","%","KM'de %","100 kcal ME'de",null,{"$f":"IF(Köpek!B13=\"\",\"\",Köpek!B13)","v":""},{"$f":"IF(Köpek!C13=\"\",\"\",Köpek!C13*100/Köpek!$C$2)","v":""},null,null,null,null,null,null,null,null,null,null,null,null,null,null,null,null,"  ",0,"",null,null,null,null,null,null,null,null,null,null,null,null,null,null,null,null,null,null,null,null,null,null,null,null,null,null,null,null,null,null,null,null,null,null,null,null,null,null,null,null,null,null,null,null,null,null,null,null,null,null,null,null,{"$f":"IF(Köpek!$B27=\"\",\"\",IF(Köpek!$C27=\"\",\"\",Köpek!$C27*AD61*1000))","v":""},null,null,null,null,null,null,null,null,null,null,null,null,null,null,null,null,null,null,null,null,null,null,null,null,null,null,null,null,null,null,null,null,null,null,null,null,null,null,null,null,null,null,null,null,null,null,null,null,null,null,null,"Peynir altı suyu, tatlı",6.9,0.8,0.4,null,0.5,0.27,0.27,5.2,5.14,null,8.9999999999999993E-3,3.0000000000000001E-3,null,2.5000000000000001E-2,1.6E-2,4.7E-2,7.8E-2,6.8000000000000005E-2,1.6E-2,1.7000000000000001E-2,2.7E-2,2.4E-2,5.5E-2,1.2999999999999999E-2,null,4.7E-2,4.7E-2,4.5999999999999999E-2,null,8.0000000000000002E-3,0.161,5.3999999999999999E-2,null,null,null,null,0.6,0,1.9E-2,1.3,null,null,0.01,0.74,3.83,1.58,0.36,0.31,2.8000000000000004E-3,41.7,0.371,9.1800000000000007E-2,0.22800000000000001,1.2E-2,8.9999999999999993E-3,3.0000000000000001E-3,300,null,null,"Yaşlılık","Yaş","Canlı ağırlık","İhtiyaç, günlük",null,null,null,null,null,null,"Saluki",15,22,18.5,"Orta",null,null,null,null,null,null,null,null,null,null,null,null,null,null,null,null,null,null,"Siamese Modern",3.7]
[null,{"$f":"Hesap!DD2","v":"Potasyum, g "},{"$f":"IF(KKSecim=\"Köpek\",Hesap!HG21, IF(KKSecim=\"Kedi\",Hesap!HX21,0))","v":0.62191932665260719},{"$f":"Hesap!DD1","v":0.6341},{"$f":"IF(C62=0,\"\",   IF(D62<C62*0.99,\"EKSİK\",      IF(D62>C62*1.5,\"FAZLA\",    \"TAMAM\")) )","v":"TAMAM"},{"$f":"(D62*100)/(Köpek!$C$2*1000)","v":0.19662015503875968},{"$f":"F62*100/Köpek!$H$3","v":0.44270431526746923},{"$f":"D62*100/Köpek!$F$5","v":0.10194533762057875},null,{"$f":"IF(Köpek!B14=\"\",\"\",Köpek!B14)","v":""},{"$f":"IF(Köpek!C14=\"\",\"\",Köpek!C14*100/Köpek!$C$2)","v":""},null,null,null,null,null,null,null,null,null,null,null,null,null,null,"  ",null,"  ",0,"",null,null,null,null,null,null,null,null,null,null,null,null,null,null,null,null,null,null,null,null,null,null,null,null,null,null,null,null,null,null,null,null,null,null,null,null,null,null,null,null,null,null,null,null,null,null,null,null,null,null,null,null,{"$f":"IF(Köpek!$B28=\"\",\"\",IF(Köpek!$C28=\"\",\"\",Köpek!$C28*AD62*1000))","v":""},null,null,null,null,null,null,null,null,null,null,null,null,null,null,null,null,null,null,null,null,null,null,null,null,null,null,null,null,null,null,null,null,null,null,null,null,null,null,null,null,null,null,null,null,null,null,null,null,null,null,null,"Peynir altı suyu tozu",96.8,12.5,0.8,0.1,8.4,3.51,3.51,74.5,74.5,null,2.5000000000000001E-2,8.9999999999999993E-3,null,0.37,0.19,0.86,1.2,1.04,0.2,0.3,0.37,0.25,0.85,0.2,6.6000000000000003E-2,0.69,0.92,0.78,0.79,0.13,1.1299999999999999,1.3,1.5,1.04,1,null,145,0,0.27200000000000002,20,0.37,1675,0.12,11,45.9,28.5,3.9,4,0.02,90,null,0.2,0.7,0,2.5000000000000001E-2,8.9999999999999993E-3,300,null,null,"Küçük ırklar",12," < 10 kg","100 kcal/kg CA/gün",null,null,null,null,null,null,"Samoyed",16,30,23,"İri",null,null,null,null,null,null,null,null,null,null,null,null,null,null,null,null,null,null,"Siamese Trad",4.3]
[null,{"$f":"Hesap!DE2","v":"Klorid, mg"},{"$f":"IF(KKSecim=\"Köpek\",Hesap!HG22, IF(KKSecim=\"Kedi\",Hesap!HX22,0))","v":186.57579799578215},{"$f":"Hesap!DE1","v":0},"EKSİK",{"$f":"(D63/10)/(Köpek!$C$2*1000)","v":0},{"$f":"F63*100/Köpek!$H$3","v":0},{"$f":"D63*100/Köpek!$F$5","v":0},null,{"$f":"IF(Köpek!B15=\"\",\"\",Köpek!B15)","v":""},{"$f":"IF(Köpek!C15=\"\",\"\",Köpek!C15*100/Köpek!$C$2)","v":""},null,null,null,null,null,null,null,null,null,null,null,null,null,null,"  ",null,"  ",0,"",null,null,null,null,null,null,null,null,null,null,null,null,null,null,null,null,null,null,null,null,null,null,null,null,null,null,null,null,null,null,null,null,null,null,null,null,null,null,null,null,null,null,null,null,null,null,null,null,null,null,null,null,{"$f":"IF(Köpek!$B29=\"\",\"\",IF(Köpek!$C29=\"\",\"\",Köpek!$C29*AD63*1000))","v":""},null,null,null,null,null,null,null,null,null,null,null,null,null,null,null,null,null,null,null,null,null,null,null,null,null,null,null,null,null,null,null,null,null,null,null,null,null,null,null,null,null,null,null,null,null,null,null,null,null,null,null,"Peynir altı suyu protein tozu, 35",96.5,35,2.5,0,8,3.51,3.51,51,51,null,2.5000000000000001E-2,8.9999999999999993E-3,null,0.37,0.19,0.86,1.2,1.04,0.2,0.3,0.37,0.25,0.85,0.2,6.6000000000000003E-2,0.69,0.92,0.78,0.79,0.13,1.1299999999999999,1.3,1.5,1.04,1,null,145,0,0.27200000000000002,20,0.37,1675,0.12,11,45.9,28.5,3.9,4,0.02,90,null,0.2,0.7,0,2.5000000000000001E-2,8.9999999999999993E-3,300,null,null,"Orta Irklar",10," 10-20 kg","60-80 kcal/kg CA/gün",null,null,null,null,null,null,"Schnauzer, Miniature",5,7,6,"Küçük",null,null,null,null,null,null,null,null,null,null,null,null,null,null,null,null,null,null,"Siberian",5]
[null,{"$f":"Hesap!DF2","v":"Demir, mg"},{"$f":"IF(KKSecim=\"Köpek\",Hesap!HG25, IF(KKSecim=\"Kedi\",Hesap!HX25,0))","v":4.6643949498945538},{"$f":"Hesap!DF1","v":4.0418000000000003},"EKSİK",{"$f":"(D64*100)/(Köpek!$C$2*1000)","v":1.2532713178294574},{"$f":"F64*100/Köpek!$H$3","v":2.8218298398486947},{"$f":"D64*100/Köpek!$F$5","v":0.64980707395498383},null,{"$f":"IF(Köpek!B16=\"\",\"\",Köpek!B16)","v":""},{"$f":"IF(Köpek!C16=\"\",\"\",Köpek!C16*100/Köpek!$C$2)","v":""},null,null,null,null,null,null,null,null,null,null,null,null,null,null,"  ",null,"  ",0,"",null,null,null,null,null,null,null,null,null,null,null,null,null,null,null,null,null,null,null,null,null,null,null,null,null,null,null,null,null,null,null,null,null,null,null,null,null,null,null,null,null,null,null,null,null,null,null,null,null,null,null,null,{"$f":"IF(Köpek!$B30=\"\",\"\",IF(Köpek!$C30=\"\",\"\",Köpek!$C30*AD64*1000))","v":""},null,null,null,null,null,null,null,null,null,null,null,null,null,null,null,null,null,null,null,null,null,null,null,null,null,null,null,null,null,null,null,null,null,null,null,null,null,null,null,null,null,null,null,null,null,null,null,null,null,null,null,"Peynir altı suyu protein tozu, 70",97,73,3,0,4,3.51,3.51,16,16,null,2.5000000000000001E-2,8.9999999999999993E-3,null,0.37,0.19,0.86,1.2,1.04,0.2,0.3,0.37,0.25,0.85,0.2,6.6000000000000003E-2,0.69,0.92,0.78,0.79,0.13,1.1299999999999999,1.3,1.5,1.04,1,null,145,0,0.27200000000000002,20,0.37,1675,0.12,11,45.9,28.5,3.9,4,0.02,90,null,0.2,0.7,0,2.5000000000000001E-2,8.9999999999999993E-3,300,null,null,"Büyük ırklar",9," 20-50 kg","40-60 kcal/kg CA/gün",null,null,null,null,null,null,"Shetland çoban köpeği",6.4,12.3,9.35,"Küçük",null,null,null,null,null,null,null,null,null,null,null,null,null,null,null,null,null,null,"Singapura",3.1]
[null,{"$f":"Hesap!DG2","v":"Bakır, mg"},{"$f":"IF(KKSecim=\"Köpek\",Hesap!HG23, IF(KKSecim=\"Kedi\",Hesap!HX23,0))","v":0.93287898997891083},{"$f":"Hesap!DG1","v":0.34296000000000004},"EKSİK",{"$f":"(D65*100)/(Köpek!$C$2*1000)","v":0.10634418604651165},{"$f":"F65*100/Köpek!$H$3","v":0.23944152651652939},{"$f":"D65*100/Köpek!$F$5","v":5.5138263665594857E-2},null,{"$f":"IF(Köpek!B17=\"\",\"\",Köpek!B17)","v":""},{"$f":"IF(Köpek!C17=\"\",\"\",Köpek!C17*100/Köpek!$C$2)","v":""},null,null,null,null,null,null,null,null,null,null,null,null,null,null,"  ",null,"  ",0,"",null,null,null,null,null,null,null,null,null,null,null,null,null,null,null,null,null,null,null,null,null,null,null,null,null,null,null,null,null,null,null,null,null,null,null,null,null,null,null,null,null,null,null,null,null,null,null,null,null,null,null,null,{"$f":"IF(Köpek!$B31=\"\",\"\",IF(Köpek!$C31=\"\",\"\",Köpek!$C31*AD65*1000))","v":""},null,null,null,null,null,null,null,null,null,null,null,null,null,null,null,null,null,null,null,null,null,null,null,null,null,null,null,null,null,null,null,null,null,null,null,null,null,null,null,null,null,null,null,null,null,null,null,null,null,null,null,"Piliç, Baget, Derili, Çiğ",29,18.7,8.9,null,1.4,1.55,1.55,0,null,null,1.74,8.5000000000000006E-2,0.09,1.21,0.48399999999999999,0.877,1.33,1.69,0.48399999999999999,0.121,0.69599999999999995,0.57499999999999996,0.75600000000000001,0.19700000000000001,null,0.998,8.9999999999999993E-3,0.17199999999999999,null,0.02,0.192,7.5999999999999998E-2,null,null,null,null,18,null,null,16,null,null,7.0000000000000007E-2,54,null,1.5,0.6,2.6,3.0000000000000001E-3,420,15,5,2.5249999999999999,1.9039999999999999,1.788,0.11600000000000001,150,null,null,"Dev ırklar",7," > 50 kg",null,null,null,null,null,null,null,"Shiba Inu",6.8,11,8.9,"Küçük",null,null,null,null,null,null,null,null,null,null,null,null,null,null,null,null,null,null,"Snowshoe",4.3]
[null,{"$f":"Hesap!DH2","v":"Çinko, mg"},{"$f":"IF(KKSecim=\"Köpek\",Hesap!HG24, IF(KKSecim=\"Kedi\",Hesap!HX24,0))","v":9.3287898997891077},{"$f":"Hesap!DH1","v":3.3294800000000002},"EKSİK",{"$f":"(D66*100)/(Köpek!$C$2*1000)","v":1.0323968992248063},{"$f":"F66*100/Köpek!$H$3","v":2.3245153187142935},{"$f":"D66*100/Köpek!$F$5","v":0.53528617363344044},null,{"$f":"IF(Köpek!B18=\"\",\"\",Köpek!B18)","v":""},{"$f":"IF(Köpek!C18=\"\",\"\",Köpek!C18*100/Köpek!$C$2)","v":""},null,null,null,null,null,null,null,null,null,null,null,null,null,null,"  ",null,"  ",0,"",null,null,null,null,null,null,null,null,null,null,null,null,null,null,null,null,null,null,null,null,null,null,null,null,null,null,null,null,null,null,null,null,null,null,null,null,null,null,null,null,null,null,null,null,null,null,null,null,null,null,null,null,{"$f":"IF(Köpek!$B32=\"\",\"\",IF(Köpek!$C32=\"\",\"\",Köpek!$C32*AD66*1000))","v":""},null,null,null,null,null,null,null,null,null,null,null,null,null,null,null,null,null,null,null,null,null,null,null,null,null,null,null,null,null,null,null,null,null,null,null,null,null,null,null,null,null,null,null,null,null,null,null,null,null,null,null,"Piliç,Boyun,Derili,Çiğ",40.01,14.07,26.24,0,0.55000000000000004,2.97,2.97,0,null,null,5.04,0.32,null,1.1599999999999999,0.53,0.91,1.34,1.47,0.48,0.25,0.72,0.59,0.76,0.2,0.02,0.89,1.7999999999999999E-2,0.112,null,1.2999999999999999E-2,0.13700000000000001,6.4000000000000001E-2,null,null,0.8,2.4E-2,19,0.3,0.12,18.600000000000001,0.05,561,0.05,36.1,8.5,1.9,0.5,1.7,2.5999999999999999E-3,648,null,3,7.3,5.7,5.0410000000000004,0.32,150,null,null,null,null,null,null,null,null,null,null,null,null,"Shih Tzu",4,7,5.5,"Küçük",null,null,null,null,null,null,null,null,null,null,null,null,null,null,null,null,null,null,"Somali",4.0999999999999996]
[null,{"$f":"Hesap!DI2","v":"Manganez, mg"},{"$f":"IF(KKSecim=\"Köpek\",Hesap!HG27, IF(KKSecim=\"Kedi\",Hesap!HX27,0))","v":0.74630319198312867},{"$f":"Hesap!DI1","v":1.4279600000000001},"FAZLA",{"$f":"(D67*100)/(Köpek!$C$2*1000)","v":0.44277829457364348},{"$f":"F67*100/Köpek!$H$3","v":0.99694693901488018},{"$f":"D67*100/Köpek!$F$5","v":0.22957556270096463},null,{"$f":"IF(Köpek!B19=\"\",\"\",Köpek!B19)","v":""},{"$f":"IF(Köpek!C19=\"\",\"\",Köpek!C19*100/Köpek!$C$2)","v":""},null,null,null,null,null,null,null,null,null,null,null,null,null,null,"  ",null,"  ",0,"",null,null,null,null,null,null,null,null,null,null,null,null,null,null,null,null,null,null,null,null,null,null,null,null,null,null,null,null,null,null,null,null,null,null,null,null,null,null,null,null,null,null,null,null,null,null,null,null,null,null,null,null,{"$f":"IF(Köpek!$B33=\"\",\"\",IF(Köpek!$C33=\"\",\"\",Köpek!$C33*AD67*1000))","v":""},null,null,null,null,null,null,null,null,null,null,null,null,null,null,null,null,null,null,null,null,null,null,null,null,null,null,null,null,null,null,null,null,null,null,null,null,null,null,null,null,null,null,null,null,null,null,null,null,null,null,null,"Piliç,But,Derili,Çiğ",29.1,18.149999999999999,12.1,0,0.9,1.87,1.87,0,null,null,2.34,0.17,0.09,1.1299999999999999,0.54,0.91,1.33,1.48,0.49,0.24,0.71,0.59,0.75,0.2,0.02,0.88,0.01,0.14899999999999999,null,2.1000000000000001E-2,0.19800000000000001,7.9000000000000001E-2,null,null,0.6,2.4E-2,10.1,0.2,0.13200000000000001,17.7,0.05,566,0.11,54.4,11.1,2,1,2.9,3.2000000000000002E-3,369,null,4,3.4,2.7,2.34,0.17,130,null,null,null,null,null,null,null,null,null,null,null,null,"Sibirya kurdu",16,27,21.5,{"$f":"IF(GZ67<10,\"Küçük\", IF(GZ67<20,\"Orta\", IF(GZ67<50,\"İri\",\"Dev\")))","v":"İri"},null,null,null,null,null,null,null,null,null,null,null,null,null,null,null,null,null,null,"Sphynx",4.3]
[null,{"$f":"Hesap!DJ2","v":"Selenyum, µg "},{"$f":"IF(KKSecim=\"Köpek\",Hesap!HG28, IF(KKSecim=\"Kedi\",Hesap!HX28,0))","v":54.417941082103127},{"$f":"Hesap!DJ1","v":20.865449999999999},{"$f":"IF(C68=0,\"\",   IF(D68<C68*0.99,\"EKSİK\",      IF(D68>C68*1.1,\"FAZLA\",    \"TAMAM\")) )","v":"EKSİK"},{"$f":"(D68*100)/(Köpek!$C$2*1000)","v":6.4699069767441859},{"$f":"F68*100/Köpek!$H$3","v":14.567457427846739},{"$f":"D68*100/Köpek!$F$5","v":3.3545739549839224},null,{"$f":"IF(Köpek!B20=\"\",\"\",Köpek!B20)","v":""},{"$f":"IF(Köpek!C20=\"\",\"\",Köpek!C20*100/Köpek!$C$2)","v":""},null,null,null,null,null,null,null,null,null,null,null,null,null,null,"  ",null,"  ",0,"",null,null,null,null,null,null,null,null,null,null,null,null,null,null,null,null,null,null,null,null,null,null,null,null,null,null,null,null,null,null,null,null,null,null,null,null,null,null,null,null,null,null,null,null,null,null,null,null,null,null,null,null,{"$f":"IF(Köpek!$B34=\"\",\"\",IF(Köpek!$C34=\"\",\"\",Köpek!$C34*AD68*1000))","v":""},null,null,null,null,null,null,null,null,null,null,null,null,null,null,null,null,null,null,null,null,null,null,null,null,null,null,null,null,null,null,null,null,null,null,null,null,null,null,null,null,null,null,null,null,null,null,null,null,null,null,null,"Piliç,Et+Deri,Çiğ",34.01,18.600000000000001,15.06,0,0.79,2.15,2.15,0,null,null,2.88,0.19,null,1.17,0.54,0.92,1.35,1.51,0.49,0.25,0.72,0.6,0.73,0.2,0.02,0.9,1.0999999999999999E-2,0.14699999999999999,null,0.02,0.189,7.0000000000000007E-2,null,null,0.5,2.4E-2,9,0.2,0.14399999999999999,13.1,0.05,597,0.06,68,9.1,1.2,0.6,3.5,3.0999999999999999E-3,420,null,3,4.3,3.2,2.88,0.19,180,null,null,null,null,null,null,null,null,null,null,null,null,"Springer Spaniel",18,25,21.5,"İri",null,null,null,null,null,null,null,null,null,null,null,null,null,null,null,null,null,null,"Tonkinese",4.4000000000000004]
[null,{"$f":"Hesap!DK2","v":"İyot, mg "},{"$f":"IF(KKSecim=\"Köpek\",Hesap!HG26, IF(KKSecim=\"Kedi\",Hesap!HX26,0))","v":0.13682225186357361},{"$f":"Hesap!DK1","v":3.576E-2},{"$f":"IF(C69=0,\"\",   IF(D69<C69*0.99,\"EKSİK\",      IF(D69>C69*1.1,\"FAZLA\",    \"TAMAM\")) )","v":"EKSİK"},{"$f":"(D69*100)/(Köpek!$C$2*1000)","v":1.1088372093023257E-2},{"$f":"F69*100/Köpek!$H$3","v":2.4966261337272835E-2},{"$f":"D69*100/Köpek!$F$5","v":5.7491961414790991E-3},null,{"$f":"IF(Köpek!B21=\"\",\"\",Köpek!B21)","v":""},{"$f":"IF(Köpek!C21=\"\",\"\",Köpek!C21*100/Köpek!$C$2)","v":""},null,null,null,null,null,null,null,null,null,null,null,null,null,null,"  ","  ","  ",null,"  ",null,null,null,null,null,null,null,null,null,null,null,null,null,null,null,null,null,null,null,null,null,null,null,null,null,null,null,null,null,null,null,null,null,null,null,null,null,null,null,null,null,null,null,null,null,null,null,null,null,null,null,null,null,null,null,null,null,null,null,null,null,null,null,null,null,null,null,null,null,null,null,null,null,null,null,null,null,null,null,null,null,null,null,null,null,null,null,null,null,null,null,null,null,null,null,null,null,null,null,null,null,null,null,null,"Piliç,Göğüs,Deri+Et,Çiğ",30.27,21.18,8.08,0,1.26,1.6,1.6,0,null,null,1.54,0.09,0.05,1.345,0.59,1.03,1.52,1.82,0.55500000000000005,0.20499999999999999,0.81,0.67,0.87,0.23,2.5000000000000001E-2,1.06,1.0999999999999999E-2,0.19,null,2.5000000000000001E-2,0.22,6.3E-2,null,null,0.2,2.4E-2,8.1999999999999993,0.1,0.08,8,0.06,335.5,0.04,99.1,4,0.9,0.6,5.3,3.4000000000000002E-3,245,15,4,2.34,1.73,1.56,0.11,180,null,null,null,null,null,null,null,null,null,null,null,null,"Terrier, Airedale",18,29,23.5,"İri",null,null,null,null,null,null,null,null,null,null,null,null,null,null,null,null,null,null,"Toyger",4.3]
[null,"VİTAMİNLER","İHTİYAÇ","MAMA","SONUÇ","%","KM'de %","100 kcal ME'de",null,{"$f":"IF(Köpek!B22=\"\",\"\",Köpek!B22)","v":""},{"$f":"IF(Köpek!C22=\"\",\"\",Köpek!C22*100/Köpek!$C$2)","v":""},null,null,null,null,null,null,null,null,null,null,null,null,null,null,null,null,null,null,null,null,null,null,null,null,null,null,null,null,null,null,null,null,null,null,null,null,null,null,null,null,null,null,null,null,null,null,null,null,null,null,null,null,null,null,null,null,null,null,null,null,null,null,null,null,null,null,null,null,null,null,null,null,null,null,null,null,null,null,null,null,null,null,null,null,null,null,null,null,null,null,null,null,null,null,null,null,null,null,null,null,null,null,null,null,null,null,null,null,null,null,null,null,null,null,null,null,null,null,null,null,null,null,null,"Piliç,Göğüs,Et,Çiğ",25.24,23.09,1.24,0,1.02,1.1000000000000001,1.1000000000000001,0,null,null,0.17,0.04,0.05,1.39,0.72,1.22,1.73,1.96,0.64,0.3,0.92,0.78,0.73,0.27,3.3000000000000002E-2,1.1499999999999999,1.0999999999999999E-2,0.19600000000000001,null,2.8000000000000001E-2,0.255,6.5000000000000002E-2,null,null,0.4,2.4E-2,7.2,0.2,0.17799999999999999,8,0.06,734,0.04,111.9,8.1999999999999993,0.9,0.7,5.5,3.8E-3,63,null,1,0.3,0.3,0.17,0.04,175,null,null,null,null,null,null,null,null,null,null,null,null,"Terrier, Border",5,5.5,5.25,"Küçük",null,null,null,null,null,null,null,null,null,null,null,null,null,null,null,null,null,null,"Türk Ankara Kedisi",4.0999999999999996]
[null,{"$f":"Hesap!DO2","v":"Tiamin, mg"},{"$f":"IF(KKSecim=\"Köpek\",Hesap!HG29, IF(KKSecim=\"Kedi\",Hesap!HX29,0))","v":0.34982962124209155},{"$f":"Hesap!DO1","v":0.325936},{"$f":"IF(C71=0,\"\",   IF(D71<C71*0.99,\"EKSİK\",      IF(D71>C71*2,\"FAZLA\",    \"TAMAM\")) )","v":"EKSİK"},{"$f":"(D71*100)/(Köpek!$C$2*1000)","v":0.10106542635658915},{"$f":"F71*100/Köpek!$H$3","v":0.22755602223784557},{"$f":"D71*100/Köpek!$F$5","v":5.2401286173633432E-2},null,{"$f":"IF(Köpek!B23=\"\",\"\",Köpek!B23)","v":""},{"$f":"IF(Köpek!C23=\"\",\"\",Köpek!C23*100/Köpek!$C$2)","v":""},null,null,null,null,null,null,null,null,null,null,null,null,null,null,null,null,null,null,null,null,null,null,null,null,null,null,null,null,null,null,null,null,null,null,null,null,null,null,null,null,null,null,null,null,null,null,null,null,null,null,null,null,null,null,null,null,null,null,null,null,null,null,null,null,null,null,null,null,null,null,null,null,null,null,null,null,null,null,null,null,null,null,null,null,null,null,null,null,null,null,null,null,null,null,null,null,null,null,null,null,null,null,null,null,null,null,null,null,null,null,null,null,null,null,null,null,null,null,null,null,null,null,null,"Piliç,Kanat,Derili,Çiğ",33.79,18.329999999999998,15.97,0,0.69,2.2200000000000002,2.2200000000000002,0,null,null,2.95,0.2,null,1.2,0.51,0.86,1.29,1.43,0.47,0.26,0.7,0.56000000000000005,0.74,0.2,5.0000000000000001E-3,0.87,1.2E-2,0.13200000000000001,null,1.7999999999999999E-2,0.156,7.2999999999999995E-2,null,null,0.4,2.4E-2,9.5,0.2,0.155,13.3,2.5999999999999999E-2,561,0.04,59.3,7.7,0.9,0.5,3.5,3.2000000000000002E-3,441,null,3,4.5,3.4,2.95,0.2,120,null,null,null,null,null,null,null,null,null,null,null,null,"Terrier, Boston",4.5,11.3,7.9,"Küçük",null,null,null,null,null,null,null,null,null,null,null,null,null,null,null,null,null,null,"Türk Van Kedisi",5]
[null,{"$f":"Hesap!DP2","v":"Riboflavin, mg"},{"$f":"IF(KKSecim=\"Köpek\",Hesap!HG30, IF(KKSecim=\"Kedi\",Hesap!HX30,0))","v":0.81626911623154697},{"$f":"Hesap!DP1","v":0.275646},"EKSİK",{"$f":"(D72*100)/(Köpek!$C$2*1000)","v":8.5471627906976738E-2},{"$f":"F72*100/Köpek!$H$3","v":0.19244547182812938},{"$f":"D72*100/Köpek!$F$5","v":4.4316077170417995E-2},null,{"$f":"IF(Köpek!B24=\"\",\"\",Köpek!B24)","v":""},{"$f":"IF(Köpek!C24=\"\",\"\",Köpek!C24*100/Köpek!$C$2)","v":""},null,null,null,null,null,null,null,null,null,null,null,null,null,null,null,null,null,null,null,null,null,null,null,null,null,null,null,null,null,null,null,null,null,null,null,null,null,null,null,null,null,null,null,null,null,null,null,null,null,null,null,null,null,null,null,null,null,null,null,null,null,null,null,null,null,null,null,null,null,null,null,null,null,null,null,null,null,null,null,null,null,null,null,null,null,null,null,null,null,null,null,null,null,null,null,null,null,null,null,null,null,null,null,null,null,null,null,null,null,null,null,null,null,null,null,null,null,null,null,null,null,null,null,"Piliç,Sırt,Deri+Et,Çiğ",41.9,14.05,28.74,0,0.64,3.19,3.19,0,null,null,5.5810000000000004,0.34,null,0.91,0.39,0.67,1,1.1000000000000001,0.36,0.19,0.54,0.43,0.56999999999999995,0.15,0.01,0.67,1.2999999999999999E-2,0.113,null,1.4999999999999999E-2,0.14399999999999999,6.4000000000000001E-2,null,null,0.5,2.4E-2,9.4,0.2,0.121,12.6,0.03,561,0.06,48.4,8.1999999999999993,1.2,1,1.9,2.5000000000000001E-3,753,null,4,8.3000000000000007,6.1,5.5810000000000004,0.34,90,null,null,null,null,null,null,null,null,null,null,null,null,"Terrier, Bull",24,28,26,"İri"]
[null,{"$f":"Hesap!DR2","v":"Niasin, mg"},{"$f":"IF(KKSecim=\"Köpek\",Hesap!HG31, IF(KKSecim=\"Kedi\",Hesap!HX31,0))","v":2.6431571382735806},{"$f":"Hesap!DR1","v":14.02716},"FAZLA",{"$f":"(D73*100)/(Köpek!$C$2*1000)","v":4.3495069767441867},{"$f":"F73*100/Köpek!$H$3","v":9.7932254580464217},{"$f":"D73*100/Köpek!$F$5","v":2.2551704180064305},null,{"$f":"IF(Köpek!B25=\"\",\"\",Köpek!B25)","v":""},{"$f":"IF(Köpek!C25=\"\",\"\",Köpek!C25*100/Köpek!$C$2)","v":""},null,null,null,null,null,null,null,null,null,null,null,null,null,null,null,null,null,null,null,null,null,null,null,null,null,null,null,null,null,null,null,null,null,null,null,null,null,null,null,null,null,null,null,null,null,null,null,null,null,null,null,null,null,null,null,null,null,null,null,null,null,null,null,null,null,null,null,null,null,null,null,null,null,null,null,null,null,null,null,null,null,null,null,null,null,null,null,null,null,null,null,null,null,null,null,null,null,null,null,null,null,null,null,null,null,null,null,null,null,null,null,null,null,null,null,null,null,null,null,null,null,null,null,"Sığır Akciğer,Çiğ",20.62,16.2,2.5,0,0.98,0.92,0.92,0,null,null,0.17,0.02,null,null,null,null,null,null,null,null,null,null,null,null,null,null,0.01,0.224,null,1.4E-2,0.34,0.19800000000000001,null,null,2.6,null,79.5,0.2,0.443,16.100000000000001,null,null,0.11,40,10,2.2999999999999998,0.5,0.4,3.8100000000000002E-2,138,null,null,0.9,0.3,0.17,0.02,100,null,null,null,null,null,null,null,null,null,null,null,null,"Terrier, Cairn",6,8,7,"Küçük"]
[null,{"$f":"Hesap!DS2","v":"Pantotenik asit, mg"},{"$f":"IF(KKSecim=\"Köpek\",Hesap!HG32, IF(KKSecim=\"Kedi\",Hesap!HX32,0))","v":2.3321974749472769},{"$f":"Hesap!DS1","v":2.6628500000000002},"TAMAM",{"$f":"(D74*100)/(Köpek!$C$2*1000)","v":0.82568992248062023},{"$f":"F74*100/Köpek!$H$3","v":1.859099804305284},{"$f":"D74*100/Köpek!$F$5","v":0.42811093247588422},null,{"$f":"IF(Köpek!B26=\"\",\"\",Köpek!B26)","v":""},{"$f":"IF(Köpek!C26=\"\",\"\",Köpek!C26*100/Köpek!$C$2)","v":""},null,null,null,null,null,null,null,null,null,null,null,null,null,null,null,null,null,null,null,null,null,null,null,null,null,null,null,null,null,null,null,null,null,null,null,null,null,null,null,null,null,null,null,null,null,null,null,null,null,null,null,null,null,null,null,null,null,null,null,null,null,null,null,null,null,null,null,null,null,null,null,null,null,null,null,null,null,null,null,null,null,null,null,null,null,null,null,null,null,null,null,null,null,null,null,null,null,null,null,null,null,null,null,null,null,null,null,null,null,null,null,null,null,null,null,null,null,null,null,null,null,null,null,"Sığır böbreği, çiğ",24.1,15.6,2.8,0,1.1000000000000001,1.06,1.06,0.9,null,0.9,0.10199999999999999,1.0999999999999999E-2,0.15,0.97299999999999998,0.374,0.624,1.22,1.1499999999999999,0.32400000000000001,0.19,0.64900000000000002,0.57399999999999995,0.64900000000000002,0.19,null,0.89900000000000002,9.4500000000000001E-3,0.22900000000000001,null,1.4999999999999999E-2,0.21,0.19500000000000001,null,null,4.4000000000000004,4.2000000000000003E-2,69,0.8,1.23,17,0.24,null,0.8,64,38.5,19,4.4000000000000004,4.3,0.31,870,10,2,1.1990000000000001,0.16900000000000001,0.158,1.0999999999999999E-2,350,null,null,null,null,null,null,null,null,null,null,null,null,"Terrier, Fox",7.3,8.1999999999999993,{"$f":"(GX74+GY74)/2","v":7.75},"Küçük"," 18-20"]
[null,{"$f":"Hesap!DQ2","v":"Pridoksin, mg"},{"$f":"IF(KKSecim=\"Köpek\",Hesap!HG33, IF(KKSecim=\"Kedi\",Hesap!HX33,0))","v":0.23321974749472771},{"$f":"Hesap!DQ1","v":0.82350000000000001},"FAZLA",{"$f":"(D75*100)/(Köpek!$C$2*1000)","v":0.25534883720930229},{"$f":"F75*100/Köpek!$H$3","v":0.57493613566119051},{"$f":"D75*100/Köpek!$F$5","v":0.13239549839228293},null,{"$f":"IF(Köpek!B27=\"\",\"\",Köpek!B27)","v":""},{"$f":"IF(Köpek!C27=\"\",\"\",Köpek!C27*100/Köpek!$C$2)","v":""},null,null,null,null,null,null,null,null,null,null,null,null,null,null,null,null,null,null,null,null,null,null,null,null,null,null,null,null,null,null,null,null,null,null,null,null,null,null,null,null,null,null,null,null,null,null,null,null,null,null,null,null,null,null,null,null,null,null,null,null,null,null,null,null,null,null,null,null,null,null,null,null,null,null,null,null,null,null,null,null,null,null,null,null,null,null,null,null,null,null,null,null,null,null,null,null,null,null,null,null,null,null,null,null,null,null,null,null,null,null,null,null,null,null,null,null,null,null,null,null,null,null,null,"Sığır et suyu, kurutulmuş",96.7,16,8.9,null,48.2,2.38,2.34,null,null,null,null,null,null,null,null,null,null,null,null,null,null,null,null,null,null,null,0.06,0.32,null,0.05,0.45,16.98,null,null,0,null,10,5,0.28000000000000003,null,null,null,0.32,45,3,2.4,0.7,2,0.01,null,null,2.4,null,null,null,null,125,null,null,null,null,null,null,null,null,null,null,null,null,"Terrier, İskoç",8.5,10.5,9.5,"Küçük"]
[null,{"$f":"Hesap!DT2","v":"Vitamin B12, µg"},{"$f":"IF(KKSecim=\"Köpek\",Hesap!HG34, IF(KKSecim=\"Kedi\",Hesap!HX34,0))","v":5.4417941082103134},{"$f":"Hesap!DT1","v":0.50600000000000001},"EKSİK",{"$f":"(D76*100)/(Köpek!$C$2*1000)","v":0.15689922480620155},{"$f":"F76*100/Köpek!$H$3","v":0.35326980527572849},{"$f":"D76*100/Köpek!$F$5","v":8.1350482315112521E-2},null,{"$f":"IF(Köpek!B28=\"\",\"\",Köpek!B28)","v":""},{"$f":"IF(Köpek!C28=\"\",\"\",Köpek!C28*100/Köpek!$C$2)","v":""},null,null,null,null,null,null,null,null,null,null,null,null,null,null,null,null,null,null,null,null,null,null,null,null,null,null,null,null,null,null,null,null,null,null,null,null,null,null,null,null,null,null,null,null,null,null,null,null,null,null,null,null,null,null,null,null,null,null,null,null,null,null,null,null,null,null,null,null,null,null,null,null,null,null,null,null,null,null,null,null,null,null,null,null,null,null,null,null,null,null,null,null,null,null,null,null,null,null,null,null,null,null,null,null,null,null,null,null,null,null,null,null,null,null,null,null,null,null,null,null,null,null,null,"Sığır eti",40.6,15,23.5,null,0.8,2.72,2.6,null,null,null,0.56999999999999995,0.24,4.5999999999999999E-2,1.1499999999999999,0.44,0.57999999999999996,1.2,1.1599999999999999,0.43,0.23,0.64,0.38,0.47,0.17,2.8500000000000001E-2,0.92,8.0000000000000002E-3,0.156,null,0.02,0.28000000000000003,0.06,null,null,0.56000000000000005,0.04,57,0,0.159,36,8.6999999999999994E-3,788,0.05,25,2.8,1.2,0.7,2.9,0.03,null,null,null,9.1999999999999993,0.9,0.56999999999999995,0.24,450,null,null,null,null,null,null,null,null,null,null,null,null,"Terrier, Jack Russell",6,8,7,"Küçük"]
[null,{"$f":"Hesap!DU2","v":"Folik asit,  µg"},{"$f":"IF(KKSecim=\"Köpek\",Hesap!HG35, IF(KKSecim=\"Kedi\",Hesap!HX35,0))","v":41.979554549050981},{"$f":"Hesap!DU1","v":45.46},"TAMAM",{"$f":"(D77*100)/(Köpek!$C$2*1000)","v":14.096124031007752},{"$f":"F77*100/Köpek!$H$3","v":31.738429541175137},{"$f":"D77*100/Köpek!$F$5","v":7.3086816720257222},null,{"$f":"IF(Köpek!B29=\"\",\"\",Köpek!B29)","v":""},{"$f":"IF(Köpek!C29=\"\",\"\",Köpek!C29*100/Köpek!$C$2)","v":""},null,null,null,null,null,null,null,null,null,null,null,null,null,null,null,null,null,null,null,null,null,null,null,null,null,null,null,null,null,null,null,null,null,null,null,null,null,null,null,null,null,null,null,null,null,null,null,null,null,null,null,null,null,null,null,null,null,null,null,null,null,null,null,null,null,null,null,null,null,null,null,null,null,null,null,null,null,null,null,null,null,null,null,null,null,null,null,null,null,null,null,null,null,null,null,null,null,null,null,null,null,null,null,null,null,null,null,null,null,null,null,null,null,null,null,null,null,null,null,null,null,null,null,"Sığır eti, az yağlı kıyma, çiğ",30,20.5,9.6,null,0.9,1.6897705544933079,1.6897705544933079,null,null,null,null,null,4.5999999999999999E-2,null,null,null,null,null,null,null,null,null,null,null,2.8500000000000001E-2,null,6.8999999999999999E-3,0.17499999999999999,null,1.9400000000000001E-2,0.30399999999999999,6.4000000000000001E-2,null,null,0.68,0.08,23,0.09,null,41.5,1.2999999999999999E-2,null,9.6000000000000002E-2,40,3.3,1.67,0.45,2.6,2.1000000000000001E-2,101,5,2.2999999999999998,null,null,null,null,400,null,null,null,null,null,null,null,null,null,null,null,null,"Terrier, Soft Coated Wheaten",14,20,17,"Orta"]
[null,"Kolin, mg",{"$f":"IF(KKSecim=\"Köpek\",Hesap!HG36, IF(KKSecim=\"Kedi\",Hesap!HX36,0))","v":264.31571382735802},{"$f":"Hesap!DV1","v":82.500000000000014},"EKSİK",{"$f":"(D78*100)/(Köpek!$C$2*1000)","v":25.581395348837216},{"$f":"F78*100/Köpek!$H$3","v":57.59833781669488},{"$f":"D78*100/Köpek!$F$5","v":13.263665594855306},null,{"$f":"IF(Köpek!B30=\"\",\"\",Köpek!B30)","v":""},{"$f":"IF(Köpek!C30=\"\",\"\",Köpek!C30*100/Köpek!$C$2)","v":""},null,null,null,null,null,null,null,null,null,null,null,null,null,null,null,null,null,null,null,null,null,null,null,null,null,null,null,null,null,null,null,null,null,null,null,null,null,null,null,null,null,null,null,null,null,null,null,null,null,null,null,null,null,null,null,null,null,null,null,null,null,null,null,null,null,null,null,null,null,null,null,null,null,null,null,null,null,null,null,null,null,null,null,null,null,null,null,null,null,null,null,null,null,null,null,null,null,null,null,null,null,null,null,null,null,null,null,null,null,null,null,null,null,null,null,null,null,null,null,null,null,null,null,"Sığır dili, çiğ",32,16.02,12.04,0,0.8,1.86,1.86,2.06,0,0.4,0.443,8.7999999999999995E-2,null,1.06,0.41499999999999998,0.67400000000000004,1.3,1.53,0.41499999999999998,0.158,0.67400000000000004,0.54400000000000004,0.752,0.15,null,0.88100000000000001,7.0000000000000001E-3,0.16,0,1.7999999999999999E-2,0.28999999999999998,0.08,0,null,1.3,2.3E-2,25,0.29000000000000004,0.02,34,0.02,null,0.19,42.400000000000006,20,3.35,0.83000000000000007,1.25,4.9000000000000002E-2,0,0,1,5.86,0.53100000000000003,0.443,8.7999999999999995E-2,150,null,null,null,null,null,null,null,null,null,null,null,null,"Terrier, Welsh",9,9,9,"Küçük"]
[null,"Biotin, µg",{"$f":"IF(KKSecim=\"Köpek\",Hesap!HG37, IF(KKSecim=\"Kedi\",Hesap!HX37,0))","v":0},{"$f":"Hesap!CE35","v":11.100000000000001},"",{"$f":"IF(KKSecim=\"Köpek\",\"\", IF(KKSecim=\"Kedi\",(D79*100)/(Köpek!$C$2*1000)))","v":""},{"$f":"IF(KKSecim=\"Köpek\",\"\",IF(KKSecim=\"Kedi\",F79*100/Köpek!$H$3))","v":""},{"$f":"IF(KKSecim=\"Köpek\",\"\", IF(KKSecim=\"Kedi\",D79*100/Köpek!$F$5))","v":""},null,{"$f":"IF(Köpek!B31=\"\",\"\",Köpek!B31)","v":""},{"$f":"IF(Köpek!C31=\"\",\"\",Köpek!C31*100/Köpek!$C$2)","v":""},null,null,null,null,null,null,null,null,null,null,null,null,null,null,null,null,null,null,null,null,null,null,null,null,null,null,null,null,null,null,null,null,null,null,null,null,null,null,null,null,null,null,null,null,null,null,null,null,null,null,null,null,null,null,null,null,null,null,null,null,null,null,null,null,null,null,null,null,null,null,null,null,null,null,null,null,null,null,null,null,null,null,null,null,null,null,null,null,null,null,null,null,null,null,null,null,null,null,null,null,null,null,null,null,null,null,null,null,null,null,null,null,null,null,null,null,null,null,null,null,null,null,null,"Sığır işkembesi, çiğ",15.8,12.1,3.7,null,0.4,0.85,0.85,null,null,null,0.125,7.0000000000000001E-3,null,1,0.36,0.59,0.95,1.04,0.32,0.17,0.47,0.4,0.5,0.11,null,0.61,6.9000000000000006E-2,6.4000000000000001E-2,null,1.2999999999999999E-2,6.7000000000000004E-2,9.7000000000000003E-2,null,null,0.9,null,6,1,0.125,14,5.0000000000000001E-3,1950,0.05,9,2,1,0.1,0.4,1.4E-2,null,null,1,1.3,0.2,0.125,7.0000000000000001E-3,200,null,null,null,null,null,null,null,null,null,null,null,null,"Terrier, West Highland White",6,10,8,"Küçük"]
[null,"YAĞ ASİTLERİ","İHTİYAÇ","MAMA","SONUÇ","%","KM'de %","100 kcal ME'de",null,{"$f":"IF(Köpek!B32=\"\",\"\",Köpek!B32)","v":""},{"$f":"IF(Köpek!C32=\"\",\"\",Köpek!C32*100/Köpek!$C$2)","v":""},null,null,null,null,null,null,null,null,null,null,null,null,null,null,null,null,null,null,null,null,null,null,null,null,null,null,null,null,null,null,null,null,null,null,null,null,null,null,null,null,null,null,null,null,null,null,null,null,null,null,null,null,null,null,null,null,null,null,null,null,null,null,null,null,null,null,null,null,null,null,null,null,null,null,null,null,null,null,null,null,null,null,null,null,null,null,null,null,null,null,null,null,null,null,null,null,null,null,null,null,null,null,null,null,null,null,null,null,null,null,null,null,null,null,null,null,null,null,null,null,null,null,null,"Sığır kalbi, çiğ",24.4,17.100000000000001,3.8,null,1,1.1299999999999999,1.1100000000000001,0.1,null,null,0.40699999999999997,1.0999999999999999E-2,null,1.1399999999999999,0.47,0.75,1.51,1.41,0.44,0.22,0.77,0.62,0.8,0.19,6.5000000000000002E-2,0.89,0,0.17,null,0.02,0.27,0.06,null,null,3.61,null,46,0,0.22,24,0.02,null,0.02,95,23.2,10.199999999999999,1.9,4.3,0.14000000000000001,null,null,2,1.4,0.5,0.40699999999999997,1.0999999999999999E-2,250,null,null,null,null,null,null,null,null,null,null,null,null,"Terrier, Yorkshire",3.2,3.2,3.2,"Küçük"]
[null,{"$f":"Hesap!CV2","v":"Linolenik asit, g"},{"$f":"IF(KKSecim=\"Köpek\",Hesap!HG54, IF(KKSecim=\"Kedi\",Hesap!HX55,0))","v":6.8411125931786804E-2},{"$f":"Hesap!CV1","v":0.1517},{"$f":"IF(C81=0,\"\",   IF(D81<C81*0.99,\"EKSİK\",      IF(D81>C81*2,\"FAZLA\",    \"TAMAM\")) )","v":"FAZLA"},{"$f":"(D81*100)/(Köpek!$C$2*1000)","v":4.703875968992248E-2},{"$f":"F81*100/Köpek!$H$3","v":0.10591112541566802},{"$f":"D81*100/Köpek!$F$5","v":2.4389067524115751E-2},null,{"$f":"IF(Köpek!B33=\"\",\"\",Köpek!B33)","v":""},{"$f":"IF(Köpek!C33=\"\",\"\",Köpek!C33*100/Köpek!$C$2)","v":""},null,null,null,null,null,null,null,null,null,null,null,null,null,null,null,null,null,null,null,null,null,null,null,null,null,null,null,null,null,null,null,null,null,null,null,null,null,null,null,null,null,null,null,null,null,null,null,null,null,null,null,null,null,null,null,null,null,null,null,null,null,null,null,null,null,null,null,null,null,null,null,null,null,null,null,null,null,null,null,null,null,null,null,null,null,null,null,null,null,null,null,null,null,null,null,null,null,null,null,null,null,null,null,null,null,null,null,null,null,null,null,null,null,null,null,null,null,null,null,null,null,null,null,"Sığır Meme,Çiğ",20,11.72,6,0.24,1.48,1.1200000000000001,1.1200000000000001,0,null,null,null,null,null,null,null,null,null,null,null,null,null,null,null,null,null,null,0.52400000000000002,0.27400000000000002,null,1.6E-2,0.158,0.11600000000000001,null,null,0.6,null,20.399999999999999,0.6,null,20.8,null,null,0.06,20.399999999999999,9.3000000000000007,2.9,6.5,1.4,0.1124,599.99400000000003,null,null,null,null,null,null,100,null,null,null,null,null,null,null,null,null,null,null,null,"Türk tazısı",15,22,18.5,"Orta"]
[null,{"$f":"Hesap!CW2","v":"Arahidonik asit, g "},{"$f":"IF(KKSecim=\"Köpek\",Hesap!HG17, IF(KKSecim=\"Kedi\",Hesap!HX17,0))","v":0},{"$f":"Hesap!CW1","v":0.55000000000000004},{"$f":"IF(C82=0,\"\",   IF(D82<C82*0.99,\"EKSİK\",      IF(D82>C82*2,\"FAZLA\",    \"TAMAM\")) )","v":""},{"$f":"(D82*100)/(Köpek!$C$2*1000)","v":0.17054263565891475},{"$f":"F82*100/Köpek!$H$3","v":0.38398891877796582},{"$f":"D82*100/Köpek!$F$5","v":8.8424437299035361E-2},null,{"$f":"IF(Köpek!B34=\"\",\"\",Köpek!B34)","v":""},{"$f":"IF(Köpek!C34=\"\",\"\",Köpek!C34*100/Köpek!$C$2)","v":""},null,null,null,null,null,null,null,null,null,null,null,null,null,null,null,null,null,null,null,null,null,null,null,null,null,null,null,null,null,null,null,null,null,null,null,null,null,null,null,null,null,null,null,null,null,null,null,null,null,null,null,null,null,null,null,null,null,null,null,null,null,null,null,null,null,null,null,null,null,null,null,null,null,null,null,null,null,null,null,null,null,null,null,null,null,null,null,null,null,null,null,null,null,null,null,null,null,null,null,null,null,null,null,null,null,null,null,null,null,null,null,null,null,null,null,null,null,null,null,null,null,null,null,"Süt, % 1.5 yağlı",10.7,3.5,1.6,null,0.8,0.48,0.48,4.7,4.71,null,2.7E-2,1.0999999999999999E-2,null,0.121,9.9000000000000005E-2,0.20399999999999999,0.33600000000000002,0.314,8.7999999999999995E-2,2.7E-2,0.17599999999999999,0.14899999999999999,0.14899999999999999,4.7E-2,null,0.24199999999999999,0.121,9.5700000000000007E-2,null,1.1800000000000001E-2,0.153,4.2999999999999997E-2,9.5500000000000002E-2,null,9.6699999999999994E-2,0.10199999999999999,0.29000000000000004,0.02,1.54E-2,4.13,2.1000000000000001E-2,null,0.115,0.94799999999999995,3.77,1.7399999999999998,0.46300000000000002,0.49199999999999999,4.3800000000000002E-3,141,0.255,0.3,0.99,0.05,2.7E-2,1.0999999999999999E-2,20,null,null,null,null,null,null,null,null,null,null,null,null,"Vizsla",18,27,22.5,"İri"]
[null,{"$f":"Hesap!CX2","v":"Toplam doymuş yağlar, g"},null,{"$f":"Hesap!CX1","v":2.4277500000000001},null,{"$f":"(D83*100)/(Köpek!$C$2*1000)","v":0.75279069767441864},{"$f":"F83*100/Köpek!$H$3","v":1.6949619955694664},{"$f":"D83*100/Köpek!$F$5","v":0.39031350482315108},null,null,null,null,null,null,null,null,null,null,null,null,null,null,null,null,null,null,null,null,null,null,null,null,null,null,null,null,null,null,null,null,null,null,null,null,null,null,null,null,null,null,null,null,null,null,null,null,null,null,null,null,null,null,null,null,null,null,null,null,null,null,null,null,null,null,null,null,null,null,null,null,null,null,null,null,null,null,null,null,null,null,null,null,null,null,null,null,null,null,null,null,null,null,null,null,null,null,null,null,null,null,null,null,null,null,null,null,null,null,null,null,null,null,null,null,null,null,null,null,null,null,null,null,null,null,"Süt, % 3.5 yağlı",12.3,3.4,3.5,null,0.8,0.63,0.63,4.5999999999999996,4.5999999999999996,null,4.8000000000000001E-2,1.4E-2,null,0.11799999999999999,9.7000000000000003E-2,0.19800000000000001,0.32700000000000001,0.30599999999999999,8.5999999999999993E-2,2.5999999999999999E-2,0.17199999999999999,0.14499999999999999,0.14499999999999999,4.5999999999999999E-2,null,0.23599999999999999,0.11600000000000001,9.2700000000000005E-2,null,1.0999999999999999E-2,0.14399999999999999,4.4299999999999999E-2,9.3099999999999988E-2,null,0.106,0.107,0.16,1.7100000000000001E-2,1.6399999999999998E-2,4.1499999999999995,1.55E-2,null,0.11,0.871,3.59,1.7199999999999998,0.41500000000000004,0.45999999999999996,4.4600000000000004E-3,317,0.65900000000000003,0.6,2.246,7.2999999999999995E-2,4.8000000000000001E-2,1.4E-2,25,null,null,null,null,null,null,null,null,null,null,null,null,"Weimaraner",23,32,27.5,"İri"]
[null,{"$f":"Hesap!CY2","v":"Toplam PUFA, g "},null,{"$f":"Hesap!CY1","v":5.8470000000000013},null,{"$f":"(D84*100)/(Köpek!$C$2*1000)","v":1.8130232558139541},{"$f":"F84*100/Köpek!$H$3","v":4.0821512874450301},{"$f":"D84*100/Köpek!$F$5","v":0.94003215434083609},null,null,null,null,null,null,null,null,null,null,null,null,null,null,null,null,null,null,null,null,null,null,null,null,null,null,null,null,null,null,null,null,null,null,null,null,null,null,null,null,null,null,null,null,null,null,null,null,null,null,null,null,null,null,null,null,null,null,null,null,null,null,null,null,null,null,null,null,null,null,null,null,null,null,null,null,null,null,null,null,null,null,null,null,null,null,null,null,null,null,null,null,null,null,null,null,null,null,null,null,null,null,null,null,null,null,null,null,null,null,null,null,null,null,null,null,null,null,null,null,null,null,null,null,null,null,"Süt, Jersey inek",13,3.5,4.5,null,0.8,0.7,0.7,5.5,4.72,null,4.8000000000000001E-2,1.4E-2,null,0.11799999999999999,9.7000000000000003E-2,0.19800000000000001,0.32700000000000001,0.30599999999999999,8.5999999999999993E-2,2.5999999999999999E-2,0.17199999999999999,0.14499999999999999,0.14499999999999999,4.5999999999999999E-2,null,0.23599999999999999,0.11600000000000001,9.2700000000000005E-2,null,1.0999999999999999E-2,0.14399999999999999,4.4299999999999999E-2,9.3099999999999988E-2,null,0.106,0.107,0.16,1.7100000000000001E-2,1.6399999999999998E-2,4.1499999999999995,1.55E-2,null,0.11,0.871,3.59,1.7199999999999998,0.41500000000000004,0.45999999999999996,4.4600000000000004E-3,317,0.65900000000000003,0.6,2.246,7.2999999999999995E-2,4.8000000000000001E-2,1.4E-2,60,null,null,null,null,null,null,null,null,null,null,null,null,"Whippet",11,21,16,"Orta"]
[null,null,null,null,null,null,null,null,null,null,null,null,null,null,null,null,null,null,null,null,null,null,null,null,null,null,null,null,null,null,null,null,null,null,null,null,null,null,null,null,null,null,null,null,null,null,null,null,null,null,null,null,null,null,null,null,null,null,null,null,null,null,null,null,null,null,null,null,null,null,null,null,null,null,null,null,null,null,null,null,null,null,null,null,null,null,null,null,null,null,null,null,null,null,null,null,null,null,null,null,null,null,null,null,null,null,null,null,null,null,null,null,null,null,null,null,null,null,null,null,null,null,null,null,null,null,null,null,null,null,null,null,null,null,"Süt, keçi",13,3.6,4.0999999999999996,null,0.8,0.69,0.69,4.4000000000000004,4.4000000000000004,null,0.121,4.3999999999999997E-2,null,0.11700000000000001,8.8999999999999996E-2,0.20599999999999999,0.312,0.28999999999999998,7.8E-2,4.5999999999999999E-2,0.156,0.17899999999999999,0.16200000000000001,4.3999999999999997E-2,null,0.24,0.13400000000000001,0.111,null,1.4E-2,0.20399999999999999,0.05,null,null,0.5,null,0.5,null,null,3,0.02,null,0.01,2.7700000000000005,3.1,1.3800000000000001,0.48,0.45999999999999996,7.000000000000001E-4,367,0.6,1.06,2.5910000000000002,0.16500000000000001,0.121,4.3999999999999997E-2,50]
[null,null,null,null,null,null,null,null,null,null,null,null,null,null,null,null,null,null,null,null,null,null,null,null,null,null,null,null,null,null,null,null,null,null,null,null,null,null,null,null,null,null,null,null,null,null,null,null,null,null,null,null,null,null,null,null,null,null,null,null,null,null,null,null,null,null,null,null,null,null,null,null,null,null,null,null,null,null,null,null,null,null,null,null,null,null,null,null,null,null,null,null,null,null,null,null,null,null,null,null,null,null,null,null,null,null,null,null,null,null,null,null,null,null,null,null,null,null,null,null,null,null,null,null,null,null,null,null,null,null,null,null,null,null,"Süt tozu, tam",97.6,27.07,26.08,0,5.09,5.01,5.01,37.799999999999997,37.700000000000003,0,0.56000000000000005,0.2,null,0.95499999999999996,0.78200000000000003,1.61,2.65,2.48,0.69499999999999995,0.21299999999999999,1.39,1.17,1.17,0.373,null,1.91,0.96,0.81,0,9.2999999999999999E-2,1.19,0.36,0.78,0.24,0.58000000000000007,0.69,6.2,0.61,0.14000000000000001,39.1,0.1,null,0.37,6.46,22.7,14.2,3.25,3.02,3.2500000000000001E-2,2650,12,6.2,17.04,0.76,0.56000000000000005,0.2,150]
[null,null,null,null,null,null,null,null,null,null,null,null,null,null,null,null,null,null,null,null,null,null,null,null,null,null,null,null,null,null,null,null,null,null,null,null,null,null,null,null,null,null,null,null,null,null,null,null,null,null,null,null,null,null,null,null,null,null,null,null,null,null,null,null,null,null,null,null,null,null,null,null,null,null,null,null,null,null,null,null,null,null,null,null,null,null,null,null,null,null,null,null,null,null,null,null,null,null,null,null,null,null,null,null,null,null,null,null,null,null,null,null,null,null,null,null,null,null,null,null,null,null,null,null,null,null,null,null,null,null,null,null,null,null,"Süt tozu, yağsız",92.5,34.6,0.8,0.1,8,3.62,3.62,52,52,null,1.9E-2,1.0999999999999999E-2,null,1.1599999999999999,0.94,1.97,3.45,2.7,0.94,0.36,1.67,1.83,1.67,0.48,7.0000000000000001E-3,2.33,1.27,0.96799999999999997,1,0.12,1.794,0.52,0.9,0.32,3,2,3,2,0.27300000000000002,39,0.33,1322,0.62,12,35.799999999999997,20.6,3.5,0.4,0.03,66,83,9,0.5,0,1.9E-2,1.0999999999999999E-2,25]
[null,null,null,null,null,null,null,null,null,null,null,null,null,null,null,null,null,null,null,null,null,null,null,null,null,null,null,null,null,null,null,null,null,null,null,null,null,null,null,null,null,null,null,null,null,null,null,null,null,null,null,null,null,null,null,null,null,null,null,null,null,null,null,null,null,null,null,null,null,null,null,null,null,null,null,null,null,null,null,null,null,null,null,null,null,null,null,null,null,null,null,null,null,null,null,null,null,null,null,null,null,null,null,null,null,null,null,null,null,null,null,null,null,null,null,null,null,null,null,null,null,null,null,null,null,null,null,null,null,null,null,null,null,null,"Tavşan eti, çiğ",25.4,20.399999999999999,4,null,1,1.18,1.18,null,null,null,0.79100000000000004,0.375,7.1999999999999995E-2,1.49,0.67500000000000004,1.24,1.85,2.2400000000000002,0.67500000000000004,0.16300000000000001,0.92400000000000004,0.92400000000000004,1.07,0.28100000000000003,null,1.31,1.2999999999999999E-2,0.21,null,2.8000000000000001E-2,0.38300000000000001,5.8000000000000003E-2,null,null,1.5,5.5000000000000005E-3,8,0.38,0.1,17,0.01,null,0.05,100,7.8000000000000007,1.4000000000000001,1.1500000000000001,6,0.1,100,null,4,1.645,1.2869999999999999,0.86399999999999999,0.42399999999999999,500]
[null,null,null,null,null,null,null,null,null,null,null,null,null,null,null,null,null,null,null,null,null,null,null,null,null,null,null,null,null,null,null,null,null,null,null,null,null,null,null,null,null,null,null,null,null,null,null,null,null,null,null,null,null,null,null,null,null,null,null,null,null,null,null,null,null,null,null,null,null,null,null,null,null,null,null,null,null,null,null,null,null,null,null,null,null,null,null,null,null,null,null,null,null,null,null,null,null,null,null,null,null,null,null,null,null,null,null,null,null,null,null,null,null,null,null,null,null,null,null,null,null,null,null,null,null,null,null,null,null,null,null,null,null,null,"Tavuk eti, derili",38.200000000000003,17.600000000000001,20.3,null,1,2.5299999999999998,2.4300000000000002,null,null,null,2.88,0.19,null,1.1000000000000001,0.52,0.88,1.28,1.43,0.47,0.23,0.68,0.56999999999999995,0.73,0.2,0.02,0.85,0.01,0.17,null,0.02,0.2,7.0000000000000007E-2,null,null,0.74,2.4E-2,10,0,0.14000000000000001,12,0.03,597,0.06,63,9.1999999999999993,1.7,1.1000000000000001,3.3,0,420,null,3,4.3,3.2,2.88,0.19,100]
[null,null,null,null,null,null,null,null,null,null,null,null,null,null,null,null,null,null,null,null,null,null,null,null,null,null,null,null,null,null,null,null,null,null,null,null,null,null,null,null,null,null,null,null,null,null,null,null,null,null,null,null,null,null,null,null,null,null,null,null,null,null,null,null,null,null,null,null,null,null,null,null,null,null,null,null,null,null,null,null,null,null,null,null,null,null,null,null,null,null,null,null,null,null,null,null,null,null,null,null,null,null,null,null,null,null,null,null,null,null,null,null,null,null,null,null,null,null,null,null,null,null,null,null,null,null,null,null,null,null,null,null,null,null,"Tavuk taşlığı",23.8,18.2,4.2,null,0.9,0.94,0.94,null,null,null,0.26200000000000001,0,null,1.31,0.37,0.86,1.28,1.26,0.48,0.24,0.76,0.55000000000000004,0.84,0.16,0.03,0.82,0.01,0.14000000000000001,null,0.02,0.24,0.08,null,null,0.96,null,35,1,0.56000000000000005,0,null,597,0.52,47,7.5,1.9,0.3,1.4,0.02,192,null,11.9,0.5,0.4,0.26200000000000001,0,25]
[null,null,null,null,null,null,null,null,null,null,null,null,null,null,null,null,null,null,null,null,null,null,null,null,null,null,null,null,null,null,null,null,null,null,null,null,null,null,null,null,null,null,null,null,null,null,null,null,null,null,null,null,null,null,null,null,null,null,null,null,null,null,null,null,null,null,null,null,null,null,null,null,null,null,null,null,null,null,null,null,null,null,null,null,null,null,null,null,null,null,null,null,null,null,null,null,null,null,null,null,null,null,null,null,null,null,null,null,null,null,null,null,null,null,null,null,null,null,null,null,null,null,null,null,null,null,null,null,null,null,null,null,null,null,"Tavuk unu",93.5,59,13.5,2,16,3.96,3.89,null,null,null,1.9844999999999999,8.1000000000000003E-2,1.37,3.89,1.34,2.25,4.2,2.84,1.02,0.99,2.04,1.68,2.1,0.46,0.30499999999999999,2.76,3.5,2.0499999999999998,null,0.21,0.57999999999999996,0.35,0.55000000000000004,0.51,14,0.05,470,11,0.78,120,0.3,5966,1,40,10.6,10.5,1,4.4000000000000004,0.31,null,null,2.1,null,null,null,null,75]
[null,null,null,null,null,null,null,null,null,null,null,null,null,null,null,null,null,null,null,null,null,null,null,null,null,null,null,null,null,null,null,null,null,null,null,null,null,null,null,null,null,null,null,null,null,null,null,null,null,null,null,null,null,null,null,null,null,null,null,null,null,null,null,null,null,null,null,null,null,null,null,null,null,null,null,null,null,null,null,null,null,null,null,null,null,null,null,null,null,null,null,null,null,null,null,null,null,null,null,null,null,null,null,null,null,null,null,null,null,null,null,null,null,null,null,null,null,null,null,null,null,null,null,null,null,null,null,null,null,null,null,null,null,null,"Yoğurt (Yağlı)",12.1,3.47,3.25,0,0.72,0.61,0.61,4.66,4.66,null,6.5000000000000002E-2,2.7E-2,null,0.1,8.5999999999999993E-2,0.19,0.35,0.31,0.1,3.2000000000000001E-2,0.19,0.18,0.14000000000000001,0.02,null,0.28999999999999998,0.121,9.5000000000000001E-2,null,1.2E-2,0.155,4.5999999999999999E-2,null,null,0.1,0.12,0.5,0,2.1999999999999999E-2,5.9,null,152,7.0000000000000007E-2,0.8,3.9,1.4,0.3,0.3,3.7000000000000002E-3,297,null,1,2.1,0.1,6.5000000000000002E-2,2.7E-2,75]
[null,null,null,null,null,null,null,null,null,null,null,null,null,null,null,null,null,null,null,null,null,null,null,null,null,null,null,null,null,null,null,null,null,null,null,null,null,null,null,null,null,null,null,null,null,null,null,null,null,null,null,null,null,null,null,null,null,null,null,null,null,null,null,null,null,null,null,null,null,null,null,null,null,null,null,null,null,null,null,null,null,null,null,null,null,null,null,null,null,null,null,null,null,null,null,null,null,null,null,null,null,null,null,null,null,null,null,null,null,null,null,null,null,null,null,null,null,null,null,null,null,null,null,null,null,null,null,null,null,null,null,null,null,null,"Yoğurt (Yağsız)",14.77,5.73,0.18,0,1.18,0.56000000000000005,0.56000000000000005,7.68,7.68,null,4.0000000000000001E-3,1E-3,null,0.17,0.14000000000000001,0.31,0.57999999999999996,0.51,0.17,5.1999999999999998E-2,0.31,0.28999999999999998,0.24,3.2000000000000001E-2,null,0.47,0.19900000000000001,0.157,null,1.9E-2,0.255,7.6999999999999999E-2,null,null,0.2,0.06,0.9,0.1,3.5999999999999997E-2,9.6999999999999993,null,152,0.12,1.2,6.4,2.2999999999999998,0.5,0.5,6.0999999999999995E-3,21,null,null,0.1,0,4.0000000000000001E-3,1E-3,60]
[null,null,null,null,null,null,null,null,null,null,null,null,null,null,null,null,null,null,null,null,null,null,null,null,null,null,null,null,null,null,null,null,null,null,null,null,null,null,null,null,null,null,null,null,null,null,null,null,null,null,null,null,null,null,null,null,null,null,null,null,null,null,null,null,null,null,null,null,null,null,null,null,null,null,null,null,null,null,null,null,null,null,null,null,null,null,null,null,null,null,null,null,null,null,null,null,null,null,null,null,null,null,null,null,null,null,null,null,null,null,null,null,null,null,null,null,null,null,null,null,null,null,null,null,null,null,null,null,null,null,null,null,null,null,"Yumurta, çırpılmış, ticari",21.8,10.8,7.9,null,2.1,1.18,1.18,0.9,null,null,0.92200000000000004,5.3999999999999999E-2,0.111,0.82,0.31,0.67,1.0900000000000001,0.91,0.38,0.27,0.68,0.5,0.56000000000000005,0.17,null,0.86,5.1999999999999998E-2,0.14499999999999999,null,0.01,0.153,0.65,0.97899999999999998,null,0.44499999999999995,0.23,12.3,0.255,0.17,9.2000000000000011,0.218,2510,0.47,0.89999999999999991,12.1,3.25,0.625,0.77500000000000002,6.1999999999999998E-3,925,13.200000000000001,25,2.4289999999999998,1.0940000000000001,1.04,5.3999999999999999E-2,22]
[null,null,null,null,null,null,null,null,null,null,null,null,null,null,null,null,null,null,null,null,null,null,null,null,null,null,null,null,null,null,null,null,null,null,null,null,null,null,null,null,null,null,null,null,null,null,null,null,null,null,null,null,null,null,null,null,null,null,null,null,null,null,null,null,null,null,null,null,null,null,null,null,null,null,null,null,null,null,null,null,null,null,null,null,null,null,null,null,null,null,null,null,null,null,null,null,null,null,null,null,null,null,null,null,null,null,null,null,null,null,null,null,null,null,null,null,null,null,null,null,null,null,null,null,null,null,null,null,null,null,null,null,null,null,"Yumurta,Çiğ",24.67,12.49,10.02,0,0.94,1.49,1.49,1.22,null,null,1.1499999999999999,7.3999999999999996E-2,0.156,0.82,0.31,0.67,1.0900000000000001,0.91,0.38,0.27,0.68,0.5,0.56000000000000005,0.17,null,0.86,4.9000000000000002E-2,0.17799999999999999,null,0.01,0.121,0.126,null,null,0.1,0.49,14.4,0.2,0.317,11,0.24,2510,0.47,0.7,12.6,5.0999999999999996,0.6,1.4,0.01,1461,8.75,1,3.1,1.4,1.1499999999999999,7.3999999999999996E-2,5]
[null,null,null,null,null,null,null,null,null,null,null,null,null,null,null,null,null,null,null,null,null,null,null,null,null,null,null,null,null,null,null,null,null,null,null,null,null,null,null,null,null,null,null,null,null,null,null,null,null,null,null,null,null,null,null,null,null,null,null,null,null,null,null,null,null,null,null,null,null,null,null,null,null,null,null,null,null,null,null,null,null,null,null,null,null,null,null,null,null,null,null,null,null,null,null,null,null,null,null,null,null,null,null,null,null,null,null,null,null,null,null,null,null,null,null,null,null,null,null,null,null,null,null,null,null,null,null,null,null,null,null,null,null,null,"Yumurta (kabuklu çiğ)",25,12,10,0,4,1.4,1.4,null,null,null,1.1499999999999999,7.3999999999999996E-2,0.156,0.82,0.31,0.67,1.0900000000000001,0.91,0.38,0.27,0.68,0.5,0.56000000000000005,0.17,null,0.86,4,null,null,0.01,0.121,0.11,null,null,0.1,0.19,8,0.2,0.317,11,0.23799999999999999,2510,0.47,0.7,12.6,5.0999999999999996,0.6,1.4,0.01,1461,8.75,1,3.1,1.4,1.1499999999999999,7.3999999999999996E-2,5]
[null,null,null,null,null,null,null,null,null,null,null,null,null,null,null,null,null,null,null,null,null,null,null,null,null,null,null,null,null,null,null,null,null,null,null,null,null,null,null,null,null,null,null,null,null,null,null,null,null,null,null,null,null,null,null,null,null,null,null,null,null,null,null,null,null,null,null,null,null,null,null,null,null,null,null,null,null,null,null,null,null,null,null,null,null,null,null,null,null,null,null,null,null,null,null,null,null,null,null,null,null,null,null,null,null,null,null,null,null,null,null,null,null,null,null,null,null,null,null,null,null,null,null,null,null,null,null,null,null,null,null,null,null,null,"Yumurta kabuğu",99.66,4.4800000000000004,0.22,null,94.45,null,null,null,null,null,null,null,null,null,null,null,null,null,null,null,null,null,null,null,null,null,33.630000000000003,0.06,null,0.33,0.04,0.05,null,null,null,null,null,null,null,null,null,null,null,null,null,null,null,null,null,null,null,null,null,null,null,null,70]
[null,null,null,null,null,null,null,null,null,null,null,null,null,null,null,null,null,null,null,null,null,null,null,null,null,null,null,null,null,null,null,null,null,null,null,null,null,null,null,null,null,null,null,null,null,null,null,null,null,null,null,null,null,null,null,null,null,null,null,null,null,null,null,null,null,null,null,null,null,null,null,null,null,null,null,null,null,null,null,null,null,null,null,null,null,null,null,null,null,null,null,null,null,null,null,null,null,null,null,null,null,null,null,null,null,null,null,null,null,null,null,null,null,null,null,null,null,null,null,null,null,null,null,null,null,null,null,null,null,null,null,null,null,null,"Yumurta akı, kurutulmuş",94.2,81.099999999999994,0,0,5.3,3.61,3.61,7.8,null,0,0,0,null,4.4000000000000004,1.8,4.5,6.9,5.6,2.9,2.1,4.7,3.1,3.6,1,null,5.2,6.2E-2,0.111,null,8.7999999999999995E-2,1.125,1.28,null,null,0,0.34,1.5,0,0,1,0.56999999999999995,null,0.18,8.65,7.75,25.299999999999997,0.05,0.36,1.8E-3,0,0,0,0,0,0,0,1000]
[null,null,null,null,null,null,null,null,null,null,null,null,null,null,null,null,null,null,null,null,null,null,null,null,null,null,null,null,null,null,null,null,null,null,null,null,null,null,null,null,null,null,null,null,null,null,null,null,null,null,null,null,null,null,null,null,null,null,null,null,null,null,null,null,null,null,null,null,null,null,null,null,null,null,null,null,null,null,null,null,null,null,null,null,null,null,null,null,null,null,null,null,null,null,null,null,null,null,null,null,null,null,null,null,null,null,null,null,null,null,null,null,null,null,null,null,null,null,null,null,null,null,null,null,null,null,null,null,null,null,null,null,null,null,"Yumurta sarısı,Çiğ",51.19,16.760000000000002,30.87,0,1.77,3.58,3.58,1.78,null,null,3.54,null,0.39,null,null,null,null,null,null,null,null,null,null,null,null,null,0.14000000000000001,0.49,null,0.01,0.09,0.04,null,null,0.3,1.77,35.299999999999997,0.7,null,31.1,0.57399999999999995,null,1.46,0.2,38.1,6.4,1.7,3.9,3.1E-2,6483,null,null,null,null,null,null,500]
[null,null,null,null,null,null,null,null,null,null,null,null,null,null,null,null,null,null,null,null,null,null,null,null,null,null,null,null,null,null,null,null,null,null,null,null,null,null,null,null,null,null,null,null,null,null,null,null,null,null,null,null,null,null,null,null,null,null,null,null,null,null,null,null,null,null,null,null,null,null,null,null,null,null,null,null,null,null,null,null,null,null,null,null,null,null,null,null,null,null,null,null,null,null,null,null,null,null,null,null,null,null,null,null,null,null,null,null,null,null,null,null,null,null,null,null,null,null,null,null,null,null,null,null,null,null,null,null,null,null,null,null,null,null,"Yumurta sarısı, kurutulmuş",97,34.299999999999997,55.8,0,3.4,6.47,6.47,3.6,null,null,6.4,0.126,0.6,2.5,0.88,1.8,3,2.7,0.82,0.6,1.5,1.5,1.8,0.4,null,1.9,0.28399999999999997,0.92,null,1.2999999999999999E-2,0.24399999999999999,0.13500000000000001,null,null,0,3.49,54.2,0,0,49.3,1.1000000000000001,null,2.44,0.95,77.699999999999989,18.799999999999997,2.9,6.6000000000000005,5.33E-2,10280,0,0,17,8.33,7.23,0.63400000000000001,1000]
[null,null,null,null,null,null,null,null,null,null,null,null,null,null,null,null,null,null,null,null,null,null,null,null,null,null,null,null,null,null,null,null,null,null,null,null,null,null,null,null,null,null,null,null,null,null,null,null,null,null,null,null,null,null,null,null,null,null,null,null,null,null,null,null,null,null,null,null,null,null,null,null,null,null,null,null,null,null,null,null,null,null,null,null,null,null,null,null,null,null,null,null,null,null,null,null,null,null,null,null,null,null,null,null,null,null,null,null,null,null,null,null,null,null,null,null,null,null,null,null,null,null,null,null,null,null,null,null,null,null,null,null,null,null,"Yumurta unu, tam",96.6,47.2,41.1,0,3.6,5.91,5.7,4.9000000000000004,3.1,null,4.6139999999999999,0.56499999999999995,0.2,2.84,1.1200000000000001,2.58,4.05,3.4,1.48,1.1000000000000001,2.52,1.93,2.27,0.57999999999999996,null,2.89,0.22,0.82,null,0.04,0.49,0.52,null,null,1.96,2.74,68,1,1.2,53,0.309,10070,1.71,3,59.1,15.4,2,3.9,0.04,2990.9999999999995,47,43.8,12.7,5.8,4.6139999999999999,0.56499999999999995,500]
[]
[]
[]
[]
[]
[]
[]
[]
[]
[]
[]
[]
[]
[]
[]
[]
[]
[]
[]
[]
[]
[]
[]
[]
[]
[]
[]
[]
[]
[]
[]
[]
[]
[]
[]
[]
[]
[]
[]
[]
[]
[]
[]
[]
[]
[]
[]
[]
[]
[]
[]
[]
[]
[null,null,null,null,null,null,null,null,null,null,null,null,null,null,null,null,null,null,null,null,null,null,null,null,null,null,null,null,null,null,null,null,null,null,null,null,null,null,null,null,null,null,null,null,null,null,null,null,null,null,null,null,null,null,null,null,null,null,null,null,null,null,null,null,null,null,null,null,null,null,null,null,null,null,null,null,null,null,null,null,null,null,null,null,null,null,null,null,null,null,null,null,null,null,null,null,null,null,null,null,null,null,null,null,null,null,null,null,null,null,null,null,null,null,null,null,null,null,null,null,null,null,null,null,null,null,null,null,null,null,null,null,null,null,"Bitkisel kaynaklı yiyecekler ","KM,%","HP,%","HY,%","HS,%","HK,%","ME,kcal/g (köpek)","ME,kcal/g (kedi)","CHO,%","Şeker,%","Nişasta,%","18:2n-6, %","18:3n-3, %","20:4n-6, %","Arjinin, %","Histidin, %","İzolöysin, %","Löysin, %","Lizin, %","Metiyonin, %","Sistin,% ","Fenilalanin, %","Tirozin, % ","Treonin, %","Triptofan, %","Taurin,%","Valin, %","Ca,%","P,%","Kul P,%","Mg,%","K,%","Na,%","Cl,%","S,%","Cu,mg/kg","I,mg/kg","Fe,mg/kg","Mn,mg/kg","Se,mg/kg","Zn,mg/kg","Biotin,mg/kg","Kolin,mg/kg","Folat,mg/kg","Niasin,mg/kg","Pant. asit,mg/kg","Riboflavin,mg/kg","Tiamin,mg/kg","Vit. B6,mg/kg","Vit. B12,mg/kg","Vitamin A,µg/kg","Kolekalsiferol,µg/kg","Vit. E,mg/kg","Doymuş,%","PUFA,%","Toplam n-6,%","Toplam n-3,%","Fiyat,TL"]
[null,null,null,null,null,null,null,null,null,null,null,null,null,null,null,null,null,null,null,null,null,null,null,null,null,null,null,null,null,null,null,null,null,null,null,null,null,null,null,null,null,null,null,null,null,null,null,null,null,null,null,null,null,null,null,null,null,null,null,null,null,null,null,null,null,null,null,null,null,null,null,null,null,null,null,null,null,null,null,null,null,null,null,null,null,null,null,null,null,null,null,null,null,null,null,null,null,null,null,null,null,null,null,null,null,null,null,null,null,null,null,null,null,null,null,null,null,null,null,null,null,null,null,null,null,null,null,null,null,null,null,null,null,null,"Ahududu, çiğ",13.8,1.4,1.3,4.4000000000000004,0.5,0.51,0.51,4,4.05,null,0.47199999999999998,0.40100000000000002,null,null,null,null,null,null,null,null,null,null,null,1.4999999999999999E-2,null,null,1.9699999999999999E-2,3.7999999999999999E-2,null,1.7000000000000001E-2,0.22800000000000001,2E-3,null,null,1.05,4.0000000000000001E-3,5.5,12,1.89E-3,3.4000000000000004,1.9E-2,null,0.44,5,2.4,0.5,0.3,0.89999999999999991,null,35,null,14,0.104,0.873,0.47199999999999998,0.40100000000000002,200]
[null,null,null,null,null,null,null,null,null,null,null,null,null,null,null,null,null,null,null,null,null,null,null,null,null,null,null,null,null,null,null,null,null,null,null,null,null,null,null,null,null,null,null,null,null,null,null,null,null,null,null,null,null,null,null,null,null,null,null,null,null,null,null,null,null,null,null,null,null,null,null,null,null,null,null,null,null,null,null,null,null,null,null,null,null,null,null,null,null,null,null,null,null,null,null,null,null,null,null,null,null,null,null,null,null,null,null,null,null,null,null,null,null,null,null,null,null,null,null,null,null,null,null,null,null,null,null,null,null,null,null,null,null,null,"Ananas, çiğ",14.5,0.5,0.4,1.4,0.4,0.55000000000000004,0.55000000000000004,10.8,10.8,null,null,null,null,null,null,null,null,1.0999999999999999E-2,2E-3,null,1.2999999999999999E-2,1.2999999999999999E-2,null,6.0000000000000001E-3,null,null,1.89E-2,1.3900000000000001E-2,null,1.4E-2,0.17399999999999999,4.0000000000000001E-3,null,null,0.89999999999999991,1.3999999999999999E-2,2,15,6.0000000000000001E-3,0.82000000000000006,null,null,0.121,2,1.6,0.2,0.8,0.89999999999999991,null,50,null,1,null,null,null,null,120]
[null,null,null,null,null,null,null,null,null,null,null,null,null,null,null,null,null,null,null,null,null,null,null,null,null,null,null,null,null,null,null,null,null,null,null,null,null,null,null,null,null,null,null,null,null,null,null,null,null,null,null,null,null,null,null,null,null,null,null,null,null,null,null,null,null,null,null,null,null,null,null,null,null,null,null,null,null,null,null,null,null,null,null,null,null,null,null,null,null,null,null,null,null,null,null,null,null,null,null,null,null,null,null,null,null,null,null,null,null,null,null,null,null,null,null,null,null,null,null,null,null,null,null,null,null,null,null,null,null,null,null,null,null,null,"Armut, çiğ",15,0.3,0.1,3.2,0.3,0.49,0.49,8.3000000000000007,8.33,null,2.5000000000000001E-2,8.0000000000000002E-3,null,8.9999999999999993E-3,6.0000000000000001E-3,1.2E-2,0.02,0.02,3.0000000000000001E-3,2E-3,1.2E-2,5.0000000000000001E-3,1.0999999999999999E-2,3.0000000000000001E-3,null,1.4999999999999999E-2,1.01E-2,1.12E-2,null,6.4599999999999996E-3,0.122,7.7800000000000005E-4,null,null,0.65,1.65E-3,1.03,0.52300000000000002,1E-3,1.1200000000000001,4.47E-3,null,0.16,2.3000000000000003,0.51800000000000002,8.5699999999999998E-2,9.7099999999999992E-2,0.1,null,54.2,null,5.8,1.2E-2,3.3000000000000002E-2,2.5000000000000001E-2,8.0000000000000002E-3,60]
[null,null,null,null,null,null,null,null,null,null,null,null,null,null,null,null,null,null,null,null,null,null,null,null,null,null,null,null,null,null,null,null,null,null,null,null,null,null,null,null,null,null,null,null,null,null,null,null,null,null,null,null,null,null,null,null,null,null,null,null,null,null,null,null,null,null,null,null,null,null,null,null,null,null,null,null,null,null,null,null,null,null,null,null,null,null,null,null,null,null,null,null,null,null,null,null,null,null,null,null,null,null,null,null,null,null,null,null,null,null,null,null,null,null,null,null,null,null,null,null,null,null,null,null,null,null,null,null,null,null,null,null,null,null,"Arpa",87.9,10.5,2.2000000000000002,5.3,1.3,3.45,3.45,74.5,0.8,52.830000000000005,0.69499999999999995,7.6999999999999999E-2,null,0.62,0.28000000000000003,0.45,0.85,0.47,0.24,0.27,0.7,0.36,0.42,0.2,null,0.61,3.2000000000000001E-2,0.28999999999999998,0.15,9.6000000000000002E-2,0.309,4.0000000000000001E-3,0.15,0.15,3,0.09,40,19,0.377,28,0.18,378,0.08,63,1,1,4,4,0,666,null,6,0.3,0.8,0.69499999999999995,7.6999999999999999E-2,8.5]
[null,null,null,null,null,null,null,null,null,null,null,null,null,null,null,null,null,null,null,null,null,null,null,null,null,null,null,null,null,null,null,null,null,null,null,null,null,null,null,null,null,null,null,null,null,null,null,null,null,null,null,null,null,null,null,null,null,null,null,null,null,null,null,null,null,null,null,null,null,null,null,null,null,null,null,null,null,null,null,null,null,null,null,null,null,null,null,null,null,null,null,null,null,null,null,null,null,null,null,null,null,null,null,null,null,null,null,null,null,null,null,null,null,null,null,null,null,null,null,null,null,null,null,null,null,null,null,null,null,null,null,null,null,null,"Ayçiçeği tohumu, kabuksuz",95.3,24.2,54.4,9.9,3.1,6.2,6.2,3.6,3.4,0.16200000000000001,23.527000000000001,null,null,1.99,0.57699999999999996,0.92200000000000004,1.4,0.85899999999999999,0.52700000000000002,0.38500000000000001,1.05,0.56799999999999995,0.80800000000000005,0.35499999999999998,null,1.1100000000000001,8.7499999999999994E-2,0.67,null,0.32,0.755,null,null,null,18,null,48.5,22,9.9000000000000005E-2,46.5,0.998,null,1.51,28.799999999999997,4.6899999999999995,1.9500000000000002,13.100000000000001,5.7299999999999995,null,null,null,369,5.4359999999999999,23.527000000000001,23.527000000000001,0,50]
[null,null,null,null,null,null,null,null,null,null,null,null,null,null,null,null,null,null,null,null,null,null,null,null,null,null,null,null,null,null,null,null,null,null,null,null,null,null,null,null,null,null,null,null,null,null,null,null,null,null,null,null,null,null,null,null,null,null,null,null,null,null,null,null,null,null,null,null,null,null,null,null,null,null,null,null,null,null,null,null,null,null,null,null,null,null,null,null,null,null,null,null,null,null,null,null,null,null,null,null,null,null,null,null,null,null,null,null,null,null,null,null,null,null,null,null,null,null,null,null,null,null,null,null,null,null,null,null,null,null,null,null,null,null,"Ayva, çiğ",16.2,0.4,0.1,1.9,0.4,0.6,0.6,13.4,null,null,3.5999999999999997E-2,null,null,null,null,null,null,null,null,null,null,null,null,null,null,null,1.0999999999999999E-2,1.7000000000000001E-2,null,8.0000000000000002E-3,0.19700000000000001,4.0000000000000001E-3,null,null,1.3,null,null,null,null,null,null,null,null,2,0.81,0.3,0.2,0.4,null,20,null,null,7.0000000000000001E-3,3.5999999999999997E-2,3.5999999999999997E-2,0,60]
[null,null,null,null,null,null,null,null,null,null,null,null,null,null,null,null,null,null,null,null,null,null,null,null,null,null,null,null,null,null,null,null,null,null,null,null,null,null,null,null,null,null,null,null,null,null,null,null,null,null,null,null,null,null,null,null,null,null,null,null,null,null,null,null,null,null,null,null,null,null,null,null,null,null,null,null,null,null,null,null,null,null,null,null,null,null,null,null,null,null,null,null,null,null,null,null,null,null,null,null,null,null,null,null,null,null,null,null,null,null,null,null,null,null,null,null,null,null,null,null,null,null,null,null,null,null,null,null,null,null,null,null,null,null,"Badem, çiğ",94.9,21.2,52.1,10.6,3.1,6.06,6.06,6.5,6.55,null,11.359,null,null,2.57,0.57399999999999995,0.85299999999999998,1.58,0.66600000000000004,0.187,0.28399999999999997,1.21,0.69099999999999995,0.66300000000000003,0.23699999999999999,null,1.01,0.25700000000000001,0.48899999999999999,null,0.26400000000000001,0.73,6.9999999999999999E-4,null,null,10,1.5E-3,34,23.5,2.1499999999999998E-2,33,0.82499999999999996,null,0.7609999999999999,18.799999999999997,3.13,9.3899999999999988,1.37,1.28,null,null,null,234,4.05,11.359,11.359,0,250]
[null,null,null,null,null,null,null,null,null,null,null,null,null,null,null,null,null,null,null,null,null,null,null,null,null,null,null,null,null,null,null,null,null,null,null,null,null,null,null,null,null,null,null,null,null,null,null,null,null,null,null,null,null,null,null,null,null,null,null,null,null,null,null,null,null,null,null,null,null,null,null,null,null,null,null,null,null,null,null,null,null,null,null,null,null,null,null,null,null,null,null,null,null,null,null,null,null,null,null,null,null,null,null,null,null,null,null,null,null,null,null,null,null,null,null,null,null,null,null,null,null,null,null,null,null,null,null,null,null,null,null,null,null,null,"Bal",82,0.3,null,null,0.2,3.27,3.27,75.099999999999994,75.099999999999994,null,null,null,null,null,null,null,null,null,null,null,null,null,null,1E-3,null,null,5.0000000000000001E-3,7.1999999999999998E-3,null,2.8999999999999998E-3,5.0999999999999997E-2,1.0999999999999999E-2,null,null,0.31,5.0000000000000001E-3,4,3.7,0,3.5,null,null,0,1,0.70000000000000007,1,0,1.6,null,null,null,null,null,null,null,null,250]
[null,null,null,null,null,null,null,null,null,null,null,null,null,null,null,null,null,null,null,null,null,null,null,null,null,null,null,null,null,null,null,null,null,null,null,null,null,null,null,null,null,null,null,null,null,null,null,null,null,null,null,null,null,null,null,null,null,null,null,null,null,null,null,null,null,null,null,null,null,null,null,null,null,null,null,null,null,null,null,null,null,null,null,null,null,null,null,null,null,null,null,null,null,null,null,null,null,null,null,null,null,null,null,null,null,null,null,null,null,null,null,null,null,null,null,null,null,null,null,null,null,null,null,null,null,null,null,null,null,null,null,null,null,null,"Balkabağı, çiğ",5.5500000000000007,1,0.15000000000000002,1.05,0.6,0.185,0.185,2.8499999999999996,2.2999999999999998,0.6,2.8499999999999998E-2,4.9000000000000002E-2,null,4.4499999999999998E-2,1.8000000000000002E-2,3.5999999999999997E-2,5.2500000000000005E-2,4.7E-2,1.35E-2,8.0000000000000002E-3,9.7000000000000003E-2,2.4500000000000001E-2,2.1999999999999999E-2,1.0499999999999999E-2,null,4.1999999999999996E-2,2.4550000000000002E-2,4.2200000000000001E-2,null,1.44E-2,0.25850000000000001,3.4100000000000003E-3,null,null,0.65500000000000003,1.5E-3,4.3900000000000006,1.075,2.8999999999999998E-3,2.4749999999999996,4.0000000000000001E-3,null,0.37149999999999994,3.4350000000000001,2.7749999999999999,0.80999999999999994,0.379,0.76500000000000001,null,65.5,null,1,3.9E-2,7.7499999999999999E-2,2.8499999999999998E-2,4.9000000000000002E-2,40]
[null,null,null,null,null,null,null,null,null,null,null,null,null,null,null,null,null,null,null,null,null,null,null,null,null,null,null,null,null,null,null,null,null,null,null,null,null,null,null,null,null,null,null,null,null,null,null,null,null,null,null,null,null,null,null,null,null,null,null,null,null,null,null,null,null,null,null,null,null,null,null,null,null,null,null,null,null,null,null,null,null,null,null,null,null,null,null,null,null,null,null,null,null,null,null,null,null,null,null,null,null,null,null,null,null,null,null,null,null,null,null,null,null,null,null,null,null,null,null,null,null,null,null,null,null,null,null,null,null,null,null,null,null,null,"Bamya, çiğ",9.8000000000000007,2,0.1,0.9,0.7,0.35,0.35,6.1,null,null,2.7E-2,1E-3,null,8.3000000000000004E-2,3.1E-2,7.0000000000000007E-2,0.106,0.08,2.1000000000000001E-2,1.9E-2,6.4000000000000001E-2,8.5999999999999993E-2,6.4000000000000001E-2,1.7000000000000001E-2,null,0.09,8.1000000000000003E-2,6.3E-2,null,5.7000000000000002E-2,0.30299999999999999,8.0000000000000002E-3,null,null,0.94,null,8,9.9,0,6,0,null,0.88,0.24,2.4500000000000002,0.6,2,2.15,null,333,null,null,2.5999999999999999E-2,2.8000000000000001E-2,2.7E-2,1E-3,90]
[null,null,null,null,null,null,null,null,null,null,null,null,null,null,null,null,null,null,null,null,null,null,null,null,null,null,null,null,null,null,null,null,null,null,null,null,null,null,null,null,null,null,null,null,null,null,null,null,null,null,null,null,null,null,null,null,null,null,null,null,null,null,null,null,null,null,null,null,null,null,null,null,null,null,null,null,null,null,null,null,null,null,null,null,null,null,null,null,null,null,null,null,null,null,null,null,null,null,null,null,null,null,null,null,null,null,null,null,null,null,null,null,null,null,null,null,null,null,null,null,null,null,null,null,null,null,null,null,null,null,null,null,null,null,"Bezelye, yeşil, çiğ",20.04,5.09,0.7,5.09,0.8,0.7,0.7,7,4.7,1.8,0.32,6.4000000000000001E-2,null,0.70399999999999996,0.105,0.22800000000000001,0.35199999999999998,0.371,0.05,1.9E-2,0.20899999999999999,0.13300000000000001,0.219,4.7E-2,null,0.28499999999999998,0.03,0.13,0,2.8000000000000001E-2,0.3,2E-3,0,null,1.1000000000000001,1.5E-3,18,3.8,1.0200000000000001E-2,7.5,0.03,null,0.25,22,7.5,1.3,3.1,1.6,0,180.2,0,0.2,0.128,0.38400000000000001,0.32,6.4000000000000001E-2,40]
[null,null,null,null,null,null,null,null,null,null,null,null,null,null,null,null,null,null,null,null,null,null,null,null,null,null,null,null,null,null,null,null,null,null,null,null,null,null,null,null,null,null,null,null,null,null,null,null,null,null,null,null,null,null,null,null,null,null,null,null,null,null,null,null,null,null,null,null,null,null,null,null,null,null,null,null,null,null,null,null,null,null,null,null,null,null,null,null,null,null,null,null,null,null,null,null,null,null,null,null,null,null,null,null,null,null,null,null,null,null,null,null,null,null,null,null,null,null,null,null,null,null,null,null,null,null,null,null,null,null,null,null,null,null,"Bezelye, olgun kuru, çiğ",90.5,22,2.0099999999999998,7.04,2.06,3.51,3.51,56.4,2.37,39.4,0.94799999999999995,0.19700000000000001,null,2.04,0.49299999999999999,0.91500000000000004,1.41,1.51,0.16500000000000001,0.14799999999999999,0.91500000000000004,0.52800000000000002,0.73899999999999999,0.183,null,1.1599999999999999,3.78E-2,0.40699999999999997,0,8.2000000000000003E-2,1.1200000000000001,2.5999999999999999E-2,0,null,6.8999999999999995,5.0000000000000001E-3,55,12,0.14000000000000001,38,5.0000000000000001E-3,null,0.33,25,20,1.7999999999999998,8.1999999999999993,0.75,0,12.5,0,0,0.376,1.1499999999999999,0.94799999999999995,0.19700000000000001,40]
[null,null,null,null,null,null,null,null,null,null,null,null,null,null,null,null,null,null,null,null,null,null,null,null,null,null,null,null,null,null,null,null,null,null,null,null,null,null,null,null,null,null,null,null,null,null,null,null,null,null,null,null,null,null,null,null,null,null,null,null,null,null,null,null,null,null,null,null,null,null,null,null,null,null,null,null,null,null,null,null,null,null,null,null,null,null,null,null,null,null,null,null,null,null,null,null,null,null,null,null,null,null,null,null,null,null,null,null,null,null,null,null,null,null,null,null,null,null,null,null,null,null,null,null,null,null,null,null,null,null,null,null,null,null,"Biber, kırmızı, tatlı, çiğ",9.1,0.9,0.1,1.7,0.5,0.31,0.31,5.2,5.24,null,3.5999999999999997E-2,2.1000000000000001E-2,null,3.5000000000000003E-2,1.4999999999999999E-2,2.8000000000000001E-2,3.6999999999999998E-2,4.2999999999999997E-2,7.0000000000000001E-3,7.0000000000000001E-3,2.8000000000000001E-2,1.4E-2,0.03,5.0000000000000001E-3,null,4.2999999999999997E-2,6.6400000000000001E-3,2.4500000000000001E-2,null,1.1800000000000001E-2,0.23899999999999999,3.8999999999999999E-4,null,null,0.50900000000000001,1.4399999999999999E-3,3.17,1.03,1.4299999999999998E-3,1.28,1.6299999999999999E-2,null,0.88,9.84,1.6600000000000001,0.76300000000000012,0.47399999999999998,4.3,null,1060,null,22.599999999999998,2.1000000000000001E-2,5.6000000000000001E-2,3.5999999999999997E-2,2.1000000000000001E-2,40]
[null,null,null,null,null,null,null,null,null,null,null,null,null,null,null,null,null,null,null,null,null,null,null,null,null,null,null,null,null,null,null,null,null,null,null,null,null,null,null,null,null,null,null,null,null,null,null,null,null,null,null,null,null,null,null,null,null,null,null,null,null,null,null,null,null,null,null,null,null,null,null,null,null,null,null,null,null,null,null,null,null,null,null,null,null,null,null,null,null,null,null,null,null,null,null,null,null,null,null,null,null,null,null,null,null,null,null,null,null,null,null,null,null,null,null,null,null,null,null,null,null,null,null,null,null,null,null,null,null,null,null,null,null,null,"Biber, sarı, tatlı, çiğ",8.4,0.9,null,1.5,0.5,0.23,0.23,null,3.85,null,null,null,null,null,null,null,null,null,null,null,null,null,null,null,null,null,9.980000000000001E-3,2.7800000000000002E-2,null,1.14E-2,0.22900000000000001,1.7600000000000001E-3,null,null,0.26500000000000001,1.0199999999999999E-3,2.5,1.22,4.0899999999999999E-3,1.56,1.7899999999999999E-2,null,0,9.2800000000000011,1.46,0.125,0.55500000000000005,4.55,null,null,null,23.599999999999998,null,null,null,null,40]
[null,null,null,null,null,null,null,null,null,null,null,null,null,null,null,null,null,null,null,null,null,null,null,null,null,null,null,null,null,null,null,null,null,null,null,null,null,null,null,null,null,null,null,null,null,null,null,null,null,null,null,null,null,null,null,null,null,null,null,null,null,null,null,null,null,null,null,null,null,null,null,null,null,null,null,null,null,null,null,null,null,null,null,null,null,null,null,null,null,null,null,null,null,null,null,null,null,null,null,null,null,null,null,null,null,null,null,null,null,null,null,null,null,null,null,null,null,null,null,null,null,null,null,null,null,null,null,null,null,null,null,null,null,null,"Biber, yeşil, tatlı, çiğ",6.4,0.9,0.3,1.8,0.4,0.22,0.22,2.7,2.6,0.1,9.5000000000000001E-2,5.5E-2,null,3.5000000000000003E-2,1.4E-2,2.7E-2,3.5999999999999997E-2,4.2000000000000003E-2,7.0000000000000001E-3,7.0000000000000001E-3,2.7E-2,1.2999999999999999E-2,2.9000000000000001E-2,5.0000000000000001E-3,null,4.2000000000000003E-2,8.5500000000000003E-3,2.7399999999999997E-2,null,1.11E-2,0.187,6.0000000000000001E-3,null,null,0.83000000000000007,4.0000000000000001E-3,3.54,1,1E-3,1.1000000000000001,null,null,0.35,6,2.3000000000000003,0.25,0.34,1.9,null,139,null,5.5,5.5E-2,0.15,9.5000000000000001E-2,5.5E-2,40]
[null,null,null,null,null,null,null,null,null,null,null,null,null,null,null,null,null,null,null,null,null,null,null,null,null,null,null,null,null,null,null,null,null,null,null,null,null,null,null,null,null,null,null,null,null,null,null,null,null,null,null,null,null,null,null,null,null,null,null,null,null,null,null,null,null,null,null,null,null,null,null,null,null,null,null,null,null,null,null,null,null,null,null,null,null,null,null,null,null,null,null,null,null,null,null,null,null,null,null,null,null,null,null,null,null,null,null,null,null,null,null,null,null,null,null,null,null,null,null,null,null,null,null,null,null,null,null,null,null,null,null,null,null,null,"Bira mayası, kurutulmuş","93,3",44.4,"2,3",2.6,6,3.46,3.46,39.15,0.3,1,0.05,null,null,2.06,0.98,1.99,2.76,2.85,0.7,0.28999999999999998,1.61,1.2,"2,01","0,49",1.0999999999999999E-2,2.2999999999999998,0.32,1.1599999999999999,0.45,0.23,1.79,0.09,0.1,0.32,13.7,0.1,161,15,1,85,2,2871,40,360,110,40,23.3,20,0,null,null,null,null,null,0.05,null,370]
[null,null,null,null,null,null,null,null,null,null,null,null,null,null,null,null,null,null,null,null,null,null,null,null,null,null,null,null,null,null,null,null,null,null,null,null,null,null,null,null,null,null,null,null,null,null,null,null,null,null,null,null,null,null,null,null,null,null,null,null,null,null,null,null,null,null,null,null,null,null,null,null,null,null,null,null,null,null,null,null,null,null,null,null,null,null,null,null,null,null,null,null,null,null,null,null,null,null,null,null,null,null,null,null,null,null,null,null,null,null,null,null,null,null,null,null,null,null,null,null,null,null,null,null,null,null,null,null,null,null,null,null,null,null,"Brokoli",10.7,2.8,0.4,2.6,0.9,0.34,0.34,6.6,1.7,0,1.7000000000000001E-2,2.1000000000000001E-2,null,0.19,5.8999999999999997E-2,7.9000000000000001E-2,0.13,0.14000000000000001,3.7999999999999999E-2,2.8000000000000001E-2,0.12,0.05,8.7999999999999995E-2,3.3000000000000002E-2,null,0.13,4.7E-2,6.6000000000000003E-2,null,2.1000000000000001E-2,0.316,0.33,null,null,0,5.0000000000000001E-3,7,2,2.5000000000000001E-2,4,0.06,187,0.63,6,6,1,1,2,0,1869,null,8,null,null,1.7000000000000001E-2,2.1000000000000001E-2,80]
[null,null,null,null,null,null,null,null,null,null,null,null,null,null,null,null,null,null,null,null,null,null,null,null,null,null,null,null,null,null,null,null,null,null,null,null,null,null,null,null,null,null,null,null,null,null,null,null,null,null,null,null,null,null,null,null,null,null,null,null,null,null,null,null,null,null,null,null,null,null,null,null,null,null,null,null,null,null,null,null,null,null,null,null,null,null,null,null,null,null,null,null,null,null,null,null,null,null,null,null,null,null,null,null,null,null,null,null,null,null,null,null,null,null,null,null,null,null,null,null,null,null,null,null,null,null,null,null,null,null,null,null,null,null,"Brokoli unu",90,23.55140186915888,3.3644859813084116,21.869158878504674,7.5700934579439263,2.8598130841121501,2.8598130841121501,55.514018691588788,14.299065420560748,0,0.1429906542056075,0.17663551401869163,0,1.5981308411214956,0.49626168224299061,0.6644859813084113,1.0934579439252339,1.1775700934579441,0.31962616822429907,0.23551401869158881,1.0093457943925235,0.42056074766355145,0.74018691588785046,0.27757009345794398,0,1.0934579439252339,0.39532710280373839,0.55514018691588796,0,0.17663551401869163,2.6579439252336452,2.7757009345794392,0,0,0,0.03,58.878504672897201,16.822429906542055,0.21028037383177572,33.644859813084111,0.50467289719626174,1572.8971962616822,5.2990654205607486,50.467289719626173,50.467289719626173,8.4112149532710276,8.4112149532710276,16.822429906542055,0,15720.560747663552,0,67.289719626168221,0,0,0.1429906542056075,0.17663551401869163,70]
[null,null,null,null,null,null,null,null,null,null,null,null,null,null,null,null,null,null,null,null,null,null,null,null,null,null,null,null,null,null,null,null,null,null,null,null,null,null,null,null,null,null,null,null,null,null,null,null,null,null,null,null,null,null,null,null,null,null,null,null,null,null,null,null,null,null,null,null,null,null,null,null,null,null,null,null,null,null,null,null,null,null,null,null,null,null,null,null,null,null,null,null,null,null,null,null,null,null,null,null,null,null,null,null,null,null,null,null,null,null,null,null,null,null,null,null,null,null,null,null,null,null,null,null,null,null,null,null,null,null,null,null,null,null,"Brüksel lahanası",14.9,4,0.4,3.95,1.25,0.48,0.48,9.3000000000000007,2.16,0.25,5.9499999999999997E-2,0.17299999999999999,null,0.25,8.5000000000000006E-2,0.14000000000000001,0.17499999999999999,0.19,4.0500000000000001E-2,2.1999999999999999E-2,0.114,3.6499999999999998E-2,0.13500000000000001,4.4499999999999998E-2,null,0.2,3.2300000000000002E-2,7.6399999999999996E-2,null,2.4E-2,0.436,1.6500000000000001E-2,null,null,0.76500000000000001,5.0000000000000001E-3,11.5,2.85,1.35E-2,4.1500000000000004,2E-3,95.5,0.95499999999999996,7.5,5.1150000000000002,1.3,1.1000000000000001,2.4,0,468.5,null,9,8.9499999999999996E-2,0.26,5.9499999999999997E-2,0.17299999999999999,50]
[null,null,null,null,null,null,null,null,null,null,null,null,null,null,null,null,null,null,null,null,null,null,null,null,null,null,null,null,null,null,null,null,null,null,null,null,null,null,null,null,null,null,null,null,null,null,null,null,null,null,null,null,null,null,null,null,null,null,null,null,null,null,null,null,null,null,null,null,null,null,null,null,null,null,null,null,null,null,null,null,null,null,null,null,null,null,null,null,null,null,null,null,null,null,null,null,null,null,null,null,null,null,null,null,null,null,null,null,null,null,null,null,null,null,null,null,null,null,null,null,null,null,null,null,null,null,null,null,null,null,null,null,null,null,"Buğday, tane",89,14.4,1.8,2.7,1.52,3.15,3.15,55.4,0.4,55.8,0.6,2.7E-2,null,0.97,0.45,0.56999999999999995,1.1000000000000001,0.6,0.26,0.34,0.73,0.45,0.51,0.21,null,0.77,2.9000000000000001E-2,0.28799999999999998,null,0.126,0.36299999999999999,2E-3,null,null,4,0.03,32,40,0.70699999999999996,27,0.02,312,0.38,55,10,1,4,3,0,26.999999999999996,0,10,0.3,0.6,0.6,2.7E-2,10.5]
[null,null,null,null,null,null,null,null,null,null,null,null,null,null,null,null,null,null,null,null,null,null,null,null,null,null,null,null,null,null,null,null,null,null,null,null,null,null,null,null,null,null,null,null,null,null,null,null,null,null,null,null,null,null,null,null,null,null,null,null,null,null,null,null,null,null,null,null,null,null,null,null,null,null,null,null,null,null,null,null,null,null,null,null,null,null,null,null,null,null,null,null,null,null,null,null,null,null,null,null,null,null,null,null,null,null,null,null,null,null,null,null,null,null,null,null,null,null,null,null,null,null,null,null,null,null,null,null,null,null,null,null,null,null,"Buğday germ unu",89,25,7,3.5,5.3,3.87,3.96,51.8,null,null,5.2880000000000003,0.72299999999999998,null,1.83,0.62,0.79,1.1000000000000001,1.37,0.42,0.46,0.93,0.7,0.94,0.3,null,1.1200000000000001,0.01,1,0.31,0.22,0.9,0.02,0.08,0.31,10,null,41,100,0.6,115,0.19,3175,2.8,68,23.2,6.1,21.9,13,0,0,0,0,1.7,6,5.2880000000000003,0.72299999999999998,9]
[null,null,null,null,null,null,null,null,null,null,null,null,null,null,null,null,null,null,null,null,null,null,null,null,null,null,null,null,null,null,null,null,null,null,null,null,null,null,null,null,null,null,null,null,null,null,null,null,null,null,null,null,null,null,null,null,null,null,null,null,null,null,null,null,null,null,null,null,null,null,null,null,null,null,null,null,null,null,null,null,null,null,null,null,null,null,null,null,null,null,null,null,null,null,null,null,null,null,null,null,null,null,null,null,null,null,null,null,null,null,null,null,null,null,null,null,null,null,null,null,null,null,null,null,null,null,null,null,null,null,null,null,null,null,"Buğday unu, beyaz",88.1,10.3,1.5,2.2000000000000002,0.5,3.55,3.55,76.2,0.5,64.5,0.82799999999999996,1.7000000000000001E-2,null,0.42,0.23,0.36,0.71,0.23,0.18,0.22,0.52,0.31,0.28000000000000003,0.13,null,0.42,0.02,0.11,null,0.02,0.11,0,null,null,1.44,0.03,12,7,0.34,7,0.02,312,0.26,13,4.4000000000000004,0.4,1.2,0.4,0,null,null,0.6,0.3,0.8,0.82799999999999996,1.7000000000000001E-2,10]
[null,null,null,null,null,null,null,null,null,null,null,null,null,null,null,null,null,null,null,null,null,null,null,null,null,null,null,null,null,null,null,null,null,null,null,null,null,null,null,null,null,null,null,null,null,null,null,null,null,null,null,null,null,null,null,null,null,null,null,null,null,null,null,null,null,null,null,null,null,null,null,null,null,null,null,null,null,null,null,null,null,null,null,null,null,null,null,null,null,null,null,null,null,null,null,null,null,null,null,null,null,null,null,null,null,null,null,null,null,null,null,null,null,null,null,null,null,null,null,null,null,null,null,null,null,null,null,null,null,null,null,null,null,null,"Buğday kepeği",90.1,15.5,4.3,11.3,5.8,2.16,2.16,64.5,0.4,51.462499999999999,2.0390000000000001,0.16700000000000001,null,0.97,0.45,0.56999999999999995,1.1000000000000001,0.6,0.26,0.34,0.73,0.45,0.51,0.21,null,0.77,7.2999999999999995E-2,1.0129999999999999,null,0.61099999999999999,1.1819999999999999,2E-3,0.09,0.16,10,0.08,106,112,0.77600000000000002,73,0.37,744,0.79,136,22,6,5,13,null,26.999999999999996,null,15,0.6,2.2000000000000002,2.0390000000000001,0.16700000000000001,8]
[null,null,null,null,null,null,null,null,null,null,null,null,null,null,null,null,null,null,null,null,null,null,null,null,null,null,null,null,null,null,null,null,null,null,null,null,null,null,null,null,null,null,null,null,null,null,null,null,null,null,null,null,null,null,null,null,null,null,null,null,null,null,null,null,null,null,null,null,null,null,null,null,null,null,null,null,null,null,null,null,null,null,null,null,null,null,null,null,null,null,null,null,null,null,null,null,null,null,null,null,null,null,null,null,null,null,null,null,null,null,null,null,null,null,null,null,null,null,null,null,null,null,null,null,null,null,null,null,null,null,null,null,null,null,"Buğday unu, tam",88.3,10.07,2.04,11.06,1.05,3.39,3.39,61.3,0.54,61.4,1.03,7.0999999999999994E-2,null,0.55100000000000005,0.27600000000000002,0.42299999999999999,0.754,0.36799999999999999,0.17100000000000001,0.17599999999999999,0.51500000000000001,0.29399999999999998,0.34899999999999998,0.14699999999999999,null,0.56999999999999995,2.9079999999999998E-2,0.313,null,0.10299999999999999,0.379,4.13E-3,null,null,3.17,2.7000000000000003E-2,33.1,27.400000000000002,1E-3,26,0.02,null,0.5,56,6.8000000000000007,0.75,3.9000000000000004,3.4000000000000004,0,0,0,8.6999999999999993,0.34799999999999998,1.1000000000000001,1.03,7.0999999999999994E-2,9]
[null,null,null,null,null,null,null,null,null,null,null,null,null,null,null,null,null,null,null,null,null,null,null,null,null,null,null,null,null,null,null,null,null,null,null,null,null,null,null,null,null,null,null,null,null,null,null,null,null,null,null,null,null,null,null,null,null,null,null,null,null,null,null,null,null,null,null,null,null,null,null,null,null,null,null,null,null,null,null,null,null,null,null,null,null,null,null,null,null,null,null,null,null,null,null,null,null,null,null,null,null,null,null,null,null,null,null,null,null,null,null,null,null,null,null,null,null,null,null,null,null,null,null,null,null,null,null,null,null,null,null,null,null,null,"Bulgur, çiğ",89.2,10.8,1.9,9.8000000000000007,1.3,3.42,3.42,45.5,0.9,44.6,0.55200000000000005,null,null,0.495,0.27300000000000002,0.40400000000000003,0.83299999999999996,0.27600000000000002,0.19400000000000001,0.24199999999999999,0.56499999999999995,0.29499999999999998,0.33300000000000002,0.152,null,0.51100000000000001,3.2899999999999999E-2,0.26700000000000002,null,6.8500000000000005E-2,0.375,1.0999999999999999E-2,null,null,4.3,null,19,13.5,3.4500000000000003E-2,23,4.2999999999999997E-2,null,0.23100000000000001,14.9,4.6800000000000006,0.38399999999999995,1.7799999999999998,1.85,null,null,null,0.94200000000000006,0.22800000000000001,0.55200000000000005,0.55200000000000005,null,60]
[null,null,null,null,null,null,null,null,null,null,null,null,null,null,null,null,null,null,null,null,null,null,null,null,null,null,null,null,null,null,null,null,null,null,null,null,null,null,null,null,null,null,null,null,null,null,null,null,null,null,null,null,null,null,null,null,null,null,null,null,null,null,null,null,null,null,null,null,null,null,null,null,null,null,null,null,null,null,null,null,null,null,null,null,null,null,null,null,null,null,null,null,null,null,null,null,null,null,null,null,null,null,null,null,null,null,null,null,null,null,null,null,null,null,null,null,null,null,null,null,null,null,null,null,null,null,null,null,null,null,null,null,null,null,"Ceviz, kuru",97.6,14.1,64.599999999999994,null,1.7,7.07,7.07,2.8,2.6,0.22500000000000001,30.791,6.4189999999999996,null,2.2200000000000002,0.35799999999999998,0.56000000000000005,1.06,0.42199999999999999,0.253,0.26100000000000001,0.66400000000000003,0.47499999999999998,0.503,0.19800000000000001,null,0.69,8.3199999999999996E-2,0.36899999999999999,null,0.14199999999999999,0.38,null,null,null,10.5,null,22.9,24.5,1.2E-2,27,0.18,null,1.23,5.620000000000001,4.6400000000000006,1.6400000000000001,2.52,1.9100000000000001,null,null,null,8.9,4.6509999999999998,37.21,30.791,6.4189999999999996,150]
[null,null,null,null,null,null,null,null,null,null,null,null,null,null,null,null,null,null,null,null,null,null,null,null,null,null,null,null,null,null,null,null,null,null,null,null,null,null,null,null,null,null,null,null,null,null,null,null,null,null,null,null,null,null,null,null,null,null,null,null,null,null,null,null,null,null,null,null,null,null,null,null,null,null,null,null,null,null,null,null,null,null,null,null,null,null,null,null,null,null,null,null,null,null,null,null,null,null,null,null,null,null,null,null,null,null,null,null,null,null,null,null,null,null,null,null,null,null,null,null,null,null,null,null,null,null,null,null,null,null,null,null,null,null,"Chia tohumları",93.9,21.4,34.1,40.9,4.4000000000000004,4.47,4.47,1.8,1.75,null,5.6180000000000003,19.253,null,1.96,0.52500000000000002,0.69099999999999995,1.29,0.94899999999999995,0.65300000000000002,0.41399999999999998,0.98899999999999999,0.65,0.7,0.28499999999999998,null,0.92,0.54500000000000004,0.64500000000000002,null,0.32,0.64,null,null,null,16,null,65,44,9.6999999999999989E-2,50.5,0.245,null,0.70700000000000007,41.3,3.39,2.02,4.71,1.37,null,null,null,0,3.06,24.870999999999999,5.6180000000000003,19.253,200]
[null,null,null,null,null,null,null,null,null,null,null,null,null,null,null,null,null,null,null,null,null,null,null,null,null,null,null,null,null,null,null,null,null,null,null,null,null,null,null,null,null,null,null,null,null,null,null,null,null,null,null,null,null,null,null,null,null,null,null,null,null,null,null,null,null,null,null,null,null,null,null,null,null,null,null,null,null,null,null,null,null,null,null,null,null,null,null,null,null,null,null,null,null,null,null,null,null,null,null,null,null,null,null,null,null,null,null,null,null,null,null,null,null,null,null,null,null,null,null,null,null,null,null,null,null,null,null,null,null,null,null,null,null,null,"Çavdar unu, tam",89.2,8.6999999999999993,2.2999999999999998,14.8,1.6,3.33,3.33,54.8,2.3199999999999998,52.5,1.014,0.13800000000000001,null,0.49399999999999999,0.22500000000000001,0.34399999999999997,0.59899999999999998,0.374,0.14699999999999999,0.13600000000000001,0.41899999999999998,0.22500000000000001,0.32900000000000001,0.109,null,0.50900000000000001,3.3299999999999996E-2,0.30099999999999999,null,9.2599999999999988E-2,0.438,5.11E-3,null,0.14000000000000001,3.17,4.5999999999999999E-2,28,21.6,1.4999999999999999E-2,28,0.06,null,0.74199999999999999,17,4.9000000000000004,1.06,3.3000000000000003,2.8000000000000003,null,null,null,8,0.29599999999999999,1.1519999999999999,1.014,0.13800000000000001,11]
[null,null,null,null,null,null,null,null,null,null,null,null,null,null,null,null,null,null,null,null,null,null,null,null,null,null,null,null,null,null,null,null,null,null,null,null,null,null,null,null,null,null,null,null,null,null,null,null,null,null,null,null,null,null,null,null,null,null,null,null,null,null,null,null,null,null,null,null,null,null,null,null,null,null,null,null,null,null,null,null,null,null,null,null,null,null,null,null,null,null,null,null,null,null,null,null,null,null,null,null,null,null,null,null,null,null,null,null,null,null,null,null,null,null,null,null,null,null,null,null,null,null,null,null,null,null,null,null,null,null,null,null,null,null,"Çavdar, tane",89,8.5,1.2,2,1.74,2.85,2.85,50,5.64,53.7,1.014,0.13800000000000001,null,0.51200000000000001,0.23300000000000001,0.35699999999999998,0.621,0.38800000000000001,0.152,0.14099999999999999,0.434,0.23300000000000001,0.34100000000000003,0.113,null,0.52700000000000002,2.8799999999999999E-2,0.36,null,9.8000000000000004E-2,0.42799999999999999,3.8E-3,null,0.14000000000000001,3.2,null,40,37,1.4999999999999999E-2,29,0.06,null,0.56000000000000005,17,13.4,1.7000000000000002,3.7,2.84,null,null,null,11.5,0.29599999999999999,1.1519999999999999,1.014,0.13800000000000001,10]
[null,null,null,null,null,null,null,null,null,null,null,null,null,null,null,null,null,null,null,null,null,null,null,null,null,null,null,null,null,null,null,null,null,null,null,null,null,null,null,null,null,null,null,null,null,null,null,null,null,null,null,null,null,null,null,null,null,null,null,null,null,null,null,null,null,null,null,null,null,null,null,null,null,null,null,null,null,null,null,null,null,null,null,null,null,null,null,null,null,null,null,null,null,null,null,null,null,null,null,null,null,null,null,null,null,null,null,null,null,null,null,null,null,null,null,null,null,null,null,null,null,null,null,null,null,null,null,null,null,null,null,null,null,null,"Çilek, çiğ",10,0.7,0.6,1.5,0.4,0.38,0.38,6.1,6.07,0,0.182,0.16600000000000001,null,0.04,1.2E-2,2.4E-2,3.9E-2,3.5000000000000003E-2,0.01,4.0000000000000001E-3,2.1999999999999999E-2,1.0999999999999999E-2,2.1999999999999999E-2,8.0000000000000002E-3,null,2.9000000000000001E-2,1.8499999999999999E-2,2.3800000000000002E-2,null,1.2500000000000001E-2,0.17899999999999999,5.0799999999999999E-4,null,null,0.38300000000000001,5.0299999999999997E-4,2.5499999999999998,3.4200000000000004,1.8E-3,1.04,7.0099999999999997E-3,null,1.17,4.34,1.29,0.111,0.14500000000000002,0.45499999999999996,null,33.299999999999997,null,4.1399999999999997,0.05,0.34799999999999998,0.182,0.16600000000000001,150]
[null,null,null,null,null,null,null,null,null,null,null,null,null,null,null,null,null,null,null,null,null,null,null,null,null,null,null,null,null,null,null,null,null,null,null,null,null,null,null,null,null,null,null,null,null,null,null,null,null,null,null,null,null,null,null,null,null,null,null,null,null,null,null,null,null,null,null,null,null,null,null,null,null,null,null,null,null,null,null,null,null,null,null,null,null,null,null,null,null,null,null,null,null,null,null,null,null,null,null,null,null,null,null,null,null,null,null,null,null,null,null,null,null,null,null,null,null,null,null,null,null,null,null,null,null,null,null,null,null,null,null,null,null,null,"Darı, tane",91.3,11,4.2,8.5,3.3,3.56,3.56,63.5,null,null,null,null,null,0.55600000000000005,0.22500000000000001,0.76500000000000001,1.44,0.35699999999999998,0.30199999999999999,null,0.57999999999999996,null,0.27800000000000002,9.2999999999999999E-2,null,0.76900000000000002,9.4999999999999998E-3,0.24,null,0.1,0.22,4.0000000000000002E-4,null,0.15,4.9000000000000004,0.05,48,7.1,0.16,34,null,null,0.3,47.199999999999996,0,2.9,4.21,7.5,null,null,null,0.5,null,null,null,null,40]
[null,null,null,null,null,null,null,null,null,null,null,null,null,null,null,null,null,null,null,null,null,null,null,null,null,null,null,null,null,null,null,null,null,null,null,null,null,null,null,null,null,null,null,null,null,null,null,null,null,null,null,null,null,null,null,null,null,null,null,null,null,null,null,null,null,null,null,null,null,null,null,null,null,null,null,null,null,null,null,null,null,null,null,null,null,null,null,null,null,null,null,null,null,null,null,null,null,null,null,null,null,null,null,null,null,null,null,null,null,null,null,null,null,null,null,null,null,null,null,null,null,null,null,null,null,null,null,null,null,null,null,null,null,null,"Dere otu, çiğ",14.1,3.5,1.1000000000000001,2.1,2.5,0.48,0.48,4.9000000000000004,null,null,7.6999999999999999E-2,1.2E-2,null,null,null,null,null,null,null,null,null,null,null,6.6000000000000003E-2,null,null,0.20200000000000001,5.1900000000000002E-2,null,2.8000000000000001E-2,0.64700000000000002,2.7E-2,null,null,2.2000000000000002,3.9E-2,55,27,2.7000000000000003E-2,18,4.0000000000000001E-3,null,1.1599999999999999,24,3,4.3,1.9,3,null,4990,null,17,5.6000000000000001E-2,8.8999999999999996E-2,7.6999999999999999E-2,1.2E-2,15]
[null,null,null,null,null,null,null,null,null,null,null,null,null,null,null,null,null,null,null,null,null,null,null,null,null,null,null,null,null,null,null,null,null,null,null,null,null,null,null,null,null,null,null,null,null,null,null,null,null,null,null,null,null,null,null,null,null,null,null,null,null,null,null,null,null,null,null,null,null,null,null,null,null,null,null,null,null,null,null,null,null,null,null,null,null,null,null,null,null,null,null,null,null,null,null,null,null,null,null,null,null,null,null,null,null,null,null,null,null,null,null,null,null,null,null,null,null,null,null,null,null,null,null,null,null,null,null,null,null,null,null,null,null,null,"Domates, olgun, çiğ",6,0.7,0.3,1.04,0.6,0.2,0.2,2.09,1.02,0.09,0.127,1.2999999999999999E-2,null,2.7E-2,1.2E-2,3.4000000000000002E-2,2.9000000000000001E-2,3.4000000000000002E-2,8.0000000000000002E-3,6.0000000000000001E-3,0.02,2.7E-2,0.02,7.0000000000000001E-3,null,2.1000000000000001E-2,8.8699999999999994E-3,2.9010000000000001E-2,0,8.9999999999999993E-3,0.24199999999999999,1.008E-2,0,null,0.39,3.0000000000000001E-3,2.3000000000000003,1.1000000000000001,3.0000000000000001E-3,0.84000000000000008,1.4999999999999999E-2,null,0.28999999999999998,7,3.3000000000000003,0.18,0.41000000000000003,0.84000000000000008,0,827,0,7.4,5.1999999999999998E-2,0.14000000000000001,0.127,1.2999999999999999E-2,50]
[null,null,null,null,null,null,null,null,null,null,null,null,null,null,null,null,null,null,null,null,null,null,null,null,null,null,null,null,null,null,null,null,null,null,null,null,null,null,null,null,null,null,null,null,null,null,null,null,null,null,null,null,null,null,null,null,null,null,null,null,null,null,null,null,null,null,null,null,null,null,null,null,null,null,null,null,null,null,null,null,null,null,null,null,null,null,null,null,null,null,null,null,null,null,null,null,null,null,null,null,null,null,null,null,null,null,null,null,null,null,null,null,null,null,null,null,null,null,null,null,null,null,null,null,null,null,null,null,null,null,null,null,null,null,"Domates, kurutulmuş",85.4,14.01,3,12.03,12.06,2.84,2.84,43.5,37.6,null,1.29,1.2999999999999999E-2,null,0.33900000000000002,0.215,0.33900000000000002,0.51900000000000002,0.51900000000000002,0.122,0.183,0.36099999999999999,0.248,0.36099999999999999,0.104,null,0.36099999999999999,0.11,0.35599999999999998,0,0.19400000000000001,3.43,2.1,0,null,14.2,0.02,90.9,18.5,5.5E-2,19.899999999999999,0.13200000000000001,null,0.68,90.5,20.9,4.8899999999999997,5.28,3.3200000000000003,0,437,0,0.1,0.499,1.31,1.29,1.2999999999999999E-2,50]
[null,null,null,null,null,null,null,null,null,null,null,null,null,null,null,null,null,null,null,null,null,null,null,null,null,null,null,null,null,null,null,null,null,null,null,null,null,null,null,null,null,null,null,null,null,null,null,null,null,null,null,null,null,null,null,null,null,null,null,null,null,null,null,null,null,null,null,null,null,null,null,null,null,null,null,null,null,null,null,null,null,null,null,null,null,null,null,null,null,null,null,null,null,null,null,null,null,null,null,null,null,null,null,null,null,null,null,null,null,null,null,null,null,null,null,null,null,null,null,null,null,null,null,null,null,null,null,null,null,null,null,null,null,null,"Ekmek, buğday",64.8,8.1999999999999993,2.5,3.1,1.9,2.58,2.58,48.4,null,47.2,0.64,6.0999999999999999E-2,null,0.33,0.186,0.35799999999999998,0.61599999999999999,0.20100000000000001,0.13300000000000001,0.158,0.43,0.20100000000000001,0.24399999999999999,8.5999999999999993E-2,null,0.41599999999999998,2.3300000000000001E-2,8.5699999999999998E-2,null,1.9899999999999998E-2,0.11899999999999999,0.47299999999999998,0.40500000000000003,null,1.1200000000000001,0.19399999999999998,8.9700000000000006,5.01,4.7100000000000003E-2,6.34,1.7600000000000001E-2,null,0.28300000000000003,11.299999999999999,3.02,0.436,1.4000000000000001,0.61399999999999999,null,null,null,5,0.43099999999999999,0.70099999999999996,0.64,6.0999999999999999E-2,9]
[null,null,null,null,null,null,null,null,null,null,null,null,null,null,null,null,null,null,null,null,null,null,null,null,null,null,null,null,null,null,null,null,null,null,null,null,null,null,null,null,null,null,null,null,null,null,null,null,null,null,null,null,null,null,null,null,null,null,null,null,null,null,null,null,null,null,null,null,null,null,null,null,null,null,null,null,null,null,null,null,null,null,null,null,null,null,null,null,null,null,null,null,null,null,null,null,null,null,null,null,null,null,null,null,null,null,null,null,null,null,null,null,null,null,null,null,null,null,null,null,null,null,null,null,null,null,null,null,null,null,null,null,null,null,"Ekmek, buğday, kepekli",56.9,9.8000000000000007,1.9,5.2,2.6,2.16,2.16,36.4,0.5,null,0.40799999999999997,7.0000000000000007E-2,null,0.39500000000000002,0.223,0.43,0.73899999999999999,0.24099999999999999,0.16,0.189,0.51600000000000001,0.24099999999999999,0.29199999999999998,0.10299999999999999,null,0.499,0.19,8.7999999999999995E-2,null,6.4899999999999999E-2,0.32600000000000001,0.495,null,null,2.2000000000000002,0.22,46.8,6,7.4999999999999997E-2,14.299999999999999,1.9E-2,null,0.21,10,5,4.4000000000000004,4.5,0.89999999999999991,null,null,null,5,0.45900000000000002,0.47799999999999998,0.40799999999999997,7.0000000000000007E-2,10]
[null,null,null,null,null,null,null,null,null,null,null,null,null,null,null,null,null,null,null,null,null,null,null,null,null,null,null,null,null,null,null,null,null,null,null,null,null,null,null,null,null,null,null,null,null,null,null,null,null,null,null,null,null,null,null,null,null,null,null,null,null,null,null,null,null,null,null,null,null,null,null,null,null,null,null,null,null,null,null,null,null,null,null,null,null,null,null,null,null,null,null,null,null,null,null,null,null,null,null,null,null,null,null,null,null,null,null,null,null,null,null,null,null,null,null,null,null,null,null,null,null,null,null,null,null,null,null,null,null,null,null,null,null,null,"Ekmek, çavdar",54.2,5.3,1.3,8.5,2.1,1.98,1.98,35.700000000000003,3.78,31.9,0.54700000000000004,0.10299999999999999,null,0.245,0.127,0.218,0.372,0.191,8.5999999999999993E-2,8.2000000000000003E-2,0.254,0.109,0.191,6.4000000000000001E-2,null,0.309,2.87E-2,0.16300000000000001,null,4.9000000000000002E-2,0.248,0.437,0.82599999999999996,9.1999999999999998E-2,1.77,0.19600000000000001,16.200000000000003,12.4,8.9200000000000008E-3,14.2,4.8000000000000001E-2,null,0.247,5.21,2.3899999999999997,0.67100000000000004,1.7599999999999998,1.58,null,null,null,2,0.21,0.65,0.54700000000000004,0.10299999999999999,20]
[null,null,null,null,null,null,null,null,null,null,null,null,null,null,null,null,null,null,null,null,null,null,null,null,null,null,null,null,null,null,null,null,null,null,null,null,null,null,null,null,null,null,null,null,null,null,null,null,null,null,null,null,null,null,null,null,null,null,null,null,null,null,null,null,null,null,null,null,null,null,null,null,null,null,null,null,null,null,null,null,null,null,null,null,null,null,null,null,null,null,null,null,null,null,null,null,null,null,null,null,null,null,null,null,null,null,null,null,null,null,null,null,null,null,null,null,null,null,null,null,null,null,null,null,null,null,null,null,null,null,null,null,null,null,"Ekmek, peksimet",92.2,9.3000000000000007,5.8,3.3,1.5,3.85,3.85,71.400000000000006,null,null,0.83,null,null,0.35899999999999999,0.21199999999999999,0.42399999999999999,0.70199999999999996,0.245,0.155,0.16,0.47299999999999998,0.19600000000000001,0.31,0.109,null,0.50600000000000001,0.02,0.12,null,2.24E-2,0.189,0.16600000000000001,null,null,null,3.5000000000000003E-2,7,0,0,12,0,null,0,13,0,0.2,1.3,0.89999999999999991,null,851,4.4000000000000004,9,2.11,0.95599999999999996,0.95599999999999996,null,20]
[null,null,null,null,null,null,null,null,null,null,null,null,null,null,null,null,null,null,null,null,null,null,null,null,null,null,null,null,null,null,null,null,null,null,null,null,null,null,null,null,null,null,null,null,null,null,null,null,null,null,null,null,null,null,null,null,null,null,null,null,null,null,null,null,null,null,null,null,null,null,null,null,null,null,null,null,null,null,null,null,null,null,null,null,null,null,null,null,null,null,null,null,null,null,null,null,null,null,null,null,null,null,null,null,null,null,null,null,null,null,null,null,null,null,null,null,null,null,null,null,null,null,null,null,null,null,null,null,null,null,null,null,null,null,"Elma",14.3,0.3,0.3,2.2000000000000002,0.3,0.52,0.52,12.9,8.11,null,0.154,4.1000000000000002E-2,null,6.0000000000000001E-3,4.0000000000000001E-3,8.9999999999999993E-3,1.4E-2,1.2999999999999999E-2,3.0000000000000001E-3,1E-3,7.0000000000000001E-3,4.0000000000000001E-3,8.0000000000000002E-3,3.0000000000000001E-3,null,0.01,3.8500000000000001E-3,1.7399999999999999E-2,null,4.4000000000000003E-3,0.12,3.0000000000000001E-3,null,null,0.28000000000000003,2E-3,1.24,0.47,3.0000000000000001E-3,0.32,0.09,null,3.0000000000000001E-3,1,1,0.11,0.16,0.51,null,null,null,null,6.7000000000000004E-2,0.19500000000000001,0.154,4.1000000000000002E-2,6]
[null,null,null,null,null,null,null,null,null,null,null,null,null,null,null,null,null,null,null,null,null,null,null,null,null,null,null,null,null,null,null,null,null,null,null,null,null,null,null,null,null,null,null,null,null,null,null,null,null,null,null,null,null,null,null,null,null,null,null,null,null,null,null,null,null,null,null,null,null,null,null,null,null,null,null,null,null,null,null,null,null,null,null,null,null,null,null,null,null,null,null,null,null,null,null,null,null,null,null,null,null,null,null,null,null,null,null,null,null,null,null,null,null,null,null,null,null,null,null,null,null,null,null,null,null,null,null,null,null,null,null,null,null,null,"Elma kurusu",68.2,0.9,0.3,8.6999999999999993,1.1000000000000001,2.5499999999999998,2.5499999999999998,65.900000000000006,41,null,0.14499999999999999,3.9E-2,null,2.4E-2,1.4999999999999999E-2,0.03,4.8000000000000001E-2,4.4999999999999998E-2,8.0000000000000002E-3,2E-3,2.7E-2,1.2999999999999999E-2,2.4E-2,8.0000000000000002E-3,null,3.5999999999999997E-2,0.03,3.7999999999999999E-2,null,5.0000000000000001E-3,0.45,8.6999999999999994E-2,null,null,0.4,8.0000000000000002E-3,10.4,2,5.0000000000000001E-3,2,8.9999999999999993E-3,null,null,6,3,1,0.65,1.25,null,null,null,null,6.3E-2,0.184,0.14499999999999999,3.9E-2,10]
[null,null,null,null,null,null,null,null,null,null,null,null,null,null,null,null,null,null,null,null,null,null,null,null,null,null,null,null,null,null,null,null,null,null,null,null,null,null,null,null,null,null,null,null,null,null,null,null,null,null,null,null,null,null,null,null,null,null,null,null,null,null,null,null,null,null,null,null,null,null,null,null,null,null,null,null,null,null,null,null,null,null,null,null,null,null,null,null,null,null,null,null,null,null,null,null,null,null,null,null,null,null,null,null,null,null,null,null,null,null,null,null,null,null,null,null,null,null,null,null,null,null,null,null,null,null,null,null,null,null,null,null,null,null,"Enginar, çiğ",15.1,3.3,0.1,2.4,1.1000000000000001,0.52,0.52,8.1,null,null,null,null,null,null,null,null,null,null,null,null,null,null,null,null,null,null,0.06,7.2300000000000003E-2,null,3.56E-2,0.40400000000000003,2.7E-2,null,null,null,5.0000000000000001E-3,11,0,0,0,0,null,0,10.5,2.9499999999999997,0.6,0.8899999999999999,0.97,null,6.67,null,3.5,null,null,null,null,125]
[null,null,null,null,null,null,null,null,null,null,null,null,null,null,null,null,null,null,null,null,null,null,null,null,null,null,null,null,null,null,null,null,null,null,null,null,null,null,null,null,null,null,null,null,null,null,null,null,null,null,null,null,null,null,null,null,null,null,null,null,null,null,null,null,null,null,null,null,null,null,null,null,null,null,null,null,null,null,null,null,null,null,null,null,null,null,null,null,null,null,null,null,null,null,null,null,null,null,null,null,null,null,null,null,null,null,null,null,null,null,null,null,null,null,null,null,null,null,null,null,null,null,null,null,null,null,null,null,null,null,null,null,null,null,"Fasulye, beyaz, kuru, çiğ",90.2,21.3,2.7,18.399999999999999,3.9,3.2409177820267687,3.2409177820267687,43.9,3.6,null,null,null,null,1.3,0.57999999999999996,0.95,1.7,1.5,0.32,0.23,1.2,0.61,0.89,0.25,null,1.1000000000000001,0.126,0.42499999999999999,null,0.184,1.53,6.0000000000000001E-3,null,null,4.7,6.0000000000000001E-3,55,20,8.7999999999999995E-2,27.8,5.0000000000000001E-3,null,2.2599999999999998,4.79,9.8000000000000007,1.46,4.37,5.08,null,10.8,null,3.4,null,null,null,null,120]
[null,null,null,null,null,null,null,null,null,null,null,null,null,null,null,null,null,null,null,null,null,null,null,null,null,null,null,null,null,null,null,null,null,null,null,null,null,null,null,null,null,null,null,null,null,null,null,null,null,null,null,null,null,null,null,null,null,null,null,null,null,null,null,null,null,null,null,null,null,null,null,null,null,null,null,null,null,null,null,null,null,null,null,null,null,null,null,null,null,null,null,null,null,null,null,null,null,null,null,null,null,null,null,null,null,null,null,null,null,null,null,null,null,null,null,null,null,null,null,null,null,null,null,null,null,null,null,null,null,null,null,null,null,null,"Fasulye, maş, kuru, çiğ",90.5,23.9,1.1000000000000001,15,3.3,3.24,3.24,47.2,null,null,0.38,2.8000000000000001E-2,null,1.68,0.68700000000000006,0.99299999999999999,1.83,1.68,0.28599999999999998,0.21,1.45,0.72499999999999998,0.76400000000000001,0.26,null,1.22,8.7999999999999995E-2,0.39500000000000002,null,0.189,1.25,1.4999999999999999E-2,null,null,9.41,null,67.400000000000006,10.3,8.8000000000000009E-2,26.8,0,null,6.25,22.5,2,2.33,6.21,5,null,56.7,null,19,0.34100000000000003,0.40799999999999997,0.38,2.8000000000000001E-2,60]
[null,null,null,null,null,null,null,null,null,null,null,null,null,null,null,null,null,null,null,null,null,null,null,null,null,null,null,null,null,null,null,null,null,null,null,null,null,null,null,null,null,null,null,null,null,null,null,null,null,null,null,null,null,null,null,null,null,null,null,null,null,null,null,null,null,null,null,null,null,null,null,null,null,null,null,null,null,null,null,null,null,null,null,null,null,null,null,null,null,null,null,null,null,null,null,null,null,null,null,null,null,null,null,null,null,null,null,null,null,null,null,null,null,null,null,null,null,null,null,null,null,null,null,null,null,null,null,null,null,null,null,null,null,null,"Fasulye, yeşil, çiğ",9.5999999999999943,1.9,0.2,3,0.7,0.26290630975143403,0.26290630975143403,5.7,1.68,3.1,5.0999999999999997E-2,0.06,null,7.0000000000000007E-2,3.5999999999999997E-2,7.2999999999999995E-2,0.11,0.12,2.8000000000000001E-2,8.0000000000000002E-3,5.1999999999999998E-2,0.04,7.9000000000000001E-2,2.1000000000000001E-2,null,9.4E-2,0.06,3.9E-2,null,1.7000000000000001E-2,0.23699999999999999,1.6999999999999999E-3,null,null,0.56999999999999995,8.0000000000000002E-3,10,2.5,3.0000000000000001E-3,3.9,7.0000000000000001E-3,null,0.64,7,0.5,1.1000000000000001,0.9,1,null,86.7,null,3,6.9000000000000006E-2,0.111,5.0999999999999997E-2,0.06,60]
[null,null,null,null,null,null,null,null,null,null,null,null,null,null,null,null,null,null,null,null,null,null,null,null,null,null,null,null,null,null,null,null,null,null,null,null,null,null,null,null,null,null,null,null,null,null,null,null,null,null,null,null,null,null,null,null,null,null,null,null,null,null,null,null,null,null,null,null,null,null,null,null,null,null,null,null,null,null,null,null,null,null,null,null,null,null,null,null,null,null,null,null,null,null,null,null,null,null,null,null,null,null,null,null,null,null,null,null,null,null,null,null,null,null,null,null,null,null,null,null,null,null,null,null,null,null,null,null,null,null,null,null,null,null,"Fındık, kuru",95.4,13.2,60.6,9.3000000000000007,2.2000000000000002,6.57,6.57,3.3,3,0.32,4.9800000000000004,4.8000000000000001E-2,null,2.0299999999999998,0.374,0.51900000000000002,1.02,0.435,0.20100000000000001,0.245,0.66700000000000004,0.434,0.45800000000000002,0.21,null,0.68300000000000005,0.14299999999999999,0.28000000000000003,null,0.155,0.6,null,null,null,14,3.3300000000000001E-3,27.7,69.3,6.5000000000000006E-3,20,0.878,null,0.80500000000000005,5.8699999999999992,6.4,3.84,1.7000000000000002,2.14,null,13.3,null,223,3.6589999999999998,5.0289999999999999,4.9800000000000004,4.8000000000000001E-2,150]
[null,null,null,null,null,null,null,null,null,null,null,null,null,null,null,null,null,null,null,null,null,null,null,null,null,null,null,null,null,null,null,null,null,null,null,null,null,null,null,null,null,null,null,null,null,null,null,null,null,null,null,null,null,null,null,null,null,null,null,null,null,null,null,null,null,null,null,null,null,null,null,null,null,null,null,null,null,null,null,null,null,null,null,null,null,null,null,null,null,null,null,null,null,null,null,null,null,null,null,null,null,null,null,null,null,null,null,null,null,null,null,null,null,null,null,null,null,null,null,null,null,null,null,null,null,null,null,null,null,null,null,null,null,null,"Havuç, çiğ",11.6,1,0.3,2.0499999999999998,0.9,0.4,0.4,9.4499999999999993,5.4,0.7,0.161,1.6E-2,null,3.5999999999999997E-2,1.6E-2,3.4500000000000003E-2,3.9E-2,3.7499999999999999E-2,9.4999999999999998E-3,5.4999999999999997E-3,2.8000000000000001E-2,1.7000000000000001E-2,3.3000000000000002E-2,9.4999999999999998E-3,null,4.1500000000000002E-2,3.4500000000000003E-2,3.2000000000000001E-2,null,1.2E-2,0.3115,6.7500000000000004E-2,null,null,0.18,1.4999999999999999E-2,3.5,2.2999999999999998,2E-3,2.35,1.7000000000000001E-2,88,0.28000000000000003,10,2.9,0.72499999999999998,0.75,1.095,0,12937,0,6.25,3.95E-2,0.16750000000000001,0.10299999999999999,1.4500000000000001E-2,1.2]
[null,null,null,null,null,null,null,null,null,null,null,null,null,null,null,null,null,null,null,null,null,null,null,null,null,null,null,null,null,null,null,null,null,null,null,null,null,null,null,null,null,null,null,null,null,null,null,null,null,null,null,null,null,null,null,null,null,null,null,null,null,null,null,null,null,null,null,null,null,null,null,null,null,null,null,null,null,null,null,null,null,null,null,null,null,null,null,null,null,null,null,null,null,null,null,null,null,null,null,null,null,null,null,null,null,null,null,null,null,null,null,null,null,null,null,null,null,null,null,null,null,null,null,null,null,null,null,null,null,null,null,null,null,null,"Havuç unu",92,7.93,2.38,16.260000000000002,7.14,3.17,3.17,74.95,42.83,5.55,1.28,0.12689655172413794,0,0.28599999999999998,0.127,0.27400000000000002,0.309,0.29699999999999999,7.4999999999999997E-2,4.3999999999999997E-2,0.222,0.13500000000000001,0.26200000000000001,7.4999999999999997E-2,0,0.32900000000000001,0.27400000000000002,0.254,0,9.5000000000000001E-2,2.4700000000000002,0.53500000000000003,0,0,1.4279999999999999,0.11899999999999999,27.76,18.239999999999998,1.6E-2,18.64,0.13500000000000001,697.93,2.2200000000000002,79.31,23,5.75,5.95,8.68,0,102603.79,0,49.57,0.313,1.3280000000000001,0.81699999999999995,0.11500000000000003,1.5]
[null,null,null,null,null,null,null,null,null,null,null,null,null,null,null,null,null,null,null,null,null,null,null,null,null,null,null,null,null,null,null,null,null,null,null,null,null,null,null,null,null,null,null,null,null,null,null,null,null,null,null,null,null,null,null,null,null,null,null,null,null,null,null,null,null,null,null,null,null,null,null,null,null,null,null,null,null,null,null,null,null,null,null,null,null,null,null,null,null,null,null,null,null,null,null,null,null,null,null,null,null,null,null,null,null,null,null,null,null,null,null,null,null,null,null,null,null,null,null,null,null,null,null,null,null,null,null,null,null,null,null,null,null,null,"Hindiba kökleri",20,1.4,0.2,0,0.9,0.73,0.73,17.5,0,0,7.4999999999999997E-2,1.2999999999999999E-2,null,null,null,null,null,null,null,null,null,null,null,null,null,null,4.1000000000000002E-2,6.0999999999999999E-2,null,2.1999999999999999E-2,0.28999999999999998,0.05,null,null,1,null,8,2,7.0000000000000001E-3,3,8.9999999999999993E-3,null,0.23,4,3.2,0.3,0.4,2.4,0,18,0,0,0,0.1,null,null,50]
[null,null,null,null,null,null,null,null,null,null,null,null,null,null,null,null,null,null,null,null,null,null,null,null,null,null,null,null,null,null,null,null,null,null,null,null,null,null,null,null,null,null,null,null,null,null,null,null,null,null,null,null,null,null,null,null,null,null,null,null,null,null,null,null,null,null,null,null,null,null,null,null,null,null,null,null,null,null,null,null,null,null,null,null,null,null,null,null,null,null,null,null,null,null,null,null,null,null,null,null,null,null,null,null,null,null,null,null,null,null,null,null,null,null,null,null,null,null,null,null,null,null,null,null,null,null,null,null,null,null,null,null,null,null,"Hindistan cevizi, çiğ",58.8,4.4000000000000004,36.5,14,1.2,3.85,3.85,3.7,3.7,0,0.77900000000000003,0,null,0.68100000000000005,0.108,0.19900000000000001,0.34899999999999998,0.183,9.0999999999999998E-2,8.3000000000000004E-2,0.23200000000000001,0.14099999999999999,0.17399999999999999,0.108,null,0.28199999999999997,1.0800000000000001E-2,0.11700000000000001,null,4.2999999999999997E-2,0.33100000000000002,2.1000000000000001E-2,null,null,3.2,3.0000000000000001E-3,18,0.38,0.02,5,5.0000000000000001E-3,null,0.24,6,2,0.1,0.25,0.6,null,null,null,1.5,31.888000000000002,0.77900000000000003,0.77900000000000003,0,150]
[null,null,null,null,null,null,null,null,null,null,null,null,null,null,null,null,null,null,null,null,null,null,null,null,null,null,null,null,null,null,null,null,null,null,null,null,null,null,null,null,null,null,null,null,null,null,null,null,null,null,null,null,null,null,null,null,null,null,null,null,null,null,null,null,null,null,null,null,null,null,null,null,null,null,null,null,null,null,null,null,null,null,null,null,null,null,null,null,null,null,null,null,null,null,null,null,null,null,null,null,null,null,null,null,null,null,null,null,null,null,null,null,null,null,null,null,null,null,null,null,null,null,null,null,null,null,null,null,null,null,null,null,null,null,"Hurma, kuru",81.7,2,0.5,6.4,1.6,3.09,3.09,63.8,63.8,0,null,null,null,6.7000000000000004E-2,2.9000000000000001E-2,4.4999999999999998E-2,8.5999999999999993E-2,5.3999999999999999E-2,2.5999999999999999E-2,4.2000000000000003E-2,5.8000000000000003E-2,2.9000000000000001E-2,5.3999999999999999E-2,5.3999999999999999E-2,null,6.4000000000000001E-2,5.0900000000000001E-2,5.6000000000000001E-2,null,5.3999999999999999E-2,0.64300000000000002,6.0000000000000001E-3,null,null,2.6,1.8000000000000002E-2,10,4,0.02,51,null,null,0.21,12,7.8000000000000007,0.89999999999999991,0.3,1.3,null,16.7,null,0,null,null,null,null,250]
[null,null,null,null,null,null,null,null,null,null,null,null,null,null,null,null,null,null,null,null,null,null,null,null,null,null,null,null,null,null,null,null,null,null,null,null,null,null,null,null,null,null,null,null,null,null,null,null,null,null,null,null,null,null,null,null,null,null,null,null,null,null,null,null,null,null,null,null,null,null,null,null,null,null,null,null,null,null,null,null,null,null,null,null,null,null,null,null,null,null,null,null,null,null,null,null,null,null,null,null,null,null,null,null,null,null,null,null,null,null,null,null,null,null,null,null,null,null,null,null,null,null,null,null,null,null,null,null,null,null,null,null,null,null,"Ispanak, çiğ",8.42,2.86,0.35,2.7,1.72,0.22,0.22,3.5,0.4,0,0.02,0.13800000000000001,null,0.16,6.4000000000000001E-2,0.15,0.22,0.17,5.2999999999999999E-2,3.5000000000000003E-2,0.13,0.11,0.12,3.9E-2,null,0.16,9.9000000000000005E-2,4.9000000000000002E-2,null,7.9000000000000001E-2,0.55800000000000005,7.9000000000000001E-2,null,null,1.3,0.06,27.1,9,1E-3,5.3,3.2000000000000001E-2,180,1.94,7.2,0.7,1.9,0.8,2,0,28127.999999999996,0,20,0.1,0.2,2.5999999999999999E-2,0.13800000000000001,50]
[null,null,null,null,null,null,null,null,null,null,null,null,null,null,null,null,null,null,null,null,null,null,null,null,null,null,null,null,null,null,null,null,null,null,null,null,null,null,null,null,null,null,null,null,null,null,null,null,null,null,null,null,null,null,null,null,null,null,null,null,null,null,null,null,null,null,null,null,null,null,null,null,null,null,null,null,null,null,null,null,null,null,null,null,null,null,null,null,null,null,null,null,null,null,null,null,null,null,null,null,null,null,null,null,null,null,null,null,null,null,null,null,null,null,null,null,null,null,null,null,null,null,null,null,null,null,null,null,null,null,null,null,null,null,"Ispanak unu",93,31.589073634204279,3.8657957244655585,29.821852731591452,18.997624703087887,2.4299287410926365,2.4299287410926365,38.657957244655584,4.418052256532067,0,0.22090261282660334,1.5242280285035632,0,1.7672209026128267,0.70688836104513075,1.656769596199525,2.4299287410926365,1.8776722090261284,0.58539192399049889,0.38657957244655589,1.4358669833729216,1.2149643705463182,1.3254156769596201,0.43076009501187651,0,1.7672209026128267,1.0934679334916866,0.54121140142517821,0,0.87256532066508319,6.1631828978622334,0.87256532066508319,0,0,14.358669833729218,0.36,299.32304038004753,99.40617577197149,1.1045130641330168E-2,58.539192399049888,0.35344418052256538,1988.1235154394299,21.427553444180525,79.524940617577215,7.731591448931117,20.985748218527316,8.836104513064134,22.090261282660336,0,310677.43467933487,0,220.90261282660333,1.1045130641330168,2.2090261282660335,0.28717339667458436,1.5242280285035632,50]
[null,null,null,null,null,null,null,null,null,null,null,null,null,null,null,null,null,null,null,null,null,null,null,null,null,null,null,null,null,null,null,null,null,null,null,null,null,null,null,null,null,null,null,null,null,null,null,null,null,null,null,null,null,null,null,null,null,null,null,null,null,null,null,null,null,null,null,null,null,null,null,null,null,null,null,null,null,null,null,null,null,null,null,null,null,null,null,null,null,null,null,null,null,null,null,null,null,null,null,null,null,null,null,null,null,null,null,null,null,null,null,null,null,null,null,null,null,null,null,null,null,null,null,null,null,null,null,null,null,null,null,null,null,null,"İncir, kuru",69.900000000000006,3.3,0.9,9.3000000000000007,1.9,2.6099426386233269,2.6099426386233269,63.9,52.9,0.3,0.39600000000000002,0,null,7.3999999999999996E-2,4.7E-2,0.1,0.14000000000000001,0.13,2.5999999999999999E-2,5.1999999999999998E-2,7.9000000000000001E-2,0.14000000000000001,0.1,2.5999999999999999E-2,null,0.13,0.193,8.3099999999999993E-2,null,9.1999999999999998E-2,1.01,8.6999999999999994E-2,null,null,2.4,1.1000000000000001E-2,22,5.0999999999999996,0,9,0.01,null,0.09,7.5,4.3499999999999996,1.1000000000000001,0.85000000000000009,1.2,0,66.7,0,0,0.16600000000000001,0.39600000000000002,0.39600000000000002,0,150]
[null,null,null,null,null,null,null,null,null,null,null,null,null,null,null,null,null,null,null,null,null,null,null,null,null,null,null,null,null,null,null,null,null,null,null,null,null,null,null,null,null,null,null,null,null,null,null,null,null,null,null,null,null,null,null,null,null,null,null,null,null,null,null,null,null,null,null,null,null,null,null,null,null,null,null,null,null,null,null,null,null,null,null,null,null,null,null,null,null,null,null,null,null,null,null,null,null,null,null,null,null,null,null,null,null,null,null,null,null,null,null,null,null,null,null,null,null,null,null,null,null,null,null,null,null,null,null,null,null,null,null,null,null,null,"Kabak çekirdeği, kuru",93.8,36.299999999999997,45.9,9.4,4.4000000000000004,5.68,5.68,2,1.3,0.65200000000000002,19.829999999999998,9.5000000000000001E-2,null,5.28,0.81399999999999995,1.29,2.4900000000000002,1.36,0.73199999999999998,0.38600000000000001,1.81,1.19,1.04,0.60899999999999999,null,1.71,7.2999999999999995E-2,1.04,null,0.46,0.79,1.95E-2,null,null,11.5,null,73.5,38.5,0.11,49.5,0.13500000000000001,null,1.29,27.400000000000002,3.9400000000000004,1.6300000000000001,2.9299999999999997,1.03,null,null,null,19.7,7.6139999999999999,19.925999999999998,19.829999999999998,9.5000000000000001E-2,55]
[null,null,null,null,null,null,null,null,null,null,null,null,null,null,null,null,null,null,null,null,null,null,null,null,null,null,null,null,null,null,null,null,null,null,null,null,null,null,null,null,null,null,null,null,null,null,null,null,null,null,null,null,null,null,null,null,null,null,null,null,null,null,null,null,null,null,null,null,null,null,null,null,null,null,null,null,null,null,null,null,null,null,null,null,null,null,null,null,null,null,null,null,null,null,null,null,null,null,null,null,null,null,null,null,null,null,null,null,null,null,null,null,null,null,null,null,null,null,null,null,null,null,null,null,null,null,null,null,null,null,null,null,null,null,"Kabak, karışık, çiğ",6.3199999999999932,1.18,0.21,1.1000000000000001,0.57999999999999996,0.16,0.16,3.3,1.7,0,0.03,4.7E-2,null,0.05,2.5000000000000001E-2,4.2000000000000003E-2,6.9000000000000006E-2,6.5000000000000002E-2,1.7000000000000001E-2,1.2E-2,4.1000000000000002E-2,3.1E-2,2.8000000000000001E-2,1.0999999999999999E-2,null,5.2999999999999999E-2,1.4999999999999999E-2,3.7999999999999999E-2,null,1.7000000000000001E-2,0.26200000000000001,0.01,null,null,1,3.0000000000000001E-3,4.5999999999999996,2,2E-3,3,0.01,95,0.28999999999999998,5.5,2,0.4,0.6,1.1000000000000001,0,600,0,1,0,0.1,null,null,20]
[null,null,null,null,null,null,null,null,null,null,null,null,null,null,null,null,null,null,null,null,null,null,null,null,null,null,null,null,null,null,null,null,null,null,null,null,null,null,null,null,null,null,null,null,null,null,null,null,null,null,null,null,null,null,null,null,null,null,null,null,null,null,null,null,null,null,null,null,null,null,null,null,null,null,null,null,null,null,null,null,null,null,null,null,null,null,null,null,null,null,null,null,null,null,null,null,null,null,null,null,null,null,null,null,null,null,null,null,null,null,null,null,null,null,null,null,null,null,null,null,null,null,null,null,null,null,null,null,null,null,null,null,null,null,"Kabak, çiğ",5.03,1.07,0.2,1.02,0.8,0.17,0.17,1.04,null,null,3.5999999999999997E-2,6.0999999999999999E-2,null,7.0999999999999994E-2,3.5000000000000003E-2,0.06,0.10100000000000001,9.1999999999999998E-2,2.4E-2,1.7000000000000001E-2,0.06,4.3999999999999997E-2,4.1000000000000002E-2,1.6E-2,null,7.5999999999999998E-2,0,3.7999999999999999E-2,0,0,0,0,0,null,0,3.0000000000000001E-3,0,1.75,2.4299999999999999E-3,0,0.01,null,0.48,4.87,1.55,1.42,0,0,0,110.7,0,1,4.7E-2,9.7000000000000003E-2,3.5999999999999997E-2,6.0999999999999999E-2,20]
[null,null,null,null,null,null,null,null,null,null,null,null,null,null,null,null,null,null,null,null,null,null,null,null,null,null,null,null,null,null,null,null,null,null,null,null,null,null,null,null,null,null,null,null,null,null,null,null,null,null,null,null,null,null,null,null,null,null,null,null,null,null,null,null,null,null,null,null,null,null,null,null,null,null,null,null,null,null,null,null,null,null,null,null,null,null,null,null,null,null,null,null,null,null,null,null,null,null,null,null,null,null,null,null,null,null,null,null,null,null,null,null,null,null,null,null,null,null,null,null,null,null,null,null,null,null,null,null,null,null,null,null,null,null,"Kabak, balkabağı, çiğ",5.04,0.6,0.1,1.01,0.5,0.18,0.18,3.01,2.7,0.6,1.7999999999999999E-2,3.3000000000000002E-2,null,3.2000000000000001E-2,7.0000000000000001E-3,2.1000000000000001E-2,2.4E-2,1.9E-2,7.0000000000000001E-3,2E-3,0.14599999999999999,1.2E-2,1.0999999999999999E-2,8.9999999999999993E-3,null,2.1999999999999999E-2,2.001E-2,3.3000000000000002E-2,0,1.102E-2,0.24299999999999999,2E-3,0,null,0.8,1.5E-3,2.7,0.4,0,2,4.0000000000000001E-3,null,0.36,2,4,0.2,0.5,0.5,0,37.5,0,1,2.7E-2,5.0999999999999997E-2,1.7999999999999999E-2,3.3000000000000002E-2,20]
[null,null,null,null,null,null,null,null,null,null,null,null,null,null,null,null,null,null,null,null,null,null,null,null,null,null,null,null,null,null,null,null,null,null,null,null,null,null,null,null,null,null,null,null,null,null,null,null,null,null,null,null,null,null,null,null,null,null,null,null,null,null,null,null,null,null,null,null,null,null,null,null,null,null,null,null,null,null,null,null,null,null,null,null,null,null,null,null,null,null,null,null,null,null,null,null,null,null,null,null,null,null,null,null,null,null,null,null,null,null,null,null,null,null,null,null,null,null,null,null,null,null,null,null,null,null,null,null,null,null,null,null,null,null,"Kabak unu",93,17.363924050632932,3.0901898734177249,16.186708860759513,8.5348101265822862,2.3544303797468382,2.3544303797468382,48.560126582278535,25.015822784810155,0,0.44145569620253217,0.69161392405063371,0,0.73575949367088689,0.36787974683544344,0.61803797468354504,1.0153481012658239,0.95648734177215289,0.2501582278481016,0.17658227848101285,0.60332278481012735,0.45617088607594991,0.41202531645569673,0.16186708860759511,0,0.77990506329114018,0.22072784810126608,0.55917721518987407,0,0.2501582278481016,3.8553797468354483,0.14715189873417739,0,0,14.715189873417739,2.7E-2,67.689873417721586,29.430379746835477,2.9430379746835478E-2,44.145569620253212,0.09,1397.943037974685,4.2674050632911431,80.933544303797561,29.430379746835477,5.8860759493670951,8.8291139240506418,16.186708860759513,0,8829.1139240506418,0,14.715189873417739,0,1.4715189873417738,0,0,20]
[null,null,null,null,null,null,null,null,null,null,null,null,null,null,null,null,null,null,null,null,null,null,null,null,null,null,null,null,null,null,null,null,null,null,null,null,null,null,null,null,null,null,null,null,null,null,null,null,null,null,null,null,null,null,null,null,null,null,null,null,null,null,null,null,null,null,null,null,null,null,null,null,null,null,null,null,null,null,null,null,null,null,null,null,null,null,null,null,null,null,null,null,null,null,null,null,null,null,null,null,null,null,null,null,null,null,null,null,null,null,null,null,null,null,null,null,null,null,null,null,null,null,null,null,null,null,null,null,null,null,null,null,null,null,"Karabuğday unu",86.5,12,2.8,4.7,1.8,3.43,3.43,48.8,1.35,47.5,0.69299999999999995,null,null,1.25,0.309,0.43,0.80900000000000005,0.74299999999999999,0.249,0.26100000000000001,0.58299999999999996,0.33800000000000002,0.47699999999999998,0.215,null,0.60899999999999999,1.4999999999999999E-2,0.36,null,0.19,0.41,4.0000000000000002E-4,null,null,3.5999999999999996,null,22.5,10.5,2.75E-2,14,0.193,null,0.57499999999999996,23.2,13.600000000000001,1.49,4.5,2.42,0,null,null,0,0.32100000000000001,0.69299999999999995,0.69299999999999995,0,13]
[null,null,null,null,null,null,null,null,null,null,null,null,null,null,null,null,null,null,null,null,null,null,null,null,null,null,null,null,null,null,null,null,null,null,null,null,null,null,null,null,null,null,null,null,null,null,null,null,null,null,null,null,null,null,null,null,null,null,null,null,null,null,null,null,null,null,null,null,null,null,null,null,null,null,null,null,null,null,null,null,null,null,null,null,null,null,null,null,null,null,null,null,null,null,null,null,null,null,null,null,null,null,null,null,null,null,null,null,null,null,null,null,null,null,null,null,null,null,null,null,null,null,null,null,null,null,null,null,null,null,null,null,null,null,"Karabuğday, tane, çiğ",86.2,13.1,3,5.8,1.8,3.41,3.41,48,0.9,47.1,0.75800000000000001,null,null,1.24,0.30299999999999999,0.438,0.80200000000000005,0.72199999999999998,0.19400000000000001,0.28599999999999998,0.57599999999999996,0.32800000000000001,0.48,0.22,null,0.61099999999999999,1.47E-2,0.374,null,0.19500000000000001,0.41499999999999998,null,null,null,3.75,null,21,11.5,3.15E-2,15.5,0.21100000000000002,null,0.59799999999999998,29.2,12.3,1.44,4.1399999999999997,2.94,0,null,null,1.33,0.33900000000000002,0.75800000000000001,0.75800000000000001,0,40]
[null,null,null,null,null,null,null,null,null,null,null,null,null,null,null,null,null,null,null,null,null,null,null,null,null,null,null,null,null,null,null,null,null,null,null,null,null,null,null,null,null,null,null,null,null,null,null,null,null,null,null,null,null,null,null,null,null,null,null,null,null,null,null,null,null,null,null,null,null,null,null,null,null,null,null,null,null,null,null,null,null,null,null,null,null,null,null,null,null,null,null,null,null,null,null,null,null,null,null,null,null,null,null,null,null,null,null,null,null,null,null,null,null,null,null,null,null,null,null,null,null,null,null,null,null,null,null,null,null,null,null,null,null,null,"Karahindiba yaprakları, çiğ",15,3,1,1.9,1,0.56999999999999995,0.56999999999999995,8.1,null,null,null,null,null,null,null,null,null,null,null,null,null,null,null,null,null,null,0.15,null,null,null,null,7.5999999999999998E-2,null,null,null,null,31,0,0,0,0,null,0,8,0,1.4000000000000001,1.9,null,null,7500,null,null,null,null,null,null,40]
[null,null,null,null,null,null,null,null,null,null,null,null,null,null,null,null,null,null,null,null,null,null,null,null,null,null,null,null,null,null,null,null,null,null,null,null,null,null,null,null,null,null,null,null,null,null,null,null,null,null,null,null,null,null,null,null,null,null,null,null,null,null,null,null,null,null,null,null,null,null,null,null,null,null,null,null,null,null,null,null,null,null,null,null,null,null,null,null,null,null,null,null,null,null,null,null,null,null,null,null,null,null,null,null,null,null,null,null,null,null,null,null,null,null,null,null,null,null,null,null,null,null,null,null,null,null,null,null,null,null,null,null,null,null,"Karnabahar",8.1999999999999993,2,0.25,2.35,0.7,0.26,0.25,5,2.14,0.01,2.0500000000000001E-2,0.112,null,9.2999999999999999E-2,4.1000000000000002E-2,7.9500000000000001E-2,0.125,0.11,2.8500000000000001E-2,1.8499999999999999E-2,7.5999999999999998E-2,4.5999999999999999E-2,7.5999999999999998E-2,2.6499999999999999E-2,null,0.1195,2.3300000000000001E-2,4.5999999999999999E-2,null,1.4E-2,0.29449999999999998,2.35E-2,null,null,0.21,4.0000000000000001E-3,4.01,2.15,5.4999999999999997E-3,2.8050000000000002,7.4999999999999997E-3,226,1.1100000000000001,5.5,6.5,0.86499999999999999,0.79,1.7250000000000001,0,36.15,0,1.5,3.7999999999999999E-2,0.1085,1.4999999999999999E-2,9.35E-2,40]
[null,null,null,null,null,null,null,null,null,null,null,null,null,null,null,null,null,null,null,null,null,null,null,null,null,null,null,null,null,null,null,null,null,null,null,null,null,null,null,null,null,null,null,null,null,null,null,null,null,null,null,null,null,null,null,null,null,null,null,null,null,null,null,null,null,null,null,null,null,null,null,null,null,null,null,null,null,null,null,null,null,null,null,null,null,null,null,null,null,null,null,null,null,null,null,null,null,null,null,null,null,null,null,null,null,null,null,null,null,null,null,null,null,null,null,null,null,null,null,null,null,null,null,null,null,null,null,null,null,null,null,null,null,null,"Karnabahar unu",93,22.682926829268293,2.8353658536585367,26.652439024390247,7.9390243902439037,2.9487804878048784,2.8353658536585367,56.707317073170742,24.270731707317079,0.11341463414634148,0.23250000000000007,1.2702439024390249,0,1.0547560975609758,0.46500000000000014,0.90164634146341471,1.4176829268292683,1.2475609756097563,0.32323170731707324,0.20981707317073173,0.86195121951219522,0.52170731707317086,0.86195121951219522,0.30054878048780492,0,1.3553048780487804,0.26425609756097568,0.52170731707317086,0,0.15878048780487811,3.3400609756097563,0.26652439024390251,0,0,2.3817073170731708,{"$f":"(90*FO217)/15","v":2.4E-2},45.479268292682931,24.384146341463417,6.2378048780487812E-2,31.812804878048784,7.0000000000000007E-2,2563.1707317073174,12.589024390243905,62.378048780487809,73.719512195121965,9.8103658536585368,8.9597560975609767,19.564024390243905,0,409.99390243902445,0,17.012195121951219,0.43097560975609761,1.230548780487805,0.17012195121951224,1.0604268292682928,30]
[null,null,null,null,null,null,null,null,null,null,null,null,null,null,null,null,null,null,null,null,null,null,null,null,null,null,null,null,null,null,null,null,null,null,null,null,null,null,null,null,null,null,null,null,null,null,null,null,null,null,null,null,null,null,null,null,null,null,null,null,null,null,null,null,null,null,null,null,null,null,null,null,null,null,null,null,null,null,null,null,null,null,null,null,null,null,null,null,null,null,null,null,null,null,null,null,null,null,null,null,null,null,null,null,null,null,null,null,null,null,null,null,null,null,null,null,null,null,null,null,null,null,null,null,null,null,null,null,null,null,null,null,null,null,"Karpuz, çiğ",8.6999999999999993,0.8,0.1,0.5,0.3,0.33,0.33,6.5,6.5,null,1.2999999999999999E-2,1.9E-2,null,7.5999999999999998E-2,8.0000000000000002E-3,2.4E-2,2.3E-2,8.1000000000000003E-2,8.0000000000000002E-3,3.0000000000000001E-3,3.0000000000000001E-3,3.0000000000000001E-3,3.5000000000000003E-2,2E-3,null,0.02,4.3800000000000002E-3,1.9800000000000002E-2,null,8.4000000000000012E-3,0.14599999999999999,6.7000000000000002E-3,null,null,0.3,1.5E-3,3,0.37,0,1,null,null,0.03,1.7799999999999998,3,0.2,0.2,0.44999999999999996,null,16.7,null,0.5,2.5000000000000001E-2,3.2000000000000001E-2,1.2999999999999999E-2,1.9E-2,50]
[null,null,null,null,null,null,null,null,null,null,null,null,null,null,null,null,null,null,null,null,null,null,null,null,null,null,null,null,null,null,null,null,null,null,null,null,null,null,null,null,null,null,null,null,null,null,null,null,null,null,null,null,null,null,null,null,null,null,null,null,null,null,null,null,null,null,null,null,null,null,null,null,null,null,null,null,null,null,null,null,null,null,null,null,null,null,null,null,null,null,null,null,null,null,null,null,null,null,null,null,null,null,null,null,null,null,null,null,null,null,null,null,null,null,null,null,null,null,null,null,null,null,null,null,null,null,null,null,null,null,null,null,null,null,"Kavun, çiğ",8.5500000000000007,0.7,0.2,0.75,0.6,0.315,0.315,6.65,6.2850000000000001,0.03,2.5500000000000002E-2,3.9E-2,null,2.4E-2,1.2500000000000001E-2,1.7500000000000002E-2,2.4E-2,1.4E-2,7.0000000000000001E-3,1.5E-3,2.0499999999999997E-2,1.0999999999999999E-2,1.4E-2,1.5E-3,null,2.8000000000000001E-2,7.4999999999999997E-3,2.9699999999999997E-2,null,1.03E-2,0.2475,2.2150000000000003E-2,null,null,0.41000000000000003,null,3.6399999999999997,0.41000000000000003,0,1.3025,null,null,0.17949999999999999,7.34,1.05,0.19,0.32750000000000001,0.63749999999999996,null,16.899999999999999,null,0.95000000000000007,5.2500000000000005E-2,6.4500000000000002E-2,2.5500000000000002E-2,3.9E-2,50]
[null,null,null,null,null,null,null,null,null,null,null,null,null,null,null,null,null,null,null,null,null,null,null,null,null,null,null,null,null,null,null,null,null,null,null,null,null,null,null,null,null,null,null,null,null,null,null,null,null,null,null,null,null,null,null,null,null,null,null,null,null,null,null,null,null,null,null,null,null,null,null,null,null,null,null,null,null,null,null,null,null,null,null,null,null,null,null,null,null,null,null,null,null,null,null,null,null,null,null,null,null,null,null,null,null,null,null,null,null,null,null,null,null,null,null,null,null,null,null,null,null,null,null,null,null,null,null,null,null,null,null,null,null,null,"Kayısı, çiğ",11.2,1.3,0.3,1.6,0.7,0.4,0.4,7.3,null,null,5.8999999999999997E-2,null,null,4.2000000000000003E-2,2.5000000000000001E-2,3.7999999999999999E-2,7.0999999999999994E-2,0.09,6.0000000000000001E-3,3.0000000000000001E-3,4.8000000000000001E-2,2.7E-2,4.3999999999999997E-2,1.4E-2,null,4.3999999999999997E-2,1.4199999999999999E-2,2.1899999999999999E-2,null,0.01,0.25900000000000001,1E-3,null,null,0.78,null,3.9000000000000004,0.77,0,2,null,null,0.09,6,2.4,0.4,0.3,0.54,null,1310,null,0,0.02,5.8999999999999997E-2,5.8999999999999997E-2,0,50]
[null,null,null,null,null,null,null,null,null,null,null,null,null,null,null,null,null,null,null,null,null,null,null,null,null,null,null,null,null,null,null,null,null,null,null,null,null,null,null,null,null,null,null,null,null,null,null,null,null,null,null,null,null,null,null,null,null,null,null,null,null,null,null,null,null,null,null,null,null,null,null,null,null,null,null,null,null,null,null,null,null,null,null,null,null,null,null,null,null,null,null,null,null,null,null,null,null,null,null,null,null,null,null,null,null,null,null,null,null,null,null,null,null,null,null,null,null,null,null,null,null,null,null,null,null,null,null,null,null,null,null,null,null,null,"Kayısı, kuru",72.400000000000006,3.5,1.7,9.3000000000000007,2.8,2.48,2.48,43.3,43.3,null,0.38100000000000001,null,null,7.2999999999999995E-2,5.3999999999999999E-2,9.6000000000000002E-2,0.16400000000000001,0.14099999999999999,2.3E-2,2E-3,9.6000000000000002E-2,4.3999999999999997E-2,7.9000000000000001E-2,1.7999999999999999E-2,null,0.14099999999999999,6.7500000000000004E-2,6.5700000000000008E-2,null,4.1000000000000002E-2,1.03,2.1000000000000001E-2,null,null,2.7,3.4000000000000002E-2,60,2.3499999999999996,2.2000000000000002E-2,2,0.01,null,0.14000000000000001,28,7,0.6,null,1.7000000000000002,null,1990,null,40,0.13500000000000001,0.38100000000000001,0.38100000000000001,0,50]
[null,null,null,null,null,null,null,null,null,null,null,null,null,null,null,null,null,null,null,null,null,null,null,null,null,null,null,null,null,null,null,null,null,null,null,null,null,null,null,null,null,null,null,null,null,null,null,null,null,null,null,null,null,null,null,null,null,null,null,null,null,null,null,null,null,null,null,null,null,null,null,null,null,null,null,null,null,null,null,null,null,null,null,null,null,null,null,null,null,null,null,null,null,null,null,null,null,null,null,null,null,null,null,null,null,null,null,null,null,null,null,null,null,null,null,null,null,null,null,null,null,null,null,null,null,null,null,null,null,null,null,null,null,null,"Keçi boynuzu tozu",96.3,4.8,0.7,41,2.2999999999999998,2.2000000000000002,2.2000000000000002,92,52,null,null,null,null,null,null,null,null,null,null,null,null,null,null,null,null,null,3.5,0.8,null,0.55000000000000004,8,0.3,null,null,6,null,30,5,5.5E-2,9,null,123,0.29899999999999999,20,null,5,1,4,null,4.32,null,6,0.1,0.2,0.218,4.1000000000000003E-3,120]
[null,null,null,null,null,null,null,null,null,null,null,null,null,null,null,null,null,null,null,null,null,null,null,null,null,null,null,null,null,null,null,null,null,null,null,null,null,null,null,null,null,null,null,null,null,null,null,null,null,null,null,null,null,null,null,null,null,null,null,null,null,null,null,null,null,null,null,null,null,null,null,null,null,null,null,null,null,null,null,null,null,null,null,null,null,null,null,null,null,null,null,null,null,null,null,null,null,null,null,null,null,null,null,null,null,null,null,null,null,null,null,null,null,null,null,null,null,null,null,null,null,null,null,null,null,null,null,null,null,null,null,null,null,null,"Kereviz, kök, çiğ",11.299999999999997,1.8,0.3,3.9,1,0.34894837476099422,0.34894837476099422,8.1999999999999993,1.79,0.37,0.159,1.7999999999999999E-2,null,4.4999999999999998E-2,2.7E-2,5.3999999999999999E-2,7.5999999999999998E-2,7.2999999999999995E-2,1.7999999999999999E-2,4.0000000000000001E-3,4.4999999999999998E-2,2.7E-2,4.8000000000000001E-2,1.4999999999999999E-2,null,8.6999999999999994E-2,4.1500000000000002E-2,7.3999999999999996E-2,null,1.4E-2,0.442,0.02,null,null,0.8,0.01,8,1.5,2E-3,3.7,1E-3,null,0.12,10,4.29,1.4000000000000001,0.5,2,0,25,0,8,6.7000000000000004E-2,0.17699999999999999,0.159,1.7999999999999999E-2,100]
[null,null,null,null,null,null,null,null,null,null,null,null,null,null,null,null,null,null,null,null,null,null,null,null,null,null,null,null,null,null,null,null,null,null,null,null,null,null,null,null,null,null,null,null,null,null,null,null,null,null,null,null,null,null,null,null,null,null,null,null,null,null,null,null,null,null,null,null,null,null,null,null,null,null,null,null,null,null,null,null,null,null,null,null,null,null,null,null,null,null,null,null,null,null,null,null,null,null,null,null,null,null,null,null,null,null,null,null,null,null,null,null,null,null,null,null,null,null,null,null,null,null,null,null,null,null,null,null,null,null,null,null,null,null,"Keten tohumu, çiğ",95.1,25,31,12.01,2.09,4.97,4.97,24.01,3.4,0,3.87,16.03,null,2.64,0.64,1.24,1.68,1.1599999999999999,0.52,0.48,1.32,0.68,1.04,0.4,null,1.48,0.20100000000000001,0.54700000000000004,0,0.35099999999999998,0.46800000000000003,1.0999999999999999E-2,0,null,0,0.4,140.6,0,0.28000000000000003,77.5,0,null,0.97,30,0,2.4699999999999998,7.91,7.9,0,0,0,82,2.86,20.010000000000002,3.87,16.03,60]
[null,null,null,null,null,null,null,null,null,null,null,null,null,null,null,null,null,null,null,null,null,null,null,null,null,null,null,null,null,null,null,null,null,null,null,null,null,null,null,null,null,null,null,null,null,null,null,null,null,null,null,null,null,null,null,null,null,null,null,null,null,null,null,null,null,null,null,null,null,null,null,null,null,null,null,null,null,null,null,null,null,null,null,null,null,null,null,null,null,null,null,null,null,null,null,null,null,null,null,null,null,null,null,null,null,null,null,null,null,null,null,null,null,null,null,null,null,null,null,null,null,null,null,null,null,null,null,null,null,null,null,null,null,null,"Kızılcık, çiğ",12.9,0.4,0.1,4.5999999999999996,0.1,0.42,0.42,7.6,null,null,null,null,null,5.6000000000000001E-2,1.7999999999999999E-2,3.3000000000000002E-2,5.2999999999999999E-2,3.9E-2,3.0000000000000001E-3,3.0000000000000001E-3,3.5999999999999997E-2,3.2000000000000001E-2,2.8000000000000001E-2,3.0000000000000001E-3,null,4.4999999999999998E-2,8.0000000000000002E-3,1.2999999999999999E-2,null,6.0000000000000001E-3,8.5000000000000006E-2,2E-3,null,null,0.61,1.5E-3,2.5,3.5999999999999996,0,1,null,null,0.01,1.01,2.9499999999999997,0.2,0.12,0.57000000000000006,null,30,null,16,null,null,null,null,45]
[null,null,null,null,null,null,null,null,null,null,null,null,null,null,null,null,null,null,null,null,null,null,null,null,null,null,null,null,null,null,null,null,null,null,null,null,null,null,null,null,null,null,null,null,null,null,null,null,null,null,null,null,null,null,null,null,null,null,null,null,null,null,null,null,null,null,null,null,null,null,null,null,null,null,null,null,null,null,null,null,null,null,null,null,null,null,null,null,null,null,null,null,null,null,null,null,null,null,null,null,null,null,null,null,null,null,null,null,null,null,null,null,null,null,null,null,null,null,null,null,null,null,null,null,null,null,null,null,null,null,null,null,null,null,"Kimyon, tane, çiğ",91,18.8,18.45,24.25,6.75,3.81,3.81,19.450000000000003,1.4450000000000001,null,3.1124999999999998,0.16299999999999998,null,1.25,0.55000000000000004,0.82599999999999996,1.22,1.03,0.36099999999999999,0.32900000000000001,0.86699999999999999,0.64200000000000002,0.75600000000000001,0.24399999999999999,null,1.04,0.81,0.53349999999999997,null,0.312,1.57,9.2499999999999999E-2,null,null,8.8849999999999998,null,413,23.15,8.6499999999999994E-2,51.5,null,null,0.1,40.950000000000003,0,3.5300000000000002,5.0549999999999997,3.9749999999999996,null,403.5,null,29.15,null,null,null,null,50]
[null,null,null,null,null,null,null,null,null,null,null,null,null,null,null,null,null,null,null,null,null,null,null,null,null,null,null,null,null,null,null,null,null,null,null,null,null,null,null,null,null,null,null,null,null,null,null,null,null,null,null,null,null,null,null,null,null,null,null,null,null,null,null,null,null,null,null,null,null,null,null,null,null,null,null,null,null,null,null,null,null,null,null,null,null,null,null,null,null,null,null,null,null,null,null,null,null,null,null,null,null,null,null,null,null,null,null,null,null,null,null,null,null,null,null,null,null,null,null,null,null,null,null,null,null,null,null,null,null,null,null,null,null,null,"Kinoa, beyaz, çiğ",88.6,13.3,6.5,8.3000000000000007,2.2000000000000002,3.62,3.62,44.8,3.05,41.8,2.2290000000000001,0.26200000000000001,null,1.1399999999999999,0.377,0.46800000000000003,0.80300000000000005,0.76700000000000002,0.27300000000000002,0.23200000000000001,0.52400000000000002,0.40699999999999997,0.47599999999999998,0.18,null,0.59199999999999997,4.1000000000000002E-2,0.42,null,0.18,0.68,1.1999999999999999E-3,null,null,4.6999999999999993,null,36,33.5,1.1000000000000001E-2,28.5,0.33500000000000002,null,2.39,9.09,11.200000000000001,3.7199999999999998,3.53,2.09,null,null,null,22.5,0.45800000000000002,2.4910000000000001,2.2290000000000001,0.26200000000000001,200]
[null,null,null,null,null,null,null,null,null,null,null,null,null,null,null,null,null,null,null,null,null,null,null,null,null,null,null,null,null,null,null,null,null,null,null,null,null,null,null,null,null,null,null,null,null,null,null,null,null,null,null,null,null,null,null,null,null,null,null,null,null,null,null,null,null,null,null,null,null,null,null,null,null,null,null,null,null,null,null,null,null,null,null,null,null,null,null,null,null,null,null,null,null,null,null,null,null,null,null,null,null,null,null,null,null,null,null,null,null,null,null,null,null,null,null,null,null,null,null,null,null,null,null,null,null,null,null,null,null,null,null,null,null,null,"Kinoa, kırmızı, çiğ",89.2,14.6,7,12.3,2.2000000000000002,3.58,3.58,52.8,3.05,49.7,2.452,0.42399999999999999,null,1.21,0.41299999999999998,0.5,0.86,0.81299999999999994,0.311,0.245,0.55200000000000005,0.42399999999999999,0.51600000000000001,0.182,null,0.623,3.2000000000000001E-2,0.375,null,0.14499999999999999,0.68,5.9999999999999995E-4,null,null,3.8,null,33,33.5,0,23,0.29499999999999998,null,3.24,6.89,15,2.0100000000000002,1.6700000000000002,1.42,null,null,null,22.7,0.57499999999999996,2.8759999999999999,2.452,0.42399999999999999,200]
[null,null,null,null,null,null,null,null,null,null,null,null,null,null,null,null,null,null,null,null,null,null,null,null,null,null,null,null,null,null,null,null,null,null,null,null,null,null,null,null,null,null,null,null,null,null,null,null,null,null,null,null,null,null,null,null,null,null,null,null,null,null,null,null,null,null,null,null,null,null,null,null,null,null,null,null,null,null,null,null,null,null,null,null,null,null,null,null,null,null,null,null,null,null,null,null,null,null,null,null,null,null,null,null,null,null,null,null,null,null,null,null,null,null,null,null,null,null,null,null,null,null,null,null,null,null,null,null,null,null,null,null,null,null,"Kinoa, siyah, çiğ",88.2,13.7,6.5,13.9,2.5,3.47,3.47,42.3,3.2,39.1,2.48,0.23,null,1.0900000000000001,0.38100000000000001,0.48099999999999998,0.82699999999999996,0.76400000000000001,0.30499999999999999,0.216,0.53200000000000003,0.40400000000000003,0.48199999999999998,0.16700000000000001,null,0.61699999999999999,4.65E-2,0.41499999999999998,null,0.17499999999999999,0.87,1.1999999999999999E-3,null,null,5.15,null,37.5,42,4.5999999999999999E-2,28,0.245,null,1.96,7.3,10.1,2.86,0.63500000000000001,1.35,null,null,null,23.3,0.51,2.7109999999999999,2.48,0.23,200]
[null,null,null,null,null,null,null,null,null,null,null,null,null,null,null,null,null,null,null,null,null,null,null,null,null,null,null,null,null,null,null,null,null,null,null,null,null,null,null,null,null,null,null,null,null,null,null,null,null,null,null,null,null,null,null,null,null,null,null,null,null,null,null,null,null,null,null,null,null,null,null,null,null,null,null,null,null,null,null,null,null,null,null,null,null,null,null,null,null,null,null,null,null,null,null,null,null,null,null,null,null,null,null,null,null,null,null,null,null,null,null,null,null,null,null,null,null,null,null,null,null,null,null,null,null,null,null,null,null,null,null,null,null,null,"Kiraz, çiğ",14.7,1.4,0.3,1.3,0.6,0.55000000000000004,0.55000000000000004,11.7,11.7,null,5.1999999999999998E-2,0.05,null,0.02,1.6E-2,2.4E-2,3.5000000000000003E-2,4.5999999999999999E-2,5.0000000000000001E-3,4.0000000000000001E-3,2.4E-2,1.4999999999999999E-2,2.5999999999999999E-2,7.0000000000000001E-3,null,3.3000000000000002E-2,2.0799999999999999E-2,2.7899999999999998E-2,null,8.0000000000000002E-3,0.17599999999999999,2E-3,null,null,0.70000000000000007,2E-3,3,0.8,1E-3,1,4.0000000000000001E-3,null,0.08,2,2.6,0.3,0.25,0.44999999999999996,null,57.5,null,2,7.3999999999999996E-2,0.10199999999999999,5.1999999999999998E-2,0.05,100]
[null,null,null,null,null,null,null,null,null,null,null,null,null,null,null,null,null,null,null,null,null,null,null,null,null,null,null,null,null,null,null,null,null,null,null,null,null,null,null,null,null,null,null,null,null,null,null,null,null,null,null,null,null,null,null,null,null,null,null,null,null,null,null,null,null,null,null,null,null,null,null,null,null,null,null,null,null,null,null,null,null,null,null,null,null,null,null,null,null,null,null,null,null,null,null,null,null,null,null,null,null,null,null,null,null,null,null,null,null,null,null,null,null,null,null,null,null,null,null,null,null,null,null,null,null,null,null,null,null,null,null,null,null,null,"Kiwi, çiğ",16.5,1,0.8,2.4,0.7,0.62,0.62,11.7,8.6999999999999993,null,null,null,null,6.9000000000000006E-2,2.3E-2,4.2999999999999997E-2,5.5E-2,5.1999999999999998E-2,0.02,2.5999999999999999E-2,3.6999999999999998E-2,2.9000000000000001E-2,0.04,1.2999999999999999E-2,null,4.8000000000000001E-2,3.1699999999999999E-2,3.2799999999999996E-2,null,1.32E-2,0.27,2.7499999999999998E-3,null,null,null,1.3999999999999999E-2,2.7,0,3.0000000000000001E-3,2.9499999999999997,0,null,0.42,3.41,0,0.25,0.06,1.21,null,31.099999999999998,null,3.1,null,null,null,null,89]
[null,null,null,null,null,null,null,null,null,null,null,null,null,null,null,null,null,null,null,null,null,null,null,null,null,null,null,null,null,null,null,null,null,null,null,null,null,null,null,null,null,null,null,null,null,null,null,null,null,null,null,null,null,null,null,null,null,null,null,null,null,null,null,null,null,null,null,null,null,null,null,null,null,null,null,null,null,null,null,null,null,null,null,null,null,null,null,null,null,null,null,null,null,null,null,null,null,null,null,null,null,null,null,null,null,null,null,null,null,null,null,null,null,null,null,null,null,null,null,null,null,null,null,null,null,null,null,null,null,null,null,null,null,null,"Kuşburnu, çiğ",23.1,0.6,0.5,6.1,0.9,0.79,0.79,15,14,null,null,null,null,null,null,null,null,null,null,null,null,null,null,2E-3,null,null,0.184,3.5000000000000003E-2,null,2.8000000000000001E-2,0.41,2.4E-2,null,null,1.7999999999999998,0.01,2,12,2E-3,9.2000000000000011,0,null,0,5,0,0.70000000000000007,0.6,0.5,null,9500,null,null,null,null,null,null,50]
[null,null,null,null,null,null,null,null,null,null,null,null,null,null,null,null,null,null,null,null,null,null,null,null,null,null,null,null,null,null,null,null,null,null,null,null,null,null,null,null,null,null,null,null,null,null,null,null,null,null,null,null,null,null,null,null,null,null,null,null,null,null,null,null,null,null,null,null,null,null,null,null,null,null,null,null,null,null,null,null,null,null,null,null,null,null,null,null,null,null,null,null,null,null,null,null,null,null,null,null,null,null,null,null,null,null,null,null,null,null,null,null,null,null,null,null,null,null,null,null,null,null,null,null,null,null,null,null,null,null,null,null,null,null,"Kuşburnu tozu",94.2,4.5,1.5,43,5.2,2.78,2.78,40,28,null,null,null,null,null,null,null,null,null,null,null,null,null,null,1.4999999999999999E-2,null,null,0.66300000000000003,0.104,null,0.24,1.6,2.4E-2,null,null,2.6,9.0000000000000011E-3,42,55,5.0000000000000001E-3,5.8,0,null,2.1,5,0,3,0.6,0.5,null,9500,null,null,null,null,null,null,50]
[null,null,null,null,null,null,null,null,null,null,null,null,null,null,null,null,null,null,null,null,null,null,null,null,null,null,null,null,null,null,null,null,null,null,null,null,null,null,null,null,null,null,null,null,null,null,null,null,null,null,null,null,null,null,null,null,null,null,null,null,null,null,null,null,null,null,null,null,null,null,null,null,null,null,null,null,null,null,null,null,null,null,null,null,null,null,null,null,null,null,null,null,null,null,null,null,null,null,null,null,null,null,null,null,null,null,null,null,null,null,null,null,null,null,null,null,null,null,null,null,null,null,null,null,null,null,null,null,null,null,null,null,null,null,"Kuşkonmaz, yeşil, çiğ",7.5,1.8,0.3,1.8,0.5,0.26,0.26,3.1,null,null,0.151,1.2999999999999999E-2,null,6.9000000000000006E-2,3.2000000000000001E-2,5.1999999999999998E-2,8.4000000000000005E-2,7.4999999999999997E-2,2.1000000000000001E-2,6.0000000000000001E-3,4.9000000000000002E-2,0.04,4.5999999999999999E-2,1.4E-2,null,8.4000000000000005E-2,2.2800000000000001E-2,8.5500000000000007E-2,null,1.2199999999999999E-2,0.26700000000000002,3.7000000000000002E-3,null,null,null,null,0,0,0,0,0,null,1.5,0,0,0,0,1.48,null,null,null,null,6.9000000000000006E-2,0.16400000000000001,0.151,1.2999999999999999E-2,75]
[null,null,null,null,null,null,null,null,null,null,null,null,null,null,null,null,null,null,null,null,null,null,null,null,null,null,null,null,null,null,null,null,null,null,null,null,null,null,null,null,null,null,null,null,null,null,null,null,null,null,null,null,null,null,null,null,null,null,null,null,null,null,null,null,null,null,null,null,null,null,null,null,null,null,null,null,null,null,null,null,null,null,null,null,null,null,null,null,null,null,null,null,null,null,null,null,null,null,null,null,null,null,null,null,null,null,null,null,null,null,null,null,null,null,null,null,null,null,null,null,null,null,null,null,null,null,null,null,null,null,null,null,null,null,"Lahana, kırmızı, çiğ",8.9000000000000057,1.5,0.2,2,0.7,0.29875717017208414,0.29875717017208414,6.5,3.15,7.0000000000000007E-2,7.4999999999999997E-2,3.5000000000000003E-2,null,6.3E-2,2.4E-2,4.1000000000000002E-2,4.5999999999999999E-2,4.5999999999999999E-2,1.0999999999999999E-2,1E-3,2.7E-2,1.7000000000000001E-2,1.9E-2,1.0999999999999999E-2,null,6.8000000000000005E-2,4.4499999999999998E-2,3.4099999999999998E-2,null,1.4E-2,0.29199999999999998,0.01,null,null,0.31,1E-3,4.5,2,0.01,1.9,1E-3,null,0.46,6,3.24,0.5,0.65,1.5,0,20.8,0,0.70000000000000007,3.9E-2,0.11,7.4999999999999997E-2,3.5000000000000003E-2,50]
[null,null,null,null,null,null,null,null,null,null,null,null,null,null,null,null,null,null,null,null,null,null,null,null,null,null,null,null,null,null,null,null,null,null,null,null,null,null,null,null,null,null,null,null,null,null,null,null,null,null,null,null,null,null,null,null,null,null,null,null,null,null,null,null,null,null,null,null,null,null,null,null,null,null,null,null,null,null,null,null,null,null,null,null,null,null,null,null,null,null,null,null,null,null,null,null,null,null,null,null,null,null,null,null,null,null,null,null,null,null,null,null,null,null,null,null,null,null,null,null,null,null,null,null,null,null,null,null,null,null,null,null,null,null,"Lahana, beyaz, çiğ",9.5,1.2,0.2,2.2999999999999998,0.6,0.30114722753346079,0.30114722753346079,7,3.72,0.03,3.1E-2,8.4000000000000005E-2,null,6.7000000000000004E-2,2.1999999999999999E-2,2.7E-2,3.5000000000000003E-2,3.5000000000000003E-2,8.9999999999999993E-3,5.0000000000000001E-3,2.1999999999999999E-2,1.2E-2,2.4E-2,8.9999999999999993E-3,null,4.4999999999999998E-2,5.0900000000000001E-2,3.0100000000000002E-2,null,1.09E-2,0.24,6.0000000000000001E-3,null,null,0.19,4.0000000000000001E-3,3.05,2.4,7.6699999999999997E-3,1.45,1.2E-2,null,0.77,4,2.1,0.36,0.49,1.56,0,29.2,0,0.2,4.1000000000000002E-2,0.115,3.1E-2,8.4000000000000005E-2,50]
[null,null,null,null,null,null,null,null,null,null,null,null,null,null,null,null,null,null,null,null,null,null,null,null,null,null,null,null,null,null,null,null,null,null,null,null,null,null,null,null,null,null,null,null,null,null,null,null,null,null,null,null,null,null,null,null,null,null,null,null,null,null,null,null,null,null,null,null,null,null,null,null,null,null,null,null,null,null,null,null,null,null,null,null,null,null,null,null,null,null,null,null,null,null,null,null,null,null,null,null,null,null,null,null,null,null,null,null,null,null,null,null,null,null,null,null,null,null,null,null,null,null,null,null,null,null,null,null,null,null,null,null,null,null,"Makarna, kuru",92.7,14.6,1.9,3.2,0.9,3.71,3.71,75,2.7,62.4,0.52900000000000003,2.7E-2,null,0.64,0.32,0.51,0.93,0.38,0.21,0.32,0.65,0.4,0.4,0.21,null,0.62,0.04,0.189,null,5.2999999999999999E-2,0.215,8.0000000000000002E-3,null,null,3,6.0000000000000001E-3,13,9,0.63200000000000001,14,0.01,312,0.56999999999999995,17,4,1,1,1,0,null,null,1,0.3,0.6,0.52900000000000003,2.7E-2,12]
[null,null,null,null,null,null,null,null,null,null,null,null,null,null,null,null,null,null,null,null,null,null,null,null,null,null,null,null,null,null,null,null,null,null,null,null,null,null,null,null,null,null,null,null,null,null,null,null,null,null,null,null,null,null,null,null,null,null,null,null,null,null,null,null,null,null,null,null,null,null,null,null,null,null,null,null,null,null,null,null,null,null,null,null,null,null,null,null,null,null,null,null,null,null,null,null,null,null,null,null,null,null,null,null,null,null,null,null,null,null,null,null,null,null,null,null,null,null,null,null,null,null,null,null,null,null,null,null,null,null,null,null,null,null,"Makarna, spagetti, çiğ",90.7,13.1,2.9,9.6,1.6,3.52,3.52,62.2,null,null,1.204,8.6999999999999994E-2,null,0.52900000000000003,0.32200000000000001,0.59699999999999998,1.01,0.29899999999999999,0.214,0.2,0.73499999999999999,0.253,0.36799999999999999,0.14199999999999999,null,0.66600000000000004,3.4000000000000002E-2,0.37,null,null,0.49,5.0000000000000001E-3,null,null,1.34,1.4199999999999999E-2,40,6.8500000000000005,4.2199999999999994E-2,8.68,0,null,0.53,10,0,1.1000000000000001,6.7,0.42999999999999994,null,null,null,2,0.40500000000000003,1.2909999999999999,1.204,8.6999999999999994E-2,15]
[null,null,null,null,null,null,null,null,null,null,null,null,null,null,null,null,null,null,null,null,null,null,null,null,null,null,null,null,null,null,null,null,null,null,null,null,null,null,null,null,null,null,null,null,null,null,null,null,null,null,null,null,null,null,null,null,null,null,null,null,null,null,null,null,null,null,null,null,null,null,null,null,null,null,null,null,null,null,null,null,null,null,null,null,null,null,null,null,null,null,null,null,null,null,null,null,null,null,null,null,null,null,null,null,null,null,null,null,null,null,null,null,null,null,null,null,null,null,null,null,null,null,null,null,null,null,null,null,null,null,null,null,null,null,"Mandalina, çiğ",12.9,0.8,0,1.4,0.3,0.47,0.47,8.3000000000000007,8.31,0,0,0,null,5.6000000000000001E-2,1.4999999999999999E-2,2.1999999999999999E-2,0.02,4.1000000000000002E-2,1.7000000000000001E-2,8.9999999999999993E-3,2.7E-2,1.4E-2,1.2999999999999999E-2,8.0000000000000002E-3,null,3.4000000000000002E-2,2.64E-2,1.89E-2,null,0.01,0.154,1.31E-3,null,null,0.41200000000000003,5.22E-4,0.79,0.496,4.8700000000000002E-4,0.45699999999999996,5.3200000000000001E-3,null,0.21,3.11,1.5,0.17299999999999999,1.59,0.85599999999999998,null,79.2,null,5.85,0,0,0,0,18]
[null,null,null,null,null,null,null,null,null,null,null,null,null,null,null,null,null,null,null,null,null,null,null,null,null,null,null,null,null,null,null,null,null,null,null,null,null,null,null,null,null,null,null,null,null,null,null,null,null,null,null,null,null,null,null,null,null,null,null,null,null,null,null,null,null,null,null,null,null,null,null,null,null,null,null,null,null,null,null,null,null,null,null,null,null,null,null,null,null,null,null,null,null,null,null,null,null,null,null,null,null,null,null,null,null,null,null,null,null,null,null,null,null,null,null,null,null,null,null,null,null,null,null,null,null,null,null,null,null,null,null,null,null,null,"Mango, çiğ",17.399999999999999,0.5,0.5,1.9,0.3,0.67,0.67,14.2,10.199999999999999,null,2.5000000000000001E-2,6.5000000000000002E-2,null,1.7999999999999999E-2,1.0999999999999999E-2,1.7000000000000001E-2,2.9000000000000001E-2,3.7999999999999999E-2,5.0000000000000001E-3,null,1.6E-2,8.9999999999999993E-3,1.7999999999999999E-2,7.0000000000000001E-3,null,2.4E-2,1.3900000000000001E-2,1.55E-2,null,8.7500000000000008E-3,0.105,2.0800000000000003E-3,null,null,1.1000000000000001,3.2000000000000002E-3,2.4,0.27,6.0000000000000001E-3,0.78799999999999992,0,null,0.71099999999999997,5.84,1.6,0.57000000000000006,0.58000000000000007,1.34,null,461,null,11,0.114,0.09,2.5000000000000001E-2,6.5000000000000002E-2,100]
[null,null,null,null,null,null,null,null,null,null,null,null,null,null,null,null,null,null,null,null,null,null,null,null,null,null,null,null,null,null,null,null,null,null,null,null,null,null,null,null,null,null,null,null,null,null,null,null,null,null,null,null,null,null,null,null,null,null,null,null,null,null,null,null,null,null,null,null,null,null,null,null,null,null,null,null,null,null,null,null,null,null,null,null,null,null,null,null,null,null,null,null,null,null,null,null,null,null,null,null,null,null,null,null,null,null,null,null,null,null,null,null,null,null,null,null,null,null,null,null,null,null,null,null,null,null,null,null,null,null,null,null,null,null,"Marul, çiğ",5.5,1.2999999999999998,0.05,1.4500000000000002,0.6,0.16499999999999998,0.16499999999999998,1.6,1.68,null,1.15E-2,2.8000000000000001E-2,null,7.0500000000000007E-2,2.3E-2,8.3999999999999991E-2,7.9000000000000001E-2,8.3999999999999991E-2,1.6E-2,1.6E-2,5.5E-2,3.2500000000000001E-2,5.8999999999999997E-2,8.9999999999999993E-3,null,7.0500000000000007E-2,3.0099999999999998E-2,2.9499999999999998E-2,null,1.175E-2,0.23100000000000001,1.915E-2,null,null,0.29200000000000004,7.1699999999999993E-3,6.52,2.0649999999999999,9.8499999999999998E-4,2.0649999999999999,1.345E-2,null,0.68,3.7349999999999999,1.25,0.70150000000000001,0.67700000000000005,0.89449999999999996,null,1125,null,1.2,9.4999999999999998E-3,0.04,1.15E-2,2.8000000000000001E-2,25]
[null,null,null,null,null,null,null,null,null,null,null,null,null,null,null,null,null,null,null,null,null,null,null,null,null,null,null,null,null,null,null,null,null,null,null,null,null,null,null,null,null,null,null,null,null,null,null,null,null,null,null,null,null,null,null,null,null,null,null,null,null,null,null,null,null,null,null,null,null,null,null,null,null,null,null,null,null,null,null,null,null,null,null,null,null,null,null,null,null,null,null,null,null,null,null,null,null,null,null,null,null,null,null,null,null,null,null,null,null,null,null,null,null,null,null,null,null,null,null,null,null,null,null,null,null,null,null,null,null,null,null,null,null,null,"Marul, iceberg, çiğ",4.7,0.8,0.1,1.1000000000000001,0.4,0.16,0.16,2.4,2.15,null,1.4999999999999999E-2,3.7999999999999999E-2,null,0.05,1.4999999999999999E-2,0.06,5.6000000000000001E-2,0.06,1.0999999999999999E-2,1.0999999999999999E-2,0.04,2.3E-2,4.2000000000000003E-2,6.0000000000000001E-3,null,0.05,1.55E-2,2.1899999999999999E-2,null,7.3400000000000002E-3,0.186,2.8300000000000001E-3,null,null,0.12,null,2.66,0.81,null,1.61,1.3999999999999999E-2,null,0.89,2.3000000000000003,0.68,0.26800000000000002,0.43999999999999995,0.39600000000000002,null,125,null,1.5,1.2999999999999999E-2,5.2999999999999999E-2,1.4999999999999999E-2,3.7999999999999999E-2,25]
[null,null,null,null,null,null,null,null,null,null,null,null,null,null,null,null,null,null,null,null,null,null,null,null,null,null,null,null,null,null,null,null,null,null,null,null,null,null,null,null,null,null,null,null,null,null,null,null,null,null,null,null,null,null,null,null,null,null,null,null,null,null,null,null,null,null,null,null,null,null,null,null,null,null,null,null,null,null,null,null,null,null,null,null,null,null,null,null,null,null,null,null,null,null,null,null,null,null,null,null,null,null,null,null,null,null,null,null,null,null,null,null,null,null,null,null,null,null,null,null,null,null,null,null,null,null,null,null,null,null,null,null,null,null,"Maya, kuru",95,32.5,1.5,19.7,8.3000000000000007,3.15,3.15,29.9,null,null,null,null,null,1.88,0.74,1.82,2.4500000000000002,2.73,0.501,0.125,1.37,1.2,1.82,0.44400000000000001,null,2.2799999999999998,4.3999999999999997E-2,1.29,null,0.23,2,5.1999999999999998E-2,null,null,50,0.1,161,null,null,80,2,null,40,360,110,40,23.3,20,null,null,null,null,null,null,null,null,17]
[null,null,null,null,null,null,null,null,null,null,null,null,null,null,null,null,null,null,null,null,null,null,null,null,null,null,null,null,null,null,null,null,null,null,null,null,null,null,null,null,null,null,null,null,null,null,null,null,null,null,null,null,null,null,null,null,null,null,null,null,null,null,null,null,null,null,null,null,null,null,null,null,null,null,null,null,null,null,null,null,null,null,null,null,null,null,null,null,null,null,null,null,null,null,null,null,null,null,null,null,null,null,null,null,null,null,null,null,null,null,null,null,null,null,null,null,null,null,null,null,null,null,null,null,null,null,null,null,null,null,null,null,null,null,"Maydanoz, çiğ",14.8,3.7,1.1000000000000001,4.0999999999999996,2.1,0.48,0.48,1.2,0.8,0.43,0.27400000000000002,0.45700000000000002,null,0.154,7.6999999999999999E-2,0.14899999999999999,0.255,0.22600000000000001,5.1999999999999998E-2,1.7999999999999999E-2,0.17799999999999999,0.10100000000000001,0.154,5.6000000000000001E-2,null,0.214,0.185,7.1999999999999995E-2,null,2.9000000000000001E-2,0.64100000000000001,6.4000000000000001E-2,null,null,0.89999999999999991,0.13500000000000001,36,27,1E-3,4.6000000000000005,4.0000000000000001E-3,null,1.1599999999999999,17,3,3,1.2,2,null,4740,null,27,0.16200000000000001,0.73099999999999998,0.27400000000000002,0.45700000000000002,15]
[null,null,null,null,null,null,null,null,null,null,null,null,null,null,null,null,null,null,null,null,null,null,null,null,null,null,null,null,null,null,null,null,null,null,null,null,null,null,null,null,null,null,null,null,null,null,null,null,null,null,null,null,null,null,null,null,null,null,null,null,null,null,null,null,null,null,null,null,null,null,null,null,null,null,null,null,null,null,null,null,null,null,null,null,null,null,null,null,null,null,null,null,null,null,null,null,null,null,null,null,null,null,null,null,null,null,null,null,null,null,null,null,null,null,null,null,null,null,null,null,null,null,null,null,null,null,null,null,null,null,null,null,null,null,"Melas, şeker pancarı",78,6.7,0.1,0,9,2.9,2.9,74.7,55.5,null,0.05,0,null,3.25,1.05,2.94,2.38,null,0.15,0.55000000000000004,1.79,null,1.04,0.3,null,2.2200000000000002,0.12,0.02,null,0.23,1.46,1.1499999999999999,1.3,0.47,5,1.1000000000000001,71,15,0.17799999999999999,3,null,133,null,48,4.5999999999999996,2.4,null,7,null,null,null,null,0,0.1,0.05,0,4]
[null,null,null,null,null,null,null,null,null,null,null,null,null,null,null,null,null,null,null,null,null,null,null,null,null,null,null,null,null,null,null,null,null,null,null,null,null,null,null,null,null,null,null,null,null,null,null,null,null,null,null,null,null,null,null,null,null,null,null,null,null,null,null,null,null,null,null,null,null,null,null,null,null,null,null,null,null,null,null,null,null,null,null,null,null,null,null,null,null,null,null,null,null,null,null,null,null,null,null,null,null,null,null,null,null,null,null,null,null,null,null,null,null,null,null,null,null,null,null,null,null,null,null,null,null,null,null,null,null,null,null,null,null,null,"Mercimek, kahverengi, çiğ",89.8,25.01,2,11.02,2.06,3.4,3.4,48.9,null,null,null,null,null,0,0,0,0,0,0,0,0,0,0,0,null,0,0,0,0,0.373,7.0099999999999996E-2,0,0,null,0,0,0,0,0,0,0,null,0,0,0,0,0,0,0,0,0,0,null,null,null,null,20]
[null,null,null,null,null,null,null,null,null,null,null,null,null,null,null,null,null,null,null,null,null,null,null,null,null,null,null,null,null,null,null,null,null,null,null,null,null,null,null,null,null,null,null,null,null,null,null,null,null,null,null,null,null,null,null,null,null,null,null,null,null,null,null,null,null,null,null,null,null,null,null,null,null,null,null,null,null,null,null,null,null,null,null,null,null,null,null,null,null,null,null,null,null,null,null,null,null,null,null,null,null,null,null,null,null,null,null,null,null,null,null,null,null,null,null,null,null,null,null,null,null,null,null,null,null,null,null,null,null,null,null,null,null,null,"Mercimek, kırmızı, çiğ",90.9,27.03,2.09,6.02,2.0099999999999998,3.61,3.61,52.4,null,null,null,null,null,0,0,0,0,0,0,0,0,0,0,0,null,0,4.1299999999999996E-2,0.36799999999999999,0,0,0,0,0,null,0,0,0,0,0,0,0,null,0,0,0,0,0,0,0,0,0,0,null,null,null,null,20]
[null,null,null,null,null,null,null,null,null,null,null,null,null,null,null,null,null,null,null,null,null,null,null,null,null,null,null,null,null,null,null,null,null,null,null,null,null,null,null,null,null,null,null,null,null,null,null,null,null,null,null,null,null,null,null,null,null,null,null,null,null,null,null,null,null,null,null,null,null,null,null,null,null,null,null,null,null,null,null,null,null,null,null,null,null,null,null,null,null,null,null,null,null,null,null,null,null,null,null,null,null,null,null,null,null,null,null,null,null,null,null,null,null,null,null,null,null,null,null,null,null,null,null,null,null,null,null,null,null,null,null,null,null,null,"Mısır",89.3,9.1,4.4000000000000004,2.1,1.2,3.65,3.65,74.260000000000005,1.6,64,1.78,0.03,null,0.47,0.28000000000000003,0.33,1.1499999999999999,0.26,0.2,0.17,0.46,0.37,0.35,7.0000000000000007E-2,null,0.47,0.01,0.23,0.09,0.11,0.3,3.5000000000000003E-2,0.04,0.08,3.11,1.7000000000000001E-2,29,6,0.13,21,7.0000000000000007E-2,860,0.24,27,4,1.4,3.3,6.5,0,642,0,5,0.7,2.2000000000000002,2.097,6.5000000000000002E-2,8.5]
[null,null,null,null,null,null,null,null,null,null,null,null,null,null,null,null,null,null,null,null,null,null,null,null,null,null,null,null,null,null,null,null,null,null,null,null,null,null,null,null,null,null,null,null,null,null,null,null,null,null,null,null,null,null,null,null,null,null,null,null,null,null,null,null,null,null,null,null,null,null,null,null,null,null,null,null,null,null,null,null,null,null,null,null,null,null,null,null,null,null,null,null,null,null,null,null,null,null,null,null,null,null,null,null,null,null,null,null,null,null,null,null,null,null,null,null,null,null,null,null,null,null,null,null,null,null,null,null,null,null,null,null,null,null,"Mısır DDGS",90.2,26.8,9,8.5,4.7,3.92,3.88,null,0.5,11.5,2.16,0.04,null,1.08,0.55000000000000004,0.99,2.58,0.6,0.5,0.49,1.3,null,0.92,0.23,null,1.26,0.2,0.75,0.4,0.3,0.99,0.27,0.23,0.4,7.28,0.03,161,24,0.35,59,0.3,3400,0.88,80,11.4,9,3.5,8,1.2999999999999999E-2,1860,4,40,null,null,null,null,11]
[null,null,null,null,null,null,null,null,null,null,null,null,null,null,null,null,null,null,null,null,null,null,null,null,null,null,null,null,null,null,null,null,null,null,null,null,null,null,null,null,null,null,null,null,null,null,null,null,null,null,null,null,null,null,null,null,null,null,null,null,null,null,null,null,null,null,null,null,null,null,null,null,null,null,null,null,null,null,null,null,null,null,null,null,null,null,null,null,null,null,null,null,null,null,null,null,null,null,null,null,null,null,null,null,null,null,null,null,null,null,null,null,null,null,null,null,null,null,null,null,null,null,null,null,null,null,null,null,null,null,null,null,null,null,"Mısır gluten unu",86.5,56,2.2000000000000002,1.3,2.9,3.94,3.93,39.49,0.52,17.91,1.2201200000000001,4.6640000000000008E-2,null,1.8,1.2,2.31,9.43,0.95,1.33,1.01,3.57,3.07,1.9,0.3,null,2.61,0.05,0.52,null,0.12,0.4,0.04,7.0000000000000007E-2,0.73,3.84,null,124,13,0.35,42,0.15,330,0.2,55,3,2.2000000000000002,0.3,6.2,null,2940,8,24,null,null,null,null,20]
[null,null,null,null,null,null,null,null,null,null,null,null,null,null,null,null,null,null,null,null,null,null,null,null,null,null,null,null,null,null,null,null,null,null,null,null,null,null,null,null,null,null,null,null,null,null,null,null,null,null,null,null,null,null,null,null,null,null,null,null,null,null,null,null,null,null,null,null,null,null,null,null,null,null,null,null,null,null,null,null,null,null,null,null,null,null,null,null,null,null,null,null,null,null,null,null,null,null,null,null,null,null,null,null,null,null,null,null,null,null,null,null,null,null,null,null,null,null,null,null,null,null,null,null,null,null,null,null,null,null,null,null,null,null,"Mısır grizi",90,8.8000000000000007,1.2,1.6,0.4,3.64,3.64,79.599999999999994,null,null,null,null,null,0.44,0.27,0.31,1.08,0.25,0.18,0.16,0.43,0.36,0.33,0.06,null,0.44,0,7.0000000000000007E-2,null,0.03,0.14000000000000001,0,null,null,0.75,null,10,1,0.17,4,null,null,0.05,12,4.9000000000000004,0.4,1.3,1.5,0,1320,null,2.6,null,null,null,null,9]
[null,null,null,null,null,null,null,null,null,null,null,null,null,null,null,null,null,null,null,null,null,null,null,null,null,null,null,null,null,null,null,null,null,null,null,null,null,null,null,null,null,null,null,null,null,null,null,null,null,null,null,null,null,null,null,null,null,null,null,null,null,null,null,null,null,null,null,null,null,null,null,null,null,null,null,null,null,null,null,null,null,null,null,null,null,null,null,null,null,null,null,null,null,null,null,null,null,null,null,null,null,null,null,null,null,null,null,null,null,null,null,null,null,null,null,null,null,null,null,null,null,null,null,null,null,null,null,null,null,null,null,null,null,null,"Mısır nişastası",91.7,0.3,0.1,0.9,0.1,3.81,3.81,91.27,null,100,2.5000000000000001E-2,null,null,0.01,0.01,0.01,0.04,0.01,0.01,0.01,0.01,0.01,0.01,0,null,0.01,2E-3,0.01,null,3.0000000000000001E-3,7.0000000000000001E-3,8.9999999999999993E-3,null,null,0.5,null,5,1,0.03,1,null,4,0,null,0,0,0,0,0,null,null,0,null,null,2.5000000000000001E-2,null,5]
[null,null,null,null,null,null,null,null,null,null,null,null,null,null,null,null,null,null,null,null,null,null,null,null,null,null,null,null,null,null,null,null,null,null,null,null,null,null,null,null,null,null,null,null,null,null,null,null,null,null,null,null,null,null,null,null,null,null,null,null,null,null,null,null,null,null,null,null,null,null,null,null,null,null,null,null,null,null,null,null,null,null,null,null,null,null,null,null,null,null,null,null,null,null,null,null,null,null,null,null,null,null,null,null,null,null,null,null,null,null,null,null,null,null,null,null,null,null,null,null,null,null,null,null,null,null,null,null,null,null,null,null,null,null,"Mısır unu",89.7,8.1,3.6,7.3,1.1000000000000001,3.62,3.62,76.89,0.89700000000000002,75,1.589,4.9000000000000002E-2,null,0.41,0.25,0.28999999999999998,1,0.23,0.17,0.15,0.4,0.33,0.31,0.06,null,0.41,0.01,0.24,null,0.13,0.28999999999999998,0.04,null,null,1.93,0.1,35,5,0.16,18,7.0000000000000007E-2,216,0.25,36,4.3,2,3.9,3,0,642,null,6.7,0.5,1.6,1.589,4.9000000000000002E-2,9.5]
[null,null,null,null,null,null,null,null,null,null,null,null,null,null,null,null,null,null,null,null,null,null,null,null,null,null,null,null,null,null,null,null,null,null,null,null,null,null,null,null,null,null,null,null,null,null,null,null,null,null,null,null,null,null,null,null,null,null,null,null,null,null,null,null,null,null,null,null,null,null,null,null,null,null,null,null,null,null,null,null,null,null,null,null,null,null,null,null,null,null,null,null,null,null,null,null,null,null,null,null,null,null,null,null,null,null,null,null,null,null,null,null,null,null,null,null,null,null,null,null,null,null,null,null,null,null,null,null,null,null,null,null,null,null,"Mısır, patlatılmış",95.9,7.5,1.4,3.1,2.6,3.74,3.74,82,7.06,74.900000000000006,0.64300000000000002,1.6E-2,null,0.16800000000000001,0.216,0.28699999999999998,1.19,5.7000000000000002E-2,0.156,9.5000000000000001E-2,0.39500000000000002,0.20399999999999999,0.22800000000000001,3.5000000000000003E-2,null,0.39500000000000002,4.3099999999999996E-3,5.7000000000000002E-2,null,1.52E-2,0.10299999999999999,0.60799999999999998,1.55,null,0.66699999999999993,9.0000000000000011E-3,28.900000000000002,1.1000000000000001,2.6000000000000002E-2,2.67,null,null,0.26700000000000002,11,1.85,5.7399999999999993,6.59,1.19,null,null,null,0.2,0.21,0.65900000000000003,0.64300000000000002,1.6E-2,50]
[null,null,null,null,null,null,null,null,null,null,null,null,null,null,null,null,null,null,null,null,null,null,null,null,null,null,null,null,null,null,null,null,null,null,null,null,null,null,null,null,null,null,null,null,null,null,null,null,null,null,null,null,null,null,null,null,null,null,null,null,null,null,null,null,null,null,null,null,null,null,null,null,null,null,null,null,null,null,null,null,null,null,null,null,null,null,null,null,null,null,null,null,null,null,null,null,null,null,null,null,null,null,null,null,null,null,null,null,null,null,null,null,null,null,null,null,null,null,null,null,null,null,null,null,null,null,null,null,null,null,null,null,null,null,"Mısır, tatlı, konserve",26.2,3.1,1.1000000000000001,2.5,1,1.01,1.01,16.100000000000001,8.9,7.2,0.51500000000000001,1.7999999999999999E-2,null,0.129,8.4000000000000005E-2,0.114,0.39200000000000002,8.4000000000000005E-2,0.06,0.05,0.159,0.11899999999999999,0.114,0.02,null,0.14899999999999999,2.8999999999999998E-3,6.1600000000000002E-2,null,2.3E-2,0.2,0.31,null,null,0.5,5.0000000000000001E-3,6,0,2E-3,6,5.0000000000000001E-3,null,0.32,12,2.2000000000000002,0.8,0.5,2,null,18.3,null,5,0.17,0.53300000000000003,0.51500000000000001,1.7999999999999999E-2,30]
[null,null,null,null,null,null,null,null,null,null,null,null,null,null,null,null,null,null,null,null,null,null,null,null,null,null,null,null,null,null,null,null,null,null,null,null,null,null,null,null,null,null,null,null,null,null,null,null,null,null,null,null,null,null,null,null,null,null,null,null,null,null,null,null,null,null,null,null,null,null,null,null,null,null,null,null,null,null,null,null,null,null,null,null,null,null,null,null,null,null,null,null,null,null,null,null,null,null,null,null,null,null,null,null,null,null,null,null,null,null,null,null,null,null,null,null,null,null,null,null,null,null,null,null,null,null,null,null,null,null,null,null,null,null,"Muz, çiğ",23.400000000000006,1.3,0.3,1.6,0.8,0.81739961759082214,0.81739961759082214,19,15.9,2.7,3.5000000000000003E-2,4.8000000000000001E-2,null,5.6000000000000001E-2,9.6000000000000002E-2,0.04,0.1,5.8000000000000003E-2,1.2E-2,4.0000000000000001E-3,0.04,2.3E-2,3.6999999999999998E-2,1.2E-2,null,0.06,4.4000000000000003E-3,2.7300000000000001E-2,null,2.7699999999999999E-2,0.35299999999999998,2E-3,null,null,1.1000000000000001,3.0000000000000001E-3,2.4,2.4,1.04E-2,1.76,5.5E-2,null,0.38,7,2.6,0.24,0.39,2.99,null,44.2,null,5.5,0.1,8.3000000000000004E-2,3.5000000000000003E-2,4.8000000000000001E-2,49]
[null,null,null,null,null,null,null,null,null,null,null,null,null,null,null,null,null,null,null,null,null,null,null,null,null,null,null,null,null,null,null,null,null,null,null,null,null,null,null,null,null,null,null,null,null,null,null,null,null,null,null,null,null,null,null,null,null,null,null,null,null,null,null,null,null,null,null,null,null,null,null,null,null,null,null,null,null,null,null,null,null,null,null,null,null,null,null,null,null,null,null,null,null,null,null,null,null,null,null,null,null,null,null,null,null,null,null,null,null,null,null,null,null,null,null,null,null,null,null,null,null,null,null,null,null,null,null,null,null,null,null,null,null,null,"Nar, çiğ",19,0.9,0.3,0.6,0.6,0.74,0.74,16.600000000000001,null,null,null,null,null,null,null,null,null,null,null,null,null,null,null,null,null,null,3.0000000000000001E-3,8.0000000000000002E-3,null,3.0000000000000001E-3,0.25900000000000001,3.0000000000000001E-3,null,null,0.70000000000000007,null,3,null,null,null,null,null,0,null,5.96,0.3,0.3,1.05,null,null,null,null,null,null,null,null,30]
[null,null,null,null,null,null,null,null,null,null,null,null,null,null,null,null,null,null,null,null,null,null,null,null,null,null,null,null,null,null,null,null,null,null,null,null,null,null,null,null,null,null,null,null,null,null,null,null,null,null,null,null,null,null,null,null,null,null,null,null,null,null,null,null,null,null,null,null,null,null,null,null,null,null,null,null,null,null,null,null,null,null,null,null,null,null,null,null,null,null,null,null,null,null,null,null,null,null,null,null,null,null,null,null,null,null,null,null,null,null,null,null,null,null,null,null,null,null,null,null,null,null,null,null,null,null,null,null,null,null,null,null,null,null,"Pancar, kırmızı, çiğ",14.7,1.7,0.3,2.2999999999999998,0.8,0.52,0.52,9.9,9.8800000000000008,null,0.106,2.1000000000000001E-2,null,3.2000000000000001E-2,1.7999999999999999E-2,3.2000000000000001E-2,3.5000000000000003E-2,3.7999999999999999E-2,8.0000000000000002E-3,1E-3,1.6E-2,1.4E-2,0.03,8.9999999999999993E-3,null,4.2999999999999997E-2,2.81E-2,3.6200000000000003E-2,null,1.4999999999999999E-2,0.33,4.2999999999999997E-2,null,null,1.2,5.0000000000000001E-3,6,6,2E-3,7.3,null,null,0.91,2,1.5,0.44999999999999996,0.25,0.5,null,5.83,null,0.8,4.8000000000000001E-2,0.127,0.106,2.1000000000000001E-2,20]
[null,null,null,null,null,null,null,null,null,null,null,null,null,null,null,null,null,null,null,null,null,null,null,null,null,null,null,null,null,null,null,null,null,null,null,null,null,null,null,null,null,null,null,null,null,null,null,null,null,null,null,null,null,null,null,null,null,null,null,null,null,null,null,null,null,null,null,null,null,null,null,null,null,null,null,null,null,null,null,null,null,null,null,null,null,null,null,null,null,null,null,null,null,null,null,null,null,null,null,null,null,null,null,null,null,null,null,null,null,null,null,null,null,null,null,null,null,null,null,null,null,null,null,null,null,null,null,null,null,null,null,null,null,null,"Patates, çiğ",20.7,2,0.1,2.2000000000000002,1.1000000000000001,0.77,0.77,18.399999999999999,0.8,15.4,3.2000000000000001E-2,0.01,null,0.1,0.05,0.08,0.12,0.13,0.03,0.03,0.09,0.08,0.08,0.03,null,0.12,1.2E-2,5.7000000000000002E-2,null,2.3E-2,0.42099999999999999,6.0000000000000001E-3,null,null,1.08,1.92E-3,8,2,3.0000000000000001E-3,3,3.6999999999999998E-2,121,0.16,11,3.7,0.2,1,3,0,6,0,0.2,0,0,null,null,2.5]
[null,null,null,null,null,null,null,null,null,null,null,null,null,null,null,null,null,null,null,null,null,null,null,null,null,null,null,null,null,null,null,null,null,null,null,null,null,null,null,null,null,null,null,null,null,null,null,null,null,null,null,null,null,null,null,null,null,null,null,null,null,null,null,null,null,null,null,null,null,null,null,null,null,null,null,null,null,null,null,null,null,null,null,null,null,null,null,null,null,null,null,null,null,null,null,null,null,null,null,null,null,null,null,null,null,null,null,null,null,null,null,null,null,null,null,null,null,null,null,null,null,null,null,null,null,null,null,null,null,null,null,null,null,null,"Patates, haşlanmış",22.05,1.07,0.1,1.04,0.7,0.86,0.86,18.059999999999999,null,null,3.6999999999999998E-2,1.2E-2,null,0,0,0,0,0,0,0,0,0,0,0,null,0,8.0000000000000002E-3,0.04,0,0.02,0,5.0000000000000001E-3,0,null,1.6700000000000002,0,3.1,0,3.0000000000000001E-3,2.7,0,null,0.09,13.100000000000001,0,0.19,0.98,2.6900000000000004,0,1.6700000000000002,0,0.1,2.9000000000000001E-2,4.9000000000000002E-2,3.6999999999999998E-2,1.2E-2,5]
[null,null,null,null,null,null,null,null,null,null,null,null,null,null,null,null,null,null,null,null,null,null,null,null,null,null,null,null,null,null,null,null,null,null,null,null,null,null,null,null,null,null,null,null,null,null,null,null,null,null,null,null,null,null,null,null,null,null,null,null,null,null,null,null,null,null,null,null,null,null,null,null,null,null,null,null,null,null,null,null,null,null,null,null,null,null,null,null,null,null,null,null,null,null,null,null,null,null,null,null,null,null,null,null,null,null,null,null,null,null,null,null,null,null,null,null,null,null,null,null,null,null,null,null,null,null,null,null,null,null,null,null,null,null,"Patates unu",85.8,0.73,0.22,0.3,0.2,3.52,3.52,84.2,null,84,2.4E-2,3.2000000000000001E-2,null,8.0000000000000002E-3,4.0000000000000001E-3,7.0000000000000001E-3,1.0999999999999999E-2,1.2E-2,3.0000000000000001E-3,2E-3,8.0000000000000002E-3,4.0000000000000001E-3,7.0000000000000001E-3,3.0000000000000001E-3,null,1.2E-2,2.5000000000000001E-2,7.1999999999999998E-3,null,6.0000000000000001E-3,3.4000000000000002E-2,3.5000000000000001E-3,0.18,0.09,4,0.13,3.8,1,4.0000000000000001E-3,1.6,0.32,82.8,0.82,0.8,2,0.03,0.05,0.1,null,null,null,null,1.9E-2,5.6000000000000001E-2,2.4E-2,3.2000000000000001E-2,5]
[null,null,null,null,null,null,null,null,null,null,null,null,null,null,null,null,null,null,null,null,null,null,null,null,null,null,null,null,null,null,null,null,null,null,null,null,null,null,null,null,null,null,null,null,null,null,null,null,null,null,null,null,null,null,null,null,null,null,null,null,null,null,null,null,null,null,null,null,null,null,null,null,null,null,null,null,null,null,null,null,null,null,null,null,null,null,null,null,null,null,null,null,null,null,null,null,null,null,null,null,null,null,null,null,null,null,null,null,null,null,null,null,null,null,null,null,null,null,null,null,null,null,null,null,null,null,null,null,null,null,null,null,null,null,"Patlıcan, çiğ",6.5,0.9,0.1,2.4,0.5,0.2,0.2,3.1,2.9,0.2,null,null,null,5.2999999999999999E-2,2.1000000000000001E-2,4.2000000000000003E-2,0.06,4.3999999999999997E-2,0.01,6.0000000000000001E-3,4.1000000000000002E-2,2.5999999999999999E-2,3.5000000000000003E-2,8.0000000000000002E-3,null,0.05,8.4000000000000012E-3,3.0300000000000001E-2,null,0.01,0.24,3.0000000000000001E-3,null,null,0.8,null,4,2.5,2E-3,1.6,null,null,0.27,8,2.2000000000000002,0.3,0.5,0.8,null,null,null,0.3,null,null,null,null,40]
[null,null,null,null,null,null,null,null,null,null,null,null,null,null,null,null,null,null,null,null,null,null,null,null,null,null,null,null,null,null,null,null,null,null,null,null,null,null,null,null,null,null,null,null,null,null,null,null,null,null,null,null,null,null,null,null,null,null,null,null,null,null,null,null,null,null,null,null,null,null,null,null,null,null,null,null,null,null,null,null,null,null,null,null,null,null,null,null,null,null,null,null,null,null,null,null,null,null,null,null,null,null,null,null,null,null,null,null,null,null,null,null,null,null,null,null,null,null,null,null,null,null,null,null,null,null,null,null,null,null,null,null,null,null,"Pırasa, çiğ",17,1.5,0.3,1.8,1.1000000000000001,0.61,0.61,14.2,3.9,10,6.7000000000000004E-2,9.9000000000000005E-2,null,null,null,null,null,null,null,null,null,null,null,null,null,null,5.8999999999999997E-2,3.5000000000000003E-2,null,2.8000000000000001E-2,0.18,0.02,null,null,1,null,21,5,0.01,1,null,95,0.64,4,1,null,1,2,null,5001,null,9,0.1,0.2,6.7000000000000004E-2,9.9000000000000005E-2,20]
[null,null,null,null,null,null,null,null,null,null,null,null,null,null,null,null,null,null,null,null,null,null,null,null,null,null,null,null,null,null,null,null,null,null,null,null,null,null,null,null,null,null,null,null,null,null,null,null,null,null,null,null,null,null,null,null,null,null,null,null,null,null,null,null,null,null,null,null,null,null,null,null,null,null,null,null,null,null,null,null,null,null,null,null,null,null,null,null,null,null,null,null,null,null,null,null,null,null,null,null,null,null,null,null,null,null,null,null,null,null,null,null,null,null,null,null,null,null,null,null,null,null,null,null,null,null,null,null,null,null,null,null,null,null,"Pırasa unu",89,7.8529411764705888,1.5705882352941176,9.4235294117647062,5.7588235294117656,3.1935294117647062,3.1935294117647062,74.341176470588238,20.41764705882353,52.352941176470587,0.35076470588235292,0.51829411764705891,0,0,0,0,0,0,0,0,0,0,0,0,0,0,0.30888235294117644,0.18323529411764708,0,0.14658823529411766,0.94235294117647062,0.10470588235294118,0,0,5.2352941176470589,0,109.94117647058823,26.176470588235293,5.2352941176470588E-2,5.2352941176470589,0,497.35294117647067,3.3505882352941176,20.941176470588236,5.2352941176470589,0,5.2352941176470589,10.470588235294118,0,26181.705882352941,0,47.117647058823529,0.52352941176470591,1.0470588235294118,0.35076470588235292,0.51829411764705891,20]
[null,null,null,null,null,null,null,null,null,null,null,null,null,null,null,null,null,null,null,null,null,null,null,null,null,null,null,null,null,null,null,null,null,null,null,null,null,null,null,null,null,null,null,null,null,null,null,null,null,null,null,null,null,null,null,null,null,null,null,null,null,null,null,null,null,null,null,null,null,null,null,null,null,null,null,null,null,null,null,null,null,null,null,null,null,null,null,null,null,null,null,null,null,null,null,null,null,null,null,null,null,null,null,null,null,null,null,null,null,null,null,null,null,null,null,null,null,null,null,null,null,null,null,null,null,null,null,null,null,null,null,null,null,null,"Pirinç, beyaz, çiğ",87.11,6.61,0.57999999999999996,2.4,0.57999999999999996,3.58,3.58,79.34,null,75,0.114,2.4E-2,0.5,0.52,0.15,0.24,0.49,0.21,0.14000000000000001,0.11,0.32,0.31,0.21,7.0000000000000007E-2,null,0.35,3.0000000000000001E-3,0.108,9.5000000000000001E-2,2.3E-2,7.5999999999999998E-2,1E-3,null,null,2,0.29039999999999999,8,11,2.5000000000000001E-2,11.6,3.4000000000000002E-2,58,0.09,16,13.4,0.5,1,1.5,0,40,null,1.3,0.1,0.1,0.114,2.4E-2,12]
[null,null,null,null,null,null,null,null,null,null,null,null,null,null,null,null,null,null,null,null,null,null,null,null,null,null,null,null,null,null,null,null,null,null,null,null,null,null,null,null,null,null,null,null,null,null,null,null,null,null,null,null,null,null,null,null,null,null,null,null,null,null,null,null,null,null,null,null,null,null,null,null,null,null,null,null,null,null,null,null,null,null,null,null,null,null,null,null,null,null,null,null,null,null,null,null,null,null,null,null,null,null,null,null,null,null,null,null,null,null,null,null,null,null,null,null,null,null,null,null,null,null,null,null,null,null,null,null,null,null,null,null,null,null,"Pirinç, kahverengi, çiğ",89.1,9,2.9,4.2,1.2,3.58,3.58,68.900000000000006,null,68.900000000000006,0.98199999999999998,2.5999999999999999E-2,0.5,0.68100000000000005,0.19700000000000001,0.39300000000000002,0.69599999999999995,0.33300000000000002,0.21199999999999999,0.106,0.48399999999999999,0.25700000000000001,0.30299999999999999,0.127,null,0.59,1.2E-2,0.37,null,0.11899999999999999,0.251,1.8E-3,null,null,1.7999999999999998,4.4999999999999998E-2,13,24,2.2000000000000002E-2,16,0.03,null,0.53,50.9,11,0.92999999999999994,4.8,4.95,null,null,null,6.8000000000000007,0.66200000000000003,1.008,0.98199999999999998,2.5999999999999999E-2,12]
[null,null,null,null,null,null,null,null,null,null,null,null,null,null,null,null,null,null,null,null,null,null,null,null,null,null,null,null,null,null,null,null,null,null,null,null,null,null,null,null,null,null,null,null,null,null,null,null,null,null,null,null,null,null,null,null,null,null,null,null,null,null,null,null,null,null,null,null,null,null,null,null,null,null,null,null,null,null,null,null,null,null,null,null,null,null,null,null,null,null,null,null,null,null,null,null,null,null,null,null,null,null,null,null,null,null,null,null,null,null,null,null,null,null,null,null,null,null,null,null,null,null,null,null,null,null,null,null,null,null,null,null,null,null,"Pirinç kabukları",92,3,0.5,44,20,1.47,1.46,null,null,null,null,null,null,null,null,null,null,null,null,null,null,null,null,null,null,null,0.04,0.1,null,null,0.4,0.08,7.0000000000000007E-2,0.08,null,null,null,null,null,null,null,322,null,null,null,null,null,null,null,null,null,null,null,null,null,null,5]
[null,null,null,null,null,null,null,null,null,null,null,null,null,null,null,null,null,null,null,null,null,null,null,null,null,null,null,null,null,null,null,null,null,null,null,null,null,null,null,null,null,null,null,null,null,null,null,null,null,null,null,null,null,null,null,null,null,null,null,null,null,null,null,null,null,null,null,null,null,null,null,null,null,null,null,null,null,null,null,null,null,null,null,null,null,null,null,null,null,null,null,null,null,null,null,null,null,null,null,null,null,null,null,null,null,null,null,null,null,null,null,null,null,null,null,null,null,null,null,null,null,null,null,null,null,null,null,null,null,null,null,null,null,null,"Pirinç kepeği",90.6,14,13.8,11.4,9.4,3.86,3.79,49.69,null,null,4.4063400000000001,0.17249999999999999,null,1.0900000000000001,0.39,0.48,0.99,0.65,0.28999999999999998,0.31,0.66,0.42,0.54,0.16,null,0.73,0.06,1.61,null,0.74,1.43,0.03,0.08,0.17,9.1300000000000008,null,216,172,0.18,64,0.42,1135,2.2000000000000002,293,23,2.5,22.5,14,null,null,null,60,null,null,null,null,9]
[null,null,null,null,null,null,null,null,null,null,null,null,null,null,null,null,null,null,null,null,null,null,null,null,null,null,null,null,null,null,null,null,null,null,null,null,null,null,null,null,null,null,null,null,null,null,null,null,null,null,null,null,null,null,null,null,null,null,null,null,null,null,null,null,null,null,null,null,null,null,null,null,null,null,null,null,null,null,null,null,null,null,null,null,null,null,null,null,null,null,null,null,null,null,null,null,null,null,null,null,null,null,null,null,null,null,null,null,null,null,null,null,null,null,null,null,null,null,null,null,null,null,null,null,null,null,null,null,null,null,null,null,null,null,"Portakal, çiğ",13.6,0.9,0.1,2,0.4,0.49,0.49,8.1999999999999993,8.1999999999999993,null,3.3000000000000002E-2,1.2999999999999999E-2,null,7.4999999999999997E-2,1.2E-2,1.7000000000000001E-2,2.8000000000000001E-2,3.5000000000000003E-2,5.0000000000000001E-3,3.0000000000000001E-3,0.02,1.2E-2,1.7000000000000001E-2,6.0000000000000001E-3,null,2.8000000000000001E-2,2.9600000000000001E-2,2.0899999999999998E-2,null,1.03E-2,0.158,1.14E-3,null,null,0.40200000000000002,1.4499999999999999E-3,1.19,0.24199999999999999,4.6199999999999995E-4,0.61599999999999999,8.4200000000000004E-3,null,0.46200000000000002,3.95,1.6300000000000001,0.3,0.997,0.79600000000000004,null,40,null,3.1,2.3E-2,4.5999999999999999E-2,3.3000000000000002E-2,1.2999999999999999E-2,30]
[null,null,null,null,null,null,null,null,null,null,null,null,null,null,null,null,null,null,null,null,null,null,null,null,null,null,null,null,null,null,null,null,null,null,null,null,null,null,null,null,null,null,null,null,null,null,null,null,null,null,null,null,null,null,null,null,null,null,null,null,null,null,null,null,null,null,null,null,null,null,null,null,null,null,null,null,null,null,null,null,null,null,null,null,null,null,null,null,null,null,null,null,null,null,null,null,null,null,null,null,null,null,null,null,null,null,null,null,null,null,null,null,null,null,null,null,null,null,null,null,null,null,null,null,null,null,null,null,null,null,null,null,null,null,"Salatalık, çiğ",3.7,0.7,0,0.8,0.4,0.12,0.12,1.6,1.56,null,6.0000000000000001E-3,5.0000000000000001E-3,null,2.8000000000000001E-2,8.0000000000000002E-3,1.7999999999999999E-2,2.8000000000000001E-2,2.3E-2,8.9999999999999993E-3,2E-3,1.7000000000000001E-2,0.01,1.6E-2,5.0000000000000001E-3,null,2.1999999999999999E-2,1.77E-2,2.7399999999999997E-2,null,9.5299999999999985E-3,0.14699999999999999,2.4100000000000002E-3,null,null,0.26900000000000002,4.9800000000000001E-3,1.9700000000000002,0.94399999999999995,3.2599999999999996E-4,1.26,7.8700000000000003E-3,null,0.17600000000000002,1.8399999999999999,1.5,0.13200000000000001,0.14699999999999999,0.36,null,51.7,null,0.46699999999999997,8.0000000000000002E-3,1.0999999999999999E-2,6.0000000000000001E-3,5.0000000000000001E-3,25]
[null,null,null,null,null,null,null,null,null,null,null,null,null,null,null,null,null,null,null,null,null,null,null,null,null,null,null,null,null,null,null,null,null,null,null,null,null,null,null,null,null,null,null,null,null,null,null,null,null,null,null,null,null,null,null,null,null,null,null,null,null,null,null,null,null,null,null,null,null,null,null,null,null,null,null,null,null,null,null,null,null,null,null,null,null,null,null,null,null,null,null,null,null,null,null,null,null,null,null,null,null,null,null,null,null,null,null,null,null,null,null,null,null,null,null,null,null,null,null,null,null,null,null,null,null,null,null,null,null,null,null,null,null,null,"Sarımsak",37.200000000000003,6,0.1,0.8,1,0.14899999999999999,0.14899999999999999,30,null,null,null,null,null,null,null,null,null,null,null,null,null,null,null,null,null,null,3.0000000000000001E-3,0.3,null,2.5000000000000001E-2,0.4,1.17E-2,null,null,null,null,0.01,16720,null,11600,null,null,null,4,null,null,null,12350,null,null,null,null,null,null,null,null,50]
[null,null,null,null,null,null,null,null,null,null,null,null,null,null,null,null,null,null,null,null,null,null,null,null,null,null,null,null,null,null,null,null,null,null,null,null,null,null,null,null,null,null,null,null,null,null,null,null,null,null,null,null,null,null,null,null,null,null,null,null,null,null,null,null,null,null,null,null,null,null,null,null,null,null,null,null,null,null,null,null,null,null,null,null,null,null,null,null,null,null,null,null,null,null,null,null,null,null,null,null,null,null,null,null,null,null,null,null,null,null,null,null,null,null,null,null,null,null,null,null,null,null,null,null,null,null,null,null,null,null,null,null,null,null,"Sarımsak tozu",93.5,16.8,0.8,9.9,3.3,3.45,3.45,62.7,null,null,0.36699999999999999,3.2000000000000001E-2,null,1.67,0.29599999999999999,0.56399999999999995,0.80600000000000005,0.72599999999999998,0.19900000000000001,0.16900000000000001,0.48399999999999999,0.21199999999999999,0.40300000000000002,0.17199999999999999,null,0.753,0.08,0.41699999999999998,null,5.8000000000000003E-2,1.1000000000000001,2.5999999999999999E-2,null,null,null,null,27.5,null,null,26.299999999999997,null,null,null,6.92,null,1.52,4.66,null,null,null,null,null,0.14299999999999999,0.4,0.36699999999999999,3.2000000000000001E-2,50]
[null,null,null,null,null,null,null,null,null,null,null,null,null,null,null,null,null,null,null,null,null,null,null,null,null,null,null,null,null,null,null,null,null,null,null,null,null,null,null,null,null,null,null,null,null,null,null,null,null,null,null,null,null,null,null,null,null,null,null,null,null,null,null,null,null,null,null,null,null,null,null,null,null,null,null,null,null,null,null,null,null,null,null,null,null,null,null,null,null,null,null,null,null,null,null,null,null,null,null,null,null,null,null,null,null,null,null,null,null,null,null,null,null,null,null,null,null,null,null,null,null,null,null,null,null,null,null,null,null,null,null,null,null,null,"Sorgum",90.8,11.3,2.9,6.3,1.6,3.39,3.39,74.599999999999994,1.1000000000000001,64.099999999999994,0.89,7.0000000000000007E-2,null,0.35,0.22,0.35,1.1399999999999999,0.21,0.16,0.17,0.47,0.34,0.28999999999999998,0.08,null,0.44,2.8000000000000001E-2,0.28699999999999998,null,0.15,0.35,6.0000000000000001E-3,0.09,0.08,10,0.02,45,15,0.2,15,0.26,668,0.2,41,12.4,1.3,3,5.2,null,33,null,7,null,null,null,null,100]
[null,null,null,null,null,null,null,null,null,null,null,null,null,null,null,null,null,null,null,null,null,null,null,null,null,null,null,null,null,null,null,null,null,null,null,null,null,null,null,null,null,null,null,null,null,null,null,null,null,null,null,null,null,null,null,null,null,null,null,null,null,null,null,null,null,null,null,null,null,null,null,null,null,null,null,null,null,null,null,null,null,null,null,null,null,null,null,null,null,null,null,null,null,null,null,null,null,null,null,null,null,null,null,null,null,null,null,null,null,null,null,null,null,null,null,null,null,null,null,null,null,null,null,null,null,null,null,null,null,null,null,null,null,null,"Soya fasulyesi, kuru, çiğ",93,35.799999999999997,18.399999999999999,16.600000000000001,4.7,4.12,4.12,17.5,6.1,null,9.0449999999999999,1.288,null,2.59,0.90500000000000003,1.63,2.78,2.29,0.45300000000000001,0.47499999999999998,1.77,1.1200000000000001,1.38,0.45800000000000002,null,1.72,0.16300000000000001,0.46700000000000003,null,0.22500000000000001,1.68,4.0000000000000001E-3,null,null,1.1000000000000001,6.0000000000000001E-3,157,20,8.8000000000000009E-2,10,0.6,null,2.8,16.200000000000003,19.2,8.6999999999999993,8.74,4.17,null,10.8,null,8.5,2.556,10.333,9.0449999999999999,1.288,40]
[null,null,null,null,null,null,null,null,null,null,null,null,null,null,null,null,null,null,null,null,null,null,null,null,null,null,null,null,null,null,null,null,null,null,null,null,null,null,null,null,null,null,null,null,null,null,null,null,null,null,null,null,null,null,null,null,null,null,null,null,null,null,null,null,null,null,null,null,null,null,null,null,null,null,null,null,null,null,null,null,null,null,null,null,null,null,null,null,null,null,null,null,null,null,null,null,null,null,null,null,null,null,null,null,null,null,null,null,null,null,null,null,null,null,null,null,null,null,null,null,null,null,null,null,null,null,null,null,null,null,null,null,null,null,"Soya kabukları",90.9,12.6,2.4,36.5,4.4000000000000004,2.4900000000000002,2.48,37,1.5,0,1.1100000000000001,0.16,null,0.65,0.36,0.49,0.82,0.79,0.15,0.22,0.55000000000000004,null,0.45,0.14000000000000001,null,0.57999999999999996,0.56999999999999995,0.15,null,0.23,1.37,0.01,0.05,0.11,9.09,null,549,24,0.19,32,null,588,null,25,13.4,3.6,1.6,1.7,null,null,null,6.6,null,null,null,null,6]
[null,null,null,null,null,null,null,null,null,null,null,null,null,null,null,null,null,null,null,null,null,null,null,null,null,null,null,null,null,null,null,null,null,null,null,null,null,null,null,null,null,null,null,null,null,null,null,null,null,null,null,null,null,null,null,null,null,null,null,null,null,null,null,null,null,null,null,null,null,null,null,null,null,null,null,null,null,null,null,null,null,null,null,null,null,null,null,null,null,null,null,null,null,null,null,null,null,null,null,null,null,null,null,null,null,null,null,null,null,null,null,null,null,null,null,null,null,null,null,null,null,null,null,null,null,null,null,null,null,null,null,null,null,null,"Soya küspesi, %44",89.1,44.5,1.4,7,5.9,3.56,3.55,30.33,12.2,2.41,null,null,null,3.28,1.23,2.0299999999999998,3.47,2.79,0.64,0.68,2.34,1.91,1.77,0.56999999999999995,null,2.09,0.35,0.63,null,0.28000000000000003,1.98,0.03,0.08,0.41,19.75,0.1,162,31,0.19,50,0.32,2794,1.3,29,16,2.9,4.5,6,null,108,null,2,null,null,null,null,17]
[null,null,null,null,null,null,null,null,null,null,null,null,null,null,null,null,null,null,null,null,null,null,null,null,null,null,null,null,null,null,null,null,null,null,null,null,null,null,null,null,null,null,null,null,null,null,null,null,null,null,null,null,null,null,null,null,null,null,null,null,null,null,null,null,null,null,null,null,null,null,null,null,null,null,null,null,null,null,null,null,null,null,null,null,null,null,null,null,null,null,null,null,null,null,null,null,null,null,null,null,null,null,null,null,null,null,null,null,null,null,null,null,null,null,null,null,null,null,null,null,null,null,null,null,null,null,null,null,null,null,null,null,null,null,"Soya küspesi, %48",89.5,48.2,1,3.9,5.7,3.66,3.66,31.68,null,3,null,null,null,3.52,1.33,2.2000000000000002,3.76,3.03,0.69,0.72,2.5299999999999998,1.95,1.91,0.61,null,2.23,0.31,0.63,null,0.26,2.16,0.03,0.12,0.35,14.32,0.1,184,36,0.12,52,0.32,2731,1.3,22,15,2.9,3.2,5,null,108,null,3,null,null,null,null,18]
[null,null,null,null,null,null,null,null,null,null,null,null,null,null,null,null,null,null,null,null,null,null,null,null,null,null,null,null,null,null,null,null,null,null,null,null,null,null,null,null,null,null,null,null,null,null,null,null,null,null,null,null,null,null,null,null,null,null,null,null,null,null,null,null,null,null,null,null,null,null,null,null,null,null,null,null,null,null,null,null,null,null,null,null,null,null,null,null,null,null,null,null,null,null,null,null,null,null,null,null,null,null,null,null,null,null,null,null,null,null,null,null,null,null,null,null,null,null,null,null,null,null,null,null,null,null,null,null,null,null,null,null,null,null,"Soya unu, tam yağlı, kavrulmuş",96.2,35.200000000000003,21.9,5.8,5.9,4.41,4.41,33.56,7.6,11,10.882999999999999,1.458,null,2.7,0.94,1.69,2.83,2.3199999999999998,0.47,0.56000000000000005,1.82,1.32,1.51,0.51,null,1.74,0.19,0.47599999999999998,null,0.36899999999999999,2.0409999999999999,1.2E-2,null,null,22,0.09,58,21,7.4999999999999997E-2,36,null,113,2.27,33,12,9,4,4,null,366,null,20,3.2,12.3,10.882999999999999,1.458,18]
[null,null,null,null,null,null,null,null,null,null,null,null,null,null,null,null,null,null,null,null,null,null,null,null,null,null,null,null,null,null,null,null,null,null,null,null,null,null,null,null,null,null,null,null,null,null,null,null,null,null,null,null,null,null,null,null,null,null,null,null,null,null,null,null,null,null,null,null,null,null,null,null,null,null,null,null,null,null,null,null,null,null,null,null,null,null,null,null,null,null,null,null,null,null,null,null,null,null,null,null,null,null,null,null,null,null,null,null,null,null,null,null,null,null,null,null,null,null,null,null,null,null,null,null,null,null,null,null,null,null,null,null,null,null,"Soya unu, yağı alınmış",92.8,47,1.2,5.8,6.2,3.3,3.3,38.4,18.899999999999999,12,0.47,6.3E-2,null,3.65,1.27,2.2799999999999998,3.93,3.13,0.63,0.76,2.4500000000000002,1.78,2.04,0.68,null,2.35,0.24,0.67,null,0.28999999999999998,2.38,0.02,null,null,40.65,null,92,30,1.7000000000000001E-2,25,null,113,3.05,26,20,3,5.7,0,null,120,null,1,0.1,0.5,0.47,6.3E-2,20]
[null,null,null,null,null,null,null,null,null,null,null,null,null,null,null,null,null,null,null,null,null,null,null,null,null,null,null,null,null,null,null,null,null,null,null,null,null,null,null,null,null,null,null,null,null,null,null,null,null,null,null,null,null,null,null,null,null,null,null,null,null,null,null,null,null,null,null,null,null,null,null,null,null,null,null,null,null,null,null,null,null,null,null,null,null,null,null,null,null,null,null,null,null,null,null,null,null,null,null,null,null,null,null,null,null,null,null,null,null,null,null,null,null,null,null,null,null,null,null,null,null,null,null,null,null,null,null,null,null,null,null,null,null,null,"Susam, çiğ",95.7,19.600000000000001,53.8,13.3,5.0999999999999996,6.05,6.05,1.4,1.2,0.22,20.908999999999999,0.16900000000000001,null,2.77,0.53900000000000003,0.79400000000000004,1.48,0.63800000000000001,0.66900000000000004,0.432,0.99299999999999999,0.78300000000000003,0.80100000000000005,0.372,null,1.02,0.95899999999999996,0.58699999999999997,null,0.33500000000000002,0.505,1.0500000000000002E-3,null,null,17,null,89.5,17,0.19500000000000001,55,0.14199999999999999,null,1.71,46.1,3.37,2.17,7.52,3.66,null,null,null,null,7.39,21.077999999999999,20.908999999999999,0.16900000000000001,200]
[null,null,null,null,null,null,null,null,null,null,null,null,null,null,null,null,null,null,null,null,null,null,null,null,null,null,null,null,null,null,null,null,null,null,null,null,null,null,null,null,null,null,null,null,null,null,null,null,null,null,null,null,null,null,null,null,null,null,null,null,null,null,null,null,null,null,null,null,null,null,null,null,null,null,null,null,null,null,null,null,null,null,null,null,null,null,null,null,null,null,null,null,null,null,null,null,null,null,null,null,null,null,null,null,null,null,null,null,null,null,null,null,null,null,null,null,null,null,null,null,null,null,null,null,null,null,null,null,null,null,null,null,null,null,"Şalgam, çiğ",8,0.6,0.1,2,0.6,0.26,0.26,3.8,3.8,null,null,null,null,0.01,5.0000000000000001E-3,1.4999999999999999E-2,2.5000000000000001E-2,1.2E-2,7.0000000000000001E-3,null,1.2E-2,8.9999999999999993E-3,1.7000000000000001E-2,8.0000000000000002E-3,null,1.4999999999999999E-2,0.05,0.05,null,8.0000000000000002E-3,0.28299999999999997,1.7000000000000001E-2,null,null,0.4,5.0000000000000001E-3,5,0.68,null,2.3000000000000003,1E-3,null,0.2,10,2,0.44999999999999996,0.4,0.8,null,null,null,null,null,null,null,null,10]
[null,null,null,null,null,null,null,null,null,null,null,null,null,null,null,null,null,null,null,null,null,null,null,null,null,null,null,null,null,null,null,null,null,null,null,null,null,null,null,null,null,null,null,null,null,null,null,null,null,null,null,null,null,null,null,null,null,null,null,null,null,null,null,null,null,null,null,null,null,null,null,null,null,null,null,null,null,null,null,null,null,null,null,null,null,null,null,null,null,null,null,null,null,null,null,null,null,null,null,null,null,null,null,null,null,null,null,null,null,null,null,null,null,null,null,null,null,null,null,null,null,null,null,null,null,null,null,null,null,null,null,null,null,null,"Şeftali kurusu",92.5,4.9000000000000004,1,14.3,3.4,3.33,3.33,51.1,51.1,null,0.40500000000000003,0.01,2E-3,0.10199999999999999,0.10199999999999999,7.6999999999999999E-2,0.16800000000000001,0.18,0.18,5.5E-2,0.109,0.121,0.16800000000000001,2.3E-2,null,0.23899999999999999,2.5000000000000001E-2,0.12,null,0.08,0.94499999999999995,7.9000000000000001E-2,null,null,6.3,2.7999999999999997E-2,68,6.7,null,5.6999999999999993,null,null,0.14000000000000001,13,3,0.65,0.02,1.5,null,417,null,null,9.2999999999999999E-2,0.41699999999999998,0.40699999999999997,0.01,50]
[null,null,null,null,null,null,null,null,null,null,null,null,null,null,null,null,null,null,null,null,null,null,null,null,null,null,null,null,null,null,null,null,null,null,null,null,null,null,null,null,null,null,null,null,null,null,null,null,null,null,null,null,null,null,null,null,null,null,null,null,null,null,null,null,null,null,null,null,null,null,null,null,null,null,null,null,null,null,null,null,null,null,null,null,null,null,null,null,null,null,null,null,null,null,null,null,null,null,null,null,null,null,null,null,null,null,null,null,null,null,null,null,null,null,null,null,null,null,null,null,null,null,null,null,null,null,null,null,null,null,null,null,null,null,"Şeker pancarı posası, kurutulmuş",88.3,8.8000000000000007,1,21,6.4,2.95,2.95,58.7,6.6,0,0.47340000000000004,3.78E-2,0.1,0.28999999999999998,0.22,0.28000000000000003,0.47,0.41,0.1,0.09,0.27,0.4,0.31,0.08,null,0.42,0.8,0.08,null,0.2,0.84,0.27,0.15,0.26,9.74,2,564,55,0.12,19,null,809,null,19,1.1000000000000001,0.9,0.3,1.9,0,27,5,13.2,null,null,null,null,5.5]
[null,null,null,null,null,null,null,null,null,null,null,null,null,null,null,null,null,null,null,null,null,null,null,null,null,null,null,null,null,null,null,null,null,null,null,null,null,null,null,null,null,null,null,null,null,null,null,null,null,null,null,null,null,null,null,null,null,null,null,null,null,null,null,null,null,null,null,null,null,null,null,null,null,null,null,null,null,null,null,null,null,null,null,null,null,null,null,null,null,null,null,null,null,null,null,null,null,null,null,null,null,null,null,null,null,null,null,null,null,null,null,null,null,null,null,null,null,null,null,null,null,null,null,null,null,null,null,null,null,null,null,null,null,null,"Şeker, esmer",98.4,0.1,0,null,0.9,3.89,3.89,98.1,97,null,null,null,null,null,null,null,null,null,null,null,null,null,null,null,null,null,0.09,0.02,null,8.9999999999999993E-3,0.13300000000000001,2.8000000000000001E-2,null,null,2.98,null,7,3,0.01,2,null,23,0.01,1,1.1000000000000001,0.1,0.1,0.3,0,null,null,0,null,null,null,null,50]
[null,null,null,null,null,null,null,null,null,null,null,null,null,null,null,null,null,null,null,null,null,null,null,null,null,null,null,null,null,null,null,null,null,null,null,null,null,null,null,null,null,null,null,null,null,null,null,null,null,null,null,null,null,null,null,null,null,null,null,null,null,null,null,null,null,null,null,null,null,null,null,null,null,null,null,null,null,null,null,null,null,null,null,null,null,null,null,null,null,null,null,null,null,null,null,null,null,null,null,null,null,null,null,null,null,null,null,null,null,null,null,null,null,null,null,null,null,null,null,null,null,null,null,null,null,null,null,null,null,null,null,null,null,null,"Tahin",97,17,53.8,9.3000000000000007,5,6.18,6.18,8.8000000000000007,0.49,null,23.132999999999999,0.40699999999999997,null,1.52,0.5,0.73099999999999998,1.3,0.54500000000000004,0.56100000000000005,0.34300000000000003,0.90100000000000002,0.71199999999999997,0.70599999999999996,0.372,null,0.95,0.42599999999999999,0.73199999999999998,null,9.5000000000000001E-2,0.41399999999999998,0.115,null,null,16.100000000000001,null,89.5,14.6,0.34399999999999997,46.2,null,null,0.98,54.5,6.93,4.7299999999999995,12.2,1.49,null,33.299999999999997,null,2.5,null,null,null,null,80]
[null,null,null,null,null,null,null,null,null,null,null,null,null,null,null,null,null,null,null,null,null,null,null,null,null,null,null,null,null,null,null,null,null,null,null,null,null,null,null,null,null,null,null,null,null,null,null,null,null,null,null,null,null,null,null,null,null,null,null,null,null,null,null,null,null,null,null,null,null,null,null,null,null,null,null,null,null,null,null,null,null,null,null,null,null,null,null,null,null,null,null,null,null,null,null,null,null,null,null,null,null,null,null,null,null,null,null,null,null,null,null,null,null,null,null,null,null,null,null,null,null,null,null,null,null,null,null,null,null,null,null,null,null,null,"Tarçın, kabuk",90,4,1.2,53.1,3.6,2.46,2.46,24.4,null,24.4,null,1.7999999999999999E-2,null,null,null,null,null,null,null,null,null,null,null,null,null,null,1,6.4000000000000001E-2,null,null,0.43099999999999999,0.01,null,null,3.39,null,83.2,null,3.1E-2,18.3,null,null,0.06,13.3,0,0.41000000000000003,0.21999999999999997,1.58,null,93.3,null,23.2,0.56399999999999995,1.7999999999999999E-2,0,1.7999999999999999E-2,25]
[null,null,null,null,null,null,null,null,null,null,null,null,null,null,null,null,null,null,null,null,null,null,null,null,null,null,null,null,null,null,null,null,null,null,null,null,null,null,null,null,null,null,null,null,null,null,null,null,null,null,null,null,null,null,null,null,null,null,null,null,null,null,null,null,null,null,null,null,null,null,null,null,null,null,null,null,null,null,null,null,null,null,null,null,null,null,null,null,null,null,null,null,null,null,null,null,null,null,null,null,null,null,null,null,null,null,null,null,null,null,null,null,null,null,null,null,null,null,null,null,null,null,null,null,null,null,null,null,null,null,null,null,null,null,"Tatlı patates, çiğ",19.899999999999999,1.3,0.3,2.7,1.1000000000000001,0.72,0.72,14.5,4.18,null,0.113,0.02,null,6.3E-2,2.5000000000000001E-2,6.7000000000000004E-2,9.8000000000000004E-2,6.7000000000000004E-2,3.3000000000000002E-2,1.0999999999999999E-2,8.1000000000000003E-2,5.6000000000000001E-2,6.7000000000000004E-2,1.6E-2,null,8.7999999999999995E-2,4.4499999999999998E-2,4.7E-2,null,1.4999999999999999E-2,0.40799999999999997,3.32E-2,null,null,1.51,null,9.379999999999999,2.58,null,2.02,null,null,0.11,5.57,8,0.61,0.65300000000000002,1.7799999999999998,null,3730,null,null,6.5000000000000002E-2,0.13300000000000001,0.113,0.02,50]
[null,null,null,null,null,null,null,null,null,null,null,null,null,null,null,null,null,null,null,null,null,null,null,null,null,null,null,null,null,null,null,null,null,null,null,null,null,null,null,null,null,null,null,null,null,null,null,null,null,null,null,null,null,null,null,null,null,null,null,null,null,null,null,null,null,null,null,null,null,null,null,null,null,null,null,null,null,null,null,null,null,null,null,null,null,null,null,null,null,null,null,null,null,null,null,null,null,null,null,null,null,null,null,null,null,null,null,null,null,null,null,null,null,null,null,null,null,null,null,null,null,null,null,null,null,null,null,null,null,null,null,null,null,null,"Tritikale, tane",89,10,1.2,2.5,1.69,3.08,3.08,53,5.64,58.8,1.014,0.13800000000000001,null,0.77,0.35,0.47,0.8,0.55000000000000004,0.2,0.24,0.53,0.35,0.41,0.15,null,0.6,2.9000000000000001E-2,0.3,null,0.126,0.36299999999999999,2E-3,null,null,4,0.03,32,40,0.70699999999999996,27,0.02,312,0.38,55,10,1,4,3,0,26.999999999999996,0,10,0.3,0.6,0.6,2.7E-2,20]
[null,null,null,null,null,null,null,null,null,null,null,null,null,null,null,null,null,null,null,null,null,null,null,null,null,null,null,null,null,null,null,null,null,null,null,null,null,null,null,null,null,null,null,null,null,null,null,null,null,null,null,null,null,null,null,null,null,null,null,null,null,null,null,null,null,null,null,null,null,null,null,null,null,null,null,null,null,null,null,null,null,null,null,null,null,null,null,null,null,null,null,null,null,null,null,null,null,null,null,null,null,null,null,null,null,null,null,null,null,null,null,null,null,null,null,null,null,null,null,null,null,null,null,null,null,null,null,null,null,null,null,null,null,null,"Turp, beyaz, çiğ",6.5,1,0.1,0.7,0.8,0.22,0.22,3.9,null,null,1.2E-2,3.5999999999999997E-2,null,8.5999999999999993E-2,1.4999999999999999E-2,2.1000000000000001E-2,3.4000000000000002E-2,0.04,0.01,1.4E-2,1.9E-2,0.01,2.5999999999999999E-2,5.0000000000000001E-3,null,3.5000000000000003E-2,0.05,2.9000000000000001E-2,null,8.9999999999999993E-3,0.35,8.9999999999999993E-3,null,null,0.4,1.1000000000000001E-2,6,0.8,1E-3,3.2,null,null,0.24,4,1.7999999999999998,0.4,0.5,1.1000000000000001,null,16.7,null,null,2.1000000000000001E-2,4.9000000000000002E-2,1.2E-2,3.5999999999999997E-2,10]
[null,null,null,null,null,null,null,null,null,null,null,null,null,null,null,null,null,null,null,null,null,null,null,null,null,null,null,null,null,null,null,null,null,null,null,null,null,null,null,null,null,null,null,null,null,null,null,null,null,null,null,null,null,null,null,null,null,null,null,null,null,null,null,null,null,null,null,null,null,null,null,null,null,null,null,null,null,null,null,null,null,null,null,null,null,null,null,null,null,null,null,null,null,null,null,null,null,null,null,null,null,null,null,null,null,null,null,null,null,null,null,null,null,null,null,null,null,null,null,null,null,null,null,null,null,null,null,null,null,null,null,null,null,null,"Turunçgil Posası,Kuru",91,6.1,3.37,11.56,6.1,2.42,2.42,63.88,20.3,2.9,0.47,0.08,null,0.28999999999999998,0.15,0.2,0.33,0.26,7.0000000000000007E-2,0.09,0.26,0.19,0.2,0.05,null,0.28000000000000003,1.6744000000000001,0.10920000000000001,null,0.15469999999999998,0.71889999999999998,8.1900000000000001E-2,0.03,0.11,5.5,0.09,344,6.4,null,13.7,null,null,0,21.8,14,2.2999999999999998,1.5,0,0,0,null,null,null,null,null,null,3]
[null,null,null,null,null,null,null,null,null,null,null,null,null,null,null,null,null,null,null,null,null,null,null,null,null,null,null,null,null,null,null,null,null,null,null,null,null,null,null,null,null,null,null,null,null,null,null,null,null,null,null,null,null,null,null,null,null,null,null,null,null,null,null,null,null,null,null,null,null,null,null,null,null,null,null,null,null,null,null,null,null,null,null,null,null,null,null,null,null,null,null,null,null,null,null,null,null,null,null,null,null,null,null,null,null,null,null,null,null,null,null,null,null,null,null,null,null,null,null,null,null,null,null,null,null,null,null,null,null,null,null,null,null,null,"Yaban mersini, çiğ",13.3,0.7,0.5,1.5,0.2,0.52,0.52,10.4,9.5,null,null,null,null,null,null,null,null,null,null,null,null,null,null,1.0999999999999999E-2,null,null,1.4999999999999999E-2,8.9999999999999993E-3,null,7.0000000000000001E-3,0.10299999999999999,3.0000000000000001E-3,null,null,1.1000000000000001,1.2E-2,8,33,null,1,null,null,0.06,4,1.6,0.3,0.3,0.6,null,10.8,null,null,null,null,null,null,50]
[null,null,null,null,null,null,null,null,null,null,null,null,null,null,null,null,null,null,null,null,null,null,null,null,null,null,null,null,null,null,null,null,null,null,null,null,null,null,null,null,null,null,null,null,null,null,null,null,null,null,null,null,null,null,null,null,null,null,null,null,null,null,null,null,null,null,null,null,null,null,null,null,null,null,null,null,null,null,null,null,null,null,null,null,null,null,null,null,null,null,null,null,null,null,null,null,null,null,null,null,null,null,null,null,null,null,null,null,null,null,null,null,null,null,null,null,null,null,null,null,null,null,null,null,null,null,null,null,null,null,null,null,null,null,"Yer elması, çiğ",21.6,2.1,0.6,2.6,1.2,0.79,0.79,15.1,4.13,null,0.25600000000000001,6.7000000000000004E-2,null,null,null,null,null,null,null,null,null,null,null,1.4E-2,null,null,2.8000000000000001E-2,7.2300000000000003E-2,null,1.6E-2,0.56100000000000005,3.0000000000000001E-3,null,null,1.2,1E-3,6,null,2.9999999999999997E-4,1,4.6999999999999993E-3,null,0.36,0,3.8,null,0.70000000000000007,0.89999999999999991,null,7.5,null,1.5,0.14499999999999999,0.32400000000000001,0.25600000000000001,6.7000000000000004E-2,1]
[null,null,null,null,null,null,null,null,null,null,null,null,null,null,null,null,null,null,null,null,null,null,null,null,null,null,null,null,null,null,null,null,null,null,null,null,null,null,null,null,null,null,null,null,null,null,null,null,null,null,null,null,null,null,null,null,null,null,null,null,null,null,null,null,null,null,null,null,null,null,null,null,null,null,null,null,null,null,null,null,null,null,null,null,null,null,null,null,null,null,null,null,null,null,null,null,null,null,null,null,null,null,null,null,null,null,null,null,null,null,null,null,null,null,null,null,null,null,null,null,null,null,null,null,null,null,null,null,null,null,null,null,null,null,"Yerfıstığı, kuru",93.5,25.8,37.799999999999997,7.7,2.2999999999999998,5.38,5.38,8.1,3.1,5,null,null,null,3.82,0.76300000000000001,1.19,2,1.05,0.315,0.33400000000000002,1.67,1.05,0.81100000000000005,0.248,null,1.57,5.5600000000000004E-2,0.40899999999999997,null,0.17,0.70299999999999996,2E-3,null,null,8.6,5.0000000000000001E-3,19,15.2,6.9000000000000006E-2,31,0.34,null,1.06,200,28,1,9.1,3.4799999999999995,null,null,null,82,null,null,null,null,1]
[null,null,null,null,null,null,null,null,null,null,null,null,null,null,null,null,null,null,null,null,null,null,null,null,null,null,null,null,null,null,null,null,null,null,null,null,null,null,null,null,null,null,null,null,null,null,null,null,null,null,null,null,null,null,null,null,null,null,null,null,null,null,null,null,null,null,null,null,null,null,null,null,null,null,null,null,null,null,null,null,null,null,null,null,null,null,null,null,null,null,null,null,null,null,null,null,null,null,null,null,null,null,null,null,null,null,null,null,null,null,null,null,null,null,null,null,null,null,null,null,null,null,null,null,null,null,null,null,null,null,null,null,null,null,"Yonca Unu,%20 HP",92,20.239999999999998,3.4040000000000004,20.7,10.396000000000001,1.92,1.92,37.352000000000004,6,0,0.46,0.56999999999999995,null,0.99,0.48,0.88,1.57,1.05,0.34,0.26,1.02,0.71,0.87,0.3,null,1.17,1.6008,0.27600000000000002,null,0.33119999999999999,2.5116000000000001,0.1288,0.65,0.27,11.04,0.15,381.8,35.880000000000003,0.24,20.239999999999998,0.4,14.05,2.944,47.84,35.695999999999998,15.272000000000002,5.4280000000000008,8.831999999999999,2.3E-2,88840.444920000009,null,202,null,null,null,null,10]
[null,null,null,null,null,null,null,null,null,null,null,null,null,null,null,null,null,null,null,null,null,null,null,null,null,null,null,null,null,null,null,null,null,null,null,null,null,null,null,null,null,null,null,null,null,null,null,null,null,null,null,null,null,null,null,null,null,null,null,null,null,null,null,null,null,null,null,null,null,null,null,null,null,null,null,null,null,null,null,null,null,null,null,null,null,null,null,null,null,null,null,null,null,null,null,null,null,null,null,null,null,null,null,null,null,null,null,null,null,null,null,null,null,null,null,null,null,null,null,null,null,null,null,null,null,null,null,null,null,null,null,null,null,null,"Yosun ekstraktı (Maxicrop)",94.8,1.96,null,null,43.6,null,null,null,null,null,null,null,null,null,null,null,null,null,null,null,null,null,null,null,null,null,0.14000000000000001,0.38,null,0.15,1.08,6.11,2.92,1.06,17.440000000000001,3.92,1.04,17.440000000000001,null,43.6,null,null,null,null,null,null,null,null,null,null,null,null,null,null,null,null,100]
[null,null,null,null,null,null,null,null,null,null,null,null,null,null,null,null,null,null,null,null,null,null,null,null,null,null,null,null,null,null,null,null,null,null,null,null,null,null,null,null,null,null,null,null,null,null,null,null,null,null,null,null,null,null,null,null,null,null,null,null,null,null,null,null,null,null,null,null,null,null,null,null,null,null,null,null,null,null,null,null,null,null,null,null,null,null,null,null,null,null,null,null,null,null,null,null,null,null,null,null,null,null,null,null,null,null,null,null,null,null,null,null,null,null,null,null,null,null,null,null,null,null,null,null,null,null,null,null,null,null,null,null,null,null,"Yosun unu, Agar",80.099999999999994,2.2999999999999998,0.3,5,3.2,2.99,2.99,69.3,null,null,null,null,null,null,null,null,null,null,null,null,null,null,null,null,null,null,0.69,1.4E-2,null,null,2.9000000000000001E-2,4.0000000000000001E-3,null,null,5,360,90,null,null,10,null,null,null,null,null,null,null,null,null,null,null,null,null,null,null,null,100]
[null,null,null,null,null,null,null,null,null,null,null,null,null,null,null,null,null,null,null,null,null,null,null,null,null,null,null,null,null,null,null,null,null,null,null,null,null,null,null,null,null,null,null,null,null,null,null,null,null,null,null,null,null,null,null,null,null,null,null,null,null,null,null,null,null,null,null,null,null,null,null,null,null,null,null,null,null,null,null,null,null,null,null,null,null,null,null,null,null,null,null,null,null,null,null,null,null,null,null,null,null,null,null,null,null,null,null,null,null,null,null,null,null,null,null,null,null,null,null,null,null,null,null,null,null,null,null,null,null,null,null,null,null,null,"Yosun unu, Kombu",87.7,7.9,0.5,5.3,24.5,2.4500000000000002,2.4500000000000002,49.5,null,null,null,null,null,null,null,null,null,null,null,null,null,null,null,null,null,null,0.68,0.25,null,null,7.5,3.1,null,null,5,360,33,null,6.9999999999999993E-3,10,null,null,null,15,0,3.2,2.1,0.1,null,367,null,8.6999999999999993,null,null,null,null,100]
[null,null,null,null,null,null,null,null,null,null,null,null,null,null,null,null,null,null,null,null,null,null,null,null,null,null,null,null,null,null,null,null,null,null,null,null,null,null,null,null,null,null,null,null,null,null,null,null,null,null,null,null,null,null,null,null,null,null,null,null,null,null,null,null,null,null,null,null,null,null,null,null,null,null,null,null,null,null,null,null,null,null,null,null,null,null,null,null,null,null,null,null,null,null,null,null,null,null,null,null,null,null,null,null,null,null,null,null,null,null,null,null,null,null,null,null,null,null,null,null,null,null,null,null,null,null,null,null,null,null,null,null,null,null,"Yosun unu, Spirulina",95.3,57.5,7.7,3.6,6.2,2.9,2.9,23.9,3.1,null,1.254,0.82299999999999995,null,4.1500000000000004,1.0900000000000001,3.21,4.95,3.03,1.1499999999999999,0.66,2.78,2,2.58,0.93,null,3.51,0.12,0.11799999999999999,null,0.19500000000000001,1.363,1.048,null,null,61,1200,285,19,7.1999999999999995E-2,20,null,660,0.94,128,35,37,24,4,null,1710,null,50,7.7,2.1,1.254,0.82299999999999995,100]
[null,null,null,null,null,null,null,null,null,null,null,null,null,null,null,null,null,null,null,null,null,null,null,null,null,null,null,null,null,null,null,null,null,null,null,null,null,null,null,null,null,null,null,null,null,null,null,null,null,null,null,null,null,null,null,null,null,null,null,null,null,null,null,null,null,null,null,null,null,null,null,null,null,null,null,null,null,null,null,null,null,null,null,null,null,null,null,null,null,null,null,null,null,null,null,null,null,null,null,null,null,null,null,null,null,null,null,null,null,null,null,null,null,null,null,null,null,null,null,null,null,null,null,null,null,null,null,null,null,null,null,null,null,null,"Yulaf, çiğ",90,11.9,4.5999999999999996,10.8,1.7,3.68,3.66,66.27,1.53,42.12,2.4249999999999998,0.111,null,0.81,0.28999999999999998,0.45,0.87,0.5,0.2,0.33,0.61,0.53,0.41,0.14000000000000001,null,0.62,5.3999999999999999E-2,0.36,null,0.14000000000000001,0.47,0.03,0.11,0.17,7.2,0.1,95,39,0.43,37,0.27,946,0.56000000000000005,12,7.8,1.1000000000000001,6,1,null,609,null,20,1.2,2.5,2.4249999999999998,0.111,7]
[null,null,null,null,null,null,null,null,null,null,null,null,null,null,null,null,null,null,null,null,null,null,null,null,null,null,null,null,null,null,null,null,null,null,null,null,null,null,null,null,null,null,null,null,null,null,null,null,null,null,null,null,null,null,null,null,null,null,null,null,null,null,null,null,null,null,null,null,null,null,null,null,null,null,null,null,null,null,null,null,null,null,null,null,null,null,null,null,null,null,null,null,null,null,null,null,null,null,null,null,null,null,null,null,null,null,null,null,null,null,null,null,null,null,null,null,null,null,null,null,null,null,null,null,null,null,null,null,null,null,null,null,null,null,"Yulaf ezmesi",90.7,13.02,6.05,10.01,2.0299999999999998,3.68,3.68,57.5,1.03,36.200000000000003,2.58,8.5999999999999993E-2,null,0.90800000000000003,0.318,0.56699999999999995,1.02,0.59,0.22700000000000001,0.38600000000000001,0.749,0.43099999999999999,0.47599999999999998,0.184,null,0.84,0.18,0.45500000000000002,0,0.2,0.38500000000000001,6.7000000000000002E-3,5.8000000000000003E-2,null,2,5.0000000000000001E-3,39.300000000000004,58,0.05,30.2,0.19,null,0.47200000000000003,8,15,1.24,4.24,1.44,0,609,0,7.5,1.1299999999999999,2.67,2.58,8.5999999999999993E-2,8.75]
[null,null,null,null,null,null,null,null,null,null,null,null,null,null,null,null,null,null,null,null,null,null,null,null,null,null,null,null,null,null,null,null,null,null,null,null,null,null,null,null,null,null,null,null,null,null,null,null,null,null,null,null,null,null,null,null,null,null,null,null,null,null,null,null,null,null,null,null,null,null,null,null,null,null,null,null,null,null,null,null,null,null,null,null,null,null,null,null,null,null,null,null,null,null,null,null,null,null,null,null,null,null,null,null,null,null,null,null,null,null,null,null,null,null,null,null,null,null,null,null,null,null,null,null,null,null,null,null,null,null,null,null,null,null,"Yulaf, kabuksuz",92,16,6,2.6,2.2000000000000002,4.1100000000000003,4.08,67.400000000000006,1.2,52.6,0.85,0.03,null,0.9,0.25,0.5,1,0.45,0.2,0.26,0.65,null,0.5,0.18,null,0.65,7.0000000000000007E-2,0.45,0.17,0.09,0.34,0.05,null,0.2,6.4,null,35,29,0.09,26,0.2,1232,0.3,18,11,1.3,6.8,null,null,null,null,15,null,null,null,null,9]
[null,null,null,null,null,null,null,null,null,null,null,null,null,null,null,null,null,null,null,null,null,null,null,null,null,null,null,null,null,null,null,null,null,null,null,null,null,null,null,null,null,null,null,null,null,null,null,null,null,null,null,null,null,null,null,null,null,null,null,null,null,null,null,null,null,null,null,null,null,null,null,null,null,null,null,null,null,null,null,null,null,null,null,null,null,null,null,null,null,null,null,null,null,null,null,null,null,null,null,null,null,null,null,null,null,null,null,null,null,null,null,null,null,null,null,null,null,null,null,null,null,null,null,null,null,null,null,null,null,null,null,null,null,null,"Zencefil kökü, çiğ",21.1,1.8,0.8,1,0.8,0.83,0.83,16.7,null,null,0.125,3.5999999999999997E-2,null,4.7E-2,3.2000000000000001E-2,5.5E-2,7.9000000000000001E-2,6.0999999999999999E-2,1.4E-2,8.0000000000000002E-3,4.9000000000000002E-2,2.1999999999999999E-2,3.7999999999999999E-2,1.2999999999999999E-2,null,7.9000000000000001E-2,1.6E-2,3.4000000000000002E-2,null,4.2999999999999997E-2,0.41499999999999998,1.2999999999999999E-2,null,null,2.2600000000000002,null,6,2.29,null,3.4000000000000004,null,null,0.11,7.5,2.0300000000000002,0.34,0.25,1.6,null,null,null,null,0.21,0.161,0.125,3.5999999999999997E-2,50]
[null,null,null,null,null,null,null,null,null,null,null,null,null,null,null,null,null,null,null,null,null,null,null,null,null,null,null,null,null,null,null,null,null,null,null,null,null,null,null,null,null,null,null,null,null,null,null,null,null,null,null,null,null,null,null,null,null,null,null,null,null,null,null,null,null,null,null,null,null,null,null,null,null,null,null,null,null,null,null,null,null,null,null,null,null,null,null,null,null,null,null,null,null,null,null,null,null,null,null,null,null,null,null,null,null,null,null,null,null,null,null,null,null,null,null,null,null,null,null,null,null,null,null,null,null,null,null,null,null,null,null,null,null,null,"Zeytin yaprağı",96.8,13.1,1.97,22.21,5.75,2.2000000000000002,2.2000000000000002,52.34,null,null,null,null,null,null,null,null,null,null,null,null,null,null,null,null,null,null,1.45,8.5000000000000006E-2,null,0.17860000000000001,0.62,0.13159999999999999,null,null,8.4600000000000009,null,179.54,40.42,null,23.5,null,null,null,null,null,null,null,null,null,null,null,null,null,null,null,null,3]
[]
[]
[null,null,null,null,null,null,null,null,null,null,null,null,null,null,null,null,null,null,null,null,null,null,null,null,null,null,null,null,null,null,null,null,null,null,null,null,null,null,null,null,null,null,null,null,null,null,null,null,null,null,null,null,null,null,null,null,null,null,null,null,null,null,null,null,null,null,null,null,null,null,null,null,null,null,null,null,null,null,null,null,null,null,null,null,null,null,null,null,null,null,null,null,null,null,null,null,null,null,null,null,null,null,null,null,null,null,null,null,null,null,null,null,null,null,null,null,null,null,null,null,null,null,null,null,null,null,null,null,null,null,null,null,null,null,"Mineral kaynakları","KM,%","HP,%","HY,%","HS,%","HK,%","ME,kcal/g (köpek)","ME,kcal/g (kedi)","CHO,%","Şeker,%","Nişasta,%","18:2n-6, %","18:3n-3, %","20:4n-6, %","Arjinin, %","Histidin, %","İzolöysin, %","Löysin, %","Lizin, %","Metiyonin, %","Sistin,% ","Fenilalanin, %","Tirozin, % ","Treonin, %","Triptofan, %","Taurin,%","Valin, %","Ca,%","P,%","Kul P,%","Mg,%","K,%","Na,%","Cl,%","S,%","Cu,mg/kg","I,mg/kg","Fe,mg/kg","Mn,mg/kg","Se,mg/kg","Zn,mg/kg","Biotin,mg/kg","Kolin,mg/kg","Folat,mg/kg","Niasin,mg/kg","Pant. asit,mg/kg","Riboflavin,mg/kg","Tiamin,mg/kg","Vit. B6,mg/kg","Vit. B12,mg/kg","Vitamin A,µg/kg","Kolekalsiferol,µg/kg","Vit. E,mg/kg","Doymuş,%","PUFA,%","Toplam n-6,%","Toplam n-3,%","Fiyat,TL"]
[null,null,null,null,null,null,null,null,null,null,null,null,null,null,null,null,null,null,null,null,null,null,null,null,null,null,null,null,null,null,null,null,null,null,null,null,null,null,null,null,null,null,null,null,null,null,null,null,null,null,null,null,null,null,null,null,null,null,null,null,null,null,null,null,null,null,null,null,null,null,null,null,null,null,null,null,null,null,null,null,null,null,null,null,null,null,null,null,null,null,null,null,null,null,null,null,null,null,null,null,null,null,null,null,null,null,null,null,null,null,null,null,null,null,null,null,null,null,null,null,null,null,null,null,null,null,null,null,null,null,null,null,null,null,"Aminovit, litre",10,1.29,null,null,null,null,null,null,null,null,null,null,null,0.06,0.02,0.02,0.06,3,0.05,0.01,0.05,0.02,0.05,2E-3,null,0.06,null,null,null,null,null,null,null,null,null,null,null,null,null,null,15,70000,null,null,2500,2500,2500,500,5,6000000,5000,10000,null,null,null,null,15]
[null,null,null,null,null,null,null,null,null,null,null,null,null,null,null,null,null,null,null,null,null,null,null,null,null,null,null,null,null,null,null,null,null,null,null,null,null,null,null,null,null,null,null,null,null,null,null,null,null,null,null,null,null,null,null,null,null,null,null,null,null,null,null,null,null,null,null,null,null,null,null,null,null,null,null,null,null,null,null,null,null,null,null,null,null,null,null,null,null,null,null,null,null,null,null,null,null,null,null,null,null,null,null,null,null,null,null,null,null,null,null,null,null,null,null,null,null,null,null,null,null,null,null,null,null,null,null,null,null,null,null,null,null,null,"Amonyum fosfat,dibazik",100,null,null,null,35.6,null,null,null,null,null,null,null,null,null,null,null,null,null,null,null,null,null,null,null,null,null,null,20.6,null,null,null,null,null,null,null,null,null,null,null,null,null,null,null,null,null,null,null,null,null,null,null,null,null,null,null,null,9]
[null,null,null,null,null,null,null,null,null,null,null,null,null,null,null,null,null,null,null,null,null,null,null,null,null,null,null,null,null,null,null,null,null,null,null,null,null,null,null,null,null,null,null,null,null,null,null,null,null,null,null,null,null,null,null,null,null,null,null,null,null,null,null,null,null,null,null,null,null,null,null,null,null,null,null,null,null,null,null,null,null,null,null,null,null,null,null,null,null,null,null,null,null,null,null,null,null,null,null,null,null,null,null,null,null,null,null,null,null,null,null,null,null,null,null,null,null,null,null,null,null,null,null,null,null,null,null,null,null,null,null,null,null,null,"Amonyum fosfat,monobazik",100,null,null,null,35.5,null,null,null,null,null,null,null,null,null,null,null,null,null,null,null,null,null,null,null,null,null,null,24.74,null,null,null,null,null,null,null,null,null,null,null,null,null,null,null,null,null,null,null,null,null,null,null,null,null,null,null,null,9]
[null,null,null,null,null,null,null,null,null,null,null,null,null,null,null,null,null,null,null,null,null,null,null,null,null,null,null,null,null,null,null,null,null,null,null,null,null,null,null,null,null,null,null,null,null,null,null,null,null,null,null,null,null,null,null,null,null,null,null,null,null,null,null,null,null,null,null,null,null,null,null,null,null,null,null,null,null,null,null,null,null,null,null,null,null,null,null,null,null,null,null,null,null,null,null,null,null,null,null,null,null,null,null,null,null,null,null,null,null,null,null,null,null,null,null,null,null,null,null,null,null,null,null,null,null,null,null,null,null,null,null,null,null,null,"Amonyum klorid ",100,null,null,null,33,null,null,null,null,null,null,null,null,null,null,null,null,null,null,null,null,null,null,null,null,null,null,null,null,null,null,null,66.28,null,null,null,null,null,null,null,null,null,null,null,null,null,null,null,null,null,null,null,null,null,null,null,9]
[null,null,null,null,null,null,null,null,null,null,null,null,null,null,null,null,null,null,null,null,null,null,null,null,null,null,null,null,null,null,null,null,null,null,null,null,null,null,null,null,null,null,null,null,null,null,null,null,null,null,null,null,null,null,null,null,null,null,null,null,null,null,null,null,null,null,null,null,null,null,null,null,null,null,null,null,null,null,null,null,null,null,null,null,null,null,null,null,null,null,null,null,null,null,null,null,null,null,null,null,null,null,null,null,null,null,null,null,null,null,null,null,null,null,null,null,null,null,null,null,null,null,null,null,null,null,null,null,null,null,null,null,null,null,"Askorbik Asit % 35",100,null,null,null,null,null,null,null,null,null,null,null,null,null,null,null,null,null,null,null,null,null,null,null,null,null,null,null,null,null,null,null,null,null,null,null,null,null,null,null,null,null,null,null,null,null,null,null,null,null,null,null,null,null,null,null,1000]
[null,null,null,null,null,null,null,null,null,null,null,null,null,null,null,null,null,null,null,null,null,null,null,null,null,null,null,null,null,null,null,null,null,null,null,null,null,null,null,null,null,null,null,null,null,null,null,null,null,null,null,null,null,null,null,null,null,null,null,null,null,null,null,null,null,null,null,null,null,null,null,null,null,null,null,null,null,null,null,null,null,null,null,null,null,null,null,null,null,null,null,null,null,null,null,null,null,null,null,null,null,null,null,null,null,null,null,null,null,null,null,null,null,null,null,null,null,null,null,null,null,null,null,null,null,null,null,null,null,null,null,null,null,null,"Bakır iyodid, CuI",100,null,null,null,100,null,null,null,null,null,null,null,null,null,null,null,null,null,null,null,null,null,null,null,null,null,null,null,null,null,null,null,null,null,333600,666.4,null,null,null,null,null,null,null,null,null,null,null,null,null,null,null,null,null,null,null,null,115]
[null,null,null,null,null,null,null,null,null,null,null,null,null,null,null,null,null,null,null,null,null,null,null,null,null,null,null,null,null,null,null,null,null,null,null,null,null,null,null,null,null,null,null,null,null,null,null,null,null,null,null,null,null,null,null,null,null,null,null,null,null,null,null,null,null,null,null,null,null,null,null,null,null,null,null,null,null,null,null,null,null,null,null,null,null,null,null,null,null,null,null,null,null,null,null,null,null,null,null,null,null,null,null,null,null,null,null,null,null,null,null,null,null,null,null,null,null,null,null,null,null,null,null,null,null,null,null,null,null,null,null,null,null,null,"Bakır karbonat, CuCO3",100,null,null,null,100,null,null,null,null,null,null,null,null,null,null,null,null,null,null,null,null,null,null,null,null,null,null,null,null,null,null,null,null,null,530000,null,null,null,null,null,null,null,null,null,null,null,null,null,null,null,null,null,null,null,null,null,115]
[null,null,null,null,null,null,null,null,null,null,null,null,null,null,null,null,null,null,null,null,null,null,null,null,null,null,null,null,null,null,null,null,null,null,null,null,null,null,null,null,null,null,null,null,null,null,null,null,null,null,null,null,null,null,null,null,null,null,null,null,null,null,null,null,null,null,null,null,null,null,null,null,null,null,null,null,null,null,null,null,null,null,null,null,null,null,null,null,null,null,null,null,null,null,null,null,null,null,null,null,null,null,null,null,null,null,null,null,null,null,null,null,null,null,null,null,null,null,null,null,null,null,null,null,null,null,null,null,null,null,null,null,null,null,"Bakır klorid, 2 sulu, CuCl.2H2O",100,null,null,null,100,null,null,null,null,null,null,null,null,null,null,null,null,null,null,null,null,null,null,null,null,null,null,null,null,null,null,null,null,null,372000,null,null,null,null,null,null,null,null,null,null,null,null,null,null,null,null,null,null,null,null,null,115]
[null,null,null,null,null,null,null,null,null,null,null,null,null,null,null,null,null,null,null,null,null,null,null,null,null,null,null,null,null,null,null,null,null,null,null,null,null,null,null,null,null,null,null,null,null,null,null,null,null,null,null,null,null,null,null,null,null,null,null,null,null,null,null,null,null,null,null,null,null,null,null,null,null,null,null,null,null,null,null,null,null,null,null,null,null,null,null,null,null,null,null,null,null,null,null,null,null,null,null,null,null,null,null,null,null,null,null,null,null,null,null,null,null,null,null,null,null,null,null,null,null,null,null,null,null,null,null,null,null,null,null,null,null,null,"Bakır oksit, Cu2O",100,null,null,null,100,null,null,null,null,null,null,null,null,null,null,null,null,null,null,null,null,null,null,null,null,null,null,null,null,null,null,null,null,null,888200,null,null,null,null,null,null,null,null,null,null,null,null,null,null,null,null,null,null,null,null,null,115]
[null,null,null,null,null,null,null,null,null,null,null,null,null,null,null,null,null,null,null,null,null,null,null,null,null,null,null,null,null,null,null,null,null,null,null,null,null,null,null,null,null,null,null,null,null,null,null,null,null,null,null,null,null,null,null,null,null,null,null,null,null,null,null,null,null,null,null,null,null,null,null,null,null,null,null,null,null,null,null,null,null,null,null,null,null,null,null,null,null,null,null,null,null,null,null,null,null,null,null,null,null,null,null,null,null,null,null,null,null,null,null,null,null,null,null,null,null,null,null,null,null,null,null,null,null,null,null,null,null,null,null,null,null,null,"Bakır oksit, CuO",100,null,null,null,100,null,null,null,null,null,null,null,null,null,null,null,null,null,null,null,null,null,null,null,null,null,null,null,null,null,null,null,null,null,798800,null,null,null,null,null,null,null,null,null,null,null,null,null,null,null,null,null,null,null,null,null,115]
[null,null,null,null,null,null,null,null,null,null,null,null,null,null,null,null,null,null,null,null,null,null,null,null,null,null,null,null,null,null,null,null,null,null,null,null,null,null,null,null,null,null,null,null,null,null,null,null,null,null,null,null,null,null,null,null,null,null,null,null,null,null,null,null,null,null,null,null,null,null,null,null,null,null,null,null,null,null,null,null,null,null,null,null,null,null,null,null,null,null,null,null,null,null,null,null,null,null,null,null,null,null,null,null,null,null,null,null,null,null,null,null,null,null,null,null,null,null,null,null,null,null,null,null,null,null,null,null,null,null,null,null,null,null,"Bakır sülfat, 5 sulu, CuSO4.5H2O",64,null,null,null,100,null,null,null,null,null,null,null,null,null,null,null,null,null,null,null,null,null,null,null,null,null,null,null,null,null,null,null,null,null,254500,null,null,null,null,null,null,null,null,null,null,null,null,null,null,null,null,null,null,null,null,null,115]
[null,null,null,null,null,null,null,null,null,null,null,null,null,null,null,null,null,null,null,null,null,null,null,null,null,null,null,null,null,null,null,null,null,null,null,null,null,null,null,null,null,null,null,null,null,null,null,null,null,null,null,null,null,null,null,null,null,null,null,null,null,null,null,null,null,null,null,null,null,null,null,null,null,null,null,null,null,null,null,null,null,null,null,null,null,null,null,null,null,null,null,null,null,null,null,null,null,null,null,null,null,null,null,null,null,null,null,null,null,null,null,null,null,null,null,null,null,null,null,null,null,null,null,null,null,null,null,null,null,null,null,null,null,null,"Bro-vit (Bilyem)",100,null,null,null,null,null,null,null,null,null,null,null,null,null,null,null,null,null,null,null,null,null,null,null,null,null,null,null,null,null,null,null,null,null,null,null,null,null,null,null,250,null,2000,50000,20000,8000,4000,5000,25,3600000,125000,50000,null,null,null,null,25]
[null,null,null,null,null,null,null,null,null,null,null,null,null,null,null,null,null,null,null,null,null,null,null,null,null,null,null,null,null,null,null,null,null,null,null,null,null,null,null,null,null,null,null,null,null,null,null,null,null,null,null,null,null,null,null,null,null,null,null,null,null,null,null,null,null,null,null,null,null,null,null,null,null,null,null,null,null,null,null,null,null,null,null,null,null,null,null,null,null,null,null,null,null,null,null,null,null,null,null,null,null,null,null,null,null,null,null,null,null,null,null,null,null,null,null,null,null,null,null,null,null,null,null,null,null,null,null,null,null,null,null,null,null,null,"Calpan (Ca-D-Pantotenat)",100,null,null,null,100,null,null,null,null,null,null,null,null,null,null,null,null,null,null,null,null,null,null,null,null,null,8.4,null,null,null,null,null,null,null,null,null,null,null,null,null,null,null,null,null,980000,0,0,0,0,0,null,null,null,null,null,null,2]
[null,null,null,null,null,null,null,null,null,null,null,null,null,null,null,null,null,null,null,null,null,null,null,null,null,null,null,null,null,null,null,null,null,null,null,null,null,null,null,null,null,null,null,null,null,null,null,null,null,null,null,null,null,null,null,null,null,null,null,null,null,null,null,null,null,null,null,null,null,null,null,null,null,null,null,null,null,null,null,null,null,null,null,null,null,null,null,null,null,null,null,null,null,null,null,null,null,null,null,null,null,null,null,null,null,null,null,null,null,null,null,null,null,null,null,null,null,null,null,null,null,null,null,null,null,null,null,null,null,null,null,null,null,null,"Çinko karbonat, ZnCO3",100,null,null,null,100,null,null,null,null,null,null,null,null,null,null,null,null,null,null,null,null,null,null,null,null,null,null,null,null,null,null,null,null,null,null,null,null,null,null,521400,null,null,null,null,null,null,null,null,null,null,null,null,null,null,null,null,105]
[null,null,null,null,null,null,null,null,null,null,null,null,null,null,null,null,null,null,null,null,null,null,null,null,null,null,null,null,null,null,null,null,null,null,null,null,null,null,null,null,null,null,null,null,null,null,null,null,null,null,null,null,null,null,null,null,null,null,null,null,null,null,null,null,null,null,null,null,null,null,null,null,null,null,null,null,null,null,null,null,null,null,null,null,null,null,null,null,null,null,null,null,null,null,null,null,null,null,null,null,null,null,null,null,null,null,null,null,null,null,null,null,null,null,null,null,null,null,null,null,null,null,null,null,null,null,null,null,null,null,null,null,null,null,"Çinko klorid, ZnCl2",100,null,null,null,100,null,null,null,null,null,null,null,null,null,null,null,null,null,null,null,null,null,null,null,null,null,null,null,null,null,null,null,null,null,null,null,null,null,null,479700,null,null,null,null,null,null,null,null,null,null,null,null,null,null,null,null,105]
[null,null,null,null,null,null,null,null,null,null,null,null,null,null,null,null,null,null,null,null,null,null,null,null,null,null,null,null,null,null,null,null,null,null,null,null,null,null,null,null,null,null,null,null,null,null,null,null,null,null,null,null,null,null,null,null,null,null,null,null,null,null,null,null,null,null,null,null,null,null,null,null,null,null,null,null,null,null,null,null,null,null,null,null,null,null,null,null,null,null,null,null,null,null,null,null,null,null,null,null,null,null,null,null,null,null,null,null,null,null,null,null,null,null,null,null,null,null,null,null,null,null,null,null,null,null,null,null,null,null,null,null,null,null,"Çinko oksit, ZnO",100,null,null,null,100,null,null,null,null,null,null,null,null,null,null,null,null,null,null,null,null,null,null,null,null,null,null,null,null,null,null,null,null,null,null,null,null,null,null,780000,null,null,null,null,null,null,null,null,null,null,null,null,null,null,null,null,105]
[null,null,null,null,null,null,null,null,null,null,null,null,null,null,null,null,null,null,null,null,null,null,null,null,null,null,null,null,null,null,null,null,null,null,null,null,null,null,null,null,null,null,null,null,null,null,null,null,null,null,null,null,null,null,null,null,null,null,null,null,null,null,null,null,null,null,null,null,null,null,null,null,null,null,null,null,null,null,null,null,null,null,null,null,null,null,null,null,null,null,null,null,null,null,null,null,null,null,null,null,null,null,null,null,null,null,null,null,null,null,null,null,null,null,null,null,null,null,null,null,null,null,null,null,null,null,null,null,null,null,null,null,null,null,"Çinko proteinat",100,null,null,null,null,null,null,null,null,null,null,null,null,null,null,null,null,null,null,null,null,null,null,null,null,null,null,null,null,null,null,null,null,null,null,null,null,null,null,150000,null,null,null,null,null,null,null,null,null,null,null,null,null,null,null,null,105]
[null,null,null,null,null,null,null,null,null,null,null,null,null,null,null,null,null,null,null,null,null,null,null,null,null,null,null,null,null,null,null,null,null,null,null,null,null,null,null,null,null,null,null,null,null,null,null,null,null,null,null,null,null,null,null,null,null,null,null,null,null,null,null,null,null,null,null,null,null,null,null,null,null,null,null,null,null,null,null,null,null,null,null,null,null,null,null,null,null,null,null,null,null,null,null,null,null,null,null,null,null,null,null,null,null,null,null,null,null,null,null,null,null,null,null,null,null,null,null,null,null,null,null,null,null,null,null,null,null,null,null,null,null,null,"Çinko sülfat, ZnSO4.H2O",100,null,null,null,100,null,null,null,null,null,null,null,null,null,null,null,null,null,null,null,null,null,null,null,null,null,null,null,null,null,null,null,null,null,null,null,null,null,null,363600,null,null,null,null,null,null,null,null,null,null,null,null,null,null,null,null,105]
[null,null,null,null,null,null,null,null,null,null,null,null,null,null,null,null,null,null,null,null,null,null,null,null,null,null,null,null,null,null,null,null,null,null,null,null,null,null,null,null,null,null,null,null,null,null,null,null,null,null,null,null,null,null,null,null,null,null,null,null,null,null,null,null,null,null,null,null,null,null,null,null,null,null,null,null,null,null,null,null,null,null,null,null,null,null,null,null,null,null,null,null,null,null,null,null,null,null,null,null,null,null,null,null,null,null,null,null,null,null,null,null,null,null,null,null,null,null,null,null,null,null,null,null,null,null,null,null,null,null,null,null,null,null,"Demir karbonat, FeCO3",100,null,null,null,100,null,null,null,null,null,null,null,null,null,null,null,null,null,null,null,null,null,null,null,null,null,null,null,null,null,null,null,null,null,3000,null,430000,3500,null,null,null,null,null,null,null,null,null,null,null,null,null,null,null,null,null,null,8]
[null,null,null,null,null,null,null,null,null,null,null,null,null,null,null,null,null,null,null,null,null,null,null,null,null,null,null,null,null,null,null,null,null,null,null,null,null,null,null,null,null,null,null,null,null,null,null,null,null,null,null,null,null,null,null,null,null,null,null,null,null,null,null,null,null,null,null,null,null,null,null,null,null,null,null,null,null,null,null,null,null,null,null,null,null,null,null,null,null,null,null,null,null,null,null,null,null,null,null,null,null,null,null,null,null,null,null,null,null,null,null,null,null,null,null,null,null,null,null,null,null,null,null,null,null,null,null,null,null,null,null,null,null,null,"Demir sülfat, 7 sulu, FeSO4.7H2O ",55,null,null,null,55,null,null,null,null,null,null,null,null,null,null,null,null,null,null,null,null,null,null,null,null,null,null,null,null,null,null,null,null,null,null,null,210000,1200,null,100,null,null,null,null,null,null,null,null,null,null,null,null,null,null,null,null,8]
[null,null,null,null,null,null,null,null,null,null,null,null,null,null,null,null,null,null,null,null,null,null,null,null,null,null,null,null,null,null,null,null,null,null,null,null,null,null,null,null,null,null,null,null,null,null,null,null,null,null,null,null,null,null,null,null,null,null,null,null,null,null,null,null,null,null,null,null,null,null,null,null,null,null,null,null,null,null,null,null,null,null,null,null,null,null,null,null,null,null,null,null,null,null,null,null,null,null,null,null,null,null,null,null,null,null,null,null,null,null,null,null,null,null,null,null,null,null,null,null,null,null,null,null,null,null,null,null,null,null,null,null,null,null,"Dikalsiyumfosfat (Organik)",87,null,null,null,100,null,null,null,null,null,null,null,null,null,null,null,null,null,null,null,null,null,null,null,null,null,21,17,null,0.02,0.03,0.24,0.45,null,1,null,120,250,null,240,null,null,null,null,null,null,null,null,null,null,null,null,null,null,null,null,35]
[null,null,null,null,null,null,null,null,null,null,null,null,null,null,null,null,null,null,null,null,null,null,null,null,null,null,null,null,null,null,null,null,null,null,null,null,null,null,null,null,null,null,null,null,null,null,null,null,null,null,null,null,null,null,null,null,null,null,null,null,null,null,null,null,null,null,null,null,null,null,null,null,null,null,null,null,null,null,null,null,null,null,null,null,null,null,null,null,null,null,null,null,null,null,null,null,null,null,null,null,null,null,null,null,null,null,null,null,null,null,null,null,null,null,null,null,null,null,null,null,null,null,null,null,null,null,null,null,null,null,null,null,null,null,"Folik Asit",100,null,null,null,null,null,null,null,null,null,null,null,null,null,null,null,null,null,null,null,null,null,null,null,null,null,null,null,null,null,null,null,null,null,null,null,null,null,null,null,null,null,800,0,0,0,0,0,0,0,null,null,null,null,null,null,1000]
[null,null,null,null,null,null,null,null,null,null,null,null,null,null,null,null,null,null,null,null,null,null,null,null,null,null,null,null,null,null,null,null,null,null,null,null,null,null,null,null,null,null,null,null,null,null,null,null,null,null,null,null,null,null,null,null,null,null,null,null,null,null,null,null,null,null,null,null,null,null,null,null,null,null,null,null,null,null,null,null,null,null,null,null,null,null,null,null,null,null,null,null,null,null,null,null,null,null,null,null,null,null,null,null,null,null,null,null,null,null,null,null,null,null,null,null,null,null,null,null,null,null,null,null,null,null,null,null,null,null,null,null,null,null,"Fosfat, floru alınmış",100,null,null,null,100,null,null,null,null,null,null,null,null,null,null,null,null,null,null,null,null,null,null,null,null,null,32,18,null,null,null,4.9000000000000004,null,null,null,null,null,null,null,null,null,null,null,null,null,null,null,null,null,null,null,null,null,null,null,null,2]
[null,null,null,null,null,null,null,null,null,null,null,null,null,null,null,null,null,null,null,null,null,null,null,null,null,null,null,null,null,null,null,null,null,null,null,null,null,null,null,null,null,null,null,null,null,null,null,null,null,null,null,null,null,null,null,null,null,null,null,null,null,null,null,null,null,null,null,null,null,null,null,null,null,null,null,null,null,null,null,null,null,null,null,null,null,null,null,null,null,null,null,null,null,null,null,null,null,null,null,null,null,null,null,null,null,null,null,null,null,null,null,null,null,null,null,null,null,null,null,null,null,null,null,null,null,null,null,null,null,null,null,null,null,null,"İstiridye kabuğu",100,null,null,null,100,null,null,null,null,null,null,null,null,null,null,null,null,null,null,null,null,null,null,null,null,null,38,null,null,null,null,null,null,null,null,null,null,null,null,null,null,null,null,null,null,null,null,null,null,null,null,null,null,null,null,null,2]
[null,null,null,null,null,null,null,null,null,null,null,null,null,null,null,null,null,null,null,null,null,null,null,null,null,null,null,null,null,null,null,null,null,null,null,null,null,null,null,null,null,null,null,null,null,null,null,null,null,null,null,null,null,null,null,null,null,null,null,null,null,null,null,null,null,null,null,null,null,null,null,null,null,null,null,null,null,null,null,null,null,null,null,null,null,null,null,null,null,null,null,null,null,null,null,null,null,null,null,null,null,null,null,null,null,null,null,null,null,null,null,null,null,null,null,null,null,null,null,null,null,null,null,null,null,null,null,null,null,null,null,null,null,null,"İyotlu tuz",100,null,null,null,100,null,null,null,null,null,null,null,null,null,null,null,null,null,null,null,null,null,null,null,null,null,null,null,null,null,0.4,38.799999999999997,60,null,null,70,1E-4,null,null,null,null,null,null,null,null,null,null,null,null,null,null,null,null,null,null,null,1.5]
[null,null,null,null,null,null,null,null,null,null,null,null,null,null,null,null,null,null,null,null,null,null,null,null,null,null,null,null,null,null,null,null,null,null,null,null,null,null,null,null,null,null,null,null,null,null,null,null,null,null,null,null,null,null,null,null,null,null,null,null,null,null,null,null,null,null,null,null,null,null,null,null,null,null,null,null,null,null,null,null,null,null,null,null,null,null,null,null,null,null,null,null,null,null,null,null,null,null,null,null,null,null,null,null,null,null,null,null,null,null,null,null,null,null,null,null,null,null,null,null,null,null,null,null,null,null,null,null,null,null,null,null,null,null,"Kabartma tozu",95.5,null,1.2,null,41.8,127,127,29,null,null,null,null,null,null,null,null,null,null,null,null,null,null,null,null,null,null,2.4,3.7,null,1E-3,3.9,6.8,null,null,null,null,1E-4,null,null,null,null,null,null,null,null,null,null,null,null,null,null,null,null,null,null,null,2]
[null,null,null,null,null,null,null,null,null,null,null,null,null,null,null,null,null,null,null,null,null,null,null,null,null,null,null,null,null,null,null,null,null,null,null,null,null,null,null,null,null,null,null,null,null,null,null,null,null,null,null,null,null,null,null,null,null,null,null,null,null,null,null,null,null,null,null,null,null,null,null,null,null,null,null,null,null,null,null,null,null,null,null,null,null,null,null,null,null,null,null,null,null,null,null,null,null,null,null,null,null,null,null,null,null,null,null,null,null,null,null,null,null,null,null,null,null,null,null,null,null,null,null,null,null,null,null,null,null,null,null,null,null,null,"Kalsiyum fosfat, dibazik ",100,null,null,null,100,null,null,null,null,null,null,null,null,null,null,null,null,null,null,null,null,null,null,null,null,null,22,19.3,null,null,null,null,null,null,null,null,null,null,null,null,null,null,null,null,null,null,null,null,null,null,null,null,null,null,null,null,2]
[null,null,null,null,null,null,null,null,null,null,null,null,null,null,null,null,null,null,null,null,null,null,null,null,null,null,null,null,null,null,null,null,null,null,null,null,null,null,null,null,null,null,null,null,null,null,null,null,null,null,null,null,null,null,null,null,null,null,null,null,null,null,null,null,null,null,null,null,null,null,null,null,null,null,null,null,null,null,null,null,null,null,null,null,null,null,null,null,null,null,null,null,null,null,null,null,null,null,null,null,null,null,null,null,null,null,null,null,null,null,null,null,null,null,null,null,null,null,null,null,null,null,null,null,null,null,null,null,null,null,null,null,null,null,"Kalsiyum hidroksit ",100,null,null,null,100,null,null,null,null,null,null,null,null,null,null,null,null,null,null,null,null,null,null,null,null,null,54.09,null,null,null,null,null,null,null,null,null,null,null,null,null,null,null,null,null,null,null,null,null,null,null,null,null,null,null,null,null,2]
[null,null,null,null,null,null,null,null,null,null,null,null,null,null,null,null,null,null,null,null,null,null,null,null,null,null,null,null,null,null,null,null,null,null,null,null,null,null,null,null,null,null,null,null,null,null,null,null,null,null,null,null,null,null,null,null,null,null,null,null,null,null,null,null,null,null,null,null,null,null,null,null,null,null,null,null,null,null,null,null,null,null,null,null,null,null,null,null,null,null,null,null,null,null,null,null,null,null,null,null,null,null,null,null,null,null,null,null,null,null,null,null,null,null,null,null,null,null,null,null,null,null,null,null,null,null,null,null,null,null,null,null,null,null,"Kalsiyum iyodat",100,null,null,null,100,null,null,null,null,null,null,null,null,null,null,null,null,null,null,null,null,null,null,null,null,null,10,null,null,null,null,null,null,null,null,635000,null,null,null,null,null,null,null,null,null,null,null,null,null,null,null,null,null,null,null,null,2]
[null,null,null,null,null,null,null,null,null,null,null,null,null,null,null,null,null,null,null,null,null,null,null,null,null,null,null,null,null,null,null,null,null,null,null,null,null,null,null,null,null,null,null,null,null,null,null,null,null,null,null,null,null,null,null,null,null,null,null,null,null,null,null,null,null,null,null,null,null,null,null,null,null,null,null,null,null,null,null,null,null,null,null,null,null,null,null,null,null,null,null,null,null,null,null,null,null,null,null,null,null,null,null,null,null,null,null,null,null,null,null,null,null,null,null,null,null,null,null,null,null,null,null,null,null,null,null,null,null,null,null,null,null,null,"Kalsiyum karbonat",100,null,null,null,100,null,null,null,null,null,null,null,null,null,null,null,null,null,null,null,null,null,null,null,null,null,39.39,null,null,null,null,null,null,null,null,null,null,null,null,null,null,null,null,null,null,null,null,null,null,null,null,null,null,null,null,null,2]
[null,null,null,null,null,null,null,null,null,null,null,null,null,null,null,null,null,null,null,null,null,null,null,null,null,null,null,null,null,null,null,null,null,null,null,null,null,null,null,null,null,null,null,null,null,null,null,null,null,null,null,null,null,null,null,null,null,null,null,null,null,null,null,null,null,null,null,null,null,null,null,null,null,null,null,null,null,null,null,null,null,null,null,null,null,null,null,null,null,null,null,null,null,null,null,null,null,null,null,null,null,null,null,null,null,null,null,null,null,null,null,null,null,null,null,null,null,null,null,null,null,null,null,null,null,null,null,null,null,null,null,null,null,null,"Kemik unu",97,8.15,3.3,2.04,70.42,0.9,0.9,10.38,null,null,null,null,null,null,null,null,null,null,null,null,null,null,null,null,null,null,30.71,12.86,null,0.62,0.18,0.39,null,null,13.58,null,756.6,32.979999999999997,null,331.74,null,null,0,3.88,2.4249999999999998,0.873,0.38800000000000001,null,null,null,null,null,null,null,null,null,75]
[null,null,null,null,null,null,null,null,null,null,null,null,null,null,null,null,null,null,null,null,null,null,null,null,null,null,null,null,null,null,null,null,null,null,null,null,null,null,null,null,null,null,null,null,null,null,null,null,null,null,null,null,null,null,null,null,null,null,null,null,null,null,null,null,null,null,null,null,null,null,null,null,null,null,null,null,null,null,null,null,null,null,null,null,null,null,null,null,null,null,null,null,null,null,null,null,null,null,null,null,null,null,null,null,null,null,null,null,null,null,null,null,null,null,null,null,null,null,null,null,null,null,null,null,null,null,null,null,null,null,null,null,null,null,"Kireç taşı",99,null,null,null,99,null,null,null,null,null,null,null,null,null,null,null,null,null,null,null,null,null,null,null,null,null,34,null,null,2.06,null,null,null,null,null,null,null,null,null,null,null,null,null,null,null,null,null,null,null,null,null,null,null,null,null,null,2]
[null,null,null,null,null,null,null,null,null,null,null,null,null,null,null,null,null,null,null,null,null,null,null,null,null,null,null,null,null,null,null,null,null,null,null,null,null,null,null,null,null,null,null,null,null,null,null,null,null,null,null,null,null,null,null,null,null,null,null,null,null,null,null,null,null,null,null,null,null,null,null,null,null,null,null,null,null,null,null,null,null,null,null,null,null,null,null,null,null,null,null,null,null,null,null,null,null,null,null,null,null,null,null,null,null,null,null,null,null,null,null,null,null,null,null,null,null,null,null,null,null,null,null,null,null,null,null,null,null,null,null,null,null,null,"Kolin klorür60",100,null,null,null,50,null,null,null,null,null,null,null,null,null,null,null,null,null,null,null,null,null,null,null,null,null,null,null,null,null,null,null,null,null,null,null,null,null,null,null,null,445000,null,null,null,null,null,null,null,null,null,null,null,null,null,null,8]
[null,null,null,null,null,null,null,null,null,null,null,null,null,null,null,null,null,null,null,null,null,null,null,null,null,null,null,null,null,null,null,null,null,null,null,null,null,null,null,null,null,null,null,null,null,null,null,null,null,null,null,null,null,null,null,null,null,null,null,null,null,null,null,null,null,null,null,null,null,null,null,null,null,null,null,null,null,null,null,null,null,null,null,null,null,null,null,null,null,null,null,null,null,null,null,null,null,null,null,null,null,null,null,null,null,null,null,null,null,null,null,null,null,null,null,null,null,null,null,null,null,null,null,null,null,null,null,null,null,null,null,null,null,null,"L-Lizin",100,null,null,null,null,null,null,null,null,null,null,null,null,null,null,null,null,87,null,null,null,null,null,null,null,null,null,null,null,null,null,null,null,null,null,null,null,null,null,null,null,null,null,null,null,null,null,null,null,null,null,null,null,null,null,null,66]
[null,null,null,null,null,null,null,null,null,null,null,null,null,null,null,null,null,null,null,null,null,null,null,null,null,null,null,null,null,null,null,null,null,null,null,null,null,null,null,null,null,null,null,null,null,null,null,null,null,null,null,null,null,null,null,null,null,null,null,null,null,null,null,null,null,null,null,null,null,null,null,null,null,null,null,null,null,null,null,null,null,null,null,null,null,null,null,null,null,null,null,null,null,null,null,null,null,null,null,null,null,null,null,null,null,null,null,null,null,null,null,null,null,null,null,null,null,null,null,null,null,null,null,null,null,null,null,null,null,null,null,null,null,null,"Macromin, litre",8.9,null,null,null,8.9,null,null,null,null,null,null,null,null,null,null,null,null,null,null,null,null,null,null,null,null,null,3,3,null,null,null,null,6.76,null,1650,null,2750,5450,null,3360,null,null,null,null,null,null,null,null,null,null,null,null,null,null,null,null,10]
[null,null,null,null,null,null,null,null,null,null,null,null,null,null,null,null,null,null,null,null,null,null,null,null,null,null,null,null,null,null,null,null,null,null,null,null,null,null,null,null,null,null,null,null,null,null,null,null,null,null,null,null,null,null,null,null,null,null,null,null,null,null,null,null,null,null,null,null,null,null,null,null,null,null,null,null,null,null,null,null,null,null,null,null,null,null,null,null,null,null,null,null,null,null,null,null,null,null,null,null,null,null,null,null,null,null,null,null,null,null,null,null,null,null,null,null,null,null,null,null,null,null,null,null,null,null,null,null,null,null,null,null,null,null,"Magnezyum klorid, 6 sulu",60,null,null,null,60,null,null,null,null,null,null,null,null,null,null,null,null,null,null,null,null,null,null,null,null,null,null,null,null,11.96,null,null,34.880000000000003,null,null,null,null,null,null,null,null,null,null,null,null,null,null,null,null,null,null,null,null,null,null,null,8]
[null,null,null,null,null,null,null,null,null,null,null,null,null,null,null,null,null,null,null,null,null,null,null,null,null,null,null,null,null,null,null,null,null,null,null,null,null,null,null,null,null,null,null,null,null,null,null,null,null,null,null,null,null,null,null,null,null,null,null,null,null,null,null,null,null,null,null,null,null,null,null,null,null,null,null,null,null,null,null,null,null,null,null,null,null,null,null,null,null,null,null,null,null,null,null,null,null,null,null,null,null,null,null,null,null,null,null,null,null,null,null,null,null,null,null,null,null,null,null,null,null,null,null,null,null,null,null,null,null,null,null,null,null,null,"Magnezyum sülfat",100,null,null,null,100,null,null,null,null,null,null,null,null,null,null,null,null,null,null,null,null,null,null,null,null,null,null,null,null,9.8000000000000007,null,null,null,null,null,null,null,null,null,null,null,null,null,null,null,null,null,null,null,null,null,null,null,null,null,null,8]
[null,null,null,null,null,null,null,null,null,null,null,null,null,null,null,null,null,null,null,null,null,null,null,null,null,null,null,null,null,null,null,null,null,null,null,null,null,null,null,null,null,null,null,null,null,null,null,null,null,null,null,null,null,null,null,null,null,null,null,null,null,null,null,null,null,null,null,null,null,null,null,null,null,null,null,null,null,null,null,null,null,null,null,null,null,null,null,null,null,null,null,null,null,null,null,null,null,null,null,null,null,null,null,null,null,null,null,null,null,null,null,null,null,null,null,null,null,null,null,null,null,null,null,null,null,null,null,null,null,null,null,null,null,null,"Manganez karbonat, MnCO3",100,null,null,null,100,null,null,null,null,null,null,null,null,null,null,null,null,null,null,null,null,null,null,null,null,null,null,null,null,null,null,null,null,null,null,null,null,478000,null,null,null,null,null,null,null,null,null,null,null,null,null,null,null,null,null,null,8]
[null,null,null,null,null,null,null,null,null,null,null,null,null,null,null,null,null,null,null,null,null,null,null,null,null,null,null,null,null,null,null,null,null,null,null,null,null,null,null,null,null,null,null,null,null,null,null,null,null,null,null,null,null,null,null,null,null,null,null,null,null,null,null,null,null,null,null,null,null,null,null,null,null,null,null,null,null,null,null,null,null,null,null,null,null,null,null,null,null,null,null,null,null,null,null,null,null,null,null,null,null,null,null,null,null,null,null,null,null,null,null,null,null,null,null,null,null,null,null,null,null,null,null,null,null,null,null,null,null,null,null,null,null,null,"Manganez klorid, MnCl2",100,null,null,null,100,null,null,null,null,null,null,null,null,null,null,null,null,null,null,null,null,null,null,null,null,null,null,null,null,null,null,null,null,null,null,null,null,430000,null,null,null,null,null,null,null,null,null,null,null,null,null,null,null,null,null,null,8]
[null,null,null,null,null,null,null,null,null,null,null,null,null,null,null,null,null,null,null,null,null,null,null,null,null,null,null,null,null,null,null,null,null,null,null,null,null,null,null,null,null,null,null,null,null,null,null,null,null,null,null,null,null,null,null,null,null,null,null,null,null,null,null,null,null,null,null,null,null,null,null,null,null,null,null,null,null,null,null,null,null,null,null,null,null,null,null,null,null,null,null,null,null,null,null,null,null,null,null,null,null,null,null,null,null,null,null,null,null,null,null,null,null,null,null,null,null,null,null,null,null,null,null,null,null,null,null,null,null,null,null,null,null,null,"Manganez oksit, MnO",100,null,null,null,100,null,null,null,null,null,null,null,null,null,null,null,null,null,null,null,null,null,null,null,null,null,null,null,null,null,null,null,null,null,2000,null,34000,600000,null,null,null,null,null,null,null,null,null,null,null,null,null,null,null,null,null,null,8]
[null,null,null,null,null,null,null,null,null,null,null,null,null,null,null,null,null,null,null,null,null,null,null,null,null,null,null,null,null,null,null,null,null,null,null,null,null,null,null,null,null,null,null,null,null,null,null,null,null,null,null,null,null,null,null,null,null,null,null,null,null,null,null,null,null,null,null,null,null,null,null,null,null,null,null,null,null,null,null,null,null,null,null,null,null,null,null,null,null,null,null,null,null,null,null,null,null,null,null,null,null,null,null,null,null,null,null,null,null,null,null,null,null,null,null,null,null,null,null,null,null,null,null,null,null,null,null,null,null,null,null,null,null,null,"Minesol",10,null,null,null,10,null,null,null,null,null,null,null,null,null,null,null,null,500,1000,null,null,null,null,null,null,null,2,7.5,null,0.32,0.105,0.16,null,null,250,null,1600,600,10,650,null,null,null,null,null,null,null,null,null,null,null,null,null,null,null,null,1120]
[null,null,null,null,null,null,null,null,null,null,null,null,null,null,null,null,null,null,null,null,null,null,null,null,null,null,null,null,null,null,null,null,null,null,null,null,null,null,null,null,null,null,null,null,null,null,null,null,null,null,null,null,null,null,null,null,null,null,null,null,null,null,null,null,null,null,null,null,null,null,null,null,null,null,null,null,null,null,null,null,null,null,null,null,null,null,null,null,null,null,null,null,null,null,null,null,null,null,null,null,null,null,null,null,null,null,null,null,null,null,null,null,null,null,null,null,null,null,null,null,null,null,null,null,null,null,null,null,null,null,null,null,null,null,"Niasin",100,null,null,null,null,null,null,null,null,null,null,null,null,null,null,null,null,null,null,null,null,null,null,null,null,null,null,null,null,null,null,null,null,null,null,null,null,null,null,null,null,null,0,995000,0,0,0,0,0,0,null,null,null,null,null,null,1120]
[null,null,null,null,null,null,null,null,null,null,null,null,null,null,null,null,null,null,null,null,null,null,null,null,null,null,null,null,null,null,null,null,null,null,null,null,null,null,null,null,null,null,null,null,null,null,null,null,null,null,null,null,null,null,null,null,null,null,null,null,null,null,null,null,null,null,null,null,null,null,null,null,null,null,null,null,null,null,null,null,null,null,null,null,null,null,null,null,null,null,null,null,null,null,null,null,null,null,null,null,null,null,null,null,null,null,null,null,null,null,null,null,null,null,null,null,null,null,null,null,null,null,null,null,null,null,null,null,null,null,null,null,null,null,"Organik mineral karışımı (Bilyem)",100,null,null,null,50,null,null,null,null,null,null,null,null,null,null,null,null,null,null,null,null,null,null,null,null,null,27.644639999999995,null,null,19.600000000000005,null,null,null,null,1120,1001.05,5600,5603.5,11.200000000000001,12000,null,null,null,null,null,null,null,null,null,null,null,null,null,null,null,null,25]
[null,null,null,null,null,null,null,null,null,null,null,null,null,null,null,null,null,null,null,null,null,null,null,null,null,null,null,null,null,null,null,null,null,null,null,null,null,null,null,null,null,null,null,null,null,null,null,null,null,null,null,null,null,null,null,null,null,null,null,null,null,null,null,null,null,null,null,null,null,null,null,null,null,null,null,null,null,null,null,null,null,null,null,null,null,null,null,null,null,null,null,null,null,null,null,null,null,null,null,null,null,null,null,null,null,null,null,null,null,null,null,null,null,null,null,null,null,null,null,null,null,null,null,null,null,null,null,null,null,null,null,null,null,null,"Potasyum bikarbonat ",100,null,null,null,100,null,null,null,null,null,null,null,null,null,null,null,null,null,null,null,null,null,null,null,null,null,null,null,null,null,39.049999999999997,null,null,null,null,null,null,null,null,null,null,null,null,null,null,null,null,null,null,null,null,null,null,null,null,null,12]
[null,null,null,null,null,null,null,null,null,null,null,null,null,null,null,null,null,null,null,null,null,null,null,null,null,null,null,null,null,null,null,null,null,null,null,null,null,null,null,null,null,null,null,null,null,null,null,null,null,null,null,null,null,null,null,null,null,null,null,null,null,null,null,null,null,null,null,null,null,null,null,null,null,null,null,null,null,null,null,null,null,null,null,null,null,null,null,null,null,null,null,null,null,null,null,null,null,null,null,null,null,null,null,null,null,null,null,null,null,null,null,null,null,null,null,null,null,null,null,null,null,null,null,null,null,null,null,null,null,null,null,null,null,null,"Potasyum iyodid",100,null,null,null,100,null,null,null,null,null,null,null,null,null,null,null,null,null,null,null,null,null,null,null,null,null,null,null,null,null,21,null,null,null,null,681700,null,null,null,null,null,null,null,null,null,null,null,null,null,null,null,null,null,null,null,null,12]
[null,null,null,null,null,null,null,null,null,null,null,null,null,null,null,null,null,null,null,null,null,null,null,null,null,null,null,null,null,null,null,null,null,null,null,null,null,null,null,null,null,null,null,null,null,null,null,null,null,null,null,null,null,null,null,null,null,null,null,null,null,null,null,null,null,null,null,null,null,null,null,null,null,null,null,null,null,null,null,null,null,null,null,null,null,null,null,null,null,null,null,null,null,null,null,null,null,null,null,null,null,null,null,null,null,null,null,null,null,null,null,null,null,null,null,null,null,null,null,null,null,null,null,null,null,null,null,null,null,null,null,null,null,null,"Potasyum klorid",100,null,null,null,98.9,null,null,null,null,null,null,null,null,null,null,null,null,null,null,null,null,null,null,null,null,null,null,null,null,null,57,1,47.3,null,null,null,null,null,null,null,null,null,null,null,null,null,null,null,null,null,null,null,null,null,null,null,12]
[null,null,null,null,null,null,null,null,null,null,null,null,null,null,null,null,null,null,null,null,null,null,null,null,null,null,null,null,null,null,null,null,null,null,null,null,null,null,null,null,null,null,null,null,null,null,null,null,null,null,null,null,null,null,null,null,null,null,null,null,null,null,null,null,null,null,null,null,null,null,null,null,null,null,null,null,null,null,null,null,null,null,null,null,null,null,null,null,null,null,null,null,null,null,null,null,null,null,null,null,null,null,null,null,null,null,null,null,null,null,null,null,null,null,null,null,null,null,null,null,null,null,null,null,null,null,null,null,null,null,null,null,null,null,"Riboflavin 80 SD",100,null,null,null,null,null,null,null,null,null,null,null,null,null,null,null,null,null,null,null,null,null,null,null,null,null,null,null,null,null,null,null,null,null,null,null,null,null,null,null,null,null,0,0,0,800000,0,0,0,0,null,null,null,null,null,null,50]
[null,null,null,null,null,null,null,null,null,null,null,null,null,null,null,null,null,null,null,null,null,null,null,null,null,null,null,null,null,null,null,null,null,null,null,null,null,null,null,null,null,null,null,null,null,null,null,null,null,null,null,null,null,null,null,null,null,null,null,null,null,null,null,null,null,null,null,null,null,null,null,null,null,null,null,null,null,null,null,null,null,null,null,null,null,null,null,null,null,null,null,null,null,null,null,null,null,null,null,null,null,null,null,null,null,null,null,null,null,null,null,null,null,null,null,null,null,null,null,null,null,null,null,null,null,null,null,null,null,null,null,null,null,null,"Sodyum bikarbonat ",100,null,null,null,100,null,null,null,null,null,null,null,null,null,null,null,null,null,null,null,null,null,null,null,null,null,null,null,null,null,null,27,null,null,null,null,null,null,null,null,null,null,null,null,null,null,null,null,null,null,null,null,null,null,null,null,13.5]
[null,null,null,null,null,null,null,null,null,null,null,null,null,null,null,null,null,null,null,null,null,null,null,null,null,null,null,null,null,null,null,null,null,null,null,null,null,null,null,null,null,null,null,null,null,null,null,null,null,null,null,null,null,null,null,null,null,null,null,null,null,null,null,null,null,null,null,null,null,null,null,null,null,null,null,null,null,null,null,null,null,null,null,null,null,null,null,null,null,null,null,null,null,null,null,null,null,null,null,null,null,null,null,null,null,null,null,null,null,null,null,null,null,null,null,null,null,null,null,null,null,null,null,null,null,null,null,null,null,null,null,null,null,null,"Sodyum selenit",100,null,null,null,100,null,null,null,null,null,null,null,null,null,null,null,null,null,null,null,null,null,null,null,null,null,null,null,null,null,null,26.6,null,null,null,null,null,null,456000,null,null,null,null,null,null,null,null,null,null,null,null,null,null,null,null,null,13.5]
[null,null,null,null,null,null,null,null,null,null,null,null,null,null,null,null,null,null,null,null,null,null,null,null,null,null,null,null,null,null,null,null,null,null,null,null,null,null,null,null,null,null,null,null,null,null,null,null,null,null,null,null,null,null,null,null,null,null,null,null,null,null,null,null,null,null,null,null,null,null,null,null,null,null,null,null,null,null,null,null,null,null,null,null,null,null,null,null,null,null,null,null,null,null,null,null,null,null,null,null,null,null,null,null,null,null,null,null,null,null,null,null,null,null,null,null,null,null,null,null,null,null,null,null,null,null,null,null,null,null,null,null,null,null,"Su",0,null,null,null,null,null,null,null,null,null,null,null,null,null,null,null,null,null,null,null,null,null,null,null,null,null,null,null,null,null,null,null,null,null,null,null,null,null,null,null,null,null,null,null,null,null,null,null,null,null,null,null,null,null,null,null,4]
[null,null,null,null,null,null,null,null,null,null,null,null,null,null,null,null,null,null,null,null,null,null,null,null,null,null,null,null,null,null,null,null,null,null,null,null,null,null,null,null,null,null,null,null,null,null,null,null,null,null,null,null,null,null,null,null,null,null,null,null,null,null,null,null,null,null,null,null,null,null,null,null,null,null,null,null,null,null,null,null,null,null,null,null,null,null,null,null,null,null,null,null,null,null,null,null,null,null,null,null,null,null,null,null,null,null,null,null,null,null,null,null,null,null,null,null,null,null,null,null,null,null,null,null,null,null,null,null,null,null,null,null,null,null,"Taurin",100,null,null,null,null,null,null,null,null,null,null,null,null,null,null,null,null,null,null,null,null,null,null,null,95,null,null,null,null,null,null,null,null,null,null,null,null,null,null,null,null,null,null,null,null,null,null,null,null,null,null,null,null,null,null,null,7.5]
[null,null,null,null,null,null,null,null,null,null,null,null,null,null,null,null,null,null,null,null,null,null,null,null,null,null,null,null,null,null,null,null,null,null,null,null,null,null,null,null,null,null,null,null,null,null,null,null,null,null,null,null,null,null,null,null,null,null,null,null,null,null,null,null,null,null,null,null,null,null,null,null,null,null,null,null,null,null,null,null,null,null,null,null,null,null,null,null,null,null,null,null,null,null,null,null,null,null,null,null,null,null,null,null,null,null,null,null,null,null,null,null,null,null,null,null,null,null,null,null,null,null,null,null,null,null,null,null,null,null,null,null,null,null,"Tiamin Mononitrat",100,null,null,null,null,null,null,null,null,null,null,null,null,null,null,null,null,null,null,null,null,null,null,null,null,null,null,null,null,null,null,null,null,null,null,null,null,null,null,null,null,null,null,null,null,null,980000,null,null,null,null,null,null,null,null,null,7.5]
[null,null,null,null,null,null,null,null,null,null,null,null,null,null,null,null,null,null,null,null,null,null,null,null,null,null,null,null,null,null,null,null,null,null,null,null,null,null,null,null,null,null,null,null,null,null,null,null,null,null,null,null,null,null,null,null,null,null,null,null,null,null,null,null,null,null,null,null,null,null,null,null,null,null,null,null,null,null,null,null,null,null,null,null,null,null,null,null,null,null,null,null,null,null,null,null,null,null,null,null,null,null,null,null,null,null,null,null,null,null,null,null,null,null,null,null,null,null,null,null,null,null,null,null,null,null,null,null,null,null,null,null,null,null,"Tuz",100,null,null,null,93,null,null,null,null,null,null,null,null,null,null,null,null,null,null,null,null,null,null,null,null,null,null,null,null,null,null,39.340000000000003,60.66,null,null,5.0000000000000001E-3,null,null,null,null,null,null,null,null,null,null,null,null,null,null,null,null,null,null,null,null,1.5]
[null,null,null,null,null,null,null,null,null,null,null,null,null,null,null,null,null,null,null,null,null,null,null,null,null,null,null,null,null,null,null,null,null,null,null,null,null,null,null,null,null,null,null,null,null,null,null,null,null,null,null,null,null,null,null,null,null,null,null,null,null,null,null,null,null,null,null,null,null,null,null,null,null,null,null,null,null,null,null,null,null,null,null,null,null,null,null,null,null,null,null,null,null,null,null,null,null,null,null,null,null,null,null,null,null,null,null,null,null,null,null,null,null,null,null,null,null,null,null,null,null,null,null,null,null,null,null,null,null,null,null,null,null,null,"Vitamin A 500 000 IU/g",100,null,null,null,null,null,null,null,null,null,null,null,null,null,null,null,null,null,null,null,null,null,null,null,null,null,null,null,null,null,null,null,null,null,null,null,null,null,null,null,null,null,null,null,null,null,null,null,null,150000000,null,null,null,null,null,null,7.5]
[null,null,null,null,null,null,null,null,null,null,null,null,null,null,null,null,null,null,null,null,null,null,null,null,null,null,null,null,null,null,null,null,null,null,null,null,null,null,null,null,null,null,null,null,null,null,null,null,null,null,null,null,null,null,null,null,null,null,null,null,null,null,null,null,null,null,null,null,null,null,null,null,null,null,null,null,null,null,null,null,null,null,null,null,null,null,null,null,null,null,null,null,null,null,null,null,null,null,null,null,null,null,null,null,null,null,null,null,null,null,null,null,null,null,null,null,null,null,null,null,null,null,null,null,null,null,null,null,null,null,null,null,null,null,"Vitamin B12 % 1",100,null,null,null,null,null,null,null,null,null,null,null,null,null,null,null,null,null,null,null,null,null,null,null,null,null,null,null,null,null,null,null,null,null,null,null,null,null,null,null,null,null,null,null,null,null,null,null,10000,null,null,null,null,null,null,null,7.5]
[null,null,null,null,null,null,null,null,null,null,null,null,null,null,null,null,null,null,null,null,null,null,null,null,null,null,null,null,null,null,null,null,null,null,null,null,null,null,null,null,null,null,null,null,null,null,null,null,null,null,null,null,null,null,null,null,null,null,null,null,null,null,null,null,null,null,null,null,null,null,null,null,null,null,null,null,null,null,null,null,null,null,null,null,null,null,null,null,null,null,null,null,null,null,null,null,null,null,null,null,null,null,null,null,null,null,null,null,null,null,null,null,null,null,null,null,null,null,null,null,null,null,null,null,null,null,null,null,null,null,null,null,null,null,"Vitamin B6 (Pridoksin Hidroklorid)",100,null,null,null,null,null,null,null,null,null,null,null,null,null,null,null,null,null,null,null,null,null,null,null,null,null,null,null,null,null,null,null,null,null,null,null,null,null,null,null,null,null,null,null,null,null,null,990000,null,null,null,null,null,null,null,null,7.5]
[null,null,null,null,null,null,null,null,null,null,null,null,null,null,null,null,null,null,null,null,null,null,null,null,null,null,null,null,null,null,null,null,null,null,null,null,null,null,null,null,null,null,null,null,null,null,null,null,null,null,null,null,null,null,null,null,null,null,null,null,null,null,null,null,null,null,null,null,null,null,null,null,null,null,null,null,null,null,null,null,null,null,null,null,null,null,null,null,null,null,null,null,null,null,null,null,null,null,null,null,null,null,null,null,null,null,null,null,null,null,null,null,null,null,null,null,null,null,null,null,null,null,null,null,null,null,null,null,null,null,null,null,null,null,"Vitamin D 500 000 IU/g",100,null,null,null,null,null,null,null,null,null,null,null,null,null,null,null,null,null,null,null,null,null,null,null,null,null,null,null,null,null,null,null,null,null,null,null,null,null,null,null,null,null,null,null,null,null,null,null,null,null,12500000,null,null,null,null,null,7.5]
[null,null,null,null,null,null,null,null,null,null,null,null,null,null,null,null,null,null,null,null,null,null,null,null,null,null,null,null,null,null,null,null,null,null,null,null,null,null,null,null,null,null,null,null,null,null,null,null,null,null,null,null,null,null,null,null,null,null,null,null,null,null,null,null,null,null,null,null,null,null,null,null,null,null,null,null,null,null,null,null,null,null,null,null,null,null,null,null,null,null,null,null,null,null,null,null,null,null,null,null,null,null,null,null,null,null,null,null,null,null,null,null,null,null,null,null,null,null,null,null,null,null,null,null,null,null,null,null,null,null,null,null,null,null,"Vitamin E (DL-α-tokoferol asetat)",100,null,null,null,null,null,null,null,null,null,null,null,null,null,null,null,null,null,null,null,null,null,null,null,null,null,null,null,null,null,null,null,null,null,null,null,null,null,null,null,null,null,null,null,null,null,null,null,null,null,null,1000000,null,null,null,null,7.5]
[null,null,null,null,null,null,null,null,null,null,null,null,null,null,null,null,null,null,null,null,null,null,null,null,null,null,null,null,null,null,null,null,null,null,null,null,null,null,null,null,null,null,null,null,null,null,null,null,null,null,null,null,null,null,null,null,null,null,null,null,null,null,null,null,null,null,null,null,null,null,null,null,null,null,null,null,null,null,null,null,null,null,null,null,null,null,null,null,null,null,null,null,null,null,null,null,null,null,null,null,null,null,null,null,null,null,null,null,null,null,null,null,null,null,null,null,null,null,null,null,null,null,null,null,null,null,null,null,null,null,null,null,null,null,"Vitamin karması (Cat-Vit)",100,null,null,null,null,null,null,null,null,null,null,null,null,null,null,null,null,null,null,null,null,null,null,null,null,null,null,null,null,null,null,null,null,null,null,null,null,null,null,null,40,null,500,10000,1960,2000,2000,500,5,1200000,10000,5000,null,null,null,null,25]
[null,null,null,null,null,null,null,null,null,null,null,null,null,null,null,null,null,null,null,null,null,null,null,null,null,null,null,null,null,null,null,null,null,null,null,null,null,null,null,null,null,null,null,null,null,null,null,null,null,null,null,null,null,null,null,null,null,null,null,null,null,null,null,null,null,null,null,null,null,null,null,null,null,null,null,null,null,null,null,null,null,null,null,null,null,null,null,null,null,null,null,null,null,null,null,null,null,null,null,null,null,null,null,null,null,null,null,null,null,null,null,null,null,null,null,null,null,null,null,null,null,null,null,null,null,null,null,null,null,null,null,null,null,null,"Vitamin karması (Dog-Vit)",100,null,null,null,null,null,null,null,null,null,null,null,null,null,null,null,null,null,null,null,null,null,null,null,null,null,null,null,null,null,null,null,null,null,null,null,null,null,null,null,40,null,500,10000,1960,2500,2000,500,5,1200000,10000,5000,null,null,null,null,25]
[null,null,null,null,null,null,null,null,null,null,null,null,null,null,null,null,null,null,null,null,null,null,null,null,null,null,null,null,null,null,null,null,null,null,null,null,null,null,null,null,null,null,null,null,null,null,null,null,null,null,null,null,null,null,null,null,null,null,null,null,null,null,null,null,null,null,null,null,null,null,null,null,null,null,null,null,null,null,null,null,null,null,null,null,null,null,null,null,null,null,null,null,null,null,null,null,null,null,null,null,null,null,null,null,null,null,null,null,null,null,null,null,null,null,null,null,null,null,null,null,null,null,null,null,null,null,null,null,null,null,null,null,null,null,"Vit-Min (Civciv) karması",100,null,null,null,null,null,null,null,null,null,null,null,null,null,null,null,null,null,null,null,null,null,null,null,null,null,null,null,null,null,null,null,null,null,2000,400,24000,40000,80,24000,20,200000,400,16000,2800,2000,1200,2000,6,432000,625,8000,null,null,null,null,25]
[null,null,null,null,null,null,null,null,null,null,null,null,null,null,null,null,null,null,null,null,null,null,null,null,null,null,null,null,null,null,null,null,null,null,null,null,null,null,null,null,null,null,null,null,null,null,null,null,null,null,null,null,null,null,null,null,null,null,null,null,null,null,null,null,null,null,null,null,null,null,null,null,null,null,null,null,null,null,null,null,null,null,null,null,null,null,null,null,null,null,null,null,null,null,null,null,null,null,null,null,null,null,null,null,null,null,null,null,null,null,null,null,null,null,null,null,null,null,null,null,null,null,null,null,null,null,null,null,null,null,null,null,null,null,"Vit-Min, (Kedi,1 tablet) FaVor, 1 tb/gün",100,null,null,null,null,null,null,null,null,null,null,null,null,null,null,null,null,null,null,null,null,null,null,null,null,null,null,null,null,null,null,null,null,null,2,null,50,2,null,3,null,null,0,40,10,10,8.1,4.0999999999999996,0,3333.3,null,null,null,null,null,null,25]
[null,null,null,null,null,null,null,null,null,null,null,null,null,null,null,null,null,null,null,null,null,null,null,null,null,null,null,null,null,null,null,null,null,null,null,null,null,null,null,null,null,null,null,null,null,null,null,null,null,null,null,null,null,null,null,null,null,null,null,null,null,null,null,null,null,null,null,null,null,null,null,null,null,null,null,null,null,null,null,null,null,null,null,null,null,null,null,null,null,null,null,null,null,null,null,null,null,null,null,null,null,null,null,null,null,null,null,null,null,null,null,null,null,null,null,null,null,null,null,null,null,null,null,null,null,null,null,null,null,null,null,null,null,null,"Vit-Min, (Kedi,4 tablet) Nu-Cat, 4 tb/gün",100,null,null,null,null,null,null,null,null,null,3.5000000000000003E-2,null,null,null,null,null,null,null,null,null,null,null,null,null,null,null,0.05,2.5000000000000001E-2,null,1.5E-3,2.5000000000000001E-4,null,null,null,0.3,null,1.4999999999999999E-2,null,null,10,null,null,0.02,50,50,20,20,20,0.02,2999.97,null,null,null,null,null,null,25]
[null,null,null,null,null,null,null,null,null,null,null,null,null,null,null,null,null,null,null,null,null,null,null,null,null,null,null,null,null,null,null,null,null,null,null,null,null,null,null,null,null,null,null,null,null,null,null,null,null,null,null,null,null,null,null,null,null,null,null,null,null,null,null,null,null,null,null,null,null,null,null,null,null,null,null,null,null,null,null,null,null,null,null,null,null,null,null,null,null,null,null,null,null,null,null,null,null,null,null,null,null,null,null,null,null,null,null,null,null,null,null,null,null,null,null,null,null,null,null,null,null,null,null,null,null,null,null,null,null,null,null,null,null,null,"Vit-Min, (Köpek, 1 tablet), Canine Plus, 1/2 tb/gün/<10 kg,1 tb/gün/10-30 kg,2 tb/gün/>30 kg",100,null,null,null,null,null,null,null,null,null,3.7499999999999999E-2,null,null,null,null,null,null,null,null,null,null,null,null,null,null,null,7.4999999999999997E-2,3.7499999999999999E-2,null,3.7499999999999999E-2,0.375,null,null,null,4.4999999999999998E-2,null,45,null,null,15,null,null,0.03,75,75,37.5,75,37.5,0.03,2999.97,null,null,null,null,null,null,25]
[null,null,null,null,null,null,null,null,null,null,null,null,null,null,null,null,null,null,null,null,null,null,null,null,null,null,null,null,null,null,null,null,null,null,null,null,null,null,null,null,null,null,null,null,null,null,null,null,null,null,null,null,null,null,null,null,null,null,null,null,null,null,null,null,null,null,null,null,null,null,null,null,null,null,null,null,null,null,null,null,null,null,null,null,null,null,null,null,null,null,null,null,null,null,null,null,null,null,null,null,null,null,null,null,null,null,null,null,null,null,null,null,null,null,null,null,null,null,null,null,null,null,null,null,null,null,null,null,null,null,null,null,null,null,"Vit-Min, (Köpek, 1 tablet), Super Daily, 1/2 tb/gün/<10 kg,1 tb/gün/10-30 kg,2 tb/gün/>30 kg",100,null,null,null,null,null,null,null,null,null,3.7499999999999999E-2,null,null,null,null,null,null,null,null,null,null,null,null,null,null,null,7.4999999999999997E-2,3.7499999999999999E-2,null,3.7499999999999999E-2,0.375,null,null,null,4.4999999999999998E-2,null,45,null,null,15,null,null,0.03,75,75,37.5,75,37.5,0.03,2999.97,null,null,null,null,null,null,25]
[null,null,null,null,null,null,null,null,null,null,null,null,null,null,null,null,null,null,null,null,null,null,null,null,null,null,null,null,null,null,null,null,null,null,null,null,null,null,null,null,null,null,null,null,null,null,null,null,null,null,null,null,null,null,null,null,null,null,null,null,null,null,null,null,null,null,null,null,null,null,null,null,null,null,null,null,null,null,null,null,null,null,null,null,null,null,null,null,null,null,null,null,null,null,null,null,null,null,null,null,null,null,null,null,null,null,null,null,null,null,null,null,null,null,null,null,null,null,null,null,null,null,null,null,null,null,null,null,null,null,null,null,null,null,"Vit-Min, (Köpek,1 tablet) (Fastrack), 1/2 tb/gün/<10 kg,1 tb/gün/>10 kg",100,null,null,null,null,null,null,null,null,null,5.2999999999999999E-2,null,null,null,null,null,null,null,null,null,null,null,null,null,null,null,0.1,7.6999999999999999E-2,null,5.0000000000000001E-3,1.6E-2,null,null,null,1,null,20,0.6,null,15,null,null,0.4,23,20,5,2,2,0,5249.9475000000002,null,null,null,null,null,null,25]
[null,null,null,null,null,null,null,null,null,null,null,null,null,null,null,null,null,null,null,null,null,null,null,null,null,null,null,null,null,null,null,null,null,null,null,null,null,null,null,null,null,null,null,null,null,null,null,null,null,null,null,null,null,null,null,null,null,null,null,null,null,null,null,null,null,null,null,null,null,null,null,null,null,null,null,null,null,null,null,null,null,null,null,null,null,null,null,null,null,null,null,null,null,null,null,null,null,null,null,null,null,null,null,null,null,null,null,null,null,null,null,null,null,null,null,null,null,null,null,null,null,null,null,null,null,null,null,null,null,null,null,null,null,null,"Vit-Min. (Elevit Pronatal)",100,null,null,null,null,null,null,null,null,null,null,null,null,null,null,null,null,null,null,null,null,null,null,null,null,null,0.125,0.125,null,0.1,null,null,null,null,null,null,60,1,null,7.5,0.2,null,0.8,19,10,1.8,1.6,2.6,4.0000000000000001E-3,1201.2,12.5,15,null,null,null,null,25]
[null,null,null,null,null,null,null,null,null,null,null,null,null,null,null,null,null,null,null,null,null,null,null,null,null,null,null,null,null,null,null,null,null,null,null,null,null,null,null,null,null,null,null,null,null,null,null,null,null,null,null,null,null,null,null,null,null,null,null,null,null,null,null,null,null,null,null,null,null,null,null,null,null,null,null,null,null,null,null,null,null,null,null,null,null,null,null,null,null,null,null,null,null,null,null,null,null,null,null,null,null,null,null,null,null,null,null,null,null,null,null,null,null,null,null,null,null,null,null,null,null,null,null,null,null,null,null,null,null,null,null,null,null,null,"Vit-Min. (Supradyn Multivitamin Mineral Koenzim Q10)",100,null,null,null,null,null,null,null,null,null,null,null,null,null,null,null,null,null,null,null,null,null,null,null,null,null,0.12,null,null,0.08,null,null,null,null,1,1,14,2,0.05,10,0.05,null,0.25,16,6,1.4,1.1000000000000001,1.4,2.5000000000000001E-3,800,5,12,null,null,null,null,25]
[null,null,null,null,null,null,null,null,null,null,null,null,null,null,null,null,null,null,null,null,null,null,null,null,null,null,null,null,null,null,null,null,null,null,null,null,null,null,null,null,null,null,null,null,null,null,null,null,null,null,null,null,null,null,null,null,null,null,null,null,null,null,null,null,null,null,null,null,null,null,null,null,null,null,null,null,null,null,null,null,null,null,null,null,null,null,null,null,null,null,null,null,null,null,null,null,null,null,null,null,null,null,null,null,null,null,null,null,null,null,null,null,null,null,null,null,null,null,null,null,null,null,null,null,null,null,null,null,null,null,null,null,null,null,"Vit-Min. (köpek özel)",100,null,null,null,null,null,null,null,null,null,null,null,null,null,null,null,null,null,null,null,null,null,null,null,null,null,null,null,null,5,30,null,10,null,2000,400,24000,40000,40,24000,20,200000,400,16000,2800,2000,1200,2000,6,432000,2500,8000,null,null,null,null,25]
[null,null,null,null,null,null,null,null,null,null,null,null,null,null,null,null,null,null,null,null,null,null,null,null,null,null,null,null,null,null,null,null,null,null,null,null,null,null,null,null,null,null,null,null,null,null,null,null,null,null,null,null,null,null,null,null,null,null,null,null,null,null,null,null,null,null,null,null,null,null,null,null,null,null,null,null,null,null,null,null,null,null,null,null,null,null,null,null,null,null,null,null,null,null,null,null,null,null,null,null,null,null,null,null,null,null,null,null,null,null,null,null,null,null,null,null,null,null,null,null,null,null,null,null,null,null,null,null,null,null,null,null,null,null,"Vit-Min. (TheraVet ProCure)",0,null,null,null,null,null,null,null,null,null,null,null,null,null,null,null,null,null,null,null,null,null,null,null,null,null,0.17,null,null,null,null,null,null,null,null,null,null,null,null,null,null,null,null,null,null,null,null,null,null,null,null,null,null,null,null,null,25]
[null,null,null,null,null,null,null,null,null,null,null,null,null,null,null,null,null,null,null,null,null,null,null,null,null,null,null,null,null,null,null,null,null,null,null,null,null,null,null,null,null,null,null,null,null,null,null,null,null,null,null,null,null,null,null,null,null,null,null,null,null,null,null,null,null,null,null,null,null,null,null,null,null,null,null,null,null,null,null,null,null,null,null,null,null,null,null,null,null,null,null,null,null,null,null,null,null,null,null,null,null,null,null,null,null,null,null,null,null,null,null,null,null,null,null,null,null,null,null,null,null,null,null,null,null,null,null,null,null,null,null,null,null,null,"Tavuk suyu",0,null,null,null,null,null,null,null,null,null,null,null,null,null,null,null,null,null,null,null,null,null,null,null,null,null,0.17,null,null,null,null,null,null,null,null,null,null,null,null,null,null,null,null,null,null,null,null,null,null,null,null,null,null,null,null,null,30]
[null,null,null,null,null,null,null,null,null,null,null,null,null,null,null,null,null,null,null,null,null,null,null,null,null,null,null,null,null,null,null,null,null,null,null,null,null,null,null,null,null,null,null,null,null,null,null,null,null,null,null,null,null,null,null,null,null,null,null,null,null,null,null,null,null,null,null,null,null,null,null,null,null,null,null,null,null,null,null,null,null,null,null,null,null,null,null,null,null,null,null,null,null,null,null,null,null,null,null,null,null,null,null,null,null,null,null,null,null,null,null,null,null,null,null,null,null,null,null,null,null,null,null,null,null,null,null,null,null,null,null,null,null,null,"Antioksidan",98,null,null,null,null,null,null,null,null,null,null,null,null,null,null,null,null,null,null,null,null,null,null,null,null,null,null,null,null,null,null,null,null,null,null,null,null,null,null,null,null,null,null,null,null,null,null,null,null,null,null,null,null,null,null,null,55]
[null,null,null,null,null,null,null,null,null,null,null,null,null,null,null,null,null,null,null,null,null,null,null,null,null,null,null,null,null,null,null,null,null,null,null,null,null,null,null,null,null,null,null,null,null,null,null,null,null,null,null,null,null,null,null,null,null,null,null,null,null,null,null,null,null,null,null,null,null,null,null,null,null,null,null,null,null,null,null,null,null,null,null,null,null,null,null,null,null,null,null,null,null,null,null,null,null,null,null,null,null,null,null,null,null,null,null,null,null,null,null,null,null,null,null,null,null,null,null,null,null,null,null,null,null,null,null,null,null,null,null,null,null,null,"Küf önleyici",98,null,null,null,null,null,null,null,null,null,null,null,null,null,null,null,null,null,null,null,null,null,null,null,null,null,null,null,null,null,null,null,null,null,null,null,null,null,null,null,null,null,null,null,null,null,null,null,null,null,null,null,null,null,null,null,55]
[]
[]
[]
[]
[]
[]
[]
[]
[]
[]
[]
[]
[]
[]
[]
[]
[]
[]
[]
[]
[]
[]
[]
[]
[]
[]
[]
[]
[]
[]
[]
[]
[]
[]
[]
[]
[]
[]
[]
[]
[]
[]
[]
[]
[]
[]
[]
[]
[]
[]
[]
[]
[]
[]
[]
[]
[]
[]
[]
[]
[]
[]
[]
[]
[]
[]
[]
[]
[]
[]
[]
[]
[]
[]
[]
[]
[]
[]
[null,null,null,null,null,null,null,null,null,null,null,null,null,null,null,null,null,null,null,null,null,null,null,null,null,null,null,null,null,null,null,null,null,null,null,null,null,null,null,null,null,null,null,null,null,null,null,null,null,null,null,null,null,null,null,null,null,null,null,null,null,null,null,null,null,null,null,null,null,null,null,null,null,null,null,null,null,null,null,null,null,null,null,null,null,null,null,null,null,null,null,null,null,null,null,null,null,null,null,null,null,null,null,null,null,null,null,null,null,null,null,null,null,null,null,null,null,null,null,null,null,null,null,null,null,null,null,null,null,null,null,null,null,null,"Yağlar","KM,%","HP,%","HY,%","HS,%","HK,%","ME,kcal/g (köpek)","ME,kcal/g (kedi)","CHO,%","Şeker,%","Nişasta,%","18:2n-6, %","18:3n-3, %","20:4n-6, %","Arjinin, %","Histidin, %","İzolöysin, %","Löysin, %","Lizin, %","Metiyonin, %","Sistin,% ","Fenilalanin, %","Tirozin, % ","Treonin, %","Triptofan, %","Taurin,%","Valin, %","Ca,%","P,%","Kul P,%","Mg,%","K,%","Na,%","Cl,%","S,%","Cu,mg/kg","I,mg/kg","Fe,mg/kg","Mn,mg/kg","Se,mg/kg","Zn,mg/kg","Biotin,mg/kg","Kolin,mg/kg","Folat,mg/kg","Niasin,mg/kg","Pant. asit,mg/kg","Riboflavin,mg/kg","Tiamin,mg/kg","Vit. B6,mg/kg","Vit. B12,mg/kg","Vitamin A,µg/kg","Kolekalsiferol,µg/kg","Vit. E,mg/kg","Doymuş,%","PUFA,%","Toplam n-6,%","Toplam n-3,%","Fiyat,TL"]
[null,null,null,null,null,null,null,null,null,null,null,null,null,null,null,null,null,null,null,null,null,null,null,null,null,null,null,null,null,null,null,null,null,null,null,null,null,null,null,null,null,null,null,null,null,null,null,null,null,null,null,null,null,null,null,null,null,null,null,null,null,null,null,null,null,null,null,null,null,null,null,null,null,null,null,null,null,null,null,null,null,null,null,null,null,null,null,null,null,null,null,null,null,null,null,null,null,null,null,null,null,null,null,null,null,null,null,null,null,null,null,null,null,null,null,null,null,null,null,null,null,null,null,null,null,null,null,null,null,null,null,null,null,null,"Ayçiçeği yağı ",100,0,100,0,0,8.92,8.92,0,0,0,51.388999999999996,0.1,0,0,0,0,0,0,0,0,0,0,0,0,0,0,0,0,0,0,0,0,0,0,0,0,0,0,0,0,0,0,0,0,0,0,0,0,0,10.85,0,480.5,9.5305,51.489000000000004,51.388999999999996,0.1,45]
[null,null,null,null,null,null,null,null,null,null,null,null,null,null,null,null,null,null,null,null,null,null,null,null,null,null,null,null,null,null,null,null,null,null,null,null,null,null,null,null,null,null,null,null,null,null,null,null,null,null,null,null,null,null,null,null,null,null,null,null,null,null,null,null,null,null,null,null,null,null,null,null,null,null,null,null,null,null,null,null,null,null,null,null,null,null,null,null,null,null,null,null,null,null,null,null,null,null,null,null,null,null,null,null,null,null,null,null,null,null,null,null,null,null,null,null,null,null,null,null,null,null,null,null,null,null,null,null,null,null,null,null,null,null,"Balık yağı, hidrojenize",99.9,0,99.9,0,0,8.92,8.92,0,0,0,0.86250000000000004,0.3,0.1,0,0,0,0,0,0,0,0,0,0,0,0,0,0,0,0,0,0,0,0,0,0,0,0,0,0,0,0,0,0,0,0,0,0,0,0,0,0,0,47.600999999999999,0.86250000000000004,0.86250000000000004,null,150]
[null,null,null,null,null,null,null,null,null,null,null,null,null,null,null,null,null,null,null,null,null,null,null,null,null,null,null,null,null,null,null,null,null,null,null,null,null,null,null,null,null,null,null,null,null,null,null,null,null,null,null,null,null,null,null,null,null,null,null,null,null,null,null,null,null,null,null,null,null,null,null,null,null,null,null,null,null,null,null,null,null,null,null,null,null,null,null,null,null,null,null,null,null,null,null,null,null,null,null,null,null,null,null,null,null,null,null,null,null,null,null,null,null,null,null,null,null,null,null,null,null,null,null,null,null,null,null,null,null,null,null,null,null,null,"Buğday germ yağı",100,0,100,0,0,8.92,8.92,0,0,0,47.602000000000004,6.0005000000000006,0,0,0,0,0,0,0,0,0,0,0,0,0,0,0,0,0,0,0,0,0,0,0,0,0,0,0,0,0,0,0,0,0,0,0,0,0,0,0,1490,14.98,53.6,47.6,6.0005000000000006,100]
[null,null,null,null,null,null,null,null,null,null,null,null,null,null,null,null,null,null,null,null,null,null,null,null,null,null,null,null,null,null,null,null,null,null,null,null,null,null,null,null,null,null,null,null,null,null,null,null,null,null,null,null,null,null,null,null,null,null,null,null,null,null,null,null,null,null,null,null,null,null,null,null,null,null,null,null,null,null,null,null,null,null,null,null,null,null,null,null,null,null,null,null,null,null,null,null,null,null,null,null,null,null,null,null,null,null,null,null,null,null,null,null,null,null,null,null,null,null,null,null,null,null,null,null,null,null,null,null,null,null,null,null,null,null,"Dana kuyruk yağı",100,5,95,null,0,8.75,8.75,null,null,null,3.036,0.58899999999999997,null,0.27200000000000002,0.128,0.152,0.29599999999999999,0.33600000000000002,4.3999999999999997E-2,3.5999999999999997E-2,0.184,0.104,0.13600000000000001,0.112,null,0.216,null,null,null,0,0,0,null,null,null,null,null,null,null,null,null,null,null,null,null,null,null,null,null,null,23,11,47.465000000000003,3.625,3.036,0.58899999999999997,400]
[null,null,null,null,null,null,null,null,null,null,null,null,null,null,null,null,null,null,null,null,null,null,null,null,null,null,null,null,null,null,null,null,null,null,null,null,null,null,null,null,null,null,null,null,null,null,null,null,null,null,null,null,null,null,null,null,null,null,null,null,null,null,null,null,null,null,null,null,null,null,null,null,null,null,null,null,null,null,null,null,null,null,null,null,null,null,null,null,null,null,null,null,null,null,null,null,null,null,null,null,null,null,null,null,null,null,null,null,null,null,null,null,null,null,null,null,null,null,null,null,null,null,null,null,null,null,null,null,null,null,null,null,null,null,"Domuz yağı",100,null,100,null,null,9.02,9.02,null,null,null,10.199,0.1,1.7,null,null,null,null,null,null,null,null,null,null,null,null,null,null,null,null,null,null,null,null,null,null,null,null,null,null,null,null,497,null,null,null,null,null,null,null,null,null,6,39.200000000000003,11.2,10.199,0.1,250]
[null,null,null,null,null,null,null,null,null,null,null,null,null,null,null,null,null,null,null,null,null,null,null,null,null,null,null,null,null,null,null,null,null,null,null,null,null,null,null,null,null,null,null,null,null,null,null,null,null,null,null,null,null,null,null,null,null,null,null,null,null,null,null,null,null,null,null,null,null,null,null,null,null,null,null,null,null,null,null,null,null,null,null,null,null,null,null,null,null,null,null,null,null,null,null,null,null,null,null,null,null,null,null,null,null,null,null,null,null,null,null,null,null,null,null,null,null,null,null,null,null,null,null,null,null,null,null,null,null,null,null,null,null,null,"İç yağ, sığır",96,1.5,94,null,0.1,8.5399999999999991,8.5399999999999991,null,null,null,2.15,0.86,null,null,null,null,null,null,null,null,null,null,null,null,null,null,2E-3,1.4999999999999999E-2,null,1E-3,1.6E-2,7.0000000000000001E-3,null,null,null,null,2,null,2E-3,2,null,56,0.01,3,null,null,null,null,3.0000000000000001E-3,null,null,15,52.3,3.2,2.15,0.86,300]
[null,null,null,null,null,null,null,null,null,null,null,null,null,null,null,null,null,null,null,null,null,null,null,null,null,null,null,null,null,null,null,null,null,null,null,null,null,null,null,null,null,null,null,null,null,null,null,null,null,null,null,null,null,null,null,null,null,null,null,null,null,null,null,null,null,null,null,null,null,null,null,null,null,null,null,null,null,null,null,null,null,null,null,null,null,null,null,null,null,null,null,null,null,null,null,null,null,null,null,null,null,null,null,null,null,null,null,null,null,null,null,null,null,null,null,null,null,null,null,null,null,null,null,null,null,null,null,null,null,null,null,null,null,null,"Kanatlı yağı",69.099999999999994,null,68,null,null,6.29,6.29,null,null,null,13.26,0.7,0.1,null,null,null,null,null,null,null,null,null,null,null,null,null,7.0000000000000007E-2,0.54,null,0.06,0.64,0.32,null,null,null,null,7,null,9.7000000000000003E-2,5,null,157,0.01,20,2,1,null,null,1E-3,{"$f":"509*0.3*10","v":1527},null,27,20.2,14.2,13.26,0.7,100]
[null,null,null,null,null,null,null,null,null,null,null,null,null,null,null,null,null,null,null,null,null,null,null,null,null,null,null,null,null,null,null,null,null,null,null,null,null,null,null,null,null,null,null,null,null,null,null,null,null,null,null,null,null,null,null,null,null,null,null,null,null,null,null,null,null,null,null,null,null,null,null,null,null,null,null,null,null,null,null,null,null,null,null,null,null,null,null,null,null,null,null,null,null,null,null,null,null,null,null,null,null,null,null,null,null,null,null,null,null,null,null,null,null,null,null,null,null,null,null,null,null,null,null,null,null,null,null,null,null,null,null,null,null,null,"Kanola yağı",100,null,100,null,null,9,9,null,null,null,20.257000000000001,9.0269999999999992,0.1,null,null,null,null,null,null,null,null,null,null,null,null,null,null,null,null,0,0,0,null,null,null,null,0,null,null,null,null,null,0,0,0,0,0,0,0,null,null,184,6.1159999999999997,29.285,20.257000000000001,9.0269999999999992,115]
[null,null,null,null,null,null,null,null,null,null,null,null,null,null,null,null,null,null,null,null,null,null,null,null,null,null,null,null,null,null,null,null,null,null,null,null,null,null,null,null,null,null,null,null,null,null,null,null,null,null,null,null,null,null,null,null,null,null,null,null,null,null,null,null,null,null,null,null,null,null,null,null,null,null,null,null,null,null,null,null,null,null,null,null,null,null,null,null,null,null,null,null,null,null,null,null,null,null,null,null,null,null,null,null,null,null,null,null,null,null,null,null,null,null,null,null,null,null,null,null,null,null,null,null,null,null,null,null,null,null,null,null,null,null,"Kaz yağı",99.8,0,99.8,null,null,8.98,8.98,null,null,null,9.9740000000000002,0.50700000000000001,null,null,null,null,null,null,null,null,null,null,null,null,null,null,null,null,null,0,0,0,null,null,null,null,0,0,0,0,null,null,0,0,0,0,0,0,null,1440,null,27,27.7,10.481,9.9740000000000002,0.50700000000000001,300]
[null,null,null,null,null,null,null,null,null,null,null,null,null,null,null,null,null,null,null,null,null,null,null,null,null,null,null,null,null,null,null,null,null,null,null,null,null,null,null,null,null,null,null,null,null,null,null,null,null,null,null,null,null,null,null,null,null,null,null,null,null,null,null,null,null,null,null,null,null,null,null,null,null,null,null,null,null,null,null,null,null,null,null,null,null,null,null,null,null,null,null,null,null,null,null,null,null,null,null,null,null,null,null,null,null,null,null,null,null,null,null,null,null,null,null,null,null,null,null,null,null,null,null,null,null,null,null,null,null,null,null,null,null,null,"Keten tohumu yağı",100,null,100,null,null,8.84,8.84,null,null,null,12.07,53.3,null,null,null,null,null,null,null,null,null,null,null,null,null,null,null,null,null,null,null,null,null,null,null,null,null,null,null,null,null,2,null,null,null,null,null,null,null,null,null,170.5,9.4,66,12.07,53.3,50]
[null,null,null,null,null,null,null,null,null,null,null,null,null,null,null,null,null,null,null,null,null,null,null,null,null,null,null,null,null,null,null,null,null,null,null,null,null,null,null,null,null,null,null,null,null,null,null,null,null,null,null,null,null,null,null,null,null,null,null,null,null,null,null,null,null,null,null,null,null,null,null,null,null,null,null,null,null,null,null,null,null,null,null,null,null,null,null,null,null,null,null,null,null,null,null,null,null,null,null,null,null,null,null,null,null,null,null,null,null,null,null,null,null,null,null,null,null,null,null,null,null,null,null,null,null,null,null,null,null,null,null,null,null,null,"Krema, % 30 yağlı",70,3.1,30,null,null,3,3,null,4.5,null,null,null,null,null,null,null,null,null,null,null,null,null,null,null,null,null,null,null,null,null,null,null,null,null,null,0.28000000000000003,null,null,null,null,null,null,null,null,null,null,null,null,null,null,null,null,null,null,null,null,200]
[null,null,null,null,null,null,null,null,null,null,null,null,null,null,null,null,null,null,null,null,null,null,null,null,null,null,null,null,null,null,null,null,null,null,null,null,null,null,null,null,null,null,null,null,null,null,null,null,null,null,null,null,null,null,null,null,null,null,null,null,null,null,null,null,null,null,null,null,null,null,null,null,null,null,null,null,null,null,null,null,null,null,null,null,null,null,null,null,null,null,null,null,null,null,null,null,null,null,null,null,null,null,null,null,null,null,null,null,null,null,null,null,null,null,null,null,null,null,null,null,null,null,null,null,null,null,null,null,null,null,null,null,null,null,"Krema, % 50 yağlı",55.1,1.9,50,null,0.5,4.68,4.68,2.4,2.4,null,1.0389999999999999,0.38,null,6.6000000000000003E-2,5.3999999999999999E-2,0.11,0.182,0.17,4.8000000000000001E-2,1.4999999999999999E-2,9.5000000000000001E-2,0.08,0.08,2.5999999999999999E-2,null,0.13100000000000001,0.05,2.1000000000000001E-2,null,4.0000000000000001E-3,7.9000000000000001E-2,2.7E-2,null,null,1.3,0.10099999999999999,2,0,1.3000000000000001E-2,1.7000000000000002,8.0000000000000002E-3,null,0.02,0.4,1.9,0.8,0.2,0.2,1E-3,4430,4.6999999999999993,12.7,32.369,1.419,1.0389999999999999,0.38,250]
[null,null,null,null,null,null,null,null,null,null,null,null,null,null,null,null,null,null,null,null,null,null,null,null,null,null,null,null,null,null,null,null,null,null,null,null,null,null,null,null,null,null,null,null,null,null,null,null,null,null,null,null,null,null,null,null,null,null,null,null,null,null,null,null,null,null,null,null,null,null,null,null,null,null,null,null,null,null,null,null,null,null,null,null,null,null,null,null,null,null,null,null,null,null,null,null,null,null,null,null,null,null,null,null,null,null,null,null,null,null,null,null,null,null,null,null,null,null,null,null,null,null,null,null,null,null,null,null,null,null,null,null,null,null,"Kuyruk yağı",100,null,100,null,null,9.02,9.02,null,null,null,5.5010000000000003,2.2999999999999998,0.2,null,null,null,null,null,null,null,null,null,null,null,null,null,null,null,null,null,null,null,null,null,null,null,null,null,2E-3,null,null,798,null,null,null,null,null,null,null,null,null,28,47.4,7.8,5.5010000000000003,2.2999999999999998,400]
[null,null,null,null,null,null,null,null,null,null,null,null,null,null,null,null,null,null,null,null,null,null,null,null,null,null,null,null,null,null,null,null,null,null,null,null,null,null,null,null,null,null,null,null,null,null,null,null,null,null,null,null,null,null,null,null,null,null,null,null,null,null,null,null,null,null,null,null,null,null,null,null,null,null,null,null,null,null,null,null,null,null,null,null,null,null,null,null,null,null,null,null,null,null,null,null,null,null,null,null,null,null,null,null,null,null,null,null,null,null,null,null,null,null,null,null,null,null,null,null,null,null,null,null,null,null,null,null,null,null,null,null,null,null,"Lokanta artığı et yağı",94,null,90.62,null,null,7.5609999999999999,7.5609999999999999,null,null,null,17.5,1.9,null,null,null,null,null,null,null,null,null,null,null,null,null,null,null,null,null,null,null,null,null,null,null,null,null,null,null,null,null,null,null,null,null,null,null,null,null,null,null,null,28.6,19.399999999999999,17.5,1.9,40]
[null,null,null,null,null,null,null,null,null,null,null,null,null,null,null,null,null,null,null,null,null,null,null,null,null,null,null,null,null,null,null,null,null,null,null,null,null,null,null,null,null,null,null,null,null,null,null,null,null,null,null,null,null,null,null,null,null,null,null,null,null,null,null,null,null,null,null,null,null,null,null,null,null,null,null,null,null,null,null,null,null,null,null,null,null,null,null,null,null,null,null,null,null,null,null,null,null,null,null,null,null,null,null,null,null,null,null,null,null,null,null,null,null,null,null,null,null,null,null,null,null,null,null,null,null,null,null,null,null,null,null,null,null,null,"Mısır yağı",100,null,100,null,null,8.84,8.84,null,null,null,59,0.7,null,null,null,null,null,null,null,null,null,null,null,null,null,null,null,null,null,null,null,null,null,null,null,null,null,null,null,null,null,2,null,null,null,null,null,null,null,null,null,148,12.7,59.7,59,0.7,60]
[null,null,null,null,null,null,null,null,null,null,null,null,null,null,null,null,null,null,null,null,null,null,null,null,null,null,null,null,null,null,null,null,null,null,null,null,null,null,null,null,null,null,null,null,null,null,null,null,null,null,null,null,null,null,null,null,null,null,null,null,null,null,null,null,null,null,null,null,null,null,null,null,null,null,null,null,null,null,null,null,null,null,null,null,null,null,null,null,null,null,null,null,null,null,null,null,null,null,null,null,null,null,null,null,null,null,null,null,null,null,null,null,null,null,null,null,null,null,null,null,null,null,null,null,null,null,null,null,null,null,null,null,null,null,"Morina karaciğer yağı",100,null,100,null,null,9,9,null,null,null,3.7229999999999999,2.7890000000000001,1.1000000000000001,null,null,null,null,null,null,null,null,null,null,null,null,null,1.15E-3,null,null,8.0000000000000007E-5,0,2.0000000000000002E-5,null,null,7.0000000000000007E-2,4,0.74,0.02,5.0000000000000002E-5,0.6,null,null,null,null,null,null,null,null,null,{"$f":"833000*0.3","v":249900},{"$f":"(10001*10)/40","v":2500.25},300,19.062999999999999,33.914999999999999,4.3929999999999998,29.521999999999998,120]
[null,null,null,null,null,null,null,null,null,null,null,null,null,null,null,null,null,null,null,null,null,null,null,null,null,null,null,null,null,null,null,null,null,null,null,null,null,null,null,null,null,null,null,null,null,null,null,null,null,null,null,null,null,null,null,null,null,null,null,null,null,null,null,null,null,null,null,null,null,null,null,null,null,null,null,null,null,null,null,null,null,null,null,null,null,null,null,null,null,null,null,null,null,null,null,null,null,null,null,null,null,null,null,null,null,null,null,null,null,null,null,null,null,null,null,null,null,null,null,null,null,null,null,null,null,null,null,null,null,null,null,null,null,null,"Palm yağı",100,null,100,null,null,9,9,null,null,null,9.1379999999999999,0.20100000000000001,null,null,null,null,null,null,null,null,null,null,null,null,null,null,null,null,null,0,0,0,null,null,null,null,0.1,null,null,null,null,null,null,null,null,null,null,null,null,null,null,191,49.104999999999997,9.3390000000000004,9.1379999999999999,0.20100000000000001,60]
[null,null,null,null,null,null,null,null,null,null,null,null,null,null,null,null,null,null,null,null,null,null,null,null,null,null,null,null,null,null,null,null,null,null,null,null,null,null,null,null,null,null,null,null,null,null,null,null,null,null,null,null,null,null,null,null,null,null,null,null,null,null,null,null,null,null,null,null,null,null,null,null,null,null,null,null,null,null,null,null,null,null,null,null,null,null,null,null,null,null,null,null,null,null,null,null,null,null,null,null,null,null,null,null,null,null,null,null,null,null,null,null,null,null,null,null,null,null,null,null,null,null,null,null,null,null,null,null,null,null,null,null,null,null,"Pamuk yağı",100,null,100,null,null,8.84,8.84,null,null,null,51.5,0.2,null,null,null,null,null,null,null,null,null,null,null,null,null,null,null,null,null,null,null,null,null,null,null,null,null,null,null,null,null,null,null,null,null,null,null,null,null,null,null,353,25.8,51.7,51.5,0.2,100]
[null,null,null,null,null,null,null,null,null,null,null,null,null,null,null,null,null,null,null,null,null,null,null,null,null,null,null,null,null,null,null,null,null,null,null,null,null,null,null,null,null,null,null,null,null,null,null,null,null,null,null,null,null,null,null,null,null,null,null,null,null,null,null,null,null,null,null,null,null,null,null,null,null,null,null,null,null,null,null,null,null,null,null,null,null,null,null,null,null,null,null,null,null,null,null,null,null,null,null,null,null,null,null,null,null,null,null,null,null,null,null,null,null,null,null,null,null,null,null,null,null,null,null,null,null,null,null,null,null,null,null,null,null,null,"Siyah asker sineği larva yağı",100,null,100,null,null,6.29,6.29,null,null,null,11.6,1.01,0.28999999999999998,null,null,null,null,null,null,null,null,null,null,null,null,null,null,null,null,null,null,null,null,null,null,null,1,null,null,null,null,null,null,null,null,null,null,null,null,null,null,null,75,12.9,11.9,1.01,50]
[null,null,null,null,null,null,null,null,null,null,null,null,null,null,null,null,null,null,null,null,null,null,null,null,null,null,null,null,null,null,null,null,null,null,null,null,null,null,null,null,null,null,null,null,null,null,null,null,null,null,null,null,null,null,null,null,null,null,null,null,null,null,null,null,null,null,null,null,null,null,null,null,null,null,null,null,null,null,null,null,null,null,null,null,null,null,null,null,null,null,null,null,null,null,null,null,null,null,null,null,null,null,null,null,null,null,null,null,null,null,null,null,null,null,null,null,null,null,null,null,null,null,null,null,null,null,null,null,null,null,null,null,null,null,"Soya yağı",100,null,100,null,null,8.84,8.84,null,null,null,51,6.8,null,null,null,null,null,null,null,null,null,null,null,null,null,null,null,null,null,null,null,null,null,null,null,null,1,null,null,null,null,null,null,null,null,null,null,null,null,null,null,82,14.2,57.8,51,6.8,100]
[null,null,null,null,null,null,null,null,null,null,null,null,null,null,null,null,null,null,null,null,null,null,null,null,null,null,null,null,null,null,null,null,null,null,null,null,null,null,null,null,null,null,null,null,null,null,null,null,null,null,null,null,null,null,null,null,null,null,null,null,null,null,null,null,null,null,null,null,null,null,null,null,null,null,null,null,null,null,null,null,null,null,null,null,null,null,null,null,null,null,null,null,null,null,null,null,null,null,null,null,null,null,null,null,null,null,null,null,null,null,null,null,null,null,null,null,null,null,null,null,null,null,null,null,null,null,null,null,null,null,null,null,null,null,"Susam yağı",100,0,100,0,0,8.84,8.84,0,0,0,39.200000000000003,0.39100000000000001,null,0,0,0,0,0,0,0,0,0,0,0,null,0,0,0,0,0,0,0,0,null,0,0,0,0,0,0,0,null,0,0,0,0,0,0,0,0,0,14,14.05,39.6,39.200000000000003,0.39100000000000001,80]
[null,null,null,null,null,null,null,null,null,null,null,null,null,null,null,null,null,null,null,null,null,null,null,null,null,null,null,null,null,null,null,null,null,null,null,null,null,null,null,null,null,null,null,null,null,null,null,null,null,null,null,null,null,null,null,null,null,null,null,null,null,null,null,null,null,null,null,null,null,null,null,null,null,null,null,null,null,null,null,null,null,null,null,null,null,null,null,null,null,null,null,null,null,null,null,null,null,null,null,null,null,null,null,null,null,null,null,null,null,null,null,null,null,null,null,null,null,null,null,null,null,null,null,null,null,null,null,null,null,null,null,null,null,null,"Tereyağ, tuzsuz",82,0.9,81,null,0.5,7.4,7.4,0.1,0.1,null,1.0389999999999999,0.38,null,6.6000000000000003E-2,5.3999999999999999E-2,0.11,0.182,0.17,4.8000000000000001E-2,1.4999999999999999E-2,9.5000000000000001E-2,0.08,0.08,2.5999999999999999E-2,null,0.13100000000000001,0.05,2.1000000000000001E-2,null,4.0000000000000001E-3,7.9000000000000001E-2,2.7E-2,null,null,1.3,0.10099999999999999,2,0,1.3000000000000001E-2,1.7000000000000002,8.0000000000000002E-3,null,0.02,0.4,1.9,0.8,0.2,0.2,1E-3,4430,4.6999999999999993,12.7,51,1.419,1.0389999999999999,0.38,265]
[null,null,null,null,null,null,null,null,null,null,null,null,null,null,null,null,null,null,null,null,null,null,null,null,null,null,null,null,null,null,null,null,null,null,null,null,null,null,null,null,null,null,null,null,null,null,null,null,null,null,null,null,null,null,null,null,null,null,null,null,null,null,null,null,null,null,null,null,null,null,null,null,null,null,null,null,null,null,null,null,null,null,null,null,null,null,null,null,null,null,null,null,null,null,null,null,null,null,null,null,null,null,null,null,null,null,null,null,null,null,null,null,null,null,null,null,null,null,null,null,null,null,null,null,null,null,null,null,null,null,null,null,null,null,"Zeytinyağı",100,null,100,null,null,8.84,8.84,null,null,null,9.7629999999999999,0.76100000000000001,null,null,null,null,null,null,null,null,null,null,null,null,null,null,1E-3,null,null,null,1E-3,2E-3,null,null,null,3.0000000000000001E-3,null,null,null,null,null,3,null,null,null,null,null,null,null,null,null,148,13.2,10.5,9.7629999999999999,0.76100000000000001,120]

{"sheet":"FEDIAF2021","index":2,"n_rows":52,"n_cols":11,"rows_kept":52,"cut":false,"hidden":false,"merged":[[0,1,0,4],[0,7,0,9]]}
["KÖPEK","Minimum",null,null,null,"Maximum","KEDİ","Minimum ",null,null,"Maximum"]
["Besin maddesi,% KM'de","Ergin,inaktif,95 kcal/kg0.75","Ergin,aktif,110 kcal/kg0.75","Büyüme (< 14 hf) &Üreme","Büyüme (≥ 14hf)","(L)=EU legal limit (N)=nutritional","Besin maddesi,% KM'de","Ergin,inaktif,kısır,75 kcal/kg0.67","Ergin,aktif,100 kcal/kg0.67","Büyüme&Üreme","(L)=EU legal limit (N)=nutritional"]
[]
["Protein, g",21,18,25,20,null,"Protein, g",33.299999999999997,25,{"$f":"IF(KediTipi=\"Yavru\",28,30)","v":30}]
["Enerji, kcal",null,null,null,null,null,"Enerji, kcal"]
["Lif, g",null,null,null,null,null,"Lif, g"]
["Kül, g",null,null,null,null,null,"Kül, g"]
["Karbonhidrat, g",null,null,null,null,null,"Karbonhidrat, g"]
["Kalsiyum, g",0.57999999999999996,0.5,1,0.9,"Ergin:2,50(N), Erken Büyüme:1,60(N), Geç Büyüme:1,80(N)","Kalsiyum, g",0.53,0.4,1]
["Fosfor, g",0.46,0.4,0.9,0.7,"Ergin: 1,60(N)","Fosfor, g",0.35,0.26,0.84]
["Ca/P oranı",1,1,1,1,"Ergin:2/1 (N), Erken Büyüme & Üreme:1,6/1 (N), Geç Büyüme:1,8/1 (N) or 1,6/1 (N)","Ca/P oranı",1,1,1,"Büyüme:1,5/1(N) Ergin:2/1(N)"]
["Magnezyum, g",0.08,7.0000000000000007E-2,0.04,0.04,null,"Magnezyum, g",0.05,0.04,0.05]
["Sodyum, g",0.12,0.1,0.22,0.22,null,"Sodyum, g",0.1,0.08,0.16]
[null,null,null,null,null,null,"Taurin, g",0.13,0.1,0.1]
["Yağ, g",5.5,5.5,8.5,8.5,null,"Yağ, g",9,9,9]
["Linoleik asit, g",1.53,1.32,1.3,1.3,"Erken Büyüme:6,50(N)","Linoleik asit, g",0.67,0.5,0.55000000000000004]
["Arahidonik asit, g",null,null,0.03,0.03,null,"Arahidonik asit, g",8.0000000000000002E-3,6.0000000000000001E-3,0.02]
["Vitamin A, μg",210.6,181.8,150,150,"12 000 (N)","Vitamin A, μg",133.19999999999999,99.899999999999991,270,"Ergin&Büyüme:12 000(N), Üreme:9999,9(N)"]
["Vitamin D, μg",1.6,1.38,1.38,1.25,"5,68 (L)     8,00 (N)","Vitamin D, μg",0.83250000000000002,0.625,0.70000000000000007,"5,68 (L), 75 (N)"]
["Vitamin E, mg",2.79,2.41,3.35,3.35,null,"Vitamin E, mg",3.3969000000000005,2.5459999999999998,2.5459999999999998]
["Potasyum, g",0.57999999999999996,0.5,0.44,0.44,null,"Potasyum, g",0.8,0.6,0.6]
["Klorid, g",0.17,0.15,0.33,0.33,null,"Klorid, g",0.15,0.11,0.24]
["Bakır, mg",0.83,0.72,1.1000000000000001,1.1000000000000001,"2,8 (L)","Bakır, mg",0.67,0.5,1,"2,8 (L)"]
["Çinko, mg",8.34,7.2,10,10,"22,7 (L)","Çinko, mg",10,7.5,7.5,"22,7 (L)"]
["Demir, mg",4.17,3.6,8.8000000000000007,8.8000000000000007,"142 (L)","Demir, mg",10.7,8,8,"142 (L)"]
["İyot, mg",0.12,0.11,0.15,0.15,"1,1 (L)","İyot, mg",0.17,0.13,0.18,"1,1 (L)"]
["Manganez, mg",0.67,0.57999999999999996,0.56000000000000005,0.56000000000000005,"17 (L)","Manganez, mg",0.67,0.5,1,"17 (L)"]
["Selenyum, μg",24.5,20.5,40,40,"56,8 (L)","Selenyum, μg",31.5,23.5,30,"56,8 (L)"]
["Tiamin, mg",0.25,0.21,0.18,0.18,null,"Tiamin, mg",0.59,0.44,0.55000000000000004]
["Riboflavin, mg",0.69,0.6,0.42,0.42,null,"Riboflavin, mg",0.42,0.32,0.32]
["Niasin, mg",1.89,1.64,1.36,1.36,null,"Niasin, mg",4.21,3.2,3.2]
["Pantotenik asit, mg",1.64,1.42,1.2,1.2,null,"Pantotenik asit, mg",0.77,0.57999999999999996,0.56999999999999995]
["Vitamin B6, mg",0.17,0.15,0.12,0.12,null,"Vitamin B6, mg",0.33,0.25,0.25]
["Vitamin B12, μg",3.87,3.35,2.8,2.8,null,"Vitamin B12, μg",2.35,1.76,1.8]
["Folik asit, μg",29.9,25.8,21.6,21.6,null,"Folik asit, μg",101,75,75]
["Kolin, mg",189,164,170,170,null,"Kolin, mg",320,240,240]
["Biotin, μg",null,null,null,null,null,"Biotin, μg",8,6,7]
[]
["α-linolenik asit (ω-3), g",null,null,0.08,0.08,null,"α-linolenik asit (ω-3), g",null,null,0.02]
["EPA+DHA (ω-3), g",null,null,0.05,0.05,null,"EPA+DHA (ω-3), g",null,null,0.01]
["Arjinin, g",0.6,0.52,0.82,0.74,null,"Arjinin, g",1.3,1,"1,07/1,11","Büyüme:3,50(N)"]
["Histidin, g",0.27,0.23,0.39,0.25,null,"Histidin, g",0.35,0.26,0.33]
["İzolöysin, g",0.53,0.46,0.65,0.5,null,"İzolöysin, g",0.56999999999999995,0.43,0.54]
["Löysin, g",0.95,0.82,1.29,0.8,null,"Löysin, g",1.36,1.02,1.28]
["Lizin, g",0.46,0.42,0.88,0.7,"Büyüme:2,80(N)","Lizin, g",0.45,0.34,0.85]
["Metiyonin, g",0.46,0.4,0.35,0.26,null,"Metiyonin, g",0.23,0.17,0.44,"Büyüme:1,30(N)"]
["Metiyonin+sistin, g",0.88,0.76,0.7,0.53,null,"Metiyonin+sistin, g",0.45,0.34,0.88]
["Fenilalanin, g",0.63,0.54,0.65,0.5,null,"Fenilalanin, g",0.53,0.4,0.5]
["Fenilalanin+tirozin, g",1.03,0.89,1.3,1,null,"Fenilalanin+tirozin, g",2.04,1.53,1.91]
["Treonin, g",0.6,0.52,0.81,0.64,null,"Treonin, g",0.69,0.52,0.65]
["Triptofan, g",0.2,0.17,0.23,0.21,null,"Triptofan, g",0.17,0.13,0.16,"Büyüme:1,70 (N)"]
["Valin, g",0.68,0.59,0.68,0.56000000000000005,null,"Valin, g",0.68,0.51,0.64]