{"text_format":"1","workbook":"xlsx","n_sheets":2,"sheets":["At","Rapor"],"not_rendered":{"charts":0,"images":0,"macros":1,"external_links":0,"defined_names":179,"comments":2,"pivot_tables":0},"unopened":[],"bounds":{"document_bytes":16777216,"sheet_cells":100000,"rows_first":2000,"rows_last":500,"rows_between":2000,"halvings":0,"cell_chars":16384,"cell_head_chars":4096},"cells_cut":0,"cells_raw":0,"read":"whole","date_system":"1900"}

{"sheet":"At","index":0,"n_rows":133,"n_cols":57,"rows_kept":133,"cut":false,"hidden":false,"merged":[[45,19,45,20],[0,17,1,19],[2,17,2,19],[46,16,48,17],[2,1,3,1],[0,8,0,10],[2,4,2,5]]}
[null,"EN DÜŞÜK  MALİYETLİ AT RASYONU",null,null,null,null,null,null,"   Coşkun & İnal & İnal",null,null,null,null,{"$f":"TODAY()","v":"2025-08-18"},null,null,null,"Selçuk Üniversitesi Veteriner Fakültesi Rasyon Hazırlama Programları"]
[null,"HAZIRLAMA PROGRAMI"]
[null,"VERİLECEK YEMLER","MİKTAR,kg","Fiyat, ₺","Yemler için",null,null,null,null,null,null,null,null,null,null,null,null,"Fİ & Şİ & BC"]
[null,null,{"$f":"SUM(Rapor!AN5:AN25)","v":11.83},{"$f":"SUMPRODUCT(C5:C25,D5:D25)","v":75.339999999999989},"En az","En çok","BESİN MAD.","İHTİYAÇ","RASYON","SONUÇ","Rasyonda","KM'de",null,{"$f":"Rapor!N4","v":"Kesif yem; Miktarı,kg"},{"$f":"Rapor!O4","v":0.15000000000000169}]
[1,"ÇAYIR (MEADOW) KURU OTU",8.5,6,0,10,"KM, kg",11.25,{"$f":"Rapor!I5","v":11.116499999999998},{"$f":"Rapor!J5","v":"TAMAM"},null,null,{"$f":"Rapor!M5","v":"CA'ın %'si"},{"$f":"Rapor!N5","v":"HP,% KM"},{"$f":"Rapor!O5","v":-257.53214336509427}]
[2,"YULAF",3.3,7,0,10,"SE, Mcal",23.310000000000002,{"$f":"Rapor!I6","v":23.360804999999999},{"$f":"Rapor!J6","v":"TAMAM"},{"$f":"Rapor!K6","v":"1975 kcal/kg"},{"$f":"Rapor!L6","v":"2101 kcal/kg"},{"$f":"Rapor!M6","v":"olarak KM"},{"$f":"Rapor!N6","v":"SE,Mcal/kg KM"},{"$f":"Rapor!O6","v":-0.38056179775278132}]
[4,"REVİTAMİN HORSE (2 kg/t), (50-75 g/at, 25-50 g/tay)",0.01,121,0.01,7.4999999999999997E-2,"HP, g",767.86708860759495,{"$f":"Rapor!I7","v":1111.6724999999997},{"$f":"Rapor!J7","v":"TAMAM"},{"$f":"Rapor!K7","v":"% 9,40"},{"$f":"Rapor!L7","v":"% 10,00"},{"$f":"Rapor!M7","v":2.2232999999999996},{"$f":"Rapor!N7","v":"Ca,% KM"},{"$f":"Rapor!O7","v":""}]
[4,"TUZ",0.02,1.5,0,0.1,"Lizin, g",33.01828481012658,{"$f":"Rapor!I8","v":45.617100000000001},{"$f":"Rapor!J8","v":"TAMAM"},{"$f":"Rapor!K8","v":"% 0,39"},{"$f":"Rapor!L8","v":"% 0,41"},null,{"$f":"Rapor!N8","v":"P,% KM"},{"$f":"Rapor!O8","v":""},null,"RASYON HAZIRLANAN ATIN :"]
[null,null,0,null,0,0,"Ca, g",35,{"$f":"Rapor!I9","v":50.651099999999992},{"$f":"Rapor!J9","v":"TAMAM"},{"$f":"Rapor!K9","v":"% 0,43"},{"$f":"Rapor!L9","v":"% 0,46"},null,null,null,null,"Tipi :","Emziren Kısrak"]
[null,null,0,null,0,0,"P, g",21,{"$f":"Rapor!I10","v":23.595300000000002},{"$f":"Rapor!J10","v":"TAMAM"},{"$f":"Rapor!K10","v":"% 0,20"},{"$f":"Rapor!L10","v":"% 0,21"},null,null,null,null,"Yaşı :",0]
[null,null,0,null,0,0,"Ca/P",1.6666666666666667,{"$f":"Rapor!I11","v":2.146660563756341},{"$f":"Rapor!J11","v":"TAMAM"},null,null,null,"Hayvanın tipi :",{"$f":"AnimalType","v":"Çalışan At"},null,"Ergin canlı ağırlığı :","550 kg"]
[null,null,0,null,0,0,"Mg, g",11.5,{"$f":"Rapor!I12","v":21.046749999999999},{"$f":"Rapor!J12","v":"TAMAM"},{"$f":"Rapor!K12","v":"% 0,18"},{"$f":"Rapor!L12","v":"% 0,19"},null,"Yaşı :",{"$f":"NRCAge","v":0},"ay","Canlı ağırlığı :","500 kg"]
[null,null,0,null,0,0,"K, g",32,{"$f":"Rapor!I13","v":141.2328},{"$f":"Rapor!J13","v":"FAZLA"},{"$f":"Rapor!K13","v":"% 1,19"},{"$f":"Rapor!L13","v":"% 1,27"},null,"Ergin ağırlığı :",{"$f":"NRCEA","v":500},"kg","Çalışma durumu :",0]
[null,null,0,null,0,0,"Na, g",17.75,{"$f":"Rapor!I14","v":19.369999999999997},{"$f":"Rapor!J14","v":"TAMAM"},{"$f":"Rapor!K14","v":"% 0,16"},{"$f":"Rapor!L14","v":"% 0,17"},null,"Canlı ağırlığı :",{"$f":"NRCCA","v":500},"kg","Yaşama Payı Seviyesi :",0]
[null,null,0,null,0,0,"Cl, g",53.25,{"$f":"Rapor!I15","v":55.552499999999995},{"$f":"Rapor!J15","v":"TAMAM"},{"$f":"Rapor!K15","v":"% 0,47"},{"$f":"Rapor!L15","v":"% 0,50"},null,"Yaşama Payı Seviyesi :",{"$f":"MaintLevel","v":0},"kg/gün","Gebelik Süresi :","1 ay"]
[null,null,0,null,0,0,"Fe, mg",450,{"$f":"Rapor!I16","v":1981.9399999999998},{"$f":"Rapor!J16","v":"TAMAM"},{"$f":"Rapor!K16","v":"167,54 ppm"},{"$f":"Rapor!L16","v":"178,29 ppm"},null,"Çalışma durumu :",{"$f":"WorkLevel","v":"Orta"},null,"Emzirme Süresi :","3 gün"]
[null,null,0,null,0,0,"Cu, mg",112.5,{"$f":"Rapor!I17","v":122.28809999999999},{"$f":"Rapor!J17","v":"TAMAM"},{"$f":"Rapor!K17","v":"10,34 ppm"},{"$f":"Rapor!L17","v":"11,00 ppm"},null,"Gebelik Süresi :",{"$f":"NRCGS","v":0},"ay"]
[null,null,0,null,0,0,"Zn, mg",450,{"$f":"Rapor!I18","v":509.62199999999996},{"$f":"Rapor!J18","v":"TAMAM"},{"$f":"Rapor!K18","v":"43,08 ppm"},{"$f":"Rapor!L18","v":"45,84 ppm"},null,"Emzirme Süresi :",{"$f":"LaktSure","v":0},"ay",null,"GÜNLÜK","BESİN "]
[null,null,0,null,0,0,"Mn, mg",450,{"$f":"Rapor!I19","v":746.29700000000003},{"$f":"Rapor!J19","v":"TAMAM"},{"$f":"Rapor!K19","v":"63,09 ppm"},{"$f":"Rapor!L19","v":"67,13 ppm"},null,null,null,null,"YEM MADDELERİ","MİKTAR,kg","MADDELERİ","İHTİYAÇ","RASYON","SONUÇ"]
[null,null,0,null,0,0,"Se, mg",1.125,{"$f":"Rapor!I20","v":1.22072},{"$f":"Rapor!J20","v":"TAMAM"},{"$f":"Rapor!K20","v":"0,01 ppm"},{"$f":"Rapor!L20","v":"0,01 ppm"},null,null,null,null,"BUĞDAY SAMANI",3,{"$f":"G5","v":"KM, kg"},12.5,12.387500020946224,"TAMAM"]
[null,null,0,null,0,0,"Vit.A, IU",22500,{"$f":"Rapor!I21","v":123262.91609999999},{"$f":"Rapor!J21","v":"TAMAM"},{"$f":"Rapor!K21","v":"10420 IU/kg"},{"$f":"Rapor!L21","v":"11088 IU/kg"},null,null,null,null,"ÇAYIR KURU OTU,OLGUN",2.2043559709243938,{"$f":"G6","v":"SE, Mcal"},30.608333333333334,30.332858445290181,"TAMAM"]
[null,null,0,null,0,0,"Kaba Yem, %",50,{"$f":"Rapor!I22","v":72.716232627175827},{"$f":"Rapor!J22","v":"TAMAM"},null,null,null,null,null,null,"YONCA KURU OTU,OLGUN",3.1176056538252932,"HP, g",1467.5,1454.2924999999998,"TAMAM"]
[null,null,0,null,0,0,"HK, %",null,null,null,{"$f":"Rapor!K23","v":"% 5,87"},{"$f":"Rapor!L23","v":"% 6,25"},null,null,null,null,"ARPA, EZME ",5.6620344245511198E-3,"Lizin, g",80.294999999999987,79.572345072388174,"TAMAM"]
[null,null,0,null,0,0,"HY, %",null,null,null,{"$f":"Rapor!K24","v":"% 3,29"},{"$f":"Rapor!L24","v":"% 3,51"},null,null,null,null,"MISIR, KIRILMIŞ, KURU",3,"Ca, g",55.879999999999995,55.880000023588138,"TAMAM"]
[null,null,0,null,0,0,"NDF, %",null,null,null,{"$f":"Rapor!K25","v":"% 51,66"},{"$f":"Rapor!L25","v":"% 54,98"},null,null,null,null,"YULAF",0.75884387481251414,"P, g",36.027777777777771,36.027777757364106,"TAMAM"]
[null,null,null,null,null,null,"ADF, %",null,null,null,{"$f":"Rapor!K26","v":"% 27,34"},{"$f":"Rapor!L26","v":"% 29,10"},null,null,null,null,"AYÇİÇEĞİ  KÜSPESİ, SOLVENT, %28 HP",1.394270538037141,"Ca/P",1.5510254433307635,1.5510254448643095,"TAMAM"]
[null,null,null,null,null,null,null,null,null,null,null,null,null,null,null,null,"LİZİN HCL",2.9297128948036731E-2,"Mg, g",10.86375,27.732802706991791,"Kabul edilebilir"]
[null,null,null,null,null,null,null,null,null,null,null,null,null,null,null,null,"TUZ",0.1,"K, g",45.929999999999993,157.01592911919039,"FAZLA"]
[null,null,null,null,null,null,null,null,null,null,null,null,null,null,null,null,"VİTAMİN-MİNERAL KARMASI (KAVIMIX VM İŞ ATI)(1 KG/T)",0.01,"Na, g",12.541499999999999,47.407965103096416,"Kabul edilebilir"]
[null,null,null,null,null,null,null,null,null,null,null,null,null,null,null,null,null,null,"Cl, g",45.5,91.730086703793916,"Kabul edilebilir"]
[null,null,null,null,null,null,null,null,null,null,null,null,null,null,null,null,null,null,"Fe, mg",625,2193.22908298314,"Kabul edilebilir"]
[null,null,null,null,null,null,null,null,null,null,null,null,null,null,null,null,null,null,"Cu, mg",125,175.32404492150729,"Kabul edilebilir"]
[null,null,null,null,null,null,null,null,null,null,null,null,null,null,null,null,null,null,"Zn, mg",500,878.986781951995,"Kabul edilebilir"]
[null,null,null,null,null,null,null,null,null,null,null,null,null,null,null,null,null,null,"Mn, mg",500,934.57863355683946,"Kabul edilebilir"]
[null,null,null,null,null,null,null,null,null,null,null,null,null,null,null,null,null,null,"Se, mg",1.25,4.5544286196796318,"Kabul edilebilir"]
[null,null,null,null,null,null,null,null,null,null,null,null,null,null,null,null,null,null,"Vit.A, IU",30000,84172.543091350904,"Kabul edilebilir"]
[null,null,null,null,null,null,null,null,null,null,null,null,null,null,null,null,null,null,"Kaba Yem, %",65,61.54579265897636,"TAMAM"]
[]
[]
[]
[]
[null,null,null,null,null,null,null,null,null,null,null,null,null,null,null,null,"TOPLAM =",13.620035200971929,"kg"]
[]
[]
[]
[null,null,null,null,null,null,null,null,null,null,null,null,null,null,null,null,"Kurum:",null,null,"13.03.2019"]
[null,null,null,null,null,null,null,null,null,null,null,null,null,null,null,null,"SUVF",null,null,"Rasyonu Hazırlayan"]
[null,null,null,null,null,null,null,null,null,null,null,null,null,null,null,null,null,null,null,"Şİ"]
[]
[]
[]
[]
[]
[]
[]
[]
[]
[]
[]
[]
[]
[]
[]
[]
[]
[]
[]
[]
[]
[]
[]
[]
[]
[]
[]
[]
[]
[]
[]
[]
[]
[]
[]
[]
[]
[]
[]
[]
[]
[]
[]
[]
[]
[]
[]
[]
[]
[]
[]
[]
[]
[]
[]
[]
[]
[]
[]
[]
[]
[]
[]
[]
[]
[]
[]
[]
[]
[]
[]
[]
[]
[]
[]
[]
[]
[]
[]
[]
[]
[]
[]
[]
[null,null,null,null,null,null,null,null,null,null,null,null,null,null,null,null,null,null,null,null,null,null,null,null,null,null,null,null,null,null,null,null,null,null,null,null,null,null,null,null,null,null,null,"92","3,49","30,3","12,3","0,1","0,45","0,07","0,18","0,1","0,88","1200","","3",""]

{"sheet":"Rapor","index":1,"n_rows":195,"n_cols":87,"rows_kept":195,"cut":false,"hidden":false,"merged":[[48,1,49,1],[48,2,49,2],[49,19,49,21],[49,22,49,23],[50,19,50,21],[50,22,50,23],[60,22,60,23],[57,19,57,21],[57,22,57,23],[52,19,52,21],[52,22,52,23],[54,22,54,23],[54,19,54,21],[56,19,56,21],[56,22,56,23],[53,22,53,23],[53,19,53,21],[40,22,40,23],[44,22,44,23],[45,22,45,23],[41,22,41,23],[40,19,40,21],[41,19,41,21],[42,19,42,21],[42,22,42,23],[47,19,47,21],[47,22,47,23],[44,19,44,21],[62,19,62,21],[62,22,62,23],[45,19,45,21],[58,19,58,21],[58,22,58,23],[48,19,48,21],[48,22,48,23],[51,19,51,21],[51,22,51,23],[46,19,46,21],[46,22,46,23],[59,19,59,21],[59,22,59,23],[61,19,61,21],[61,22,61,23],[60,19,60,21],[2,1,3,1],[2,4,2,5],[38,22,38,23],[37,19,37,21],[37,22,37,23],[36,19,36,21],[32,22,32,25],[30,19,30,21],[31,19,31,21],[33,22,33,25],[29,19,29,21],[29,22,29,25],[32,19,32,21],[30,22,30,25],[33,19,33,21],[39,22,39,23],[39,19,39,21],[36,22,36,23],[38,19,38,21],[31,22,31,25],[0,8,0,10],[26,19,26,21],[27,19,27,21],[28,19,28,21],[26,22,26,25],[27,22,27,25],[28,22,28,25]]}
[null,"AT RASYONU HAZIRLAMA PROGRAMI",null,null,null,null,{"$f":"TODAY()","v":"2025-08-18"},null,"   Coşkun & İnal & İnal",null,null,null,null,null,null,null,null,"HESAPLAMA TABLOSU",null,null,null,null,null,null,null,null,null,null,null,null,null,null,null,null,null,null,null,null,null,null,{"$f":"SUM(AO5:AO25)","v":11.116499999999998},23.360804999999999,1111.6724999999997,45.617100000000001,389.65199999999993,6111.36,3234.6299999999997,694.94399999999996,50.651099999999992,23.595300000000002,{"$f":"SUM(AY5:AY25)","v":21.046749999999999},141.2328,19.369999999999997,{"$f":"SUM(BB5:BB25)","v":55.552499999999995},31.187399999999997,{"$f":"SUM(BD5:BD25)","v":1981.9399999999998},122.28809999999999,{"$f":"SUM(BF5:BF25)","v":509.62199999999996},746.29700000000003,1.22072,123262.91609999999,null,"YEMLER","  ","  ","  ","  ","  ","  ","  ","  ","  ","  ","  ",null,null,"  "]
[null,null,null,null,null,null,null,null,null,null,null,null,null,null,null,null,"Kaba",null,null,null,null,null,null,null,null,null,null,null,null,null,null,null,null,null,null,null,null,null,null,null,null,null,null,null,null,null,null,null,null,null,null,null,null,null,null,null,null,null,null,null,null,null,"  ","  ","  ","  ","  ","  ","  ","  ","  ","  ","  "]
[null,null,"MİKTAR","Fiyat, ₺","Yemler için",null,null,null,null,null,null,null,null,null,null,null,"Yem","YEMLER","KM","SE","HP","Liz","HY","NDF","ADF","HK","Ca","P","Mg","K","Na","Cl","S","Fe","Cu","Zn","Mn","Se","Vit. A","Miktar","KM","SE","HP","Liz","HY","NDF","ADF","HK","Ca","P","Mg","K","Na","Cl","S","Fe","Cu","Zn","Mn","Se","Vit. A",null,"KABA YEMLER","   KM,%","SE,Mcal/kg"," HP,%","Lizin,%","HY,%","NDF,%","ADF,%","HK,%","   Ca,%","    P,%","    Mg,%","    K,%","    Na,%","    Cl,%","    S,%","    Fe,mg/kg","    Cu,mg/kg","    Zn,mg/kg","    Mn,mg/kg","    Se,mg/kg","Vit.A,IU/kg","En az,kg","En çok,kg","Fiyat,TL"]
[null,"VERİLECEK YEMLER",{"$f":"AN4","v":11.83},{"$f":"At!D4","v":75.339999999999989},"En az","En çok","BESİN MADDESİ","İHTİYAÇ","RASYON","SONUÇ","Rasyonda","KM'de",null,"Kesif yem; Miktarı,kg",{"$f":"IF(H5-I5<=0,\"\",(H5-I5)/0.89)","v":0.15000000000000169},null,{"$f":"SUM(Q5:Q25)","v":8.083499999999999},"Kaba Yemler",2,3,4,5,6,7,8,9,10,11,12,13,14,15,16,17,18,19,20,21,22,{"$f":"SUM(AN5:AN25)","v":11.83},null,null,null,null,null,null,null,null,null,null,null,null,null,null,null,null,null,null,null,null,null,null,"ARPA ÇİMİ",11.9,3.58,20.5,0.92,2.94,41.93,19.5,3.36,0.16,0.3,0.25,0.6,0.21,0.72,0.22,121,6,21,21,0.12,"","","",7]
[{"$f":"At!A5","v":1},{"$f":"At!B5","v":"ÇAYIR (MEADOW) KURU OTU"},{"$f":"At!C5","v":8.5},{"$f":"At!D5","v":6},{"$f":"At!E5","v":0},{"$f":"At!F5","v":10},"KM, kg",{"$f":"At!H5","v":11.25},{"$f":"AO1","v":11.116499999999998},{"$f":"IF(H5<=0,\"\",IF(I5>H5*1.1,\"FAZLA\",IF(I5<H5*0.9,\"EKSİK\",\"TAMAM\")))","v":"TAMAM"},null,null,"CA'ın %'si","HP,% KM",{"$f":"IF(H5-I5<=0,\"\",  ((H7-I7)/10)/($H5-$I5)  )","v":-257.53214336509427},null,{"$f":"IF(A5=0,0,IF(A5=1,AO5,0))","v":8.083499999999999},{"$f":"IF(B5=0,0,IF(C5<=0,0,B5))","v":"ÇAYIR (MEADOW) KURU OTU"},{"$f":"IF($R5=0,0,VLOOKUP($R5,$BK$4:$CI$220,S$4,FALSE))","v":95.1},1.69,8.6999999999999993,0.36,3,60,35,7,0.6,0.18,{"$f":"IF($R5=0,0,VLOOKUP($R5,$BK$4:$CI$220,AC$4,FALSE))","v":0.17},1.58,0.12,0.5,0.3,200,8,30,62,0,13393,{"$f":"IF(R5=0,0,C5)","v":8.5},{"$f":"IF(R5=0,0,IF(ISERROR(C5*S5/100)=TRUE,0,C5*S5/100))","v":8.083499999999999},{"$f":"IF(R5=0,0,IF(ISERROR(AO5*T5)=TRUE,0,AO5*T5))","v":13.661114999999999},{"$f":"IF(R5=0,0,IF(ISERROR(AO5*U5*10)=TRUE,0,AO5*U5*10))","v":703.26449999999977},{"$f":"IF(R5=0,0,IF(ISERROR(AO5*V5*10)=TRUE,0,AO5*V5*10))","v":29.100599999999996},{"$f":"IF(R5=0,0,IF(ISERROR(AO5*W5*10)=TRUE,0,AO5*W5*10))","v":242.50499999999994},{"$f":"IF(R5=0,0,IF(ISERROR(AO5*X5*10)=TRUE,0,AO5*X5*10))","v":4850.0999999999995},{"$f":"IF(R5=0,0,IF(ISERROR(AO5*Y5*10)=TRUE,0,AO5*Y5*10))","v":2829.2249999999995},{"$f":"IF(R5=0,0,IF(ISERROR(AO5*Z5*10)=TRUE,0,AO5*Z5*10))","v":565.84499999999991},{"$f":"IF(R5=0,0,IF(ISERROR(AO5*AA5*10)=TRUE,0,AO5*AA5*10))","v":48.500999999999991},{"$f":"IF(R5=0,0,IF(ISERROR(AO5*AB5*10)=TRUE,0,AO5*AB5*10))","v":14.550299999999998},{"$f":"IF(R5=0,0,IF(ISERROR(AO5*AC5*10)=TRUE,0,AO5*AC5*10))","v":13.741949999999999},{"$f":"IF(R5=0,0,IF(ISERROR(AO5*AD5*10)=TRUE,0,AO5*AD5*10))","v":127.71929999999999},{"$f":"IF(R5=0,0,IF(ISERROR(AO5*AE5*10)=TRUE,0,AO5*AE5*10))","v":9.7001999999999988},{"$f":"IF(R5=0,0,IF(ISERROR(AO5*AF5*10)=TRUE,0,AO5*AF5*10))","v":40.417499999999997},{"$f":"IF(R5=0,0,IF(ISERROR(AO5*AG5*10)=TRUE,0,AO5*AG5*10))","v":24.250499999999995},{"$f":"IF(R5=0,0,IF(ISERROR(AO5*AH5)=TRUE,0,AO5*AH5))","v":1616.6999999999998},{"$f":"IF(R5=0,0,IF(ISERROR(AO5*AI5)=TRUE,0,AO5*AI5))","v":64.667999999999992},{"$f":"IF(R5=0,0,IF(ISERROR(AO5*AJ5)=TRUE,0,AO5*AJ5))","v":242.50499999999997},{"$f":"IF(R5=0,0,IF(ISERROR(AO5*AK5)=TRUE,0,AO5*AK5))","v":501.17699999999996},{"$f":"IF(R5=0,0,IF(ISERROR(AO5*AL5)=TRUE,0,AO5*AL5))","v":0},{"$f":"IF(R5=0,0,IF(ISERROR(AO5*AM5)=TRUE,0,AO5*AM5))","v":108262.31549999998},null,"BAKLAGİL KURU OTU, KÖRPE ",84.2,2.62,20.5,1.05,2.1,36.299999999999997,28.6,9.5,1.56,0.31,0.33,2.56,0.03,0.55000000000000004,0.33,213,10,26,49,0.2,null,0,2,7]
[{"$f":"At!A6","v":2},{"$f":"At!B6","v":"YULAF"},{"$f":"At!C6","v":3.3},{"$f":"At!D6","v":7},{"$f":"At!E6","v":0},{"$f":"At!F6","v":10},"SE, Mcal",{"$f":"At!H6","v":23.310000000000002},{"$f":"AP1","v":23.360804999999999},{"$f":"IF(H6<=0,\"\",IF(I6>(H6*1.02),\"FAZLA\",IF(I6<(H6*0.98),\"EKSİK\",\"TAMAM\")))","v":"TAMAM"},{"$f":"IF(I$6>0,CONCATENATE(TEXT((I6*1000)/C$4,\"0\"),\" kcal/kg\"),\"\")","v":"1975 kcal/kg"},{"$f":"IF(I$6>0,CONCATENATE(TEXT((I6*1000)/I$5,\"0\"),\" kcal/kg\"),\"\")","v":"2101 kcal/kg"},"olarak KM","SE,Mcal/kg KM",{"$f":"IF(H5-I5<=0,\"\",  ((H6-I6))/($H5-$I5)  )","v":-0.38056179775278132},null,0,{"$f":"IF(B6=0,0,IF(C6<=0,0,B6))","v":"YULAF"},91,3.23,13.6,0.55000000000000004,4.9000000000000004,42,13.5,3.3,7.0000000000000007E-2,0.3,0.16,0.45,0.06,0.1,0.23,80,6.7,39,40,0.24,0.2,{"$f":"IF(R6=0,0,C6)","v":3.3},{"$f":"IF(R6=0,0,IF(ISERROR(C6*S6/100)=TRUE,0,C6*S6/100))","v":3.0030000000000001},{"$f":"IF(R6=0,0,IF(ISERROR(AO6*T6)=TRUE,0,AO6*T6))","v":9.6996900000000004},{"$f":"IF(R6=0,0,IF(ISERROR(AO6*U6*10)=TRUE,0,AO6*U6*10))","v":408.40800000000002},{"$f":"IF(R6=0,0,IF(ISERROR(AO6*V6*10)=TRUE,0,AO6*V6*10))","v":16.516500000000004},{"$f":"IF(R6=0,0,IF(ISERROR(AO6*W6*10)=TRUE,0,AO6*W6*10))","v":147.14700000000002},{"$f":"IF(R6=0,0,IF(ISERROR(AO6*X6*10)=TRUE,0,AO6*X6*10))","v":1261.26},{"$f":"IF(R6=0,0,IF(ISERROR(AO6*Y6*10)=TRUE,0,AO6*Y6*10))","v":405.40500000000003},{"$f":"IF(R6=0,0,IF(ISERROR(AO6*Z6*10)=TRUE,0,AO6*Z6*10))","v":99.099000000000004},{"$f":"IF(R6=0,0,IF(ISERROR(AO6*AA6*10)=TRUE,0,AO6*AA6*10))","v":2.1021000000000005},{"$f":"IF(R6=0,0,IF(ISERROR(AO6*AB6*10)=TRUE,0,AO6*AB6*10))","v":9.0090000000000003},{"$f":"IF(R6=0,0,IF(ISERROR(AO6*AC6*10)=TRUE,0,AO6*AC6*10))","v":4.8048000000000002},{"$f":"IF(R6=0,0,IF(ISERROR(AO6*AD6*10)=TRUE,0,AO6*AD6*10))","v":13.513500000000001},{"$f":"IF(R6=0,0,IF(ISERROR(AO6*AE6*10)=TRUE,0,AO6*AE6*10))","v":1.8018000000000001},{"$f":"IF(R6=0,0,IF(ISERROR(AO6*AF6*10)=TRUE,0,AO6*AF6*10))","v":3.0030000000000001},{"$f":"IF(R6=0,0,IF(ISERROR(AO6*AG6*10)=TRUE,0,AO6*AG6*10))","v":6.9069000000000003},{"$f":"IF(R6=0,0,IF(ISERROR(AO6*AH6)=TRUE,0,AO6*AH6))","v":240.24},{"$f":"IF(R6=0,0,IF(ISERROR(AO6*AI6)=TRUE,0,AO6*AI6))","v":20.120100000000001},{"$f":"IF(R6=0,0,IF(ISERROR(AO6*AJ6)=TRUE,0,AO6*AJ6))","v":117.117},{"$f":"IF(R6=0,0,IF(ISERROR(AO6*AK6)=TRUE,0,AO6*AK6))","v":120.12},{"$f":"IF(R6=0,0,IF(ISERROR(AO6*AL6)=TRUE,0,AO6*AL6))","v":0.72072000000000003},{"$f":"IF(R6=0,0,IF(ISERROR(AO6*AM6)=TRUE,0,AO6*AM6))","v":0.60060000000000002},null,"BAKLAGİL KURU OTU, OLGUN",83.8,2.21,17.8,0.89,1.6,50.9,39.5,9.1999999999999993,1.22,0.28000000000000003,0.27,2.38,0.02,0.48,0.23,250,9,24,44,0.2,null,0,2,7]
[{"$f":"At!A7","v":4},{"$f":"At!B7","v":"REVİTAMİN HORSE (2 kg/t), (50-75 g/at, 25-50 g/tay)"},{"$f":"At!C7","v":0.01},{"$f":"At!D7","v":121},{"$f":"At!E7","v":0.01},{"$f":"At!F7","v":7.4999999999999997E-2},"HP, g",{"$f":"At!H7","v":767.86708860759495},{"$f":"AQ1","v":1111.6724999999997},{"$f":"IF(H7<=0,\"\",IF(I7>(H7*0.99),\"TAMAM\",\"EKSİK\"))","v":"TAMAM"},{"$f":"IF(I7>0,CONCATENATE(\"% \",TEXT(I7/(C$4*1000)*100,\"0,00\")),\"\")","v":"% 9,40"},{"$f":"IF(I7>0,CONCATENATE(\"% \",TEXT(I7/(I$5*1000)*100,\"0,00\")),\"\")","v":"% 10,00"},{"$f":"IF(I5>0,I5/NRCCA*100,\"\")","v":2.2232999999999996},"Ca,% KM",{"$f":"IF(H7-I7<=0,\"\",  ((H9-I9)/10)/($H5-$I5)  )","v":""},null,0,"REVİTAMİN HORSE (2 kg/t), (50-75 g/at, 25-50 g/tay)",100,0,0,0,0,0,0,100,0.48,0.36,25,0,0,0,0.3,12500,3750,15000,12500,50,1500000,0.01,0.01,0,0,0,0,0,0,10,4.7999999999999994E-2,3.5999999999999997E-2,2.5,0,0,0,0.03,125,37.5,150,125,0.5,15000,null,"BAKLAGİL KURU OTU, ORTA OLGUN",83.9,2.4300000000000002,20.8,1.06,2,42.9,33.4,9.4,1.37,0.3,0.3,2.4500000000000002,0.02,0.61,0.31,207,9,24,46,0.2,null,0,2,7]
[{"$f":"At!A8","v":4},{"$f":"At!B8","v":"TUZ"},{"$f":"At!C8","v":0.02},{"$f":"At!D8","v":1.5},{"$f":"At!E8","v":0},{"$f":"At!F8","v":0.1},"Lizin, g",{"$f":"At!H8","v":33.01828481012658},{"$f":"AR1","v":45.617100000000001},{"$f":"IF(H8<=0,\"\",IF(I8<(H8*0.98),\"EKSİK\",\"TAMAM\"))","v":"TAMAM"},{"$f":"IF(I8>0,CONCATENATE(\"% \",TEXT(I8/(C$4*1000)*100,\"0,00\")),\"\")","v":"% 0,39"},{"$f":"IF(I8>0,CONCATENATE(\"% \",TEXT(I8/(I$5*1000)*100,\"0,00\")),\"\")","v":"% 0,41"},null,"P,% KM",{"$f":"IF(H8-I8<=0,\"\",  ((H10-I10)/10)/($H5-$I5)  )","v":""},null,0,"TUZ",100,0,0,0,0,0,0,100,0,0,0,0,39.340000000000003,60.66,0,0,0,0,0,0,0,0.02,0.02,0,0,0,0,0,0,20,0,0,0,0,7.8680000000000003,12.132000000000001,0,0,0,0,0,0,0,null,"BAKLAGİL MERASI, VEJETATİF",21.4,2.71,26.5,1.37,3.7,33.1,23.9,10,1.31,0.37,0.28000000000000003,3.21,0.01,0.6,0.31,215,10,33,54,0.2,0,null,null,7]
[{"$f":"At!A9","v":0},{"$f":"At!B9","v":0},{"$f":"At!C9","v":0},{"$f":"At!D9","v":0},{"$f":"At!E9","v":0},{"$f":"At!F9","v":0},"Ca, g",{"$f":"At!H9","v":35},{"$f":"AW1","v":50.651099999999992},{"$f":"IF(H9<=0,\"\", IF(I9>=H9*K30,\"AŞIRI\",  IF(I9>=H9*J30,\"FAZLA\", IF(I9>=H9*H30,\"TAMAM\",\"EKSİK\"))) )","v":"TAMAM"},{"$f":"IF(I9>0,CONCATENATE(\"% \",TEXT(I9/(C$4*1000)*100,\"0,00\")),\"\")","v":"% 0,43"},{"$f":"IF(I9>0,CONCATENATE(\"% \",TEXT(I9/(I$5*1000)*100,\"0,00\")),\"\")","v":"% 0,46"},null,null,null,null,0,0,0,0,0,0,0,0,0,0,0,0,0,0,0,0,0,0,0,0,0,0,0,0,0,0,0,0,0,0,0,0,0,0,0,0,0,0,0,0,0,0,0,0,0,null,"BUĞDAY KURU OTU, BAŞAKLI",86.1,2.14,9.4,0.4,1.7,61.1,38.1,6.7,0.31,0.2,0.13,1.71,0.06,0.38,0.13,319,8,25,62,0,null,null,null,6]
[{"$f":"At!A10","v":0},{"$f":"At!B10","v":0},{"$f":"At!C10","v":0},{"$f":"At!D10","v":0},{"$f":"At!E10","v":0},{"$f":"At!F10","v":0},"P, g",{"$f":"At!H10","v":21},{"$f":"AX1","v":23.595300000000002},{"$f":"IF(H10<=0,\"\", IF(I10>=H10*K31,\"AŞIRI\",  IF(I10>=H10*J31,\"FAZLA\", IF(I10>=H10*H31,\"TAMAM\",\"EKSİK\"))) )","v":"TAMAM"},{"$f":"IF(I10>0,CONCATENATE(\"% \",TEXT(I10/(C$4*1000)*100,\"0,00\")),\"\")","v":"% 0,20"},{"$f":"IF(I10>0,CONCATENATE(\"% \",TEXT(I10/(I$5*1000)*100,\"0,00\")),\"\")","v":"% 0,21"},null,null,null,null,0,0,0,0,0,0,0,0,0,0,0,0,0,0,0,0,0,0,0,0,0,0,0,0,0,0,0,0,0,0,0,0,0,0,0,0,0,0,0,0,0,0,0,0,0,null,"BUĞDAY SAMANI",92.7,1.76,4.8,0.16,1.6,73,49.4,7.6,0.31,0.1,0.14000000000000001,1.55,0.12,0.6,0.11,172,6,16,67,0,null,0,3,1.5]
[{"$f":"At!A11","v":0},{"$f":"At!B11","v":0},{"$f":"At!C11","v":0},{"$f":"At!D11","v":0},{"$f":"At!E11","v":0},{"$f":"At!F11","v":0},"Ca/P",{"$f":"At!H11","v":1.6666666666666667},{"$f":"I9/I10","v":2.146660563756341},"TAMAM",null,null,null,null,null,null,0,0,0,0,0,0,0,0,0,0,0,0,0,0,0,0,0,0,0,0,0,0,0,0,0,0,0,0,0,0,0,0,0,0,0,0,0,0,0,0,0,0,0,0,0,null,"ÇAYIR (CARAMBA) KURU OTU, OLGUN",85.6,1.84,10.3,0.3,3,60,35,7,0.62,0.34,null,1.56,0.05,0.5,0.3,200,8,30,62,null,2600,0,5,6]
[{"$f":"At!A12","v":0},{"$f":"At!B12","v":0},{"$f":"At!C12","v":0},{"$f":"At!D12","v":0},{"$f":"At!E12","v":0},{"$f":"At!F12","v":0},"Mg, g",{"$f":"At!H12","v":11.5},{"$f":"AY1","v":21.046749999999999},"TAMAM",{"$f":"IF(I12>0,CONCATENATE(\"% \",TEXT(I12/(C$4*1000)*100,\"0,00\")),\"\")","v":"% 0,18"},{"$f":"IF(I12>0,CONCATENATE(\"% \",TEXT(I12/(I$5*1000)*100,\"0,00\")),\"\")","v":"% 0,19"},null,null,null,null,0,0,0,0,0,0,0,0,0,0,0,0,0,0,0,0,0,0,0,0,0,0,0,0,0,0,0,0,0,0,0,0,0,0,0,0,0,0,0,0,0,0,0,0,0,null,"ÇAYIR (MEADOW) KURU OTU",95.1,1.69,8.6999999999999993,0.36,3,60,35,7,0.6,0.18,0.17,1.58,0.12,0.5,0.3,200,8,30,62,null,13393,0,10,6]
[{"$f":"At!A13","v":0},{"$f":"At!B13","v":0},{"$f":"At!C13","v":0},{"$f":"At!D13","v":0},{"$f":"At!E13","v":0},{"$f":"At!F13","v":0},"K, g",{"$f":"At!H13","v":32},{"$f":"AZ1","v":141.2328},"FAZLA",{"$f":"IF(I13>0,CONCATENATE(\"% \",TEXT(I13/(C$4*1000)*100,\"0,00\")),\"\")","v":"% 1,19"},{"$f":"IF(I13>0,CONCATENATE(\"% \",TEXT(I13/(I$5*1000)*100,\"0,00\")),\"\")","v":"% 1,27"},null,null,null,null,0,0,0,0,0,0,0,0,0,0,0,0,0,0,0,0,0,0,0,0,0,0,0,0,0,0,0,0,0,0,0,0,0,0,0,0,0,0,0,0,0,0,0,0,0,null,"ÇAYIR KELPKUYRUĞU (TIMOTHY) KURU OTU, ÇİÇ.BAŞI",89.1,2.06,10.8,0.55000000000000004,3,60,35,7,0.51,0.28999999999999998,0.13,2.41,0.01,0.5,0.3,200,8,30,62,null,21000,0,8,6]
[{"$f":"At!A14","v":0},{"$f":"At!B14","v":0},{"$f":"At!C14","v":0},{"$f":"At!D14","v":0},{"$f":"At!E14","v":0},{"$f":"At!F14","v":0},"Na, g",{"$f":"At!H14","v":17.75},{"$f":"BA1","v":19.369999999999997},"TAMAM",{"$f":"IF(I14>0,CONCATENATE(\"% \",TEXT(I14/(C$4*1000)*100,\"0,00\")),\"\")","v":"% 0,16"},{"$f":"IF(I14>0,CONCATENATE(\"% \",TEXT(I14/(I$5*1000)*100,\"0,00\")),\"\")","v":"% 0,17"},null,null,null,null,0,0,0,0,0,0,0,0,0,0,0,0,0,0,0,0,0,0,0,0,0,0,0,0,0,0,0,0,0,0,0,0,0,0,0,0,0,0,0,0,0,0,0,0,0,null,"ÇAYIR KELPKUYRUĞU (TIMOTHY) KURU OTU, ÇİÇ.ORTASI",88.9,1.99,9.6999999999999993,0.5,3,60,35,7,0.48,0.23,0.13,1.82,0.01,0.5,0.3,200,8,30,62,null,21320,0,8,6]
[{"$f":"At!A15","v":0},{"$f":"At!B15","v":0},{"$f":"At!C15","v":0},{"$f":"At!D15","v":0},{"$f":"At!E15","v":0},{"$f":"At!F15","v":0},"Cl, g",{"$f":"At!H15","v":53.25},{"$f":"BB1","v":55.552499999999995},"TAMAM",{"$f":"IF(I15>0,CONCATENATE(\"% \",TEXT(I15/(C$4*1000)*100,\"0,00\")),\"\")","v":"% 0,47"},{"$f":"IF(I15>0,CONCATENATE(\"% \",TEXT(I15/(I$5*1000)*100,\"0,00\")),\"\")","v":"% 0,50"},null,null,null,null,0,0,{"$f":"IF($R15=0,0,VLOOKUP($R15,$BK$4:$CI$220,S$4,FALSE))","v":0},0,0,0,0,0,0,0,0,0,{"$f":"IF($R15=0,0,VLOOKUP($R15,$BK$4:$CI$220,AC$4,FALSE))","v":0},0,0,0,0,0,0,0,0,0,0,0,0,0,0,0,0,0,0,0,0,0,0,0,0,0,0,0,0,0,0,0,0,null,"ÇAYIR KELPKUYRUĞU (TIMOTHY) KURU OTU, ÇİÇ.SONU",88.3,1.8,7.8,0.45,3,60,35,7,0.38,0.15,0.09,1.61,7.0000000000000007E-2,0.5,0.3,200,8,30,62,null,null,0,8,6]
[{"$f":"At!A16","v":0},{"$f":"At!B16","v":0},{"$f":"At!C16","v":0},{"$f":"At!D16","v":0},{"$f":"At!E16","v":0},{"$f":"At!F16","v":0},"Fe, mg",{"$f":"At!H16","v":450},{"$f":"BD1","v":1981.9399999999998},"TAMAM",{"$f":"IF(I16>0,CONCATENATE(TEXT(I16/C$4,\"0,00\"),\" ppm\"),\"\")","v":"167,54 ppm"},{"$f":"IF(I16>0,CONCATENATE(TEXT(I16/I$5,\"0,00\"),\" ppm\"),\"\")","v":"178,29 ppm"},null,null,null,null,0,0,0,0,0,0,0,0,0,0,0,0,0,0,0,0,0,0,0,0,0,0,0,0,0,0,0,0,0,0,0,0,0,0,0,0,0,0,0,0,0,0,0,0,0,null,"ÇAYIR KELPKUYRUĞU (TIMOTHY) KURU OTU, TAM ÇİÇ.",89.4,1.94,8.1,0.45,3,60,35,7,0.43,0.2,0.09,1.99,7.0000000000000007E-2,0.5,0.3,200,8,30,62,null,null,0,8,6]
[{"$f":"At!A17","v":0},{"$f":"At!B17","v":0},{"$f":"At!C17","v":0},{"$f":"At!D17","v":0},{"$f":"At!E17","v":0},{"$f":"At!F17","v":0},"Cu, mg",{"$f":"At!H17","v":112.5},{"$f":"BE1","v":122.28809999999999},"TAMAM",{"$f":"IF(I17>0,CONCATENATE(TEXT(I17/C$4,\"0,00\"),\" ppm\"),\"\")","v":"10,34 ppm"},{"$f":"IF(I17>0,CONCATENATE(TEXT(I17/I$5,\"0,00\"),\" ppm\"),\"\")","v":"11,00 ppm"},null,null,null,null,0,0,0,0,0,0,0,0,0,0,0,0,0,0,0,0,0,0,0,0,0,0,0,0,0,0,0,0,0,0,0,0,0,0,0,0,0,0,0,0,0,0,0,0,0,null,"ÇAYIR KELPKUYRUĞU (TIMOTHY), YAŞ, ÇİÇ.ORTASI",29.2,2,9.1,0.5,3,60,35,7,0.38,0.3,0.14000000000000001,2.06,0.19,0.5,0.3,200,8,30,62,null,77600,0,10,6]
[{"$f":"At!A18","v":0},{"$f":"At!B18","v":0},{"$f":"At!C18","v":0},{"$f":"At!D18","v":0},{"$f":"At!E18","v":0},{"$f":"At!F18","v":0},"Zn, mg",{"$f":"At!H18","v":450},{"$f":"BF1","v":509.62199999999996},"TAMAM",{"$f":"IF(I18>0,CONCATENATE(TEXT(I18/C$4,\"0,00\"),\" ppm\"),\"\")","v":"43,08 ppm"},{"$f":"IF(I18>0,CONCATENATE(TEXT(I18/I$5,\"0,00\"),\" ppm\"),\"\")","v":"45,84 ppm"},null,null,null,null,0,0,0,0,0,0,0,0,0,0,0,0,0,0,0,0,0,0,0,0,0,0,0,0,0,0,0,0,0,0,0,0,0,0,0,0,0,0,0,0,0,0,0,0,0,null,"ÇAYIR KELPKUYRUĞU (TIMOTHY), YAŞ, ÇİÇ.ÖNCESİ",26.7,2.37,12.2,0.56999999999999995,3,60,35,7,0.4,0.26,0.16,2.73,0.11,0.5,0.3,200,8,30,62,null,93600,0,10,6]
[{"$f":"At!A19","v":0},{"$f":"At!B19","v":0},{"$f":"At!C19","v":0},{"$f":"At!D19","v":0},{"$f":"At!E19","v":0},{"$f":"At!F19","v":0},"Mn, mg",{"$f":"At!H19","v":450},{"$f":"BG1","v":746.29700000000003},"TAMAM",{"$f":"IF(I19>0,CONCATENATE(TEXT(I19/C$4,\"0,00\"),\" ppm\"),\"\")","v":"63,09 ppm"},{"$f":"IF(I19>0,CONCATENATE(TEXT(I19/I$5,\"0,00\"),\" ppm\"),\"\")","v":"67,13 ppm"},null,null,null,null,0,0,0,0,0,0,0,0,0,0,0,0,0,0,0,0,0,0,0,0,0,0,0,0,0,0,0,0,0,0,0,0,0,0,0,0,0,0,0,0,0,0,0,0,0,null,"ÇAYIR KURU OTU,BOZKIRDAN",91,1.62,6.4,0.35,3,60,35,7,0.35,0.14000000000000001,0.26,1.08,0.05,0.5,0.3,200,8,30,62,null,4160,0,10,6]
[{"$f":"At!A20","v":0},{"$f":"At!B20","v":0},{"$f":"At!C20","v":0},{"$f":"At!D20","v":0},{"$f":"At!E20","v":0},{"$f":"At!F20","v":0},"Se, mg",{"$f":"At!H20","v":1.125},{"$f":"BH1","v":1.22072},"TAMAM",{"$f":"IF(I20>0,CONCATENATE(TEXT(I20/(C$4*1000)*100,\"0,00\"),\" ppm\"),\"\")","v":"0,01 ppm"},{"$f":"IF(I20>0,CONCATENATE(TEXT(I20/(I$5*1000)*100,\"0,00\"),\" ppm\"),\"\")","v":"0,01 ppm"},null,null,null,null,0,0,0,0,0,0,0,0,0,0,0,0,0,0,0,0,0,0,0,0,0,0,0,0,0,0,0,0,0,0,0,0,0,0,0,0,0,0,0,0,0,0,0,0,0,null,"ÇAYIR KURU OTU,OLGUN",91,1.75,7.7,0.35,3,60,35,7,0.3,0.22,0.26,1.08,0.05,0.5,0.3,200,8,30,62,null,2080,0,10,6]
[{"$f":"At!A21","v":0},{"$f":"At!B21","v":0},{"$f":"At!C21","v":0},{"$f":"At!D21","v":0},{"$f":"At!E21","v":0},{"$f":"At!F21","v":0},"Vit.A, IU",{"$f":"At!H21","v":22500},{"$f":"BI1","v":123262.91609999999},"TAMAM",{"$f":"IF(I21>0,CONCATENATE(TEXT(I21/C$4,\"0\"),\" IU/kg\"),\"\")","v":"10420 IU/kg"},{"$f":"IF(I21>0,CONCATENATE(TEXT(I21/I$5,\"0\"),\" IU/kg\"),\"\")","v":"11088 IU/kg"},null,null,null,null,0,0,0,0,0,0,0,0,0,0,0,0,0,0,0,0,0,0,0,0,0,0,0,0,0,0,0,0,0,0,0,0,0,0,0,0,0,0,0,0,0,0,0,0,0,null,"ÇAYIR KURU OTU (KÖPEKDİŞİ, BERMUDAGRASS, TİFTON-85) KURU OTU, 3-4 HAFTALIK",87.3,1.86,13.7,0.48,2.7,76.900000000000006,36.200000000000003,6.5,0.39,0.22,0.15,1.4,0.14000000000000001,0.54,0.38,224,8,32,62,0,null,0,5,5]
[{"$f":"At!A22","v":0},{"$f":"At!B22","v":0},{"$f":"At!C22","v":0},{"$f":"At!D22","v":0},{"$f":"At!E22","v":0},{"$f":"At!F22","v":0},"Kaba Yem, %",{"$f":"At!H22","v":50},{"$f":"IF(Q4=0,0,Q4/I5*100)","v":72.716232627175827},{"$f":"IF(H22<=0,\"\",IF(I22>=H22*0.9,\"TAMAM\",\"EKSİK\"))","v":"TAMAM"},null,null,null,null,null,null,0,0,0,0,0,0,0,0,0,0,0,0,0,0,0,0,0,0,0,0,0,0,0,0,0,0,0,0,0,0,0,0,0,0,0,0,0,0,0,0,0,0,0,0,0,null,"ÇAYIR KURU OTU (KÖPEKDİŞİ,BERMUDAGRASS), BAŞAK. BAŞI",87.1,1.87,10.4,0.36,2.7,73.3,36.799999999999997,8.1,0.49,0.27,0.19,1.8,0.17,0.67,0.48,224,8,32,62,0,null,0,5,5]
[{"$f":"At!A23","v":0},{"$f":"At!B23","v":0},{"$f":"At!C23","v":0},{"$f":"At!D23","v":0},{"$f":"At!E23","v":0},{"$f":"At!F23","v":0},"HK, %",null,null,null,{"$f":"IF(AV1>0,CONCATENATE(\"% \",TEXT(AV1/C$4/10,\"0,00\")),\"\")","v":"% 5,87"},{"$f":"IF(AV1>0,CONCATENATE(\"% \",TEXT(AV1/I$5/10,\"0,00\")),\"\")","v":"% 6,25"},null,null,null,null,0,0,0,0,0,0,0,0,0,0,0,0,0,0,0,0,0,0,0,0,0,0,0,0,0,0,0,0,0,0,0,0,0,0,0,0,0,0,0,0,0,0,0,0,0,null,"ÇAYIR KURU OTU, SOĞUK MEVSİM, KÖRPE ",84,2.36,18,0.63,3.3,49.6,31.4,9.1999999999999993,0.72,0.34,0.23,2.57,0.03,0.42,0.24,199,9,27,84,0.06,null,0,7,6]
[{"$f":"At!A24","v":0},{"$f":"At!B24","v":0},{"$f":"At!C24","v":0},{"$f":"At!D24","v":0},{"$f":"At!E24","v":0},{"$f":"At!F24","v":0},"HY, %",null,null,null,{"$f":"IF(AS1>0,CONCATENATE(\"% \",TEXT(AS1/C$4/10,\"0,00\")),\"\")","v":"% 3,29"},{"$f":"IF(AS1>0,CONCATENATE(\"% \",TEXT(AS1/I$5/10,\"0,00\")),\"\")","v":"% 3,51"},null,null,null,null,0,0,0,0,0,0,0,0,0,0,0,0,0,0,0,0,0,0,0,0,0,0,0,0,0,0,0,0,0,0,0,0,0,0,0,0,0,0,0,0,0,0,0,0,0,null,"ÇAYIR KURU OTU, SOĞUK MEVSİM, OLGUN ",84.4,2.04,10.8,0.38,2,69.099999999999994,41.6,7,0.47,0.26,0.18,1.97,0.02,0.66,0.17,180,8,25,90,0.06,null,0,7,6]
[{"$f":"At!A25","v":0},{"$f":"At!B25","v":0},{"$f":"At!C25","v":0},{"$f":"At!D25","v":0},{"$f":"At!E25","v":0},{"$f":"At!F25","v":0},"NDF, %",null,null,null,{"$f":"IF(AT1>0,CONCATENATE(\"% \",TEXT(AT1/C$4/10,\"0,00\")),\"\")","v":"% 51,66"},{"$f":"IF(AT1>0,CONCATENATE(\"% \",TEXT(AT1/I$5/10,\"0,00\")),\"\")","v":"% 54,98"},null,null,null,null,0,0,0,0,0,0,0,0,0,0,0,0,0,0,0,0,0,0,0,0,0,0,0,0,0,0,0,0,0,0,0,0,0,0,0,0,0,0,0,0,0,0,0,0,0,null,"ÇAYIR KURU OTU, SOĞUK MEVSİM, ORTA OLGUN",83.8,2.1800000000000002,13.3,0.46,2.5,57.7,36.9,8.8000000000000007,0.66,0.28999999999999998,0.23,2.13,0.08,0.92,0.24,194,9,25,72,0.06,null,0,7,6]
[null,null,null,null,null,null,"ADF, %",null,null,null,{"$f":"IF(AU1>0,CONCATENATE(\"% \",TEXT(AU1/C$4/10,\"0,00\")),\"\")","v":"% 27,34"},{"$f":"IF(AU1>0,CONCATENATE(\"% \",TEXT(AU1/I$5/10,\"0,00\")),\"\")","v":"% 29,10"},null,null,null,null,null,null,null,null,null,null,null,null,null,null,null,null,null,null,null,null,null,null,null,null,null,null,null,null,null,null,null,null,null,null,null,null,null,null,null,null,null,null,null,null,null,null,null,null,null,null,"ÇAYIR MERASI, SOĞUK MEVSİM, VEJETATİF",20.100000000000001,2.39,26.5,0.92,2.7,45.8,25,9.8000000000000007,0.56000000000000005,0.44,0.2,3.36,0.02,0.56000000000000005,0.2,275,10,36,75,0,null,null,null,6]
[null,null,null,null,null,null,null,null,null,null,null,null,null,null,null,null,null,"Hayvanın Tipi",null,"Hayvanın tipi :",null,null,"Çalışan At",null,null,null,null,"Hayvanın tipi :",null,null,null,null,null,null,null,null,"Tüketim seviyesi :",{"$f":"IF(OR(AnimalType=\"Yaşama Payı\",AnimalType=\"Aygır\",AnimalType=\"Gebe Kısrak\")=TRUE, 2, IF(OR(AnimalType=\"Emziren Kısrak\",AnimalType=\"Tay\")=TRUE, 2.5, IF(AnimalType=\"Çalışan At\",  IF(WorkLevel=\"Hafif\",2,IF(WorkLevel=\"Orta\",2.25,IF(OR(WorkLevel=\"Ağır\",WorkLevel=\"Çok Ağır\")=TRUE,2.5,0))), 0) ))","v":2.25},null,null,"LaktSure","katsayı",null,null,null,null,null,null,null,"SAYFA 14",null,null,null,null,null,null,null,null,null,null,null,null,"ÇAYIR SİLAJI, SOĞUK MEVSİM, KÖRPE ",36.200000000000003,2.2999999999999998,16.8,0.55000000000000004,2.8,51,32.9,9.9,0.56999999999999995,0.36,0.22,3.11,0.05,0.67,0.21,280,9,31,56,0.09,null,0,4,4]
[null,null,null,null,null,null,null,null,null,null,null,null,null,null,null,null,null,"Yaşama Payı",null,"Yaşı :",null,null,null,null,null,null,"ay","Yaşı :",null,null,null,null,null,null,null,null,"FetalMass :",{"$f":" 0.0000001 * (NRCGS*30.4)^3.5512 * 0.01 * (NRCEA*0.097 )","v":0},null,null,1,3.2599999999999997E-2,null,null,"Ergin ağırlığa göre tayların beklenen canlı ağırlıkları,kg",null,null,null,null,null,null,null,"Bazı ırkların ergin CA'ları, kg",null,null,null,null,null,null,null,null,null,"ÇAYIR SİLAJI, SOĞUK MEVSİM, OLGUN ",38.700000000000003,1.98,12.7,0.43,3,66.599999999999994,41.1,8,0.56000000000000005,0.31,0.2,2.42,0.05,0.89,0.2,327,9,30,90,0.09,null,0,4,4]
[null,null,null,null,null,null,null,"Alt","Üst","Fazla","Aşırı",null,null,null,null,null,null,"Aygır",null,"Ergin ağırlığı :",null,null,500,null,null,null,"kg","Ergin ağırlığı :",null,null,null,null,null,null,null,null,"PUMass :",{"$f":" (-0.0135 + ((NRCGS*30.4) * 0.00009)) * BodyWeight","v":-6.75},null,null,2,3.2399999999999998E-2,null,null,"EA, kg","Yaş,ay","CA,kg","EA'ın %'si",null,null,null,null,"Irk","CA",null,null,null,null,null,null,"Yem",null,"ÇAYIR SİLAJI, SOĞUK MEVSİM, ORTA OLGUN",42,2.16,16.8,0.55000000000000004,2.4,58.2,35.200000000000003,8.6999999999999993,0.6,0.36,0.21,2.78,0.05,0.67,0.21,275,9,31,79,0.09,null,0,4,4]
[null,"Tipi :",{"$f":"AnimalType","v":"Çalışan At"},null,null,null,"Ca, g",0.99,1.01,3,6,null,null,null,null,null,null,"Gebe Kısrak",null,"Canlı ağırlığı :",null,null,500,null,null,null,"kg","Canlı ağırlığı :",null,null,null,null,null,null,null,null,"FetalGain :",{"$f":" (0.00000035512 * (NRCGS*30.4)^2.5512) * 0.01 * (NRCEA*0.097) + 0.00009 * BodyWeight","v":4.5000000000000005E-2},"kg/gün",null,3,2.9899999999999999E-2,null,null,200,4,67.400000000000006,{"$f":"AU30/$AS$30*100","v":33.700000000000003},null,null,null,null,"İngiliz……………………………….",580,null,null,null,null,null,null,"Sütunları",null,"ÇAYIR-BAKLAGİL KURU OTU(BAKLAGİL YOĞUN), KÖRPE ",83.8,2.4900000000000002,20.5,0.97,2,41.7,30.5,9.1999999999999993,1.3,0.3,0.3,2.41,0.03,0.6,0.2,167,10,24,58,0.15,null,0,4,6]
[null,"Yaşı :",{"$f":"IF(OR(ISERROR(NRCAge),NRCAge=0)=TRUE,0,CONCATENATE(TEXT(NRCAge,\"0\"),\" ay\"))","v":0},null,null,null,"P, g",0.99,1.01,3,6,null,null,null,null,null,null,"Emziren Kısrak",null,"Yaşama Payı seviyesi :",null,null,null,null,null,null,null,"Yaşama Payı seviyesi",null,null,null,null,null,null,null,null,"DailyGain :",{"$f":"IF(OR(AnimalType=\"Gebe Kısrak\",AnimalType=\"Emziren Kısrak\")=TRUE, FetalGain*1.25, IF(AnimalType=\"Tay\", NRCEA * (6.97121 * EXP(-0.0772 * NRCAge)) / (30.4*100)   ))","v":false},"kg/gün",null,4,2.7099999999999999E-2,null,null,200,6,86.4,43.2,null,null,null,null,"Arap……………………………….",455,null,null,null,null,null,null,"BL",null,"ÇAYIR-BAKLAGİL KURU OTU(BAKLAGİL YOĞUN), OLGUN ",84.3,2.2000000000000002,17.2,0.8,1.7,53.6,41.5,8.6999999999999993,1.0900000000000001,0.28000000000000003,0.25,2.5299999999999998,0.01,0.21,0.26,141,8,24,43,0.15,null,0,4,6]
[null,"Ergin canlı ağırlığı :",{"$f":"IF(OR(ISERROR(NRCEA),NRCEA=0)=TRUE,0,CONCATENATE(TEXT(NRCEA,\"0\"),\" kg\"))","v":"500 kg"},null,null,null,"Ca/P",0.99,1.01,4,6,null,null,null,null,null,null,"Çalışan At",null,"Çalışma durumu :",null,null,"Orta",null,null,null,null,"Çalışma durumu :",null,null,null,null,null,null,null,null,"MilkProd :",{"$f":" IF(AnimalType=\"Emziren Kısrak\", IF(ISERROR(VLOOKUP(LaktSure,AO28:AP33,2,FALSE))=TRUE,0, VLOOKUP(LaktSure,AO28:AP33,2,FALSE) * NRCCA), 0)","v":0},"kg/gün",null,5,2.4400000000000002E-2,null,null,200,12,128.5,64.25,null,null,null,null,"Hanover……………………………….",580,null,null,null,null,null,null,"BM",null,"ÇAYIR-BAKLAGİL KURU OTU(ÇAYIR OTU YOĞUN), KÖRPE ",84.3,2.35,18.399999999999999,0.72,2.4,49.6,31.5,9.1999999999999993,1.01,0.31,0.26,2.83,0.03,0.74,0.28000000000000003,117,9,25,53,0.09,null,0,7,6]
[null,"Canlı ağırlığı :",{"$f":"IF(OR(ISERROR(NRCCA),NRCCA=0)=TRUE,0,CONCATENATE(TEXT(NRCCA,\"0\"),\" kg\"))","v":"500 kg"},null,null,null,"Mg, g",0.99,1.01,3.5,7,null,null,null,null,null,null,"Tay",null,"Gebelik süresi :",null,null,null,null,null,null,"ay","Gebelik süresi :",null,null,null,null,null,null,null,null,"BodyWeight :",{"$f":"IF(AnimalType=\"Tay\", NRCEA * (9.7 + (90.3 * (1 - EXP(-0.0772 * NRCAge)))) / 100, NRCCA )","v":500},"kg",null,6,2.18E-2,null,null,200,18,155,77.5,null,null,null,null,"Quarter……………………………….",555,null,null,null,null,null,null,"BN",null,"ÇAYIR-BAKLAGİL KURU OTU(ÇAYIR OTU YOĞUN), OLGUN",84.7,2.08,13.3,0.51,2.2999999999999998,62.5,42.1,7.9,0.73,0.27,0.21,2.09,0.1,0.71,0.28999999999999998,124,8,24,74,0.09,null,0,7,6]
[null,"Çalışma durumu :",{"$f":"WorkLevel","v":"Orta"},null,null,null,"K, g",0.99,1.01,2,7,null,null,null,null,null,null,null,null,"Emzirme süresi :",null,null,null,null,null,null,"ay","Laktasyon süresi :",null,null,null,null,null,null,null,null,"SweatLoss :",{"$f":"IF(AnimalType=\"Aygır\",  NRCCA* 0.0025,  IF(AnimalType=\"Çalışan At\", IF(WorkLevel=\"Hafif\",NRCCA*0.0025,  IF(WorkLevel=\"Orta\",NRCCA*0.005, IF(WorkLevel=\"Ağır\",NRCCA*0.01,  IF(WorkLevel=\"Çok Ağır\",NRCCA*0.02,  0)))),  IF(AnimalType=\"Tay\",  IF(WorkLevel=\"Çalışmıyor\", 0,   IF(WorkLevel=\"Hafif\", 0.0025* BodyWeight, IF(WorkLevel=\"Orta\",  0.005 * BodyWeight, IF(WorkLevel=\"Ağır\",  0.01 * BodyWeight, IF(WorkLevel=\"Çok Ağır\", 0.02 * BodyWeight, 0))))), 0)))","v":2.5},"kg/gün",null,null,null,null,null,200,24,172,86,null,null,null,null,"Belçika……………………………….",863,null,null,null,null,null,null,"BO",null,"ÇAYIR-BAKLAGİL KURU OTU(ÇAYIR OTU YOĞUN), ORTA OLGUN",87.3,2.19,17.399999999999999,0.68,2.6,55.1,36.4,9.5,1.17,0.3,0.27,2.34,0.08,0.43,0.26,141,9,24,49,0.15,null,0,7,6]
[null,"Yaşama Payı Seviyesi :",{"$f":"MaintLevel","v":0},null,null,null,"Na, g",0.99,1.01,10,20,null,null,null,null,null,null,null,null,null,null,null,null,null,null,null,null,null,null,null,null,null,null,null,null,null,null,null,null,null,null,null,null,null,200,36,189,94.5,null,null,null,null,"Morgan……………………………….",454,null,null,null,null,null,null,"BP",null,"ÇAYIR-BAKLAGİL KURU OTU, KÖRPE",83.1,2.46,19.7,0.85,2.5,45.4,30.8,8.8000000000000007,1.01,0.31,0.26,2.83,0.03,0.74,0.28000000000000003,117,9,25,53,0.09,null,0,7,6]
[null,"Gebelik Süresi :",{"$f":"IF(OR(ISERROR(NRCGS),NRCGS=0)=TRUE,0,CONCATENATE(TEXT(NRCGS,\"0\"),\" ay\"))","v":0},null,null,null,"Cl, g",0.99,1.01,6.5,13,null,null,null,null,null,null,null,null,null,null,null,null,null,null,null,null,null,null,null,null,null,null,null,null,null,{"$f":"CONCATENATE(\"Verdiğiniz bilgilere göre bu tayın canlı ağırlığı \",TEXT(BodyWeight,0),\" kg olması gerekir.\")","v":"Verdiğiniz bilgilere göre bu tayın canlı ağırlığı 500 kg olması gerekir."},null,null,null,null,null,null,null,400,4,134.80000000000001,{"$f":"AU36/$AS$36*100","v":33.700000000000003},null,null,null,null,"Pony……………………………….",195,null,null,null,null,null,null,"BQ",null,"ÇAYIR-BAKLAGİL KURU OTU, OLGUN ",89.7,2.11,18.2,0.77,2,56,40.1,9.9,0.97,0.37,0.26,2.2400000000000002,0.01,0.93,0.28000000000000003,403,9,27,75,0.12,null,0,7,6]
[null,"Emzirme Süresi :",{"$f":"IF(OR(ISERROR(LaktSure),LaktSure=0)=TRUE,0,CONCATENATE(TEXT(LaktSure,\"0\"),\" ay\"))","v":0},null,null,null,"Fe, mg",0.99,1.01,7,14,null,null,null,null,null,null,null,null,"İHTİYAÇLAR",null,null,null,null,null,null,null,"İHTİYAÇLAR","Birim","Ya.Payı","Aygır","Gebe","Emziren","Çalışan","Tay","Tay",null,null,null,null,null,null,null,null,400,6,173,43.25,null,null,null,null,null,null,null,null,null,null,null,null,"BR",null,"ÇAYIR-BAKLAGİL KURU OTU, ORTA OLGUN",85.3,2.2999999999999998,18.399999999999999,0.79,2.2999999999999998,50.8,35.799999999999997,9.3000000000000007,1.04,0.32,0.25,2.59,0.03,0.8,0.24,197,9,25,59,0.12,null,0,7,6]
[null,null,null,null,null,null,"Cu, mg",0.99,1.01,14.5,29,null,null,null,null,null,null,null,null,"KM :",null,null,{"$f":"IF(AnimalType=\"Yaşama Payı\",  AD38,  IF(AnimalType=\"Aygır\",   AE38,IF(AnimalType=\"Gebe Kısrak\",  AF38,IF(AnimalType=\"Emziren Kısrak\",  AG38,IF(AnimalType=\"Çalışan At\",  AH38,  IF(AnimalType=\"Tay\",  AI38, 0  ))))))","v":11.25},null,"kg/gün",null,null,"KM :","kg/gün",{"$f":"IntakeLevel/100*BodyWeight","v":11.25},11.25,11.25,11.25,11.25,11.25,null,null,null,null,null,null,null,null,null,400,12,257,64.25,null,null,null,null,null,null,null,null,null,null,null,null,"BS",null,"ÇAYIR-BAKLAGİL SİLAJI, KÖRPE",45.9,2.39,20.3,0.78,2.2999999999999998,45.3,30.8,9.8000000000000007,1.08,0.35,0.28000000000000003,2.89,0.01,1.77,0.16,328,9,29,71,0.14000000000000001,null,0,3,4]
[null,null,null,null,null,null,"Zn, mg",0.99,1.01,6.5,13,null,null,null,null,null,null,null,null,"SE:",null,null,23.310000000000002,null,"Mcal/gün",null,null,"SE:","Mcal/gün",{"$f":"IF(MaintLevel=\"Düşük\",NRCCA*0.0303,  IF(MaintLevel=\"Orta\",NRCCA*0.0333,   IF(MaintLevel=\"Yüksek\",NRCCA*0.0363,  0)))","v":0},{"$f":"IF(WorkLevel=\"Aşımda kullanılmıyor\",NRCCA*0.0363,  IF(WorkLevel=\"Aşımda kullanılıyor\",NRCCA*0.0363*1.2, 0))","v":0},{"$f":"IF(NRCGS<5, BodyWeight*0.0333,  (0.0333 * BodyWeight ) + (0.0333 * 2 * (FetalMass+PUMass)) + ((0.03*FetalGain*9.4 ) + (0.2*FetalGain*5.6))/0.6 )","v":16.650000000000002},{"$f":"IF(NRCCA>700, (0.0333 * NRCCA ) + ((MilkProd * 10 * 50)/ (1000 * 0.6)),  (0.0363 * NRCCA ) + ((MilkProd * 10 * 50)/ (1000 * 0.6)) )","v":18.149999999999999},{"$f":"IF(WorkLevel=\"Hafif\",NRCCA*0.0333*1.2,  IF(WorkLevel=\"Orta\",NRCCA*0.0333*1.4, IF(WorkLevel=\"Ağır\",NRCCA*0.0333*1.6,  IF(WorkLevel=\"Çok Ağır\",NRCCA*0.0363*1.9,  0))))","v":23.310000000000002},{"$f":"IF(WorkLevel=\"Çalışmıyor\", ( (56.5 * NRCAge^-0.145)/1000) * BodyWeight + (1.99 + 1.21 * NRCAge - 0.021 * NRCAge^2) * DailyGain, IF(WorkLevel=\"Hafif\", (((56.5 * NRCAge^-0.145)/1000) * 1.2 * BodyWeight + (1.99 + 1.21 * NRCAge - 0.021 * NRCAge^2) * DailyGain),  IF(WorkLevel=\"Orta\", (((56.5 * NRCAge^-0.145)/1000) * 1.4 * BodyWeight + (1.99 + 1.21 * NRCAge - 0.021 * NRCAge^2) * DailyGain), IF(WorkLevel=\"Ağır\", (((56.5 * NRCAge^-0.145)/1000) * 1.6 * BodyWeight + (1.99 + 1.21 * NRCAge - 0.021 * NRCAge^2) * DailyGain), IF(WorkLevel=\"Çok Ağır\", (((56.5 * NRCAge^-0.145)/1000) * 1.9 * BodyWeight + (1.99 + 1.21 * NRCAge - 0.021 * NRCAge^2) * DailyGain), 0 )))))","v":{"$error":"#DIV/0!"}},null,null,null,null,null,null,null,null,null,400,18,310,77.5,null,null,null,null,null,null,null,null,null,null,null,null,"BT",null,"ÇAYIR-BAKLAGİL SİLAJI, OLGUN",42.8,2.0699999999999998,17.399999999999999,0.67,2.2999999999999998,57.4,42.1,9.6,1.06,0.33,0.24,2.7,0.02,0.52,0.31,262,9,30,72,0.14000000000000001,null,0,3,4]
[null,null,null,null,null,null,"Mn, mg",0.99,1.01,5.5,11,null,null,null,null,null,null,"Çalışma durumu, Aygır",null,"HP:",null,null,767.86708860759495,null,"g/gün",null,null,"HP:","g/gün",{"$f":"IF(MaintLevel=\"Düşük\",NRCCA*1.08,  IF(MaintLevel=\"Orta\",NRCCA*1.26,   IF(MaintLevel=\"Yüksek\",NRCCA*1.44,  0)))","v":0},{"$f":"IF(WorkLevel=\"Aşımda kullanılmıyor\",NRCCA*1.44,  IF(WorkLevel=\"Aşımda kullanılıyor\",BodyWeight*1.44 + (SweatLoss*7.8*2/0.79) + 0.089 * BodyWeight, 0))","v":0},{"$f":"IF(NRCGS<5, BodyWeight*1.26,  (1.26 * BodyWeight ) + (FetalGain * 1000 * 2 * 0.2/0.79) )","v":630},{"$f":" (1.44 * NRCCA) + (MilkProd * 50)","v":720},{"$f":"IF(WorkLevel=\"Hafif\",(1.26 * BodyWeight ) + (0.089 * BodyWeight)+ (SweatLoss * 7.8 * 2 / 0.79),  IF(WorkLevel=\"Orta\",(1.26 * NRCCA ) + (0.177 * NRCCA)+ (SweatLoss * 7.8 * 2 / 0.79), IF(WorkLevel=\"Ağır\",(1.26 * NRCCA ) + (0.266 * NRCCA)+ (SweatLoss * 7.8 * 2 / 0.79),  IF(WorkLevel=\"Çok Ağır\",(1.26 * NRCCA ) + (0.354 * NRCCA)+ (SweatLoss * 7.8 * 2 / 0.79),  0))))","v":767.86708860759495},{"$f":"IF(WorkLevel=\"Çalışmıyor\",  AJ40, IF(WorkLevel=\"Hafif\",  (1.44 * BodyWeight + ((DailyGain * 1000 * 0.2) / 0.3)/0.79 + (SweatLoss* 7.8 * 2 / 0.79) + 0.089 * BodyWeight),  IF(WorkLevel=\"Orta\",  (1.44 * BodyWeight + ((DailyGain * 1000 * 0.2) / 0.3)/0.79 + (SweatLoss* 7.8 * 2 / 0.79) + 0.177 * BodyWeight), IF(WorkLevel=\"Ağır\",  (1.44 * BodyWeight + ((DailyGain * 1000 * 0.2) / 0.3)/0.79 + (SweatLoss* 7.8 * 2 / 0.79) + 0.266 * BodyWeight), IF(WorkLevel=\"Çok Ağır\", (1.44 * BodyWeight + ((DailyGain * 1000 * 0.2) / 0.3)/0.79 + (SweatLoss* 7.8 * 2 / 0.79) + 0.354 * BodyWeight),  0 )))))","v":857.86708860759495},{"$f":"IF(NRCAge<6.5, (1.44 * BodyWeight + ((DailyGain * 1000 * 0.2) / 0.5) / 0.79),  IF(NRCAge<8.5, (1.44 * BodyWeight + ((DailyGain * 1000 * 0.2) / 0.45) / 0.79),  IF(NRCAge<10.5, (1.44 * BodyWeight + ((DailyGain * 1000 * 0.2) / 0.4) / 0.79),  IF(NRCAge<11.5, (1.44 * BodyWeight + ((DailyGain * 1000 * 0.2) / 0.35) / 0.79),  (1.44 * BodyWeight + ((DailyGain * 1000 * 0.2) / 0.3) / 0.79) ))))","v":720},null,null,null,null,null,null,null,null,400,24,343.4,85.85,null,null,null,null,null,null,null,null,null,null,null,null,"BU",null,"ÇAYIR-BAKLAGİL SİLAJI, ORTA OLGUN",44.1,2.25,19.100000000000001,0.74,2.5,50.4,35.4,10.1,1.0900000000000001,0.35,0.27,2.8,0.01,1.1000000000000001,0.26,252,9,31,71,0.14000000000000001,null,0,3,4]
[null,null,null,null,null,null,"Se, mg",0.99,1.01,100,200,null,null,null,null,null,null,"Aşımda kullanılıyor",null,"Lizin:",null,null,33.01828481012658,null,"g/gün",null,null,"Lizin:","g/gün",{"$f":"0.043*AD40","v":0},{"$f":"0.043*AE40","v":0},{"$f":"0.043*AF40","v":27.089999999999996},{"$f":" (0.043 * 1.44 * NRCCA) + (MilkProd * 3.3)","v":30.959999999999997},{"$f":"0.043*AH40","v":33.01828481012658},{"$f":"0.043*AI40","v":36.888284810126578},null,null,null,null,null,null,null,null,null,400,36,379,94.75,null,null,null,null,null,null,null,null,null,null,null,null,"BV",null,"MISIR KOÇANI ",90.8,1.76,3,0.08,0.6,86.2,42.2,2.2000000000000002,0.1,0.06,0.06,0.9,0.04,0,7.0000000000000007E-2,254,6,11,5,0.08,0,null,null,3]
[null,null,null,null,null,null,"Vit.A, IU",0.99,1.01,34,68,null,null,null,null,null,null,"Aşımda kullanılmıyor",null,"Ca:",null,null,35,null,"g/gün",null,null,"Ca:","g/gün",{"$f":"NRCCA*0.04","v":20},{"$f":"IF(WorkLevel=\"Aşımda kullanılmıyor\",NRCCA*0.04,  IF(WorkLevel=\"Aşımda kullanılıyor\",NRCCA*0.06, 0))","v":0},{"$f":"IF(NRCGS<7, BodyWeight*0.04, IF(NRCGS<9,  BodyWeight*0.056,  BodyWeight*0.072 ))","v":20},{"$f":"IF(LaktSure<4, 0.04 * NRCCA + ((MilkProd * 1.2)/0.5),   0.04 * NRCCA + ((MilkProd * 0.8)/0.5) )","v":20},{"$f":"IF(WorkLevel=\"Hafif\",NRCCA*0.06,  IF(WorkLevel=\"Orta\",NRCCA*0.07, IF(WorkLevel=\"Ağır\",NRCCA*0.08,  IF(WorkLevel=\"Çok Ağır\",NRCCA*0.08,  0))))","v":35},{"$f":"(0.072 * BodyWeight) + (32 * DailyGain)","v":36},null,null,null,null,null,null,null,null,null,500,4,168.5,{"$f":"AU42/$AS$42*100","v":33.700000000000003},null,null,null,null,null,null,null,null,null,null,null,null,"BW",null,"MISIR SİLAJI, %27-29 KM",29,2.59,8.8000000000000007,0.23,3.2,45,28.1,4.3,0.28000000000000003,0.26,0.17,1.2,0.01,0.28999999999999998,0.14000000000000001,104,6,24,36,0.04,null,0,5,2.5]
[null,null,null,null,null,null,null,null,null,null,null,null,null,null,null,null,null,null,null,"P:",null,null,21,null,"g/gün",null,null,"P:","g/gün",{"$f":"NRCCA*0.028","v":14},{"$f":"IF(WorkLevel=\"Aşımda kullanılmıyor\",NRCCA*0.028,  IF(WorkLevel=\"Aşımda kullanılıyor\",NRCCA*0.036, 0))","v":0},{"$f":"IF(NRCGS<7, BodyWeight*0.028, IF(NRCGS<9,  BodyWeight*0.04,  BodyWeight*0.0525 ))","v":14},{"$f":"IF(LaktSure<4, (0.01/0.45 * NRCCA) + ((MilkProd * 0.75)/0.45),  (0.01/0.45 * NRCCA) + ((MilkProd * 0.5)/0.45) )","v":11.111111111111111},{"$f":"IF(WorkLevel=\"Hafif\",NRCCA*0.036,  IF(WorkLevel=\"Orta\",NRCCA*0.042, IF(WorkLevel=\"Ağır\",NRCCA*0.058,  IF(WorkLevel=\"Çok Ağır\",NRCCA*0.058,  0))))","v":21},{"$f":"(0.04 * BodyWeight) + (17.8 * DailyGain)","v":20},null,null,null,null,null,null,null,null,null,500,6,215.9,43.18,null,null,null,null,null,null,null,null,null,null,null,null,"BX",null,"MISIR SİLAJI, %30-35 KM",32,2.75,8.8000000000000007,0.22,3.2,45,28.1,4.3,0.28000000000000003,0.26,0.17,1.2,0.01,0.28999999999999998,0.14000000000000001,104,6,24,36,0.04,null,0,4,2.5]
[null,"Hayvan sayısını giriniz :",10,null,null,null,null,null,null,null,null,null,null,null,null,null,null,"Çalışma durumu, İş Atı",null,null,null,null,null,null,null,null,null,null,null,null,null,null,null,null,null,null,null,null,null,null,null,null,null,null,500,12,321.2,64.239999999999995,null,null,null,null,null,null,null,null,null,null,null,null,"BY",null,"MISIR SİLAJI, OLGUN >%40 KM",44.2,2.78,8.5,0.21,3.2,44.5,27.5,4,0.26,0.25,0.16,1.1000000000000001,0.01,0.17,0.1,92,6,23,36,0.04,null,0,4,2.5]
[null,"Öğün sayısını giriniz :",2,null,null,null,null,null,null,null,null,null,null,null,null,null,null,"Hafif",null,"Mg:",null,null,{"$f":"IF(AnimalType=\"Yaşama Payı\",  AD45,  IF(AnimalType=\"Aygır\",   AE45,IF(AnimalType=\"Gebe Kısrak\",  AF45,IF(AnimalType=\"Emziren Kısrak\",  AG45,IF(AnimalType=\"Çalışan At\",  AH45,  IF(AnimalType=\"Tay\",  AI45, 0  ))))))","v":11.5},null,"g/gün",null,null,"Mg:","g/gün",{"$f":"NRCCA*0.015","v":7.5},{"$f":"IF(WorkLevel=\"Aşımda kullanılmıyor\",NRCCA*0.015,  IF(WorkLevel=\"Aşımda kullanılıyor\",NRCCA*0.019, 0))","v":0},{"$f":"IF(NRCGS<7, BodyWeight*0.015, IF(NRCGS<9,  BodyWeight*0.0152,  BodyWeight*0.0153 ))","v":7.5},{"$f":"IF(LaktSure<6, (0.015 * NRCCA) + ((MilkProd * 0.09)/0.4), (0.015 * NRCCA) + ((MilkProd * 0.045)/0.4) )","v":7.5},{"$f":"IF(WorkLevel=\"Hafif\",NRCCA*0.019,  IF(WorkLevel=\"Orta\",NRCCA*0.023, IF(WorkLevel=\"Ağır\",NRCCA*0.03,  IF(WorkLevel=\"Çok Ağır\",NRCCA*0.03,  0))))","v":11.5},{"$f":"IF(WorkLevel=\"Çalışmıyor\", (0.015 * BodyWeight) + (1.25 * DailyGain), IF(OR(WorkLevel=\"Hafif\",  WorkLevel=\"Orta\",  WorkLevel=\"Ağır\",  WorkLevel=\"Çok Ağır\")=TRUE,  0.03 * BodyWeight,  0 ))","v":15},null,null,null,null,null,null,null,null,null,500,18,387.5,77.5,null,null,null,null,null,null,null,null,null,null,null,null,"BZ",null,"PAMUK TOHUMU KAPÇIĞI ",89,1.69,6.2,0.28999999999999998,2.5,85,64.900000000000006,2.8,0.18,0.12,0.17,1.1599999999999999,0.02,0.06,7.0000000000000007E-2,68,5,17,22,0,0,null,null,9]
[null,null,null,null,null,null,null,null,null,null,null,null,null,null,null,null,null,"Orta",null,"K:",null,null,32,null,"g/gün",null,null,"K:","g/gün",{"$f":"NRCCA*0.05","v":25},{"$f":"IF(WorkLevel=\"Aşımda kullanılmıyor\",NRCCA*0.05,  IF(WorkLevel=\"Aşımda kullanılıyor\",NRCCA*0.05 + (1.4/0.5)*SweatLoss, 0))","v":0},{"$f":"IF(NRCGS<9,  BodyWeight*0.05,  BodyWeight*0.0517 )","v":25},{"$f":"IF(LaktSure<4, (0.05 * NRCCA) + ((MilkProd * 0.7)/0.5),   (0.05 * NRCCA) + ((MilkProd * 0.4)/0.5) )","v":25},{"$f":"(NRCCA*0.05) + ((1.4/0.5)*SweatLoss)","v":32},{"$f":"IF(WorkLevel=\"Çalışmıyor\", (0.05 * BodyWeight) + (3 * DailyGain),   IF(OR(WorkLevel=\"Hafif\", WorkLevel=\"Orta\",  WorkLevel=\"Ağır\",  WorkLevel=\"Çok Ağır\")=TRUE,  (0.05 * BodyWeight) + (3 * DailyGain) +(1.4/0.5)*SweatLoss,  0 ))","v":32},null,null,null,null,null,null,null,null,null,500,24,429.2,85.839999999999989,null,null,null,null,null,null,null,null,null,null,null,null,"CA",null,"SORGUM SİLAJI",28.8,2.17,9.1,0.24,2.9,60.7,38.700000000000003,7.5,0.5,0.21,0.27,1.75,0.02,0.6,0.12,392,9,31,65,0.03,null,0,5,5]
[null,null,null,"Hayvan",null,"Bir öğünde",null,null,null,null,null,null,null,null,null,null,null,"Ağır",null,"Na:",null,null,17.75,null,"g/gün",null,null,"Na:","g/gün",{"$f":"NRCCA*0.02","v":10},{"$f":"IF(WorkLevel=\"Aşımda kullanılmıyor\",NRCCA*0.02,  IF(WorkLevel=\"Aşımda kullanılıyor\",NRCCA*0.02 + 3.1*SweatLoss, 0))","v":0},{"$f":"IF(NRCGS<9,  BodyWeight*0.02,  BodyWeight*0.022 )","v":10},{"$f":"IF(LaktSure<4, 0.02 * NRCCA + (MilkProd * 0.17), 0.02 * NRCCA + (MilkProd * 0.14))","v":10},{"$f":"NRCCA*0.02 + 3.1*SweatLoss","v":17.75},{"$f":" IF(WorkLevel=\"Çalışmıyor\", (0.02 * BodyWeight) + (1 * DailyGain),   IF(OR(WorkLevel=\"Hafif\", WorkLevel=\"Orta\",  WorkLevel=\"Ağır\",  WorkLevel=\"Çok Ağır\")=TRUE,  (0.02 * BodyWeight) + (1 * DailyGain) + 3.1* SweatLoss,  0 ))","v":17.75},null,null,null,null,null,null,null,null,null,500,36,472,94.399999999999991,null,null,null,null,null,null,null,null,null,null,null,null,"CB",null,"SORGUM, SUDAN KURU OTU",86.5,2,9.4,0.33,2.2999999999999998,64.8,40,8.6999999999999993,0.54,0.2,0.32,2.36,0.03,1.1599999999999999,0.13,284,10,34,44,0,null,0,2,6]
[null,null,null,"başına","Günlük"," hayvan","Bir öğünde",null,null,null,null,null,null,null,null,null,null,"Çok Ağır",null,"Cl:",null,null,53.25,null,"g/gün",null,null,"Cl:","g/gün",{"$f":"NRCCA*0.08","v":40},{"$f":"IF(WorkLevel=\"Aşımda kullanılmıyor\",NRCCA*0.08,  IF(WorkLevel=\"Aşımda kullanılıyor\",NRCCA*0.08 + 5.3*SweatLoss, 0))","v":0},{"$f":"IF(NRCGS<9,  BodyWeight*0.08,  BodyWeight*0.082 )","v":40},{"$f":"0.091*NRCCA","v":45.5},{"$f":"NRCCA*0.08 + 5.3*SweatLoss","v":53.25},{"$f":"IF(WorkLevel=\"Çalışmıyor\", IF(NRCAge<6.5,(0.093*BodyWeight),IF(NRCAge<11.5,(0.085*BodyWeight),  0.0825*BodyWeight)),   IF(OR(WorkLevel=\"Hafif\", WorkLevel=\"Orta\",  WorkLevel=\"Ağır\",  WorkLevel=\"Çok Ağır\")=TRUE,  (0.0825*BodyWeight) + 5.3* SweatLoss,  0 ))","v":54.5},null,null,null,null,null,null,null,null,null,600,4,202.1,{"$f":"AU48/$AS$48*100","v":33.68333333333333},null,null,null,null,null,null,null,null,null,null,null,null,"CC",null,"SOYA TOHUM KABUKLARI",90.9,2.25,13.9,0.87,2.7,60.3,44.6,4.8,0.63,0.17,0.25,1.51,0.01,0.05,0.12,604,10,35,26,0.21,null,0,3,6]
[null,"VERİLECEK YEMLER ","Oran, %","günlük","toplam","başına","toplam",null,null,null,null,null,null,null,null,null,null,null,null,"Fe:",null,null,450,null,"mg/gün",null,null,"Fe:","mg/gün",{"$f":"AD$38 * 40","v":450},{"$f":"AE$38 * 40","v":450},{"$f":"IF(NRCGS<9,  AF38*40,  AF38*50 )","v":450},{"$f":"AG$38 * 50","v":562.5},{"$f":"AH$38 * 40","v":450},{"$f":"AI$38 * 50","v":562.5},null,null,null,null,null,null,null,null,null,600,6,259,43.166666666666664,null,null,null,null,null,null,null,null,null,null,null,null,"CD",null,"TRİTİKALE SİLAJI, BAŞAKLI",32,2.0699999999999998,13.8,0.25,3.8,59.7,39.6,9.6999999999999993,0.56999999999999995,0.33,0.19,3.01,0.05,0,0.21,404,7,37,66,0,0,null,null,3]
[null,null,null,"miktar,kg","miktar,kg","miktar,kg","miktar,kg",null,null,null,null,null,null,null,null,null,null,"YEMLER",null,"Cu:",null,null,112.5,null,"mg/gün",null,null,"Cu:","mg/gün",{"$f":"NRCCA*0.2","v":100},{"$f":"IF(WorkLevel=\"Aşımda kullanılmıyor\",NRCCA*0.2,  IF(WorkLevel=\"Aşımda kullanılıyor\",AE38*10, 0))","v":0},{"$f":"IF(NRCGS<9,  BodyWeight*0.2,  BodyWeight*0.25 )","v":100},{"$f":"0.25*NRCCA","v":125},{"$f":"IF(WorkLevel=\"Hafif\",NRCCA*0.2,IF(WorkLevel=\"Orta\",NRCCA*0.225,IF(OR(WorkLevel=\"Ağır\",WorkLevel=\"Çok Ağır\")=TRUE,NRCCA*0.25,0)))","v":112.5},{"$f":"0.25*BodyWeight","v":125},null,null,null,null,null,null,null,null,null,600,12,385.5,64.25,null,null,null,null,null,null,null,null,null,null,null,null,"CE",null,"YONCA KURU OTU,ÇİÇ.BAŞI",91,2.4700000000000002,25,0.32,2,39.299999999999997,28.6,9.1999999999999993,1.41,0.22,0.34,2.5099999999999998,0.12,0.34,0.3,240,12.7,30,36,0.55000000000000004,null,0,2,8.5]
[null,{"$f":"At!B5","v":"ÇAYIR (MEADOW) KURU OTU"},{"$f":"ROUND((At!C5/At!$C$4)*100,2)","v":71.849999999999994},{"$f":"ROUND(At!C5,2)","v":8.5},{"$f":"ROUND(HayvanSay*At!C5,2)","v":85},{"$f":"IF(ISERROR(ROUND(D51/OgunSay,2))=TRUE,\"\",ROUND(D51/OgunSay,2))","v":4.25},{"$f":"IF(ISERROR(ROUND(F51*HayvanSay,2))=TRUE,\"\",ROUND(F51*HayvanSay,2))","v":42.5},null,null,null,null,null,null,null,null,null,null,"Kaba Yemler",null,"Zn:",null,null,450,null,"mg/gün",null,null,"Zn:","mg/gün",{"$f":"AD$38 * 40","v":450},450,450,450,450,450,null,null,null,null,null,null,null,null,null,600,18,465,77.5,null,null,null,null,null,null,null,null,null,null,null,null,"CF",null,"YONCA KURU OTU,ÇİÇ.ORTASI",91,2.3199999999999998,22,1.1100000000000001,2.1,47.1,31,8.5,1.37,0.22,0.35,1.56,0.12,0.38,0.28000000000000003,225,17.7,30.9,28,0.55000000000000004,null,0,2,8.5]
[null,{"$f":"At!B6","v":"YULAF"},{"$f":"ROUND((At!C6/At!$C$4)*100,2)","v":27.9},{"$f":"ROUND(At!C6,2)","v":3.3},{"$f":"ROUND(HayvanSay*At!C6,2)","v":33},1.65,16.5,null,null,null,null,null,null,null,null,null,null,"Enerji Kaynakları",null,"Mn:",null,null,450,null,"mg/gün",null,null,"Mn:","mg/gün",450,450,450,450,450,450,null,null,null,null,null,null,null,null,null,600,24,515,85.833333333333329,null,null,null,null,null,null,null,null,null,null,null,null,"CG",null,"YONCA KURU OTU,ÇİÇ.SONU",91,2.23,17,0.86,2.1,53,33.4,8,1.19,0.24,0.27,1.56,7.0000000000000007E-2,0,0.3,160,9.9,26.1,42.3,0.55000000000000004,null,0,2,8.5]
[null,{"$f":"At!B7","v":"REVİTAMİN HORSE (2 kg/t), (50-75 g/at, 25-50 g/tay)"},{"$f":"ROUND((At!C7/At!$C$4)*100,2)","v":0.08},{"$f":"ROUND(At!C7,2)","v":0.01},{"$f":"ROUND(HayvanSay*At!C7,2)","v":0.1},0.01,0.1,null,null,null,null,null,null,null,null,null,null,"Protein Kaynakları",null,"Se:",null,null,1.125,null,"mg/gün",null,null,"Se:","mg/gün",{"$f":"AD$38 * 0.1","v":1.125},1.125,1.125,1.125,1.125,1.125,null,null,null,null,null,null,null,null,null,600,36,566.4,94.399999999999991,null,null,null,null,null,null,null,null,null,null,null,null,"CH",null,"YONCA KURU OTU,OLGUN",91,2.13,14,0.7,1.6,58,39.5,7,1.18,0.21,0.22,2.0699999999999998,0.08,0,0.25,170,13.7,22.1,38.5,0.55000000000000004,null,0,2,8.5]
[null,{"$f":"At!B8","v":"TUZ"},{"$f":"ROUND((At!C8/At!$C$4)*100,2)","v":0.17},{"$f":"ROUND(At!C8,2)","v":0.02},{"$f":"ROUND(HayvanSay*At!C8,2)","v":0.2},0.01,0.1,null,null,null,null,null,null,null,null,null,null,"Vitamin-Mineral Kaynakları",null,"Vit A:",null,null,22500,null,"IUx1000/gün",null,null,"Vit A:","IUx1000/gün",{"$f":"NRCCA* 30","v":15000},{"$f":"IF(WorkLevel=\"Aşımda kullanılmıyor\",NRCCA*30,  IF(WorkLevel=\"Aşımda kullanılıyor\",NRCCA*45,  0))","v":0},{"$f":"BodyWeight* 60","v":30000},{"$f":"NRCCA* 60","v":30000},{"$f":"NRCCA* 45","v":22500},{"$f":"BodyWeight* 45","v":22500},null,null,null,null,null,null,null,null,null,900,4,303.2,{"$f":"AU54/$AS$54*100","v":33.688888888888883},null,null,null,null,null,null,null,null,null,null,null,null,"CI",null,"YONCA UNU, %17 HP",90.3,2.4300000000000002,19.2,0.83,2.5,41.6,32.799999999999997,11,1.47,0.28000000000000003,0.28999999999999998,2.37,0.1,0.65,0.26,619,9,28,44,0.36,null,0,2,10]
[null,{"$f":"At!B9","v":0},{"$f":"ROUND((At!C9/At!$C$4)*100,2)","v":0},{"$f":"ROUND(At!C9,2)","v":0},{"$f":"ROUND(HayvanSay*At!C9,2)","v":0},0,0,null,null,null,null,null,null,null,null,null,null,null,null,"Kaba Yem :",null,null,{"$f":"IF(AnimalType=\"Yaşama Payı\",  AD55,  IF(AnimalType=\"Aygır\",   AE55,IF(AnimalType=\"Gebe Kısrak\",  AF55,IF(AnimalType=\"Emziren Kısrak\",  AG55,IF(AnimalType=\"Çalışan At\",  AH55,  IF(AnimalType=\"Tay\",  AI55, 0  ))))))","v":50},null,"%",null,null,"Kaba Yem :","%",100,{"$f":"IF(WorkLevel=\"Aşımda kullanılmıyor\", 100, 70)","v":70},{"$f":"IF(OR(NRCGS<9, NRCGS>11)=TRUE, 100,  IF(NRCGS<=10,   80,  70 ))","v":100},{"$f":"IF(LaktSure<3,  50, 65 )","v":50},{"$f":"IF(WorkLevel=\"Hafif\",  65, IF(WorkLevel=\"Orta\", 50, IF(OR(WorkLevel=\"Ağır\",WorkLevel=\"Çok Ağır\")=TRUE,  35, 100)))","v":50},{"$f":"IF(NRCAge<12, IF(WorkLevel=\"Çalışmıyor\", 30, \"Çalışmamalı\" ),  IF(NRCAge<18, 40,  IF(WorkLevel<>\"Çalışmıyor\",  50,  IF(NRCAge<24,  55, 65  ))))","v":"Çalışmamalı"},null,null,null,null,null,null,null,null,null,900,6,388.6,43.177777777777784,null,null,null,null,null,null,null,null,null,null,null,null,null,null,"YULAF KURU OTU, BAŞAKLI",85,2.16,9.1,0.32,2.2000000000000002,58,36.4,8.5,0.37,0.22,0.17,2.0099999999999998,0.33,1.08,0.14000000000000001,250,8,23,59,0,null,0,8,6]
[null,{"$f":"At!B10","v":0},{"$f":"ROUND((At!C10/At!$C$4)*100,2)","v":0},{"$f":"ROUND(At!C10,2)","v":0},{"$f":"ROUND(HayvanSay*At!C10,2)","v":0},0,0,null,null,null,null,null,null,null,null,null,null,"Çalışma durumu, Tay",null,null,null,null,null,null,null,null,null,null,null,null,null,null,null,null,null,null,null,null,null,null,null,null,null,null,900,12,578.20000000000005,64.244444444444454,null,null,null,null,null,null,null,null,null,null,null,null,null,null,"YULAF SİLAJI, BAŞAKLI",34.6,2.04,12.9,0.46,3.4,60.6,38.9,9.8000000000000007,0.52,0.31,0.2,2.89,0.24,1.34,0.19,500,9,29,66,0,null,0,5,4]
[null,{"$f":"At!B11","v":0},{"$f":"ROUND((At!C11/At!$C$4)*100,2)","v":0},{"$f":"ROUND(At!C11,2)","v":0},{"$f":"ROUND(HayvanSay*At!C11,2)","v":0},0,0,null,null,null,null,null,null,null,null,null,null,"Çalışmıyor",null,"S:",null,null,{"$f":"IF(AnimalType=\"Yaşama Payı\",  AD57,  IF(AnimalType=\"Aygır\",   AE57,IF(AnimalType=\"Gebe Kısrak\",  AF57,IF(AnimalType=\"Emziren Kısrak\",  AG57,IF(AnimalType=\"Çalışan At\",  AH57,  IF(AnimalType=\"Tay\",  AI57, 0  ))))))","v":16.875},null,"g/gün",null,null,"S:","g/gün",{"$f":"AD38 * 1000 * 0.0015","v":16.875},16.875,16.875,16.875,16.875,16.875,null,null,null,null,null,null,null,null,null,900,18,697.5,77.5]
[null,{"$f":"At!B12","v":0},{"$f":"ROUND((At!C12/At!$C$4)*100,2)","v":0},{"$f":"ROUND(At!C12,2)","v":0},{"$f":"ROUND(HayvanSay*At!C12,2)","v":0},0,0,null,null,null,null,null,null,null,null,null,null,"Hafif",null,"Co:",null,null,{"$f":"IF(AnimalType=\"Yaşama Payı\",  AD58,  IF(AnimalType=\"Aygır\",   AE58,IF(AnimalType=\"Gebe Kısrak\",  AF58,IF(AnimalType=\"Emziren Kısrak\",  AG58,IF(AnimalType=\"Çalışan At\",  AH58,  IF(AnimalType=\"Tay\",  AI58, 0  ))))))","v":0.5625},null,"mg/gün",null,null,"Co:","mg/gün",{"$f":"AD$38 *0.05","v":0.5625},0.5625,0.5625,0.5625,0.5625,0.5625,null,null,null,null,null,null,null,null,null,900,24,773,85.888888888888886]
[null,{"$f":"At!B13","v":0},{"$f":"ROUND((At!C13/At!$C$4)*100,2)","v":0},{"$f":"ROUND(At!C13,2)","v":0},{"$f":"ROUND(HayvanSay*At!C13,2)","v":0},0,0,null,null,null,null,null,null,null,null,null,null,"Orta",null,"I:",null,null,3.9937499999999999,null,"mg/gün",null,null,"I:","mg/gün",{"$f":"AD$38 *0.35","v":3.9374999999999996},{"$f":"AE$38 *0.35","v":3.9374999999999996},{"$f":"IF(NRCGS<9,  AF38*0.35,  AF38*0.4 )","v":3.9374999999999996},{"$f":"AG$38 *0.35","v":3.9374999999999996},{"$f":" IF(WorkLevel=\"Hafif\",AH$38 *0.35,  IF(WorkLevel=\"Orta\",AH$38 *0.355, IF(WorkLevel=\"Ağır\",AH$38 *0.355,  IF(WorkLevel=\"Çok Ağır\",AH$38*0.355,  0))))","v":3.9937499999999999},{"$f":"AI$38 *0.35","v":3.9374999999999996},null,null,null,null,null,null,null,null,null,900,36,850,94.444444444444443]
[null,{"$f":"At!B14","v":0},{"$f":"ROUND((At!C14/At!$C$4)*100,2)","v":0},{"$f":"ROUND(At!C14,2)","v":0},{"$f":"ROUND(HayvanSay*At!C14,2)","v":0},0,0,null,null,null,null,null,null,null,null,null,null,"Ağır",null,"Vit D:",null,null,3300,null,"IU/gün",null,null,"Vit D:","IU/gün",{"$f":"NRCCA* 6.6","v":3300},{"$f":"NRCCA* 6.6","v":3300},{"$f":"BodyWeight* 6.6","v":3300},{"$f":"NRCCA* 6.6","v":3300},{"$f":"NRCCA* 6.6","v":3300},{"$f":"IF(NRCAge<=6,(22.2*BodyWeight),  IF(NRCAge<=12, (17.4*BodyWeight), IF(NRCAge<=18,(15.9*BodyWeight),  (13.7*BodyWeight)  )))","v":11100}]
[null,{"$f":"At!B15","v":0},{"$f":"ROUND((At!C15/At!$C$4)*100,2)","v":0},{"$f":"ROUND(At!C15,2)","v":0},{"$f":"ROUND(HayvanSay*At!C15,2)","v":0},0,0,null,null,null,null,null,null,null,null,null,null,"Çok Ağır",null,"Vit E:",null,null,900,null,"IU/gün",null,null,"Vit E:","IU/gün",{"$f":"NRCCA* 1","v":500},{"$f":"IF(WorkLevel=\"Aşımda kullanılmıyor\",NRCCA*1,  IF(WorkLevel=\"Aşımda kullanılıyor\",NRCCA*1.6,  0))","v":0},{"$f":"BodyWeight* 1.6","v":800},{"$f":"NRCCA* 2","v":1000},{"$f":"IF(WorkLevel=\"Hafif\",NRCCA*1.6,  IF(WorkLevel=\"Orta\",NRCCA*1.8, IF(WorkLevel=\"Ağır\",NRCCA*2,  IF(WorkLevel=\"Çok Ağır\",NRCCA*2,  0))))","v":900},{"$f":"BodyWeight * 2","v":1000}]
[null,{"$f":"At!B16","v":0},{"$f":"ROUND((At!C16/At!$C$4)*100,2)","v":0},{"$f":"ROUND(At!C16,2)","v":0},{"$f":"ROUND(HayvanSay*At!C16,2)","v":0},0,0,null,null,null,null,null,null,null,null,null,null,null,null,"Tiamin:",null,null,56.5,null,"mg/gün",null,null,"Tiamin:","mg/gün",{"$f":"NRCCA* 0.06","v":30},{"$f":"BodyWeight* 0.06","v":30},{"$f":"BodyWeight* 0.06","v":30},{"$f":"NRCCA* 0.075","v":37.5},{"$f":"IF(WorkLevel=\"Hafif\",NRCCA*0.06,  IF(WorkLevel=\"Orta\",NRCCA*0.113, IF(WorkLevel=\"Ağır\",NRCCA*0.125,  IF(WorkLevel=\"Çok Ağır\",NRCCA*0.125,  0))))","v":56.5},{"$f":"BodyWeight * 0.075","v":37.5}]
[null,{"$f":"At!B17","v":0},{"$f":"ROUND((At!C17/At!$C$4)*100,2)","v":0},{"$f":"ROUND(At!C17,2)","v":0},{"$f":"ROUND(HayvanSay*At!C17,2)","v":0},0,0,null,null,null,null,null,null,null,null,null,null,"Yaşama Payı Seviyesi",null,"Riboflavin:",null,null,22.5,null,"mg/gün",null,null,"Riboflavin:","mg/gün",{"$f":"NRCCA* 0.04","v":20},{"$f":"BodyWeight* 0.04","v":20},{"$f":"BodyWeight* 0.04","v":20},{"$f":"NRCCA* 0.05","v":25},{"$f":"IF(WorkLevel=\"Hafif\",NRCCA*0.04,  IF(WorkLevel=\"Orta\",NRCCA*0.045, IF(WorkLevel=\"Ağır\",NRCCA*0.05,  IF(WorkLevel=\"Çok Ağır\",NRCCA*0.05,  0))))","v":22.5},{"$f":"BodyWeight * 0.05","v":25}]
[null,{"$f":"At!B18","v":0},{"$f":"ROUND((At!C18/At!$C$4)*100,2)","v":0},{"$f":"ROUND(At!C18,2)","v":0},{"$f":"ROUND(HayvanSay*At!C18,2)","v":0},0,0,null,null,null,null,null,null,null,null,null,null,"Düşük"]
[null,{"$f":"At!B19","v":0},{"$f":"ROUND((At!C19/At!$C$4)*100,2)","v":0},{"$f":"ROUND(At!C19,2)","v":0},{"$f":"ROUND(HayvanSay*At!C19,2)","v":0},0,0,null,null,null,null,null,null,null,null,null,null,"Orta"]
[null,{"$f":"At!B20","v":0},{"$f":"ROUND((At!C20/At!$C$4)*100,2)","v":0},{"$f":"ROUND(At!C20,2)","v":0},{"$f":"ROUND(HayvanSay*At!C20,2)","v":0},0,0,null,null,null,null,null,null,null,null,null,null,"Yüksek"]
[null,{"$f":"At!B21","v":0},{"$f":"ROUND((At!C21/At!$C$4)*100,2)","v":0},{"$f":"ROUND(At!C21,2)","v":0},{"$f":"ROUND(HayvanSay*At!C21,2)","v":0},0,0]
[null,{"$f":"At!B22","v":0},{"$f":"ROUND((At!C22/At!$C$4)*100,2)","v":0},{"$f":"ROUND(At!C22,2)","v":0},{"$f":"ROUND(HayvanSay*At!C22,2)","v":0},0,0]
[null,{"$f":"At!B23","v":0},{"$f":"ROUND((At!C23/At!$C$4)*100,2)","v":0},{"$f":"ROUND(At!C23,2)","v":0},{"$f":"ROUND(HayvanSay*At!C23,2)","v":0},0,0]
[null,{"$f":"At!B24","v":0},{"$f":"ROUND((At!C24/At!$C$4)*100,2)","v":0},{"$f":"ROUND(At!C24,2)","v":0},{"$f":"ROUND(HayvanSay*At!C24,2)","v":0},0,0]
[null,{"$f":"At!B25","v":0},{"$f":"ROUND((At!C25/At!$C$4)*100,2)","v":0},{"$f":"ROUND(At!C25,2)","v":0},{"$f":"ROUND(HayvanSay*At!C25,2)","v":0},0,0]
[null,"TOPLAM",{"$f":"ROUND(SUM(C51:C71),0)","v":100},{"$f":"ROUND(SUM(D51:D71),0)","v":12},{"$f":"ROUND(SUM(E51:E71),0)","v":118},{"$f":"ROUND(SUM(F51:F71),0)","v":6},{"$f":"ROUND(SUM(G51:G71),0)","v":59}]
[null,null,8,null,5,6,7]
[]
[]
[]
[]
[]
[]
[]
[]
[]
[]
[]
[]
[]
[]
[]
[]
[null,null,null,null,null,null,null,null,null,null,null,null,null,null,null,null,null,null,null,null,null,null,null,null,null,null,null,null,null,null,null,null,null,null,null,null,null,null,null,null,null,null,null,null,null,null,null,null,null,null,null,null,null,null,null,null,null,null,null,null,null,null,"ENERJİ KAYNAKLARI","   KM,%","SE,Mcal/kg"," HP,%","Lizin,%","HY,%","NDF,%","ADF,%","HK,%","   Ca,%","    P,%","    Mg,%","    K,%","    Na,%","    Cl,%","    S,%","    Fe,mg/kg","    Cu,mg/kg","    Zn,mg/kg","    Mn,mg/kg","    Se,mg/kg","Vit.A,IU/kg","En az,kg","En çok,kg","Fiyat,TL"]
[null,null,null,null,null,null,null,null,null,null,null,null,null,null,null,null,null,null,null,null,null,null,null,null,null,null,null,null,null,null,null,null,null,null,null,null,null,null,null,null,null,null,null,null,null,null,null,null,null,null,null,null,null,null,null,null,null,null,null,null,null,null,"ARPA, EZME ",91,3.67,12.4,0.45,2.2000000000000002,20.8,7.2,2.9,0.06,0.39,0.14000000000000001,0.56000000000000005,0.02,0.13,0.12,70,6,38,22,0.11,0,0,2,9.75]
[null,null,null,null,null,null,null,null,null,null,null,null,null,null,null,null,null,null,null,null,null,null,null,null,null,null,null,null,null,null,null,null,null,null,null,null,null,null,null,null,null,null,null,null,null,null,null,null,null,null,null,null,null,null,null,null,null,null,null,null,null,null,"ARPA, MALT ÇİLİ",90.5,2.87,20.100000000000001,0.88,2.2999999999999998,47,21.8,7.4,0.24,0.51,0.18,1.19,0.04,0,0.28999999999999998,353,9,65,49,0.67,0,0,0.5,9]
[null,null,null,null,null,null,null,null,null,null,null,null,null,null,null,null,null,null,null,null,null,null,null,null,null,null,null,null,null,null,null,null,null,null,null,null,null,null,null,null,null,null,null,null,null,null,null,null,null,null,null,null,null,null,null,null,null,null,null,null,null,null,"BİRA POSASI,KURU",90.7,2.85,29.2,1.19,5.2,47.4,22.2,4.3,0.3,0.67,0.26,0.5,0.04,7.0000000000000007E-2,0.38,224,11,85,45,1.06,null,0,1,5]
[null,null,null,null,null,null,null,null,null,null,null,null,null,null,null,null,null,null,null,null,null,null,null,null,null,null,null,null,null,null,null,null,null,null,null,null,null,null,null,null,null,null,null,null,null,null,null,null,null,null,null,null,null,null,null,null,null,null,null,null,null,null,"BİRA POSASI,YAŞ",21.8,2.8,28.4,0.97,5.2,47.1,23.1,4.9000000000000004,0.35,0.59,0.21,0.47,0.01,0.12,0.33,247,9,91,49,1.06,null,0,3,5]
[null,null,null,null,null,null,null,null,null,null,null,null,null,null,null,null,null,null,null,null,null,null,null,null,null,null,null,null,null,null,null,null,null,null,null,null,null,null,null,null,null,null,null,null,null,null,null,null,null,null,null,null,null,null,null,null,null,null,null,null,null,null,"BİSKÜVİ YAN ÜRÜNLERİ",90.1,3.71,9.6999999999999993,0.17,10.6,12.7,6.5,3,0.23,0.28999999999999998,0.13,0.46,0.68,1.2,0.13,235,5,38,27,null,null,0,1,6]
[null,null,null,null,null,null,null,null,null,null,null,null,null,null,null,null,null,null,null,null,null,null,null,null,null,null,null,null,null,null,null,null,null,null,null,null,null,null,null,null,null,null,null,null,null,null,null,null,null,null,null,null,null,null,null,null,null,null,null,null,null,null,"BUĞDAY KEPEĞİ",89.1,3.22,17.3,0.7,4.3,42.5,15.5,6.3,0.13,1.18,0.53,1.32,0.04,0.16,0.21,157,11,85,122,0.5,null,0,2,7]
[null,null,null,null,null,null,null,null,null,null,null,null,null,null,null,null,null,null,null,null,null,null,null,null,null,null,null,null,null,null,null,null,null,null,null,null,null,null,null,null,null,null,null,null,null,null,null,null,null,null,null,null,null,null,null,null,null,null,null,null,null,null,"BUĞDAY KEPEĞİ, RAZMOL",89.5,3.4,18.5,0.67,4.5,36.700000000000003,12.1,5,0.16,1.02,0.42,1.38,0.03,0.1,0.18,158,10,91,125,0.46,null,0,1,9]
[null,null,null,null,null,null,null,null,null,null,null,null,null,null,null,null,null,null,null,null,null,null,null,null,null,null,null,null,null,null,null,null,null,null,null,null,null,null,null,null,null,null,null,null,null,null,null,null,null,null,null,null,null,null,null,null,null,null,null,null,null,null,"BUĞDAY, EZME",89.4,3.83,14.2,0.4,2.2999999999999998,13.4,4.4000000000000004,2,0.05,0.43,0.15,0.5,0.01,0.11,0.15,72,5,40,42,0.28000000000000003,null,0,1,12]
[null,null,null,null,null,null,null,null,null,null,null,null,null,null,null,null,null,null,null,null,null,null,null,null,null,null,null,null,null,null,null,null,null,null,null,null,null,null,null,null,null,null,null,null,null,null,null,null,null,null,null,null,null,null,null,null,null,null,null,null,null,null,"FIRINCILIK YAN ÜRÜNLERİ",84.7,3.71,12.5,0.36,9.5,13.9,6.5,3.8,0.2,0.36,0.13,0.42,0.72,1.2,0.14000000000000001,273,5,46,30,0.28999999999999998,7.7,null,null,10]
[null,null,null,null,null,null,null,null,null,null,null,null,null,null,null,null,null,null,null,null,null,null,null,null,null,null,null,null,null,null,null,null,null,null,null,null,null,null,null,null,null,null,null,null,null,null,null,null,null,null,null,null,null,null,null,null,null,null,null,null,null,null,"FIRINCILIK YAN ÜRÜNLERİ, EKMEK ARTIKLARI",68.3,3.9,15,0.44,2.2000000000000002,8.9,3.1,2.8,0.14000000000000001,0.2,0.05,0.23,0.85,0.94,0.17,140,4,16,10,0,null,0,1,10]
[null,null,null,null,null,null,null,null,null,null,null,null,null,null,null,null,null,null,null,null,null,null,null,null,null,null,null,null,null,null,null,null,null,null,null,null,null,null,null,null,null,null,null,null,null,null,null,null,null,null,null,null,null,null,null,null,null,null,null,null,null,null,"HAVUÇ",11,3.63,10,0.43,1.3,9,8,8.4,0.4,0.35,0.2,2.8,0.48,0.5,0.17,130,10.4,32.700000000000003,31.5,0,0,null,null,1.2]
[null,null,null,null,null,null,null,null,null,null,null,null,null,null,null,null,null,null,null,null,null,null,null,null,null,null,null,null,null,null,null,null,null,null,null,null,null,null,null,null,null,null,null,null,null,null,null,null,null,null,null,null,null,null,null,null,null,null,null,null,null,null,"MELAS,ŞEKER KAMIŞI",74.3,4.0599999999999996,5.8,0.06,0.2,0.4,0.2,13.3,1,0.1,0.42,4.01,0.22,0,0.47,263,66,21,59,0,null,0,1,4]
[null,null,null,null,null,null,null,null,null,null,null,null,null,null,null,null,null,null,null,null,null,null,null,null,null,null,null,null,null,null,null,null,null,null,null,null,null,null,null,null,null,null,null,null,null,null,null,null,null,null,null,null,null,null,null,null,null,null,null,null,null,null,"MELAS,ŞEKER PANCARI",77.900000000000006,4.0599999999999996,8.5,0.09,0.2,0.1,0.1,11.4,0.15,0.03,0.28999999999999998,6.06,1.48,0,0.6,87,22,18,66,0,null,0,1,4]
[null,null,null,null,null,null,null,null,null,null,null,null,null,null,null,null,null,null,null,null,null,null,null,null,null,null,null,null,null,null,null,null,null,null,null,null,null,null,null,null,null,null,null,null,null,null,null,null,null,null,null,null,null,null,null,null,null,null,null,null,null,null,"MISIR GRİZİ",88.5,3.73,11.9,0.44,4.2,21.1,6.2,2.7,0.03,0.65,0.26,0.82,0.01,0.1,0.12,87,3,49,14,null,null,0,1,9]
[null,null,null,null,null,null,null,null,null,null,null,null,null,null,null,null,null,null,null,null,null,null,null,null,null,null,null,null,null,null,null,null,null,null,null,null,null,null,null,null,null,null,null,null,null,null,null,null,null,null,null,null,null,null,null,null,null,null,null,null,null,null,"MISIR KOÇANI (TANELİ), ÖĞÜTÜLMÜŞ ",89.2,3.63,8.6,0.22,3.9,21.5,8,1.7,0.06,0.28999999999999998,0.13,0.49,0.03,7.0000000000000007E-2,0.1,91,3,27,10,7.0000000000000007E-2,null,0,3,10]
[null,null,null,null,null,null,null,null,null,null,null,null,null,null,null,null,null,null,null,null,null,null,null,null,null,null,null,null,null,null,null,null,null,null,null,null,null,null,null,null,null,null,null,null,null,null,null,null,null,null,null,null,null,null,null,null,null,null,null,null,null,null,"MISIR, KIRILMIŞ, KURU",88.1,3.88,9.4,0.27,4.2,9.5,3.4,1.5,0.04,0.3,0.12,0.42,0.02,0.08,0.1,54,3,27,11,7.0000000000000007E-2,null,0,3,9.5]
[null,null,null,null,null,null,null,null,null,null,null,null,null,null,null,null,null,null,null,null,null,null,null,null,null,null,null,null,null,null,null,null,null,null,null,null,null,null,null,null,null,null,null,null,null,null,null,null,null,null,null,null,null,null,null,null,null,null,null,null,null,null,"MISIR, ÖĞÜTÜLMÜŞ, KURU",88.1,3.88,9.1,0.26,4.2,9.5,3.4,1.5,0.04,0.3,0.12,0.42,0.02,0.08,0.1,54,3,27,11,7.0000000000000007E-2,null,0,3,9.5]
[null,null,null,null,null,null,null,null,null,null,null,null,null,null,null,null,null,null,null,null,null,null,null,null,null,null,null,null,null,null,null,null,null,null,null,null,null,null,null,null,null,null,null,null,null,null,null,null,null,null,null,null,null,null,null,null,null,null,null,null,null,null,"MISIR, PUL HALİNE GETİRİLMİŞ",88.1,3.88,9.4,0.28999999999999998,4.2,9.5,3.4,1.5,0.04,0.3,0.12,0.42,0.02,0.08,0.1,54,3,27,11,7.0000000000000007E-2,null,0,1,11.5]
[null,null,null,null,null,null,null,null,null,null,null,null,null,null,null,null,null,null,null,null,null,null,null,null,null,null,null,null,null,null,null,null,null,null,null,null,null,null,null,null,null,null,null,null,null,null,null,null,null,null,null,null,null,null,null,null,null,null,null,null,null,null,"PATATES",24,3.99,9.3000000000000007,0.39,0.4,9,1.4,4.8,0.04,0.24,0.14000000000000001,2.17,0.09,0.28000000000000003,0.09,80,28.4,0,41.7,0,0,null,null,2.5]
[null,null,null,null,null,null,null,null,null,null,null,null,null,null,null,null,null,null,null,null,null,null,null,null,null,null,null,null,null,null,null,null,null,null,null,null,null,null,null,null,null,null,null,null,null,null,null,null,null,null,null,null,null,null,null,null,null,null,null,null,null,null,"PATATES YAN ÜRÜNLERİ",35.4,3.16,10.5,0.44,10.8,22.1,16.5,12.8,0.49,0.28999999999999998,0.11,1.04,0.26,0.19,0.11,1006,11,25,26,0,null,0,3,25]
[null,null,null,null,null,null,null,null,null,null,null,null,null,null,null,null,null,null,null,null,null,null,null,null,null,null,null,null,null,null,null,null,null,null,null,null,null,null,null,null,null,null,null,null,null,null,null,null,null,null,null,null,null,null,null,null,null,null,null,null,null,null,"PİRİNÇ KEPEĞİ",90.6,3.35,15.5,0.72,15.2,26.1,13.1,10.4,7.0000000000000007E-2,1.78,0.81,1.57,0.03,0.09,0.19,239,10,71,186,0.17,null,0,1,9]
[null,null,null,null,null,null,null,null,null,null,null,null,null,null,null,null,null,null,null,null,null,null,null,null,null,null,null,null,null,null,null,null,null,null,null,null,null,null,null,null,null,null,null,null,null,null,null,null,null,null,null,null,null,null,null,null,null,null,null,null,null,null,"SORGUM, EZME",88.6,3.75,11.6,0.28000000000000003,3.1,10.9,5.9,2,7.0000000000000007E-2,0.35,0.17,0.47,0.01,0.06,0.11,89,6,25,21,0.46,0,0,1,100]
[null,null,null,null,null,null,null,null,null,null,null,null,null,null,null,null,null,null,null,null,null,null,null,null,null,null,null,null,null,null,null,null,null,null,null,null,null,null,null,null,null,null,null,null,null,null,null,null,null,null,null,null,null,null,null,null,null,null,null,null,null,null,"SORGUM, PUL HALİNE GETİRİLMİŞ",88.6,3.75,11.6,0.28000000000000003,3.1,10.9,5.9,2,7.0000000000000007E-2,0.35,0.17,0.47,0.01,0.06,0.11,89,6,25,21,0.46,0,0,1,100]
[null,null,null,null,null,null,null,null,null,null,null,null,null,null,null,null,null,null,null,null,null,null,null,null,null,null,null,null,null,null,null,null,null,null,null,null,null,null,null,null,null,null,null,null,null,null,null,null,null,null,null,null,null,null,null,null,null,null,null,null,null,null,"ŞEKER PANCARI",18.5,3.5,7.5,4.3499999999999996,0.6,9,1.4,5.5,0.57999999999999996,0.16,0.66,1.52,0.49,0,0.06,80,8.1,32.700000000000003,114.7,0,0,null,null,2]
[null,null,null,null,null,null,null,null,null,null,null,null,null,null,null,null,null,null,null,null,null,null,null,null,null,null,null,null,null,null,null,null,null,null,null,null,null,null,null,null,null,null,null,null,null,null,null,null,null,null,null,null,null,null,null,null,null,null,null,null,null,null,"ŞEKER PANCARI POSASI,KURU",88.3,2.8,10,0.44,1.1000000000000001,45.8,23.1,7.3,0.91,0.09,0.23,0.96,0.31,0.18,0.3,642,11,22,62,0.14000000000000001,null,0,2,2]
[null,null,null,null,null,null,null,null,null,null,null,null,null,null,null,null,null,null,null,null,null,null,null,null,null,null,null,null,null,null,null,null,null,null,null,null,null,null,null,null,null,null,null,null,null,null,null,null,null,null,null,null,null,null,null,null,null,null,null,null,null,null,"ŞEKER PANCARI POSASI,MELASLI,KURU",88,2.84,10,0.42,1.1000000000000001,44.4,22.4,7.4,0.89,0.09,0.23,1.1100000000000001,0.35,0.17,0.31,625,11.3,22,62,0.14000000000000001,null,0,2,2.5]
[null,null,null,null,null,null,null,null,null,null,null,null,null,null,null,null,null,null,null,null,null,null,null,null,null,null,null,null,null,null,null,null,null,null,null,null,null,null,null,null,null,null,null,null,null,null,null,null,null,null,null,null,null,null,null,null,null,null,null,null,null,null,"TRİTİKALE",89,3.79,13.3,0.45,1.7,17.3,5.12,2.09,0.04,0.34,0.26,0.56999999999999995,0.01,0,0,50,9.3000000000000007,35.1,47.8,0,0,null,null,20]
[null,null,null,null,null,null,null,null,null,null,null,null,null,null,null,null,null,null,null,null,null,null,null,null,null,null,null,null,null,null,null,null,null,null,null,null,null,null,null,null,null,null,null,null,null,null,null,null,null,null,null,null,null,null,null,null,null,null,null,null,null,null,"TURUNÇGİL POSASI, KURU",85.8,2.85,6.9,0.18,4.9000000000000004,24.2,22.2,7.2,1.92,0.12,0.12,1.1000000000000001,0.06,0.08,0.1,151,8,11,9,0,null,0,2,20]
[null,null,null,null,null,null,null,null,null,null,null,null,null,null,null,null,null,null,null,null,null,null,null,null,null,null,null,null,null,null,null,null,null,null,null,null,null,null,null,null,null,null,null,null,null,null,null,null,null,null,null,null,null,null,null,null,null,null,null,null,null,null,"YAĞ, BİTKİSEL",100,9.19,0,0,99.9,0,0,0,0,0,0,0,0,0,0,0,0,0,0,0,null,0,0.5,1000]
[null,null,null,null,null,null,null,null,null,null,null,null,null,null,null,null,null,null,null,null,null,null,null,null,null,null,null,null,null,null,null,null,null,null,null,null,null,null,null,null,null,null,null,null,null,null,null,null,null,null,null,null,null,null,null,null,null,null,null,null,null,null,"YAĞ, HİDROLİZE (KUYRUK YAĞI YAĞ ASİTLERİ)",99.8,9.1199999999999992,0,0,99.2,0,0,0,0,0,0,0,0,0,0,0,0,0,0,0,null,0,0.5,1000]
[null,null,null,null,null,null,null,null,null,null,null,null,null,null,null,null,null,null,null,null,null,null,null,null,null,null,null,null,null,null,null,null,null,null,null,null,null,null,null,null,null,null,null,null,null,null,null,null,null,null,null,null,null,null,null,null,null,null,null,null,null,null,"YAĞ, KISMİ HİDROJENİZE KUYRUK YAĞI",100,9.15,0,0,99.5,0,0,0,0,0,0,0,0,0,0,0,0,0,0,0,null,0,0.5,1000]
[null,null,null,null,null,null,null,null,null,null,null,null,null,null,null,null,null,null,null,null,null,null,null,null,null,null,null,null,null,null,null,null,null,null,null,null,null,null,null,null,null,null,null,null,null,null,null,null,null,null,null,null,null,null,null,null,null,null,null,null,null,null,"YAĞ, KUYRUK",99.8,9.18,0,0,99.8,0,0,0,0,0,0,0,0,0,0,0,0,0,0,0,null,0,0.5,1000]
[null,null,null,null,null,null,null,null,null,null,null,null,null,null,null,null,null,null,null,null,null,null,null,null,null,null,null,null,null,null,null,null,null,null,null,null,null,null,null,null,null,null,null,null,null,null,null,null,null,null,null,null,null,null,null,null,null,null,null,null,null,null,"YULAF",91,3.23,13.6,0.55000000000000004,4.9000000000000004,42,13.5,3.3,7.0000000000000007E-2,0.3,0.16,0.45,0.06,0.1,0.23,80,6.7,39,40,0.24,0.2,0,10,7]
[null,null,null,null,null,null,null,null,null,null,null,null,null,null,null,null,null,null,null,null,null,null,null,null,null,null,null,null,null,null,null,null,null,null,null,null,null,null,null,null,null,null,null,null,null,null,null,null,null,null,null,null,null,null,null,null,null,null,null,null,null,null,"YULAF, EZME",90,3.27,13.2,0.55000000000000004,5.0999999999999996,30,14.6,3.3,0.11,0.4,0.16,0.52,0.03,0,0.19,106,8,41,43,0.48,null,0,10,8.75]
[null,null,null,null,null,null,null,null,null,null,null,null,null,null,null,null,null,null,null,null,null,null,null,null,null,null,null,null,null,null,null,null,null,null,null,null,null,null,null,null,null,null,null,null,null,null,null,null,null,null,null,null,null,null,null,null,null,null,null,null,null,null,"YULAF, KALİTELİ",89,3.33,13.6,0.55000000000000004,5.2,29.3,14.6,13.5,0.01,0.41,0.16,0.51,0.02,0.1,0.21,94,8.6,41,40,0.24,0.2,0,10,8]
[]
[]
[]
[]
[]
[]
[]
[]
[]
[]
[]
[]
[]
[]
[]
[]
[]
[null,null,null,null,null,null,null,null,null,null,null,null,null,null,null,null,null,null,null,null,null,null,null,null,null,null,null,null,null,null,null,null,null,null,null,null,null,null,null,null,null,null,null,null,null,null,null,null,null,null,null,null,null,null,null,null,null,null,null,null,null,null,"PROTEİN KAYNAKLARI","   KM,%","SE,Mcal/kg"," HP,%","Lizin,%","HY,%","NDF,%","ADF,%","HK,%","   Ca,%","    P,%","    Mg,%","    K,%","    Na,%","    Cl,%","    S,%","    Fe,mg/kg","    Cu,mg/kg","    Zn,mg/kg","    Mn,mg/kg","    Se,mg/kg","Vit.A,IU/kg","En az,kg","En çok,kg","Fiyat,TL"]
[null,null,null,null,null,null,null,null,null,null,null,null,null,null,null,null,null,null,null,null,null,null,null,null,null,null,null,null,null,null,null,null,null,null,null,null,null,null,null,null,null,null,null,null,null,null,null,null,null,null,null,null,null,null,null,null,null,null,null,null,null,null,"ASPİR KÜSPESİ,SOLVENT",93.5,1.92,29,0.92,2.4,53.8,39.1,4.7,0.48,1,0.63,1.5,0.04,0.12,0.39,298,32,88,45,0.5,null,0,2,8.5]
[null,null,null,null,null,null,null,null,null,null,null,null,null,null,null,null,null,null,null,null,null,null,null,null,null,null,null,null,null,null,null,null,null,null,null,null,null,null,null,null,null,null,null,null,null,null,null,null,null,null,null,null,null,null,null,null,null,null,null,null,null,null,"AYÇİÇEĞİ  KÜSPESİ, SOLVENT, %25 HP",92.2,2.42,28.4,1.01,1.4,40.299999999999997,30,7.7,0.48,1,0.63,1.5,0.04,0.12,0.39,298,32,88,45,0.5,null,0,2,11]
[null,null,null,null,null,null,null,null,null,null,null,null,null,null,null,null,null,null,null,null,null,null,null,null,null,null,null,null,null,null,null,null,null,null,null,null,null,null,null,null,null,null,null,null,null,null,null,null,null,null,null,null,null,null,null,null,null,null,null,null,null,null,"AYÇİÇEĞİ  KÜSPESİ, SOLVENT, %28 HP",92.2,2.5,31,1.1000000000000001,1,38,28,7.5,0.48,1,0.63,1.5,0.04,0.12,0.39,298,32,88,45,0.5,null,0,2,11]
[null,null,null,null,null,null,null,null,null,null,null,null,null,null,null,null,null,null,null,null,null,null,null,null,null,null,null,null,null,null,null,null,null,null,null,null,null,null,null,null,null,null,null,null,null,null,null,null,null,null,null,null,null,null,null,null,null,null,null,null,null,null,"AYÇİÇEĞİ  KÜSPESİ, SOLVENT, %32 HP",92.2,2.6,35.6,1.27,1,36,26,7.3,0.48,1,0.63,1.5,0.04,0.12,0.39,298,32,88,45,0.5,null,0,2,11]
[null,null,null,null,null,null,null,null,null,null,null,null,null,null,null,null,null,null,null,null,null,null,null,null,null,null,null,null,null,null,null,null,null,null,null,null,null,null,null,null,null,null,null,null,null,null,null,null,null,null,null,null,null,null,null,null,null,null,null,null,null,null,"AYÇİÇEĞİ  KÜSPESİ, SOLVENT, %36 HP",92.2,2.8,40,1.42,1,32,22,7.2,0.48,1,0.63,1.5,0.04,0.12,0.39,298,32,88,45,0.5,null,0,2,12]
[null,null,null,null,null,null,null,null,null,null,null,null,null,null,null,null,null,null,null,null,null,null,null,null,null,null,null,null,null,null,null,null,null,null,null,null,null,null,null,null,null,null,null,null,null,null,null,null,null,null,null,null,null,null,null,null,null,null,null,null,null,null,"BALIK UNU, HAMSİ",92,4.07,71.2,5.63,4.5999999999999996,0,0,16,4.0599999999999996,2.69,0.27,0.79,0.96,0.8,0.78,234,10,114,12,1.47,null,0,1,70]
[null,null,null,null,null,null,null,null,null,null,null,null,null,null,null,null,null,null,null,null,null,null,null,null,null,null,null,null,null,null,null,null,null,null,null,null,null,null,null,null,null,null,null,null,null,null,null,null,null,null,null,null,null,null,null,null,null,null,null,null,null,null,"BALIK UNU, RİNGA",91.2,4.07,68.5,5.24,10.4,0,0,19.7,5.34,3.05,0.2,0.74,0.68,0.8,1.1599999999999999,562,7,112,32,2.2599999999999998,null,0,1,70]
[null,null,null,null,null,null,null,null,null,null,null,null,null,null,null,null,null,null,null,null,null,null,null,null,null,null,null,null,null,null,null,null,null,null,null,null,null,null,null,null,null,null,null,null,null,null,null,null,null,null,null,null,null,null,null,null,null,null,null,null,null,null,"KANOLA KÜSPESİ, PRES",90.3,2.94,37.799999999999997,2.12,5.4,29.8,20.5,7.4,0.75,1.1000000000000001,0.53,1.41,7.0000000000000007E-2,0.04,0.73,296,5,61,62,1.0900000000000001,null,0,2,12]
[null,null,null,null,null,null,null,null,null,null,null,null,null,null,null,null,null,null,null,null,null,null,null,null,null,null,null,null,null,null,null,null,null,null,null,null,null,null,null,null,null,null,null,null,null,null,null,null,null,null,null,null,null,null,null,null,null,null,null,null,null,null,"KETEN TOHUMU KÜSPESİ,SOLVENT",90.3,2.85,32.6,1.2,1.7,36.1,22.1,6.5,0.4,0.83,0.55000000000000004,1.22,0.09,0,0.37,369,19,69,39,1.05,null,0,3,12]
[null,null,null,null,null,null,null,null,null,null,null,null,null,null,null,null,null,null,null,null,null,null,null,null,null,null,null,null,null,null,null,null,null,null,null,null,null,null,null,null,null,null,null,null,null,null,null,null,null,null,null,null,null,null,null,null,null,null,null,null,null,null,"MISIR GLUTEN YEMİ",89.4,2.82,23.8,0.65,3.5,35.5,12.1,6.8,7.0000000000000007E-2,1,0.42,1.46,0.13,0.2,0.44,196,6,75,23,0.19,null,0,2,9]
[null,null,null,null,null,null,null,null,null,null,null,null,null,null,null,null,null,null,null,null,null,null,null,null,null,null,null,null,null,null,null,null,null,null,null,null,null,null,null,null,null,null,null,null,null,null,null,null,null,null,null,null,null,null,null,null,null,null,null,null,null,null,"MISIR GLUTENİ,44",86.4,3.4,46.8,0.8,2.5,23,10,4.5,0.06,0.6,0.14000000000000001,0.46,0.05,0.11,0.86,138,4,49,15,0.34,null,0,2,20]
[null,null,null,null,null,null,null,null,null,null,null,null,null,null,null,null,null,null,null,null,null,null,null,null,null,null,null,null,null,null,null,null,null,null,null,null,null,null,null,null,null,null,null,null,null,null,null,null,null,null,null,null,null,null,null,null,null,null,null,null,null,null,"MISIR GLUTENİ,63",86.4,3.62,65,1.1000000000000001,2.5,11.1,8.1999999999999993,3.3,0.06,0.6,0.14000000000000001,0.46,0.05,0.11,0.86,138,4,49,15,0.34,null,1,2,25]
[null,null,null,null,null,null,null,null,null,null,null,null,null,null,null,null,null,null,null,null,null,null,null,null,null,null,null,null,null,null,null,null,null,null,null,null,null,null,null,null,null,null,null,null,null,null,null,null,null,null,null,null,null,null,null,null,null,null,null,null,null,null,"PAMUK TOHUMU KÜSPESİ, SOLVENT, %41 HP",90.5,2.98,44.9,1.85,1.9,30.8,19.899999999999999,6.7,0.2,1.1499999999999999,0.61,1.64,7.0000000000000007E-2,7.0000000000000007E-2,0.4,149,14,67,24,0.3,null,0,1,15]
[null,null,null,null,null,null,null,null,null,null,null,null,null,null,null,null,null,null,null,null,null,null,null,null,null,null,null,null,null,null,null,null,null,null,null,null,null,null,null,null,null,null,null,null,null,null,null,null,null,null,null,null,null,null,null,null,null,null,null,null,null,null,"PAMUK TOHUMU, LİNTLİ",90.1,2.89,23.5,1.02,19.3,50.3,40.1,4.2,0.17,0.6,0.37,1.1299999999999999,0.02,0.06,0.23,94,7,37,18,0.14000000000000001,0,null,null,80]
[null,null,null,null,null,null,null,null,null,null,null,null,null,null,null,null,null,null,null,null,null,null,null,null,null,null,null,null,null,null,null,null,null,null,null,null,null,null,null,null,null,null,null,null,null,null,null,null,null,null,null,null,null,null,null,null,null,null,null,null,null,null,"PEYNİR ALTI SUYU, SIĞIR",20.8,4.07,14.6,1.08,0.7,0,0,9.8000000000000007,1.37,1.04,0.22,3.32,1.4,2.41,1.1499999999999999,131,2,16,4,0.06,0,null,null,70]
[null,null,null,null,null,null,null,null,null,null,null,null,null,null,null,null,null,null,null,null,null,null,null,null,null,null,null,null,null,null,null,null,null,null,null,null,null,null,null,null,null,null,null,null,null,null,null,null,null,null,null,null,null,null,null,null,null,null,null,null,null,null,"SOYA FASULYESİ",90,3.35,39.200000000000003,2.34,19.2,19.5,13.1,5.9,0.32,0.6,0.25,1.99,0.01,0.04,0.31,148,13,49,29,0.28000000000000003,null,0,1,40]
[null,null,null,null,null,null,null,null,null,null,null,null,null,null,null,null,null,null,null,null,null,null,null,null,null,null,null,null,null,null,null,null,null,null,null,null,null,null,null,null,null,null,null,null,null,null,null,null,null,null,null,null,null,null,null,null,null,null,null,null,null,null,"SOYA KÜSPESİ, SOLVENT, %44",89.1,3.52,46.8,3,1.6,20,15,6.6,0.4,0.71,0.31,2.2200000000000002,0.04,0.13,0.46,185,22,57,35,0.21,null,0,1,17]
[null,null,null,null,null,null,null,null,null,null,null,null,null,null,null,null,null,null,null,null,null,null,null,null,null,null,null,null,null,null,null,null,null,null,null,null,null,null,null,null,null,null,null,null,null,null,null,null,null,null,null,null,null,null,null,null,null,null,null,null,null,null,"SOYA KÜSPESİ, SOLVENT, %48",89.5,3.73,49.9,3.13,1.6,14.9,10,6.6,0.35,0.7,0.28999999999999998,2.41,0.03,0.13,0.39,206,16,58,40,0.13,null,0,1,18]
[null,null,null,null,null,null,null,null,null,null,null,null,null,null,null,null,null,null,null,null,null,null,null,null,null,null,null,null,null,null,null,null,null,null,null,null,null,null,null,null,null,null,null,null,null,null,null,null,null,null,null,null,null,null,null,null,null,null,null,null,null,null,"SOYA KÜSPESİ, SOLVENT, %51",89.5,3.85,53.8,3.38,1.1000000000000001,9.8000000000000007,6.2,6.4,0.35,0.7,0.28999999999999998,2.41,0.03,0.13,0.39,206,16,58,40,0.13,null,0,1,20]
[null,null,null,null,null,null,null,null,null,null,null,null,null,null,null,null,null,null,null,null,null,null,null,null,null,null,null,null,null,null,null,null,null,null,null,null,null,null,null,null,null,null,null,null,null,null,null,null,null,null,null,null,null,null,null,null,null,null,null,null,null,null,"SOYA KÜSPESİ,EKSPELLER, %45 HP",89.6,3.5,46.3,2.9,8.1,21.7,10.4,5.5,0.36,0.66,0.3,2.12,0.04,0.1,0.34,169,17,72,39,0,null,0,1,18]
[null,null,null,null,null,null,null,null,null,null,null,null,null,null,null,null,null,null,null,null,null,null,null,null,null,null,null,null,null,null,null,null,null,null,null,null,null,null,null,null,null,null,null,null,null,null,null,null,null,null,null,null,null,null,null,null,null,null,null,null,null,null,"TAM YAĞLI SOYA",91,3.26,43,2.57,19,22.1,14.7,5,0.26,0.64,0.25,1.99,0.01,0.06,0.32,142,15,48,29,0.28000000000000003,null,0,1,18]
[null,null,null,null,null,null,null,null,null,null,null,null,null,null,null,null,null,null,null,null,null,null,null,null,null,null,null,null,null,null,null,null,null,null,null,null,null,null,null,null,null,null,null,null,null,null,null,null,null,null,null,null,null,null,null,null,null,null,null,null,null,null,"TAY SÜT İKAMESİ",94.1,4.05,22,1.7,18,0,0,6.9,1.36,1.0900000000000001,0.13,1.7,0.54,0.45,1.1499999999999999,3.3,10,40,30,0.2,30000,"","",50]
[null,null,null,null,null,null,null,null,null,null,null,null,null,null,null,null,null,null,null,null,null,null,null,null,null,null,null,null,null,null,null,null,null,null,null,null,null,null,null,null,null,null,null,null,null,null,null,null,null,null,null,null,null,null,null,null,null,null,null,null,null,null,"ÜRE",100,0,281,0,0,0,0,0,0,0,0,0,0,0,0,0,0,0,0,0,null,0,0.03,17]
[null,null,null,null,null,null,null,null,null,null,null,null,null,null,null,null,null,null,null,null,null,null,null,null,null,null,null,null,null,null,null,null,null,null,null,null,null,null,null,null,null,null,null,null,null,null,null,null,null,null,null,null,null,null,null,null,null,null,null,null,null,null,"YAĞSIZ SÜT TOZU, SIĞIR",94.1,4.05,35.5,2.7,0.7,0,0,6.9,1.36,1.0900000000000001,0.13,1.7,0.54,0.45,1.1499999999999999,3.3,0.42,42,0.2,0.2,0,"","",80]
[null,null,null,null,null,null,null,null,null,null,null,null,null,null,null,null,null,null,null,null,null,null,null,null,null,null,null,null,null,null,null,null,null,null,null,null,null,null,null,null,null,null,null,null,null,null,null,null,null,null,null,null,null,null,null,null,null,null,null,null,null,null,"YERFISTIĞI KÜSPESİ, SOLVENT",92.3,3.33,51.8,1.73,1.4,21.4,13.5,5.8,0.2,0.64,0.32,1.32,0.03,0.1,0.32,302,13,54,33,0.21,null,0,1,12]
[]
[]
[]
[]
[]
[]
[]
[]
[]
[]
[]
[]
[]
[]
[]
[null,null,null,null,null,null,null,null,null,null,null,null,null,null,null,null,null,null,null,null,null,null,null,null,null,null,null,null,null,null,null,null,null,null,null,null,null,null,null,null,null,null,null,null,null,null,null,null,null,null,null,null,null,null,null,null,null,null,null,null,null,null,"PREMİKSLER","   KM,%","SE,Mcal/kg"," HP,%","Lizin,%","HY,%","NDF,%","ADF,%","HK,%","   Ca,%","    P,%","    Mg,%","    K,%","    Na,%","    Cl,%","    S,%","    Fe,mg/kg","    Cu,mg/kg","    Zn,mg/kg","    Mn,mg/kg","    Se,mg/kg","Vit.A,IU/kg","En az,kg","En çok,kg","Fiyat,TL"]
[null,null,null,null,null,null,null,null,null,null,null,null,null,null,null,null,null,null,null,null,null,null,null,null,null,null,null,null,null,null,null,null,null,null,null,null,null,null,null,null,null,null,null,null,null,null,null,null,null,null,null,null,null,null,null,null,null,null,null,null,null,null,"AMİNOFARM, sıvı (elektrolit denge için)",17,"",1.6,0.6,"","","",15.3,4,10,0.5,0.13,0.2,"",0.21879999999999999,2000,300,1000,1000,"","",5.0000000000000001E-3,0.04,121]
[null,null,null,null,null,null,null,null,null,null,null,null,null,null,null,null,null,null,null,null,null,null,null,null,null,null,null,null,null,null,null,null,null,null,null,null,null,null,null,null,null,null,null,null,null,null,null,null,null,null,null,null,null,null,null,null,null,null,null,null,null,null,"BİO-MİNVİT DRY (tırnak sağlığı için)",100,"","","","","","",2,"","","","","","","","","",20000,"","","",0.02,0.04,121]
[null,null,null,null,null,null,null,null,null,null,null,null,null,null,null,null,null,null,null,null,null,null,null,null,null,null,null,null,null,null,null,null,null,null,null,null,null,null,null,null,null,null,null,null,null,null,null,null,null,null,null,null,null,null,null,null,null,null,null,null,null,null,"COLT MIX (taylar için)",100,"","",15,"","","",9.1999999999999993,0.4,0.3,5,"","","","",12500,2500,10000,10000,50,2000000,0.02,0.04,121]
[null,null,null,null,null,null,null,null,null,null,null,null,null,null,null,null,null,null,null,null,null,null,null,null,null,null,null,null,null,null,null,null,null,null,null,null,null,null,null,null,null,null,null,null,null,null,null,null,null,null,null,null,null,null,null,null,null,null,null,null,null,null,"DCP",97,0,0,0,0,0,0,100,22,19.3,0,0,0,0,1.1399999999999999,14.4,0,0,0,0,null,0,1,35]
[null,null,null,null,null,null,null,null,null,null,null,null,null,null,null,null,null,null,null,null,null,null,null,null,null,null,null,null,null,null,null,null,null,null,null,null,null,null,null,null,null,null,null,null,null,null,null,null,null,null,null,null,null,null,null,null,null,null,null,null,null,null,"HORSE POWER",100,"","","","","","",20.7,0.53,0.4,4,12.5,"","","",10000,3000,10000,10000,40,1500000,"","",121]
[null,null,null,null,null,null,null,null,null,null,null,null,null,null,null,null,null,null,null,null,null,null,null,null,null,null,null,null,null,null,null,null,null,null,null,null,null,null,null,null,null,null,null,null,null,null,null,null,null,null,null,null,null,null,null,null,null,null,null,null,null,null,"KEMİK UNU",96,0,12,3.5999999999999997E-2,0,0,0,79.3,24,12,0.33,0.19,5.69,0,2.5099999999999998,26700,0,100,0,0,null,0,2,75]
[null,null,null,null,null,null,null,null,null,null,null,null,null,null,null,null,null,null,null,null,null,null,null,null,null,null,null,null,null,null,null,null,null,null,null,null,null,null,null,null,null,null,null,null,null,null,null,null,null,null,null,null,null,null,null,null,null,null,null,null,null,null,"KİREÇTAŞI",100,0,0,0,0,0,0,100,38,0.02,2.06,0.12,0.06,0.03,0.04,3500,0,0,0,0,null,0,3,2]
[null,null,null,null,null,null,null,null,null,null,null,null,null,null,null,null,null,null,null,null,null,null,null,null,null,null,null,null,null,null,null,null,null,null,null,null,null,null,null,null,null,null,null,null,null,null,null,null,null,null,null,null,null,null,null,null,null,null,null,null,null,null,"LİZİN HCL",100,5.7,94.4,79,null,null,null,null,null,null,null,null,null,null,null,null,null,null,null,null,null,null,0.2,750]
[null,null,null,null,null,null,null,null,null,null,null,null,null,null,null,null,null,null,null,null,null,null,null,null,null,null,null,null,null,null,null,null,null,null,null,null,null,null,null,null,null,null,null,null,null,null,null,null,null,null,null,null,null,null,null,null,null,null,null,null,null,null,"MACROMİN, sıvı",9,"","","","","","",9,3,3,"","","",6.76,"",2750,1650,3360,5450,"","",5.0000000000000001E-3,0.03,121]
[null,null,null,null,null,null,null,null,null,null,null,null,null,null,null,null,null,null,null,null,null,null,null,null,null,null,null,null,null,null,null,null,null,null,null,null,null,null,null,null,null,null,null,null,null,null,null,null,null,null,null,null,null,null,null,null,null,null,null,null,null,null,"REVİTAMİN HORSE (2 kg/t), (50-75 g/at, 25-50 g/tay)",100,null,null,null,null,null,null,100,0.48,0.36,25,null,null,null,0.3,12500,3750,15000,12500,50,1500000,0.01,7.4999999999999997E-2,121]
[null,null,null,null,null,null,null,null,null,null,null,null,null,null,null,null,null,null,null,null,null,null,null,null,null,null,null,null,null,null,null,null,null,null,null,null,null,null,null,null,null,null,null,null,null,null,null,null,null,null,null,null,null,null,null,null,null,null,null,null,null,null,"TUZ",100,0,0,0,0,0,0,100,0,0,0,0,39.340000000000003,60.66,0,0,0,0,0,0,null,0,0.1,1.5]