{"text_format":"1","workbook":"xlsx","n_sheets":2,"sheets":["Kanatlı","Rapor"],"not_rendered":{"charts":0,"images":1,"macros":1,"external_links":0,"defined_names":665,"comments":1,"pivot_tables":0},"unopened":[],"bounds":{"document_bytes":16777216,"sheet_cells":100000,"rows_first":2000,"rows_last":500,"rows_between":2000,"halvings":0,"cell_chars":16384,"cell_head_chars":4096},"cells_cut":0,"cells_raw":0,"read":"whole","date_system":"1900"}

{"sheet":"Kanatlı","index":0,"n_rows":52,"n_cols":82,"rows_kept":52,"cut":false,"hidden":false,"merged":[[3,1,4,1],[3,6,4,6],[3,7,3,8],[3,4,3,5],[0,3,0,4],[0,6,0,7],[0,9,0,10],[1,3,1,8],[1,13,3,16],[51,12,53,12],[4,13,4,16],[22,6,22,7],[3,9,4,9],[3,10,4,10],[11,13,13,18]]}
[null,"KANATLILAR İÇİN EN DÜŞÜK","Türü :","TAVUK",null,"Tavuk tipi:","YUMURTACI TİCARİ",null,null,{"$f":"TODAY()","v":"2025-08-18"},null,"   Coşkun & İnal & İnal",null,null,null,null,null,null,null,null,null,null,null,null,null,null,null,null,null,null,null,null,null,null,null,null,null,null,null,null,null,null,null,null,null,null,null,null,null,null,null,null,null,null,null,null,null,null,null,null,null,null,null,null,null,null,null,null,null,null,null,null,null,null,null,null,null,null,null,null,null,1000]
[null,"MALİYETLİ RASYON PROGRAMI","Tipi :","ATABEY BEYAZ, PİLİÇ BÜYÜTME (4-10 hf)",null,null,null,null,null,null,null,null,null,"Selçuk Üniversitesi Veteriner Fakültesi Rasyon Hazırlama Programları"]
[null,null,"MİKTAR","Fiyat"]
[null,"VERİLECEK YEMLER",{"$f":"IF(C5<99.99999,\"EKSİK\",IF(C5>100.00001,\"FAZLA\",\"TAMAM\"))","v":"TAMAM"},"₺/kg","Yem sınırları",null,"BESİN MAD.","İHTİYAÇLAR",null,"RASYON","SONUÇ"]
[null,null,{"$f":"SUM(Rapor!BK4:BK29)","v":100},{"$f":"(C6*D6+C7*D7+C8*D8+C9*D9+C10*D10+C11*D11+C12*D12+C13*D13+C14*D14+C15*D15+C16*D16+C17*D17+C18*D18+C19*D19+C20*D20+C21*D21+C22*D22+C23*D23+C24*D24+C25*D25+C26*D26+C27*D27+C28*D28+C29*D29+C30*D30+C31*D31)/100","v":11.555353100980055},"En az","En çok",null,"En az","En çok",null,null,null,null,"Fİ & Şİ & BC"]
[1,"MISIR, SARI",47.780456902586188,8.5,0,70,{"$f":"Rapor!G6","v":"KM,%"},null,null,{"$f":"Rapor!J6","v":89.208695160831837},null,null,null,null,null,null,null,null,null,null,null,null,null,null,null,null,null,null,null,null,null,null,null,null,null,null,null,null,null,null,null,null,null,null,null,null,null,null,null,null,null,null,null,null,null,null,null,null,null,null,null,null,null,null,null,null,null,null,null,null,null,null,null,null,null,null,null,null,null,64.29817782659515,0,0]
[1,"BUĞDAY,SERT,KIRMIZI,KIŞLIK",16.400309376121385,10.5,0,60,{"$f":"Rapor!G7","v":"HP,%"},18,18,{"$f":"Rapor!J7","v":18.037799989147857},{"$f":"Rapor!K7","v":"TAMAM"},null,null,null,null,null,null,null,null,null,null,null,null,null,null,null,null,null,null,null,null,null,null,null,null,null,null,null,null,null,null,null,null,null,null,null,null,null,null,null,null,null,null,null,null,null,null,null,null,null,null,null,null,null,null,null,null,null,null,null,null,null,null,null,null,null,null,null,null,0,0,0]
[1,"BUĞDAY KEPEĞİ,RAZMOL",10,9,0,10,{"$f":"Rapor!G8","v":"ME,kcal/kg"},2800,2800,{"$f":"Rapor!J8","v":2800.0839958485826},{"$f":"Rapor!K8","v":"TAMAM"},null,null,null,null,null,null,null,null,null,null,null,null,null,null,null,null,null,null,null,null,null,null,null,null,null,null,null,null,null,null,null,null,null,null,null,null,null,null,null,null,null,null,null,null,null,null,null,null,null,null,null,null,null,null,null,null,null,null,null,null,null,null,null,null,null,null,null,null,0,0,0]
[1,"BİTKİSEL YAĞ",1.3164199415381654E-6,50,0,10,{"$f":"Rapor!G9","v":"Ca,%"},1,1,{"$f":"Rapor!J9","v":1.0029999995473897},{"$f":"Rapor!K9","v":"TAMAM"},null,null,null,null,null,null,null,null,null,null,null,null,null,null,null,null,null,null,null,null,null,null,null,null,null,null,null,null,null,null,null,null,null,null,null,null,null,null,null,null,null,null,null,null,null,null,null,null,null,null,null,null,null,null,null,null,null,null,null,null,null,null,null,null,null,null,null,null,0,0,0]
[2,"SOYA KÜSPESİ, %46",13.139597327911934,18,0,40,{"$f":"Rapor!G10","v":"Kul.P,%"},0.45,0.45,{"$f":"Rapor!J10","v":0.4486500008526576},{"$f":"Rapor!K10","v":"TAMAM"},null,null,null,null,null,null,null,null,null,null,null,null,null,null,null,null,null,null,null,null,null,null,null,null,null,null,null,null,null,null,null,null,null,null,null,null,null,null,null,null,null,null,null,null,null,null,null,null,null,null,null,null,null,null,null,null,null,null,null,null,null,null,null,null,null,null,null,null,22.285604291282532,0,0]
[2,"SOYA KÜSPESİ, %51",6.6227824087799778,20,0,40,{"$f":"Rapor!G11","v":"Na,%"},0.16,0.21333333333333335,{"$f":"Rapor!J11","v":0.15952000135110092},{"$f":"Rapor!K11","v":"TAMAM"},null,"Hayvanın TÜRÜ :",{"$f":"CONCATENATE(KanatTuru,IF(KanatTuru=\"TAVUK\",\",   \"&TavukTipi,\"\"))","v":"TAVUK,   YUMURTACI TİCARİ"},null,null,null,null,null,null,null,null,null,null,null,null,null,null,null,null,null,null,null,null,null,null,null,null,null,null,null,null,null,null,null,null,null,null,null,null,null,null,null,null,null,null,null,null,null,null,null,null,null,null,null,null,null,null,null,null,null,null,null,null,null,null,null,null,null,9,0,0]
[2,"AYÇİÇEĞİ KÜSPESİ, %23HP",2.1107231109609779,11,0,15,{"$f":"Rapor!G12","v":"Cl"},0.15,0.2,{"$f":"Rapor!J12","v":0.22565450163415365},{"$f":"Rapor!K12","v":"FAZLA"},null,"Hayvanın TİPİ :",{"$f":"IF(KanatTipi=\"\",\"\",KanatTipi)","v":"ATABEY BEYAZ, PİLİÇ BÜYÜTME (4-10 hf)"},null,null,null,null,null,null,null,null,null,null,null,null,null,null,null,null,null,null,null,null,null,null,null,null,null,null,null,null,null,null,null,null,null,null,null,null,null,null,null,null,null,null,null,null,null,null,null,null,null,null,null,null,null,null,null,null,null,null,null,null,null,null,null,null,null,2.8313907148680375,0,0]
[3,"DİKALSİYUM FOSFAT",1.7648822732359963,35,0,4,{"$f":"Rapor!G13","v":"Met+Sis,%"},0.7,0.7,{"$f":"Rapor!J13","v":0.70280000055197922},{"$f":"Rapor!K13","v":"TAMAM"},null,null,null,null,null,null,null,null,null,null,null,null,null,null,null,null,null,null,null,null,null,null,null,null,null,null,null,null,null,null,null,null,null,null,null,null,null,null,null,null,null,null,null,null,null,null,null,null,null,null,null,null,null,null,null,null,null,null,null,null,null,null,null,null,null,null,null,null,0.67804718981066303,0,0]
[3,"MERMER TOZU",1.3121932513614742,2,0,10,{"$f":"Rapor!G14","v":"Lizin,%"},1,1,{"$f":"Rapor!J14","v":0.99599999717210252},{"$f":"Rapor!K14","v":"TAMAM"},null,null,null,null,null,null,null,null,null,null,null,null,null,null,null,null,null,null,null,null,null,null,null,null,null,null,null,null,null,null,null,null,null,null,null,null,null,null,null,null,null,null,null,null,null,null,null,null,null,null,null,null,null,null,null,null,null,null,null,null,null,null,null,null,null,null,null,null,0.25,0,0]
[3,"TUZ",0.30484957366522464,1.5,0,0.7,{"$f":"Rapor!G15","v":"Treonin,%"},0.65,0.65,{"$f":"Rapor!J15","v":0.65259999915460598},{"$f":"Rapor!K15","v":"TAMAM"},null,null,null,null,null,null,null,null,null,null,null,null,null,null,null,null,null,null,null,null,null,null,null,null,null,null,null,null,null,null,null,null,null,null,null,null,null,null,null,null,null,null,null,null,null,null,null,null,null,null,null,null,null,null,null,null,null,null,null,null,null,null,null,null,null,null,null,null,0.22338607491140852,0,0]
[3,"VİTAMİN-MİNERAL KARMASI",0.25,25,0.25,0.25,{"$f":"Rapor!G16","v":"Triptofan,%"},0.18,0.18,{"$f":"Rapor!J16","v":0.2356881290262885},{"$f":"Rapor!K16","v":"FAZLA"},null,null,null,null,null,null,null,null,null,null,null,null,null,null,null,null,null,null,null,null,null,null,null,null,null,null,null,null,null,null,null,null,null,null,null,null,null,null,null,null,null,null,null,null,null,null,null,null,null,null,null,null,null,null,null,null,null,null,null,null,null,null,null,null,null,null,null,null,0.15864675831405695,0,0]
[3,"L-LİZİN hidroklorid",0.17475378360776825,65,0,0.5,{"$f":"Rapor!G17","v":"Linoleik a.,%"},1.25,null,{"$f":"Rapor!J17","v":1.2462499970828071},{"$f":"Rapor!K17","v":"TAMAM"},null,null,null,null,null,null,null,null,null,null,null,null,null,null,null,null,null,null,null,null,null,null,null,null,null,null,null,null,null,null,null,null,null,null,null,null,null,null,null,null,null,null,null,null,null,null,null,null,null,null,null,null,null,null,null,null,null,null,null,null,null,null,null,null,null,null,null,null,0.12900629112587894,0,0]
[3,"DL-METHİONİN",0.11539575597031049,95,0,0.5,{"$f":"Rapor!G18","v":"HY,%"},null,null,{"$f":"Rapor!J18","v":2.1617492953201105},null,null,null,null,null,null,null,null,null,null,null,null,null,null,null,null,null,null,null,null,null,null,null,null,null,null,null,null,null,null,null,null,null,null,null,null,null,null,null,null,null,null,null,null,null,null,null,null,null,null,null,null,null,null,null,null,null,null,null,null,null,null,null,null,null,null,null,null,null,8.279492164433909E-2,0,0]
[3,"L-TREONİN",2.4054919378807719E-2,66,0,0.5,{"$f":"Rapor!G19","v":"HK,%"},null,null,{"$f":"Rapor!J19","v":6.2067383858731109},null,null,null,null,null,null,null,null,null,null,null,null,null,null,null,null,null,null,null,null,null,null,null,null,null,null,null,null,null,null,null,null,null,null,null,null,null,null,null,null,null,null,null,null,null,null,null,null,null,null,null,null,null,null,null,null,null,null,null,null,null,null,null,null,null,null,null,null,null,6.2945931447908679E-2,0,0]
[3,"L-TRİPTOFAN",0,66,0,0.5,{"$f":"Rapor!G20","v":"HS,%"},null,null,{"$f":"Rapor!J20","v":3.6218007018966967},null,null,null,null,null,null,null,null,null,null,null,null,null,null,null,null,null,null,null,null,null,null,null,null,null,null,null,null,null,null,null,null,null,null,null,null,null,null,null,null,null,null,null,null,null,null,null,null,null,null,null,null,null,null,null,null,null,null,null,null,null,null,null,null,null,null,null,null,null,0,0,0]
[null,null,0,null,0,0,{"$f":"Rapor!G21","v":"Nişasta,%"},null,null,{"$f":"Rapor!J21","v":44.808777020909481},null,null,"Yem maddesi","%","Mikser",null,null,null,null,null,null,null,null,null,null,null,null,null,null,null,null,null,null,null,null,null,null,null,null,null,null,null,null,null,null,null,null,null,null,null,null,null,null,null,null,null,null,null,null,null,null,null,null,null,null,null,null,null,null,null,null,null,null,null,null,null,null,null,null,0,0,0]
[null,null,0,null,0,0,{"$f":"Rapor!G22","v":"Şeker,%"},null,null,{"$f":"Rapor!J22","v":3.6434463130756645},null,null,"MISIR, SARI",64.29817782659515,null,null,null,null,null,null,null,null,null,null,null,null,null,null,null,null,null,null,null,null,null,null,null,null,null,null,null,null,null,null,null,null,null,null,null,null,null,null,null,null,null,null,null,null,null,null,null,null,null,null,null,null,null,null,null,null,null,null,null,null,null,null,null,null,null,0,0,0]
[null,null,0,null,0,0,"Elektrolit Denge, mEq/kg KM",null,null,{"$f":"Rapor!J23","v":219.73152228290624},null,null,"SOYA KÜSPESİ, %48",22.285604291282532,null,"Besin Mad.","İhtiyaç","Rasyon","Sonuç",null,null,null,null,null,null,null,null,null,null,null,null,null,null,null,null,null,null,null,null,null,null,null,null,null,null,null,null,null,null,null,null,null,null,null,null,null,null,null,null,null,null,null,null,null,null,null,null,null,null,null,null,null,null,null,null,null,null,null,null,0,0,0]
[null,null,0,null,0,0,null,null,null,null,null,null,"BALIK UNU, HAMSİ, %64 HP",9,null,{"$f":"Rapor!G6","v":"KM,%"},null,89.692621655120846,null,null,null,null,null,null,null,null,null,null,null,null,null,null,null,null,null,null,null,null,null,null,null,null,null,null,null,null,null,null,null,null,null,null,null,null,null,null,null,null,null,null,null,null,null,null,null,null,null,null,null,null,null,null,null,null,null,null,null,null,null,0,0,0]
[null,null,0,null,0,0,null,null,null,null,null,null,"AYÇİÇEĞİ KÜSPESİ, %32 HP",2.8313907148680375,null,{"$f":"Rapor!G7","v":"HP,%"},23,22.951699999819837,"TAMAM",null,null,null,null,null,null,null,null,null,null,null,null,null,null,null,null,null,null,null,null,null,null,null,null,null,null,null,null,null,null,null,null,null,null,null,null,null,null,null,null,null,null,null,null,null,null,null,null,null,null,null,null,null,null,null,null,null,null,null,null,0,0,0]
[null,null,0,null,0,0,null,null,null,null,null,null,"KİREÇ TAŞI",0.67804718981066303,null,{"$f":"Rapor!G8","v":"ME,kcal/kg"},3000,2999.9099999775558,"TAMAM",null,null,null,null,null,null,null,null,null,null,null,null,null,null,null,null,null,null,null,null,null,null,null,null,null,null,null,null,null,null,null,null,null,null,null,null,null,null,null,null,null,null,null,null,null,null,null,null,null,null,null,null,null,null,null,null,null,null,null,null,0,0,0]
[null,null,0,null,0,0,null,null,null,null,null,null,"VİTAMİN-MİNERAL KARMASI",0.25,null,{"$f":"Rapor!G9","v":"Ca,%"},0.96,0.96288000000116436,"TAMAM",null,null,null,null,null,null,null,null,null,null,null,null,null,null,null,null,null,null,null,null,null,null,null,null,null,null,null,null,null,null,null,null,null,null,null,null,null,null,null,null,null,null,null,null,null,null,null,null,null,null,null,null,null,null,null,null,null,null,null,null,0,0,0]
[null,null,0,null,0,0,null,null,null,null,null,null,"TUZ",0.22338607491140852,null,{"$f":"Rapor!G10","v":"Kul.P,%"},0.48,0.47855999998671395,"TAMAM",null,null,null,null,null,null,null,null,null,null,null,null,null,null,null,null,null,null,null,null,null,null,null,null,null,null,null,null,null,null,null,null,null,null,null,null,null,null,null,null,null,null,null,null,null,null,null,null,null,null,null,null,null,null,null,null,null,null,null,null,0,0,0]
[null,null,0,null,0,0,null,null,null,null,null,null,"DİKALSİYUM FOSFAT",0.15864675831405695,null,{"$f":"Rapor!G11","v":"Na,%"},0.16,0.15952000000603944,"TAMAM",null,null,null,null,null,null,null,null,null,null,null,null,null,null,null,null,null,null,null,null,null,null,null,null,null,null,null,null,null,null,null,null,null,null,null,null,null,null,null,null,null,null,null,null,null,null,null,null,null,null,null,null,null,null,null,null,null,null,null,null,0,0,0]
[null,null,0,null,0,0,null,null,null,null,null,null,"L-LİZİN hidroklorid",0.12900629112587894,null,{"$f":"Rapor!G12","v":"Cl"},0.16,0.2237322862450033,"TAMAM",null,null,null,null,null,null,null,null,null,null,null,null,null,null,null,null,null,null,null,null,null,null,null,null,null,null,null,null,null,null,null,null,null,null,null,null,null,null,null,null,null,null,null,null,null,null,null,null,null,null,null,null,null,null,null,null,null,null,null,null,0,0,0]
[null,null,0,null,0,0,null,null,null,null,null,null,"DL-METHİONİN",8.279492164433909E-2,null,{"$f":"Rapor!G13","v":"Met+Sis,%"},0.95,0.94619999998021354,"TAMAM",null,null,null,null,null,null,null,null,null,null,null,null,null,null,null,null,null,null,null,null,null,null,null,null,null,null,null,null,null,null,null,null,null,null,null,null,null,null,null,null,null,null,null,null,null,null,null,null,null,null,null,null,null,null,null,null,null,null,null,null,0,0,0]
[null,null,null,null,null,null,null,null,null,null,null,null,"L-TREONİN",6.2945931447908679E-2,null,{"$f":"Rapor!G14","v":"Lizin,%"},1.44,1.4342400000096427,"TAMAM"]
[null,null,null,null,null,null,null,null,null,null,null,null,null,null,null,{"$f":"Rapor!G15","v":"Treonin,%"},0.97,0.96611999999790044,"TAMAM"]
[null,null,null,null,null,null,null,null,null,null,null,null,null,null,null,{"$f":"Rapor!G16","v":"Triptofan,%"},0.23,0.26645166316794638,"FAZLA"]
[null,null,null,null,null,null,null,null,null,null,null,null,null,null,null,{"$f":"Rapor!G18","v":"HY,%"}]
[null,null,null,null,null,null,null,null,null,null,null,null,null,null,null,{"$f":"Rapor!G17","v":"Linoleik a.,%"}]
[null,null,null,null,null,null,null,null,null,null,null,null,null,null,null,{"$f":"Rapor!G19","v":"HK,%"}]
[null,null,null,null,null,null,null,null,null,null,null,null,null,null,null,{"$f":"Rapor!G20","v":"HS,%"}]
[null,null,null,null,null,null,null,null,null,null,null,null,null,null,null,{"$f":"Rapor!G21","v":"Nişasta,%"}]
[null,null,null,null,null,null,null,null,null,null,null,null,null,null,null,{"$f":"Rapor!G22","v":"Şeker,%"}]
[]
[]
[]
[null,null,null,null,null,null,null,null,null,null,null,null,null,null,null,null,null,"29.05.2015"]
[null,null,null,null,null,null,null,null,null,null,null,null,null,null,null,null,null,"Hazırlayan"]
[null,null,null,null,null,null,null,null,null,null,null,null,null,null,null,null,null,"FATMA İNAL"]
[]
[null,null,null,null,null,null,null,null,null,null,null,null,"Toplam",99.999999999999986,{"$f":"SUM(O22:O47)","v":0}]
[]
[]
[null,null,null,null,null,null,null,null,null,null,null,null,"Kurum Adı"]
[null,null,null,null,null,null,null,null,null,null,null,null,"S.Ü. VETERİNER FAKÜLTESİ"]

{"sheet":"Rapor","index":1,"n_rows":481,"n_cols":169,"rows_kept":481,"cut":false,"hidden":false,"merged":[[0,164,0,165],[0,162,0,163],[0,166,0,167],[3,1,4,1],[0,140,0,141],[0,131,0,132],[0,133,0,134],[0,135,0,136],[3,9,4,9],[0,9,0,10],[0,138,0,139],[3,4,3,5],[0,3,0,4],[0,6,0,7],[3,10,4,10],[1,3,1,8],[0,158,0,159],[0,152,0,153],[0,160,0,161],[0,156,0,157],[0,154,0,155],[22,6,22,7],[3,7,3,8],[3,6,4,6],[0,150,0,151],[0,142,0,143],[0,144,0,145],[0,146,0,147],[0,148,0,149]]}
[null,"KANATLI RASYON PROGRAMI",null,null,null,null,null,null,{"$f":"TODAY()","v":45887},null,null,null,null,null,null,null,null,null,null,null,null,null,null,null,null,null,null,null,null,null,null,null,null,null,null,null,null,null,null,null,null,null,null,null,null,null,null,null,null,null,null,null,null,null,null,null,null,null,null,null,null,null,null,null,null,null,null,null,null,null,null,null,null,null,null,null,null,null,null,null,null,null,null,null,null,null,null,null,null,null,null,null,null,null,null,null,null,null,null,null,null,null,null,null,null,null,null,null,null,null,null,null,null,null,null,null,null,null,null,null,null,null,null,null,null,null,null,null,"Seçilen Yemler",null,"HAYVAN TÜRLERİ ve TİPLERİ","HP",null,"ME",null,"Ca",null,"P","Kul.P",null,"Na ",null,"Cl",null,"Metionin",null,"Sin.Metionin",null,"Met+Sis",null,"Sin.Met+Sis.",null,"Lizin",null,"Sin.Lizin",null,"Treonin",null,"Sin.Treonin",null,"Triptofan",null,"Sin.Triptofan",null,"Arginin",null,"Sin.Arginin",null,"Linoleik"]
[null,null,null,null,null,null,null,null,null,null,null,null,null,"RASYON KAYIT",1,{"$f":"O2+1","v":2},{"$f":"P2+1","v":3},4,5,6,7,8,9,10,11,12,13,14,15,{"$f":"AC2+1","v":16},17,18,19,20,21,22,{"$f":"AJ2+1","v":23},24,25,26,27,28,null,null,null,null,"Tolerans","SONUÇ","0-0","0-1","1-0","1=1","1-1","0-0","0-1","1-0","1=1","1-1","min","max",null,null,null,"HESAPLAMA TABLOSU",2,3,4,5,6,7,8,9,10,11,12,13,14,15,16,17,18,19,20,21,22,23,24,25,26,27,28,29,30,31,32,33,34,35,36,37,38,39,40,41,42,43,44,45,46,47,48,49,50,51,null,null,null,null,null,null,null,null,null,null,null,null,null,null,"Toplu yem seçimi için kullanılır",null,"TAVUK"]
[null,null,null,"Fiyat",null,null,null,null,null,null,null,null,null,"Rasyonun Adı :",null,null,null,null,null,null,null,null,null,null,null,null,null,null,null,null,null,null,null,null,null,null,null,null,null,null,null,null,"Rasyonlar","Adresleri",null,{"$f":"G7","v":"HP,%"},1,{"$f":"IF(AW3=1,BB3,IF(AX3=1,BC3,IF(AY3=1,BD3,IF(AZ3=1,BE3,IF(BA3=1,BF3,\"\")))))","v":"TAMAM"},{"$f":"IF(AND(H7=0,I7=0)=TRUE,1,0)","v":0},{"$f":"IF(AND(H7=0,I7>0)=TRUE,1,0)","v":0},{"$f":"IF(AND(H7>0,I7=0)=TRUE,1,0)","v":0},{"$f":"IF(AND(H7>0,H7=I7)=TRUE,1,0)","v":1},{"$f":"IF(AND(H7>0,I7>0)=TRUE,1,0)","v":1},{"$f":"\"\"","v":""},{"$f":"IF(J7>I7*1.0022,\"FAZLA\",\"TAMAM\")","v":"TAMAM"},{"$f":"IF(J7<H7*0.997,\"EKSİK\",\"TAMAM\")","v":"TAMAM"},{"$f":"IF(J7<H7*0.997,\"EKSİK\",IF(J7>I7*1.0022,\"FAZLA\",\"TAMAM\"))","v":"TAMAM"},{"$f":"IF(J7<H7*0.997,\"EKSİK\",IF(J7>I7*1.0022,\"FAZLA\",\"TAMAM\"))","v":"TAMAM"},{"$f":"IF(AW3=1,0,IF(AX3=1,I7,IF(AY3=1,H7,IF(AZ3=1,H7,IF(BA3=1,H7,0)))))","v":18},{"$f":"IF(AW3=1,0,IF(AX3=1,I7,IF(AY3=1,H7*1.05,IF(AZ3=1,I7,IF(BA3=1,I7,\"\")))))*1.0022","v":18.0396},null,null,"Miktar","YEMLER","KM","HP","ME","Ca","Top.P","Kul.P","K","Na","Cl","Metionin","Sistin","Met+Sis","Sin.Met+Sis","Lizin","Sin.Lizin","Treonin","Triptofan","Arjinin","İzolöysin","Löysin","Fenilalanin","Tirozin","HY","Linoleik","HS","HK","Nişasta","Şeker","NDF","ADF","Mg","S","Co","Cu","I","Fe","Mn","Se","Zn","Mo","Vit A,1000 IU/kg ","Vit D,1000 IU/kg ","Vit E,IU/kg","Sin.Met.","Sin.Treonin","Sin.Triptofan","Sin.Arjinin","Fiat,TL","Enaz","Ençok",null,null,null,null,null,null,null,null,null,null,null,null,null,null,null,null,"TAVUK-ETÇİ TİP-DAMIZLIK"]
[null,"VERİLECEK YEMLER",null,"₺/kg","Yemler için",null,"BESİN MAD.","İHTİYAÇLAR",null,"RASYON","SONUÇ",null,null,"Hazırlandığı tarih",null,null,null,null,null,null,null,null,null,null,null,null,null,null,null,null,null,null,null,null,null,null,null,null,null,null,null,null,null,"O",null,"ME,kcal/kg",0.5,"TAMAM",0,0,0,1,1,{"$f":"\"\"","v":""},{"$f":"IF(J8>I8*1.0006,\"FAZLA\",\"TAMAM\")","v":"TAMAM"},{"$f":"IF(J8<H8*0.999,\"EKSİK\",\"TAMAM\")","v":"TAMAM"},{"$f":"IF(J8<H8*0.999,\"EKSİK\",IF(J8>I8*1.0006,\"FAZLA\",\"TAMAM\"))","v":"TAMAM"},{"$f":"IF(J8<H8*0.999,\"EKSİK\",IF(J8>I8*1.0006,\"FAZLA\",\"TAMAM\"))","v":"TAMAM"},{"$f":"IF(AW4=1,0,IF(AX4=1,I8,IF(AY4=1,H8,IF(AZ4=1,H8,IF(BA4=1,H8,0)))))","v":2800},{"$f":"IF(AW4=1,0,IF(AX4=1,I8,IF(AY4=1,H8*1.05,IF(AZ4=1,I8,IF(BA4=1,I8,\"\")))))*1.0005","v":2801.3999999999996},null,null,{"$f":"IF(B6=0,0,C6)","v":47.780456902586188},{"$f":"IF(B6=0,0,IF(C6<=0,0,B6))","v":"MISIR, SARI"},{"$f":"IF($BL4=0,0,VLOOKUP($BL4,$BL$61:$DJ$367,BM$2,FALSE))","v":89},8.5,3350,0.02,0.28000000000000003,0.08,0.3,0.02,0.04,0.18,{"$f":"IF($BL4=0,0,VLOOKUP($BL4,$BL$61:$DJ$367,BW$2,FALSE))","v":0.18},0.36,0.31679999999999997,0.26,0.21060000000000001,0.28999999999999998,0.06,0.38,0.28999999999999998,1,{"$f":"IF($BL4=0,0,VLOOKUP($BL4,$BL$61:$DJ$367,CG$2,FALSE))","v":0.38},0.3,2.5,1.82,2.2000000000000002,1.35,65,2.1,8.3694999999999986,2.9953999999999996,{"$f":"IF($BL4=0,0,VLOOKUP($BL4,$BL$61:$DJ$367,CQ$2,FALSE))","v":0.10571999999999999},8.8100000000000012E-2,0,2.6429999999999993,0,47.573999999999998,9.6909999999999989,6.1669999999999996E-2,23.786999999999999,0.70480000000000009,{"$f":"IF($BL4=0,0,VLOOKUP($BL4,$BL$61:$DJ$367,DA$2,FALSE))","v":0},0,0,0.1467,0.24069999999999997,4.4999999999999998E-2,0.33440000000000003,8.5,0,70]
[null,null,"MİKTAR",{"$f":"Kanatlı!D5","v":11.555353100980055},"En az","En çok",null,"en az","en çok",null,null,null,null,"Hazırlayanın Adı soyadı :",null,null,null,null,null,null,null,null,null,null,null,null,null,null,null,null,null,null,null,null,null,null,null,null,null,null,null,null,null,"P",null,"Ca,%",1,"TAMAM",0,0,0,1,1,{"$f":"\"\"","v":""},{"$f":"IF(J9>I9*1.0031,\"FAZLA\",\"TAMAM\")","v":"TAMAM"},{"$f":"IF(J9<H9*0.9989,\"EKSİK\",\"TAMAM\")","v":"TAMAM"},{"$f":"IF(J9<H9*0.9989,\"EKSİK\",IF(J9>I9*1.0031,\"FAZLA\",\"TAMAM\"))","v":"TAMAM"},{"$f":"IF(J9<H9*0.9989,\"EKSİK\",IF(J9>I9*1.0031,\"FAZLA\",\"TAMAM\"))","v":"TAMAM"},{"$f":"IF(AW5=1,0,IF(AX5=1,I9,IF(AY5=1,H9,IF(AZ5=1,H9,IF(BA5=1,H9,0)))))*0.9989","v":0.99890000000000001},{"$f":"IF(AW5=1,0,IF(AX5=1,I9,IF(AY5=1,H9*1.05,IF(AZ5=1,I9,IF(BA5=1,I9,\"\")))))*1.0031","v":1.0031000000000001},null,null,16.400309376121385,"BUĞDAY,SERT,KIRMIZI,KIŞLIK",87,14.1,2900,0.05,0.37,0.13,0.45,0.04,0.05,0.21,0.3,0.51,0.44369999999999998,0.37,0.29970000000000002,0.39,0.16,0.6,0.44,0.89,0.6,0.43,2.5,0.59,3,1.78,65,3.1,11.9796,3.9336000000000007,0.1341,0.1341,0,4.47,0,64.367999999999995,37.548000000000002,0.25032000000000004,35.76,1.1622000000000001,0,0,0,0.17114999999999997,0.32369999999999999,0.12,0.52800000000000002,10.5,0,60,null,null,null,null,null,null,null,null,null,null,null,null,null,null,null,null,"COBB 500 FF DAMIZLIK, ÖN BAŞLANGIÇ (0-2 hf)",20,{"$f":"EB5","v":20},2868,{"$f":"ED5","v":2868},1,{"$f":"EF5","v":1},null,0.45,{"$f":"EI5","v":0.45},0.18,0.2,0.18,0.24,0.55000000000000004,{"$f":"EO5","v":0.55000000000000004},0.49,{"$f":"EQ5","v":0.49},0.94,{"$f":"ES5","v":0.94},0.84,{"$f":"EU5","v":0.84},1.25,{"$f":"EW5","v":1.25},1.1200000000000001,{"$f":"EY5","v":1.1200000000000001},0.88,{"$f":"FA5","v":0.88},0.78,{"$f":"FC5","v":0.78},0.28000000000000003,{"$f":"FE5","v":0.28000000000000003},0.25,{"$f":"FG5","v":0.25},1.31,{"$f":"FI5","v":1.31},1.18,{"$f":"FK5","v":1.18},1.25]
[{"$f":"Kanatlı!A6","v":1},{"$f":"Kanatlı!B6","v":"MISIR, SARI"},{"$f":"Kanatlı!C6","v":47.780456902586188},37,{"$f":"Kanatlı!E6","v":0},{"$f":"Kanatlı!F6","v":70},"KM,%",null,null,{"$f":"BM31","v":89.208695160831837},null,null,null,"Hayvan sahibinin adı soyadı :",null,null,null,null,null,null,null,null,null,null,null,null,null,null,null,null,null,null,null,null,null,null,null,null,null,null,null,null,null,"Q",null,"Kul.P,%",1,"TAMAM",0,0,0,1,1,{"$f":"\"\"","v":""},{"$f":"IF(J10>I10*1.031,\"FAZLA\",\"TAMAM\")","v":"TAMAM"},{"$f":"IF(J10<H10*0.9969,\"EKSİK\",\"TAMAM\")","v":"TAMAM"},{"$f":"IF(J10<H10*0.9969,\"EKSİK\",IF(J10>I10*1.031,\"FAZLA\",\"TAMAM\"))","v":"TAMAM"},{"$f":"IF(J10<H10*0.9969,\"EKSİK\",IF(J10>I10*1.031,\"FAZLA\",\"TAMAM\"))","v":"TAMAM"},{"$f":"IF(AW6=1,0,IF(AX6=1,I10,IF(AY6=1,H10,IF(AZ6=1,H10,IF(BA6=1,H10,0)))))*0.9969","v":0.44860500000000003},{"$f":"IF(AW6=1,0,IF(AX6=1,I10,IF(AY6=1,H10*1.05,IF(AZ6=1,I10,IF(BA6=1,I10,\"\")))))*1.0031","v":0.45139500000000005},null,null,10,"BUĞDAY KEPEĞİ,RAZMOL",88,15,2000,0.12,0.85,0.45,0.99,0.12,0.03,0.21,0.32,0.2,0.15,0.61,0.42,0.34,0.31,0.85,0.57999999999999996,1.07,0.64,0.45,3,1.87,7.5,4.4749999999999996,18,4,32.846499999999999,10.829500000000001,0.37589999999999996,0.16109999999999999,0,8.9499999999999993,0,141.41,111.875,0.41170000000000001,81.444999999999993,2.2374999999999998,0,0,0,0.17114999999999997,0.28000000000000003,0.24,0.79,9,0,10,null,null,null,null,null,null,null,null,null,null,null,null,null,null,null,null,"COBB 500 FF DAMIZLIK, BAŞLANGIÇ (0-4 hf)",18.54,{"$f":"EB6","v":18.54},2796,{"$f":"ED6","v":2796},1,{"$f":"EF6","v":1},null,0.45,{"$f":"EI6","v":0.45},0.18,0.2,0.18,0.24,0.44,{"$f":"EO6","v":0.44},0.4,0.4,0.75,0.75,0.68,0.68,1,1,0.9,0.9,0.7,0.7,0.63,0.63,0.22,0.22,0.2,0.2,1.05,1.05,0.95,0.95,1.22]
[{"$f":"Kanatlı!A7","v":1},{"$f":"Kanatlı!B7","v":"BUĞDAY,SERT,KIRMIZI,KIŞLIK"},{"$f":"Kanatlı!C7","v":16.400309376121385},{"$f":"Kanatlı!D7","v":10.5},{"$f":"Kanatlı!E7","v":0},{"$f":"Kanatlı!F7","v":60},{"$f":"BN32","v":"HP,%"},{"$f":"Kanatlı!H7","v":18},{"$f":"Kanatlı!I7","v":18},{"$f":"BN31","v":18.037799989147857},{"$f":"AV3","v":"TAMAM"},null,null,"Adresi :",null,null,null,null,null,null,null,null,null,null,null,null,null,null,null,null,null,null,null,null,null,null,null,null,null,null,null,null,null,"R",null,"Na,%",1,"TAMAM",0,0,0,0,1,{"$f":"\"\"","v":""},{"$f":"IF(J11>I11*1.0031,\"FAZLA\",\"TAMAM\")","v":"TAMAM"},{"$f":"IF(J11<H11*0.9969,\"EKSİK\",\"TAMAM\")","v":"TAMAM"},{"$f":"IF(J11<H11*0.9969,\"EKSİK\",IF(J11>I11*1.0031,\"FAZLA\",\"TAMAM\"))","v":"TAMAM"},{"$f":"IF(J11<H11*0.9969,\"EKSİK\",IF(J11>I11*1.0031,\"FAZLA\",\"TAMAM\"))","v":"TAMAM"},{"$f":"IF(AW7=1,0,IF(AX7=1,I11,IF(AY7=1,H11,IF(AZ7=1,H11,IF(BA7=1,H11,0)))))*0.9969","v":0.15950400000000001},{"$f":"IF(AW7=1,0,IF(AX7=1,I11,IF(AY7=1,H11*1.05,IF(AZ7=1,I11,IF(BA7=1,I11,\"\")))))*1.0031","v":0.21399466666666669},null,null,1.3164199415381654E-6,"BİTKİSEL YAĞ",99,0,9250,0,0,0,0,0,0,0,0,0,0,0,0,0,0,0,0,0,0,0,98.7,51,0,0,0,0,0,0,0,0,0,0,0,0,0,0,0,0,0,0,0,0,0,0,0,50,0,10,null,null,null,null,null,null,null,null,null,null,null,null,null,null,null,null,"COBB 500 FF DAMIZLIK, BÜYÜTME (5-18 hf)",14.45,14.45,2581,2581,0.99,0.99,null,0.4,0.4,0.18,0.2,0.18,0.24,0.27,0.27,0.22,0.22,0.51,0.51,0.42,0.42,0.59,0.59,0.49,0.49,0.49,0.49,0.41,0.41,0.15,0.15,0.12,0.12,0.59,0.59,0.49,0.49,1.1100000000000001]
[{"$f":"Kanatlı!A8","v":1},{"$f":"Kanatlı!B8","v":"BUĞDAY KEPEĞİ,RAZMOL"},{"$f":"Kanatlı!C8","v":10},{"$f":"Kanatlı!D8","v":9},{"$f":"Kanatlı!E8","v":0},{"$f":"Kanatlı!F8","v":10},{"$f":"BO32","v":"ME,kcal/kg"},{"$f":"Kanatlı!H8","v":2800},{"$f":"Kanatlı!I8","v":2800},{"$f":"BO31","v":2800.0839958485826},"TAMAM",null,null,"Telefonu :",null,null,null,null,null,null,null,null,null,null,null,null,null,null,null,null,null,null,null,null,null,null,null,null,null,null,null,null,null,"S",null,"Cl",1,"FAZLA",0,0,0,0,1,{"$f":"\"\"","v":""},{"$f":"IF(J12>I12*1.1,\"FAZLA\",\"TAMAM\")","v":"FAZLA"},{"$f":"IF(J12<H12*0.9969,\"EKSİK\",\"TAMAM\")","v":"TAMAM"},{"$f":"IF(J12<H12*0.9969,\"EKSİK\",IF(J12>I12*1.1,\"FAZLA\",\"TAMAM\"))","v":"FAZLA"},{"$f":"IF(J12<H12*0.9969,\"EKSİK\",IF(J12>I12*1.1,\"FAZLA\",\"TAMAM\"))","v":"FAZLA"},{"$f":"IF(AW8=1,0,IF(AX8=1,I12,IF(AY8=1,H12,IF(AZ8=1,H12,IF(BA8=1,H12,0)))))*0.9959","v":0.14938499999999999},{"$f":"IF(AW8=1,0,IF(AX8=1,I12,IF(AY8=1,H12*1.05,IF(AZ8=1,I12,IF(BA8=1,I12,\"\")))))*1.0041","v":0.20082},null,null,13.139597327911934,"SOYA KÜSPESİ, %46",90,46,2400,0.27,0.62,0.37,1.98,0.05,0.05,0.67,0.72,1.5,1.2067999999999999,2.96,2.6936,1.87,0.74,3.48,2.12,3.74,2.34,1.95,1,0.47,3.9,6.6,6,8,13.2759,8.91,0.25839000000000001,0.34749000000000002,0,14.255999999999998,0,183.54599999999999,35.64,0.11583,51.67799999999999,5.2569000000000008,0,0,0,0.54605000000000004,1.75,0.53,3.2,18,0,40,null,null,null,null,null,null,null,null,null,null,null,null,null,null,null,null,"COBB 500 FF DAMIZLIK, ÖN DAMIZLIK (19-22 hf)",15.43,15.43,2761,2761,1.45,1.45,null,0.43,0.43,0.15,0.2,0.15,0.24,0.32,0.32,0.27,0.27,0.61,0.61,0.52,0.52,0.72,0.72,0.61,0.61,0.6,0.6,0.51,0.51,0.18,0.18,0.15,0.15,0.72,0.72,0.61,0.61,1.1599999999999999]
[{"$f":"Kanatlı!A9","v":1},{"$f":"Kanatlı!B9","v":"BİTKİSEL YAĞ"},{"$f":"Kanatlı!C9","v":1.3164199415381654E-6},{"$f":"Kanatlı!D9","v":50},{"$f":"Kanatlı!E9","v":0},{"$f":"Kanatlı!F9","v":10},{"$f":"BP32","v":"Ca,%"},{"$f":"Kanatlı!H9","v":1},{"$f":"Kanatlı!I9","v":1},{"$f":"BP31","v":1.0029999995473897},"TAMAM",null,null,"Türü :",null,null,null,null,null,null,null,null,null,null,null,null,null,null,null,null,null,null,null,null,null,null,null,null,null,null,null,null,null,"T",null,"Met+Sis,%",1,"TAMAM",0,0,0,1,1,{"$f":"\"\"","v":""},{"$f":"IF(J13>I13*1.041,\"FAZLA\",\"TAMAM\")","v":"TAMAM"},{"$f":"IF(J13<H13*0.9959,\"EKSİK\",\"TAMAM\")","v":"TAMAM"},{"$f":"IF(J13<H13*0.9959,\"EKSİK\",IF(J13>I13*1.041,\"FAZLA\",\"TAMAM\"))","v":"TAMAM"},{"$f":"IF(J13<H13*0.9959,\"EKSİK\",IF(J13>I13*1.041,\"FAZLA\",\"TAMAM\"))","v":"TAMAM"},0.69712999999999992,0.70286999999999999,null,null,6.6227824087799778,"SOYA KÜSPESİ, %51",90,51,2500,0.27,0.69,0.1,2.2000000000000002,0.01,0.05,0.66,0.77,1.43,1.2385999999999999,3.05,2.7755000000000001,1.88,0.65,3.59,2.42,3.68,2.36,1.96,1.9,0.47,3.4,6.2,6,9,6,4,0.28000000000000003,0.34749000000000002,0,14.255999999999998,0,183.54599999999999,35.64,0.11583,51.67799999999999,5.2569000000000008,0,0,0,0.53790000000000004,1.5,0.52,2.87,20,0,40,null,null,null,null,null,null,null,null,null,null,null,null,null,null,null,null,"COBB 500 FF DAMIZLIK, DAMIZLIK 1 (23-40 hf)",15.43,15.43,2761,2761,2.89,2.89,null,0.43,0.43,0.15,0.2,0.15,0.24,0.34,0.34,0.3,0.3,0.62,0.62,0.55000000000000004,0.55000000000000004,0.72,0.72,0.64,0.64,0.55000000000000004,0.55000000000000004,0.48,0.48,0.18,0.18,0.16,0.16,0.65,0.65,0.56999999999999995,0.56999999999999995,1.25]
[{"$f":"Kanatlı!A10","v":2},{"$f":"Kanatlı!B10","v":"SOYA KÜSPESİ, %46"},{"$f":"Kanatlı!C10","v":13.139597327911934},{"$f":"Kanatlı!D10","v":18},{"$f":"Kanatlı!E10","v":0},{"$f":"Kanatlı!F10","v":40},{"$f":"BR32","v":"Kul.P,%"},{"$f":"Kanatlı!H10","v":0.45},{"$f":"Kanatlı!I10","v":0.45},{"$f":"BR31","v":0.4486500008526576},"TAMAM",null,null,"Tavuk Tipi :",null,null,null,null,null,null,null,null,null,null,null,null,null,null,null,null,null,null,null,null,null,null,null,null,null,null,null,null,null,"U",null,"Lizin,%",1,"TAMAM",0,0,0,1,1,{"$f":"\"\"","v":""},{"$f":"IF(J14>I14*1.041,\"FAZLA\",\"TAMAM\")","v":"TAMAM"},"TAMAM",{"$f":"IF(J14<H14*0.9959,\"EKSİK\",IF(J14>I14*1.041,\"FAZLA\",\"TAMAM\"))","v":"TAMAM"},{"$f":"IF(J14<H14*0.9959,\"EKSİK\",IF(J14>I14*1.041,\"FAZLA\",\"TAMAM\"))","v":"TAMAM"},0.99590000000000001,1.0041,null,null,2.1107231109609779,"AYÇİÇEĞİ KÜSPESİ, %23HP",90,23.3,1415,0.35,0.9,0.14000000000000001,0.96,0.2,0.11,0.5,0.5,1,0.75,1,0.86,1.05,0.45,2.2999999999999998,1,1.6,1.1499999999999999,0,0,0,28,7.7,5,4,37.156599999999997,27.66,0.58086000000000004,0.35958000000000007,0,29.504000000000001,0,274.75600000000003,41.49,0.46100000000000002,81.13600000000001,2.4894000000000003,0,0,0,0.40749999999999997,0.87149999999999994,0.33750000000000002,2.024,11,0,15,null,null,null,null,null,null,null,null,null,null,null,null,null,null,null,null,"COBB 500 FF DAMIZLIK, DAMIZLIK 2 (41 hf-)",14.4,14.4,2749,2749,3.08,3.08,null,0.38,0.38,0.15,0.2,0.15,0.24,0.33,0.33,0.28999999999999998,0.28999999999999998,0.6,0.6,0.53,0.53,0.7,0.7,0.62,0.62,0.53,0.53,0.46,0.46,0.18,0.18,0.15,0.15,0.63,0.63,0.56000000000000005,0.56000000000000005,0.96]
[{"$f":"Kanatlı!A11","v":2},{"$f":"Kanatlı!B11","v":"SOYA KÜSPESİ, %51"},{"$f":"Kanatlı!C11","v":6.6227824087799778},{"$f":"Kanatlı!D11","v":20},{"$f":"Kanatlı!E11","v":0},{"$f":"Kanatlı!F11","v":40},{"$f":"BT32","v":"Na,%"},{"$f":"Kanatlı!H11","v":0.16},{"$f":"Kanatlı!I11","v":0.21333333333333335},{"$f":"BT31","v":0.15952000135110092},"TAMAM",null,null,"Tipi :",null,null,null,null,null,null,null,null,null,null,null,null,null,null,null,null,null,null,null,null,null,null,null,null,null,null,null,null,null,"V",null,"Treonin,%",1,"TAMAM",0,0,0,1,1,{"$f":"\"\"","v":""},{"$f":"IF(J15>I15*1.041,\"FAZLA\",\"TAMAM\")","v":"TAMAM"},{"$f":"IF(J15<H15*0.9959,\"EKSİK\",\"TAMAM\")","v":"TAMAM"},{"$f":"IF(J15<H15*0.9959,\"EKSİK\",IF(J15>I15*1.041,\"FAZLA\",\"TAMAM\"))","v":"TAMAM"},{"$f":"IF(J15<H15*0.9959,\"EKSİK\",IF(J15>I15*1.041,\"FAZLA\",\"TAMAM\"))","v":"TAMAM"},0.64733499999999999,0.65266500000000005,null,null,1.7648822732359963,"DİKALSİYUM FOSFAT",100,0,0,24,18,16.2,0.1,0.06,1.2999999999999999E-2,0,0,0,0,0,0,0,0,0,0,0,0,0,0,0,0,100,0,0,0,0,0,1.1057999999999999,0,0,0,13.968,0,0,0,0,0,0,0,0,0,0,0,35,0,4,null,null,null,null,null,null,null,null,null,null,null,null,null,null,null,null,"COBB 500 FF DAMIZLIK, ERKEK (23 hf-)",12.97,12.97,2749,2749,0.9,0.9,null,0.45,0.45,0.15,0.2,0.15,0.24,0.24,0.24,0.21,0.21,0.43,0.43,0.38,0.38,0.48,0.48,0.42,0.42,0.45,0.45,0.39,0.39,0.14000000000000001,0.14000000000000001,0.12,0.12,0.48,0.48,0.42,0.42]
[{"$f":"Kanatlı!A12","v":2},{"$f":"Kanatlı!B12","v":"AYÇİÇEĞİ KÜSPESİ, %23HP"},{"$f":"Kanatlı!C12","v":2.1107231109609779},{"$f":"Kanatlı!D12","v":11},{"$f":"Kanatlı!E12","v":0},{"$f":"Kanatlı!F12","v":15},{"$f":"BU3","v":"Cl"},{"$f":"Kanatlı!H12","v":0.15},{"$f":"Kanatlı!I12","v":0.2},{"$f":"BU31","v":0.22565450163415365},"FAZLA",null,null,"Yemin Kodu :",null,null,null,null,null,null,null,null,null,null,null,null,null,null,null,null,null,null,null,null,null,null,null,null,null,null,null,null,null,"W",null,"Triptofan,%",1,"FAZLA",0,0,0,1,1,{"$f":"\"\"","v":""},{"$f":"IF(J16>I16*1.041,\"FAZLA\",\"TAMAM\")","v":"FAZLA"},{"$f":"IF(J16<H16*0.9959,\"EKSİK\",\"TAMAM\")","v":"TAMAM"},{"$f":"IF(J16<H16*0.9959,\"EKSİK\",IF(J16>I16*1.041,\"FAZLA\",\"TAMAM\"))","v":"FAZLA"},{"$f":"IF(J16<H16*0.9959,\"EKSİK\",IF(J16>I16*1.041,\"FAZLA\",\"TAMAM\"))","v":"FAZLA"},0.179262,0.18073799999999998,null,null,1.3121932513614742,"MERMER TOZU",99,0,0,37,0,0,0,0,0,0,0,0,0,0,0,0,0,0,0,0,0,0,0,0,0,100,0,0,0,0,0,0,0,0,0,0,0,0,0,0,0,0,0,0,0,0,0,2,0,10]
[{"$f":"Kanatlı!A13","v":3},{"$f":"Kanatlı!B13","v":"DİKALSİYUM FOSFAT"},{"$f":"Kanatlı!C13","v":1.7648822732359963},{"$f":"Kanatlı!D13","v":35},{"$f":"Kanatlı!E13","v":0},{"$f":"Kanatlı!F13","v":4},{"$f":"BX32","v":"Met+Sis,%"},{"$f":"Kanatlı!H13","v":0.7},{"$f":"Kanatlı!I13","v":0.7},{"$f":"BX31","v":0.70280000055197922},{"$f":"AV9","v":"TAMAM"},null,null,null,null,null,null,null,null,null,null,null,null,null,null,null,null,null,null,null,null,null,null,null,null,null,null,null,null,null,null,null,null,"X",null,{"$f":"G17","v":"Linoleik a.,%"},0.5,"TAMAM",{"$f":"IF(AND(H17=0,I17=0)=TRUE,1,0)","v":0},{"$f":"IF(AND(H17=0,I17>0)=TRUE,1,0)","v":0},{"$f":"IF(AND(H17>0,I17=0)=TRUE,1,0)","v":1},{"$f":"IF(AND(H17>0,H17=I17)=TRUE,1,0)","v":0},{"$f":"IF(AND(H17>0,I17>0)=TRUE,1,0)","v":0},{"$f":"\"\"","v":""},{"$f":"IF(J17>I17*1.1,\"FAZLA\",\"TAMAM\")","v":"FAZLA"},{"$f":"IF(J17<H17*0.9969,\"EKSİK\",\"TAMAM\")","v":"TAMAM"},{"$f":"IF(J17<H17*0.9969,\"EKSİK\",IF(J17>I17*1.1,\"FAZLA\",\"TAMAM\"))","v":"FAZLA"},{"$f":"IF(J17<H17*0.9969,\"EKSİK\",IF(J17>I17*1.1,\"FAZLA\",\"TAMAM\"))","v":"FAZLA"},{"$f":"IF(AW13=1,0,IF(AX13=1,I17,IF(AY13=1,H17,IF(AZ13=1,H17,IF(BA13=1,H17,0)))))*0.9969","v":1.2461249999999999},{"$f":"IF(AW13=1,0,IF(AX13=1,I17,IF(AY13=1,H17*1.05,IF(AZ13=1,I17,IF(BA13=1,I17,\"\")))))*1.0031","v":1.3165687500000001},null,null,0.30484957366522464,"TUZ",100,0,0,0.3,0,0,0,39,60,0,0,0,0,0,0,0,0,0,0,0,0,0,0,0,0,100,0,0,0,0,0,0,0,0,0,0,0,0,0,0,0,0,0,0,0,0,0,1.5,0,0.7,null,null,null,null,null,null,null,null,null,null,null,null,null,null,null,null,"ROSS 308, DAMIZLIK, BAŞLANGIÇ1 (0-28 gün)",19,{"$f":"EB13","v":19},2800,{"$f":"ED13","v":2800},1,{"$f":"EF13","v":1},null,0.45,{"$f":"EI13","v":0.45},0.16,0.23,0.16,0.23,0.46,{"$f":"EO13","v":0.46},0.4,{"$f":"EQ13","v":0.4},0.84,{"$f":"ES13","v":0.84},0.74,{"$f":"EU13","v":0.74},1.06,{"$f":"EW13","v":1.06},0.95,{"$f":"EY13","v":0.95},0.72,{"$f":"FA13","v":0.72},0.64,{"$f":"FC13","v":0.64},0.19,{"$f":"FE13","v":0.19},0.16,{"$f":"FG13","v":0.16},1.17,{"$f":"FI13","v":1.17},1.05,{"$f":"FK13","v":1.05},1]
[{"$f":"Kanatlı!A14","v":3},{"$f":"Kanatlı!B14","v":"MERMER TOZU"},{"$f":"Kanatlı!C14","v":1.3121932513614742},{"$f":"Kanatlı!D14","v":2},{"$f":"Kanatlı!E14","v":0},{"$f":"Kanatlı!F14","v":10},{"$f":"BZ32","v":"Lizin,%"},{"$f":"Kanatlı!H14","v":1},{"$f":"Kanatlı!I14","v":1},{"$f":"BZ31","v":0.99599999717210252},"TAMAM",null,null,null,null,null,null,null,null,null,null,null,null,null,null,null,null,null,null,null,null,null,null,null,null,null,null,null,null,null,null,null,null,"Y",null,"HY,%",1,{"$f":"IF(AW14=1,BB14,IF(AX14=1,BC14,IF(AY14=1,BD14,IF(AZ14=1,BE14,IF(BA14=1,BF14,\"\")))))","v":""},1,0,0,0,0,{"$f":"\"\"","v":""},{"$f":"IF(J18>I18*1.0041,\"FAZLA\",\"TAMAM\")","v":"FAZLA"},{"$f":"IF(J18<H18*0.9959,\"EKSİK\",\"TAMAM\")","v":"TAMAM"},{"$f":"IF(J18<H18*0.9959,\"EKSİK\",IF(J18>I18*1.0041,\"FAZLA\",\"TAMAM\"))","v":"FAZLA"},{"$f":"IF(J18<H18*0.9959,\"EKSİK\",IF(J18>I18*1.0041,\"FAZLA\",\"TAMAM\"))","v":"FAZLA"},{"$f":"IF(AW14=1,0,IF(AX14=1,I18,IF(AY14=1,H18,IF(AZ14=1,H18,IF(BA14=1,H18,0)))))*0.9959","v":0},{"$f":"IF(AW14=1,0,IF(AX14=1,I18,IF(AY14=1,H18*1.05,IF(AZ14=1,I18,IF(BA14=1,I18,\"\")))))*1.0041","v":0},null,null,0.25,"VİTAMİN-MİNERAL KARMASI",{"$f":"IF($BL14=0,0,VLOOKUP($BL14,$BL$61:$DJ$367,BM$2,FALSE))","v":100},0,0,1,0,0,0,0,0,0,{"$f":"IF($BL14=0,0,VLOOKUP($BL14,$BL$61:$DJ$367,BW$2,FALSE))","v":0},0,0,0,0,0,0,0,0,0,{"$f":"IF($BL14=0,0,VLOOKUP($BL14,$BL$61:$DJ$367,CG$2,FALSE))","v":0},0,0,0,0,0,0,0,0,0,{"$f":"IF($BL14=0,0,VLOOKUP($BL14,$BL$61:$DJ$367,CQ$2,FALSE))","v":0},0,50,2500,200,20000,40000,75,30000,0,{"$f":"IF($BL14=0,0,VLOOKUP($BL14,$BL$61:$DJ$367,DA$2,FALSE))","v":6000},1320,10000,0,0,0,0,25,0.25,0.25,null,null,null,null,null,null,null,null,null,null,null,null,null,null,null,null,"ROSS 308, DAMIZLIK, BÜYÜTME (29 gün-%5 YV)",15,{"$f":"EB14","v":15},2800,{"$f":"ED14","v":2800},0.9,{"$f":"EF14","v":0.9},null,0.42,{"$f":"EI14","v":0.42},0.16,0.23,0.16,0.23,0.37,0.37,0.33,0.33,0.62,0.62,0.55000000000000004,0.55000000000000004,0.68,0.68,0.61,0.61,0.54,0.54,0.48,0.48,0.16,0.16,0.14000000000000001,0.14000000000000001,0.84,0.84,0.76,0.76,1]
[{"$f":"Kanatlı!A15","v":3},{"$f":"Kanatlı!B15","v":"TUZ"},{"$f":"Kanatlı!C15","v":0.30484957366522464},{"$f":"Kanatlı!D15","v":1.5},{"$f":"Kanatlı!E15","v":0},{"$f":"Kanatlı!F15","v":0.7},{"$f":"CB32","v":"Treonin,%"},{"$f":"Kanatlı!H15","v":0.65},{"$f":"Kanatlı!I15","v":0.65},{"$f":"CB31","v":0.65259999915460598},"TAMAM",null,null,null,null,null,null,null,null,null,null,null,null,null,null,null,null,null,null,null,null,null,null,null,null,null,null,null,null,null,null,null,null,"Z",null,"HK,%",0.5,"",1,0,0,0,0,{"$f":"\"\"","v":""},{"$f":"IF(J19>I19*1.0031,\"FAZLA\",\"TAMAM\")","v":"FAZLA"},{"$f":"IF(J19<H19*0.9969,\"EKSİK\",\"TAMAM\")","v":"TAMAM"},{"$f":"IF(J19<H19*0.9969,\"EKSİK\",IF(J19>I19*1.0031,\"FAZLA\",\"TAMAM\"))","v":"FAZLA"},{"$f":"IF(J19<H19*0.9969,\"EKSİK\",IF(J19>I19*1.0031,\"FAZLA\",\"TAMAM\"))","v":"FAZLA"},{"$f":"IF(AW15=1,0,IF(AX15=1,I19,IF(AY15=1,H19,IF(AZ15=1,H19,IF(BA15=1,H19,0)))))*0.9969","v":0},{"$f":"IF(AW15=1,0,IF(AX15=1,I19,IF(AY15=1,H19*1.05,IF(AZ15=1,I19,IF(BA15=1,I19,\"\")))))*1.0031","v":0},null,null,0.17475378360776825,"L-LİZİN hidroklorid",98.5,94.4,4600,0,0,0,0,0,0,0,0,0,0,79,79,0,0,0,0,0,0,0,0,0,0,0,0,0,0,0,0,0,0,0,0,0,0,0,0,0,0,0,0,0,0,0,0,65,0,0.5,null,null,null,null,null,null,null,null,null,null,null,null,null,null,null,null,"ROSS 308, DAMIZLIK, DAMIZLIK 1 (%5 YV-35 hf)",15,15,2800,2800,3,3,null,0.35,0.35,0.15,0.2,0.16,0.23,0.4,0.4,0.35,0.35,0.64,0.64,0.56000000000000005,0.56000000000000005,0.67,0.67,0.6,0.6,0.53,0.53,0.47,0.47,0.16,0.16,0.14000000000000001,0.14000000000000001,0.88,0.88,0.79,0.79,1.25]
[{"$f":"Kanatlı!A16","v":3},{"$f":"Kanatlı!B16","v":"VİTAMİN-MİNERAL KARMASI"},{"$f":"Kanatlı!C16","v":0.25},{"$f":"Kanatlı!D16","v":25},{"$f":"Kanatlı!E16","v":0.25},{"$f":"Kanatlı!F16","v":0.25},{"$f":"CC32","v":"Triptofan,%"},{"$f":"Kanatlı!H16","v":0.18},{"$f":"Kanatlı!I16","v":0.18},{"$f":"CC31","v":0.2356881290262885},"FAZLA",null,null,null,null,null,null,null,null,null,null,null,null,null,null,null,null,null,null,null,null,null,null,null,null,null,null,null,null,null,null,null,null,"AA",null,"HS,%",0.5,"",1,0,0,0,0,{"$f":"\"\"","v":""},{"$f":"IF(J20>I20*1.0031,\"FAZLA\",\"TAMAM\")","v":"FAZLA"},{"$f":"IF(J20<H20*0.9969,\"EKSİK\",\"TAMAM\")","v":"TAMAM"},{"$f":"IF(J20<H20*0.9969,\"EKSİK\",IF(J20>I20*1.0031,\"FAZLA\",\"TAMAM\"))","v":"FAZLA"},{"$f":"IF(J20<H20*0.9969,\"EKSİK\",IF(J20>I20*1.0031,\"FAZLA\",\"TAMAM\"))","v":"FAZLA"},{"$f":"IF(AW16=1,0,IF(AX16=1,I20,IF(AY16=1,H20,IF(AZ16=1,H20,IF(BA16=1,H20,0)))))*0.9969","v":0},{"$f":"IF(AW16=1,0,IF(AX16=1,I20,IF(AY16=1,H20*1.05,IF(AZ16=1,I20,IF(BA16=1,I20,\"\")))))*1.0031","v":0},null,null,0.11539575597031049,"DL-METHİONİN",100,58.7,3680,0,0,0,0,0,0,99,0,99,99,0,0,0,0,0,0,0,0,0,0,0,0,0,0,0,0,0,0,0,0,0,0,0,0,0,0,0,0,0,0,0,0,0,0,95,0,0.5,null,null,null,null,null,null,null,null,null,null,null,null,null,null,null,null,"ROSS 308, DAMIZLIK, DAMIZLIK 2 (35 hf-)",14,14,2800,2800,3.2,3.2,null,0.32,0.32,0.15,0.2,0.16,0.23,0.39,0.39,0.34,0.34,0.62,0.62,0.55000000000000004,0.55000000000000004,0.62,0.62,0.56000000000000005,0.56000000000000005,0.5,0.5,0.45,0.45,0.15,0.15,0.13,0.13,0.85,0.85,0.77,0.77,1.25]
[{"$f":"Kanatlı!A17","v":3},{"$f":"Kanatlı!B17","v":"L-LİZİN hidroklorid"},{"$f":"Kanatlı!C17","v":0.17475378360776825},{"$f":"Kanatlı!D17","v":65},{"$f":"Kanatlı!E17","v":0},{"$f":"Kanatlı!F17","v":0.5},{"$f":"CJ32","v":"Linoleik a.,%"},{"$f":"Kanatlı!H17","v":1.25},null,{"$f":"CJ31","v":1.2462499970828071},{"$f":"AV13","v":"TAMAM"},null,null,null,null,null,null,null,null,null,null,null,null,null,null,null,null,null,null,null,null,null,null,null,null,null,null,null,null,null,null,null,null,"AB",null,"Nişasta,%",0.5,"",1,0,0,0,0,{"$f":"\"\"","v":""},{"$f":"IF(J21>I21*1.0031,\"FAZLA\",\"TAMAM\")","v":"FAZLA"},{"$f":"IF(J21<H21*0.9969,\"EKSİK\",\"TAMAM\")","v":"TAMAM"},{"$f":"IF(J21<H21*0.9969,\"EKSİK\",IF(J21>I21*1.0031,\"FAZLA\",\"TAMAM\"))","v":"FAZLA"},{"$f":"IF(J21<H21*0.9969,\"EKSİK\",IF(J21>I21*1.0031,\"FAZLA\",\"TAMAM\"))","v":"FAZLA"},{"$f":"IF(AW17=1,0,IF(AX17=1,I21,IF(AY17=1,H21,IF(AZ17=1,H21,IF(BA17=1,H21,0)))))*0.9969","v":0},{"$f":"IF(AW17=1,0,IF(AX17=1,I21,IF(AY17=1,H21*1.05,IF(AZ17=1,I21,IF(BA17=1,I21,\"\")))))*1.0031","v":0},null,null,2.4054919378807719E-2,"L-TREONİN",98.5,73.5,3150,0,0,0,0,0,0,0,0,0,0,0,0,98.5,0,0,0,0,0,0,0,0,0,0,0,0,0,0,0,0,0,0,0,0,0,0,0,0,0,0,0,0,0,0,0,66,0,0.5,null,null,null,null,null,null,null,null,null,null,null,null,null,null,null,null,"ROSS 208/308/508 BROYLER DAMIZLIK, ERGİN ERKEK ",12,12,2750,2750,0.7,0.7,null,0.35,0.35,0.15,0.2,0.16,0.23,0.32,0.32,0.28999999999999998,0.28999999999999998,0.49,0.49,0.45,0.45,0.5,0.5,0.45,0.45,0.38,0.38,0.34,0.34,0.1,0.1,0.08,0.08,0.59,0.59,0.53,0.53,1]
[{"$f":"Kanatlı!A18","v":3},{"$f":"Kanatlı!B18","v":"DL-METHİONİN"},{"$f":"Kanatlı!C18","v":0.11539575597031049},{"$f":"Kanatlı!D18","v":95},{"$f":"Kanatlı!E18","v":0},{"$f":"Kanatlı!F18","v":0.5},{"$f":"CI32","v":"HY,%"},null,null,{"$f":"CI31","v":2.1617492953201105},null,null,null,null,null,null,null,null,null,null,null,null,null,null,null,null,null,null,null,null,null,null,null,null,null,null,null,null,null,null,null,null,null,"AC",null,"Şeker,%",0.5,"",1,0,0,0,0,{"$f":"\"\"","v":""},{"$f":"IF(J22>I22*1.0031,\"FAZLA\",\"TAMAM\")","v":"FAZLA"},{"$f":"IF(J22<H22*0.9969,\"EKSİK\",\"TAMAM\")","v":"TAMAM"},{"$f":"IF(J22<H22*0.9969,\"EKSİK\",IF(J22>I22*1.0031,\"FAZLA\",\"TAMAM\"))","v":"FAZLA"},{"$f":"IF(J22<H22*0.9969,\"EKSİK\",IF(J22>I22*1.0031,\"FAZLA\",\"TAMAM\"))","v":"FAZLA"},{"$f":"IF(AW18=1,0,IF(AX18=1,I22,IF(AY18=1,H22,IF(AZ18=1,H22,IF(BA18=1,H22,0)))))*0.9969","v":0},{"$f":"IF(AW18=1,0,IF(AX18=1,I22,IF(AY18=1,H22*1.05,IF(AZ18=1,I22,IF(BA18=1,I22,\"\")))))*1.0031","v":0},null,null,0,0,0,0,0,0,0,0,0,0,0,0,0,0,0,0,0,0,0,0,0,0,0,0,0,0,0,0,0,0,0,0,0,0,0,0,0,0,0,0,0,0,0,0,0,0,0,0,0,0,0,0]
[{"$f":"Kanatlı!A19","v":3},{"$f":"Kanatlı!B19","v":"L-TREONİN"},{"$f":"Kanatlı!C19","v":2.4054919378807719E-2},{"$f":"Kanatlı!D19","v":66},{"$f":"Kanatlı!E19","v":0},{"$f":"Kanatlı!F19","v":0.5},{"$f":"CL32","v":"HK,%"},null,null,{"$f":"CL31","v":6.2067383858731109},null,null,null,null,null,null,null,null,null,null,null,null,null,null,null,null,null,null,null,null,null,null,null,null,null,null,null,null,null,null,null,null,null,"AD",null,null,null,null,null,null,null,null,null,null,null,null,null,null,null,null,null,null,0,0,0,0,0,0,0,0,0,0,0,0,0,0,0,0,0,0,0,0,0,0,0,0,0,0,0,0,0,0,0,0,0,0,0,0,0,0,0,0,0,0,0,0,0,0,0,0,0,0,0,0]
[{"$f":"Kanatlı!A20","v":3},{"$f":"Kanatlı!B20","v":"L-TRİPTOFAN"},{"$f":"Kanatlı!C20","v":0},{"$f":"Kanatlı!D20","v":66},{"$f":"Kanatlı!E20","v":0},{"$f":"Kanatlı!F20","v":0.5},{"$f":"CK32","v":"HS,%"},null,null,{"$f":"CK31","v":3.6218007018966967},null,null,null,null,null,null,null,null,null,null,null,null,null,null,null,null,null,null,null,null,null,null,null,null,null,null,null,null,null,null,null,null,null,"AE",null,null,null,null,null,null,null,null,null,null,null,null,null,null,null,null,null,null,0,0,0,0,0,0,0,0,0,0,0,0,0,0,0,0,0,0,0,0,0,0,0,0,0,0,0,0,0,0,0,0,0,0,0,0,0,0,0,0,0,0,0,0,0,0,0,0,0,0,0,0]
[{"$f":"Kanatlı!A21","v":0},{"$f":"Kanatlı!B21","v":0},{"$f":"Kanatlı!C21","v":0},{"$f":"Kanatlı!D21","v":0},{"$f":"Kanatlı!E21","v":0},{"$f":"Kanatlı!F21","v":0},{"$f":"CM32","v":"Nişasta,%"},null,null,{"$f":"CM31","v":44.808777020909481},null,null,null,null,null,null,null,null,null,null,null,null,null,null,null,null,null,null,null,null,null,null,null,null,null,null,null,null,null,null,null,null,null,"AF",null,null,null,null,null,null,null,null,null,null,null,null,null,null,null,null,null,null,0,0,0,0,0,0,0,0,0,0,0,0,0,0,0,0,0,0,0,0,0,0,0,0,0,0,0,0,0,0,0,0,0,0,0,0,0,0,0,0,0,0,0,0,0,0,0,0,0,0,0,0]
[{"$f":"Kanatlı!A22","v":0},{"$f":"Kanatlı!B22","v":0},{"$f":"Kanatlı!C22","v":0},{"$f":"Kanatlı!D22","v":0},{"$f":"Kanatlı!E22","v":0},{"$f":"Kanatlı!F22","v":0},{"$f":"CN32","v":"Şeker,%"},null,null,{"$f":"CN31","v":3.6434463130756645},null,null,null,null,null,null,null,null,null,null,null,null,null,null,null,null,null,null,null,null,null,null,null,null,null,null,null,null,null,null,null,null,null,"AG",null,null,null,null,null,null,null,null,null,null,null,null,null,null,null,null,null,null,0,0,0,0,0,0,0,0,0,0,0,0,0,0,0,0,0,0,0,0,0,0,0,0,0,0,0,0,0,0,0,0,0,0,0,0,0,0,0,0,0,0,0,0,0,0,0,0,0,0,0,0]
[{"$f":"Kanatlı!A23","v":0},{"$f":"Kanatlı!B23","v":0},{"$f":"Kanatlı!C23","v":0},{"$f":"Kanatlı!D23","v":0},{"$f":"Kanatlı!E23","v":0},{"$f":"Kanatlı!F23","v":0},"Elektrolit Denge, mEq/kg KM",null,null,{"$f":"(((BT31*434.98) + (BS31*255.74) - (BU31*282.06))/J6*100 )","v":219.73152228290624},null,null,null,null,null,null,null,null,null,null,null,null,null,null,null,null,null,null,null,null,null,null,null,null,null,null,null,null,null,null,null,null,null,"AH",null,null,null,null,null,null,null,null,null,null,null,null,null,null,null,null,null,null,0,0,0,0,0,0,0,0,0,0,0,0,0,0,0,0,0,0,0,0,0,0,0,0,0,0,0,0,0,0,0,0,0,0,0,0,0,0,0,0,0,0,0,0,0,0,0,0,0,0,0,0]
[{"$f":"Kanatlı!A24","v":0},{"$f":"Kanatlı!B24","v":0},{"$f":"Kanatlı!C24","v":0},{"$f":"Kanatlı!D24","v":0},{"$f":"Kanatlı!E24","v":0},{"$f":"Kanatlı!F24","v":0},null,null,null,null,null,null,null,null,null,null,null,null,null,null,null,null,null,null,null,null,null,null,null,null,null,null,null,null,null,null,null,null,null,null,null,null,null,"AI",null,null,null,null,null,null,null,null,null,null,null,null,null,null,null,null,null,null,0,0,{"$f":"IF($BL24=0,0,VLOOKUP($BL24,$BL$61:$DJ$367,BM$2,FALSE))","v":0},0,0,0,0,0,0,0,0,0,{"$f":"IF($BL24=0,0,VLOOKUP($BL24,$BL$61:$DJ$367,BW$2,FALSE))","v":0},0,0,0,0,0,0,0,0,0,{"$f":"IF($BL24=0,0,VLOOKUP($BL24,$BL$61:$DJ$367,CG$2,FALSE))","v":0},0,0,0,0,0,0,0,0,0,{"$f":"IF($BL24=0,0,VLOOKUP($BL24,$BL$61:$DJ$367,CQ$2,FALSE))","v":0},0,0,0,0,0,0,0,0,0,{"$f":"IF($BL24=0,0,VLOOKUP($BL24,$BL$61:$DJ$367,DA$2,FALSE))","v":0},0,0,0,0,0,0,0,0,0]
[{"$f":"Kanatlı!A25","v":0},{"$f":"Kanatlı!B25","v":0},{"$f":"Kanatlı!C25","v":0},{"$f":"Kanatlı!D25","v":0},{"$f":"Kanatlı!E25","v":0},{"$f":"Kanatlı!F25","v":0},null,null,null,null,null,null,null,null,null,null,null,null,null,null,null,null,null,null,null,null,null,null,null,null,null,null,null,null,null,null,null,null,null,null,null,null,null,"AJ",null,null,null,null,null,null,null,null,null,null,null,null,null,null,null,null,null,null,0,0,0,0,0,0,0,0,0,0,0,0,0,0,0,0,0,0,0,0,0,0,0,0,0,0,0,0,0,0,0,0,0,0,0,0,0,0,0,0,0,0,0,0,0,0,0,0,0,0,0,0]
[{"$f":"Kanatlı!A26","v":0},{"$f":"Kanatlı!B26","v":0},{"$f":"Kanatlı!C26","v":0},{"$f":"Kanatlı!D26","v":0},{"$f":"Kanatlı!E26","v":0},{"$f":"Kanatlı!F26","v":0},null,null,null,null,null,null,null,null,null,null,null,null,null,null,null,null,null,null,null,null,null,null,null,null,null,null,null,null,null,null,null,null,null,null,null,null,null,"AK",null,"MİNERALLER","Rasyon",null,null,null,null,null,null,null,null,null,null,null,null,null,null,null,0,0,0,0,0,0,0,0,0,0,0,0,0,0,0,0,0,0,0,0,0,0,0,0,0,0,0,0,0,0,0,0,0,0,0,0,0,0,0,0,0,0,0,0,0,0,0,0,0,0,0,0]
[{"$f":"Kanatlı!A27","v":0},{"$f":"Kanatlı!B27","v":0},{"$f":"Kanatlı!C27","v":0},{"$f":"Kanatlı!D27","v":0},{"$f":"Kanatlı!E27","v":0},{"$f":"Kanatlı!F27","v":0},null,null,null,null,null,null,null,null,null,null,null,null,null,null,null,null,null,null,null,null,null,null,null,null,null,null,null,null,null,null,null,null,null,null,null,null,null,"AL",null,"K, %",{"$f":"BS31","v":0.74403582712458205},null,null,null,null,null,null,null,null,null,null,null,null,null,null,null,0,0,0,0,0,0,0,0,0,0,0,0,0,0,0,0,0,0,0,0,0,0,0,0,0,0,0,0,0,0,0,0,0,0,0,0,0,0,0,0,0,0,0,0,0,0,0,0,0,0,0,0]
[{"$f":"Kanatlı!A28","v":0},{"$f":"Kanatlı!B28","v":0},{"$f":"Kanatlı!C28","v":0},{"$f":"Kanatlı!D28","v":0},{"$f":"Kanatlı!E28","v":0},{"$f":"Kanatlı!F28","v":0},null,null,null,null,null,null,null,null,null,null,null,null,null,null,null,null,null,null,null,null,null,null,null,null,null,null,null,null,null,null,null,null,null,null,null,null,null,"AM",null,"Mg, %",{"$f":"CQ31","v":0.1748518564532964},null,null,null,null,null,null,null,null,null,null,null,null,null,null,null,0,0,0,0,0,0,0,0,0,0,0,0,0,0,0,0,0,0,0,0,0,0,0,0,0,0,0,0,0,0,0,0,0,0,0,0,0,0,0,0,0,0,0,0,0,0,0,0,0,0,0,0]
[{"$f":"Kanatlı!A29","v":0},{"$f":"Kanatlı!B29","v":0},{"$f":"Kanatlı!C29","v":0},{"$f":"Kanatlı!D29","v":0},{"$f":"Kanatlı!E29","v":0},{"$f":"Kanatlı!F29","v":0},null,null,null,null,null,null,null,null,null,null,null,null,null,null,null,null,null,null,null,null,null,null,null,null,null,null,null,null,null,null,null,null,null,null,null,null,null,"AN",null,"S, %",{"$f":"CR31","v":0.17597549709142507},null,null,null,null,null,null,null,null,null,null,null,null,null,null,null,0,0,0,0,0,0,0,0,0,0,0,0,0,0,0,0,0,0,0,0,0,0,0,0,0,0,0,0,0,0,0,0,0,0,0,0,0,0,0,0,0,0,0,0,0,0,0,0,0,0,0,0,null,null,null,null,null,null,null,null,null,null,null,null,null,null,"MISIR GRİZİ(KEPEK,GERM,NİŞASTA)"]
[{"$f":"Kanatlı!A30","v":0},{"$f":"Kanatlı!B30","v":0},{"$f":"Kanatlı!C30","v":0},{"$f":"Kanatlı!D30","v":0},{"$f":"Kanatlı!E30","v":0},{"$f":"Kanatlı!F30","v":0},null,null,null,null,null,null,null,null,null,null,null,null,null,null,null,null,null,null,null,null,null,null,null,null,null,null,null,null,null,null,null,null,null,null,null,null,null,"AO",null,"Co, mg/kg",{"$f":"CS31","v":0.125},null,null,null,null,null,null,null,null,null,null,null,null,null,null,null,null,null,null,null,null,null,null,null,null,null,null,null,null,null,null,null,null,null,null,null,null,null,null,null,null,null,null,null,null,null,null,null,null,null,null,null,null,null,null,null,null,null,null,null,null,null,null,null,null,null,null,null,null,null,null,null,null,null,null,null,null,null,null,null,null,null,"MISIR KEPEĞİ"]
[{"$f":"Kanatlı!A31","v":0},{"$f":"Kanatlı!B31","v":0},{"$f":"Kanatlı!C31","v":0},{"$f":"Kanatlı!D31","v":0},{"$f":"Kanatlı!E31","v":0},{"$f":"Kanatlı!F31","v":0},null,null,null,null,null,null,null,null,null,null,null,null,null,null,null,null,null,null,null,null,null,null,null,null,null,null,null,null,null,null,null,null,null,null,null,null,null,"AP",null,"Cu, mg/kg",{"$f":"CT31","v":12.581003906968704},null,null,null,null,null,null,null,null,null,null,null,null,null,null,null,null,"HESAPLAMA TABLOSU",{"$f":"SUM(BM33:BM58)","v":89.208695160831837},18.037799989147857,2800.0839958485826,1.0029999995473897,0.74330444325365441,0.4486500008526576,0.74403582712458205,0.15952000135110092,0.22565450163415365,0.3979865520748801,0.32335989141639593,0.70280000055197922,0.60980732538044835,0.99599999717210252,0.88572859662180781,0.65259999915460598,0.2356881290262885,1.108530099525195,0.72866271502625224,1.4996782249557272,0.83200515058295377,0.64489138413145075,2.1617492953201105,1.2462499970828071,3.6218007018966967,6.2067383858731109,44.808777020909481,3.6434463130756645,12.174366492114173,5.1787638064391377,0.1748518564532964,0.17597549709142507,0.125,12.581003906968704,0.5,139.74754036424423,129.89494339987039,0.33181066019267236,112.30014681995613,1.8425439373211301,15,3.3,25,0.2312519742363823,0.54377500249721333,0.17638360172059189,0.97863348677918671,11.555353100980057,null,null,null,null,null,null,null,null,null,null,null,null,null,null,null,null,"MISIR,    (Devekuşu için)"]
[null,null,null,null,null,null,null,null,null,null,null,null,null,null,null,null,null,null,null,null,null,null,null,null,null,null,null,null,null,null,null,null,null,null,null,null,null,null,null,null,null,null,null,null,null,"I, mg/kg",{"$f":"CU31","v":0.5},null,null,null,null,null,null,null,null,null,null,null,null,null,null,null,null,"YEMLER","KM,%","HP,%","ME,kcal/kg","Ca,%","Top.P,%","Kul.P,%","K,%","Na,%","Cl,%","Metionin,%","Sistin,%","Met+Sis,%","Sin.Met+Sis,%","Lizin,%","Sin.Lizin,%","Treonin,%","Triptofan,%","Arjinin,%","İzolöysin,%","Löysin,%","Fenilalanin,%","Tirozin,%","HY,%","Linoleik a.,%","HS,%","HK,%","Nişasta,%","Şeker,%","NDF,%","ADF,%","Mg,%","S,%","Co,mg","Cu,mg","I,mg","Fe,mg","Mn,mg","Se,mg","Zn,mg","Mo,mg","Vit A,1000 IU/kg ","Vit D,1000 IU/kg ","Vit E,IU/kg","Sin.Met.,%","Sin.Treonin,%","Sin.Triptofan,%","Sin.Arjinin,%","Fiyat,krş/kg"]
[null,null,null,null,null,null,null,null,null,null,null,null,null,null,null,null,null,null,null,null,null,null,null,null,null,null,null,null,null,null,null,null,null,null,null,null,null,null,null,null,null,null,null,null,null,"Fe, mg/kg",{"$f":"CV31","v":139.74754036424423},null,null,null,null,null,null,null,null,null,null,null,null,null,null,null,null,{"$f":"BL4","v":"MISIR, SARI"},{"$f":"IF($BL4=0,0,IF(ISERROR($BK4*BM4/100)=TRUE,0,$BK4*BM4/100))","v":42.524606643301702},4.061338836719826,1600.6453062366375,9.5560913805172384E-3,0.13378527932724135,3.8224365522068954E-2,0.14334137070775857,9.5560913805172384E-3,1.9112182761034477E-2,8.6004822424655139E-2,8.6004822424655139E-2,0.17200964484931028,0.15136848746739304,0.12422918794672409,0.10062564223684652,0.13856332501749993,2.8668274141551712E-2,0.18156573622982752,0.13856332501749993,0.47780456902586188,0.18156573622982752,0.14334137070775857,1.1945114225646547,0.86960431562706864,1.0511700518568963,0.64503616818491349,31.05729698668102,1.0033895949543099,3.9989853404619504,1.4312158060600666,5.0513499037414117E-2,4.209458253117844E-2,{"$f":"IF($BL4=0,0,IF(ISERROR($BK4*CS4/100)=TRUE,0,$BK4*CS4/100))","v":0},1.2628374759353527,0,22.731074566836352,4.6304040784296268,2.94662077718249E-2,11.365537283418176,0.33675666024942752,0,0,0,7.0093930276093938E-2,0.11500755976452494,2.1501205606163785E-2,0.15977784788224822,{"$f":"IF($BL4=0,0,IF(ISERROR($C6*DH4/100)=TRUE,0,$C6*DH4/100))","v":4.061338836719826},null,null,null,null,null,null,null,null,null,null,null,null,null,null,null,null,"PİRİNÇ"]
[null,null,null,null,null,null,null,null,null,null,null,null,null,null,null,null,null,null,null,null,null,null,null,null,null,null,null,null,null,null,null,null,null,null,null,null,null,null,null,null,null,null,null,null,null,"Mn, mg/kg",{"$f":"CW31","v":129.89494339987039},null,null,null,null,null,null,null,null,null,null,null,null,null,null,null,null,{"$f":"BL5","v":"BUĞDAY,SERT,KIRMIZI,KIŞLIK"},{"$f":"IF($BL5=0,0,IF(ISERROR($BK5*BM5/100)=TRUE,0,$BK5*BM5/100))","v":14.268269157225605},2.3124436220331153,475.60897190752019,8.2001546880606929E-3,6.0681144691649126E-2,2.13204021889578E-2,7.3801392192546236E-2,6.5601237504485542E-3,8.2001546880606929E-3,3.4440649689854906E-2,4.9200928128364158E-2,8.3641577818219057E-2,7.2768172701850584E-2,6.0681144691649126E-2,4.9151727200235792E-2,6.3961206566873402E-2,2.6240495001794217E-2,9.8401856256728315E-2,7.2161361254934095E-2,0.14596275344748033,9.8401856256728315E-2,7.0521330317321954E-2,0.41000773440303462,9.676182531911616E-2,0.49200928128364152,0.29192550689496066,10.6602010944789,0.50840959065976288,1.9646914620218374,0.64512256961911096,2.1992814873378775E-2,2.1992814873378775E-2,0,0.73309382911262588,0,10.556551139221813,6.1579881645460581,4.1053254430307058E-2,5.8647506329010071,0.19060439556928277,0,0,0,2.8069129497231744E-2,5.3087801450504922E-2,1.9680371251345662E-2,8.6593633505920919E-2,1.7220324844927455]
[null,null,null,null,null,null,null,null,null,null,null,null,null,null,null,null,null,null,null,null,null,null,null,null,null,null,null,null,null,null,null,null,null,null,null,null,null,null,null,null,null,null,null,null,null,"Se, mg/kg",{"$f":"CX31","v":0.33181066019267236},null,null,null,null,null,null,null,null,null,null,null,null,null,null,null,null,"BUĞDAY KEPEĞİ,RAZMOL",{"$f":"IF($BL6=0,0,IF(ISERROR($BK6*BM6/100)=TRUE,0,$BK6*BM6/100))","v":8.8000000000000007},1.5,200,1.2E-2,8.5000000000000006E-2,4.4999999999999998E-2,9.9000000000000005E-2,1.2E-2,3.0000000000000001E-3,2.1000000000000001E-2,3.2000000000000001E-2,0.02,1.4999999999999999E-2,6.0999999999999999E-2,4.2000000000000003E-2,3.4000000000000002E-2,3.1E-2,8.5000000000000006E-2,5.7999999999999996E-2,0.10700000000000001,6.4000000000000001E-2,4.4999999999999998E-2,0.3,0.18700000000000003,0.75,0.44750000000000001,1.8,0.4,3.2846499999999996,1.0829500000000001,3.7589999999999991E-2,1.6109999999999999E-2,0,0.89500000000000002,0,14.140999999999998,11.1875,4.1169999999999998E-2,8.144499999999999,0.22375,0,0,0,1.7114999999999995E-2,2.8000000000000004E-2,2.4E-2,7.9000000000000001E-2,0.9,null,null,null,null,null,null,null,null,null,null,null,null,null,null,null,null,"SOAPSTOCK"]
[null,null,null,null,null,null,null,null,null,null,null,null,null,null,null,null,null,null,null,null,null,null,null,null,null,null,null,null,null,null,null,null,null,null,null,null,null,null,null,null,null,null,null,null,null,"Zn, mg/kg",{"$f":"CY31","v":112.30014681995613},null,null,null,null,null,null,null,null,null,null,null,null,null,null,null,null,"BİTKİSEL YAĞ",{"$f":"IF($BL7=0,0,IF(ISERROR($BK7*BM7/100)=TRUE,0,$BK7*BM7/100))","v":1.3032557421227838E-6},0,1.217688445922803E-4,0,0,0,0,0,0,0,0,0,0,0,0,0,0,0,0,0,0,0,1.2993064822981694E-6,6.7137417018446434E-7,0,0,0,0,0,0,0,0,0,0,0,0,0,0,0,0,0,0,0,0,0,0,0,6.5820997076908269E-7]
[null,null,null,null,null,null,null,null,null,null,null,null,null,null,null,null,null,null,null,null,null,null,null,null,null,null,null,null,null,null,null,null,null,null,null,null,null,null,null,null,null,null,null,null,null,"Mo, mg/kg",{"$f":"CZ31","v":1.8425439373211301},null,null,null,null,null,null,null,null,null,null,null,null,null,null,null,null,"SOYA KÜSPESİ, %46",{"$f":"IF($BL8=0,0,IF(ISERROR($BK8*BM8/100)=TRUE,0,$BK8*BM8/100))","v":11.825637595120741},6.0442147708394893,315.35033586988646,3.5476912785362226E-2,8.146550343305399E-2,4.8616510113274156E-2,0.26016402709265629,6.5697986639559683E-3,6.5697986639559683E-3,8.8035302097009965E-2,9.4605100760965913E-2,0.19709395991867901,0.1585686605532412,0.38893208090619324,0.35392819362463585,0.24571047003195318,9.7233020226548311E-2,0.4572579870113353,0.27855946335173304,0.49142094006390635,0.30746657747313927,0.25622214789428271,0.13139597327911934,6.1756107441186085E-2,0.51244429578856543,0.86721342364218756,0.78837583967471603,1.0511677862329547,1.7443998016562605,1.1707381219169535,3.3951405535591644E-2,4.5658786754761184E-2,0,1.8731809950671252,0,24.117205311489236,4.6829524876678139,1.5219595584920394E-2,6.7902811071183287,0.69073549193100259,0,0,0,7.1748771209063117E-2,0.22994295323845887,6.963986583793326E-2,0.42046711449318197,2.3651275190241479,null,null,null,null,null,null,null,null,null,null,null,null,null,null,null,null,"SORGUM, %11 HP"]
[null,null,null,null,null,null,null,null,null,null,null,null,null,"Yemin Adı :",null,null,null,null,null,null,null,null,null,null,null,null,null,null,null,null,null,null,null,null,null,null,null,null,null,null,null,null,null,null,null,null,null,null,null,null,null,null,null,null,null,null,null,null,null,null,null,null,null,"SOYA KÜSPESİ, %51",{"$f":"IF($BL9=0,0,IF(ISERROR($BK9*BM9/100)=TRUE,0,$BK9*BM9/100))","v":5.9605041679019806},3.3776190284777887,165.56956021949944,1.788151250370594E-2,4.5697198620581837E-2,6.6227824087799784E-3,0.14570121299315952,6.6227824087799786E-4,3.3113912043899892E-3,4.3710363897947857E-2,5.0995424547605833E-2,9.4705788445553676E-2,8.2029782915148799E-2,0.2019948634677893,0.18381532575568829,0.12450830928506358,4.3048085657069857E-2,0.23775788847520118,0.16027133429247545,0.24371839264310322,0.15629766484720747,0.12980653521208757,0.12583286576681957,3.1127077321265895E-2,0.22517460189851923,0.41061250934435861,0.39736694452679872,0.59605041679019799,0.39736694452679872,0.26491129635119909,1.8543790744583941E-2,2.3013506592269545E-2,0,0.94414386019567365,0,12.155852200019297,2.3603596504891842,7.6711688640898491E-3,3.4225214932093162,0.34815304844715472,0,0,0,3.5623946576827506E-2,9.9341736131699679E-2,3.4438468525655887E-2,0.19007385513198535,1.3245564817559954]
[null,null,null,null,null,null,null,null,null,null,null,null,null,null,null,null,null,null,null,null,null,null,null,null,null,null,null,null,null,null,null,null,null,null,null,null,null,null,null,null,null,null,null,null,null,null,null,null,null,null,null,null,null,null,null,null,null,null,null,null,null,null,null,"AYÇİÇEĞİ KÜSPESİ, %23HP",{"$f":"IF($BL10=0,0,IF(ISERROR($BK10*BM10/100)=TRUE,0,$BK10*BM10/100))","v":1.8996507998648802},0.49179848485390787,29.866732020097839,7.3875308883634217E-3,1.8996507998648802E-2,2.9550123553453694E-3,2.0262941865225387E-2,4.2214462219219559E-3,2.3217954220570757E-3,1.055361555480489E-2,1.055361555480489E-2,2.110723110960978E-2,1.5830423332207334E-2,2.110723110960978E-2,1.8152218754264409E-2,2.2162592665090269E-2,9.4982539993244009E-3,4.8546631552102489E-2,2.110723110960978E-2,3.3771569775375647E-2,2.4273315776051244E-2,0,0,0,0.59100247106907378,0.1625256795439953,0.10553615554804889,8.4428924438439121E-2,0.78427294344732656,0.58382601249180643,1.2260346262327937E-2,7.5897381623934853E-3,0,0.62274774665792687,0,5.7993383907519442,0.87573901873770976,9.7304335415301074E-3,1.7125563033092994,5.2544341124262595E-2,0,0,0,8.6011966771659849E-3,1.8394951912024921E-2,7.1236904994933003E-3,4.2721035765850193E-2,0.23217954220570758,null,null,null,null,null,null,null,null,null,null,null,null,null,null,null,null,"ŞEK.PAN.POSASI,KURU"]
[null,null,null,null,null,null,null,null,null,null,null,null,null,null,null,null,null,null,null,null,null,null,null,null,null,null,null,null,null,null,null,null,null,null,null,null,null,null,null,null,null,null,null,null,null,null,null,null,null,null,null,null,null,null,null,null,null,null,null,null,null,null,null,"DİKALSİYUM FOSFAT",{"$f":"IF($BL11=0,0,IF(ISERROR($BK11*BM11/100)=TRUE,0,$BK11*BM11/100))","v":1.7648822732359963},0,0,0.42357174557663912,0.31767880918247932,0.28591092826423137,1.7648822732359965E-3,1.0589293639415979E-3,2.294346955206795E-4,0,0,0,0,0,0,0,0,0,0,0,0,0,0,0,0,1.7648822732359963,0,0,0,0,0,1.9516068177443648E-2,0,0,0,0.24651875592560399,0,0,0,0,0,0,0,0,0,0,0,0.61770879563259873]
[null,null,null,null,null,null,null,null,null,null,null,null,null,null,null,null,null,null,null,null,null,null,null,null,null,null,null,null,null,null,null,null,null,null,null,null,null,null,null,null,null,null,null,null,null,null,null,null,null,null,null,null,null,null,null,null,null,null,null,null,null,null,null,"MERMER TOZU",{"$f":"IF($BL12=0,0,IF(ISERROR($BK12*BM12/100)=TRUE,0,$BK12*BM12/100))","v":1.2990713188478593},0,0,0.48551150300374546,0,0,0,0,0,0,0,0,0,0,0,0,0,0,0,0,0,0,0,0,0,1.3121932513614742,0,0,0,0,0,0,0,0,0,0,0,0,0,0,0,0,0,0,0,0,0,2.6243865027229484E-2]
[null,null,null,null,null,null,null,null,null,null,null,null,null,null,null,null,null,null,null,null,null,null,null,null,null,null,null,null,null,null,null,null,null,null,null,null,null,null,null,null,null,null,null,null,null,null,null,null,null,null,null,null,null,null,null,null,null,null,null,null,null,null,null,"TUZ",{"$f":"IF($BL13=0,0,IF(ISERROR($BK13*BM13/100)=TRUE,0,$BK13*BM13/100))","v":0.30484957366522464},0,0,9.1454872099567392E-4,0,0,0,0.11889133372943761,0.18290974419913478,0,0,0,0,0,0,0,0,0,0,0,0,0,0,0,0,0.30484957366522464,0,0,0,0,0,0,0,0,0,0,0,0,0,0,0,0,0,0,0,0,0,4.5727436049783701E-3]
[null,null,null,null,null,null,null,null,null,null,null,null,null,null,null,null,null,null,null,null,null,null,null,null,null,null,null,null,null,null,null,null,null,null,null,null,null,null,null,null,null,null,null,null,null,null,null,null,null,null,null,null,null,null,null,null,null,null,null,null,null,null,null,"VİTAMİN-MİNERAL KARMASI",{"$f":"IF($BL14=0,0,IF(ISERROR($BK14*BM14/100)=TRUE,0,$BK14*BM14/100))","v":0.25},0,0,2.5000000000000001E-3,0,0,0,0,0,0,0,0,0,0,0,0,0,0,0,0,0,0,0,0,0,0,0,0,0,0,0,0,0.125,6.25,0.5,50,100,0.1875,75,0,15,3.3,25,0,0,0,0,6.25E-2]
[null,null,null,null,null,null,null,null,null,null,null,null,null,null,null,null,null,null,null,null,null,null,null,null,null,null,null,null,null,null,null,null,null,null,null,null,null,null,null,null,null,null,null,null,null,null,null,null,null,null,null,null,null,null,null,null,null,null,null,null,null,null,null,"L-LİZİN hidroklorid",{"$f":"IF($BL15=0,0,IF(ISERROR($BK15*BM15/100)=TRUE,0,$BK15*BM15/100))","v":0.17213247685365171},0.16496757172573326,8.0386740459573396,0,0,0,0,0,0,0,0,0,0,0.13805548905013693,0.13805548905013693,0,0,0,0,0,0,0,0,0,0,0,0,0,0,0,0,0,0,0,0,0,0,0,0,0,0,0,0,0,0,0,0,0.11358995934504935]
[null,null,null,null,null,null,null,null,null,null,null,null,null,null,null,null,null,null,null,null,null,null,null,null,null,null,null,null,null,null,null,null,null,null,null,null,null,null,null,null,null,null,null,null,null,null,null,null,null,null,null,null,null,null,null,null,null,null,null,null,null,null,null,{"$f":"BL16","v":"DL-METHİONİN"},{"$f":"IF($BL16=0,0,IF(ISERROR($BK16*BM16/100)=TRUE,0,$BK16*BM16/100))","v":0.1153957559703105},6.7737308754572262E-2,4.2465638197074256,0,0,0,0,0,0,0.11424179841060739,0,0.11424179841060739,0.11424179841060739,0,0,0,0,0,0,0,0,0,0,0,0,0,0,0,0,0,0,0,0,0,0,0,0,0,0,0,0,0,0,0,0,0,0,0.10962596817179497]
[null,null,null,null,null,null,null,null,null,null,null,null,null,null,null,null,null,null,null,null,null,null,null,null,null,null,null,null,null,null,null,null,null,null,null,null,null,null,null,null,null,null,null,null,null,null,null,null,null,null,null,null,null,null,null,null,null,null,null,null,null,null,null,"L-TREONİN",{"$f":"IF($BL17=0,0,IF(ISERROR($BK17*BM17/100)=TRUE,0,$BK17*BM17/100))","v":2.3694095588125602E-2},1.7680365743423673E-2,0.75772996043244323,0,0,0,0,0,0,0,0,0,0,0,0,2.3694095588125602E-2,0,0,0,0,0,0,0,0,0,0,0,0,0,0,0,0,0,0,0,0,0,0,0,0,0,0,0,0,0,0,0,1.5876246790013097E-2]
[null,null,null,null,null,null,null,null,null,null,null,null,null,null,null,null,null,null,null,null,null,null,null,null,null,null,null,null,null,null,null,null,null,null,null,null,null,null,null,null,null,null,null,null,null,null,null,null,null,null,null,null,null,null,null,null,null,null,null,null,null,null,null,0,{"$f":"IF($BL18=0,0,IF(ISERROR($BK18*BM18/100)=TRUE,0,$BK18*BM18/100))","v":0},0,0,0,0,0,0,0,0,0,0,0,0,0,0,0,0,0,0,0,0,0,0,0,0,0,0,0,0,0,0,0,0,0,0,0,0,0,0,0,0,0,0,0,0,0,0,0]
[null,null,null,null,null,null,null,null,null,null,null,null,null,null,null,null,null,null,null,null,null,null,null,null,null,null,null,null,null,null,null,null,null,null,null,null,null,null,null,null,null,null,null,null,null,null,null,null,null,null,null,null,null,null,null,null,null,null,null,null,null,null,null,0,{"$f":"IF($BL19=0,0,IF(ISERROR($BK19*BM19/100)=TRUE,0,$BK19*BM19/100))","v":0},0,0,0,0,0,0,0,0,0,0,0,0,0,0,0,0,0,0,0,0,0,0,0,0,0,0,0,0,0,0,0,0,0,0,0,0,0,0,0,0,0,0,0,0,0,0,0]
[null,null,null,null,null,null,null,null,null,null,null,null,null,null,null,null,null,null,null,null,null,null,null,null,null,null,null,null,null,null,null,null,null,null,null,null,null,null,null,null,null,null,null,null,null,null,null,null,null,null,null,null,null,null,null,null,null,null,null,null,null,null,null,0,{"$f":"IF($BL20=0,0,IF(ISERROR($BK20*BM20/100)=TRUE,0,$BK20*BM20/100))","v":0},0,0,0,0,0,0,0,0,0,0,0,0,0,0,0,0,0,0,0,0,0,0,0,0,0,0,0,0,0,0,0,0,0,0,0,0,0,0,0,0,0,0,0,0,0,0,0]
[null,null,null,null,null,null,null,null,null,null,null,null,null,null,null,null,null,null,null,null,null,null,null,null,null,null,null,null,null,null,null,null,null,null,null,null,null,null,null,null,null,null,null,null,null,null,null,null,null,null,null,null,null,null,null,null,null,null,null,null,null,null,null,0,{"$f":"IF($BL21=0,0,IF(ISERROR($BK21*BM21/100)=TRUE,0,$BK21*BM21/100))","v":0},0,0,0,0,0,0,0,0,0,0,0,0,0,0,0,0,0,0,0,0,0,0,0,0,0,0,0,0,0,0,0,0,0,0,0,0,0,0,0,0,0,0,0,0,0,0,0]
[null,null,null,null,null,null,null,null,null,null,null,null,null,null,null,null,null,null,null,null,null,null,null,null,null,null,null,null,null,null,null,null,null,null,null,null,null,null,null,null,null,null,null,null,null,null,null,null,null,null,null,null,null,null,null,null,null,null,null,null,null,null,null,0,{"$f":"IF($BL22=0,0,IF(ISERROR($BK22*BM22/100)=TRUE,0,$BK22*BM22/100))","v":0},0,0,0,0,0,0,0,0,0,0,0,0,0,0,0,0,0,0,0,0,0,0,0,0,0,0,0,0,0,0,0,0,0,0,0,0,0,0,0,0,0,0,0,0,0,0,0]
[null,null,null,null,null,null,null,null,null,null,null,null,null,null,null,null,null,null,null,null,null,null,null,null,null,null,null,null,null,null,null,null,null,null,null,null,null,null,null,null,null,null,null,null,null,null,null,null,null,null,null,null,null,null,null,null,null,null,null,null,null,null,null,0,{"$f":"IF($BL23=0,0,IF(ISERROR($BK23*BM23/100)=TRUE,0,$BK23*BM23/100))","v":0},0,0,0,0,0,0,0,0,0,0,0,0,0,0,0,0,0,0,0,0,0,0,0,0,0,0,0,0,0,0,0,0,0,0,0,0,0,0,0,0,0,0,0,0,0,0,0]
[null,null,null,null,null,null,null,null,null,null,null,null,null,null,null,null,null,null,null,null,null,null,null,null,null,null,null,null,null,null,null,null,null,null,null,null,null,null,null,null,null,null,null,null,null,null,null,null,null,null,null,null,null,null,null,null,null,null,null,null,null,null,null,0,{"$f":"IF($BL24=0,0,IF(ISERROR($BK24*BM24/100)=TRUE,0,$BK24*BM24/100))","v":0},0,0,0,0,0,0,0,0,0,0,0,0,0,0,0,0,0,0,0,0,0,0,0,0,0,0,0,0,0,0,0,0,0,0,0,0,0,0,0,0,0,0,0,0,0,0,0]
[null,null,null,null,null,null,null,null,null,null,null,null,null,null,null,null,null,null,null,null,null,null,null,null,null,null,null,null,null,null,null,null,null,null,null,null,null,null,null,null,null,null,null,null,null,"Sin.Amino Asitler","İhtiyaç","Rasyon",null,null,null,null,null,null,null,null,null,null,null,null,null,null,null,0,{"$f":"IF($BL25=0,0,IF(ISERROR($BK25*BM25/100)=TRUE,0,$BK25*BM25/100))","v":0},0,0,0,0,0,0,0,0,0,0,0,0,0,0,0,0,0,0,0,0,0,0,0,0,0,0,0,0,0,0,0,0,0,0,0,0,0,0,0,0,0,0,0,0,0,0,0]
[null,null,null,null,null,null,null,null,null,null,null,null,null,null,null,null,null,null,null,null,null,null,null,null,null,null,null,null,null,null,null,null,null,null,null,null,null,null,null,null,null,null,null,"Performans",null,"Sin. Met+Sis,%",{"$f":"VLOOKUP(KanatTipi,EA3:FM484,21,FALSE)","v":0},{"$f":"BY31","v":0.60980732538044835},null,null,null,null,null,null,null,null,null,null,null,null,null,null,null,0,{"$f":"IF($BL26=0,0,IF(ISERROR($BK26*BM26/100)=TRUE,0,$BK26*BM26/100))","v":0},0,0,0,0,0,0,0,0,0,0,0,0,0,0,0,0,0,0,0,0,0,0,0,0,0,0,0,0,0,0,0,0,0,0,0,0,0,0,0,0,0,0,0,0,0,0,0]
[null,null,null,null,null,null,null,null,null,null,null,null,null,null,null,null,null,null,null,null,null,null,null,null,null,null,null,null,null,null,null,null,null,null,null,null,null,null,null,null,null,null,null,"Adresleri",null,"Sin.Lizin,%",{"$f":"VLOOKUP(KanatTipi,EA3:FM484,25,FALSE)","v":0},{"$f":"CA31","v":0.88572859662180781},null,null,null,null,null,null,null,null,null,null,null,null,null,null,null,0,{"$f":"IF($BL27=0,0,IF(ISERROR($BK27*BM27/100)=TRUE,0,$BK27*BM27/100))","v":0},0,0,0,0,0,0,0,0,0,0,0,0,0,0,0,0,0,0,0,0,0,0,0,0,0,0,0,0,0,0,0,0,0,0,0,0,0,0,0,0,0,0,0,0,0,0,0]
[null,null,null,null,null,null,null,null,null,null,null,null,null,null,null,null,null,null,null,null,null,null,null,null,null,null,null,null,null,null,null,null,null,null,null,null,null,null,null,null,null,null,null,"DM",null,"Sin.Treonin,%",{"$f":"VLOOKUP(KanatTipi,EA3:FM484,29,FALSE)","v":0},{"$f":"DE31","v":0.54377500249721333},null,null,null,null,null,null,null,null,null,null,null,null,null,null,null,0,{"$f":"IF($BL28=0,0,IF(ISERROR($BK28*BM28/100)=TRUE,0,$BK28*BM28/100))","v":0},0,0,0,0,0,0,0,0,0,0,0,0,0,0,0,0,0,0,0,0,0,0,0,0,0,0,0,0,0,0,0,0,0,0,0,0,0,0,0,0,0,0,0,0,0,0,0]
[{"$f":"IF(B6=\"\",\"\",IF(C6=\"\",\"\",A6))","v":1},{"$f":"IF(B6=\"\",\"\",IF(C6=\"\",\"\",B6))","v":"MISIR, SARI"},{"$f":"IF(B6=\"\",\"\",IF(C6=\"\",\"\",C6))","v":47.780456902586188},null,null,null,null,null,null,null,null,null,null,null,null,null,null,null,null,null,null,null,null,null,null,null,null,null,null,null,null,null,null,null,null,null,null,null,null,null,null,null,null,"DN",null,"Sin.Triptofan,%",{"$f":"VLOOKUP(KanatTipi,EA3:FM484,33,FALSE)","v":0},{"$f":"DF31","v":0.17638360172059189},null,null,null,null,null,null,null,null,null,null,null,null,null,null,null,0,{"$f":"IF($BL29=0,0,IF(ISERROR($BK29*BM29/100)=TRUE,0,$BK29*BM29/100))","v":0},0,0,0,0,0,0,0,0,0,0,0,0,0,0,0,0,0,0,0,0,0,0,0,0,0,0,0,0,0,0,0,0,0,0,0,0,0,0,0,0,0,0,0,0,0,0,0,null,null,null,null,null,null,null,null,null,null,null,null,null,null,null,null,null,null,"TAVUK-ETÇİ TİP-TİCARİ"]
[1,"BUĞDAY,SERT,KIRMIZI,KIŞLIK",16.400309376121385,null,null,null,null,null,null,null,null,null,null,null,null,null,null,null,null,null,null,null,null,null,null,null,null,null,null,null,null,null,null,null,null,null,null,null,null,null,null,null,null,"DO",null,"Sin.Arjinin,%",{"$f":"VLOOKUP(KanatTipi,EA3:FM484,37,FALSE)","v":0},{"$f":"DG31","v":0.97863348677918671},null,null,null,null,null,null,null,null,null,null,null,null,null,null,null,null,2,3,4,5,6,7,8,9,10,11,12,13,14,15,16,17,18,19,20,21,22,23,24,25,26,27,28,29,30,31,32,33,34,35,36,37,38,39,40,41,42,43,44,45,46,47,48,49,50,51,null,null,null,null,null,null,null,null,null,null,null,null,null,null,null,null,null,null,null,null,null,null,null,null,null,null,null,null,null,null,null,null,null,null,null,null,null,null,null,null,null,null,null,null,null,null,null,null,null,null,null,null,null,{"$f":"FK59","v":0}]
[1,"BUĞDAY KEPEĞİ,RAZMOL",10,null,null,null,null,null,null,null,null,null,null,null,null,null,null,null,null,null,null,null,null,null,null,null,null,null,null,null,null,null,null,null,null,null,null,null,null,null,null,null,null,"DP",null,"Arjinin",{"$f":"VLOOKUP(KanatTipi,EA3:FM484,35,FALSE)","v":0},{"$f":"CD31","v":1.108530099525195},null,null,null,null,null,null,null,null,null,null,null,null,null,null,null,"ENERJİ KAYNAKLARI ve YAN ÜRÜNLERİ","KM","HP","ME","Ca","Top.P","Kul.P","K","Na","Cl","Metionin","Sistin","Met+Sis","Sin.Met+Sis","Lizin","Sin.Lizin","Treonin","Triptofan","Arjinin","İzolöysin","Löysin","Fenilalanin","Tirozin","HY","Linoleik","HS","HK","Nişasta","Şeker","NDF","ADF","Mg","S","Co","Cu","I","Fe","Mn","Se","Zn","Mo","Vit A,1000 IU/kg ","Vit D,1000 IU/kg ","Vit E,IU/kg","Sin.Met.","Sin.Treonin","Sin.Triptofan","Sin.Arjinin","Fiat,TL","Enaz","Ençok",null,null,null,null,null,null,null,null,null,null,null,null,null,null,null,null,"COBB 500, BAŞLANGIÇ (0-10 gün) (250 g CA'a kadar)",21,22,3035,{"$f":"ED60","v":3035},0.9,{"$f":"EF60","v":0.9},null,0.45,{"$f":"EI60","v":0.45},0.16,0.23,0.17,0.35,0.5,{"$f":"EO60","v":0.5},0.45,{"$f":"EQ60","v":0.45},0.98,{"$f":"ES60","v":0.98},0.88,{"$f":"EU60","v":0.88},1.32,{"$f":"EW60","v":1.32},1.18,{"$f":"EY60","v":1.18},0.86,{"$f":"FA60","v":0.86},0.77,{"$f":"FC60","v":0.77},0.2,{"$f":"FE60","v":0.2},0.18,{"$f":"FG60","v":0.18},1.38,{"$f":"FI60","v":1.38},1.24,1.24,1]
[1,"BİTKİSEL YAĞ",1.3164199415381654E-6,null,null,null,null,null,null,null,null,null,null,null,null,null,null,null,null,null,null,null,null,null,null,null,null,null,null,null,null,null,null,null,null,null,null,null,null,null,null,null,null,"DQ",null,"İzolöysin",null,{"$f":"CE31","v":0.72866271502625224},null,null,null,null,null,null,null,null,null,null,null,null,null,null,null,"ARPA",89,11,2640,0.03,0.36,0.17,0.48,0.04,0.15,0.18,0.24,0.42,{"$f":"BX61*0.8","v":0.33600000000000002},0.39,{"$f":"BZ61*0.78","v":0.30420000000000003},0.37,0.14000000000000001,0.52,0.37,0.76,0.56000000000000005,0.35,1.8,0.83,5.5,2.6389999999999998,60,0.8,18.928000000000001,6.5520000000000005,0.12740000000000001,0.10920000000000001,0.31850000000000001,5.46,0,63.7,20.02,0.10009999999999999,34.58,1.0010000000000001,0,0,0,{"$f":"BV61*0.815","v":0.1467},0.28999999999999998,0.15,0.41,8.5,0,30,null,null,null,null,null,null,null,null,null,null,null,null,null,null,null,null,"COBB 500, BÜYÜTME (11-22 gün) (1000 g CA'a kadar)",19,20,3108,3108,0.84,0.84,null,0.42,0.42,0.16,0.23,0.16,0.35,0.48,{"$f":"EO61","v":0.48},0.42,0.42,0.89,0.89,0.8,0.8,1.19,1.19,1.05,1.05,0.78,0.78,0.69,0.69,0.19,0.19,0.17,0.17,1.25,1.25,1.1000000000000001,1.1000000000000001,1]
[2,"SOYA KÜSPESİ, %46",13.139597327911934,null,null,null,null,null,null,null,null,null,null,null,null,null,null,null,null,null,null,null,null,null,null,null,null,null,null,null,null,null,null,null,null,null,null,null,null,null,null,null,null,"DR",null,"Löysin",null,{"$f":"CF31","v":1.4996782249557272},null,null,null,null,null,null,null,null,null,null,null,null,null,null,null,"ARPA,    (Devekuşu için)",89,11,3400,0.03,0.36,0.17,0.48,0.04,0.15,0.18,0.24,0.42,{"$f":"BX62*0.75","v":0.315},0.4,{"$f":"BZ62*0.86","v":0.34400000000000003},0.37,0.14000000000000001,0.52,0.37,0.76,0.56000000000000005,0.35,1.8,0.83,5.5,2.6389999999999998,60,0.8,18.928000000000001,6.5520000000000005,0.12740000000000001,0.10920000000000001,0.31850000000000001,5.46,0,63.7,20.02,0.10009999999999999,34.58,1.0010000000000001,0,0,0,{"$f":"BV62*0.815","v":0.1467},{"$f":"CB62*0.83","v":0.30709999999999998},{"$f":"CC62*0.75","v":0.10500000000000001},{"$f":"CD62*0.88","v":0.45760000000000001},8.5,5,40,null,null,null,null,null,null,null,null,null,null,null,null,null,null,null,null,"COBB 500, BİTİRME 1 (23-42 gün)",18,19,3180,3180,0.76,0.76,null,0.38,0.38,0.15,0.23,0.15,0.35,0.43,0.43,0.39,0.39,0.82,0.82,0.74,0.74,1.05,1.05,0.95,0.95,0.71,0.71,0.65,0.65,0.19,0.19,0.17,0.17,1.1299999999999999,1.1299999999999999,1.03,1.03,1]
[2,"SOYA KÜSPESİ, %51",6.6227824087799778,null,null,null,null,null,null,null,null,null,null,null,null,null,null,null,null,null,null,null,null,null,null,null,null,null,null,null,null,null,null,null,null,null,null,null,null,null,null,null,null,"DS",null,"Fenilalanin",null,{"$f":"CG31","v":0.83200515058295377},null,null,null,null,null,null,null,null,null,null,null,null,null,null,null,"ARPA, MALT ÇİLİ, KURU",93,22.9,1592,0.18,0.63,{"$f":"BQ63*0.3","v":0.189},0.43,0.08,0,0.2,0.34,0.54,{"$f":"BX63*0.84","v":0.4536},1.1200000000000001,0.96320000000000006,0.4,0.2,0.4,0.6,0.7,0.6,0,1.4,0,14.2,6.51,15,0.3,42.534999999999997,19.728999999999999,0.16289999999999999,0.26244999999999996,0,8.1449999999999996,0,319.46499999999997,44.344999999999999,0.60635000000000006,58.825000000000003,1.81,0,0,0,{"$f":"BV63*0.815","v":0.16300000000000001},{"$f":"CB63*0.83","v":0.33200000000000002},{"$f":"CC63*0.75","v":0.15000000000000002},{"$f":"CD63*0.88","v":0.35200000000000004},9,0,10,null,null,null,null,null,null,null,null,null,null,null,null,null,null,null,null,"COBB 500, BİTİRME 2 (43 gün-)",17,18,3203,3203,0.76,0.76,null,0.38,0.38,0.15,0.23,0.15,0.35,0.41,0.41,0.37,0.37,0.78,0.78,0.7,0.7,1,1,0.9,0.9,0.68,0.68,0.61,0.61,0.18,0.18,0.16,0.16,1.08,1.08,0.97,0.97,1]
[2,"AYÇİÇEĞİ KÜSPESİ, %23HP",2.1107231109609779,null,null,null,null,null,null,null,null,null,null,"Yemin Miktarı :",null,null,null,null,null,null,null,null,null,null,null,null,null,null,null,null,null,null,null,null,null,null,null,null,null,null,null,null,null,null,null,"Tirozin",null,{"$f":"CH31","v":0.64489138413145075},null,null,null,null,null,null,null,null,null,null,null,null,null,null,null,"ARPA, SAHİL",89,9.1999999999999993,2620,0.03,0.36,0.16,0.53,0.02,0.15,0.13,0.18,0.31,{"$f":"BX64*0.75","v":0.23249999999999998},0.28999999999999998,0.24939999999999998,0.3,0.12,0.48,0.4,0.6,0.48,0.31,2,0.85,6.4,2.6389999999999998,53,0.8,18.928000000000001,6.5520000000000005,0.12740000000000001,0.10920000000000001,0.31850000000000001,5.46,0,63.7,20.02,0.10009999999999999,34.58,1.0010000000000001,0,0,0,{"$f":"BV64*0.815","v":0.10595},{"$f":"CB64*0.83","v":0.24899999999999997},{"$f":"CC64*0.75","v":0.09},{"$f":"CD64*0.88","v":0.4224},8,0,20]
[3,"DİKALSİYUM FOSFAT",1.7648822732359963,null,null,null,null,null,null,null,null,null,null,null,null,null,null,null,null,null,null,null,null,null,null,null,null,null,null,null,null,null,null,null,null,null,null,null,null,null,null,null,null,"Performans",null,null,null,null,null,null,null,null,null,null,null,null,null,null,null,null,null,null,null,"ASİT YAĞ",100,0,6500,0,0,0,0,0,0,0,0,0,0,0,0,0,0,0,0,0,0,0,100,58,0,null,null,null,null,null,null,null,null,null,null,null,null,null,null,null,null,null,null,null,null,null,null,50,0,4,null,null,null,null,null,null,null,null,null,null,null,null,null,null,null,null,"NRC  0-3 haftalık BROYLER",23,{"$f":"EB65","v":23},3200,{"$f":"ED65","v":3200},1,{"$f":"EF65","v":1},null,0.45,{"$f":"EI65","v":0.45},0.2,{"$f":"EK65/0.75","v":0.26666666666666666},0.2,{"$f":"EM65/0.75","v":0.26666666666666666},0.5,{"$f":"EO65","v":0.5},null,null,0.9,{"$f":"ES65","v":0.9},null,null,1.1000000000000001,{"$f":"EW65","v":1.1000000000000001},null,null,0.8,{"$f":"FA65","v":0.8},null,null,0.2,{"$f":"FE65","v":0.2},null,null,null,null,null,null,1]
[3,"MERMER TOZU",1.3121932513614742,null,null,null,null,null,null,null,null,null,null,null,null,null,null,null,null,null,null,null,null,null,null,null,null,null,null,null,null,null,null,null,null,null,null,null,null,null,null,null,null,"Adresleri",null,null,null,null,null,null,null,null,null,null,null,null,null,null,null,null,null,null,null,"BAKLA",87,24,2431,0.13,0.54,0.15,1.2,0.08,0.04,0.18,0.28000000000000003,0.46,{"$f":"(BV66*0.91+BW66*0.76)","v":0.37660000000000005},1.5,{"$f":"BZ66*0.86","v":1.29},0.85,0.2,2.12,0.95,1.76,1,0.8,1.4,0,7,3.3,39,3,12,8,1.5,null,null,10,null,70,8,null,30,null,null,null,null,{"$f":"BV66*0.815","v":0.1467},{"$f":"CB66*0.83","v":0.7054999999999999},{"$f":"CC66*0.75","v":0.15000000000000002},{"$f":"CD66*0.88","v":1.8656000000000001},65,0,10,null,null,null,null,null,null,null,null,null,null,null,null,null,null,null,null,"NRC  3-6 haftalık BROYLER",20,{"$f":"EB66","v":20},3200,{"$f":"ED66","v":3200},0.9,{"$f":"EF66","v":0.9},null,0.35,{"$f":"EI66","v":0.35},0.15,{"$f":"EK66/0.75","v":0.19999999999999998},0.15,0.19999999999999998,0.38,0.38,null,null,0.72,0.72,null,null,1,1,null,null,0.74,0.74,null,null,0.18,0.18,null,null,null,null,null,null,1]
[3,"TUZ",0.30484957366522464,null,null,null,null,null,null,null,null,null,null,null,null,null,null,null,null,null,null,null,null,null,null,null,null,null,null,null,null,null,null,null,null,null,null,null,null,null,null,null,null,"DT",null,null,null,null,null,null,null,null,null,null,null,null,null,null,null,null,null,null,null,"BEZELYE",87,23.8,2570,0.11,0.42,0.15,1.02,0.04,0.06,0.24,0.33,0.56999999999999995,{"$f":"BX67*0.75","v":0.42749999999999999},1.68,{"$f":"BZ67*0.86","v":1.4447999999999999},0.84,0.18,2.23,0.97,1.65,1.1000000000000001,0.73,1.3,0,5.5,3.5,42,2.1,11,6,1.3,null,null,6,null,98,8,null,33,null,null,null,null,{"$f":"BV67*0.815","v":0.19559999999999997},{"$f":"CB67*0.83","v":0.69719999999999993},{"$f":"CC67*0.75","v":0.13500000000000001},{"$f":"CD67*0.88","v":1.9623999999999999},20,0,10,null,null,null,null,null,null,null,null,null,null,null,null,null,null,null,null,"NRC  6-8 haftalık BROYLER",18,{"$f":"EB67","v":18},3200,{"$f":"ED67","v":3200},0.8,{"$f":"EF67","v":0.8},null,0.3,{"$f":"EI67","v":0.3},0.12,0.16,0.12,0.16,0.32,0.32,null,null,0.6,0.6,null,null,0.85,0.85,null,null,0.68,0.68,null,null,0.16,0.16,null,null,null,null,null,null,1]
[3,"VİTAMİN-MİNERAL KARMASI",0.25,null,null,null,null,null,null,null,null,null,null,null,null,null,null,null,null,null,null,null,null,null,null,null,null,null,null,null,null,null,null,null,null,null,null,null,null,null,null,null,null,"DU",null,null,null,null,null,null,null,null,null,null,null,null,null,null,null,null,null,null,null,"BİTKİSEL YAĞ",99,0,9250,0,0,0,0,0,0,0,0,0,0,0,0,0,0,0,0,0,0,0,98.7,51,0,null,null,null,null,null,null,null,null,null,null,null,null,null,null,null,null,null,null,null,null,null,null,50,0,10]
[3,"L-LİZİN hidroklorid",0.17475378360776825,null,null,null,null,null,null,null,null,null,null,null,null,null,null,null,null,null,null,null,null,null,null,null,null,null,null,null,null,null,null,null,null,null,null,null,null,null,null,null,null,"DV",null,null,null,null,null,null,null,null,null,null,null,null,null,null,null,null,null,null,null,"BUĞDAY KEPEĞİ,    (Devekuşu için)",89,15.7,2804,0.14000000000000001,1.1499999999999999,0.6,1.19,0.05,0.06,0.23,0.32,0.2,0.15,0.61,0.42,0.34,0.31,0.85,0.47,0.96,0.61,0.46,3,1.7,11,5.6132999999999988,12,6.5,37.867499999999993,13.810499999999999,0.47222999999999998,0.18711,0,9.8009999999999984,0,139.887,108.70199999999998,0.44549999999999995,75.734999999999985,2.2275,0,0,0,{"$f":"BV69*0.815","v":0.18745000000000001},0.28000000000000003,0.24,0.79,7,0,20,null,null,null,null,null,null,null,null,null,null,null,null,null,null,null,null,"ROSS 308, (≤1,6 kg CA) , BAŞLANGIÇ (0-10 gün)",23,{"$f":"EB69","v":23},3000,{"$f":"ED69","v":3000},0.96,{"$f":"EF69","v":0.96},null,0.48,{"$f":"EI69","v":0.48},0.16,0.23,0.16,0.23,0.56000000000000005,{"$f":"EO69","v":0.56000000000000005},0.51,{"$f":"EQ69","v":0.51},1.08,{"$f":"ES69","v":1.08},0.95,{"$f":"EU69","v":0.95},1.44,{"$f":"EW69","v":1.44},1.28,{"$f":"EY69","v":1.28},0.97,0.97,0.86,{"$f":"FC69","v":0.86},0.23,{"$f":"FE69","v":0.23},0.2,{"$f":"FG69","v":0.2},1.52,{"$f":"FI69","v":1.52},1.37,{"$f":"FK69","v":1.37},1.25]
[3,"DL-METHİONİN",0.11539575597031049,null,null,null,null,null,null,null,null,null,null,null,null,null,null,null,null,null,null,null,null,null,null,null,null,null,null,null,null,null,null,null,null,null,null,null,null,null,null,null,null,"DW",null,null,null,null,null,null,null,null,null,null,null,null,null,null,null,null,null,null,null,"BUĞDAY KEPEĞİ, KABA",89,15.7,1300,0.14000000000000001,1.1499999999999999,0.6,1.19,0.05,0.06,0.23,0.32,0.2,0.15,0.61,0.42,0.34,0.31,0.85,0.47,0.96,0.61,0.46,3,1.7,11,5.6132999999999988,12,6.5,37.867499999999993,13.810499999999999,0.47222999999999998,0.18711,0,9.8009999999999984,0,139.887,108.70199999999998,0.44549999999999995,75.734999999999985,2.2275,0,0,0,0.18745000000000001,0.28000000000000003,0.24,0.79,7,0,10,null,null,null,null,null,null,null,null,null,null,null,null,null,null,null,null,"ROSS 308, (≤1,6 kg CA) , BÜYÜTME (11-24 gün)",21.5,21.5,3100,3100,0.87,0.87,null,0.435,0.435,0.16,0.23,0.16,0.23,0.51,0.51,0.47,0.47,0.99,0.99,0.87,0.87,1.29,1.29,1.1499999999999999,1.1499999999999999,0.88,0.88,0.77,0.77,0.21,0.21,0.18,0.18,1.37,1.37,1.23,1.23,1.2]
[3,"L-TREONİN",2.4054919378807719E-2,null,null,null,null,null,null,null,null,null,null,null,null,null,null,null,null,null,null,null,null,null,null,null,null,null,null,null,null,null,null,null,null,null,null,null,null,null,null,null,null,"DX",null,null,null,null,null,null,null,null,null,null,null,null,null,null,null,null,null,null,null,"BUĞDAY KEPEĞİ,RAZMOL",88,15,2000,0.12,0.85,0.45,0.99,0.12,0.03,0.21,0.32,0.2,0.15,0.61,0.42,0.34,0.31,0.85,0.57999999999999996,1.07,0.64,0.45,3,1.87,7.5,4.4749999999999996,18,4,32.846499999999999,10.829500000000001,0.37589999999999996,0.16109999999999999,0,8.9499999999999993,0,141.41,111.875,0.41170000000000001,81.444999999999993,2.2374999999999998,0,0,0,0.17114999999999997,0.28000000000000003,0.24,0.79,9,0,10,null,null,null,null,null,null,null,null,null,null,null,null,null,null,null,null,"ROSS 308, (≤1,6 kg CA) , BİTİRME (25 gün-)",20,20,3200,3200,0.81,0.81,null,0.40500000000000003,{"$f":"EI71","v":0.40500000000000003},0.16,0.2,0.16,0.23,0.48,0.48,0.45,0.45,0.94,0.94,0.83,0.83,1.19,1.19,1.06,1.06,0.81,0.81,0.71,0.71,0.19,0.19,0.17,0.17,1.26,1.26,1.1299999999999999,1.1299999999999999,1]
[3,"L-TRİPTOFAN",0,null,null,null,null,null,null,null,null,null,null,null,null,null,null,null,null,null,null,null,null,null,null,null,null,null,null,null,null,null,null,null,null,null,null,null,null,null,null,null,null,"DY",null,null,null,null,null,null,null,null,null,null,null,null,null,null,null,null,null,null,null,"BUĞDAY KEPEĞİ,RAZMOL,    (Devekuşu için)",88,15,2000,0.12,0.85,0.45,0.99,0.12,0.03,0.21,0.32,0.2,0.15,0.61,0.42,0.34,0.31,0.85,0.57999999999999996,1.07,0.64,0.45,3,1.87,7.5,4.4749999999999996,18,4,32.846499999999999,10.829500000000001,0.37589999999999996,0.16109999999999999,0,8.9499999999999993,0,141.41,111.875,0.41170000000000001,81.444999999999993,2.2374999999999998,0,0,0,0.17114999999999997,0.28000000000000003,0.24,0.79,9,0,15,null,null,null,null,null,null,null,null,null,null,null,null,null,null,null,null,"ROSS 308, (1,7-2,4 kg CA) , BAŞLANGIÇ (0-10 gün)",23,23,3000,3000,0.96,0.96,null,0.48,0.48,0.16,0.23,0.16,0.23,0.56000000000000005,0.56000000000000005,0.51,0.51,1.08,1.08,0.95,0.95,1.44,1.44,1.28,1.28,0.97,0.97,0.86,0.86,0.23,0.23,0.2,0.2,1.52,1.52,1.37,1.37,1.25]
[0,0,0,null,null,null,null,null,null,null,null,null,null,null,null,null,null,null,null,null,null,null,null,null,null,null,null,null,null,null,null,null,null,null,null,null,null,null,null,null,null,null,null,"DZ",null,null,null,null,null,null,null,null,null,null,null,null,null,null,null,null,null,null,null,"BUĞDAY UNU, BONKALİTE",88,15.3,2568,0.04,0.49,0.25,0.51,0.04,0.14000000000000001,0.23,0.37,0.6,0.45,0.59,0.4,0.5,0.1,0.96,0.55000000000000004,1.06,0.66,0.46,3.3,0,2.6,2.3760000000000003,45,3.5,17.600000000000001,5.28,0.36959999999999998,0.15839999999999999,0,8.8000000000000007,0,139.04,110,0.40480000000000005,80.08,2.2000000000000002,0,0,0,0.18745000000000001,0.28000000000000003,0.24,0.79,12,0,10,null,null,null,null,null,null,null,null,null,null,null,null,null,null,null,null,"ROSS 308, (1,7-2,4 kg CA) , BÜYÜTME (11-24 gün)",21.5,21.5,3100,3100,0.87,0.87,null,0.435,0.435,0.16,0.23,0.16,0.23,0.51,0.51,0.47,0.47,0.99,0.99,0.87,0.87,1.29,1.29,1.1499999999999999,1.1499999999999999,0.88,0.88,0.77,0.77,0.21,0.21,0.18,0.18,1.37,1.37,1.23,1.23,1.2]
[0,0,0,null,null,null,null,null,null,null,null,null,null,null,null,null,null,null,null,null,null,null,null,null,null,null,null,null,null,null,null,null,null,null,null,null,null,null,null,null,null,null,null,null,null,null,null,null,null,null,null,null,null,null,null,null,null,null,null,null,null,null,null,"BUĞDAY UNU, BONKALİTE,İNCE KEPEK",88,16.5,2162,0.09,0.81,0.4,0.93,0.02,7.0000000000000007E-2,0.27,0.36,0.63,{"$f":"(BV74*0.8+BW74*0.69)","v":0.46440000000000003},0.79,{"$f":"BZ74*0.81","v":0.63990000000000002},0.6,0.21,1.18,0.57999999999999996,1.0900000000000001,0.67,0.47,4.5999999999999996,0,6.8,2.3760000000000003,45,3.5,17.600000000000001,5.28,0.36959999999999998,0.15839999999999999,0,8.8000000000000007,0,139.04,110,0.40480000000000005,80.08,2.2000000000000002,0,0,0,0.22005,0.28000000000000003,0.24,0.79,11,0,10,null,null,null,null,null,null,null,null,null,null,null,null,null,null,null,null,"ROSS 308, (1,7-2,4 kg CA) , BİTİRME (25 gün-)",19.5,19.5,3200,3200,0.79,0.79,null,0.39500000000000002,{"$f":"EI74","v":0.39500000000000002},0.16,0.2,0.16,0.23,0.47,0.47,0.43,0.43,0.91,0.91,0.8,0.8,1.1599999999999999,1.1599999999999999,1.03,1.03,0.78,0.78,0.69,0.69,0.19,0.19,0.16,0.16,1.22,1.22,1.1000000000000001,1.1000000000000001,1]
[0,0,0,null,null,null,null,null,null,null,null,null,null,null,null,null,null,null,null,null,null,null,null,null,null,null,null,null,null,null,null,null,null,null,null,null,null,null,null,null,null,null,null,null,null,null,null,null,null,null,null,null,null,null,null,null,null,null,null,null,null,null,null,"BUĞDAY,    (Devekuşu için)",87,14.1,2900,0.05,0.37,0.13,0.45,0.04,0.05,0.21,0.3,0.51,{"$f":"BX75*0.87","v":0.44369999999999998},0.37,0.29970000000000002,0.39,0.16,0.6,0.44,0.89,0.6,0.43,2.5,0.59,3,1.78,65,3.1,11.9796,3.9336000000000007,0.1341,0.1341,0,4.47,0,64.367999999999995,37.548000000000002,0.25032000000000004,35.76,1.1622000000000001,0,0,0,0.17114999999999997,{"$f":"CB75*0.83","v":0.32369999999999999},{"$f":"CC75*0.75","v":0.12},{"$f":"CD75*0.88","v":0.52800000000000002},10.5,0,60,null,null,null,null,null,null,null,null,null,null,null,null,null,null,null,null,"ROSS 308, (2,5-3,0 kg CA) , BAŞLANGIÇ (0-10 gün)",23.5,23.5,3000,3000,0.96,0.96,null,0.48,0.48,0.16,0.23,0.16,0.23,0.56000000000000005,0.56000000000000005,0.51,0.51,1.08,1.08,0.95,0.95,1.44,1.44,1.28,1.28,0.97,0.97,0.86,0.86,0.23,0.23,0.2,0.2,1.52,1.52,1.37,1.37,1.25]
[0,0,0,null,null,null,null,null,null,null,null,null,null,null,null,null,null,null,null,null,null,null,null,null,null,null,null,null,null,null,null,null,null,null,null,null,null,null,null,null,null,null,null,null,null,null,null,null,null,null,null,null,null,null,null,null,null,null,null,null,null,null,null,"BUĞDAY, KARA",88,10.8,2660,0.09,0.32,0.12,0.4,0.05,0.04,0.2,0.2,0.4,{"$f":"BX76*0.87","v":0.34800000000000003},0.61,0.49410000000000004,0.46,0.19,1.02,0.37,0.56000000000000005,0.44,0.21,2.5,0,10.5,2.11,48,1.5,11.9796,3.9336000000000007,0.1341,0.1341,0,4.47,0,64.367999999999995,37.548000000000002,0.25032000000000004,35.76,1.1622000000000001,0,0,0,0.16300000000000001,0.38179999999999997,0.14250000000000002,0.89760000000000006,10.5,0,60,null,null,null,null,null,null,null,null,null,null,null,null,null,null,null,null,"ROSS 308, (2,5-3,0 kg CA) , BÜYÜTME (11-24 gün)",21.5,21.5,3100,3100,0.87,0.87,null,0.435,0.435,0.16,0.23,0.16,0.23,0.51,0.51,0.47,0.47,0.99,0.99,0.87,0.87,1.29,1.29,1.1499999999999999,1.1499999999999999,0.88,0.88,0.77,0.77,0.21,0.21,0.18,0.18,1.37,1.37,1.23,1.23,1.2]
[0,0,0,null,null,null,null,null,null,null,null,null,null,null,null,null,null,null,null,null,null,null,null,null,null,null,null,null,null,null,null,null,null,null,null,null,null,null,null,null,null,null,null,null,null,null,null,null,null,null,null,null,null,null,null,null,null,null,null,null,null,null,null,"BUĞDAY,DURUM",88,13.8,3200,0.1,0.36,{"$f":"BQ77*0.3","v":0.108},0.4,0.05,0.04,0.15,0.22,0.27,{"$f":"BX77*0.87","v":0.23490000000000003},1.05,0.85050000000000014,0.39,0.16,0.6,0.44,0.89,0.6,0.43,1.8,0.81,2.2000000000000002,1.78,65,3.1,11.9796,3.9336000000000007,0.1341,0.1341,0,4.47,0,64.367999999999995,37.548000000000002,0.25032000000000004,35.76,1.1622000000000001,0,0,0,0.12224999999999998,0.32369999999999999,0.12,0.52800000000000002,10.5,0,60,null,null,null,null,null,null,null,null,null,null,null,null,null,null,null,null,"ROSS 308, (2,5-3,0 kg CA) , BİTİRME 1 (25-39 gün)",19.5,19.5,3200,3200,0.78,0.78,null,0.39,{"$f":"EI77","v":0.39},0.16,0.2,0.16,0.23,0.47,0.47,0.43,0.43,0.9,0.9,0.8,0.8,1.1499999999999999,1.1499999999999999,1.02,1.02,0.78,0.78,0.68,0.68,0.18,0.18,0.16,0.16,1.21,1.21,1.0900000000000001,1.0900000000000001,1]
[0,0,0,null,null,null,null,null,null,null,null,null,null,null,null,null,null,null,null,null,null,null,null,null,null,null,null,null,null,null,null,null,null,null,null,null,null,null,null,null,null,null,null,null,null,null,null,null,null,null,null,null,null,null,null,null,null,null,null,null,null,null,null,"BUĞDAY,SERT,KIRMIZI,KIŞLIK",87,14.1,2900,0.05,0.37,0.13,0.45,0.04,0.05,0.21,0.3,0.51,{"$f":"BX78*0.87","v":0.44369999999999998},0.37,0.29970000000000002,0.39,0.16,0.6,0.44,0.89,0.6,0.43,2.5,0.59,3,1.78,65,3.1,11.9796,3.9336000000000007,0.1341,0.1341,0,4.47,0,64.367999999999995,37.548000000000002,0.25032000000000004,35.76,1.1622000000000001,0,0,0,0.17114999999999997,0.32369999999999999,0.12,0.52800000000000002,10.5,0,60,null,null,null,null,null,null,null,null,null,null,null,null,null,null,null,null,"ROSS 308, (2,5-3,0 kg CA) , BİTİRME 2 (40 gün-)",18.3,18.3,3200,3200,0.75,0.75,null,0.375,{"$f":"EI78","v":0.375},0.16,0.2,0.16,0.23,0.44,0.44,0.4,0.4,0.85,0.85,0.75,0.75,1.08,1.08,0.96,0.96,0.73,0.73,0.64,0.64,0.17,0.17,0.15,0.15,1.1399999999999999,1.1399999999999999,1.03,1.03,1]
[0,0,0,null,null,null,null,null,null,null,null,null,null,null,null,null,null,null,null,null,null,null,null,null,null,null,null,null,null,null,null,null,null,null,null,null,null,null,null,null,null,null,null,null,null,null,null,null,null,null,null,null,null,null,null,null,null,null,null,null,null,null,null,"BUĞDAY,YUMUŞAK,BEYAZ,KIŞLIK",89,11.5,3120,0.05,0.31,{"$f":"BQ79*0.3","v":9.2999999999999999E-2},0.42,0.06,0.05,0.15,0.22,0.37,{"$f":"BX79*0.87","v":0.32190000000000002},0.31,0.25109999999999999,0.32,0.12,0.4,0.42,0.59,0.45,0.39,2.5,0,3,1.65,62,3,11.9796,3.9336000000000007,0.1341,0.1341,0,4.47,0,64.367999999999995,37.548000000000002,0.25032000000000004,35.76,1.1622000000000001,0,0,0,0.12224999999999998,0.2656,0.09,0.35200000000000004,10.5,0,60,null,null,null,null,null,null,null,null,null,null,null,null,null,null,null,null,"ROSS 308, (3,1-3,5 kg CA) , BAŞLANGIÇ (0-10 gün)",23,23,3000,3000,0.96,0.96,null,0.48,{"$f":"EI79","v":0.48},0.16,0.23,0.16,0.23,0.56000000000000005,0.56000000000000005,0.51,0.51,1.08,1.08,0.95,0.95,1.44,1.44,1.28,1.28,0.97,0.97,0.86,0.86,0.23,0.23,0.2,0.2,1.52,1.52,1.37,1.37,1.25]
[0,0,0,null,null,null,null,null,null,null,null,null,null,null,null,null,null,null,null,null,null,null,null,null,null,null,null,null,null,null,null,null,null,null,null,null,null,null,null,null,null,null,null,null,null,null,null,null,null,null,null,null,null,null,null,null,null,null,null,null,null,null,null,"ÇAVDAR",88,12.1,2626,0.06,0.32,0.06,0.46,0.02,0.03,0.17,0.19,0.36,0.3,0.42,0.3,0.36,0.11,0.53,0.47,0.7,0.56000000000000005,0.26,1.5,0,2.2000000000000002,1.72,58,3,11,3.5,null,null,null,null,null,null,15,null,20,null,null,null,null,0.13855000000000001,0.29879999999999995,8.2500000000000004E-2,0.46640000000000004,35,0,10,null,null,null,null,null,null,null,null,null,null,null,null,null,null,null,null,"ROSS 308, (3,1-3,5 kg CA) , BÜYÜTME (11-24 gün)",21.5,21.5,3100,3100,0.87,0.87,null,0.435,0.435,0.16,0.23,0.16,0.23,0.51,0.51,0.47,0.47,0.99,0.99,0.87,0.87,1.29,1.29,1.1499999999999999,1.1499999999999999,0.88,0.88,0.77,0.77,0.21,0.21,0.18,0.18,1.37,1.37,1.23,1.23,1.2]
[0,0,0,null,null,null,null,null,null,null,null,null,null,null,null,null,null,null,null,null,null,null,null,null,null,null,null,null,null,null,null,null,null,null,null,null,null,null,null,null,null,null,null,null,null,null,null,null,null,null,null,null,null,null,null,null,null,null,null,null,null,null,null,"DARI",91,14,2675,0.05,0.32,0.12,0.43,0.04,0.14000000000000001,0.25,0.24,0.49,0.3,0.45,0.28000000000000003,0.48,0.08,0.74,0.37,1.1399999999999999,0.56000000000000005,0.36,4.3,0.84,3,3.73,50,1.3,14,12,1.5,null,null,4.3,null,108,10,null,20,null,null,null,null,0.20374999999999999,0.39839999999999998,0.06,0.6512,40,0,30,null,null,null,null,null,null,null,null,null,null,null,null,null,null,null,null,"ROSS 308, (3,1-3,5 kg CA) , BİTİRME 1 (25-39 gün)",19.5,19.5,3200,3200,0.78,0.78,null,0.39,{"$f":"EI81","v":0.39},0.16,0.2,0.16,0.23,0.47,0.47,0.43,0.43,0.9,0.9,0.8,0.8,1.1499999999999999,1.1499999999999999,1.02,1.02,0.78,0.78,0.68,0.68,0.18,0.18,0.16,0.16,1.21,1.21,1.0900000000000001,1.0900000000000001,1]
[0,0,0,null,null,null,null,null,null,null,null,null,null,null,null,null,null,null,null,null,null,null,null,null,null,null,null,null,null,null,null,null,null,null,null,null,null,null,null,null,null,null,null,null,null,"Vitaminler","Rasyon",null,null,null,null,null,null,null,null,null,null,null,null,null,null,null,null,"DARI,AK",90,11.6,2898,0.03,0.3,0.14000000000000001,0.43,0.04,0.14000000000000001,0.16,0.17,0.33,0.3,0.21,0.12,0.28999999999999998,0.08,0.35,0.35,1.1399999999999999,0.47,0.34,3.5,0,6.1,3.73,50,1.3,14,12,1.5,null,null,4.3,null,108,10,null,20,null,null,null,null,0.13039999999999999,0.24069999999999997,0.06,0.308,40,0,30,null,null,null,null,null,null,null,null,null,null,null,null,null,null,null,null,"ROSS 308, (3,1-3,5 kg CA) , BİTİRME 2 (40-46 gün)",18,18,3225,3225,0.74,0.74,null,0.37,{"$f":"EI82","v":0.37},0.16,0.2,0.16,0.23,0.44,0.44,0.4,0.4,0.85,0.85,0.75,0.75,1.08,1.08,0.96,0.96,0.73,0.73,0.64,0.64,0.17,0.17,0.15,0.15,1.1499999999999999,1.1499999999999999,1.04,1.04,1]
[0,0,0,null,null,null,null,null,null,null,null,null,null,null,null,null,null,null,null,null,null,null,null,null,null,null,null,null,null,null,null,null,null,null,null,null,null,null,null,null,null,null,null,null,null,"Vit. A, IU/kg",{"$f":"DA31","v":15},null,null,null,null,null,null,null,null,null,null,null,null,null,null,null,null,"FIRIN ARTIKLARI, KURUTULMUŞ",92,9.8000000000000007,3682,0.13,0.24,{"$f":"BQ83*0.2","v":4.8000000000000001E-2},0.35,1.1399999999999999,1.23,0.17,0.17,0.4,0.34,0.28999999999999998,{"$f":"BZ83*0.64","v":0.18559999999999999},0.3,0.13,0.5,0.45,0.73,0.4,0.41,11.7,0,0,1.9123999999999999,50,3.1,8,4,0.09,0.11,0.22,3.75,0,190.4,19.89,0.06,38.729999999999997,0.56000000000000005,0,0,0,0.13855000000000001,0.21,0.08,0.4,45,0,10,null,null,null,null,null,null,null,null,null,null,null,null,null,null,null,null,"ROSS 308, (3,1-3,5 kg CA) , BİTİRME 3 (47 gün-)",17.5,17.5,3225,3225,0.73,0.73,null,0.36499999999999999,{"$f":"EI83","v":0.36499999999999999},0.16,0.2,0.16,0.23,0.42,0.42,0.39,0.39,0.82,0.82,0.73,0.73,1.04,1.04,0.93,0.93,0.71,0.71,0.62,0.62,0.17,0.17,0.15,0.15,1.1200000000000001,1.1200000000000001,1,1,1]
[null,null,null,null,null,null,null,null,null,null,null,null,null,null,null,null,null,null,null,null,null,null,null,null,null,null,null,null,null,null,null,null,null,null,null,null,null,null,null,null,null,null,null,null,null,"Vit D, IU/kg",{"$f":"DB31","v":3.3},null,null,null,null,null,null,null,null,null,null,null,null,null,null,null,null,"HAYVANSAL YAĞ",99,0,8500,0,0,0,0,0,0,0,0,0,0,0,0,0,0,0,0,0,0,0,98.4,3.5,0,null,null,null,null,null,null,null,null,null,null,null,null,null,null,null,null,null,null,null,null,null,null,150,0,5,null,null,null,null,null,null,null,null,null,null,null,null,null,null,null,null,"ROSS 308, (3,6-4,0 kg CA) , BAŞLANGIÇ (0-10 gün)",23,23,3000,3000,0.96,0.96,null,0.48,{"$f":"EI84","v":0.48},0.16,0.23,0.16,0.23,0.56000000000000005,0.56000000000000005,0.51,0.51,1.08,1.08,0.95,0.95,1.44,1.44,1.28,1.28,0.97,0.97,0.86,0.86,0.23,0.23,0.2,0.2,1.52,1.52,1.37,1.37,1.25]
[null,null,null,null,null,null,null,null,null,null,null,null,null,null,null,null,null,null,null,null,null,null,null,null,null,null,null,null,null,null,null,null,null,null,null,null,null,null,null,null,null,null,null,null,null,"Vit E, IU/kg",{"$f":"DC31","v":25},null,null,null,null,null,null,null,null,null,null,null,null,null,null,null,null,"MELAS",78,6.6,1929,0.12,0.03,{"$f":"BQ85*0.3","v":8.9999999999999993E-3},4,1,1.3,0.05,0.05,0.1,{"$f":"BX85*0.75","v":7.5000000000000011E-2},0.04,{"$f":"BZ85*0.86","v":3.44E-2},0.06,0.1,0.02,0.23,0.22,0,0,0.2,0,0,8.8806000000000012,null,55.5,0.1,0.1,0.22591,0.46740000000000004,0,17.138000000000002,0,67.772999999999996,51.414000000000009,0,14.022,0,0,0,0,{"$f":"BV85*0.815","v":4.0750000000000001E-2},{"$f":"CB85*0.83","v":4.9799999999999997E-2},{"$f":"CC85*0.75","v":7.5000000000000011E-2},{"$f":"CD85*0.88","v":1.7600000000000001E-2},35,0,5,null,null,null,null,null,null,null,null,null,null,null,null,null,null,null,null,"ROSS 308, (3,6-4,0 kg CA) , BÜYÜTME (11-24 gün)",21.5,21.5,3100,3100,0.87,0.87,null,0.435,0.435,0.16,0.23,0.16,0.23,0.51,0.51,0.47,0.47,0.99,0.99,0.87,0.87,1.29,1.29,1.1499999999999999,1.1499999999999999,0.88,0.88,0.77,0.77,0.21,0.21,0.18,0.18,1.37,1.37,1.23,1.23,1.2]
[null,null,null,null,null,null,null,null,null,null,null,null,null,null,null,null,null,null,null,null,null,null,null,null,null,null,null,null,null,null,null,null,null,null,null,null,null,null,null,null,null,null,null,null,null,null,null,null,null,null,null,null,null,null,null,null,null,null,null,null,null,null,null,"MERCİMEK",88,24.7,2585,0.1,0.4,0.13,1,0.01,0.03,0.25,0.22,0.47,0.35249999999999998,1.68,1.3,1.0900000000000001,0.28000000000000003,1.9,1.1599999999999999,1.98,0,0,1.7,0,4.3,3.17,32,null,11,5,1,null,null,12,null,80,15,null,35,null,null,null,null,0.20374999999999999,0.90470000000000006,0.21000000000000002,1.6719999999999999,20,0,10,null,null,null,null,null,null,null,null,null,null,null,null,null,null,null,null,"ROSS 308, (3,6-4,0 kg CA) , BİTİRME 1 (25-39 gün)",19.5,19.5,3200,3200,0.78,0.78,null,0.39,{"$f":"EI86","v":0.39},0.16,0.2,0.16,0.23,0.47,0.47,0.43,0.43,0.9,0.9,0.8,0.8,1.1499999999999999,1.1499999999999999,1.02,1.02,0.78,0.78,0.68,0.68,0.18,0.18,0.16,0.16,1.21,1.21,1.0900000000000001,1.0900000000000001,1]
[null,null,null,null,null,null,null,null,null,null,null,null,null,null,null,null,null,null,null,null,null,null,null,null,null,null,null,null,null,null,null,null,null,null,null,null,null,null,null,null,null,null,null,null,null,null,null,null,null,null,null,null,null,null,null,null,null,null,null,null,null,null,null,"MISIR GRİZİ(KEPEK,GERM,NİŞASTA)",90,10.4,2896,0.05,0.52,{"$f":"BQ87*0.3","v":0.156},0.59,0.08,0.05,0.13,0.13,0.26,0.19500000000000001,0.4,0.25,0.4,0.1,0.47,0.4,0.84,0.35,0.49,8,3.75,5,2.3895,38,4,18.673500000000001,5.4870000000000001,0.23010000000000003,0.10619999999999999,0,2.6549999999999998,0,76.995000000000005,12.39,0,43.365000000000002,1.0620000000000001,4.4000000000000004,0,0,0.10595,0.33200000000000002,7.5000000000000011E-2,0.41359999999999997,10,0,20,null,null,null,null,null,null,null,null,null,null,null,null,null,null,null,null,"ROSS 308, (3,6-4,0 kg CA) , BİTİRME 2 (40-51 gün)",18,18,3225,3225,0.74,0.74,null,0.37,{"$f":"EI87","v":0.37},0.16,0.2,0.16,0.23,0.43,0.43,0.4,0.4,0.84,0.84,0.74,0.74,1.07,1.07,0.95,0.95,0.72,0.72,0.64,0.64,0.17,0.17,0.15,0.15,1.1399999999999999,1.1399999999999999,1.03,1.03,1]
[null,null,null,null,null,null,null,null,null,null,null,null,null,null,null,null,null,null,null,null,null,null,null,null,null,null,null,null,null,null,null,null,null,null,null,null,null,null,null,null,null,null,null,null,null,null,null,null,null,null,null,null,null,null,null,null,null,null,null,null,null,null,null,"MISIR KEPEĞİ",89,9,1450,0.03,0.23,0.13,0.65,0.03,0.05,0.15,0.21,0.36,0.27,0.27,0.1,null,null,null,null,null,null,null,6,3.75,9,2.69,33,2.5,36.5,11.5,0.06,null,null,2.48,null,28,1,0.17,16,null,0.71,null,null,0.12224999999999998,0,0,0,9,0,20,null,null,null,null,null,null,null,null,null,null,null,null,null,null,null,null,"ROSS 308, (3,6-4,0 kg CA) , BİTİRME 3 (52 gün-)",17,17,3225,3225,0.72,0.72,null,0.36,{"$f":"EI88","v":0.36},0.16,0.2,0.16,0.23,0.42,0.42,0.38,0.38,0.81,0.81,0.71,0.71,1.02,1.02,0.91,0.91,0.69,0.69,0.61,0.61,0.16,0.16,0.15,0.15,1.0900000000000001,1.0900000000000001,0.96,0.96,1]
[null,null,null,null,null,null,null,null,null,null,null,null,null,null,null,null,null,null,null,null,null,null,null,null,null,null,null,null,null,null,null,null,null,null,null,null,null,null,null,null,null,null,null,null,null,null,null,null,null,null,null,null,null,null,null,null,null,null,null,null,null,null,null,"MISIR,    (Devekuşu için)",89,8.5,3560,0.02,0.28000000000000003,0.08,0.3,0.02,0.04,0.18,0.18,0.36,0.32,0.26,0.21,0.28999999999999998,0.06,0.38,0.28999999999999998,1,0.38,0.3,3.8,2.2000000000000002,2.2000000000000002,1.35,60.5,2.1,8.3694999999999986,2.9953999999999996,0.10571999999999999,8.8100000000000012E-2,0,2.6429999999999993,0,47.573999999999998,9.6909999999999989,6.1669999999999996E-2,23.786999999999999,0.70480000000000009,0,0,0,0.1467,0.24069999999999997,4.4999999999999998E-2,0.33440000000000003,8.5,0,60]
[null,null,null,null,null,null,null,null,null,null,null,null,null,"Yemin Fiyatı :",null,null,null,null,null,null,null,null,null,null,null,null,null,null,null,null,null,null,null,null,null,null,null,null,null,null,null,null,null,null,null,null,null,null,null,null,null,null,null,null,null,null,null,null,null,null,null,null,null,"MISIR, SARI",89,8.5,3350,0.02,0.28000000000000003,0.08,0.3,0.02,0.04,0.18,0.18,0.36,{"$f":"(BV90*0.91+BW90*0.85)","v":0.31679999999999997},0.26,{"$f":"BZ90*0.81","v":0.21060000000000001},0.28999999999999998,0.06,0.38,0.28999999999999998,1,0.38,0.3,2.5,1.82,2.2000000000000002,1.35,65,2.1,8.3694999999999986,2.9953999999999996,0.10571999999999999,8.8100000000000012E-2,0,2.6429999999999993,0,47.573999999999998,9.6909999999999989,6.1669999999999996E-2,23.786999999999999,0.70480000000000009,0,0,0,0.1467,0.24069999999999997,4.4999999999999998E-2,0.33440000000000003,8.5,0,70]
[null,null,null,null,null,null,null,null,null,null,null,null,null,null,null,null,null,null,null,null,null,null,null,null,null,null,null,null,null,null,null,null,null,null,null,null,null,null,null,null,null,null,null,null,null,null,null,null,null,null,null,null,null,null,null,null,null,null,null,null,null,null,null,"PİRİNÇ",89,8.6999999999999993,2990,0.08,0.08,0.03,0.13,7.0000000000000007E-2,0.08,0.12,0.11,0.23,0.15,0.22,0.17,0.34,0.11,0.62,0.37,0.74,0.48,0.33,0.7,0.6,9.8000000000000007,4.53,40,4,14,0.5,0.02,null,null,2,null,8,11,0.03,11.6,null,null,null,1.3,9.7799999999999984E-2,0.27,7.0000000000000007E-2,0.5,12,0,25]
[null,null,null,null,null,null,null,null,null,null,null,null,null,null,null,null,null,null,null,null,null,null,null,null,null,null,null,null,null,null,null,null,null,null,null,null,null,null,null,null,null,null,null,null,null,null,null,null,null,null,null,null,null,null,null,null,null,null,null,null,null,null,null,"PİRİNÇ KEPEĞİ, KABA (EMBRİYOLU)",91,12.9,2980,7.0000000000000007E-2,1.5,0.8,1.73,7.0000000000000007E-2,7.0000000000000007E-2,0.26,0.27,0.3,0.22,0.51,0.39,0.48,0.12,0.96,0.45,0.91,0.6,0.42,13,3.57,11.4,9.4223999999999997,20,2.5,23.646599999999999,11.868599999999999,0.73385999999999996,0.17213999999999999,0,9.06,0,216.53399999999999,168.51599999999999,0.15402000000000002,64.325999999999993,2.5367999999999999,0,0,60,0.21190000000000001,0.28000000000000003,0.13,0.4,9,0,5]
[null,null,null,null,null,null,null,null,null,null,null,null,null,null,null,null,null,null,null,null,null,null,null,null,null,null,null,null,null,null,null,null,null,null,null,null,null,null,null,null,null,null,null,null,null,null,null,null,null,null,null,null,null,null,null,null,null,null,null,null,null,null,null,"SOAPSTOCK",100,0,6500,0,0,0,0,0,0,0,0,0,0,0,0,0,0,0,0,0,0,0,100,63,0,null,null,null,null,null,null,null,null,null,null,null,null,null,null,null,null,null,null,null,null,null,null,35,0,4]
[null,null,null,null,null,null,null,null,null,null,null,null,null,null,null,null,null,null,null,null,null,null,null,null,null,null,null,null,null,null,null,null,null,null,null,null,null,null,null,null,null,null,null,null,null,null,null,null,null,null,null,null,null,null,null,null,null,null,null,null,null,null,null,"SORGUM,    (Devekuşu için)",87,8.8000000000000007,3288,0.04,0.32,{"$f":"BQ94*0.3","v":9.6000000000000002E-2},0.33,0.01,0.09,0.15,0.11,0.26,{"$f":"(BV94*0.89+BW94*0.83)","v":0.2248},0.22,{"$f":"BZ94*0.78","v":0.1716},0.33,0.09,0.35,0.43,1.37,0.52,0.17,2.9,1.1299999999999999,2.2999999999999998,1.7719999999999998,70,1,9.6574000000000009,5.2274000000000003,0.15062,9.7459999999999991E-2,0,5.3159999999999989,0,78.853999999999999,18.605999999999998,0.40755999999999998,22.15,0.8859999999999999,0,0,0,{"$f":"BV94*0.815","v":0.12224999999999998},{"$f":"CB94*0.83","v":0.27389999999999998},{"$f":"CC94*0.75","v":6.7500000000000004E-2},{"$f":"CD94*0.88","v":0.308},100,0,40]
[null,null,null,null,null,null,null,null,null,null,null,null,null,null,null,null,null,null,null,null,null,null,null,null,null,null,null,null,null,null,null,null,null,null,null,null,null,null,null,null,null,null,null,null,null,null,null,null,null,null,null,null,null,null,null,null,null,null,null,null,null,null,null,"SORGUM, %11 HP",88,11,3212,0.04,0.32,{"$f":"BQ95*0.3","v":9.6000000000000002E-2},0.33,0.01,0.09,0.15,0.11,0.26,{"$f":"(BV95*0.89+BW95*0.83)","v":0.2248},0.22,{"$f":"BZ95*0.78","v":0.1716},0.33,0.09,0.35,0.43,1.37,0.52,0.17,2.6,0.82,2.2999999999999998,1.7719999999999998,70,1,9.6574000000000009,5.2274000000000003,0.15062,9.7459999999999991E-2,0,5.3159999999999989,0,78.853999999999999,18.605999999999998,0.40755999999999998,22.15,0.8859999999999999,0,0,0,0.12224999999999998,0.27389999999999998,6.7500000000000004E-2,0.308,100,0,40]
[null,null,null,null,null,null,null,null,null,null,null,null,null,null,null,null,null,null,null,null,null,null,null,null,null,null,null,null,null,null,null,null,null,null,null,null,null,null,null,null,null,null,null,null,null,null,null,null,null,null,null,null,null,null,null,null,null,null,null,null,null,null,null,"SORGUM, %8 HP",87,8.8000000000000007,3288,0.04,0.3,{"$f":"BQ96*0.3","v":0.09},0.35,0.01,0.09,0.16,0.17,0.33,{"$f":"(BV96*0.89+BW96*0.83)","v":0.28349999999999997},0.21,{"$f":"BZ96*0.78","v":0.1638},0.28999999999999998,0.08,0.35,0.35,1.1399999999999999,0.47,0.34,2.9,1.1299999999999999,2.2999999999999998,1.7719999999999998,70,1,9.6574000000000009,5.2274000000000003,0.15062,9.7459999999999991E-2,0,5.3159999999999989,0,78.853999999999999,18.605999999999998,0.40755999999999998,22.15,0.8859999999999999,0,0,0,0.13039999999999999,0.24069999999999997,0.06,0.308,80,0,40]
[null,null,null,null,null,null,null,null,null,null,null,null,null,null,null,null,null,null,null,null,null,null,null,null,null,null,null,null,null,null,null,null,null,null,null,null,null,null,null,null,null,null,null,null,null,null,null,null,null,null,null,null,null,null,null,null,null,null,null,null,null,null,null,"ŞEK.PAN.POSASI,KURU",91,8.8000000000000007,648,0.63,0.09,{"$f":"BQ97*0.3","v":2.7E-2},0.2,0.16,0.1,7.0000000000000007E-2,0.06,0.13,{"$f":"BX97*0.75","v":9.7500000000000003E-2},0.54,{"$f":"BZ97*0.86","v":0.46440000000000003},0.39,0.09,0.31,0.3,0.56999999999999995,0,0,0.5,0,18.2,5.42,1,7,37,21,0.3,0.26489999999999997,0,9.7129999999999992,0,566.88599999999997,54.745999999999995,0.12362000000000001,19.425999999999998,1.3244999999999998,0,0,0,5.7050000000000003E-2,0.32369999999999999,6.7500000000000004E-2,0.27279999999999999,65,0,5]
[null,null,null,null,null,null,null,null,null,null,null,null,null,null,null,null,null,null,null,null,null,null,null,null,null,null,null,null,null,null,null,null,null,null,null,null,null,null,null,null,null,null,null,null,null,null,null,null,null,null,null,null,null,null,null,null,null,null,null,null,null,null,null,"ŞEK.PAN.POSASI,MELASLI",92,9.3000000000000007,660,0.56000000000000005,0.09,{"$f":"BQ98*0.3","v":2.7E-2},0.2,0.16,0.1,7.0000000000000007E-2,0.06,0.13,9.7500000000000003E-2,0.54,0.46440000000000003,0.39,0.09,0.31,0.3,0.56999999999999995,0,0,0.6,0,15.2,6.4458999999999991,1,7,40.441399999999994,20.397300000000001,0.20309000000000002,0.26489999999999997,0,9.7129999999999992,0,566.88599999999997,54.745999999999995,0.12362000000000001,19.425999999999998,1.3244999999999998,0,0,0,5.7050000000000003E-2,0.32369999999999999,6.7500000000000004E-2,0.27279999999999999,70,0,5]
[null,null,null,null,null,null,null,null,null,null,null,null,null,null,null,null,null,null,null,null,null,null,null,null,null,null,null,null,null,null,null,null,null,null,null,null,null,null,null,null,null,null,null,null,null,null,null,null,null,null,null,null,null,null,null,null,null,null,null,null,null,null,null,"TAPİOKA",85,2.6,2850,0.3,0.19,0.06,1.1000000000000001,0.04,0.1,0.03,0.03,0.06,4.4999999999999998E-2,0.09,7.7399999999999997E-2,7.0000000000000007E-2,0.02,0.12,7.0000000000000007E-2,0.12,0,0,0.7,0,4.5999999999999996,5.22,60,2.5,32,6,0.13,null,null,null,null,null,null,null,null,null,null,null,null,2.4449999999999996E-2,5.8100000000000006E-2,1.4999999999999999E-2,0.1056,70,0,15]
[null,null,null,null,null,null,null,null,null,null,null,null,null,null,null,null,null,null,null,null,null,null,null,null,null,null,null,null,null,null,null,null,null,null,null,null,null,null,null,null,null,null,null,null,null,null,null,null,null,null,null,null,null,null,null,null,null,null,null,null,null,null,null,"TRİTİKALE",90,14,3163,0.05,0.3,0.1,0.36,0.03,0.02,0.26,0.26,0.52,0.39,0.39,0.33540000000000003,0.36,0.14000000000000001,0.56999999999999995,0.39,0.76,0.49,0.32,1.5,0,4,1.8600999999999999,53.5,4.7,15.397,4.5568,0.23139999999999999,0,7.7429999999999999E-2,8.277000000000001,0,44.5,42.542000000000002,0,31.239000000000001,0,0,0,0,0.21190000000000001,0.29879999999999995,0.10500000000000001,0.50159999999999993,20,0,40]
[null,null,null,null,null,null,null,null,null,null,null,null,null,null,null,null,null,null,null,null,null,null,null,null,null,null,null,null,null,null,null,null,null,null,null,null,null,null,null,null,null,null,null,null,null,null,null,null,null,null,null,null,null,null,null,null,null,null,null,null,null,null,null,"YULAF,    (Devekuşu için)",89,11.4,3025,0.06,0.27,0.05,0.45,0.08,0.11,0.18,0.22,0.4,{"$f":"BX101*0.75","v":0.30000000000000004},0.5,0.43,0.43,0.16,0.79,0.52,0.89,0.59,0.53,4.2,1.47,10.8,2.7,53,1.2,27,13.14,0.14400000000000002,0.17100000000000001,5.3999999999999992E-2,7.2,0,95.4,38.700000000000003,0.43199999999999994,36.9,1.53,0,0,0,0.1467,0.3569,0.12,0.69520000000000004,7,0,40]
[null,null,null,null,null,null,null,null,null,null,null,null,null,null,null,null,null,null,null,null,null,null,null,null,null,null,null,null,null,null,null,null,null,null,null,null,null,null,null,null,null,null,null,null,null,null,null,null,null,null,null,null,null,null,null,null,null,null,null,null,null,null,null,"YULAF, %11 HP",89,11.4,2550,0.06,0.27,0.05,0.45,0.08,0.11,0.18,0.22,0.4,{"$f":"(BV102*0.86+BW102*0.84)","v":0.33960000000000001},0.5,{"$f":"BZ102*0.86","v":0.43},0.43,0.16,0.79,0.52,0.89,0.59,0.53,4.2,1.47,10.8,2.7,53,1.2,27,13.14,0.14400000000000002,0.17100000000000001,5.3999999999999992E-2,7.2,0,95.4,38.700000000000003,0.43199999999999994,36.9,1.53,0,0,0,0.1467,0.3569,0.12,0.69520000000000004,7,0,10]
[null,null,null,null,null,null,null,null,null,null,null,null,null,null,null,null,null,null,null,null,null,null,null,null,null,null,null,null,null,null,null,null,null,null,null,null,null,null,null,null,null,null,null,null,null,null,null,null,null,null,null,null,null,null,null,null,null,null,null,null,null,null,null,"YULAF, %9 HP",91,9,2610,0.08,0.3,{"$f":"BQ103*0.3","v":0.09},0.37,0.06,0.12,0.13,0.17,0.3,{"$f":"(BV103*0.86+BW103*0.84)","v":0.25459999999999999},0.4,{"$f":"BZ103*0.86","v":0.34400000000000003},0.2,0.12,0.6,0.4,0.3,0.44,0.2,5,1.47,11,2.7,53,1.2,27,13.14,0.14400000000000002,0.17100000000000001,5.3999999999999992E-2,7.2,0,95.4,38.700000000000003,0.43199999999999994,36.9,1.53,0,0,0,0.10595,0.16600000000000001,0.09,0.52800000000000002,6.5,0,10]
[null,null,null,null,null,null,null,null,null,null,null,null,null,null,null,null,null,null,null,null,null,null,null,null,null,null,null,null,null,null,null,null,null,null,null,null,null,null,null,null,null,null,null,null,null,null,null,null,null,null,null,null,null,null,null,null,null,null,null,null,null,null,null,"ZEYTİN POSASI,KURU",93,8.26,1200,0.63,0.09,2.7E-2,0.2,0.16,0.1,7.0000000000000007E-2,0.06,0.13,9.7500000000000003E-2,0.54,0.46439999999999998,0.39,0.09,0.31,0.3,0.56999999999999995,0,0,10.11,0,18.2,5.42,0,0,65.53,54.08,0.3,0.26490000000000002,0,9713,0,566886,54746,0.12361999999999999,19426,13245,0,0,0,5.7049999999999997E-2,0.32369999999999999,6.7500000000000004E-2,0.27279999999999999,45,0,5]
[]
[]
[]
[]
[]
[]
[]
[]
[]
[]
[]
[null,null,null,null,null,null,null,null,null,null,null,null,null,"En az :"]
[]
[]
[]
[]
[]
[]
[]
[]
[]
[]
[]
[]
[]
[]
[]
[]
[]
[]
[null,null,null,null,null,null,null,null,null,null,null,null,null,null,null,null,null,null,null,null,null,null,null,null,null,null,null,null,null,null,null,null,null,null,null,null,null,null,null,null,null,null,null,null,null,null,null,null,null,null,null,null,null,null,null,null,null,null,null,null,null,null,null,null,null,null,null,null,null,null,null,null,null,null,null,null,null,null,null,null,null,null,null,null,null,null,null,null,null,null,null,null,null,null,null,null,null,null,null,null,null,null,null,null,null,null,null,null,null,null,null,null,null,null,null,null,null,null,null,null,null,null,null,null,null,null,null,null,null,null,"TAVUK-YUMURTACI TİP-DAMIZLIK"]
[]
[null,null,null,null,null,null,null,null,null,null,null,null,null,null,null,null,null,null,null,null,null,null,null,null,null,null,null,null,null,null,null,null,null,null,null,null,null,null,null,null,null,null,null,null,null,null,null,null,null,null,null,null,null,null,null,null,null,null,null,null,null,null,null,null,null,null,null,null,null,null,null,null,null,null,null,null,null,null,null,null,null,null,null,null,null,null,null,null,null,null,null,null,null,null,null,null,null,null,null,null,null,null,null,null,null,null,null,null,null,null,null,null,null,null,null,null,null,null,null,null,null,null,null,null,null,null,null,null,null,null,"BOVANS BEYAZ, DAMIZLIK, BAŞLANGIÇ (0-4 hf), 18-24ºC",20.5,{"$f":"EB137","v":20.5},2950,2975,1.05,1.1000000000000001,null,0.48,{"$f":"EI137","v":0.48},0.16,{"$f":"EK137","v":0.16},0.15,{"$f":"EM137/0.75","v":0.19999999999999998},0.52,{"$f":"EO137","v":0.52},0.48,0.48,0.86,{"$f":"ES137","v":0.86},0.78,{"$f":"EU137","v":0.78},1.1599999999999999,{"$f":"EW137","v":1.1599999999999999},1,{"$f":"EY137","v":1},0.78,{"$f":"FA137","v":0.78},0.67,{"$f":"FC137","v":0.67},0.217,{"$f":"FE137","v":0.217},0.186,{"$f":"FG137","v":0.186}]
[null,null,null,null,null,null,null,null,null,null,null,null,null,null,null,null,null,null,null,null,null,null,null,null,null,null,null,null,null,null,null,null,null,null,null,null,null,null,null,null,null,null,null,null,null,null,null,null,null,null,null,null,null,null,null,null,null,null,null,null,null,null,null,null,null,null,null,null,null,null,null,null,null,null,null,null,null,null,null,null,null,null,null,null,null,null,null,null,null,null,null,null,null,null,null,null,null,null,null,null,null,null,null,null,null,null,null,null,null,null,null,null,null,null,null,null,null,null,null,null,null,null,null,null,null,null,null,null,null,null,"BOVANS BEYAZ, DAMIZLIK, BÜYÜTME (4-10 hf), 18-24ºC",19,{"$f":"EB138","v":19},2850,2875,0.9,1.1000000000000001,null,0.42,0.42,0.16,0.16,0.15,{"$f":"EM138/0.75","v":0.19999999999999998},0.45,0.45,0.41,0.41,0.76,{"$f":"ES138","v":0.76},0.66,{"$f":"EU138","v":0.66},0.98,{"$f":"EW138","v":0.98},0.85,{"$f":"EY138","v":0.85},0.66,{"$f":"FA138","v":0.66},0.56999999999999995,{"$f":"FC138","v":0.56999999999999995},0.19400000000000001,{"$f":"FE138","v":0.19400000000000001},0.16600000000000001,{"$f":"FG138","v":0.16600000000000001}]
[null,null,null,null,null,null,null,null,null,null,null,null,null,null,null,null,null,null,null,null,null,null,null,null,null,null,null,null,null,null,null,null,null,null,null,null,null,null,null,null,null,null,null,null,null,null,null,null,null,null,null,null,null,null,null,null,null,null,null,null,null,null,null,null,null,null,null,null,null,null,null,null,null,null,null,null,null,null,null,null,null,null,null,null,null,null,null,null,null,null,null,null,null,null,null,null,null,null,null,null,null,null,null,null,null,null,null,null,null,null,null,null,null,null,null,null,null,null,null,null,null,null,null,null,null,null,null,null,null,null,"BOVANS BEYAZ, DAMIZLIK, YARKA (10-16 hf), 18-24ºC",16,16,2750,{"$f":"ED139","v":2750},0.9,1,null,0.36,0.36,0.15,0.15,0.14000000000000001,0.18666666666666668,0.33,0.33,0.3,0.3,0.6,{"$f":"ES139","v":0.6},0.53,{"$f":"EU139","v":0.53},0.74,{"$f":"EW139","v":0.74},0.64,{"$f":"EY139","v":0.64},0.5,{"$f":"FA139","v":0.5},0.43,{"$f":"FC139","v":0.43},0.16800000000000001,{"$f":"FE139","v":0.16800000000000001},0.14499999999999999,{"$f":"FG139","v":0.14499999999999999}]
[null,null,null,null,null,null,null,null,null,null,null,null,null,null,null,null,null,null,null,null,null,null,null,null,null,null,null,null,null,null,null,null,null,null,null,null,null,null,null,null,null,null,null,null,null,null,null,null,null,null,null,null,null,null,null,null,null,null,null,null,null,null,null,null,null,null,null,null,null,null,null,null,null,null,null,null,null,null,null,null,null,null,null,null,null,null,null,null,null,null,null,null,null,null,null,null,null,null,null,null,null,null,null,null,null,null,null,null,null,null,null,null,null,null,null,null,null,null,null,null,null,null,null,null,null,null,null,null,null,null,"BOVANS BEYAZ, DAMIZLIK, ÖN YUMURTA (17 hf-%2 YV), 18-24ºC",16.8,16.8,2750,2750,2,2.1,null,0.42,0.42,0.15,0.15,0.14000000000000001,0.18666666666666668,0.4,0.4,0.38,0.38,0.67,{"$f":"ES140","v":0.67},0.6,{"$f":"EU140","v":0.6},0.8,{"$f":"EW140","v":0.8},0.71,{"$f":"EY140","v":0.71},0.56000000000000005,{"$f":"FA140","v":0.56000000000000005},0.48,{"$f":"FC140","v":0.48},0.18099999999999999,{"$f":"FE140","v":0.18099999999999999},0.155,{"$f":"FG140","v":0.155}]
[null,null,null,null,null,null,null,null,null,null,null,null,null,null,null,null,null,null,null,null,null,null,null,null,null,null,null,null,null,null,null,null,null,null,null,null,null,null,null,null,null,null,null,null,null,null,null,null,null,null,null,null,null,null,null,null,null,null,null,null,null,null,null,null,null,null,null,null,null,null,null,null,null,null,null,null,null,null,null,null,null,null,null,null,null,null,null,null,null,null,null,null,null,null,null,null,null,null,null,null,null,null,null,null,null,null,null,null,null,null,null,null,null,null,null,null,null,null,null,null,null,null,null,null,null,null,null,null,null,null,"BOVANS BEYAZ, DAMIZLIK, YUMURTA (%2 YV-28 hf) (GYT 105 g)",19,19,2800,2900,3.9,4.0999999999999996,null,0.45,0.45,0.18,0.18,0.17,0.26,0.48,0.48,0.45,0.45,0.76,{"$f":"ES141","v":0.76},0.69,{"$f":"EU141","v":0.69},0.95,{"$f":"EW141","v":0.95},0.84,{"$f":"EY141","v":0.84},0.59,{"$f":"FA141","v":0.59},0.59,{"$f":"FC141","v":0.59},0.221,{"$f":"FE141","v":0.221},0.189,{"$f":"FG141","v":0.189}]
[null,null,null,null,null,null,null,null,null,null,null,null,null,"En çok :",null,null,null,null,null,null,null,null,null,null,null,null,null,null,null,null,null,null,null,null,null,null,null,null,null,null,null,null,null,null,null,null,null,null,null,null,null,null,null,null,null,null,null,null,null,null,null,null,null,null,null,null,null,null,null,null,null,null,null,null,null,null,null,null,null,null,null,null,null,null,null,null,null,null,null,null,null,null,null,null,null,null,null,null,null,null,null,null,null,null,null,null,null,null,null,null,null,null,null,null,null,null,null,null,null,null,null,null,null,null,null,null,null,null,null,null,"BOVANS BEYAZ, DAMIZLIK, YUMURTA (%2 YV-28 hf) (GYT 110 g)",18.399999999999999,18.399999999999999,2800,2900,3.8,4,null,0.43,0.43,0.17,0.17,0.16,0.25,0.46,0.46,0.43,0.43,0.73,{"$f":"ES142","v":0.73},0.66,{"$f":"EU142","v":0.66},0.91,{"$f":"EW142","v":0.91},0.8,{"$f":"EY142","v":0.8},0.56999999999999995,{"$f":"FA142","v":0.56999999999999995},0.56999999999999995,{"$f":"FC142","v":0.56999999999999995},0.21,{"$f":"FE142","v":0.21},0.18,{"$f":"FG142","v":0.18}]
[null,null,null,null,null,null,null,null,null,null,null,null,null,null,null,null,null,null,null,null,null,null,null,null,null,null,null,null,null,null,null,null,null,null,null,null,null,null,null,null,null,null,null,null,null,null,null,null,null,null,null,null,null,null,null,null,null,null,null,null,null,null,null,null,null,null,null,null,null,null,null,null,null,null,null,null,null,null,null,null,null,null,null,null,null,null,null,null,null,null,null,null,null,null,null,null,null,null,null,null,null,null,null,null,null,null,null,null,null,null,null,null,null,null,null,null,null,null,null,null,null,null,null,null,null,null,null,null,null,null,"BOVANS BEYAZ, DAMIZLIK, YUMURTA (%2 YV-28 hf) (GYT 115 g)",17.8,17.8,2800,2900,3.6,3.8,null,0.41,0.41,0.16,0.16,0.16,0.24,0.44,0.44,0.41,0.41,0.7,{"$f":"ES143","v":0.7},0.63,{"$f":"EU143","v":0.63},0.87,{"$f":"EW143","v":0.87},0.77,{"$f":"EY143","v":0.77},0.54,{"$f":"FA143","v":0.54},0.54,{"$f":"FC143","v":0.54},0.20100000000000001,{"$f":"FE143","v":0.20100000000000001},0.17199999999999999,{"$f":"FG143","v":0.17199999999999999}]
[null,null,null,null,null,null,null,null,null,null,null,null,null,null,null,null,null,null,null,null,null,null,null,null,null,null,null,null,null,null,null,null,null,null,null,null,null,null,null,null,null,null,null,null,null,null,null,null,null,null,null,null,null,null,null,null,null,null,null,null,null,null,null,null,null,null,null,null,null,null,null,null,null,null,null,null,null,null,null,null,null,null,null,null,null,null,null,null,null,null,null,null,null,null,null,null,null,null,null,null,null,null,null,null,null,null,null,null,null,null,null,null,null,null,null,null,null,null,null,null,null,null,null,null,null,null,null,null,null,null,"BOVANS BEYAZ, DAMIZLIK, YUMURTA (%2 YV-28 hf) (GYT 120 g)",17.2,17.2,2800,2900,3.4,3.6,null,0.39,0.39,0.16,0.16,0.15,0.23,0.42,0.42,0.39,0.39,0.67,{"$f":"ES144","v":0.67},0.6,{"$f":"EU144","v":0.6},0.83,{"$f":"EW144","v":0.83},0.74,{"$f":"EY144","v":0.74},0.52,{"$f":"FA144","v":0.52},0.52,{"$f":"FC144","v":0.52},0.193,{"$f":"FE144","v":0.193},0.16500000000000001,{"$f":"FG144","v":0.16500000000000001}]
[null,null,null,null,null,null,null,null,null,null,null,null,null,null,null,null,null,null,null,null,null,null,null,null,null,null,null,null,null,null,null,null,null,null,null,null,null,null,null,null,null,null,null,null,null,null,null,null,null,null,null,null,null,null,null,null,null,null,null,null,null,null,null,null,null,null,null,null,null,null,null,null,null,null,null,null,null,null,null,null,null,null,null,null,null,null,null,null,null,null,null,null,null,null,null,null,null,null,null,null,null,null,null,null,null,null,null,null,null,null,null,null,null,null,null,null,null,null,null,null,null,null,null,null,null,null,null,null,null,null,"BOVANS BEYAZ, DAMIZLIK, YUMURTA (%2 YV-28 hf) (GYT 125 g)",16.600000000000001,16.600000000000001,2800,2900,3.3,3.5,null,0.37,0.37,0.15,0.15,0.15,0.22,0.4,0.4,0.38,0.38,0.64,{"$f":"ES145","v":0.64},0.57999999999999996,{"$f":"EU145","v":0.57999999999999996},0.8,{"$f":"EW145","v":0.8},0.71,{"$f":"EY145","v":0.71},0.5,{"$f":"FA145","v":0.5},0.5,{"$f":"FC145","v":0.5},0.185,{"$f":"FE145","v":0.185},0.158,{"$f":"FG145","v":0.158}]
[null,null,null,null,null,null,null,null,null,null,null,null,null,null,null,null,null,null,null,null,null,null,null,null,null,null,null,null,null,null,null,null,null,null,null,null,null,null,null,null,null,null,null,null,null,null,null,null,null,null,null,null,null,null,null,null,null,null,null,null,null,null,null,null,null,null,null,null,null,null,null,null,null,null,null,null,null,null,null,null,null,null,null,null,null,null,null,null,null,null,null,null,null,null,null,null,null,null,null,null,null,null,null,null,null,null,null,null,null,null,null,null,null,null,null,null,null,null,null,null,null,null,null,null,null,null,null,null,null,null,"BOVANS BEYAZ, DAMIZLIK, YUMURTA (28 hf-) (GYT 105 g)",18.2,18.2,2800,2900,3.9,4.0999999999999996,null,0.4,0.4,0.17,0.17,0.16,0.25,0.45,0.45,0.42,0.42,0.72,{"$f":"ES146","v":0.72},0.65,{"$f":"EU146","v":0.65},0.9,{"$f":"EW146","v":0.9},0.8,{"$f":"EY146","v":0.8},0.66,{"$f":"FA146","v":0.66},0.56000000000000005,{"$f":"FC146","v":0.56000000000000005},0.20799999999999999,{"$f":"FE146","v":0.20799999999999999},0.17799999999999999,{"$f":"FG146","v":0.17799999999999999}]
[null,null,null,null,null,null,null,null,null,null,null,null,null,null,null,null,null,null,null,null,null,null,null,null,null,null,null,null,null,null,null,null,null,null,null,null,null,null,null,null,null,null,null,null,null,null,null,null,null,null,null,null,null,null,null,null,null,null,null,null,null,null,null,null,null,null,null,null,null,null,null,null,null,null,null,null,null,null,null,null,null,null,null,null,null,null,null,null,null,null,null,null,null,null,null,null,null,null,null,null,null,null,null,null,null,null,null,null,null,null,null,null,null,null,null,null,null,null,null,null,null,null,null,null,null,null,null,null,null,null,"BOVANS BEYAZ, DAMIZLIK, YUMURTA (28 hf-) (GYT 110 g)",17.600000000000001,17.600000000000001,2800,2900,3.7,3.9,null,0.38,0.38,0.16,0.16,0.16,0.24,0.43,0.43,0.4,0.4,0.69,{"$f":"ES147","v":0.69},0.62,{"$f":"EU147","v":0.62},0.85,{"$f":"EW147","v":0.85},0.76,{"$f":"EY147","v":0.76},0.63,{"$f":"FA147","v":0.63},0.53,{"$f":"FC147","v":0.53},0.19900000000000001,{"$f":"FE147","v":0.19900000000000001},0.17,{"$f":"FG147","v":0.17}]
[null,null,null,null,null,null,null,null,null,null,null,null,null,null,null,null,null,null,null,null,null,null,null,null,null,null,null,null,null,null,null,null,null,null,null,null,null,null,null,null,null,null,null,null,null,null,null,null,null,null,null,null,null,null,null,null,null,null,null,null,null,null,null,null,null,null,null,null,null,null,null,null,null,null,null,null,null,null,null,null,null,null,null,null,null,null,null,null,null,null,null,null,null,null,null,null,null,null,null,null,null,null,null,null,null,null,null,null,null,null,null,null,null,null,null,null,null,null,null,null,null,null,null,null,null,null,null,null,null,null,"BOVANS BEYAZ, DAMIZLIK, YUMURTA (28 hf-) (GYT 115 g)",17,17,2800,2900,3.6,3.8,null,0.37,0.37,0.16,0.16,0.15,0.23,0.41,0.41,0.39,0.39,0.66,{"$f":"ES148","v":0.66},0.59,{"$f":"EU148","v":0.59},0.82,{"$f":"EW148","v":0.82},0.73,{"$f":"EY148","v":0.73},0.6,{"$f":"FA148","v":0.6},0.51,{"$f":"FC148","v":0.51},0.19,{"$f":"FE148","v":0.19},0.16300000000000001,{"$f":"FG148","v":0.16300000000000001}]
[null,null,null,null,null,null,null,null,null,null,null,null,null,null,null,null,null,null,null,null,null,null,null,null,null,null,null,null,null,null,null,null,null,null,null,null,null,null,null,null,null,null,null,null,null,null,null,null,null,null,null,null,null,null,null,null,null,null,null,null,null,null,null,null,null,null,null,null,null,null,null,null,null,null,null,null,null,null,null,null,null,null,null,null,null,null,null,null,null,null,null,null,null,null,null,null,null,null,null,null,null,null,null,null,null,null,null,null,null,null,null,null,null,null,null,null,null,null,null,null,null,null,null,null,null,null,null,null,null,null,"BOVANS BEYAZ, DAMIZLIK, YUMURTA (28 hf-) (GYT 120 g)",16.5,16.5,2800,2900,3.4,3.6,null,0.35,0.35,0.15,0.15,0.14000000000000001,0.22,0.39,0.39,0.37,0.37,0.63,{"$f":"ES149","v":0.63},0.56999999999999995,{"$f":"EU149","v":0.56999999999999995},0.78,{"$f":"EW149","v":0.78},0.7,{"$f":"EY149","v":0.7},0.56999999999999995,{"$f":"FA149","v":0.56999999999999995},0.49,{"$f":"FC149","v":0.49},0.182,{"$f":"FE149","v":0.182},0.156,{"$f":"FG149","v":0.156}]
[null,null,null,null,null,null,null,null,null,null,null,null,null,null,null,null,null,null,null,null,null,null,null,null,null,null,null,null,null,null,null,null,null,null,null,null,null,null,null,null,null,null,null,null,null,null,null,null,null,null,null,null,null,null,null,null,null,null,null,null,null,null,null,null,null,null,null,null,null,null,null,null,null,null,null,null,null,null,null,null,null,null,null,null,null,null,null,null,null,null,null,null,null,null,null,null,null,null,null,null,null,null,null,null,null,null,null,null,null,null,null,null,null,null,null,null,null,null,null,null,null,null,null,null,null,null,null,null,null,null,"BOVANS BEYAZ, DAMIZLIK, YUMURTA (28 hf-) (GYT 125 g)",15.9,15.9,2800,2900,3.3,3.5,null,0.34,0.34,0.14000000000000001,0.14000000000000001,0.14000000000000001,0.21,0.38,0.38,0.35,0.35,0.6,{"$f":"ES150","v":0.6},0.55000000000000004,{"$f":"EU150","v":0.55000000000000004},0.75,{"$f":"EW150","v":0.75},0.67,{"$f":"EY150","v":0.67},0.55000000000000004,{"$f":"FA150","v":0.55000000000000004},0.47,{"$f":"FC150","v":0.47},0.17499999999999999,{"$f":"FE150","v":0.17499999999999999},0.15,{"$f":"FG150","v":0.15}]
[]
[null,null,null,null,null,null,null,null,null,null,null,null,null,null,null,null,null,null,null,null,null,null,null,null,null,null,null,null,null,null,null,null,null,null,null,null,null,null,null,null,null,null,null,null,null,null,null,null,null,null,null,null,null,null,null,null,null,null,null,null,null,null,null,null,null,null,null,null,null,null,null,null,null,null,null,null,null,null,null,null,null,null,null,null,null,null,null,null,null,null,null,null,null,null,null,null,null,null,null,null,null,null,null,null,null,null,null,null,null,null,null,null,null,null,null,null,null,null,null,null,null,null,null,null,null,null,null,null,null,null,"LOHMANN LSL ve BROWN, DAMIZLIK, BAŞLANGIÇ (1-3 hf)",20,{"$f":"EB152","v":20},2900,{"$f":"ED152","v":2900},1.05,{"$f":"EF152","v":1.05},0.75,0.48,{"$f":"EI152","v":0.48},0.18,{"$f":"EK152/0.75","v":0.24},0.2,{"$f":"EM152/0.75","v":0.26666666666666666},0.48,0.48,0.39,{"$f":"EQ152","v":0.39},0.83,{"$f":"ES152","v":0.83},0.68,{"$f":"EU152","v":0.68},1.2,{"$f":"EW152","v":1.2},0.98,{"$f":"EY152","v":0.98},0.8,{"$f":"FA152","v":0.8},0.65,{"$f":"FC152","v":0.65},0.23,{"$f":"FE152","v":0.23},0.19,{"$f":"FG152","v":0.19},null,null,null,null,2]
[null,null,null,null,null,null,null,null,null,null,null,null,null,null,null,null,null,null,null,null,null,null,null,null,null,null,null,null,null,null,null,null,null,null,null,null,null,null,null,null,null,null,null,null,null,null,null,null,null,null,null,null,null,null,null,null,null,null,null,null,null,null,null,null,null,null,null,null,null,null,null,null,null,null,null,null,null,null,null,null,null,null,null,null,null,null,null,null,null,null,null,null,null,null,null,null,null,null,null,null,null,null,null,null,null,null,null,null,null,null,null,null,null,null,null,null,null,null,null,null,null,null,null,null,null,null,null,null,null,null,"LOHMANN LSL ve BROWN, DAMIZLIK, BÜYÜTME (4-8 hf)",18.5,{"$f":"EB153","v":18.5},2720,2800,1,1,0.7,0.45,0.45,0.17,0.22666666666666668,0.19,0.25333333333333335,0.4,0.4,0.33,{"$f":"EQ153","v":0.33},0.7,{"$f":"ES153","v":0.7},0.56999999999999995,{"$f":"EU153","v":0.56999999999999995},1,{"$f":"EW153","v":1},0.82,{"$f":"EY153","v":0.82},0.7,{"$f":"FA153","v":0.7},0.56999999999999995,{"$f":"FC153","v":0.56999999999999995},0.21,{"$f":"FE153","v":0.21},0.17,{"$f":"FG153","v":0.17},null,null,null,null,1.4]
[null,null,null,null,null,null,null,null,null,null,null,null,null,null,null,null,null,null,null,null,null,null,null,null,null,null,null,null,null,null,null,null,null,null,null,null,null,null,null,null,null,null,null,null,null,null,null,null,null,null,null,null,null,null,null,null,null,null,null,null,null,null,null,null,null,null,null,null,null,null,null,null,null,null,null,null,null,null,null,null,null,null,null,null,null,null,null,null,null,null,null,null,null,null,null,null,null,null,null,null,null,null,null,null,null,null,null,null,null,null,null,null,null,null,null,null,null,null,null,null,null,null,null,null,null,null,null,null,null,null,"LOHMANN LSL ve BROWN, DAMIZLIK, GELİŞTİRME (9-17/18 hf)",15,15,2720,2800,0.9,0.9,0.57999999999999996,0.37,0.37,0.16,0.21333333333333335,0.16,0.21333333333333335,0.34,0.34,0.28000000000000003,{"$f":"EQ154","v":0.28000000000000003},0.6,{"$f":"ES154","v":0.6},0.5,{"$f":"EU154","v":0.5},0.68,{"$f":"EW154","v":0.68},0.55000000000000004,{"$f":"EY154","v":0.55000000000000004},0.55000000000000004,{"$f":"FA154","v":0.55000000000000004},0.44,{"$f":"FC154","v":0.44},0.17,{"$f":"FE154","v":0.17},0.14000000000000001,{"$f":"FG154","v":0.14000000000000001},null,null,null,null,1]
[null,null,null,null,null,null,null,null,null,null,null,null,null,null,null,null,null,null,null,null,null,null,null,null,null,null,null,null,null,null,null,null,null,null,null,null,null,null,null,null,null,null,null,null,null,null,null,null,null,null,null,null,null,null,null,null,null,null,null,null,null,null,null,null,null,null,null,null,null,null,null,null,null,null,null,null,null,null,null,null,null,null,null,null,null,null,null,null,null,null,null,null,null,null,null,null,null,null,null,null,null,null,null,null,null,null,null,null,null,null,null,null,null,null,null,null,null,null,null,null,null,null,null,null,null,null,null,null,null,null,"LOHMANN LSL ve BROWN, DAMIZLIK, ÖN YUMURTA (18/19 hf-%5 YV)",17.7,17.7,2720,2800,2,2,0.65,0.45,0.45,0.16,0.21333333333333335,0.16,0.21333333333333335,0.36,0.36,0.28999999999999998,{"$f":"EQ155","v":0.28999999999999998},0.68,{"$f":"ES155","v":0.68},0.56000000000000005,{"$f":"EU155","v":0.56000000000000005},0.85,{"$f":"EW155","v":0.85},0.7,{"$f":"EY155","v":0.7},0.6,{"$f":"FA155","v":0.6},0.49,{"$f":"FC155","v":0.49},0.2,{"$f":"FE155","v":0.2},0.16,{"$f":"FG155","v":0.16},null,null,null,null,1]
[null,null,null,null,null,null,null,null,null,null,null,null,null,null,null,null,null,null,null,null,null,null,null,null,null,null,null,null,null,null,null,null,null,null,null,null,null,null,null,null,null,null,null,null,null,null,null,null,null,null,null,null,null,null,null,null,null,null,null,null,null,null,null,null,null,null,null,null,null,null,null,null,null,null,null,null,null,null,null,null,null,null,null,null,null,null,null,null,null,null,null,null,null,null,null,null,null,null,null,null,null,null,null,null,null,null,null,null,null,null,null,null,null,null,null,null,null,null,null,null,null,null,null,null,null,null,null,null,null,null,"LOHMANN LSL ve BROWN, DAMIZLIK, YUMURTA (20-50 hf) (GYT 100 g)",19.2,19.2,2720,2800,4.0999999999999996,4.0999999999999996,0.63,0.44,0.44,0.17,0.22666666666666668,0.17,0.22666666666666668,0.44,0.44,0.36,{"$f":"EQ156","v":0.36},0.8,{"$f":"ES156","v":0.8},0.65,{"$f":"EU156","v":0.65},0.87,{"$f":"EW156","v":0.87},0.71,{"$f":"EY156","v":0.71},0.61,{"$f":"FA156","v":0.61},0.5,{"$f":"FC156","v":0.5},0.18,{"$f":"FE156","v":0.18},0.15,{"$f":"FG156","v":0.15},0.92,{"$f":"FI156","v":0.92},0.75,{"$f":"FK156","v":0.75},2]
[null,null,null,null,null,null,null,null,null,null,null,null,null,null,null,null,null,null,null,null,null,null,null,null,null,null,null,null,null,null,null,null,null,null,null,null,null,null,null,null,null,null,null,null,null,null,null,null,null,null,null,null,null,null,null,null,null,null,null,null,null,null,null,null,null,null,null,null,null,null,null,null,null,null,null,null,null,null,null,null,null,null,null,null,null,null,null,null,null,null,null,null,null,null,null,null,null,null,null,null,null,null,null,null,null,null,null,null,null,null,null,null,null,null,null,null,null,null,null,null,null,null,null,null,null,null,null,null,null,null,"LOHMANN LSL ve BROWN, DAMIZLIK, YUMURTA (50 hf-) (GYT 100 g)",18.399999999999999,18.399999999999999,2720,2800,4.3,4.3,0.54,0.38,0.38,0.17,0.22666666666666668,0.17,0.22666666666666668,0.44,0.44,0.36,{"$f":"EQ157","v":0.36},0.79,{"$f":"ES157","v":0.79},0.64,{"$f":"EU157","v":0.64},0.85,{"$f":"EW157","v":0.85},0.7,{"$f":"EY157","v":0.7},0.6,{"$f":"FA157","v":0.6},0.49,{"$f":"FC157","v":0.49},0.18,{"$f":"FE157","v":0.18},0.15,{"$f":"FG157","v":0.15},0.9,{"$f":"FI157","v":0.9},0.74,{"$f":"FK157","v":0.74},1.6]
[]
[null,null,null,null,null,null,null,null,null,null,null,null,null,null,null,null,null,null,null,null,null,null,null,null,null,null,null,null,null,null,null,null,null,null,null,null,null,null,null,null,null,null,null,null,null,null,null,null,null,null,null,null,null,null,null,null,null,null,null,null,null,null,null,null,null,null,null,null,null,null,null,null,null,null,null,null,null,null,null,null,null,null,null,null,null,null,null,null,null,null,null,null,null,null,null,null,null,null,null,null,null,null,null,null,null,null,null,null,null,null,null,null,null,null,null,null,null,null,null,null,null,null,null,null,null,null,null,null,null,null,"HY-LINE, DAMIZLIK, BAŞLANGIÇ (0-6 hf)",20,{"$f":"EB159","v":20},2915,3025,1,{"$f":"EF159","v":1},0.75,0.45,{"$f":"EI159","v":0.45},0.18,{"$f":"EK159/0.75","v":0.24},0.16,{"$f":"EM159/0.75","v":0.21333333333333335},0.46,0.46,null,null,0.82,{"$f":"ES159","v":0.82},null,null,1.1000000000000001,{"$f":"EW159","v":1.1000000000000001},null,null,0.75,{"$f":"FA159","v":0.75},null,null,0.22,{"$f":"FE159","v":0.22},null,null,null,null,null,null,1]
[null,null,null,null,null,null,null,null,null,null,null,null,null,null,null,null,null,null,null,null,null,null,null,null,null,null,null,null,null,null,null,null,null,null,null,null,null,null,null,null,null,null,null,null,null,null,null,null,null,null,null,null,null,null,null,null,null,null,null,null,null,null,null,null,null,null,null,null,null,null,null,null,null,null,null,null,null,null,null,null,null,null,null,null,null,null,null,null,null,null,null,null,null,null,null,null,null,null,null,null,null,null,null,null,null,null,null,null,null,null,null,null,null,null,null,null,null,null,null,null,null,null,null,null,null,null,null,null,null,null,"HY-LINE, DAMIZLIK, BÜYÜTME (6-8 hf)",18,{"$f":"EB160","v":18},2970,3080,1,{"$f":"EF160","v":1},0.72,0.45,{"$f":"EI160","v":0.45},0.18,0.24,0.16,0.21333333333333335,0.44,0.44,null,null,0.73,{"$f":"ES160","v":0.73},null,null,0.9,{"$f":"EW160","v":0.9},null,null,0.7,{"$f":"FA160","v":0.7},null,null,0.2,{"$f":"FE160","v":0.2},null,null,null,null,null,null,1]
[null,null,null,null,null,null,null,null,null,null,null,null,null,null,null,null,null,null,null,null,null,null,null,null,null,null,null,null,null,null,null,null,null,null,null,null,null,null,null,null,null,null,null,null,null,null,null,null,null,null,null,null,null,null,null,null,null,null,null,null,null,null,null,null,null,null,null,null,null,null,null,null,null,null,null,null,null,null,null,null,null,null,null,null,null,null,null,null,null,null,null,null,null,null,null,null,null,null,null,null,null,null,null,null,null,null,null,null,null,null,null,null,null,null,null,null,null,null,null,null,null,null,null,null,null,null,null,null,null,null,"HY-LINE, DAMIZLIK, GELİŞTİRME (8-15 hf)",16,16,3025,3135,1,1,0.7,0.4,0.4,0.17,0.22666666666666668,0.15,0.19999999999999998,0.4,0.4,null,null,0.66,{"$f":"ES161","v":0.66},null,null,0.75,{"$f":"EW161","v":0.75},null,null,0.6,{"$f":"FA161","v":0.6},null,null,0.16,{"$f":"FE161","v":0.16},null,null,null,null,null,null,1]
[null,null,null,null,null,null,null,null,null,null,null,null,null,null,null,null,null,null,null,null,null,null,null,null,null,null,null,null,null,null,null,null,null,null,null,null,null,null,null,null,null,null,null,null,null,null,null,null,null,null,null,null,null,null,null,null,null,null,null,null,null,null,null,null,null,null,null,null,null,null,null,null,null,null,null,null,null,null,null,null,null,null,null,null,null,null,null,null,null,null,null,null,null,null,null,null,null,null,null,null,null,null,null,null,null,null,null,null,null,null,null,null,null,null,null,null,null,null,null,null,null,null,null,null,null,null,null,null,null,null,"HY-LINE, DAMIZLIK, ÖN YUMURTA  (15-18 hf)",15.5,15.5,2970,3080,2.75,2.75,0.6,0.4,0.4,0.18,0.24,0.16,0.21333333333333335,0.36,0.36,null,null,0.6,{"$f":"ES162","v":0.6},null,null,0.7,{"$f":"EW162","v":0.7},null,null,0.55000000000000004,{"$f":"FA162","v":0.55000000000000004},null,null,0.15,{"$f":"FE162","v":0.15},null,null,null,null,null,null,1]
[null,null,null,null,null,null,null,null,null,null,null,null,null,null,null,null,null,null,null,null,null,null,null,null,null,null,null,null,null,null,null,null,null,null,null,null,null,null,null,null,null,null,null,null,null,null,null,null,null,null,null,null,null,null,null,null,null,null,null,null,null,null,null,"PROTEİN KAYNAKLARI","KM","HP","ME","Ca","Top.P","Kul.P","K","Na","Cl","Metionin","Sistin","Met+Sis","Kul.Met+Sis","Lizin","Kul.Lizin","Treonin","Triptofan","Arjinin","İzolöysin","Löysin","Fenilalanin","Tirozin","HY","Linoleik","HS","HK","Nişasta","Şeker","NDF","ADF","Mg","S","Co","Cu","I","Fe","Mn","Se","Zn","Mo","Vit A,1000 IU/kg ","Vit D,1000 IU/kg ","Vit E,IU/kg","Sin.Met.","Sin.Treonin","Sin.Triptofan","Sin.Arjinin","Fiat,TL","Enaz","Ençok",null,null,null,null,null,null,null,null,null,null,null,null,null,null,null,null,"HY-LINE, DAMIZLIK, PİK ÖNCESİ YUMURTA  (18 hf-%50 YV)",17.5,17.5,2948,2970,3.75,3.75,0.65,0.46,0.46,0.21,0.27999999999999997,0.2,0.26666666666666666,0.51,0.51,null,null,0.82,{"$f":"ES163","v":0.82},null,null,0.92,{"$f":"EW163","v":0.92},null,null,0.68,{"$f":"FA163","v":0.68},null,null,0.17,{"$f":"FE163","v":0.17},null,null,null,null,null,null,1.5]
[null,null,null,null,null,null,null,null,null,null,null,null,null,null,null,null,null,null,null,null,null,null,null,null,null,null,null,null,null,null,null,null,null,null,null,null,null,null,null,null,null,null,null,null,null,null,null,null,null,null,null,null,null,null,null,null,null,null,null,null,null,null,null,"ASPİR KÜSPESİ",92,27,1193,0.34,0.75,{"$f":"BQ164*0.3","v":0.22499999999999998},0.76,0.05,0.16,0.42,0.45,0.87,{"$f":"(BV164*0.93+BW164*0.78)","v":0.74160000000000004},0.9,{"$f":"BZ164*0.86","v":0.77400000000000002},0.85,0.37,2.21,1.02,1.74,1.1000000000000001,0.71,1.4,0,30,4.7,5,null,50.303000000000004,36.558500000000002,0.58904999999999996,0.36465000000000003,0,29.92,0,278.63,42.075000000000003,0.46750000000000003,82.28,2.5245000000000002,0,0,0,{"$f":"BV164*0.815","v":0.34229999999999994},{"$f":"CB164*0.83","v":0.7054999999999999},{"$f":"CC164*0.75","v":0.27749999999999997},{"$f":"CD164*0.88","v":1.9448000000000001},8.5,0,20,null,null,null,null,null,null,null,null,null,null,null,null,null,null,null,null,"HY-LINE W-36,  DAMIZLIK, PİK YUMURTA  (% 50 YV-32 hf)(GYT 86 g)",18.55,{"$f":"EB164","v":18.55},2838,2915,4.25,{"$f":"EF164","v":4.25},0.78,0.52,{"$f":"EI164","v":0.52},0.2,0.26666666666666666,null,null,0.51,0.51,null,null,0.84,{"$f":"ES164","v":0.84},null,null,0.96,{"$f":"EW164","v":0.96},null,null,null,null,null,null,0.21,{"$f":"FE164","v":0.21}]
[null,null,null,null,null,null,null,null,null,null,null,null,null,null,null,null,null,null,null,null,null,null,null,null,null,null,null,null,null,null,null,null,null,null,null,null,null,null,null,null,null,null,null,null,null,null,null,null,null,null,null,null,null,null,null,null,null,null,null,null,null,null,null,"ASPİR KÜSPESİ,KABUKSUZ",92,43,1921,0.35,1.29,0.39,1.1000000000000001,0.04,0.16,0.68,0.7,1.38,{"$f":"(BV165*0.93+BW165*0.78)","v":1.1783999999999999},1.27,{"$f":"BZ165*0.84","v":1.0668},1.3,0.59,3.65,1.56,2.46,1.75,1.07,1.3,0,13.5,4.7,5,null,50.303000000000004,36.558500000000002,0.58904999999999996,0.36465000000000003,0,29.92,0,278.63,42.075000000000003,0.46750000000000003,82.28,2.5245000000000002,0,0,0,0.55420000000000003,1.079,0.4425,3.2119999999999997,8.5,0,30,null,null,null,null,null,null,null,null,null,null,null,null,null,null,null,null,"HY-LINE W-36,  DAMIZLIK, YUMURTA  (32-44 hf)(GYT 91 g)",17.350000000000001,17.350000000000001,2838,2935,4.2,{"$f":"EF165","v":4.2},0.74,0.46,{"$f":"EI165","v":0.46},0.19,0.25333333333333335,null,null,0.46,0.46,null,null,0.76,{"$f":"ES165","v":0.76},null,null,0.88,{"$f":"EW165","v":0.88},null,null,null,null,null,null,0.2,{"$f":"FE165","v":0.2}]
[null,null,null,null,null,null,null,null,null,null,null,null,null,null,null,null,null,null,null,null,null,null,null,null,null,null,null,null,null,null,null,null,null,null,null,null,null,null,null,null,null,null,null,null,null,null,null,null,null,null,null,null,null,null,null,null,null,null,null,null,null,null,null,"AYÇİÇEĞİ  KÜSPESİ,KABUKSUZ, %36 HP",89.8,36.799999999999997,1543,0.21,0.93,0.14000000000000001,0.96,0.2,0.11,0.8,0.64,1.44,{"$f":"BX166*0.75","v":1.08},1.24,{"$f":"BZ166*0.86","v":1.0664},1.29,0.41,2.85,1.43,2.2200000000000002,1.66,0.91,0,0,14,7.2,5,5.5,29.504000000000001,20.284000000000002,0.58904999999999996,0.36465000000000003,0,29.92,0,278.63,42.075000000000003,0.46750000000000003,82.28,2.5245000000000002,0,0,0,0.65200000000000002,1.0707,0.3075,2.508,13,0,30,null,null,null,null,null,null,null,null,null,null,null,null,null,null,null,null,"HY-LINE W-36,  DAMIZLIK, YUMURTA  (44-55 hf)(GYT 100 g)",15.5,15.5,2816,2915,4,{"$f":"EF166","v":4},0.55000000000000004,0.4,{"$f":"EI166","v":0.4},0.18,0.24,null,null,0.38,0.38,null,null,0.62,{"$f":"ES166","v":0.62},null,null,0.77,{"$f":"EW166","v":0.77},null,null,null,null,null,null,0.17,{"$f":"FE166","v":0.17}]
[null,null,null,null,null,null,null,null,null,null,null,null,null,null,null,null,null,null,null,null,null,null,null,null,null,null,null,null,null,null,null,null,null,null,null,null,null,null,null,null,null,null,null,null,null,null,null,null,null,null,null,null,null,null,null,null,null,null,null,null,null,null,null,"AYÇİÇEĞİ  KÜSPESİ,KABUKSUZ, %45 HP",93,45.4,2320,0.37,1,0.16,1,0.2,0.1,1.5,0.7,2.2000000000000002,1.6500000000000001,1.7,1.462,1.5,0.5,3.5,2.1,2.6,2.2000000000000002,0,2.9,1.59,12.2,7.2,5,5.5,29.504000000000001,20.284000000000002,0.58904999999999996,0.36465000000000003,0,29.92,0,278.63,42.075000000000003,0.46750000000000003,82.28,2.5245000000000002,0,0,0,1.2224999999999999,1.2449999999999999,0.375,3.08,15,0,30,null,null,null,null,null,null,null,null,null,null,null,null,null,null,null,null,"HY-LINE W-36,  DAMIZLIK, YUMURTA  (55 hf-)(GYT 104 g)",14.6,14.6,2794,2840,4.25,4.25,0.45,0.31,0.31,0.17,0.22666666666666668,null,null,0.34,0.34,null,null,0.52,{"$f":"ES167","v":0.52},null,null,0.71,{"$f":"EW167","v":0.71},null,null,null,null,null,null,0.16,{"$f":"FE167","v":0.16}]
[null,null,null,null,null,null,null,null,null,null,null,null,null,null,null,null,null,null,null,null,null,null,null,null,null,null,null,null,null,null,null,null,null,null,null,null,null,null,null,null,null,null,null,null,null,null,null,null,null,null,null,null,null,null,null,null,null,null,null,null,null,null,null,"AYÇİÇEĞİ KÜSPESİ,    (Devekuşu için)",90,32,2515,0.21,0.93,0.14000000000000001,0.96,0.2,0.11,0.5,0.5,1,0.75,1.1299999999999999,0.97179999999999989,1.05,0.45,2.2999999999999998,1,1.6,1.1499999999999999,0,1.1000000000000001,0.6,24,7.2,5,5.5,35.036000000000001,25.815999999999999,0.58086000000000004,0.35958000000000007,0,29.504000000000001,0,274.75600000000003,41.49,0.46100000000000002,81.13600000000001,2.4894000000000003,0,0,0,0.40749999999999997,0.87149999999999994,0.33750000000000002,2.024,11,0,30,null,null,null,null,null,null,null,null,null,null,null,null,null,null,null,null,"HY-LINE W-98,  DAMIZLIK, PİK YUMURTA  (% 50 YV-32 hf)(GYT 91 g)",18.149999999999999,18.149999999999999,2838,2915,4.3,{"$f":"EF168","v":4.3},0.84,0.54,{"$f":"EI168","v":0.54},0.19,0.25333333333333335,null,null,0.44,0.44,null,null,0.73,{"$f":"ES168","v":0.73},null,null,0.99,{"$f":"EW168","v":0.99},null,null,null,null,null,null,0.21,{"$f":"FE168","v":0.21}]
[null,null,null,null,null,null,null,null,null,null,null,null,null,null,null,null,null,null,null,null,null,null,null,null,null,null,null,null,null,null,null,null,null,null,null,null,null,null,null,null,null,null,null,null,null,null,null,null,null,null,null,null,null,null,null,null,null,null,null,null,null,null,null,"AYÇİÇEĞİ KÜSPESİ, %23HP",90,23.3,1415,0.35,0.9,0.14000000000000001,0.96,0.2,0.11,0.5,0.5,1,0.75,1,0.86,1.05,0.45,2.2999999999999998,1,1.6,1.1499999999999999,0,0,0,28,7.7,5,4,37.156599999999997,27.66,0.58086000000000004,0.35958000000000007,0,29.504000000000001,0,274.75600000000003,41.49,0.46100000000000002,81.13600000000001,2.4894000000000003,0,0,0,0.40749999999999997,0.87149999999999994,0.33750000000000002,2.024,11,0,15,null,null,null,null,null,null,null,null,null,null,null,null,null,null,null,null,"HY-LINE W-98,  DAMIZLIK, YUMURTA  (32-44 hf)(GYT 95 g)",16.8,16.8,2838,2935,4.45,{"$f":"EF169","v":4.45},0.73,0.47,{"$f":"EI169","v":0.47},0.18,0.24,null,null,0.4,0.4,null,null,0.65,{"$f":"ES169","v":0.65},null,null,0.9,{"$f":"EW169","v":0.9},null,null,null,null,null,null,0.19,{"$f":"FE169","v":0.19}]
[null,null,null,null,null,null,null,null,null,null,null,null,null,null,null,null,null,null,null,null,null,null,null,null,null,null,null,null,null,null,null,null,null,null,null,null,null,null,null,null,null,null,null,null,null,null,null,null,null,null,null,null,null,null,null,null,null,null,null,null,null,null,null,"AYÇİÇEĞİ KÜSPESİ, %28HP",90,28,1500,0.3,0.91,0.14000000000000001,0.96,0.2,0.11,0.5,0.5,1.1000000000000001,0.82500000000000007,1.03,0.88580000000000003,1.05,0.4,2.4,1.2,1.7,1.1499999999999999,0,0,0,26,7.3,5,4,35.036000000000001,25.815999999999999,0.58086000000000004,0.35958000000000007,0,29.504000000000001,0,274.75600000000003,41.49,0.46100000000000002,81.13600000000001,2.4894000000000003,0,0,0,0.40749999999999997,0.87149999999999994,0.30000000000000004,2.1120000000000001,11,0,15,null,null,null,null,null,null,null,null,null,null,null,null,null,null,null,null,"HY-LINE W-98,  DAMIZLIK, YUMURTA  (44-55 hf)(GYT 100 g)",15.5,{"$f":"EB170","v":15.5},2816,2915,4.4000000000000004,{"$f":"EF170","v":4.4000000000000004},0.73,0.4,{"$f":"EI170","v":0.4},0.17,0.22666666666666668,null,null,0.35,0.35,null,null,0.57999999999999996,{"$f":"ES170","v":0.57999999999999996},null,null,0.8,{"$f":"EW170","v":0.8},null,null,null,null,null,null,0.17,{"$f":"FE170","v":0.17}]
[null,null,null,null,null,null,null,null,null,null,null,null,null,null,null,null,null,null,null,null,null,null,null,null,null,null,null,null,null,null,null,null,null,null,null,null,null,null,null,null,null,null,null,null,null,null,null,null,null,null,null,null,null,null,null,null,null,null,null,null,null,null,null,"AYÇİÇEĞİ KÜSPESİ, %32 HP",90,32,1543,0.21,0.93,0.14000000000000001,0.96,0.2,0.11,0.73,0.53,1.26,0.94500000000000006,1.07,0.92020000000000002,1.06,0.38,2.56,1.4,1.89,1.1499999999999999,0,0,0.6,24,7.3,5,4,33.192,23.972000000000001,0.58086000000000004,0.35958000000000007,0,29.504000000000001,0,274.75600000000003,41.49,0.46100000000000002,81.13600000000001,2.4894000000000003,0,0,0,0.59494999999999998,0.87980000000000003,0.28500000000000003,2.2528000000000001,11,0,20,null,null,null,null,null,null,null,null,null,null,null,null,null,null,null,null,"HY-LINE W-98,  DAMIZLIK, YUMURTA  (55 hf-)(GYT 104 g)",14.35,14.35,2794,2840,4.55,4.55,0.73,0.34,0.34,0.16,0.21333333333333335,null,null,0.32,0.32,null,null,0.52,{"$f":"ES171","v":0.52},null,null,0.75,{"$f":"EW171","v":0.75},null,null,null,null,null,null,0.15,{"$f":"FE171","v":0.15}]
[null,null,null,null,null,null,null,null,null,null,null,null,null,null,null,null,null,null,null,null,null,null,null,null,null,null,null,null,null,null,null,null,null,null,null,null,null,null,null,null,null,null,null,null,null,null,null,null,null,null,null,null,null,null,null,null,null,null,null,null,null,null,null,"AYÇİÇEĞİ TOHUMU",89.2,17.7,4527,0.3,0.72,0.2,0.96,0.2,0.11,0.43,0.32,0.71,0.6,0.55000000000000004,{"$f":"BZ172*0.86","v":0.47300000000000003},0.64,0.3,1.06,0.73,1.0900000000000001,0.68,0.34,39.5,0.26,14.33,3.45,null,null,23.59,14.47,0.5,0.3,0,28,0,250,40,0.3,70,1.5,0,0,0,{"$f":"BV172*0.815","v":0.35044999999999998},0.52,0.25,0.9,45,0,7,null,null,null,null,null,null,null,null,null,null,null,null,null,null,null,null,"HY-LINE BROWN,  DAMIZLIK, PİK YUMURTA  (% 50 YV-32 hf)(GYT 100 g)",18,{"$f":"EB172","v":18},2795,2905,4,{"$f":"EF172","v":4},0.72,0.45,{"$f":"EI172","v":0.45},0.18,0.24,null,null,0.46,0.46,null,null,0.76,{"$f":"ES172","v":0.76},null,null,0.93,{"$f":"EW172","v":0.93},null,null,null,null,null,null,0.19,{"$f":"FE172","v":0.19}]
[null,null,null,null,null,null,null,null,null,null,null,null,null,null,null,null,null,null,null,null,null,null,null,null,null,null,null,null,null,null,null,null,null,null,null,null,null,null,null,null,null,null,null,null,null,null,null,null,null,null,null,null,null,null,null,null,null,null,null,null,null,null,null,"BALIK RENDERİNG SUYU, KURUTULMUŞ",92,63.6,2830,1.23,1.63,0.93,0.37,0.3,0,1,0.66,1.66,{"$f":"BX173*0.75","v":1.2449999999999999},3.28,2.8207999999999998,1.35,0.51,2.78,1.95,3.16,1.48,0.78,9.3000000000000007,0.12,0.5,17.8,null,null,null,null,0.02,null,null,null,null,303,50,null,77,null,null,null,null,0.81499999999999995,{"$f":"CB173*0.83","v":1.1205000000000001},{"$f":"CC173*0.75","v":0.38250000000000001},{"$f":"CD173*0.88","v":2.4463999999999997},70,0,5,null,null,null,null,null,null,null,null,null,null,null,null,null,null,null,null,"HY-LINE BROWN,  DAMIZLIK, YUMURTA  (32-44 hf)(GYT 104 g)",17,{"$f":"EB173","v":17},2770,2880,4.1500000000000004,{"$f":"EF173","v":4.1500000000000004},0.61,0.38,{"$f":"EI173","v":0.38},0.17,0.22666666666666668,null,null,0.42,0.42,null,null,0.7,{"$f":"ES173","v":0.7},null,null,0.86,{"$f":"EW173","v":0.86},null,null,null,null,null,null,0.18,{"$f":"FE173","v":0.18}]
[null,null,null,null,null,null,null,null,null,null,null,null,null,null,null,null,null,null,null,null,null,null,null,null,null,null,null,null,null,null,null,null,null,null,null,null,null,null,null,null,null,null,null,null,null,null,null,null,null,null,null,null,null,null,null,null,null,null,null,null,null,null,null,"BALIK UNU,    (Devekuşu için)",93,60,2820,5.1100000000000003,2.88,2.33,0.65,0.61,0.6,1.63,0.56999999999999995,2.66,1.9950000000000001,4.51,3.8785999999999996,2.46,0.49,3.68,2.2799999999999998,4.16,2.21,1.8,9.4,0.12,0.7,16,8,null,null,null,0.24840000000000004,0.71760000000000002,0,9.1999999999999993,3.1372000000000004,215.28,11.04,1.3524,104.88,0.18400000000000002,0,0,0,1.3284499999999999,2.0417999999999998,0.36749999999999999,3.2383999999999999,70,0,5,null,null,null,null,null,null,null,null,null,null,null,null,null,null,null,null,"HY-LINE BROWN,  DAMIZLIK, YUMURTA  (44-55 hf)(GYT 104 g)",16.3,{"$f":"EB174","v":16.3},2750,2860,4.3,{"$f":"EF174","v":4.3},0.57999999999999996,0.36,{"$f":"EI174","v":0.36},0.17,0.22666666666666668,null,null,0.38,0.38,null,null,0.63,{"$f":"ES174","v":0.63},null,null,0.82,{"$f":"EW174","v":0.82},null,null,null,null,null,null,0.17,{"$f":"FE174","v":0.17}]
[null,null,null,null,null,null,null,null,null,null,null,null,null,null,null,null,null,null,null,null,null,null,null,null,null,null,null,null,null,null,null,null,null,null,null,null,null,null,null,null,null,null,null,null,null,null,null,null,null,null,null,null,null,null,null,null,null,null,null,null,null,null,null,"BALIK UNU, HAMSİ, %64 HP",92,64.2,2750,6.5,3.5,3.5,0.32,0.47,0.55000000000000004,1.82,1.1000000000000001,2.92,2.42,5.28,4.72,3.01,0.57999999999999996,3.68,2.2799999999999998,4.16,2.21,1.8,2,0.3,1,16,8,null,null,null,0.24840000000000004,0.71760000000000002,0,9.1999999999999993,3.1372000000000004,215.28,11.04,1.3524,104.88,0.18400000000000002,0,0,0,1.4833000000000001,2.5,0.48,3.62,70,0,8,null,null,null,null,null,null,null,null,null,null,null,null,null,null,null,null,"HY-LINE BROWN,  DAMIZLIK, YUMURTA  (55 hf-)(GYT 104 g)",15.35,15.35,2720,2830,4.45,4.45,0.52,0.33,0.33,0.17,0.22666666666666668,null,null,0.36,0.36,null,null,0.59,{"$f":"ES175","v":0.59},null,null,0.79,{"$f":"EW175","v":0.79},null,null,null,null,null,null,0.15,{"$f":"FE175","v":0.15}]
[null,null,null,null,null,null,null,null,null,null,null,null,null,null,null,null,null,null,null,null,null,null,null,null,null,null,null,null,null,null,null,null,null,null,null,null,null,null,null,null,null,null,null,null,null,null,null,null,null,null,null,null,null,null,null,null,null,null,null,null,null,null,null,"BALIK UNU, MEZGİT, MORİNA, %62 HP",91,62.6,2750,6.5,3.5,3.5,0.32,0.47,0.55000000000000004,1.82,1.1000000000000001,2.92,2.42,5.28,4.72,3.01,0.57999999999999996,3.68,2.2799999999999998,4.16,2.21,1.8,2,0.3,1,20,8,null,null,null,0.18240000000000001,1.05792,0,6.3839999999999995,1.08528,512.54399999999998,29.184000000000001,2.0611199999999998,102.14399999999999,1.6415999999999999,0,0,0,1.4833000000000001,2.5,0.48,3.62,70,0,8]
[null,null,null,null,null,null,null,null,null,null,null,null,null,null,null,null,null,null,null,null,null,null,null,null,null,null,null,null,null,null,null,null,null,null,null,null,null,null,null,null,null,null,null,null,null,null,null,null,null,null,null,null,null,null,null,null,null,null,null,null,null,null,null,"BALIK UNU, RİNGA, %60 HP",92,60.5,2750,6.5,3.5,3.5,0.32,0.47,0.55000000000000004,1.82,1.1000000000000001,2.92,2.42,5.28,4.72,3.01,0.57999999999999996,3.68,2.2799999999999998,4.16,2.21,1.8,2,0.3,1,19.7,8,null,null,null,0.18240000000000001,1.05792,0,6.3839999999999995,1.08528,512.54399999999998,29.184000000000001,2.0611199999999998,102.14399999999999,1.6415999999999999,0,0,0,1.4833000000000001,2.5,0.48,3.62,80,0,8,null,null,null,null,null,null,null,null,null,null,null,null,null,null,null,null,"NICK, DAMIZLIK, BAŞLANGIÇ (0-3 hf)",20,21,2900,{"$f":"ED177","v":2900},1.05,{"$f":"EF177","v":1.05},0.75,0.48,{"$f":"EI177","v":0.48},0.18,{"$f":"EK177/0.75","v":0.24},0.2,{"$f":"EM177/0.75","v":0.26666666666666666},0.48,0.48,0.39,{"$f":"EQ177","v":0.39},0.83,{"$f":"ES177","v":0.83},0.68,{"$f":"EU177","v":0.68},1.2,{"$f":"EW177","v":1.2},0.98,{"$f":"EY177","v":0.98},0.8,{"$f":"FA177","v":0.8},0.65,{"$f":"FC177","v":0.65},0.23,{"$f":"FE177","v":0.23},0.19,{"$f":"FG177","v":0.19},null,null,null,null,2]
[null,null,null,null,null,null,null,null,null,null,null,null,null,null,null,null,null,null,null,null,null,null,null,null,null,null,null,null,null,null,null,null,null,null,null,null,null,null,null,null,null,null,null,null,null,null,null,null,null,null,null,null,null,null,null,null,null,null,null,null,null,null,null,"BALIK UNU, RİNGA, %72 HP",93,72.3,3190,2.29,1.7,1.38,1.0900000000000001,0.65,0.9,2.16,0.72,2.88,{"$f":"BX178*0.75","v":2.16},5.47,{"$f":"BZ178*0.86","v":4.7041999999999993},3.07,0.83,4.21,3.23,5.46,2.82,2.25,10,0.15,0.7,19.7,8,null,null,null,0.24840000000000004,0.71760000000000002,0,9.1999999999999993,3.1372000000000004,215.28,11.04,1.3524,104.88,0.18400000000000002,0,0,0,1.7604,2.5,0.48,3.62,80,0,8,null,null,null,null,null,null,null,null,null,null,null,null,null,null,null,null,"NICK, DAMIZLIK, BÜYÜTME (1-10 hf)",18,19,2750,2800,1,1,0.7,0.45,0.45,0.17,0.22666666666666668,0.19,0.25333333333333335,0.4,0.4,0.33,{"$f":"EQ178","v":0.33},0.7,{"$f":"ES178","v":0.7},0.56999999999999995,{"$f":"EU178","v":0.56999999999999995},1,{"$f":"EW178","v":1},0.82,{"$f":"EY178","v":0.82},0.7,{"$f":"FA178","v":0.7},0.56999999999999995,{"$f":"FC178","v":0.56999999999999995},0.21,{"$f":"FE178","v":0.21},0.17,{"$f":"FG178","v":0.17},null,null,null,null,1.4]
[null,null,null,null,null,null,null,null,null,null,null,null,null,null,null,null,null,null,null,null,null,null,null,null,null,null,null,null,null,null,null,null,null,null,null,null,null,null,null,null,null,null,null,null,null,null,null,null,null,null,null,null,null,null,null,null,null,null,null,null,null,null,null,"BİRA POSASI, KURUTULMUŞ",92,25.3,2080,0.28999999999999998,0.52,{"$f":"BQ179*0.3","v":0.156},0.09,0.26,0.12,0.56999999999999995,0.39,0.96,{"$f":"BX179*0.75","v":0.72},0.9,0.77400000000000002,0.98,0.34,1.28,1.44,2.48,1.45,1.19,6.2,2.94,15.3,4.3,8.3000000000000007,4.8,42.991800000000005,20.135400000000001,0.23582,0.34466000000000002,0,9.9770000000000003,0,203.16800000000001,40.814999999999998,0.96142000000000005,77.094999999999999,2.9024000000000001,0,0,0,0.46454999999999991,{"$f":"CB179*0.83","v":0.8133999999999999},{"$f":"CC179*0.75","v":0.255},{"$f":"CD179*0.88","v":1.1264000000000001},75,0,15,null,null,null,null,null,null,null,null,null,null,null,null,null,null,null,null,"NICK, DAMIZLIK, GELİŞTİRME (11-16 hf)",14.5,15.5,2750,2800,0.9,0.9,0.57999999999999996,0.37,0.37,0.16,0.21333333333333335,0.16,0.21333333333333335,0.34,0.34,0.28000000000000003,{"$f":"EQ179","v":0.28000000000000003},0.6,{"$f":"ES179","v":0.6},0.5,{"$f":"EU179","v":0.5},0.68,{"$f":"EW179","v":0.68},0.55000000000000004,{"$f":"EY179","v":0.55000000000000004},0.5,{"$f":"FA179","v":0.5},0.44,{"$f":"FC179","v":0.44},0.17,{"$f":"FE179","v":0.17},0.14000000000000001,{"$f":"FG179","v":0.14000000000000001},null,null,null,null,1]
[null,null,null,null,null,null,null,null,null,null,null,null,null,null,null,null,null,null,null,null,null,null,null,null,null,null,null,null,null,null,null,null,null,null,null,null,null,null,null,null,null,null,null,null,null,null,null,null,null,null,null,null,null,null,null,null,null,null,null,null,null,null,null,"ÇÖREKOTU TOHUMU KÜSPESİ",90,31,3200,0.26100000000000001,0.81,0.45,null,null,null,0.55000000000000004,5.28,null,null,1.48,null,1.45,null,3.24,1.42,2.44,1.69,1.69,13,5.8500000000000005,12.4,7.3,null,null,null,null,null,null,null,null,null,null,null,null,null,null,null,null,null,null,null,null,null,12,0,5,null,null,null,null,null,null,null,null,null,null,null,null,null,null,null,null,"NICK, DAMIZLIK, ÖN YUMURTA (17 hf-%5 YV)",16.5,17.5,2750,2800,2,2,0.65,0.45,0.45,0.16,0.21333333333333335,0.16,0.21333333333333335,0.36,0.36,0.28999999999999998,{"$f":"EQ180","v":0.28999999999999998},0.68,{"$f":"ES180","v":0.68},0.56000000000000005,{"$f":"EU180","v":0.56000000000000005},0.85,{"$f":"EW180","v":0.85},0.7,{"$f":"EY180","v":0.7},0.6,{"$f":"FA180","v":0.6},0.49,{"$f":"FC180","v":0.49},0.2,{"$f":"FE180","v":0.2},0.16,{"$f":"FG180","v":0.16},null,null,null,null,1]
[null,null,null,null,null,null,null,null,null,null,null,null,null,null,null,null,null,null,null,null,null,null,null,null,null,null,null,null,null,null,null,null,null,null,null,null,null,null,null,null,null,null,null,null,null,null,null,null,null,null,null,null,null,null,null,null,null,null,null,null,null,null,null,"ET UNU",92,54.4,2195,8.27,4.0999999999999996,4.0999999999999996,0.6,1.1499999999999999,0.91,0.75,0.66,1.41,{"$f":"(BV181*0.85+BW181*0.58)","v":1.0203},3,{"$f":"BZ181*0.79","v":2.37},1.74,0.36,3.73,1.6,3.32,1.7,0.84,7.1,0.28000000000000003,2.7,22.9,null,null,null,null,0.24414000000000002,0.47889000000000004,0,19.719000000000001,0,658.23900000000003,24.414000000000001,0.42255000000000004,107.04600000000001,2.2536,0,0,0,{"$f":"BV181*0.815","v":0.61124999999999996},{"$f":"CB181*0.83","v":1.4441999999999999},{"$f":"CC181*0.75","v":0.27},{"$f":"CD181*0.88","v":3.2824},80,0,8,null,null,null,null,null,null,null,null,null,null,null,null,null,null,null,null,"NICK, DAMIZLIK, YUMURTA 1 (GYT 105 g)",17.14,{"$f":"EB181","v":17.14},2750,2800,3.9,{"$f":"EF181","v":3.9},0.6,0.42,0.42,0.17,0.22666666666666668,0.17,0.22666666666666668,0.42,0.42,0.34,{"$f":"EQ181","v":0.34},0.76,{"$f":"ES181","v":0.76},0.62,{"$f":"EU181","v":0.62},0.82,{"$f":"EW181","v":0.82},0.68,{"$f":"EY181","v":0.68},0.57999999999999996,{"$f":"FA181","v":0.57999999999999996},0.47,{"$f":"FC181","v":0.47},0.17,{"$f":"FE181","v":0.17},0.14000000000000001,{"$f":"FG181","v":0.14000000000000001},0.87,{"$f":"FI181","v":0.87},0.72,{"$f":"FK181","v":0.72},1.9]
[null,null,null,null,null,null,null,null,null,null,null,null,null,null,null,null,null,null,null,null,null,null,null,null,null,null,null,null,null,null,null,null,null,null,null,null,null,null,null,null,null,null,null,null,null,null,null,null,null,null,null,null,null,null,null,null,null,null,null,null,null,null,null,"ET-KEMİK UNU,    (Devekuşu için)",93,50.4,2450,8,4,4,1.25,0.5,0.9,0.71,0.61,1.32,{"$f":"(BV182*0.73+BW182*0.73)","v":0.96360000000000001},2.68,2.09,1.52,0.36,3.5,1.54,3.28,1.81,1.2,10,1.82,0,30.4,null,null,null,null,0.22559999999999999,0.36660000000000004,0,9.4,0,565.88,20.68,0,88.36,2.5380000000000003,0,0,0,0.57864999999999989,1.17,0.26,2.78,80,0,4,null,null,null,null,null,null,null,null,null,null,null,null,null,null,null,null,"NICK, DAMIZLIK, YUMURTA 2 (GYT 105 g)",16.190000000000001,{"$f":"EB182","v":16.190000000000001},2750,2800,4.0999999999999996,{"$f":"EF182","v":4.0999999999999996},0.52,0.36,0.36,0.17,0.22666666666666668,0.17,0.22666666666666668,0.41,0.41,0.34,{"$f":"EQ182","v":0.34},0.75,{"$f":"ES182","v":0.75},0.61,{"$f":"EU182","v":0.61},0.81,{"$f":"EW182","v":0.81},0.67,{"$f":"EY182","v":0.67},0.56999999999999995,{"$f":"FA182","v":0.56999999999999995},0.47,{"$f":"FC182","v":0.47},0.17,{"$f":"FE182","v":0.17},0.14000000000000001,{"$f":"FG182","v":0.14000000000000001},0.86,{"$f":"FI182","v":0.86},0.71,{"$f":"FK182","v":0.71},1.52]
[null,null,null,null,null,null,null,null,null,null,null,null,null,null,null,null,null,null,null,null,null,null,null,null,null,null,null,null,null,null,null,null,null,null,null,null,null,null,null,null,null,null,null,null,null,null,null,null,null,null,null,null,null,null,null,null,null,null,null,null,null,null,null,"ET-KEMİK UNU, %42 HP",93,42.7,1930,12.9,6.1,6.1,0.68,0.95,0.8,0.53,0.38,0.91,0.6643,2.11,{"$f":"BZ183*0.86","v":1.8145999999999998},1.32,0.21,2.9,1.08,2.14,1.4,0.78,7.2,0.31,0,30.4,null,null,null,null,0.22559999999999999,0.36660000000000004,0,9.4,0,565.88,20.68,0,88.36,2.5380000000000003,0,0,0,0.43195,{"$f":"CB183*0.83","v":1.0955999999999999},{"$f":"CC183*0.75","v":0.1575},{"$f":"CD183*0.88","v":2.552},75,0,4,null,null,null,null,null,null,null,null,null,null,null,null,null,null,null,null,"NICK, DAMIZLIK, YUMURTA 3 (GYT 105 g)",15.24,{"$f":"EB183","v":15.24},2750,2800,4.29,{"$f":"EF183","v":4.29},0.48,0.33,0.33,0.17,0.22666666666666668,0.17,0.22666666666666668,0.41,0.41,0.34,{"$f":"EQ183","v":0.34},0.75,{"$f":"ES183","v":0.75},0.61,{"$f":"EU183","v":0.61},0.81,{"$f":"EW183","v":0.81},0.67,{"$f":"EY183","v":0.67},0.56999999999999995,{"$f":"FA183","v":0.56999999999999995},0.47,{"$f":"FC183","v":0.47},0.17,{"$f":"FE183","v":0.17},0.14000000000000001,{"$f":"FG183","v":0.14000000000000001},0.86,{"$f":"FI183","v":0.86},0.71,{"$f":"FK183","v":0.71},0.95]
[null,null,null,null,null,null,null,null,null,null,null,null,null,null,null,null,null,null,null,null,null,null,null,null,null,null,null,null,null,null,null,null,null,null,null,null,null,null,null,null,null,null,null,null,null,null,null,null,null,null,null,null,null,null,null,null,null,null,null,null,null,null,null,"ET-KEMİK UNU, %50 HP",93,50.4,2450,8,4,4,1.25,0.5,0.9,0.71,0.61,1.32,0.96360000000000001,2.68,2.09,1.52,0.36,3.5,1.54,3.28,1.81,1.2,10,1.82,0,30.4,null,null,null,null,0.22559999999999999,0.36660000000000004,0,9.4,0,565.88,20.68,0,88.36,2.5380000000000003,0,0,0,0.57864999999999989,1.17,0.26,2.78,80,0,4]
[null,null,null,null,null,null,null,null,null,null,null,null,null,null,null,null,null,null,null,null,null,null,null,null,null,null,null,null,null,null,null,null,null,null,null,null,null,null,null,null,null,null,null,null,null,null,null,null,null,null,null,null,null,null,null,null,null,null,null,null,null,null,null,"HİNDİSTAN CEVİZİ KÜSPESİ",92,19.2,1525,0.17,0.56700000000000006,0.3,1.41,0.04,0.03,0.30600000000000005,0.2,null,null,0.53100000000000003,null,0.55800000000000005,0.1,1.7909999999999999,1.5840000000000001,2.1240000000000001,0.72900000000000009,0.24300000000000002,2.601,null,10.898999999999999,6.6690000000000005,null,null,null,null,0.3,null,null,null,null,null,54,null,null,null,null,null,null,null,null,null,null,12,0,5]
[null,null,null,null,null,null,null,null,null,null,null,null,null,null,null,null,null,null,null,null,null,null,null,null,null,null,null,null,null,null,null,null,null,null,null,null,null,null,null,null,null,null,null,null,null,null,null,null,null,null,null,null,null,null,null,null,null,null,null,null,null,null,null,"FINDIK KÜSPESİ",90,35,2450,0.2,0.6,0.36,1.8,0.2,0.1,0.15,0,0.15,{"$f":"BX186*0.75","v":0.11249999999999999},0.99,{"$f":"BZ186*0.86","v":0.85139999999999993},0.95,0,4.53,1.8,2.77,1.21,0.88,5.5,0.24,8,6,5.4,10.42,15,12,0.54,null,null,47.5,null,74.3,99,0.95,13.4,null,null,null,null,{"$f":"BV186*0.815","v":0.12224999999999998},{"$f":"CB186*0.83","v":0.78849999999999998},{"$f":"CC186*0.75","v":0},{"$f":"CD186*0.88","v":3.9864000000000002},11,0,30]
[null,null,null,null,null,null,null,null,null,null,null,null,null,null,null,null,null,null,null,null,null,null,null,null,null,null,null,null,null,null,null,null,null,null,null,null,null,null,null,null,null,null,null,null,null,null,null,null,null,null,null,null,null,null,null,null,null,null,null,null,null,null,null,"KABAK ÇEKİRDEĞİ KÜSPESİ",88,55.616,2500,0.15,1.6376000000000002,0.5,1.2604000000000002,2.76E-2,null,9.2000000000000012E-2,0.18400000000000002,0.27600000000000002,0.18,0.46,0.4,0.27600000000000002,0.18400000000000002,1.5640000000000001,2.76E-2,0.55200000000000005,0.36800000000000005,0.27600000000000002,11.44,null,5.016,7.92,null,null,null,null,0.52439999999999998,null,null,0.1472,null,194.12,73.600000000000009,null,174.8,null,null,null,null,null,null,null,null,13,0,5]
[null,null,null,null,null,null,null,null,null,null,null,null,null,null,null,null,null,null,null,null,null,null,null,null,null,null,null,null,null,null,null,null,null,null,null,null,null,null,null,null,null,null,null,null,null,null,null,null,null,null,null,null,null,null,null,null,null,null,null,null,null,null,null,"KAN UNU,    (Devekuşu için)",93,88.9,3625,0.41,0.3,0.3,0.18,0.32,0.27,1.0900000000000001,1.03,2.12,{"$f":"(BV188*0.73+BW188*0.73)","v":1.5476000000000001},7.88,{"$f":"BZ188*0.86","v":6.7767999999999997},3.92,1.35,3.62,0.98,11.32,5.85,2.63,1,0.1,0.6,2.5,null,null,8,1,2.7060000000000001E-2,0.69454000000000005,0,9.02,0,2212.6060000000002,8.1180000000000003,0.69454000000000005,29.765999999999998,0.54120000000000001,0,0,0,{"$f":"BV188*0.815","v":0.88834999999999997},{"$f":"CB188*0.83","v":3.2535999999999996},{"$f":"CC188*0.75","v":1.0125000000000002},{"$f":"CD188*0.88","v":3.1856},80,0,2]
[null,null,null,null,null,null,null,null,null,null,null,null,null,null,null,null,null,null,null,null,null,null,null,null,null,null,null,null,null,null,null,null,null,null,null,null,null,null,null,null,null,null,null,null,null,null,null,null,null,null,null,null,null,null,null,null,null,null,null,null,null,null,null,"KAN UNU, PÜSKÜRTMELİ KURUTULMUŞ",93,88.9,3420,0.41,0.3,0.3,0.18,0.32,0.27,1.0900000000000001,1.03,2.12,{"$f":"(BV189*0.91+BW189*0.76)","v":1.7747000000000002},7.88,{"$f":"BZ189*0.86","v":6.7767999999999997},3.92,1.35,3.62,0.98,11.32,5.85,2.63,1,0.1,0.6,2.5,null,null,8,1,2.7060000000000001E-2,0.69454000000000005,0,9.02,0,2212.6060000000002,8.1180000000000003,0.69454000000000005,29.765999999999998,0.54120000000000001,0,0,0,0.88834999999999997,{"$f":"CB189*0.83","v":3.2535999999999996},{"$f":"CC189*0.75","v":1.0125000000000002},{"$f":"CD189*0.88","v":3.1856},80,0,2]
[null,null,null,null,null,null,null,null,null,null,null,null,null,null,null,null,null,null,null,null,null,null,null,null,null,null,null,null,null,null,null,null,null,null,null,null,null,null,null,null,null,null,null,null,null,null,null,null,null,null,null,null,null,null,null,null,null,null,null,null,null,null,null,"KAN UNU, TEKNEDE KURUTULMUŞ",94,81.099999999999994,2830,0.55000000000000004,0.42,0.42,0.18,0.33,0.27,0.55000000000000004,0.52,1.07,{"$f":"(BV190*0.91+BW190*0.76)","v":0.89570000000000005},7.05,{"$f":"BZ190*0.86","v":6.0629999999999997},3.15,1.29,3.63,0.95,10.53,5.66,2.0699999999999998,1.6,0,0.5,2.5,null,null,8,1,2.7060000000000001E-2,0.69454000000000005,0,9.02,0,2212.6060000000002,8.1180000000000003,0.69454000000000005,29.765999999999998,0.54120000000000001,0,0,0,0.44824999999999998,{"$f":"CB190*0.83","v":2.6144999999999996},{"$f":"CC190*0.75","v":0.96750000000000003},{"$f":"CD190*0.88","v":3.1943999999999999},80,0,2]
[null,null,null,null,null,null,null,null,null,null,null,null,null,null,null,null,null,null,null,null,null,null,null,null,null,null,null,null,null,null,null,null,null,null,null,null,null,null,null,null,null,null,null,null,null,null,null,null,null,null,null,null,null,null,null,null,null,null,null,null,null,null,null,"KANATLI UNU(İÇ ORGANLAR,BAŞ,AYAKLAR)",93,60,2950,3.6,2.1,2.1,0.28000000000000003,0.36,0.4,1.3,2,3.3,2.2999999999999998,3.4,2.7,2.2000000000000002,0.4,3.5,2.16,3.99,2.29,1.68,13,2.54,1.5,16,null,null,null,null,null,null,null,null,null,null,null,0.9,null,null,null,null,null,1.0594999999999999,1.8,0.3,3,75,0,10]
[null,null,null,null,null,null,null,null,null,null,null,null,null,null,null,null,null,null,null,null,null,null,null,null,null,null,null,null,null,null,null,null,null,null,null,null,null,null,null,null,null,null,null,null,null,null,null,null,null,null,null,null,null,null,null,null,null,null,null,null,null,null,null,"KANOLA KÜSPESİ,    (Devekuşu için)",90,38,2000,0.65,1.17,0.45,1.45,7.0000000000000007E-2,0.05,0.69,0.61,1.3,{"$f":"BX192*0.83","v":1.079},2.21,{"$f":"BZ192*0.8","v":1.768},1.72,0.5,2.1800000000000002,1.37,2.4700000000000002,1.44,1.0900000000000001,1.5,0.5,12,7.4,4,8.3000000000000007,26.909400000000002,18.511499999999998,0.47859000000000002,0.65918999999999994,0,4.5149999999999997,0,267.28800000000001,55.985999999999997,0.98427000000000009,55.082999999999998,2.4380999999999999,0,0,0,0.56234999999999991,1.3,0.38,1.92,12,0,30]
[null,null,null,null,null,null,null,null,null,null,null,null,null,null,null,null,null,null,null,null,null,null,null,null,null,null,null,null,null,null,null,null,null,null,null,null,null,null,null,null,null,null,null,null,null,null,null,null,null,null,null,null,null,null,null,null,null,null,null,null,null,null,null,"KANOLA KÜSPESİ, PREPRES, SOLVENT",90,38,2000,0.65,1.17,0.45,1.45,7.0000000000000007E-2,0.05,0.69,0.61,1.3,1.08,2.21,{"$f":"BZ193*0.8","v":1.768},1.72,0.5,2.1800000000000002,1.37,2.4700000000000002,1.44,1.0900000000000001,1.5,0.5,12,7.4,0.5,8.3000000000000007,26.909400000000002,18.511499999999998,0.47859000000000002,0.65918999999999994,0,4.5149999999999997,0,267.28800000000001,55.985999999999997,0.98427000000000009,55.082999999999998,2.4380999999999999,0,0,0,0.56234999999999991,1.3,0.38,1.92,12,0,10]
[null,null,null,null,null,null,null,null,null,null,null,null,null,null,null,null,null,null,null,null,null,null,null,null,null,null,null,null,null,null,null,null,null,null,null,null,null,null,null,null,null,null,null,null,null,null,null,null,null,null,null,null,null,null,null,null,null,null,null,null,null,null,null,"KARACİĞER UNU",92,65.599999999999994,2860,0.56000000000000005,1.25,1.25,0,0,0,1.22,0.89,2.11,{"$f":"(BV194*0.73+BW194*0.73)","v":1.5402999999999998},4.8,{"$f":"BZ194*0.84","v":4.032},2.48,0.59,4.1399999999999997,3.09,5.28,2.89,1.69,15,0,1.4,4,null,null,null,null,null,null,null,null,null,null,null,null,null,null,null,null,null,0.99429999999999996,{"$f":"CB194*0.83","v":2.0583999999999998},{"$f":"CC194*0.75","v":0.4425},{"$f":"CD194*0.88","v":3.6431999999999998},150,0,5]
[null,null,null,null,null,null,null,null,null,null,null,null,null,null,null,null,null,null,null,null,null,null,null,null,null,null,null,null,null,null,null,null,null,null,null,null,null,null,null,null,null,null,null,null,null,null,null,null,null,null,null,null,null,null,null,null,null,null,null,null,null,null,null,"KAZEİN, KURUTULMUŞ",93,87.2,4130,0.61,1,1,0.01,0.01,0,2.65,0.21,2.86,2.0877999999999997,7.99,{"$f":"BZ195*0.88","v":7.0312000000000001},4.29,1.05,3.61,4.82,9,4.96,5.37,0.8,0,0.2,4,null,null,null,null,9.1000000000000004E-3,0.54600000000000004,9.1000000000000004E-3,3.64,0,12.74,3.64,0.14560000000000001,27.3,0,0,0,0,{"$f":"BV195*0.815","v":2.1597499999999998},{"$f":"CB195*0.83","v":3.5606999999999998},{"$f":"CC195*0.75","v":0.78750000000000009},{"$f":"CD195*0.88","v":3.1768000000000001},20,0,3]
[null,null,null,null,null,null,null,null,null,null,null,null,null,null,null,null,null,null,null,null,null,null,null,null,null,null,null,null,null,null,null,null,null,null,null,null,null,null,null,null,null,null,null,null,null,null,null,null,null,null,null,null,null,null,null,null,null,null,null,null,null,null,null,"KETEN TOHUMU KÜSPESİ",90.3,38,2860,0.36,0.75,0.15,1.1000000000000001,0.08,0,0.37,0.34,0.71,0.51829999999999998,0.86,0.75680000000000003,0.77,0.3,1.93,0.9,1.24,0.96,0.49,1.54,null,10.01,5.87,9.5,null,32.598300000000002,19.956300000000002,0.49664999999999998,0.33411000000000002,0,17.157,0,333.20699999999999,35.216999999999999,0.94814999999999994,62.306999999999995,1.806,0,0,0,0.30154999999999998,0.6391,0.22499999999999998,1.6983999999999999,12,0,10]
[null,null,null,null,null,null,null,null,null,null,null,null,null,null,null,null,null,null,null,null,null,null,null,null,null,null,null,null,null,null,null,null,null,null,null,null,null,null,null,null,null,null,null,null,null,null,null,null,null,null,null,null,null,null,null,null,null,null,null,null,null,null,null,"MAYA BİRA, KURUTULMUŞ,    (Devekuşu için)",96,44.4,1990,0.12,1.4,0.91,1.7,7.0000000000000007E-2,0.12,0.7,0.5,1.2,0.876,3.23,2.8424,2.06,0.49,2.19,2.14,3.19,1.81,1.49,1,0,2.7,8,4.9000000000000004,6.9,8,1,2.2000000000000002,null,null,20,null,72,30,null,105,null,null,null,null,0.5704999999999999,1.7098,0.36749999999999999,1.9272,100,0,2]
[null,null,null,null,null,null,null,null,null,null,null,null,null,null,null,null,null,null,null,null,null,null,null,null,null,null,null,null,null,null,null,null,null,null,null,null,null,null,null,null,null,null,null,null,null,null,null,null,null,null,null,null,null,null,null,null,null,null,null,null,null,null,null,"MAYA,BİRA,KURUTULMUŞ,",93,44.4,1990,0.12,1.4,0.91,1.7,7.0000000000000007E-2,0.12,0.7,0.5,1.2,0.876,3.23,2.8424,2.06,0.49,2.19,2.14,3.19,1.81,1.49,1,0,2.7,8,4.9000000000000004,6.9,8,1,2.2000000000000002,null,null,20,null,72,30,null,105,null,null,null,null,0.5704999999999999,1.7098,0.36749999999999999,1.9272,100,0,2]
[null,null,null,null,null,null,null,null,null,null,null,null,null,null,null,null,null,null,null,null,null,null,null,null,null,null,null,null,null,null,null,null,null,null,null,null,null,null,null,null,null,null,null,null,null,null,null,null,null,null,null,null,null,null,null,null,null,null,null,null,null,null,null,"MAYA,TORULA",93,47.2,2160,0.57999999999999996,1.67,1,1.7,7.0000000000000007E-2,0.12,0.8,0.6,1.4,1.022,3.8,3.3439999999999999,2.6,0.5,2.6,2.9,3.5,3,2.1,2.5,0.05,2.4,7.31,null,null,null,1,null,null,null,null,null,null,null,null,null,null,null,null,null,0.65200000000000002,2.1579999999999999,0.375,2.2880000000000003,100,0,2]
[null,null,null,null,null,null,null,null,null,null,null,null,null,null,null,null,null,null,null,null,null,null,null,null,null,null,null,null,null,null,null,null,null,null,null,null,null,null,null,null,null,null,null,null,null,null,null,null,null,null,null,null,null,null,null,null,null,null,null,null,null,null,null,"MISIR GLUTEN YEMİ",90,21,1750,0.4,0.8,{"$f":"BQ200*0.3","v":0.24},0.56999999999999995,0.15,0.22,0.45,0.51,0.96,{"$f":"(BV200*0.84+BW200*0.65)","v":0.70950000000000002},0.63,{"$f":"BZ200*0.72","v":0.4536},0.89,0.1,1.01,0.65,1.89,0.77,0.57999999999999996,2.5,0,8,6.8,18,3.66,31.737000000000002,10.817399999999999,0.37548000000000004,0.39336000000000004,0,5.3640000000000008,0,175.22400000000002,20.562000000000001,0.16986000000000001,67.05,1.9668000000000003,0,0,0,0.36674999999999996,0.73870000000000002,7.5000000000000011E-2,0.88880000000000003,9,0,10,null,null,null,null,null,null,null,null,null,null,null,null,null,null,null,null,"TAVUK-YUMURTACI TİP-TİCARİ"]
[null,null,null,null,null,null,null,null,null,null,null,null,null,null,null,null,null,null,null,null,null,null,null,null,null,null,null,null,null,null,null,null,null,null,null,null,null,null,null,null,null,null,null,null,null,null,null,null,null,null,null,null,null,null,null,null,null,null,null,null,null,null,null,"MISIR GLUTENİ, %43 HP",91,43.2,3015,0.15,0.46,{"$f":"BQ201*0.3","v":0.13800000000000001},0.03,0.08,0.1,1.02,0.63,1.65,{"$f":"(BV201*0.73+BW201*0.73)","v":1.2044999999999999},0.77,{"$f":"BZ201*0.88","v":0.67759999999999998},1.48,0.21,1.41,2.12,7.2,2.62,2.0699999999999998,2.2000000000000002,0,4.5,3.3,15.8,null,14.4,5,0.08,0.74304000000000003,0,3.4560000000000004,0,119.23200000000001,12.96,0.29376000000000002,42.336000000000006,0.95040000000000024,0,0,0,0.83129999999999993,1.2283999999999999,0.1575,1.2407999999999999,20,0,15]
[null,null,null,null,null,null,null,null,null,null,null,null,null,null,null,null,null,null,null,null,null,null,null,null,null,null,null,null,null,null,null,null,null,null,null,null,null,null,null,null,null,null,null,null,null,null,null,null,null,null,null,null,null,null,null,null,null,null,null,null,null,null,null,"MISIR GLUTENİ, %62 HP",90,62,3720,0.1,0.5,0.21,0.04,0.1,0.05,1.61,0.91,2.5099999999999998,{"$f":"BX202*0.88","v":2.2087999999999997},0.9,0.81,1.7,0.3,2.2000000000000002,2.4500000000000002,10.039999999999999,3.56,3.07,2.5,1.1599999999999999,1.3,1.93,17.91,0.52,6.1,2.1,0.06,0.74304000000000003,0,3.4560000000000004,0,119.23200000000001,12.96,0.29376000000000002,42.336000000000006,0.95040000000000024,0,0,0,1.3121499999999999,1.58,0.21,2.0699999999999998,20,0,15,null,null,null,null,null,null,null,null,null,null,null,null,null,null,null,null,"ATABEY BEYAZ, CİVCİV (0-3 hf)",19,{"$f":"EB202","v":19},2900,2900,1,{"$f":"EF202","v":1},null,0.48,{"$f":"EI202","v":0.48},0.16,{"$f":"EK202/0.75","v":0.21333333333333335},0.15,0.2,0.5,{"$f":"EO202","v":0.5},null,null,0.8,{"$f":"ES202","v":0.8},null,null,1.1499999999999999,{"$f":"EW202","v":1.1499999999999999},null,null,0.73,{"$f":"FA202","v":0.73},null,null,0.2,{"$f":"FE202","v":0.2},null,null,null,null,null,null,1.4]
[null,null,null,null,null,null,null,null,null,null,null,null,null,null,null,null,null,null,null,null,null,null,null,null,null,null,null,null,null,null,null,null,null,null,null,null,null,null,null,null,null,null,null,null,null,null,null,null,null,null,null,null,null,null,null,null,null,null,null,null,null,null,null,"MISIR ÖZÜ KÜSPESİ, SOLVENT",93,19.5,1800,0.09,0.5,0.17,0.25,0.03,0.08,0.35,0.41,0.64,{"$f":"(BV203*0.73+BW203*0.73)","v":0.55479999999999996},0.9,{"$f":"BZ203*0.91","v":0.81900000000000006},0.76,0.2,1.35,0.68,1.66,1,0.54,1.8,null,10.5,2.94,22.1,null,41,11,0.15,0.31620000000000004,0,4.5570000000000004,0,344.1,3.8129999999999997,0.34409999999999996,106.206,0,0,0,0,0.28524999999999995,{"$f":"CB203*0.83","v":0.63080000000000003},{"$f":"CC203*0.75","v":0.15000000000000002},{"$f":"CD203*0.88","v":1.1880000000000002},15,0,10,null,null,null,null,null,null,null,null,null,null,null,null,null,null,null,null,"ATABEY BEYAZ, PİLİÇ BÜYÜTME (4-10 hf)",18,18,2800,2800,1,1,null,0.45,0.45,0.16,0.21333333333333335,0.15,0.2,0.4,0.4,null,null,0.7,{"$f":"ES203","v":0.7},null,null,1,{"$f":"EW203","v":1},null,null,0.65,{"$f":"FA203","v":0.65},null,null,0.18,{"$f":"FE203","v":0.18},null,null,null,null,null,null,1.25]
[null,null,null,null,null,null,null,null,null,null,null,null,null,null,null,null,null,null,null,null,null,null,null,null,null,null,null,null,null,null,null,null,null,null,null,null,null,null,null,null,null,null,null,null,null,null,null,null,null,null,null,null,null,null,null,null,null,null,null,null,null,null,null,"MISIR POS.ÇÖZ. (ŞİLEMPE, DDS)",92,28.5,2930,0.35,1.27,1.17,1.75,0.26,0.26,0.5,0.4,0.9,{"$f":"(BV204*0.73+BW204*0.73)","v":0.65700000000000003},0.9,0.81900000000000006,1,0.3,1.05,1.25,2.11,1.3,0.95,9,4.7699999999999996,4,8,null,null,null,null,null,null,null,null,null,null,null,null,null,null,null,null,null,0.40749999999999997,0.83,0.22499999999999998,0.92400000000000004,15,0,5,null,null,null,null,null,null,null,null,null,null,null,null,null,null,null,null,"ATABEY BEYAZ, PİLİÇ GELİŞTİRME (11-16 hf)",16,16,2700,2700,0.9,0.9,null,0.36,0.36,0.16,0.21333333333333335,0.15,0.2,0.35,0.35,null,null,0.57999999999999996,{"$f":"ES204","v":0.57999999999999996},null,null,0.72,{"$f":"EW204","v":0.72},null,null,0.5,{"$f":"FA204","v":0.5},null,null,0.16,{"$f":"FE204","v":0.16},null,null,null,null,null,null,1]
[null,null,null,null,null,null,null,null,null,null,null,null,null,null,null,null,null,null,null,null,null,null,null,null,null,null,null,null,null,null,null,null,null,null,null,null,null,null,null,null,null,null,null,null,null,null,null,null,null,null,null,null,null,null,null,null,null,null,null,null,null,null,null,"MISIR POS.TANE+ÇÖZ.(ŞİLEMPE, DDGS)",93,27.4,2480,0.17,0.72,0.39,0.65,0.48,0.17,0.6,0.4,1,{"$f":"(BV205*0.84+BW205*0.77)","v":0.81200000000000006},0.75,{"$f":"BZ205*0.65","v":0.48750000000000004},0.92,0.19,0.98,1,2.2000000000000002,1.2,0.74,9,4.55,9.1,4.6900000000000004,6,null,34.997599999999998,17.769400000000001,0.29766000000000004,0.39688000000000001,0,7.2160000000000002,0,160.55600000000001,24.353999999999999,0.35178000000000004,58.63,1.7138,6.2,0,0,0.48899999999999993,0.76359999999999995,0.14250000000000002,0.86239999999999994,15,0,5,null,null,null,null,null,null,null,null,null,null,null,null,null,null,null,null,"ATABEY BEYAZ, YUMURTA BAŞLANGIÇ YEMİ (17-20 hf)",17,17,2750,2750,2,2,null,0.45,0.45,0.16,0.21333333333333335,0.15,0.2,0.38,0.38,null,null,0.65,{"$f":"ES205","v":0.65},null,null,0.75,{"$f":"EW205","v":0.75},null,null,0.53,{"$f":"FA205","v":0.53},null,null,0.17,{"$f":"FE205","v":0.17},null,null,null,null,null,null,1]
[null,null,null,null,null,null,null,null,null,null,null,null,null,null,null,null,null,null,null,null,null,null,null,null,null,null,null,null,null,null,null,null,null,null,null,null,null,null,null,null,null,null,null,null,null,null,null,null,null,null,null,null,null,null,null,null,null,null,null,null,null,null,null,"MISIR POSASI,TANE(ŞİLEMPE, DDG)",94,27.8,1972,0.1,0.4,0.39,0.17,0.09,7.0000000000000007E-2,0.4,0.24,0.64,{"$f":"(BV206*0.73+BW206*0.73)","v":0.46719999999999995},0.78,{"$f":"BZ206*0.91","v":0.7098000000000001},0.49,0.2,0.97,0.99,3.01,0.94,0.84,9.1999999999999993,0,12,2.2000000000000002,null,null,8,3,0.2,0.4,null,30,null,300,23,0.35,55,null,3.1,null,null,0.32600000000000001,0.40669999999999995,0.15000000000000002,0.85360000000000003,15,0,5,null,null,null,null,null,null,null,null,null,null,null,null,null,null,null,null,"ATABEY BEYAZ, YUMURTA 1. DÖNEM (21-42 hf)",17,17,2800,2800,3.5,3.8,null,0.4,0.4,0.17,0.22666666666666668,0.17,0.2,0.45,0.45,null,null,0.8,{"$f":"ES206","v":0.8},null,null,0.75,{"$f":"EW206","v":0.75},null,null,0.65,{"$f":"FA206","v":0.65},null,null,0.18,{"$f":"FE206","v":0.18},null,null,null,null,null,null,1.7]
[null,null,null,null,null,null,null,null,null,null,null,null,null,null,null,null,null,null,null,null,null,null,null,null,null,null,null,null,null,null,null,null,null,null,null,null,null,null,null,null,null,null,null,null,null,null,null,null,null,null,null,null,null,null,null,null,null,null,null,null,null,null,null,"PAM.TOH.KÜSPESİ, SOLVENT, %44",91,44.7,1857,0.15,0.97,0.37,1.1599999999999999,0.04,0.03,0.54731707317073175,0.66536585365853662,1.2126829268292683,0.88525853658536591,1.8887804878048779,1.2654829268292682,1.4380487804878048,0.55804878048780493,5.0009756097560985,1.4273170731707319,2.5863414634146342,2.393170731707317,1.2234146341463414,1.6,0,11.1,6.7,4.8,3,27.874000000000002,18.009499999999999,0.55204999999999993,0.36200000000000004,0,12.67,0,134.845,21.72,0.27149999999999996,60.634999999999998,2.7149999999999999,0,0,0,0.44606341463414634,1.1935804878048779,0.4185365853658537,4.4008585365853667,80,0,20,null,null,null,null,null,null,null,null,null,null,null,null,null,null,null,null,"ATABEY BEYAZ, YUMURTA 2. DÖNEM (42-72 hf)",16,16,2700,2700,4,4.2,null,0.35,0.35,0.16,{"$f":"EK207/0.75","v":0.21333333333333335},0.15,0.2,0.4,0.4,null,null,0.7,{"$f":"ES207","v":0.7},null,null,0.75,{"$f":"EW207","v":0.75},null,null,0.6,{"$f":"FA207","v":0.6},null,null,0.17,{"$f":"FE207","v":0.17},null,null,null,null,null,null,1.5]
[null,null,null,null,null,null,null,null,null,null,null,null,null,null,null,null,null,null,null,null,null,null,null,null,null,null,null,null,null,null,null,null,null,null,null,null,null,null,null,null,null,null,null,null,null,null,null,null,null,null,null,null,null,null,null,null,null,null,null,null,null,null,null,"PAM.TOH.KÜSPESİ,EKSPELLER, %32",90,32,2000,0.4,1.1000000000000001,0.33,1.1599999999999999,0.04,0.03,0.43,0.46,0.89,{"$f":"(BV208*0.73+BW208*0.73)","v":0.64969999999999994},1.24,{"$f":"BZ208*0.91","v":1.1284000000000001},1.0146341463414634,0.3902439024390244,3.3951219512195121,1.0224390243902439,1.7404878048780488,1.7170731707317075,0.85073170731707326,1.7,2.46,16.8,7.1,2.1,3,32.58,23.53,0.55204999999999993,0.35295000000000004,0,9.0500000000000007,0,117.65,20.815000000000001,0.23530000000000001,56.11,2.5339999999999998,0,0,0,0.35044999999999998,0.8421463414634146,0.29268292682926833,2.9877073170731707,64,0,15]
[null,null,null,null,null,null,null,null,null,null,null,null,null,null,null,null,null,null,null,null,null,null,null,null,null,null,null,null,null,null,null,null,null,null,null,null,null,null,null,null,null,null,null,null,null,null,null,null,null,null,null,null,null,null,null,null,null,null,null,null,null,null,null,"PAM.TOH.KÜSPESİ,EKSPELLER, %41",93,40.9,2320,0.15,1.05,0.45,1.1000000000000001,0.05,0.03,0.49,0.62,1.1100000000000001,0.75,1.67,1.18,1.3,0.5,4.5599999999999996,1.31,2.23,2.2000000000000002,1.0900000000000001,3.9,2.4700000000000002,12,6.7,4,3,28.055,16.29,0.33484999999999998,0.20815,0,6.335,0,85.07,16.29,0.12670000000000001,33.484999999999999,1.1765000000000001,0,0,0,0.39934999999999998,0.9,0.35,3.68,70,0,20,null,null,null,null,null,null,null,null,null,null,null,null,null,null,null,null,"ATAK ve ATAK-S KAHVERENGİ,CİVCİV (0-3 hf)",19,{"$f":"EB209","v":19},2900,{"$f":"ED209","v":2900},1,{"$f":"EF209","v":1},null,0.48,{"$f":"EI209","v":0.48},0.16,{"$f":"EK209/0.75","v":0.21333333333333335},0.15,0.2,0.5,0.5,null,null,0.8,{"$f":"ES209","v":0.8},null,null,1.1499999999999999,{"$f":"EW209","v":1.1499999999999999},null,null,0.73,{"$f":"FA209","v":0.73},null,null,0.2,{"$f":"FE209","v":0.2},null,null,null,null,null,null,1.4]
[null,null,null,null,null,null,null,null,null,null,null,null,null,null,null,null,null,null,null,null,null,null,null,null,null,null,null,null,null,null,null,null,null,null,null,null,null,null,null,null,null,null,null,null,null,null,null,null,null,null,null,null,null,null,null,null,null,null,null,null,null,null,null,"PAM.TOH.KÜSPESİ,SOLVENT, %36",90,36,2000,0.4,1.1000000000000001,0.33,1.1599999999999999,0.04,0.03,0.4478048780487805,0.54439024390243906,0.99,{"$f":"(BV210*0.73+BW210*0.73)","v":0.72430243902439018},1.5453658536585366,{"$f":"BZ210*0.91","v":1.4062829268292685},1.1765853658536587,0.45658536585365855,4.0917073170731708,1.1678048780487806,2.1160975609756099,1.9580487804878048,1.0009756097560976,1.7,2.46,13.4,6.9,2.1,3,28.96,19.91,0.55204999999999993,0.35295000000000004,0,9.0500000000000007,0,117.65,20.815000000000001,0.23530000000000001,56.11,2.5339999999999998,0,0,0,0.3649609756097561,{"$f":"CB210*0.83","v":0.97656585365853665},{"$f":"CC210*0.75","v":0.34243902439024393},{"$f":"CD210*0.88","v":3.6007024390243902},65,0,20,null,null,null,null,null,null,null,null,null,null,null,null,null,null,null,null,"ATAK ve ATAK-S KAHVERENGİ, PİLİÇ BÜYÜTME (4-10 hf)",18,18,2800,2800,1,1,null,0.45,0.45,0.16,0.21333333333333335,0.15,0.2,0.4,0.4,null,null,0.7,{"$f":"ES210","v":0.7},null,null,1,{"$f":"EW210","v":1},null,null,0.65,{"$f":"FA210","v":0.65},null,null,0.18,{"$f":"FE210","v":0.18},null,null,null,null,null,null,1.25]
[null,null,null,null,null,null,null,null,null,null,null,null,null,null,null,null,null,null,null,null,null,null,null,null,null,null,null,null,null,null,null,null,null,null,null,null,null,null,null,null,null,null,null,null,null,null,null,null,null,null,null,null,null,null,null,null,null,null,null,null,null,null,null,"PAM.TOH.KÜSPESİ,SOLVENT, %41",90,41.4,2400,0.15,1.05,0.45,1.1000000000000001,0.05,0.03,0.49,0.62,1.1100000000000001,0.75,1.67,1.18,1.3,0.5,4.5599999999999996,1.33,2.41,2.23,1.1399999999999999,0.5,0.21,13.6,6.7,4.8,3,27.874000000000002,18.009499999999999,0.55204999999999993,0.36200000000000004,0,12.67,0,134.845,21.72,0.27149999999999996,60.634999999999998,2.7149999999999999,0,0,0,0.39934999999999998,0.9,0.35,3.68,70,0,20,null,null,null,null,null,null,null,null,null,null,null,null,null,null,null,null,"ATAK ve ATAK-S KAHVERENGİ, PİLİÇ GELİŞTİRME (11-16 hf)",16,16,2700,2700,0.9,0.9,null,0.36,0.36,0.16,0.21333333333333335,0.15,0.2,0.35,0.35,null,null,0.57999999999999996,{"$f":"ES211","v":0.57999999999999996},null,null,0.72,{"$f":"EW211","v":0.72},null,null,0.5,{"$f":"FA211","v":0.5},null,null,0.16,{"$f":"FE211","v":0.16},null,null,null,null,null,null,1]
[null,null,null,null,null,null,null,null,null,null,null,null,null,null,null,null,null,null,null,null,null,null,null,null,null,null,null,null,null,null,null,null,null,null,null,null,null,null,null,null,null,null,null,null,null,null,null,null,null,null,null,null,null,null,null,null,null,null,null,null,null,null,null,"PEYNİR ALTI SUYU TOZU",93,13,1900,0.97,0.76,0.76,1.05,1.3,1.5,0.19,0.3,0.49,{"$f":"(BV212*0.73+BW212*0.73)","v":0.35770000000000002},0.97,{"$f":"BZ212*0.91","v":0.88270000000000004},0.89,0.19,0.34,0.82,1.19,0.33,0.25,0.8,0.01,0.2,8.8000000000000007,null,66.5,null,null,0.1764,0.29399999999999998,5.6840000000000002,1.96,0,101.92,4.3708,0.245,2.7439999999999998,0,0,0,0,0.15484999999999999,{"$f":"CB212*0.83","v":0.73870000000000002},{"$f":"CC212*0.75","v":0.14250000000000002},{"$f":"CD212*0.88","v":0.29920000000000002},70,0,2,null,null,null,null,null,null,null,null,null,null,null,null,null,null,null,null,"ATAK ve ATAK-S KAHVERENGİ, YUMURTA BAŞLANGIÇ (17-20 hf)",17,17,2750,2750,2,2,null,0.45,0.45,0.16,0.21333333333333335,0.15,0.2,0.38,0.38,null,null,0.65,{"$f":"ES212","v":0.65},null,null,0.75,{"$f":"EW212","v":0.75},null,null,0.53,{"$f":"FA212","v":0.53},null,null,0.17,{"$f":"FE212","v":0.17},null,null,null,null,null,null,1]
[null,null,null,null,null,null,null,null,null,null,null,null,null,null,null,null,null,null,null,null,null,null,null,null,null,null,null,null,null,null,null,null,null,null,null,null,null,null,null,null,null,null,null,null,null,null,null,null,null,null,null,null,null,null,null,null,null,null,null,null,null,null,null,"PEYNİR ALTI SUYU TOZU, DÜŞÜK LAKTOZLU",91,16,2090,1.95,0.98,0.98,3,1.5,1.03,0.56999999999999995,0.56999999999999995,1.1399999999999999,0.83219999999999994,1.47,1.3377000000000001,0.85,0.23,0.67,0.9,1.35,0.5,0.35,1,0.01,0.3,16.5,null,40,null,null,0.21390000000000001,1.0694999999999999,9.300000000000001E-3,0.66959999999999997,0,8.3699999999999992,9.3000000000000013E-2,0.23250000000000001,18.600000000000001,0,0,0,0,0.46454999999999991,{"$f":"CB213*0.83","v":0.7054999999999999},{"$f":"CC213*0.75","v":0.17250000000000001},{"$f":"CD213*0.88","v":0.58960000000000001},70,0,2,null,null,null,null,null,null,null,null,null,null,null,null,null,null,null,null,"ATAK ve ATAK-S KAHVERENGİ, YUMURTA 1. DÖNEM (21-42 hf)",17,17,2800,2800,3.5,3.8,null,0.4,0.4,0.17,0.22666666666666668,0.17,0.2,0.45,0.45,null,null,0.8,{"$f":"ES213","v":0.8},null,null,0.75,{"$f":"EW213","v":0.75},null,null,0.65,{"$f":"FA213","v":0.65},null,null,0.18,{"$f":"FE213","v":0.18},null,null,null,null,null,null,1.7]
[null,null,null,null,null,null,null,null,null,null,null,null,null,null,null,null,null,null,null,null,null,null,null,null,null,null,null,null,null,null,null,null,null,null,null,null,null,null,null,null,null,null,null,null,null,null,null,null,null,null,null,null,null,null,null,null,null,null,null,null,null,null,null,"SOYA KÜSPESİ, %44",89,44,2230,0.28999999999999998,0.65,0.27,2,0.01,0.05,0.62,0.66,1.28,{"$f":"BX214*0.75","v":0.96},2.69,{"$f":"BZ214*0.91","v":2.4479000000000002},1.72,0.74,3.14,1.96,3.39,2.16,1.91,0.8,0.4,7,6.6,6,8,17.82,13.365,0.27621000000000001,0.40985999999999995,0,19.601999999999997,0,164.83500000000001,31.184999999999999,0.18711,50.786999999999999,8.9099999999999999E-2,0,0,0,0.50529999999999997,1.75,0.53,3.2,17,0,40,null,null,null,null,null,null,null,null,null,null,null,null,null,null,null,null,"ATAK ve ATAK-S KAHVERENGİ, YUMURTA 2. DÖNEM (42-72 hf)",16,16,2700,2700,4,4.2,null,0.35,0.35,0.16,0.21333333333333335,0.15,0.2,0.4,0.4,null,null,0.7,{"$f":"ES214","v":0.7},null,null,0.75,{"$f":"EW214","v":0.75},null,null,0.6,{"$f":"FA214","v":0.6},null,null,0.17,{"$f":"FE214","v":0.17},null,null,null,null,null,null,1.5]
[null,null,null,null,null,null,null,null,null,null,null,null,null,null,null,null,null,null,null,null,null,null,null,null,null,null,null,null,null,null,null,null,null,null,null,null,null,null,null,null,null,null,null,null,null,null,null,null,null,null,null,null,null,null,null,null,null,null,null,null,null,null,null,"SOYA KÜSPESİ, %46",90,46,2400,0.27,0.62,0.37,1.98,0.05,0.05,0.67,0.72,1.5,{"$f":"(BV215*0.92+BW215*0.82)","v":1.2067999999999999},2.96,{"$f":"BZ215*0.91","v":2.6936},1.87,0.74,3.48,2.12,3.74,2.34,1.95,1,0.47,3.9,6.6,6,8,13.2759,8.91,0.25839000000000001,0.34749000000000002,0,14.255999999999998,0,183.54599999999999,35.64,0.11583,51.67799999999999,5.2569000000000008,0,0,0,0.54605000000000004,1.75,0.53,3.2,18,0,40]
[null,null,null,null,null,null,null,null,null,null,null,null,null,null,null,null,null,null,null,null,null,null,null,null,null,null,null,null,null,null,null,null,null,null,null,null,null,null,null,null,null,null,null,null,null,null,null,null,null,null,null,null,null,null,null,null,null,null,null,null,null,null,null,"SOYA KÜSPESİ, %48",90,47.5,2440,0.27,0.62,0.37,1.98,0.05,0.05,0.67,0.72,1.5,{"$f":"(BV216*0.92+BW216*0.82)","v":1.2067999999999999},2.96,{"$f":"BZ216*0.91","v":2.6936},1.87,0.74,3.48,2.12,3.74,2.34,1.95,1,0.47,3.9,6.6,6,8,13.2759,8.91,0.25838999999999995,0.34749000000000002,0,14.255999999999998,0,183.54599999999999,35.64,0.11583,51.67799999999999,5.2569000000000008,0,0,0,{"$f":"BV216*0.815","v":0.54605000000000004},1.75,0.53,3.2,19,0,40,null,null,null,null,null,null,null,null,null,null,null,null,null,null,null,null,"BOVANS BEYAZ,BAŞLANGIÇ (0-4 hf), 18-24ºC",20.5,{"$f":"EB216","v":20.5},2950,2975,1.05,1.1000000000000001,null,0.48,{"$f":"EI216","v":0.48},0.16,{"$f":"EK216/0.75","v":0.21333333333333335},0.15,{"$f":"EM216/0.75","v":0.19999999999999998},0.52,0.52,0.48,{"$f":"EQ216","v":0.48},0.86,{"$f":"ES216","v":0.86},0.78,{"$f":"EU216","v":0.78},1.1599999999999999,{"$f":"EW216","v":1.1599999999999999},1,{"$f":"EY216","v":1},0.78,{"$f":"FA216","v":0.78},0.67,{"$f":"FC216","v":0.67},0.217,{"$f":"FE216","v":0.217},0.186,{"$f":"FG216","v":0.186},null,null,null,null,1.3]
[null,null,null,null,null,null,null,null,null,null,null,null,null,null,null,null,null,null,null,null,null,null,null,null,null,null,null,null,null,null,null,null,null,null,null,null,null,null,null,null,null,null,null,null,null,null,null,null,null,null,null,null,null,null,null,null,null,null,null,null,null,null,null,"SOYA KÜSPESİ, %51",90,51,2500,0.27,0.69,0.1,2.2000000000000002,0.01,0.05,0.66,0.77,1.43,{"$f":"(BV217*0.92+BW217*0.82)","v":1.2385999999999999},3.05,{"$f":"BZ217*0.91","v":2.7755000000000001},1.88,0.65,3.59,2.42,3.68,2.36,1.96,1.9,0.47,3.4,6.2,6,9,6,4,0.28000000000000003,0.34749000000000002,0,14.255999999999998,0,183.54599999999999,35.64,0.11583,51.67799999999999,5.2569000000000008,0,0,0,0.53790000000000004,1.5,0.52,2.87,20,0,40,null,null,null,null,null,null,null,null,null,null,null,null,null,null,null,null,"BOVANS BEYAZ,BÜYÜTME (4-10 hf), 18-24ºC",19,19,2850,2875,0.9,1.1000000000000001,null,0.42,0.42,0.16,0.21333333333333335,0.15,0.19999999999999998,0.45,0.45,0.41,{"$f":"EQ217","v":0.41},0.76,{"$f":"ES217","v":0.76},0.66,{"$f":"EU217","v":0.66},0.98,{"$f":"EW217","v":0.98},0.85,{"$f":"EY217","v":0.85},0.66,{"$f":"FA217","v":0.66},0.56999999999999995,{"$f":"FC217","v":0.56999999999999995},0.19400000000000001,{"$f":"FE217","v":0.19400000000000001},0.16600000000000001,{"$f":"FG217","v":0.16600000000000001},null,null,null,null,1.3]
[null,null,null,null,null,null,null,null,null,null,null,null,null,null,null,null,null,null,null,null,null,null,null,null,null,null,null,null,null,null,null,null,null,null,null,null,null,null,null,null,null,null,null,null,null,null,null,null,null,null,null,null,null,null,null,null,null,null,null,null,null,null,null,"SOYA PROTEİNİ",93,84.1,3500,0.02,0.8,0.32,0.18,7.0000000000000007E-2,0.02,0.81,0.49,1.3,{"$f":"(BV218*0.73+BW218*0.73)","v":0.94900000000000007},5.5,{"$f":"BZ218*0.91","v":5.0049999999999999},3.3,0.81,6.7,4.5999999999999996,6.6,4.3,3.1,0.4,0,0.2,3,null,null,null,null,0.14000000000000001,null,null,null,null,null,null,null,null,null,null,null,null,0.66015000000000001,{"$f":"CB218*0.83","v":2.7389999999999999},{"$f":"CC218*0.75","v":0.60750000000000004},{"$f":"CD218*0.88","v":5.8959999999999999},17,0,5,null,null,null,null,null,null,null,null,null,null,null,null,null,null,null,null,"BOVANS BEYAZ,YARKA (10-16 hf), 18-24ºC",16,16,2750,2750,0.9,1,null,0.36,0.36,0.15,0.19999999999999998,0.14000000000000001,0.18666666666666668,0.33,0.33,0.3,{"$f":"EQ218","v":0.3},0.6,{"$f":"ES218","v":0.6},0.53,{"$f":"EU218","v":0.53},0.74,{"$f":"EW218","v":0.74},0.64,{"$f":"EY218","v":0.64},0.5,{"$f":"FA218","v":0.5},0.43,{"$f":"FC218","v":0.43},0.16800000000000001,{"$f":"FE218","v":0.16800000000000001},0.14499999999999999,{"$f":"FG218","v":0.14499999999999999},null,null,null,null,1.3]
[null,null,null,null,null,null,null,null,null,null,null,null,null,null,null,null,null,null,null,null,null,null,null,null,null,null,null,null,null,null,null,null,null,null,null,null,null,null,null,null,null,null,null,null,null,null,null,null,null,null,null,null,null,null,null,null,null,null,null,null,null,null,null,"SOYA,TAM YAĞLI",90,35.5,3300,0.25,0.57999999999999996,0.11,1.61,0.03,0.03,0.53,0.54,1.07,0.93,2.4,2,1.5,0.49,2.59,1.56,2.75,1.78,1.34,18,8.4600000000000009,5.5,5,1.3,7.6,20.111000000000001,13.377000000000001,0.22750000000000001,0.29120000000000001,0,13.65,0,129.22,26.39,0.25480000000000003,43.68,4.8230000000000004,0,0,0,0.43195,1.27,0.39,2.31,18,0,10,null,null,null,null,null,null,null,null,null,null,null,null,null,null,null,null,"BOVANS BEYAZ, ÖN YUMURTA YEMİ (17 hf-%2 YV), 18-24ºC",16.8,16.8,2750,2750,2,2.1,null,0.42,0.42,0.15,0.19999999999999998,0.14000000000000001,0.18666666666666668,0.4,0.4,0.38,{"$f":"EQ219","v":0.38},0.67,{"$f":"ES219","v":0.67},0.6,{"$f":"EU219","v":0.6},0.8,{"$f":"EW219","v":0.8},0.71,{"$f":"EY219","v":0.71},0.56000000000000005,{"$f":"FA219","v":0.56000000000000005},0.48,{"$f":"FC219","v":0.48},0.18099999999999999,{"$f":"FE219","v":0.18099999999999999},0.155,{"$f":"FG219","v":0.155},null,null,null,null,1.2]
[null,null,null,null,null,null,null,null,null,null,null,null,null,null,null,null,null,null,null,null,null,null,null,null,null,null,null,null,null,null,null,null,null,null,null,null,null,null,null,null,null,null,null,null,null,null,null,null,null,null,null,null,null,null,null,null,null,null,null,null,null,null,null,"SUSAM KÜSPESİ,EKSPELLER",93,43.8,2210,1.99,1.37,0.34,1.2,0.04,0.06,1.4,0.54,1.94,{"$f":"BX220*((0.94+0.82)/2)","v":1.7071999999999998},0.91,{"$f":"BZ220*0.88","v":0.80080000000000007},1.71,0.82,5.0599999999999996,2.2799999999999998,3.3,2.3199999999999998,0,6.5,1.9,7,10,1.8,3.5,20,9.5,5.5,null,null,39,null,1800,78,null,115,null,null,null,null,1.1409999999999998,{"$f":"CB220*0.83","v":1.4193},{"$f":"CC220*0.75","v":0.61499999999999999},{"$f":"CD220*0.88","v":4.4527999999999999},12,0,10,null,null,null,null,null,null,null,null,null,null,null,null,null,null,null,null,"BOVANS BEYAZ, YUMURTA (%2 YV-28 hf) (GYT 105 g)",18.2,18.7,2820,2900,3.9,4.0999999999999996,null,0.45,0.45,0.18,0.24,0.17,0.22666666666666668,0.46,0.46,0.44,{"$f":"EQ220","v":0.44},0.77,{"$f":"ES220","v":0.77},0.7,{"$f":"EU220","v":0.7},0.91,{"$f":"EW220","v":0.91},0.81,{"$f":"EY220","v":0.81},0.66,{"$f":"FA220","v":0.66},0.56999999999999995,{"$f":"FC220","v":0.56999999999999995},0.21,{"$f":"FE220","v":0.21},0.182,{"$f":"FG220","v":0.182}]
[null,null,null,null,null,null,null,null,null,null,null,null,null,null,null,null,null,null,null,null,null,null,null,null,null,null,null,null,null,null,null,null,null,null,null,null,null,null,null,null,null,null,null,null,null,null,null,null,null,null,null,null,null,null,null,null,null,null,null,null,null,null,null,"SÜT TOZU,İNEK,YAĞSIZ",93,36.1,2537,1.28,1.02,1.02,1.6,0.51,0.9,0.9,0.28999999999999998,1.19,{"$f":"(BV221*0.73+BW221*0.73)","v":0.86870000000000003},2.8,{"$f":"BZ221*0.91","v":2.548},1.59,0.5,1.21,1.83,3.59,1.75,1.83,1,0,0.2,6.9,null,52,null,null,9.4E-2,0.42300000000000004,9.4000000000000004E-3,0.39479999999999998,0.14099999999999999,3.1019999999999999,0.188,0.188,39.479999999999997,0,0,0,0,0.73349999999999993,{"$f":"CB221*0.83","v":1.3197000000000001},{"$f":"CC221*0.75","v":0.375},{"$f":"CD221*0.88","v":1.0648},80,0,2,null,null,null,null,null,null,null,null,null,null,null,null,null,null,null,null,"BOVANS BEYAZ, YUMURTA (%2 YV-28 hf) (GYT 110 g)",17.7,18.2,2820,2900,3.8,4,null,0.43,0.43,0.17,0.22666666666666668,0.16,0.21333333333333335,0.44,0.44,0.42,{"$f":"EQ221","v":0.42},0.74,{"$f":"ES221","v":0.74},0.66,{"$f":"EU221","v":0.66},0.87,{"$f":"EW221","v":0.87},0.78,{"$f":"EY221","v":0.78},0.63,{"$f":"FA221","v":0.63},0.54,{"$f":"FC221","v":0.54},0.20100000000000001,{"$f":"FE221","v":0.20100000000000001},0.17299999999999999,{"$f":"FG221","v":0.17299999999999999}]
[null,null,null,null,null,null,null,null,null,null,null,null,null,null,null,null,null,null,null,null,null,null,null,null,null,null,null,null,null,null,null,null,null,null,null,null,null,null,null,null,null,null,null,null,null,null,null,null,null,null,null,null,null,null,null,null,null,null,null,null,null,null,null,"TÜY UNU",93,81,2360,0.2,0.7,0.7,0.3,0.69,0.4,0.6,5.5,6.1,2.85,1.72,1.1000000000000001,4.51,0.6,6.42,3.91,6.94,3.94,2.48,2.5,0.1,1.5,3.5,null,null,null,null,0.20526,1.2968699999999997,3.7319999999999999E-2,9.33,3.7319999999999999E-2,70.908000000000001,9.33,0.64376999999999995,103.56299999999999,0,0,0,0,0.48899999999999993,3.15,0.41,5.05,10,0,2,null,null,null,null,null,null,null,null,null,null,null,null,null,null,null,null,"BOVANS BEYAZ, YUMURTA (%2 YV-28 hf) (GYT 115 g)",17.2,17.600000000000001,2820,2900,3.6,3.8,null,0.41,0.41,0.16,0.21333333333333335,0.16,0.21333333333333335,0.42,0.42,0.4,{"$f":"EQ222","v":0.4},0.71,{"$f":"ES222","v":0.71},0.64,{"$f":"EU222","v":0.64},0.83,{"$f":"EW222","v":0.83},0.74,{"$f":"EY222","v":0.74},0.6,{"$f":"FA222","v":0.6},0.52,{"$f":"FC222","v":0.52},0.192,{"$f":"FE222","v":0.192},0.16600000000000001,{"$f":"FG222","v":0.16600000000000001}]
[null,null,null,null,null,null,null,null,null,null,null,null,null,null,null,null,null,null,null,null,null,null,null,null,null,null,null,null,null,null,null,null,null,null,null,null,null,null,null,null,null,null,null,null,null,null,null,null,null,null,null,null,null,null,null,null,null,null,null,null,null,null,null,"YERFISTIĞI KÜSPESİ,EKSPELLER",90,42,2500,0.16,0.56000000000000005,{"$f":"BQ223*0.3","v":0.16800000000000001},1.1499999999999999,0.06,0.03,0.45,0.52,0.97,{"$f":"(BV223*0.73+BW223*0.73)","v":0.70809999999999995},1.26,{"$f":"BZ223*0.91","v":1.1466000000000001},1.01,0.39,4.3499999999999996,1.27,2.42,1.97,1.47,7.3,1.43,12,6.3,8,9,19.752199999999998,12.4605,0.29536000000000001,0.29536000000000001,0,11.998999999999999,6.4610000000000001E-2,278.74599999999998,30.459,0.19383,49.841999999999999,3.5073999999999996,0,0,0,0.36674999999999996,{"$f":"CB223*0.83","v":0.83829999999999993},{"$f":"CC223*0.75","v":0.29249999999999998},{"$f":"CD223*0.88","v":3.8279999999999998},12,0,10,null,null,null,null,null,null,null,null,null,null,null,null,null,null,null,null,"BOVANS BEYAZ, YUMURTA (%2 YV-28 hf) (GYT 120 g)",16.7,17.2,2820,2900,3.4,3.6,null,0.39,0.39,0.16,0.21333333333333335,0.15,0.19999999999999998,0.41,0.41,0.38,{"$f":"EQ223","v":0.38},0.68,{"$f":"ES223","v":0.68},0.61,{"$f":"EU223","v":0.61},0.8,{"$f":"EW223","v":0.8},0.71,{"$f":"EY223","v":0.71},0.57999999999999996,{"$f":"FA223","v":0.57999999999999996},0.49,{"$f":"FC223","v":0.49},0.184,{"$f":"FE223","v":0.184},0.159,{"$f":"FG223","v":0.159}]
[null,null,null,null,null,null,null,null,null,null,null,null,null,null,null,null,null,null,null,null,null,null,null,null,null,null,null,null,null,null,null,null,null,null,null,null,null,null,null,null,null,null,null,null,null,null,null,null,null,null,null,null,null,null,null,null,null,null,null,null,null,null,null,"YERFISTIĞI KÜSPESİ,SOLVENT",92,50.7,2200,0.2,0.63,0.13,1.1499999999999999,7.0000000000000007E-2,0.03,0.54,0.64,1.18,{"$f":"(BV224*0.88+BW224*0.78)","v":0.97440000000000004},1.54,{"$f":"BZ224*0.91","v":1.4014},1.24,0.48,5.33,1.55,2.97,2.41,1.8,1.2,0.24,10,5.8,8,8,19.752199999999998,12.4605,0.29536000000000001,0.29536000000000001,0,11.998999999999999,6.4610000000000001E-2,278.74599999999998,30.459,0.19383,49.841999999999999,3.5073999999999996,0,0,0,0.44009999999999999,1.0291999999999999,0.36,4.6904000000000003,12,0,10,null,null,null,null,null,null,null,null,null,null,null,null,null,null,null,null,"BOVANS BEYAZ, YUMURTA (%2 YV-28 hf) (GYT 125 g)",16.2,16.7,2820,2900,3.3,3.5,null,0.37,0.37,0.15,0.19999999999999998,0.15,0.19999999999999998,0.39,0.39,0.37,{"$f":"EQ224","v":0.37},0.65,{"$f":"ES224","v":0.65},0.59,{"$f":"EU224","v":0.59},0.77,{"$f":"EW224","v":0.77},0.68,{"$f":"EY224","v":0.68},0.56000000000000005,{"$f":"FA224","v":0.56000000000000005},0.47,{"$f":"FC224","v":0.47},0.17599999999999999,{"$f":"FE224","v":0.17599999999999999},0.153,{"$f":"FG224","v":0.153}]
[null,null,null,null,null,null,null,null,null,null,null,null,null,null,null,null,null,null,null,null,null,null,null,null,null,null,null,null,null,null,null,null,null,null,null,null,null,null,null,null,null,null,null,null,null,null,null,null,null,null,null,null,null,null,null,null,null,null,null,null,null,null,null,"YONCA UNU, %12 HP",90,12.2,660,1.4,0.25,0.22,2.5,0.08,0.47,0.16941176470588235,0.13411764705882354,0.30352941176470588,0.1773176470588235,0.51529411764705879,0.30402352941176469,0.48705882352941171,0.16235294117647062,0.48705882352941171,0.4729411764705882,0.84,0.57176470588235295,0.57176470588235295,2.1,0,30.4,7,3,null,52.78,35.945,0.20019999999999999,0.22750000000000001,0.36946000000000007,12.467000000000001,0,154.69999999999999,35.034999999999997,0.50050000000000006,20.111000000000001,0,17.562999999999999,0.91,0,0.13807058823529411,0.40425882352941173,0.12176470588235297,0.4286117647058823,10,0,10,null,null,null,null,null,null,null,null,null,null,null,null,null,null,null,null,"BOVANS BEYAZ, YUMURTA (28 hf-) (GYT 105 g)",17.399999999999999,17.899999999999999,2820,2900,3.9,4.0999999999999996,null,0.4,0.4,0.17,0.22666666666666668,0.16,0.21333333333333335,0.44,0.44,0.41,{"$f":"EQ225","v":0.41},0.73,{"$f":"ES225","v":0.73},0.66,{"$f":"EU225","v":0.66},0.86,{"$f":"EW225","v":0.86},0.77,{"$f":"EY225","v":0.77},0.62,{"$f":"FA225","v":0.62},0.53,{"$f":"FC225","v":0.53},0.19800000000000001,{"$f":"FE225","v":0.19800000000000001},0.17,{"$f":"FG225","v":0.17}]
[null,null,null,null,null,null,null,null,null,null,null,null,null,null,null,null,null,null,null,null,null,null,null,null,null,null,null,null,null,null,null,null,null,null,null,null,null,null,null,null,null,null,null,null,null,null,null,null,null,null,null,null,null,null,null,null,null,null,null,null,null,null,null,"YONCA UNU, %15 HP",90,15.5,1000,1.4,0.25,0.22,2.4,0.08,0.47,0.21176470588235291,0.16764705882352943,0.37941176470588234,0.22164705882352939,0.64411764705882346,0.38002941176470584,0.60882352941176465,0.20294117647058824,0.60882352941176465,0.5911764705882353,1.05,0.71470588235294119,0.71470588235294119,3,0.37,27,9.9,3,null,48.23,30.394000000000002,0.2457,0.27300000000000002,0.20929999999999999,9.0090000000000003,0.1183,145.6,38.492999999999995,0.50050000000000006,23.750999999999998,0,17.562999999999999,0.91,0,0.1725882352941176,0.50532352941176462,0.15220588235294119,0.53576470588235292,10,0,10,null,null,null,null,null,null,null,null,null,null,null,null,null,null,null,null,"BOVANS BEYAZ, YUMURTA (28 hf-) (GYT 110 g)",16.899999999999999,17.399999999999999,2820,2900,3.7,3.9,null,0.38,0.38,0.16,0.21333333333333335,0.16,0.21333333333333335,0.42,0.42,0.4,{"$f":"EQ226","v":0.4},0.7,{"$f":"ES226","v":0.7},0.63,{"$f":"EU226","v":0.63},0.82,{"$f":"EW226","v":0.82},0.73,{"$f":"EY226","v":0.73},0.6,{"$f":"FA226","v":0.6},0.51,{"$f":"FC226","v":0.51},0.189,{"$f":"FE226","v":0.189},0.16200000000000001,{"$f":"FG226","v":0.16200000000000001}]
[null,null,null,null,null,null,null,null,null,null,null,null,null,null,null,null,null,null,null,null,null,null,null,null,null,null,null,null,null,null,null,null,null,null,null,null,null,null,null,null,null,null,null,null,null,null,null,null,null,null,null,null,null,null,null,null,null,null,null,null,null,null,null,"YONCA UNU, %17 HP",92,17.5,1200,1.44,0.22,0.22,2.15,0.09,0.47,0.24,0.19,0.43,{"$f":"(BV227*0.73+BW227*0.4)","v":0.25119999999999998},0.73,{"$f":"BZ227*0.59","v":0.43069999999999997},0.69,0.23,0.69,0.67,1.19,0.81,0.81,2.5,0.47,24.1,11,3,null,34,27,0.26186999999999999,0.23478000000000002,0.27993000000000001,8.1269999999999989,0.14448,558.95699999999999,39.731999999999999,0.32507999999999998,25.284000000000002,2.5283999999999995,0,0,0,0.19559999999999997,0.57269999999999988,0.17250000000000001,0.60719999999999996,10,0,10,null,null,null,null,null,null,null,null,null,null,null,null,null,null,null,null,"BOVANS BEYAZ, YUMURTA (28 hf-) (GYT 115 g)",16.399999999999999,16.899999999999999,2820,2900,3.6,3.8,null,0.37,0.37,0.16,0.21333333333333335,0.15,0.19999999999999998,0.4,0.4,0.38,{"$f":"EQ227","v":0.38},0.67,{"$f":"ES227","v":0.67},0.6,{"$f":"EU227","v":0.6},0.79,{"$f":"EW227","v":0.79},0.7,{"$f":"EY227","v":0.7},0.56999999999999995,{"$f":"FA227","v":0.56999999999999995},0.49,{"$f":"FC227","v":0.49},0.18099999999999999,{"$f":"FE227","v":0.18099999999999999},0.155,{"$f":"FG227","v":0.155}]
[null,null,null,null,null,null,null,null,null,null,null,null,null,null,null,null,null,null,null,null,null,null,null,null,null,null,null,null,null,null,null,null,null,null,null,null,null,null,null,null,null,null,null,null,null,null,null,null,null,null,null,null,null,null,null,null,null,null,null,null,null,null,null,"YONCA UNU, %20 HP",92,20,1630,1.67,0.28000000000000003,0.28000000000000003,2.15,0.09,0.47,0.31,0.25,0.56000000000000005,{"$f":"(BV228*0.73+BW228*0.73)","v":0.4088},0.87,{"$f":"BZ228*0.91","v":0.79170000000000007},0.76,0.33,0.92,0.88,1.3,0.85,0.59,3.6,0.57999999999999996,20.2,10,3,null,42.861000000000004,28.21,0.31850000000000001,0.25480000000000003,0.35853999999999997,16.106999999999999,0.14560000000000001,204.75,25.48,0.50050000000000006,28.119,0,41.86,1.82,10.01,0.25264999999999999,0.63080000000000003,0.2475,0.80959999999999999,10,0,10,null,null,null,null,null,null,null,null,null,null,null,null,null,null,null,null,"BOVANS BEYAZ, YUMURTA (28 hf-) (GYT 120 g)",15.9,16.399999999999999,2820,2900,3.4,3.6,null,0.35,0.35,0.15,0.19999999999999998,0.14000000000000001,0.18666666666666668,0.38,0.38,0.36,{"$f":"EQ228","v":0.36},0.64,{"$f":"ES228","v":0.64},0.57999999999999996,{"$f":"EU228","v":0.57999999999999996},0.75,{"$f":"EW228","v":0.75},0.67,{"$f":"EY228","v":0.67},0.55000000000000004,{"$f":"FA228","v":0.55000000000000004},0.47,{"$f":"FC228","v":0.47},0.17299999999999999,{"$f":"FE228","v":0.17299999999999999},0.14799999999999999,{"$f":"FG228","v":0.14799999999999999}]
[null,null,null,null,null,null,null,null,null,null,null,null,null,null,null,null,null,null,null,null,null,null,null,null,null,null,null,null,null,null,null,null,null,null,null,null,null,null,null,null,null,null,null,null,null,null,null,null,null,null,null,null,null,null,null,null,null,null,null,null,null,null,null,null,null,null,null,null,null,null,null,null,null,null,null,null,null,null,null,null,null,null,null,null,null,null,null,null,null,null,null,null,null,null,null,null,null,null,null,null,null,null,null,null,null,null,null,null,null,null,null,null,null,null,null,null,null,null,null,null,null,null,null,null,null,null,null,null,null,null,"BOVANS BEYAZ, YUMURTA (28 hf-) (GYT 125 g)",15.4,15.9,2820,2900,3.3,3.5,null,0.34,0.34,0.14000000000000001,0.18666666666666668,0.14000000000000001,0.18666666666666668,0.37,0.37,0.35,{"$f":"EQ229","v":0.35},0.61,{"$f":"ES229","v":0.61},0.55000000000000004,{"$f":"EU229","v":0.55000000000000004},0.72,{"$f":"EW229","v":0.72},0.64,{"$f":"EY229","v":0.64},0.52,{"$f":"FA229","v":0.52},0.45,{"$f":"FC229","v":0.45},0.16600000000000001,{"$f":"FE229","v":0.16600000000000001},0.14199999999999999,{"$f":"FG229","v":0.14199999999999999}]
[]
[null,null,null,null,null,null,null,null,null,null,null,null,null,null,null,null,null,null,null,null,null,null,null,null,null,null,null,null,null,null,null,null,null,null,null,null,null,null,null,null,null,null,null,null,null,null,null,null,null,null,null,null,null,null,null,null,null,null,null,null,null,null,null,null,null,null,null,null,null,null,null,null,null,null,null,null,null,null,null,null,null,null,null,null,null,null,null,null,null,null,null,null,null,null,null,null,null,null,null,null,null,null,null,null,null,null,null,null,null,null,null,null,null,null,null,null,null,null,null,null,null,null,null,null,null,null,null,null,null,null,"HY-LINE W-36,BAŞLANGIÇ 1 (0-3 hf)",20,{"$f":"EB231","v":20},2977,3087,1,{"$f":"EF231","v":1},null,0.5,{"$f":"EI231","v":0.5},0.18,{"$f":"EK231/0.75","v":0.24},0.18,{"$f":"EM231/0.75","v":0.24},0.51,0.51,0.47,{"$f":"EQ231","v":0.47},0.83,{"$f":"ES231","v":0.83},0.77,{"$f":"EU231","v":0.77},1.1499999999999999,{"$f":"EW231","v":1.1499999999999999},1.05,{"$f":"EY231","v":1.05},0.82,{"$f":"FA231","v":0.82},0.69,{"$f":"FC231","v":0.69},0.21,{"$f":"FE231","v":0.21},0.18,{"$f":"FG231","v":0.18},1.21,{"$f":"FI231","v":1.21},1.1200000000000001,{"$f":"FK231","v":1.1200000000000001},1]
[null,null,null,null,null,null,null,null,null,null,null,null,null,null,null,null,null,null,null,null,null,null,null,null,null,null,null,null,null,null,null,null,null,null,null,null,null,null,null,null,null,null,null,null,null,null,null,null,null,null,null,null,null,null,null,null,null,null,null,null,null,null,null,null,null,null,null,null,null,null,null,null,null,null,null,null,null,null,null,null,null,null,null,null,null,null,null,null,null,null,null,null,null,null,null,null,null,null,null,null,null,null,null,null,null,null,null,null,null,null,null,null,null,null,null,null,null,null,null,null,null,null,null,null,null,null,null,null,null,null,"HY-LINE W-36,BAŞLANGIÇ 2 (4-6 hf)",19,19,2977,3087,1,1,null,0.49,0.49,0.18,0.24,0.18,0.24,0.47,0.47,0.44,{"$f":"EQ232","v":0.44},0.83,{"$f":"ES232","v":0.83},0.72,{"$f":"EU232","v":0.72},1.07,{"$f":"EW232","v":1.07},0.98,{"$f":"EY232","v":0.98},0.77,{"$f":"FA232","v":0.77},0.66,{"$f":"FC232","v":0.66},0.21,{"$f":"FE232","v":0.21},0.18,{"$f":"FG232","v":0.18},1.1299999999999999,{"$f":"FI232","v":1.1299999999999999},1.05,{"$f":"FK232","v":1.05},1]
[null,null,null,null,null,null,null,null,null,null,null,null,null,null,null,null,null,null,null,null,null,null,null,null,null,null,null,null,null,null,null,null,null,null,null,null,null,null,null,null,null,null,null,null,null,null,null,null,null,null,null,null,null,null,null,null,null,null,null,null,null,null,null,null,null,null,null,null,null,null,null,null,null,null,null,null,null,null,null,null,null,null,null,null,null,null,null,null,null,null,null,null,null,null,null,null,null,null,null,null,null,null,null,null,null,null,null,null,null,null,null,null,null,null,null,null,null,null,null,null,null,null,null,null,null,null,null,null,null,null,"HY-LINE W-36,BÜYÜTME (7-12 hf)",18,18,2977,3087,1,1,null,0.47,0.47,0.18,0.24,0.18,0.24,0.44,0.44,0.4,{"$f":"EQ233","v":0.4},0.75,{"$f":"ES233","v":0.75},0.66,{"$f":"EU233","v":0.66},0.96,{"$f":"EW233","v":0.96},0.88,{"$f":"EY233","v":0.88},0.7,{"$f":"FA233","v":0.7},0.6,{"$f":"FC233","v":0.6},0.2,{"$f":"FE233","v":0.2},0.17,{"$f":"FG233","v":0.17},1.01,{"$f":"FI233","v":1.01},0.94,{"$f":"FK233","v":0.94},1]
[null,null,null,null,null,null,null,null,null,null,null,null,null,null,null,null,null,null,null,null,null,null,null,null,null,null,null,null,null,null,null,null,null,null,null,null,null,null,null,null,null,null,null,null,null,null,null,null,null,null,null,null,null,null,null,null,null,null,null,null,null,null,null,null,null,null,null,null,null,null,null,null,null,null,null,null,null,null,null,null,null,null,null,null,null,null,null,null,null,null,null,null,null,null,null,null,null,null,null,null,null,null,null,null,null,null,null,null,null,null,null,null,null,null,null,null,null,null,null,null,null,null,null,null,null,null,null,null,null,null,"HY-LINE W-36,GELİŞTİRME (13-15 hf)",17,17,2977,3131,1.4,1.4,null,0.45,0.45,0.18,0.24,0.18,0.24,0.38,0.38,0.36,{"$f":"EQ234","v":0.36},0.67,{"$f":"ES234","v":0.67},0.56000000000000005,{"$f":"EU234","v":0.56000000000000005},0.83,{"$f":"EW234","v":0.83},0.76,{"$f":"EY234","v":0.76},0.62,{"$f":"FA234","v":0.62},0.52,{"$f":"FC234","v":0.52},0.18,{"$f":"FE234","v":0.18},0.15,{"$f":"FG234","v":0.15},0.87,{"$f":"FI234","v":0.87},0.81,{"$f":"FK234","v":0.81},1]
[null,null,null,null,null,null,null,null,null,null,null,null,null,null,null,null,null,null,null,null,null,null,null,null,null,null,null,null,null,null,null,null,null,null,null,null,null,null,null,null,null,null,null,null,null,null,null,null,null,null,null,null,null,null,null,null,null,null,null,null,null,null,null,null,null,null,null,null,null,null,null,null,null,null,null,null,null,null,null,null,null,null,null,null,null,null,null,null,null,null,null,null,null,null,null,null,null,null,null,null,null,null,null,null,null,null,null,null,null,null,null,null,null,null,null,null,null,null,null,null,null,null,null,null,null,null,null,null,null,null,"HY-LINE W-36, ÖN YUMURTA (16-17 hf)",17,17,2911,2955,2.5,2.5,null,0.48,0.48,0.18,0.24,0.18,0.24,0.41,0.41,0.38,{"$f":"EQ235","v":0.38},0.74,{"$f":"ES235","v":0.74},0.62,{"$f":"EU235","v":0.62},0.85,{"$f":"EW235","v":0.85},0.78,{"$f":"EY235","v":0.78},0.64,{"$f":"FA235","v":0.64},0.55000000000000004,{"$f":"FC235","v":0.55000000000000004},0.2,{"$f":"FE235","v":0.2},0.16,{"$f":"FG235","v":0.16},0.9,{"$f":"FI235","v":0.9},0.83,{"$f":"FK235","v":0.83},1]
[null,null,null,null,null,null,null,null,null,null,null,null,null,null,null,null,null,null,null,null,null,null,null,null,null,null,null,null,null,null,null,null,null,null,null,null,null,null,null,null,null,null,null,null,null,null,null,null,null,null,null,null,null,null,null,null,null,null,null,null,null,null,null,null,null,null,null,null,null,null,null,null,null,null,null,null,null,null,null,null,null,null,null,null,null,null,null,null,null,null,null,null,null,null,null,null,null,null,null,null,null,null,null,null,null,null,null,null,null,null,null,null,null,null,null,null,null,null,null,null,null,null,null,null,null,null,null,null,null,null,"HY-LINE W-36, PİK YUMURTA  (YV-32 hf) (GYT 84 g)",19.05,19.05,2844,2955,4.76,4.76,null,0.6,0.6,0.21,0.27999999999999997,0.21,0.27999999999999997,0.5,0.5,0.47,{"$f":"EQ236","v":0.47},0.91,{"$f":"ES236","v":0.91},0.8,{"$f":"EU236","v":0.8},1.05,{"$f":"EW236","v":1.05},0.96,{"$f":"EY236","v":0.96},0.79,{"$f":"FA236","v":0.79},0.67,{"$f":"FC236","v":0.67},0.24,{"$f":"FE236","v":0.24},0.2,{"$f":"FG236","v":0.2},1.1000000000000001,{"$f":"FI236","v":1.1000000000000001},1.03,{"$f":"FK236","v":1.03},1.19]
[null,null,null,null,null,null,null,null,null,null,null,null,null,null,null,null,null,null,null,null,null,null,null,null,null,null,null,null,null,null,null,null,null,null,null,null,null,null,null,null,null,null,null,null,null,null,null,null,null,null,null,null,null,null,null,null,null,null,null,null,null,null,null,null,null,null,null,null,null,null,null,null,null,null,null,null,null,null,null,null,null,null,null,null,null,null,null,null,null,null,null,null,null,null,null,null,null,null,null,null,null,null,null,null,null,null,null,null,null,null,null,null,null,null,null,null,null,null,null,null,null,null,null,null,null,null,null,null,null,null,"HY-LINE W-36, YUMURTA (33-44 hf) (GYT 95 g)",16.32,16.32,2844,2944,4.42,4.42,null,0.51,0.51,0.19,0.25333333333333335,0.19,0.25333333333333335,0.42,0.42,0.39,{"$f":"EQ237","v":0.39},0.75,{"$f":"ES237","v":0.75},0.66,{"$f":"EU237","v":0.66},0.86,{"$f":"EW237","v":0.86},0.79,{"$f":"EY237","v":0.79},0.65,{"$f":"FA237","v":0.65},0.55000000000000004,{"$f":"FC237","v":0.55000000000000004},0.2,{"$f":"FE237","v":0.2},0.17,{"$f":"FG237","v":0.17},0.91,{"$f":"FI237","v":0.91},0.85,{"$f":"FK237","v":0.85},1.05]
[null,null,null,null,null,null,null,null,null,null,null,null,null,null,null,null,null,null,null,null,null,null,null,null,null,null,null,null,null,null,null,null,null,null,null,null,null,null,null,null,null,null,null,null,null,null,null,null,null,null,null,null,null,null,null,null,null,null,null,null,null,null,null,null,null,null,null,null,null,null,null,null,null,null,null,null,null,null,null,null,null,null,null,null,null,null,null,null,null,null,null,null,null,null,null,null,null,null,null,null,null,null,null,null,null,null,null,null,null,null,null,null,null,null,null,null,null,null,null,null,null,null,null,null,null,null,null,null,null,null,"HY-LINE W-36, YUMURTA (45-58 hf) (GYT 95 g)",16.05,16.05,2822,2922,4.58,4.58,null,0.48,0.48,0.19,0.25333333333333335,0.19,0.25333333333333335,0.39,0.39,0.37,{"$f":"EQ238","v":0.37},0.71,{"$f":"ES238","v":0.71},0.63,{"$f":"EU238","v":0.63},0.82,{"$f":"EW238","v":0.82},0.75,{"$f":"EY238","v":0.75},0.62,{"$f":"FA238","v":0.62},0.52,{"$f":"FC238","v":0.52},0.19,{"$f":"FE238","v":0.19},0.16,{"$f":"FG238","v":0.16},0.86,{"$f":"FI238","v":0.86},0.8,{"$f":"FK238","v":0.8},1.05]
[null,null,null,null,null,null,null,null,null,null,null,null,null,null,null,null,null,null,null,null,null,null,null,null,null,null,null,null,null,null,null,null,null,null,null,null,null,null,null,null,null,null,null,null,null,null,null,null,null,null,null,null,null,null,null,null,null,null,null,null,null,null,null,null,null,null,null,null,null,null,null,null,null,null,null,null,null,null,null,null,null,null,null,null,null,null,null,null,null,null,null,null,null,null,null,null,null,null,null,null,null,null,null,null,null,null,null,null,null,null,null,null,null,null,null,null,null,null,null,null,null,null,null,null,null,null,null,null,null,null,"HY-LINE W-36, YUMURTA (59 hf-) (GYT 93 g)",16.13,16.13,2800,2844,4.84,4.84,null,0.43,0.43,0.19,0.25333333333333335,0.19,0.25333333333333335,0.39,0.39,0.36,{"$f":"EQ239","v":0.36},0.69,{"$f":"ES239","v":0.69},0.61,{"$f":"EU239","v":0.61},0.82,{"$f":"EW239","v":0.82},0.75,{"$f":"EY239","v":0.75},0.62,{"$f":"FA239","v":0.62},0.52,{"$f":"FC239","v":0.52},0.19,{"$f":"FE239","v":0.19},0.16,{"$f":"FG239","v":0.16},0.86,{"$f":"FI239","v":0.86},0.8,{"$f":"FK239","v":0.8},1.08]
[]
[null,null,null,null,null,null,null,null,null,null,null,null,null,null,null,null,null,null,null,null,null,null,null,null,null,null,null,null,null,null,null,null,null,null,null,null,null,null,null,null,null,null,null,null,null,null,null,null,null,null,null,null,null,null,null,null,null,null,null,null,null,null,null,null,null,null,null,null,null,null,null,null,null,null,null,null,null,null,null,null,null,null,null,null,null,null,null,null,null,null,null,null,null,null,null,null,null,null,null,null,null,null,null,null,null,null,null,null,null,null,null,null,null,null,null,null,null,null,null,null,null,null,null,null,null,null,null,null,null,null,"HY-LINE BROWN,BAŞLANGIÇ 1 (0-3 hf)",20,{"$f":"EB241","v":20},2867,3043,1,{"$f":"EF241","v":1},null,0.45,{"$f":"EI241","v":0.45},0.18,{"$f":"EK241/0.75","v":0.24},0.18,{"$f":"EM241/0.75","v":0.24},0.49,0.49,0.45,{"$f":"EQ241","v":0.45},0.87,{"$f":"ES241","v":0.87},0.77,{"$f":"EU241","v":0.77},1.1100000000000001,{"$f":"EW241","v":1.1100000000000001},1.01,{"$f":"EY241","v":1.01},0.76,{"$f":"FA241","v":0.76},0.65,{"$f":"FC241","v":0.65},0.22,{"$f":"FE241","v":0.22},0.18,{"$f":"FG241","v":0.18},1.1299999999999999,{"$f":"FI241","v":1.1299999999999999},1.05,{"$f":"FK241","v":1.05},1]
[null,null,null,null,null,null,null,null,null,null,null,null,null,null,null,null,null,null,null,null,null,null,null,null,null,null,null,null,null,null,null,null,null,null,null,null,null,null,null,null,null,null,null,null,null,null,null,null,null,null,null,null,null,null,null,null,null,null,null,null,null,null,null,null,null,null,null,null,null,null,null,null,null,null,null,null,null,null,null,null,null,null,null,null,null,null,null,null,null,null,null,null,null,null,null,null,null,null,null,null,null,null,null,null,null,null,null,null,null,null,null,null,null,null,null,null,null,null,null,null,null,null,null,null,null,null,null,null,null,null,"HY-LINE BROWN,BAŞLANGIÇ 2 (3-6 hf)",18.25,18.25,2867,3043,1,1,null,0.44,0.44,0.17,0.22666666666666668,0.17,0.22666666666666668,0.46,0.46,0.42,{"$f":"EQ242","v":0.42},0.81,{"$f":"ES242","v":0.81},0.72,{"$f":"EU242","v":0.72},1.01,{"$f":"EW242","v":1.01},0.92,{"$f":"EY242","v":0.92},0.7,{"$f":"FA242","v":0.7},0.6,{"$f":"FC242","v":0.6},0.21,{"$f":"FE242","v":0.21},0.17,{"$f":"FG242","v":0.17},1.03,{"$f":"FI242","v":1.03},0.96,{"$f":"FK242","v":0.96},1]
[null,null,null,null,null,null,null,null,null,null,null,null,null,null,null,null,null,null,null,null,null,null,null,null,null,null,null,null,null,null,null,null,null,null,null,null,null,null,null,null,null,null,null,null,null,null,null,null,null,null,null,null,null,null,null,null,null,null,null,null,null,null,null,null,null,null,null,null,null,null,null,null,null,null,null,null,null,null,null,null,null,null,null,null,null,null,null,null,null,null,null,null,null,null,null,null,null,null,null,null,null,null,null,null,null,null,null,null,null,null,null,null,null,null,null,null,null,null,null,null,null,null,null,null,null,null,null,null,null,null,"HY-LINE BROWN,BÜYÜTME (6-12 hf)",17.5,17.5,2800,3021,1,1,null,0.43,0.43,0.17,0.22666666666666668,0.17,0.22666666666666668,0.41,0.41,0.39,{"$f":"EQ243","v":0.39},0.75,{"$f":"ES243","v":0.75},0.66,{"$f":"EU243","v":0.66},0.9,{"$f":"EW243","v":0.9},0.82,{"$f":"EY243","v":0.82},0.65,{"$f":"FA243","v":0.65},0.55000000000000004,{"$f":"FC243","v":0.55000000000000004},0.21,{"$f":"FE243","v":0.21},0.17,{"$f":"FG243","v":0.17},0.92,{"$f":"FI243","v":0.92},0.85,{"$f":"FK243","v":0.85},1]
[null,null,null,null,null,null,null,null,null,null,null,null,null,null,null,null,null,null,null,null,null,null,null,null,null,null,null,null,null,null,null,null,null,null,null,null,null,null,null,null,null,null,null,null,null,null,null,null,null,null,null,null,null,null,null,null,null,null,null,null,null,null,null,null,null,null,null,null,null,null,null,null,null,null,null,null,null,null,null,null,null,null,null,null,null,null,null,null,null,null,null,null,null,null,null,null,null,null,null,null,null,null,null,null,null,null,null,null,null,null,null,null,null,null,null,null,null,null,null,null,null,null,null,null,null,null,null,null,null,null,"HY-LINE BROWN,GELİŞTİRME (12-15 hf)",16,16,2734,3021,1.4,1.4,null,0.45,0.45,0.18,0.24,0.18,0.24,0.34,0.34,0.31,{"$f":"EQ244","v":0.31},0.63,{"$f":"ES244","v":0.63},0.56000000000000005,{"$f":"EU244","v":0.56000000000000005},0.73,{"$f":"EW244","v":0.73},0.67,{"$f":"EY244","v":0.67},0.54,{"$f":"FA244","v":0.54},0.46,{"$f":"FC244","v":0.46},0.18,{"$f":"FE244","v":0.18},0.15,{"$f":"FG244","v":0.15},0.75,{"$f":"FI244","v":0.75},0.7,{"$f":"FK244","v":0.7},1]
[null,null,null,null,null,null,null,null,null,null,null,null,null,null,null,null,null,null,null,null,null,null,null,null,null,null,null,null,null,null,null,null,null,null,null,null,null,null,null,null,null,null,null,null,null,null,null,null,null,null,null,null,null,null,null,null,null,null,null,null,null,null,null,null,null,null,null,null,null,null,null,null,null,null,null,null,null,null,null,null,null,null,null,null,null,null,null,null,null,null,null,null,null,null,null,null,null,null,null,null,null,null,null,null,null,null,null,null,null,null,null,null,null,null,null,null,null,null,null,null,null,null,null,null,null,null,null,null,null,null,"HY-LINE BROWN, ÖN YUMURTA (15-17 hf)",16.5,16.5,2778,2999,2.5,2.5,null,0.48,0.48,0.18,0.24,0.18,0.24,0.38,0.38,0.35,{"$f":"EQ245","v":0.35},0.7,{"$f":"ES245","v":0.7},0.62,{"$f":"EU245","v":0.62},0.79,{"$f":"EW245","v":0.79},0.72,{"$f":"EY245","v":0.72},0.57999999999999996,{"$f":"FA245","v":0.57999999999999996},0.5,{"$f":"FC245","v":0.5},0.19,{"$f":"FE245","v":0.19},0.16,{"$f":"FG245","v":0.16},0.81,{"$f":"FI245","v":0.81},0.75,{"$f":"FK245","v":0.75},1]
[null,null,null,null,null,null,null,null,null,null,null,null,null,null,null,null,null,null,null,null,null,null,null,null,null,null,null,null,null,null,null,null,null,null,null,null,null,null,null,null,null,null,null,null,null,null,null,null,null,null,null,null,null,null,null,null,null,null,null,null,null,null,null,null,null,null,null,null,null,null,null,null,null,null,null,null,null,null,null,null,null,null,null,null,null,null,null,null,null,null,null,null,null,null,null,null,null,null,null,null,null,null,null,null,null,null,null,null,null,null,null,null,null,null,null,null,null,null,null,null,null,null,null,null,null,null,null,null,null,null,"HY-LINE BROWN, PİK YUMURTA  (17-35 hf) (GYT 103 g)",16.5,16.5,2778,2911,4.08,4.08,null,0.45,0.45,0.17,0.22666666666666668,0.17,0.22666666666666668,0.42,0.42,0.4,{"$f":"EQ246","v":0.4},0.78,{"$f":"ES246","v":0.78},0.69,{"$f":"EU246","v":0.69},0.88,{"$f":"EW246","v":0.88},0.81,{"$f":"EY246","v":0.81},0.66,{"$f":"FA246","v":0.66},0.56000000000000005,{"$f":"FC246","v":0.56000000000000005},0.2,{"$f":"FE246","v":0.2},0.17,{"$f":"FG246","v":0.17},0.9,{"$f":"FI246","v":0.9},0.84,{"$f":"FK246","v":0.84},0.97]
[null,null,null,null,null,null,null,null,null,null,null,null,null,null,null,null,null,null,null,null,null,null,null,null,null,null,null,null,null,null,null,null,null,null,null,null,null,null,null,null,null,null,null,null,null,null,null,null,null,null,null,null,null,null,null,null,null,null,null,null,null,null,null,null,null,null,null,null,null,null,null,null,null,null,null,null,null,null,null,null,null,null,null,null,null,null,null,null,null,null,null,null,null,null,null,null,null,null,null,null,null,null,null,null,null,null,null,null,null,null,null,null,null,null,null,null,null,null,null,null,null,null,null,null,null,null,null,null,null,null,"HY-LINE BROWN, YUMURTA  2 (36-55 hf) (GYT 110 g)",15.23,15.23,2734,2867,3.91,3.91,null,0.38,0.38,0.16,0.21333333333333335,0.16,0.21333333333333335,0.38,0.38,0.36,{"$f":"EQ247","v":0.36},0.71,{"$f":"ES247","v":0.71},0.63,{"$f":"EU247","v":0.63},0.8,{"$f":"EW247","v":0.8},0.73,{"$f":"EY247","v":0.73},0.6,{"$f":"FA247","v":0.6},0.51,{"$f":"FC247","v":0.51},0.18,{"$f":"FE247","v":0.18},0.15,{"$f":"FG247","v":0.15},0.81,{"$f":"FI247","v":0.81},0.76,{"$f":"FK247","v":0.76},0.91]
[null,null,null,null,null,null,null,null,null,null,null,null,null,null,null,null,null,null,null,null,null,null,null,null,null,null,null,null,null,null,null,null,null,null,null,null,null,null,null,null,null,null,null,null,null,null,null,null,null,null,null,null,null,null,null,null,null,null,null,null,null,null,null,null,null,null,null,null,null,null,null,null,null,null,null,null,null,null,null,null,null,null,null,null,null,null,null,null,null,null,null,null,null,null,null,null,null,null,null,null,null,null,null,null,null,null,null,null,null,null,null,null,null,null,null,null,null,null,null,null,null,null,null,null,null,null,null,null,null,null,"HY-LINE BROWN, YUMURTA 3 (56-74 hf) (GYT 110 g)",14.55,14.55,2679,2867,4.09,4.09,null,0.35,0.35,0.16,0.21333333333333335,0.16,0.21333333333333335,0.37,0.37,0.35,{"$f":"EQ248","v":0.35},0.68,{"$f":"ES248","v":0.68},0.6,{"$f":"EU248","v":0.6},0.78,{"$f":"EW248","v":0.78},0.71,{"$f":"EY248","v":0.71},0.57999999999999996,{"$f":"FA248","v":0.57999999999999996},0.5,{"$f":"FC248","v":0.5},0.18,{"$f":"FE248","v":0.18},0.15,{"$f":"FG248","v":0.15},0.79,{"$f":"FI248","v":0.79},0.74,{"$f":"FK248","v":0.74},0.91]
[null,null,null,null,null,null,null,null,null,null,null,null,null,null,null,null,null,null,null,null,null,null,null,null,null,null,null,null,null,null,null,null,null,null,null,null,null,null,null,null,null,null,null,null,null,null,null,null,null,null,null,null,null,null,null,null,null,null,null,null,null,null,null,null,null,null,null,null,null,null,null,null,null,null,null,null,null,null,null,null,null,null,null,null,null,null,null,null,null,null,null,null,null,null,null,null,null,null,null,null,null,null,null,null,null,null,null,null,null,null,null,null,null,null,null,null,null,null,null,null,null,null,null,null,null,null,null,null,null,null,"HY-LINE BROWN, YUMURTA 4 (75-90 hf) (GYT 109 g)",14.22,14.22,2558,2833,4.4000000000000004,4.4000000000000004,null,0.33,0.33,0.17,0.22666666666666668,0.17,0.22666666666666668,0.36,0.36,0.33,{"$f":"EQ249","v":0.33},0.65,{"$f":"ES249","v":0.65},0.57999999999999996,{"$f":"EU249","v":0.57999999999999996},0.75,{"$f":"EW249","v":0.75},0.69,null,0.56999999999999995,{"$f":"FA249","v":0.56999999999999995},0.48,{"$f":"FC249","v":0.48},0.17,{"$f":"FE249","v":0.17},0.14000000000000001,{"$f":"FG249","v":0.14000000000000001},0.77,{"$f":"FI249","v":0.77},0.72,{"$f":"FK249","v":0.72},0.92]
[]
[null,null,null,null,null,null,null,null,null,null,null,null,null,null,null,null,null,null,null,null,null,null,null,null,null,null,null,null,null,null,null,null,null,null,null,null,null,null,null,null,null,null,null,null,null,null,null,null,null,null,null,null,null,null,null,null,null,null,null,null,null,null,null,null,null,null,null,null,null,null,null,null,null,null,null,null,null,null,null,null,null,null,null,null,null,null,null,null,null,null,null,null,null,null,null,null,null,null,null,null,null,null,null,null,null,null,null,null,null,null,null,null,null,null,null,null,null,null,null,null,null,null,null,null,null,null,null,null,null,null,"LOHMANN LSL-CLASSIC,BAŞLANGIÇ (1-3 hf)",21,{"$f":"EB251","v":21},2900,{"$f":"ED251","v":2900},1.05,{"$f":"EF251","v":1.05},0.75,0.48,{"$f":"EI251","v":0.48},0.18,{"$f":"EK251/0.75","v":0.24},0.2,{"$f":"EM251/0.75","v":0.26666666666666666},0.48,0.48,null,null,0.83,0.83,0.68,0.68,1.2,{"$f":"EW251","v":1.2},0.98,{"$f":"EY251","v":0.98},0.8,{"$f":"FA251","v":0.8},null,null,0.23,{"$f":"FE251","v":0.23},null,null,null,null,null,null,1.4]
[null,null,null,null,null,null,null,null,null,null,null,null,null,null,null,null,null,null,null,null,null,null,null,null,null,null,null,null,null,null,null,null,null,null,null,null,null,null,null,null,null,null,null,null,null,null,null,null,null,null,null,null,null,null,null,null,null,null,null,null,null,null,null,null,null,null,null,null,null,null,null,null,null,null,null,null,null,null,null,null,null,null,null,null,null,null,null,null,null,null,null,null,null,null,null,null,null,null,null,null,null,null,null,null,null,null,null,null,null,null,null,null,null,null,null,null,null,null,null,null,null,null,null,null,null,null,null,null,null,null,"LOHMANN LSL-CLASSIC,BÜYÜTME (1-8 hf)",18.5,18.5,2750,2800,1,1,0.7,0.45,0.45,0.17,0.22666666666666668,0.19,0.25333333333333335,0.4,0.4,null,null,0.7,0.7,0.56999999999999995,0.56999999999999995,1,{"$f":"EW252","v":1},0.82,{"$f":"EY252","v":0.82},0.7,{"$f":"FA252","v":0.7},null,null,0.21,{"$f":"FE252","v":0.21},null,null,null,null,null,null,1.4]
[null,null,null,null,null,null,null,null,null,null,null,null,null,null,null,null,null,null,null,null,null,null,null,null,null,null,null,null,null,null,null,null,null,null,null,null,null,null,null,null,null,null,null,null,null,null,null,null,null,null,null,null,null,null,null,null,null,null,null,null,null,null,null,null,null,null,null,null,null,null,null,null,null,null,null,null,null,null,null,null,null,null,null,null,null,null,null,null,null,null,null,null,null,null,null,null,null,null,null,null,null,null,null,null,null,null,null,null,null,null,null,null,null,null,null,null,null,null,null,null,null,null,null,null,null,null,null,null,null,null,"LOHMANN LSL-CLASSIC, GELİŞTİRME (9-16 hf)",14.5,14.5,2750,2800,0.9,0.9,0.57999999999999996,0.37,0.37,0.16,0.21333333333333335,0.16,0.21333333333333335,0.34,0.34,null,null,0.6,0.6,0.5,0.5,0.65,{"$f":"EW253","v":0.65},0.53,{"$f":"EY253","v":0.53},0.5,{"$f":"FA253","v":0.5},null,null,0.16,{"$f":"FE253","v":0.16},null,null,null,null,null,null,1]
[null,null,null,null,null,null,null,null,null,null,null,null,null,null,null,null,null,null,null,null,null,null,null,null,null,null,null,null,null,null,null,null,null,null,null,null,null,null,null,null,null,null,null,null,null,null,null,null,null,null,null,null,null,null,null,null,null,null,null,null,null,null,null,null,null,null,null,null,null,null,null,null,null,null,null,null,null,null,null,null,null,null,null,null,null,null,null,null,null,null,null,null,null,null,null,null,null,null,null,null,null,null,null,null,null,null,null,null,null,null,null,null,null,null,null,null,null,null,null,null,null,null,null,null,null,null,null,null,null,null,"LOHMANN LSL-CLASSIC, ÖN YUMURTA (17 hf-%5 YV)",17.5,17.5,2750,{"$f":"ED254","v":2750},2,2,0.65,0.45,0.45,0.16,0.21333333333333335,0.16,0.21333333333333335,0.36,0.36,null,null,0.68,0.68,0.56000000000000005,0.56000000000000005,0.85,{"$f":"EW254","v":0.85},0.7,{"$f":"EY254","v":0.7},0.6,{"$f":"FA254","v":0.6},null,null,0.2,{"$f":"FE254","v":0.2},null,null,null,null,null,null,1]
[null,null,null,null,null,null,null,null,null,null,null,null,null,null,null,null,null,null,null,null,null,null,null,null,null,null,null,null,null,null,null,null,null,null,null,null,null,null,null,null,null,null,null,null,null,null,null,null,null,null,null,null,null,null,null,null,null,null,null,null,null,null,null,null,null,null,null,null,null,null,null,null,null,null,null,null,null,null,null,null,null,null,null,null,null,null,null,null,null,null,null,null,null,null,null,null,null,null,null,null,null,null,null,null,null,null,null,null,null,null,null,null,null,null,null,null,null,null,null,null,null,null,null,null,null,null,null,null,null,null,"LOHMANN LSL-CLASSIC, BAŞLANGIÇ YUMURTA (%5 YV-28 hf)",18,18,2800,{"$f":"ED255","v":2800},3.7,3.7,0.65,0.45,0.45,0.15,0.19999999999999998,0.15,0.19999999999999998,0.4,0.4,null,null,0.73,0.73,0.6,0.6,0.8,{"$f":"EW255","v":0.8},0.66,{"$f":"EY255","v":0.66},0.59,{"$f":"FA255","v":0.59},null,null,0.2,{"$f":"FE255","v":0.2},null,null,null,null,null,null,2]
[null,null,null,null,null,null,null,null,null,null,null,null,null,null,null,null,null,null,null,null,null,null,null,null,null,null,null,null,null,null,null,null,null,null,null,null,null,null,null,null,null,null,null,null,null,null,null,null,null,null,null,null,null,null,null,null,null,null,null,null,null,null,null,null,null,null,null,null,null,null,null,null,null,null,null,null,null,null,null,null,null,null,null,null,null,null,null,null,null,null,null,null,null,null,null,null,null,null,null,null,null,null,null,null,null,null,null,null,null,null,null,null,null,null,null,null,null,null,null,null,null,null,null,null,null,null,null,null,null,null,"LOHMANN LSL-CLASSIC, 1. DÖNEM YUMURTA (29-45 hf)(GYT 100 g)",18.8,18.8,2800,2800,4.0999999999999996,4.0999999999999996,0.6,0.42,0.42,0.17,0.22666666666666668,0.17,0.22666666666666668,0.44,0.44,null,null,0.8,0.8,0.66,0.66,0.87,{"$f":"EW256","v":0.87},0.71,{"$f":"EY256","v":0.71},0.64,{"$f":"FA256","v":0.64},null,null,0.21,{"$f":"FE256","v":0.21},null,null,null,null,null,null,2]
[null,null,null,null,null,null,null,null,null,null,null,null,null,null,null,null,null,null,null,null,null,null,null,null,null,null,null,null,null,null,null,null,null,null,null,null,null,null,null,null,null,null,null,null,null,null,null,null,null,null,null,null,null,null,null,null,null,null,null,null,null,null,null,null,null,null,null,null,null,null,null,null,null,null,null,null,null,null,null,null,null,null,null,null,null,null,null,null,null,null,null,null,null,null,null,null,null,null,null,null,null,null,null,null,null,null,null,null,null,null,null,null,null,null,null,null,null,null,null,null,null,null,null,null,null,null,null,null,null,null,"LOHMANN LSL-CLASSIC, 2. DÖNEM YUMURTA (41-50 hf)(GYT 100 g)",18.399999999999999,18.399999999999999,2800,2800,4.4000000000000004,4.4000000000000004,0.59,0.41,0.41,0.17,0.22666666666666668,0.17,0.22666666666666668,0.41,0.41,null,null,0.76,0.76,0.63,0.63,0.83,{"$f":"EW257","v":0.83},0.68,{"$f":"EY257","v":0.68},0.57999999999999996,{"$f":"FA257","v":0.57999999999999996},null,null,0.2,{"$f":"FE257","v":0.2},null,null,null,null,null,null,1.6]
[null,null,null,null,null,null,null,null,null,null,null,null,null,null,null,null,null,null,null,null,null,null,null,null,null,null,null,null,null,null,null,null,null,null,null,null,null,null,null,null,null,null,null,null,null,null,null,null,null,null,null,null,null,null,null,null,null,null,null,null,null,null,null,null,null,null,null,null,null,null,null,null,null,null,null,null,null,null,null,null,null,null,null,null,null,null,null,null,null,null,null,null,null,null,null,null,null,null,null,null,null,null,null,null,null,null,null,null,null,null,null,null,null,null,null,null,null,null,null,null,null,null,null,null,null,null,null,null,null,null,"LOHMANN LSL-CLASSIC, 3. DÖNEM YUMURTA (51-65 hf)(GYT 100 g)",17.8,17.8,2800,2800,4.5,4.5,0.56000000000000005,0.39,0.39,0.17,0.22666666666666668,0.17,0.22666666666666668,0.38,0.38,null,null,0.7,0.7,0.57999999999999996,0.57999999999999996,0.78,{"$f":"EW258","v":0.78},0.64,{"$f":"EY258","v":0.64},0.55000000000000004,{"$f":"FA258","v":0.55000000000000004},null,null,0.19,{"$f":"FE258","v":0.19},null,null,null,null,null,null,1.2]
[null,null,null,null,null,null,null,null,null,null,null,null,null,null,null,null,null,null,null,null,null,null,null,null,null,null,null,null,null,null,null,null,null,null,null,null,null,null,null,null,null,null,null,null,null,null,null,null,null,null,null,null,null,null,null,null,null,null,null,null,null,null,null,null,null,null,null,null,null,null,null,null,null,null,null,null,null,null,null,null,null,null,null,null,null,null,null,null,null,null,null,null,null,null,null,null,null,null,null,null,null,null,null,null,null,null,null,null,null,null,null,null,null,null,null,null,null,null,null,null,null,null,null,null,null,null,null,null,null,null,"LOHMANN LSL-CLASSIC, 4. DÖNEM YUMURTA (65 hf-)(GYT 100 g)",17.2,17.2,2800,2800,4.5999999999999996,4.5999999999999996,0.5,0.33,0.33,0.17,0.22666666666666668,0.17,0.22666666666666668,0.36,0.36,null,null,0.67,0.67,0.55000000000000004,0.55000000000000004,0.75,{"$f":"EW259","v":0.75},0.61,{"$f":"EY259","v":0.61},0.53,{"$f":"FA259","v":0.53},null,null,0.18,{"$f":"FE259","v":0.18},null,null,null,null,null,null,1.1000000000000001]
[]
[null,null,null,null,null,null,null,null,null,null,null,null,null,null,null,null,null,null,null,null,null,null,null,null,null,null,null,null,null,null,null,null,null,null,null,null,null,null,null,null,null,null,null,null,null,null,null,null,null,null,null,null,null,null,null,null,null,null,null,null,null,null,null,null,null,null,null,null,null,null,null,null,null,null,null,null,null,null,null,null,null,null,null,null,null,null,null,null,null,null,null,null,null,null,null,null,null,null,null,null,null,null,null,null,null,null,null,null,null,null,null,null,null,null,null,null,null,null,null,null,null,null,null,null,null,null,null,null,null,null,"LOHMANN BROWN-CLASSIC,BAŞLANGIÇ (1-3 hf)",20,{"$f":"EB261","v":20},2900,{"$f":"ED261","v":2900},1.05,{"$f":"EF261","v":1.05},0.75,0.48,{"$f":"EI261","v":0.48},0.18,{"$f":"EK261/0.75","v":0.24},0.2,{"$f":"EM261/0.75","v":0.26666666666666666},0.48,0.48,0.39,{"$f":"EQ261","v":0.39},0.83,{"$f":"ES261","v":0.83},0.68,{"$f":"EU261","v":0.68},1.2,{"$f":"EW261","v":1.2},0.98,{"$f":"EY261","v":0.98},0.8,{"$f":"FA261","v":0.8},0.65,{"$f":"FC261","v":0.65},0.23,{"$f":"FE261","v":0.23},0.19,{"$f":"FG261","v":0.19},null,null,null,null,2]
[null,null,null,null,null,null,null,null,null,null,null,null,null,null,null,null,null,null,null,null,null,null,null,null,null,null,null,null,null,null,null,null,null,null,null,null,null,null,null,null,null,null,null,null,null,null,null,null,null,null,null,null,null,null,null,null,null,null,null,null,null,null,null,null,null,null,null,null,null,null,null,null,null,null,null,null,null,null,null,null,null,null,null,null,null,null,null,null,null,null,null,null,null,null,null,null,null,null,null,null,null,null,null,null,null,null,null,null,null,null,null,null,null,null,null,null,null,null,null,null,null,null,null,null,null,null,null,null,null,null,"LOHMANN BROWN-CLASSIC,BÜYÜTME (1-8 hf)",18.5,18.5,2720,2800,1,1,0.7,0.45,0.45,0.17,0.22666666666666668,0.19,0.25333333333333335,0.4,0.4,0.33,{"$f":"EQ262","v":0.33},0.7,{"$f":"ES262","v":0.7},0.56999999999999995,{"$f":"EU262","v":0.56999999999999995},1,{"$f":"EW262","v":1},0.82,{"$f":"EY262","v":0.82},0.7,{"$f":"FA262","v":0.7},0.56999999999999995,{"$f":"FC262","v":0.56999999999999995},0.21,{"$f":"FE262","v":0.21},0.17,{"$f":"FG262","v":0.17},null,null,null,null,1.4]
[null,null,null,null,null,null,null,null,null,null,null,null,null,null,null,null,null,null,null,null,null,null,null,null,null,null,null,null,null,null,null,null,null,null,null,null,null,null,null,null,null,null,null,null,null,null,null,null,null,null,null,null,null,null,null,null,null,null,null,null,null,null,null,null,null,null,null,null,null,null,null,null,null,null,null,null,null,null,null,null,null,null,null,null,null,null,null,null,null,null,null,null,null,null,null,null,null,null,null,null,null,null,null,null,null,null,null,null,null,null,null,null,null,null,null,null,null,null,null,null,null,null,null,null,null,null,null,null,null,null,"LOHMANN BROWN-CLASSIC, GELİŞTİRME (9-16 hf)",14.5,14.5,2720,2800,0.9,0.9,0.57999999999999996,0.37,0.37,0.16,0.21333333333333335,0.16,0.21333333333333335,0.34,0.34,0.28000000000000003,{"$f":"EQ263","v":0.28000000000000003},0.6,{"$f":"ES263","v":0.6},0.5,{"$f":"EU263","v":0.5},0.65,{"$f":"EW263","v":0.65},0.53,{"$f":"EY263","v":0.53},0.5,{"$f":"FA263","v":0.5},0.4,{"$f":"FC263","v":0.4},0.16,{"$f":"FE263","v":0.16},0.13,{"$f":"FG263","v":0.13},null,null,null,null,1]
[null,null,null,null,null,null,null,null,null,null,null,null,null,null,null,null,null,null,null,null,null,null,null,null,null,null,null,null,null,null,null,null,null,null,null,null,null,null,null,null,null,null,null,null,null,null,null,null,null,null,null,null,null,null,null,null,null,null,null,null,null,null,null,null,null,null,null,null,null,null,null,null,null,null,null,null,null,null,null,null,null,null,null,null,null,null,null,null,null,null,null,null,null,null,null,null,null,null,null,null,null,null,null,null,null,null,null,null,null,null,null,null,null,null,null,null,null,null,null,null,null,null,null,null,null,null,null,null,null,null,"LOHMANN BROWN-CLASSIC, ÖN YUMURTA (17 hf-%5 YV)",17.5,17.5,2720,2800,2,2,0.65,0.45,0.45,0.16,0.21333333333333335,0.16,0.21333333333333335,0.36,0.36,0.28999999999999998,{"$f":"EQ264","v":0.28999999999999998},0.68,{"$f":"ES264","v":0.68},0.56000000000000005,{"$f":"EU264","v":0.56000000000000005},0.85,{"$f":"EW264","v":0.85},0.7,{"$f":"EY264","v":0.7},0.6,{"$f":"FA264","v":0.6},0.49,{"$f":"FC264","v":0.49},0.2,{"$f":"FE264","v":0.2},0.16,{"$f":"FG264","v":0.16},null,null,null,null,1]
[null,null,null,null,null,null,null,null,null,null,null,null,null,null,null,null,null,null,null,null,null,null,null,null,null,null,null,null,null,null,null,null,null,null,null,null,null,null,null,null,null,null,null,null,null,null,null,null,null,null,null,null,null,null,null,null,null,null,null,null,null,null,null,null,null,null,null,null,null,null,null,null,null,null,null,null,null,null,null,null,null,null,null,null,null,null,null,null,null,null,null,null,null,null,null,null,null,null,null,null,null,null,null,null,null,null,null,null,null,null,null,null,null,null,null,null,null,null,null,null,null,null,null,null,null,null,null,null,null,null,"LOHMANN BROWN-CLASSIC, 1. DÖNEM YUMURTA (19-45 hf)(GYT 115 g)",16.260000000000002,16.260000000000002,2720,2800,3.57,3.57,0.52,0.37,0.37,0.16,0.21333333333333335,0.16,0.21333333333333335,0.38,{"$f":"EO265","v":0.38},0.31,{"$f":"EQ265","v":0.31},0.69,{"$f":"ES265","v":0.69},0.56999999999999995,{"$f":"EU265","v":0.56999999999999995},0.76,{"$f":"EW265","v":0.76},0.63,{"$f":"EY265","v":0.63},0.53,{"$f":"FA265","v":0.53},0.43,{"$f":"FC265","v":0.43},0.16,{"$f":"FE265","v":0.16},0.13,{"$f":"FG265","v":0.13},0.8,{"$f":"FI265","v":0.8},0.65,{"$f":"FK265","v":0.65},1.74]
[null,null,null,null,null,null,null,null,null,null,null,null,null,null,null,null,null,null,null,null,null,null,null,null,null,null,null,null,null,null,null,null,null,null,null,null,null,null,null,null,null,null,null,null,null,null,null,null,null,null,null,null,null,null,null,null,null,null,null,null,null,null,null,"VİTAMİN-MİNERAL ve KATKILAR","KM","HP","ME","Ca","Top.P","Kul.P","K","Na","Cl","Metionin","Sistin","Met+Sis","Kul.Met+Sis","Lizin","Kul.Lizin","Treonin","Triptofan","Arjinin","İzolöysin","Löysin","Fenilalanin","Tirozin","HY","Linoleik","HS","HK","Nişasta","Şeker","NDF","ADF","Mg","S","Co","Cu","I","Fe","Mn","Se","Zn","Mo","Vit A,1000 IU/kg ","Vit D,1000 IU/kg ","Vit E,IU/kg","Sin.Met.","Sin.Treonin","Sin.Triptofan","Sin.Arjinin","Fiat,TL","Enaz","Ençok",null,null,null,null,null,null,null,null,null,null,null,null,null,null,null,null,"LOHMANN BROWN-CLASSIC, 2. DÖNEM YUMURTA (46-65 hf)(GYT 115 g)",15.61,15.61,2720,2800,3.83,3.83,0.5,0.35,0.35,0.15,0.19999999999999998,0.15,0.19999999999999998,0.37,0.37,0.3,{"$f":"EQ266","v":0.3},0.67,{"$f":"ES266","v":0.67},0.55000000000000004,{"$f":"EU266","v":0.55000000000000004},0.73,{"$f":"EW266","v":0.73},0.6,{"$f":"EY266","v":0.6},0.51,{"$f":"FA266","v":0.51},0.42,{"$f":"FC266","v":0.42},0.15,{"$f":"FE266","v":0.15},0.13,{"$f":"FG266","v":0.13},0.76,{"$f":"FI266","v":0.76},0.63,{"$f":"FK266","v":0.63},1.39]
[null,null,null,null,null,null,null,null,null,null,null,null,null,null,null,null,null,null,null,null,null,null,null,null,null,null,null,null,null,null,null,null,null,null,null,null,null,null,null,null,null,null,null,null,null,null,null,null,null,null,null,null,null,null,null,null,null,null,null,null,null,null,null,"ANTİOKSİDAN",100,0,0,0,0,0,0,0,0,0,0,0,0,0,0,0,0,0,0,0,0,0,0,0,0,null,null,null,null,null,null,null,null,null,null,null,null,null,null,null,null,null,null,null,null,null,null,420,0,0.1,null,null,null,null,null,null,null,null,null,null,null,null,null,null,null,null,"LOHMANN BROWN-CLASSIC, 3. DÖNEM YUMURTA (65 hf-)(GYT 115 g)",14.8,14.8,2720,2800,3.91,3.91,0.47,0.33,0.33,0.14000000000000001,0.18666666666666668,0.14000000000000001,0.18666666666666668,0.35,0.35,0.28000000000000003,{"$f":"EQ267","v":0.28000000000000003},0.63,{"$f":"ES267","v":0.63},0.52,{"$f":"EU267","v":0.52},0.69,{"$f":"EW267","v":0.69},0.56999999999999995,{"$f":"EY267","v":0.56999999999999995},0.48,{"$f":"FA267","v":0.48},0.4,{"$f":"FC267","v":0.4},0.14000000000000001,{"$f":"FE267","v":0.14000000000000001},0.12,{"$f":"FG267","v":0.12},0.72,{"$f":"FI267","v":0.72},0.59,{"$f":"FK267","v":0.59},1.1299999999999999]
[null,null,null,null,null,null,null,null,null,null,null,null,null,null,null,null,null,null,null,null,null,null,null,null,null,null,null,null,null,null,null,null,null,null,null,null,null,null,null,null,null,null,null,null,null,null,null,null,null,null,null,null,null,null,null,null,null,null,null,null,null,null,null,"DİKALSİYUM FOSFAT",100,0,0,24,18,16.2,0.1,0.06,1.2999999999999999E-2,0,0,0,0,0,0,0,0,0,0,0,0,0,0,0,0,100,null,null,null,null,null,1.1057999999999999,null,null,null,13.968,null,null,null,null,null,null,null,null,null,null,null,35,0,4]
[null,null,null,null,null,null,null,null,null,null,null,null,null,null,null,null,null,null,null,null,null,null,null,null,null,null,null,null,null,null,null,null,null,null,null,null,null,null,null,null,null,null,null,null,null,null,null,null,null,null,null,null,null,null,null,null,null,null,null,null,null,null,null,"DL-METHİONİN",100,58.7,3680,0,0,0,0,0,0,99,0,99,99,0,0,0,0,0,0,0,0,0,0,0,0,null,null,null,null,null,null,null,null,null,null,null,null,null,null,null,null,null,null,null,null,null,null,95,0,0.5,null,null,null,null,null,null,null,null,null,null,null,null,null,null,null,null,"NICK CHICK BEYAZ, BAŞLANGIÇ (0-3 hf)",20,{"$f":"EB269","v":20},2900,{"$f":"ED269","v":2900},1.05,{"$f":"EF269","v":1.05},0.75,0.48,{"$f":"EI269","v":0.48},0.18,{"$f":"EK269/0.75","v":0.24},0.2,{"$f":"EM269/0.75","v":0.26666666666666666},0.48,0.48,0.39,{"$f":"EQ269","v":0.39},0.83,{"$f":"ES269","v":0.83},0.68,{"$f":"EU269","v":0.68},1.2,{"$f":"EW269","v":1.2},0.98,{"$f":"EY269","v":0.98},0.8,{"$f":"FA269","v":0.8},0.65,{"$f":"FC269","v":0.65},0.23,{"$f":"FE269","v":0.23},0.19,{"$f":"FG269","v":0.19},null,null,null,null,2]
[null,null,null,null,null,null,null,null,null,null,null,null,null,null,null,null,null,null,null,null,null,null,null,null,null,null,null,null,null,null,null,null,null,null,null,null,null,null,null,null,null,null,null,null,null,null,null,null,null,null,null,null,null,null,null,null,null,null,null,null,null,null,null,"ENZİM",100,0,0,0,0,0,0,0,0,0,0,0,0,0,0,0,0,0,0,0,0,0,0,0,0,null,null,null,null,null,null,null,null,null,null,null,null,null,null,null,null,null,null,null,null,null,null,1500,0.1,0.5,null,null,null,null,null,null,null,null,null,null,null,null,null,null,null,null,"NICK CHICK BEYAZ, BÜYÜTME (4-8 hf)",18.5,{"$f":"EB270","v":18.5},2750,2800,1,1,0.7,0.45,{"$f":"EI270","v":0.45},0.17,0.22666666666666668,0.19,0.25333333333333335,0.4,0.4,0.33,{"$f":"EQ270","v":0.33},0.7,{"$f":"ES270","v":0.7},0.56999999999999995,{"$f":"EU270","v":0.56999999999999995},1,{"$f":"EW270","v":1},0.82,{"$f":"EY270","v":0.82},0.7,{"$f":"FA270","v":0.7},0.56999999999999995,{"$f":"FC270","v":0.56999999999999995},0.21,{"$f":"FE270","v":0.21},0.17,{"$f":"FG270","v":0.17},null,null,null,null,1.4]
[null,null,null,null,null,null,null,null,null,null,null,null,null,null,null,null,null,null,null,null,null,null,null,null,null,null,null,null,null,null,null,null,null,null,null,null,null,null,null,null,null,null,null,null,null,null,null,null,null,null,null,null,null,null,null,null,null,null,null,null,null,null,null,"FLORSUZ FOSFAT",100,0,0,32,18,0,0.1,4.9000000000000004,0,0,0,0,0,0,0,0,0,0,0,0,0,0,0,0,0,100,null,null,null,null,0.42,0,0,0,0,6700,200,0,60,0,0,0,0,null,null,null,null,11,0,2,null,null,null,null,null,null,null,null,null,null,null,null,null,null,null,null,"NICK CHICK BEYAZ, GELİŞTİRME (9-17 hf)",14.5,14.5,2750,2800,0.9,0.9,0.57999999999999996,0.37,0.37,0.16,0.21333333333333335,0.16,0.21333333333333335,0.34,0.34,0.28000000000000003,{"$f":"EQ271","v":0.28000000000000003},0.6,{"$f":"ES271","v":0.6},0.5,{"$f":"EU271","v":0.5},0.65,{"$f":"EW271","v":0.65},0.53,{"$f":"EY271","v":0.53},0.5,{"$f":"FA271","v":0.5},0.4,{"$f":"FC271","v":0.4},0.16,{"$f":"FE271","v":0.16},0.13,{"$f":"FG271","v":0.13},null,null,null,null,1]
[null,null,null,null,null,null,null,null,null,null,null,null,null,null,null,null,null,null,null,null,null,null,null,null,null,null,null,null,null,null,null,null,null,null,null,null,null,null,null,null,null,null,null,null,null,null,null,null,null,null,null,null,null,null,null,null,null,null,null,null,null,null,null,"FOSFORİK ASİT",99,0,0,0.08,23.7,23.7,0.02,0.05,0,0,0,0,0,0,0,0,0,0,0,0,0,0,0,0,0,100,null,null,null,null,0.51,1.55,10,10,0,17500,500,0,130,0,0,0,0,null,null,null,null,11,0,1,null,null,null,null,null,null,null,null,null,null,null,null,null,null,null,null,"NICK CHICK BEYAZ, ÖN YUMURTA (17 hf-%5 YV)",17.5,17.5,2750,2800,2,2,0.65,0.45,0.45,0.16,0.21333333333333335,0.16,0.21333333333333335,0.36,0.36,0.28999999999999998,{"$f":"EQ272","v":0.28999999999999998},0.68,{"$f":"ES272","v":0.68},0.56000000000000005,{"$f":"EU272","v":0.56000000000000005},0.85,{"$f":"EW272","v":0.85},0.7,{"$f":"EY272","v":0.7},0.6,{"$f":"FA272","v":0.6},0.49,{"$f":"FC272","v":0.49},0.2,{"$f":"FE272","v":0.2},0.16,{"$f":"FG272","v":0.16},null,null,null,null,1]
[null,null,null,null,null,null,null,null,null,null,null,null,null,null,null,null,null,null,null,null,null,null,null,null,null,null,null,null,null,null,null,null,null,null,null,null,null,null,null,null,null,null,null,null,null,null,null,null,null,null,null,null,null,null,null,null,null,null,null,null,null,null,null,"İSTRİDYE KABUĞU",99,0,0,38,0.05,0.05,0.1,0.2,0.01,0,0,0,0,0,0,0,0,0,0,0,0,0,0,0,0,100,null,null,null,null,0.3,0,0,0,0,2870,100,0,0,0,0,0,0,null,null,null,null,12,0,5,null,null,null,null,null,null,null,null,null,null,null,null,null,null,null,null,"NICK CHICK BEYAZ, YUMURTA (>%90 YV) (GYT 100 g)",18.8,{"$f":"EB273","v":18.8},3000,{"$f":"ED273","v":3000},4.0999999999999996,{"$f":"EF273","v":4.0999999999999996},0.6,0.42,0.42,0.18,0.24,0.18,0.24,0.44,0.44,0.36,{"$f":"EQ273","v":0.36},0.8,{"$f":"ES273","v":0.8},0.66,{"$f":"EU273","v":0.66},0.88,{"$f":"EW273","v":0.88},0.72,{"$f":"EY273","v":0.72},0.61,{"$f":"FA273","v":0.61},0.5,{"$f":"FC273","v":0.5},0.15,{"$f":"FE273","v":0.15},0.15,{"$f":"FG273","v":0.15},0.91,{"$f":"FI273","v":0.91},0.75,{"$f":"FK273","v":0.75},2]
[null,null,null,null,null,null,null,null,null,null,null,null,null,null,null,null,null,null,null,null,null,null,null,null,null,null,null,null,null,null,null,null,null,null,null,null,null,null,null,null,null,null,null,null,null,null,null,null,null,null,null,null,null,null,null,null,null,null,null,null,null,null,null,"KALSİYUM FOSFAT,MONOBAZİK",100,0,0,16,21,21,7.0000000000000007E-2,0.06,0,0,0,0,0,0,0,0,0,0,0,0,0,0,0,0,0,100,null,null,null,null,null,null,null,null,null,null,null,null,null,null,null,null,null,null,null,null,null,12,0,2,null,null,null,null,null,null,null,null,null,null,null,null,null,null,null,null,"NICK CHICK BEYAZ, YUMURTA (%85-90 YV) (GYT 100 g)",18.27,{"$f":"EB274","v":18.27},3000,{"$f":"ED274","v":3000},4.0999999999999996,{"$f":"EF274","v":4.0999999999999996},0.57999999999999996,0.41,0.41,0.17,0.22666666666666668,0.17,0.22666666666666668,0.43,0.43,0.35,{"$f":"EQ274","v":0.35},0.78,{"$f":"ES274","v":0.78},0.64,{"$f":"EU274","v":0.64},0.85,{"$f":"EW274","v":0.85},0.7,{"$f":"EY274","v":0.7},0.59,{"$f":"FA274","v":0.59},0.49,{"$f":"FC274","v":0.49},0.18,{"$f":"FE274","v":0.18},0.15,{"$f":"FG274","v":0.15},0.89,{"$f":"FI274","v":0.89},0.73,{"$f":"FK274","v":0.73},2]
[null,null,null,null,null,null,null,null,null,null,null,null,null,null,null,null,null,null,null,null,null,null,null,null,null,null,null,null,null,null,null,null,null,null,null,null,null,null,null,null,null,null,null,null,null,null,null,null,null,null,null,null,null,null,null,null,null,null,null,null,null,null,null,"KALSİYUM KARBONAT",99,0,0,38,0,0,0.06,0.02,0,0,0,0,0,0,0,0,0,0,0,0,0,0,0,0,0,100,null,null,null,null,0.05,0,0,0,0,300,300,0,0,0,0,0,0,null,null,null,null,12,0,5,null,null,null,null,null,null,null,null,null,null,null,null,null,null,null,null,"NICK CHICK BEYAZ, YUMURTA (%80-85 YV) (GYT 100 g)",17.75,{"$f":"EB275","v":17.75},3000,{"$f":"ED275","v":3000},4.2,{"$f":"EF275","v":4.2},0.56999999999999995,0.4,0.4,0.17,0.22666666666666668,0.17,0.22666666666666668,0.41,0.41,0.34,{"$f":"EQ275","v":0.34},0.75,{"$f":"ES275","v":0.75},0.62,{"$f":"EU275","v":0.62},0.83,{"$f":"EW275","v":0.83},0.68,{"$f":"EY275","v":0.68},0.57999999999999996,{"$f":"FA275","v":0.57999999999999996},0.47,{"$f":"FC275","v":0.47},0.17,{"$f":"FE275","v":0.17},0.14000000000000001,{"$f":"FG275","v":0.14000000000000001},0.86,{"$f":"FI275","v":0.86},0.71,{"$f":"FK275","v":0.71},1.8]
[null,null,null,null,null,null,null,null,null,null,null,null,null,null,null,null,null,null,null,null,null,null,null,null,null,null,null,null,null,null,null,null,null,null,null,null,null,null,null,null,null,null,null,null,null,null,null,null,null,null,null,null,null,null,null,null,null,null,null,null,null,null,null,"KALSİYUM SÜLFAT, 2 SULU",98,0,0,22.6,0,0,0,0,0,0,0,0,0,0,0,0,0,0,0,0,0,0,0,0,0,100,null,null,null,null,null,null,null,null,null,null,null,null,null,null,null,null,null,null,null,null,null,12,0,1,null,null,null,null,null,null,null,null,null,null,null,null,null,null,null,null,"NICK CHICK BEYAZ, YUMURTA (%75-80 YV) (GYT 100 g)",17.22,{"$f":"EB276","v":17.22},3000,{"$f":"ED276","v":3000},4.2,{"$f":"EF276","v":4.2},0.55000000000000004,0.38,{"$f":"EI276","v":0.38},0.16,0.21333333333333335,0.16,0.21333333333333335,0.4,0.4,0.33,{"$f":"EQ276","v":0.33},0.73,{"$f":"ES276","v":0.73},0.6,{"$f":"EU276","v":0.6},0.8,{"$f":"EW276","v":0.8},0.66,{"$f":"EY276","v":0.66},0.56000000000000005,{"$f":"FA276","v":0.56000000000000005},0.46,{"$f":"FC276","v":0.46},0.17,{"$f":"FE276","v":0.17},0.14000000000000001,{"$f":"FG276","v":0.14000000000000001},0.84,{"$f":"FI276","v":0.84},0.69,{"$f":"FK276","v":0.69},1.5]
[null,null,null,null,null,null,null,null,null,null,null,null,null,null,null,null,null,null,null,null,null,null,null,null,null,null,null,null,null,null,null,null,null,null,null,null,null,null,null,null,null,null,null,null,null,null,null,null,null,null,null,null,null,null,null,null,null,null,null,null,null,null,null,"KAYA FOSFATI,% 17 Ca, % 9 P",99,0,0,17,9,9,0.3,0.1,7.0000000000000001E-3,0,0,0,0,0,0,0,0,0,0,0,0,0,0,0,0,100,null,null,null,null,0.38,0,0,0,0,19000,1000,0,0,0,0,0,0,null,null,null,null,12,0,1,null,null,null,null,null,null,null,null,null,null,null,null,null,null,null,null,"NICK CHICK BEYAZ, YUMURTA (%70-75 YV) (GYT 100 g)",16.71,16.71,3000,3000,4.3,4.3,0.53,0.37,0.37,0.16,0.21333333333333335,0.16,0.21333333333333335,0.39,0.39,0.32,{"$f":"EQ277","v":0.32},0.71,{"$f":"ES277","v":0.71},0.57999999999999996,{"$f":"EU277","v":0.57999999999999996},0.78,{"$f":"EW277","v":0.78},0.64,null,0.54,{"$f":"FA277","v":0.54},0.44,{"$f":"FC277","v":0.44},0.16,{"$f":"FE277","v":0.16},0.13,{"$f":"FG277","v":0.13},0.81,{"$f":"FI277","v":0.81},0.67,{"$f":"FK277","v":0.67},1.2]
[null,null,null,null,null,null,null,null,null,null,null,null,null,null,null,null,null,null,null,null,null,null,null,null,null,null,null,null,null,null,null,null,null,null,null,null,null,null,null,null,null,null,null,null,null,null,null,null,null,null,null,null,null,null,null,null,null,null,null,null,null,null,null,"KAYA FOSFATI,% 28,5 Ca, % 15,5 P",99,0,0,28.5,15.5,15.5,0,0.2,0,0,0,0,0,0,0,0,0,0,0,0,0,0,0,0,0,100,null,null,null,null,null,null,null,null,null,null,null,null,null,null,null,null,null,null,null,null,null,13,0,1]
[null,null,null,null,null,null,null,null,null,null,null,null,null,null,null,null,null,null,null,null,null,null,null,null,null,null,null,null,null,null,null,null,null,null,null,null,null,null,null,null,null,null,null,null,null,null,null,null,null,null,null,null,null,null,null,null,null,null,null,null,null,null,null,"KAYA FOSFATI,% 34 Ca, % 9 14",99,0,0,34,14,14,0,0.2,0,0,0,0,0,0,0,0,0,0,0,0,0,0,0,0,0,100,null,null,null,null,0.41,0,0,0,0,16800,200,0,100,0,0,0,0,null,null,null,null,12,0,1,null,null,null,null,null,null,null,null,null,null,null,null,null,null,null,null,"NICK BROWN, BAŞLANGIÇ (0-5 hf)",19,20,2825,2950,1.05,{"$f":"EF279","v":1.05},0.7,0.45,{"$f":"EI279","v":0.45},0.18,{"$f":"EK279/0.75","v":0.24},0.18,{"$f":"EM279/0.75","v":0.24},0.52,{"$f":"EO279","v":0.52},0.44,{"$f":"EQ279","v":0.44},0.88,{"$f":"ES279","v":0.88},0.75,{"$f":"EU279","v":0.75},1.18,{"$f":"EW279","v":1.18},1,{"$f":"EY279","v":1},0.78,{"$f":"FA279","v":0.78},0.66,{"$f":"FC279","v":0.66},0.23,{"$f":"FE279","v":0.23},0.19,{"$f":"FG279","v":0.19},1.24,{"$f":"FI279","v":1.24},1.05,{"$f":"FK279","v":1.05},2]
[null,null,null,null,null,null,null,null,null,null,null,null,null,null,null,null,null,null,null,null,null,null,null,null,null,null,null,null,null,null,null,null,null,null,null,null,null,null,null,null,null,null,null,null,null,null,null,null,null,null,null,null,null,null,null,null,null,null,null,null,null,null,null,"KEMİK UNU, %27 Ca, %18 HP",95,18.8,0,27.31,13.07,13.07,0,0,0,0,0,0,0,0,0,0,0,0,0,0,0,0,10.199999999999999,0,0,70.42,null,null,null,null,0.31679999999999997,2.4095999999999997,0,0,0,25632,0,0,96,0,0,0,0,null,null,null,null,70,0,2,null,null,null,null,null,null,null,null,null,null,null,null,null,null,null,null,"NICK BROWN, BÜYÜTME (6-10 hf)",17,18,2725,2850,1,1,0.6,0.41,0.41,0.17,0.22666666666666668,0.17,0.22666666666666668,0.46,0.46,0.39,0.39,0.81,0.81,0.69,0.69,1.01,1.01,0.86,0.86,0.7,0.7,0.6,0.6,0.21,0.21,0.18,0.18,1.06,1.06,0.9,0.9,1.4]
[null,null,null,null,null,null,null,null,null,null,null,null,null,null,null,null,null,null,null,null,null,null,null,null,null,null,null,null,null,null,null,null,null,null,null,null,null,null,null,null,null,null,null,null,null,null,null,null,null,null,null,null,null,null,null,null,null,null,null,null,null,null,null,"KEMİK UNU, %30 Ca, %13 HP",97,13.2,0,30.71,12.86,12.86,0.2,0.04,0,0,0,0,0,0,0,0,0,0,0,0,0,0,11.6,0,0,70.42,null,null,null,null,0.31679999999999997,2.4095999999999997,0,0,0,25632,0,0,96,0,0,0,0,null,null,null,null,75,0,2,null,null,null,null,null,null,null,null,null,null,null,null,null,null,null,null,"NICK BROWN,  GELİŞTİRME (11-17 hf)",14.5,15.5,2600,2750,0.9,0.9,0.57999999999999996,0.37,0.37,0.16,0.21333333333333335,0.16,0.21333333333333335,0.31,0.31,0.26,0.26,0.56000000000000005,0.56000000000000005,0.48,0.48,0.66,0.66,0.56000000000000005,0.56000000000000005,0.46,0.46,0.39,0.39,0.16,0.16,0.13,0.13,0.7,0.7,0.59,0.59,1]
[null,null,null,null,null,null,null,null,null,null,null,null,null,null,null,null,null,null,null,null,null,null,null,null,null,null,null,null,null,null,null,null,null,null,null,null,null,null,null,null,null,null,null,null,null,null,null,null,null,null,null,null,null,null,null,null,null,null,null,null,null,null,null,"KEMİK UNU, %30 Ca, %7 HP",94,7,0,30,14,14,0,0,0,0,0,0,0,0,0,0,0,0,0,0,0,0,3,0,0,79.3,null,null,null,null,0.31679999999999997,2.4095999999999997,0,0,0,25632,0,0,96,0,0,0,0,null,null,null,null,75,0,2,null,null,null,null,null,null,null,null,null,null,null,null,null,null,null,null,"NICK BROWN,  ÖN YUMURTA ",17.5,{"$f":"EB282","v":17.5},2750,2800,2,2,0.6,0.4,0.4,0.16,0.21333333333333335,0.16,0.21333333333333335,0.42,0.42,0.35,0.35,0.76,0.76,0.63,0.63,0.84,0.84,0.7,0.7,0.59,0.59,0.49,0.49,0.18,0.18,0.15,0.15,0.87,{"$f":"FI282","v":0.87},0.73,{"$f":"FK282","v":0.73},1]
[null,null,null,null,null,null,null,null,null,null,null,null,null,null,null,null,null,null,null,null,null,null,null,null,null,null,null,null,null,null,null,null,null,null,null,null,null,null,null,null,null,null,null,null,null,null,null,null,null,null,null,null,null,null,null,null,null,null,null,null,null,null,null,"KIRMIZI BİBER",80,5.73,1261,1.4E-2,4.2999999999999997E-2,2.1000000000000001E-2,0.32,8.9999999999999993E-3,0.03,0,0,0,0,0,0,0,0,0,0,0,0,0,2.35,0,34.31,2.19,null,null,null,null,2.3E-2,null,0,0,0,10.3,1.87,0,2.6,0,9.52,0,0,null,null,null,null,30,0,3,null,null,null,null,null,null,null,null,null,null,null,null,null,null,null,null,"NICK BROWN,  YUMURTLAMA BAŞLANGIÇ (GYT 100 g)",16,16,2650,2750,3.6,{"$f":"EF283","v":3.6},0.6,0.42,0.42,0.18,0.24,0.18,0.24,0.42399999999999999,0.42399999999999999,0.36,0.36,0.76200000000000001,0.76200000000000001,0.64800000000000002,0.64800000000000002,0.84699999999999998,0.84699999999999998,0.72,0.72,0.59299999999999997,0.59299999999999997,0.504,0.504,0.186,0.186,0.158,0.158,0.88100000000000001,0.88100000000000001,0.749,0.749,2]
[null,null,null,null,null,null,null,null,null,null,null,null,null,null,null,null,null,null,null,null,null,null,null,null,null,null,null,null,null,null,null,null,null,null,null,null,null,null,null,null,null,null,null,null,null,null,null,null,null,null,null,null,null,null,null,null,null,null,null,null,null,null,null,"KİREÇ TAŞI",100,0,0,38,0,0,0.1,0.05,0.03,0,0,0,0,0,0,0,0,0,0,0,0,0,0,0,0,100,null,null,null,null,2.06,0.04,0,0,0,3500,0,0,0,0,0,0,0,null,null,null,null,2,0,10,null,null,null,null,null,null,null,null,null,null,null,null,null,null,null,null,"NICK BROWN,  YUMURTA (58-60 g Yumurta) (GYT 105 g)",17.5,{"$f":"EB284","v":17.5},3000,{"$f":"ED284","v":3000},4.0999999999999996,{"$f":"EF284","v":4.0999999999999996},0.57999999999999996,0.41,0.41,0.17100000000000001,0.22800000000000001,0.17100000000000001,0.31,0.46500000000000002,0.46500000000000002,0.39500000000000002,0.39500000000000002,0.83699999999999997,0.83699999999999997,0.71099999999999997,0.71099999999999997,0.93,0.93,0.79,0.79,0.65100000000000002,0.65100000000000002,0.55300000000000005,0.55300000000000005,0.20499999999999999,0.20499999999999999,0.17399999999999999,0.17399999999999999,0.96699999999999997,0.96699999999999997,0.82199999999999995,0.82199999999999995,1.476]
[null,null,null,null,null,null,null,null,null,null,null,null,null,null,null,null,null,null,null,null,null,null,null,null,null,null,null,null,null,null,null,null,null,null,null,null,null,null,null,null,null,null,null,null,null,null,null,null,null,null,null,null,null,null,null,null,null,null,null,null,null,null,null,"KOKSİDİYOSTAT",100,0,0,0,0,0,0,0,0,0,0,0,0,0,0,0,0,0,0,0,0,0,0,0,0,null,null,null,null,null,null,null,null,null,null,null,null,null,null,null,null,null,null,null,null,null,null,2,0,0.1,null,null,null,null,null,null,null,null,null,null,null,null,null,null,null,null,"NICK BROWN,  YUMURTA (58-60 g Yumurta) (GYT 110 g)",16.7,{"$f":"EB285","v":16.7},2900,{"$f":"ED285","v":2900},4.2,{"$f":"EF285","v":4.2},0.56999999999999995,0.4,0.4,0.16400000000000001,0.21866666666666668,0.16400000000000001,0.29499999999999998,0.44400000000000001,0.44400000000000001,0.377,0.377,0.79900000000000004,0.79900000000000004,0.67900000000000005,0.67900000000000005,0.88800000000000001,0.88800000000000001,0.755,0.755,0.621,0.621,0.52800000000000002,0.52800000000000002,0.19500000000000001,0.19500000000000001,0.16600000000000001,0.16600000000000001,0.92300000000000004,0.92300000000000004,0.78500000000000003,0.78500000000000003,1.409]
[null,null,null,null,null,null,null,null,null,null,null,null,null,null,null,null,null,null,null,null,null,null,null,null,null,null,null,null,null,null,null,null,null,null,null,null,null,null,null,null,null,null,null,null,null,null,null,null,null,null,null,null,null,null,null,null,null,null,null,null,null,null,null,"L-LİZİN hidroklorid",98.5,94.4,4600,0,0,0,0,0,0,0,0,0,0,79,79,0,0,0,0,0,0,0,0,0,0,null,null,null,null,null,null,null,null,null,null,null,null,null,null,null,null,null,null,null,null,null,null,65,0,0.5,null,null,null,null,null,null,null,null,null,null,null,null,null,null,null,null,"NICK BROWN,  YUMURTA (58-60 g Yumurta) (GYT 120 g)",15.5,{"$f":"EB286","v":15.5},2.65,{"$f":"ED286","v":2.65},4.3,{"$f":"EF286","v":4.3},0.53,0.37,{"$f":"EI286","v":0.37},0.15,{"$f":"EK286/0.75","v":0.19999999999999998},0.15,0.27100000000000002,0.40699999999999997,{"$f":"EO286","v":0.40699999999999997},0.34599999999999997,{"$f":"EQ286","v":0.34599999999999997},0.73199999999999998,{"$f":"ES286","v":0.73199999999999998},0.623,{"$f":"EU286","v":0.623},0.81399999999999995,{"$f":"EW286","v":0.81399999999999995},0.69199999999999995,0.69199999999999995,0.56999999999999995,{"$f":"FA286","v":0.56999999999999995},0.48399999999999999,{"$f":"FC286","v":0.48399999999999999},0.17899999999999999,{"$f":"FE286","v":0.17899999999999999},0.152,{"$f":"FG286","v":0.152},0.84599999999999997,{"$f":"FI286","v":0.84599999999999997},0.71899999999999997,{"$f":"FK286","v":0.71899999999999997},1.292]
[null,null,null,null,null,null,null,null,null,null,null,null,null,null,null,null,null,null,null,null,null,null,null,null,null,null,null,null,null,null,null,null,null,null,null,null,null,null,null,null,null,null,null,null,null,null,null,null,null,null,null,null,null,null,null,null,null,null,null,null,null,null,null,"L-TREONİN",98.5,73.5,3150,0,0,0,0,0,0,0,0,0,0,0,0,98.5,0,0,0,0,0,0,0,0,0,null,null,null,null,null,null,null,null,null,null,null,null,null,null,null,null,null,null,null,null,null,null,66,0,0.5]
[null,null,null,null,null,null,null,null,null,null,null,null,null,null,null,null,null,null,null,null,null,null,null,null,null,null,null,null,null,null,null,null,null,null,null,null,null,null,null,null,null,null,null,null,null,null,null,null,null,null,null,null,null,null,null,null,null,null,null,null,null,null,null,"L-TRİPTOFAN",98.5,85.8,5460,0,0,0,0,0,0,0,0,0,0,0,0,0,98.5,0,0,0,0,0,0,0,0,null,null,null,null,null,null,null,null,null,null,null,null,null,null,null,null,null,null,null,null,null,null,66,0,0.5,null,null,null,null,null,null,null,null,null,null,null,null,null,null,null,null,"NRC  BEYAZ LEGHORN (0-6 hf)",18,{"$f":"EB288","v":18},2850,{"$f":"ED288","v":2850},0.9,{"$f":"EF288","v":0.9},null,0.4,{"$f":"EI288","v":0.4},0.15,{"$f":"EK288/0.75","v":0.19999999999999998},0.15,{"$f":"EM288/0.75","v":0.19999999999999998},0.3,{"$f":"EO288","v":0.3},null,null,0.62,{"$f":"ES288","v":0.62},null,null,0.85,{"$f":"EW288","v":0.85},null,null,0.68,{"$f":"FA288","v":0.68},null,null,0.17,{"$f":"FE288","v":0.17},null,null,null,null,null,null,1]
[null,null,null,null,null,null,null,null,null,null,null,null,null,null,null,null,null,null,null,null,null,null,null,null,null,null,null,null,null,null,null,null,null,null,null,null,null,null,null,null,null,null,null,null,null,null,null,null,null,null,null,null,null,null,null,null,null,null,null,null,null,null,null,"MAGNEZYUM OKSİT",100,0,0,3,0.03,0.03,0.02,1.4999999999999999E-2,0.02,0,0,0,0,0,0,0,0,0,0,0,0,0,0,0,0,100,null,null,null,null,null,null,null,null,null,null,null,null,null,null,null,null,null,null,null,null,null,8,0,1,null,null,null,null,null,null,null,null,null,null,null,null,null,null,null,null,"NRC  BEYAZ LEGHORN (6-12 hf)",16,16,2850,2850,0.8,0.8,null,0.35,0.35,0.15,0.19999999999999998,0.12,0.16,0.25,0.25,null,null,0.52,0.52,null,null,0.6,0.6,null,null,0.56999999999999995,0.56999999999999995,null,null,0.14000000000000001,0.14000000000000001,null,null,null,null,null,null,1]
[null,null,null,null,null,null,null,null,null,null,null,null,null,null,null,null,null,null,null,null,null,null,null,null,null,null,null,null,null,null,null,null,null,null,null,null,null,null,null,null,null,null,null,null,null,null,null,null,null,null,null,null,null,null,null,null,null,null,null,null,null,null,null,"MERMER TOZU",99,0,0,37,0,0,0,0,0,0,0,0,0,0,0,0,0,0,0,0,0,0,0,0,0,100,null,null,null,null,null,null,null,null,null,null,null,null,null,null,null,null,null,null,null,null,null,2,0,10,null,null,null,null,null,null,null,null,null,null,null,null,null,null,null,null,"NRC  BEYAZ LEGHORN (12-18 hf)",15,15,2900,2900,0.8,0.8,null,0.3,0.3,0.15,0.19999999999999998,0.12,0.16,0.2,0.2,null,null,0.42,0.42,null,null,0.45,0.45,null,null,0.37,0.37,null,null,0.11,0.11,null,null,null,null,null,null,1]
[null,null,null,null,null,null,null,null,null,null,null,null,null,null,null,null,null,null,null,null,null,null,null,null,null,null,null,null,null,null,null,null,null,null,null,null,null,null,null,null,null,null,null,null,null,null,null,null,null,null,null,null,null,null,null,null,null,null,null,null,null,null,null,"POTASYUM KLORİD",99,0,0,0.05,0,0,50.5,1,47.3,0,0,0,0,0,0,0,0,0,0,0,0,0,0,0,0,100,null,null,null,null,null,null,null,null,null,null,null,null,null,null,null,null,null,null,null,null,null,12,0,1,null,null,null,null,null,null,null,null,null,null,null,null,null,null,null,null,"NRC  BEYAZ LEGHORN (18 hf-ilk yumurta)",17,17,2900,2900,2,2,null,0.32,0.32,0.15,0.19999999999999998,0.15,0.19999999999999998,0.22,0.22,null,null,0.47,0.47,null,null,0.52,0.52,null,null,0.47,0.47,null,null,0.12,0.12,null,null,null,null,null,null,1]
[null,null,null,null,null,null,null,null,null,null,null,null,null,null,null,null,null,null,null,null,null,null,null,null,null,null,null,null,null,null,null,null,null,null,null,null,null,null,null,null,null,null,null,null,null,null,null,null,null,null,null,null,null,null,null,null,null,null,null,null,null,null,null,"POTASYUM SÜLFAT",99,0,0,0.15,0,0,41,0.09,1.5,0,0,0,0,0,0,0,0,0,0,0,0,0,0,0,0,100,null,null,null,null,null,null,null,null,null,null,null,null,null,null,null,null,null,null,null,null,null,12,0,1,null,null,null,null,null,null,null,null,null,null,null,null,null,null,null,null,"NRC  BEYAZ LEGHORN YUMURTACI (GYT 80 g, YV % 90)",18.8,18.8,2900,2900,4.0599999999999996,4.0599999999999996,null,0.31,0.31,0.19,0.25333333333333335,0.16,0.21333333333333335,0.38,0.38,null,null,0.73,0.73,null,null,0.86,0.86,null,null,0.59,0.59,null,null,0.2,0.2,null,null,null,null,null,null,1.25]
[null,null,null,null,null,null,null,null,null,null,null,null,null,null,null,null,null,null,null,null,null,null,null,null,null,null,null,null,null,null,null,null,null,null,null,null,null,null,null,null,null,null,null,null,null,null,null,null,null,null,null,null,null,null,null,null,null,null,null,null,null,null,null,"SODYUM BİKARBONAT",99,0,0,0,0,0,0,43.39,0,0,0,0,0,0,0,0,0,0,0,0,0,0,0,0,0,100,null,null,null,null,null,null,null,null,null,null,null,null,null,null,null,null,null,null,null,null,null,13.5,0,1,null,null,null,null,null,null,null,null,null,null,null,null,null,null,null,null,"NRC  BEYAZ LEGHORN YUMURTACI (GYT 100 g, YV % 90)",15,15,2900,2900,3.25,3.25,null,0.25,0.25,0.15,0.19999999999999998,0.13,0.17333333333333334,0.3,0.3,null,null,0.57999999999999996,0.57999999999999996,null,null,0.69,0.69,null,null,0.47,0.47,null,null,0.16,0.16,null,null,null,null,null,null,1]
[null,null,null,null,null,null,null,null,null,null,null,null,null,null,null,null,null,null,null,null,null,null,null,null,null,null,null,null,null,null,null,null,null,null,null,null,null,null,null,null,null,null,null,null,null,null,null,null,null,null,null,null,null,null,null,null,null,null,null,null,null,null,null,"SODYUM FOSFAT, DİBAZİK",99,0,0,0,20.8,20.8,0,31,0,0,0,0,0,0,0,0,0,0,0,0,0,0,0,0,0,100,null,null,null,null,null,null,null,null,null,null,null,null,null,null,null,null,null,null,null,null,null,13.5,0,1,null,null,null,null,null,null,null,null,null,null,null,null,null,null,null,null,"NRC  BEYAZ LEGHORN YUMURTACI (GYT 120 g, YV % 90)",12.5,12.5,2900,2900,2.71,2.71,null,0.21,0.21,0.13,0.17333333333333334,0.11,0.14666666666666667,0.25,0.25,null,null,0.48,0.48,null,null,0.57999999999999996,0.57999999999999996,null,null,0.39,0.39,null,null,0.13,0.13,null,null,null,null,null,null,0.83]
[null,null,null,null,null,null,null,null,null,null,null,null,null,null,null,null,null,null,null,null,null,null,null,null,null,null,null,null,null,null,null,null,null,null,null,null,null,null,null,null,null,null,null,null,null,null,null,null,null,null,null,null,null,null,null,null,null,null,null,null,null,null,null,"SODYUM FOSFAT, MONOBAZİK",99,0,0,0,21.8,21.8,0,16.2,0,0,0,0,0,0,0,0,0,0,0,0,0,0,0,0,0,100,null,null,null,null,null,null,null,null,null,null,null,null,null,null,null,null,null,null,null,null,null,13.5,0,1]
[null,null,null,null,null,null,null,null,null,null,null,null,null,null,null,null,null,null,null,null,null,null,null,null,null,null,null,null,null,null,null,null,null,null,null,null,null,null,null,null,null,null,null,null,null,null,null,null,null,null,null,null,null,null,null,null,null,null,null,null,null,null,null,"SODYUM KARBONAT",100,0,0,0,0,0,0,27,0,0,0,0,0,0,0,0,0,0,0,0,0,0,0,0,0,100,null,null,null,null,null,null,null,null,null,null,null,null,null,null,null,null,null,null,null,null,null,13.5,0,1,null,null,null,null,null,null,null,null,null,null,null,null,null,null,null,null,"NRC  KAHVERENGİ LEGHORN (0-6 hf)",17,{"$f":"EB296","v":17},2800,{"$f":"ED296","v":2800},0.9,{"$f":"EF296","v":0.9},null,0.4,{"$f":"EI296","v":0.4},0.15,{"$f":"EK296/0.75","v":0.19999999999999998},0.12,{"$f":"EM296/0.75","v":0.16},0.28000000000000003,{"$f":"EO296","v":0.28000000000000003},null,null,0.59,{"$f":"ES296","v":0.59},null,null,0.8,{"$f":"EW296","v":0.8},null,null,0.64,{"$f":"FA296","v":0.64},null,null,0.16,{"$f":"FE296","v":0.16},null,null,null,null,null,null,1]
[null,null,null,null,null,null,null,null,null,null,null,null,null,null,null,null,null,null,null,null,null,null,null,null,null,null,null,null,null,null,null,null,null,null,null,null,null,null,null,null,null,null,null,null,null,null,null,null,null,null,null,null,null,null,null,null,null,null,null,null,null,null,null,"SODYUM SÜLFAT, 10 SULU",98,0,0,0,0,0,0,13.8,0,0,0,0,0,0,0,0,0,0,0,0,0,0,0,0,0,100,null,null,null,null,null,null,null,null,null,null,null,null,null,null,null,null,null,null,null,null,null,13.5,0,1,null,null,null,null,null,null,null,null,null,null,null,null,null,null,null,null,"NRC  KAHVERENGİ LEGHORN (6-12 hf)",15,{"$f":"EB297","v":15},2800,{"$f":"ED297","v":2800},0.8,{"$f":"EF297","v":0.8},null,0.35,{"$f":"EI297","v":0.35},0.15,0.19999999999999998,0.11,0.14666666666666667,0.23,0.23,null,null,0.49,0.49,null,null,0.56000000000000005,0.56000000000000005,null,null,0.53,0.53,null,null,0.13,0.13,null,null,null,null,null,null,1]
[null,null,null,null,null,null,null,null,null,null,null,null,null,null,null,null,null,null,null,null,null,null,null,null,null,null,null,null,null,null,null,null,null,null,null,null,null,null,null,null,null,null,null,null,null,null,null,null,null,null,null,null,null,null,null,null,null,null,null,null,null,null,null,"TUZ",100,0,0,0.3,0,0,0,39,60,0,0,0,0,0,0,0,0,0,0,0,0,0,0,0,0,100,null,null,null,null,0,0,0,0,0,0,0,0,0,0,0,0,0,null,null,null,null,1.5,0,0.7,null,null,null,null,null,null,null,null,null,null,null,null,null,null,null,null,"NRC  KAHVERENGİ LEGHORN (12-18 hf)",14,{"$f":"EB298","v":14},2850,{"$f":"ED298","v":2850},0.8,{"$f":"EF298","v":0.8},null,0.3,{"$f":"EI298","v":0.3},0.15,0.19999999999999998,0.11,0.14666666666666667,0.19,0.19,null,null,0.39,0.39,null,null,0.42,0.42,null,null,0.35,0.35,null,null,0.1,0.1,null,null,null,null,null,null,1]
[null,null,null,null,null,null,null,null,null,null,null,null,null,null,null,null,null,null,null,null,null,null,null,null,null,null,null,null,null,null,null,null,null,null,null,null,null,null,null,null,null,null,null,null,null,null,null,null,null,null,null,null,null,null,null,null,null,null,null,null,null,null,null,"VİTAMİN-MİNERAL KARMASI",100,0,0,1,0,0,0,0,0,0,0,0,0,0,0,0,0,0,0,0,0,0,0,0,0,null,null,null,null,null,null,null,50,2500,200,20000,40000,75,30000,null,6000,1320,10000,null,null,null,null,25,0.25,0.25,null,null,null,null,null,null,null,null,null,null,null,null,null,null,null,null,"NRC  KAHVERENGİ LEGHORN (18 hf-ilk yumurta)",16,{"$f":"EB299","v":16},2850,{"$f":"ED299","v":2850},1.8,{"$f":"EF299","v":1.8},null,0.35,{"$f":"EI299","v":0.35},0.15,0.19999999999999998,0.11,0.14666666666666667,0.21,0.21,null,null,0.44,0.44,null,null,0.49,0.49,null,null,0.44,0.44,null,null,0.11,0.11,null,null,null,null,null,null,1]
[null,null,null,null,null,null,null,null,null,null,null,null,null,null,null,null,null,null,null,null,null,null,null,null,null,null,null,null,null,null,null,null,null,null,null,null,null,null,null,null,null,null,null,null,null,null,null,null,null,null,null,null,null,null,null,null,null,null,null,null,null,null,null,"YEM KATKI MADDELERİ",100,0,0,0,0,0,0,0,0,0,0,0,0,0,0,0,0,0,0,0,0,0,0,0,0,null,null,null,null,null,null,null,null,null,null,null,null,null,null,null,null,null,null,null,null,null,null,50,0.1,0.5]
[null,null,null,null,null,null,null,null,null,null,null,null,null,null,null,null,null,null,null,null,null,null,null,null,null,null,null,null,null,null,null,null,null,null,null,null,null,null,null,null,null,null,null,null,null,null,null,null,null,null,null,null,null,null,null,null,null,null,null,null,null,null,null,"YUMURTA KABUĞU",94,7.5,0,35,0.12,0.12,0,0,0,0,0,0,0,0,0,0,0,0,0,0,0,0,0,0,0,90,null,null,null,null,0.35,null,null,2.6,null,6,null,null,0.7,null,null,null,null,null,null,null,null,70,0,3]
[]
[]
[]
[]
[]
[]
[]
[]
[]
[]
[]
[]
[]
[]
[]
[]
[]
[]
[]
[]
[]
[]
[]
[]
[]
[]
[]
[]
[]
[]
[]
[]
[]
[]
[]
[]
[]
[]
[]
[]
[]
[]
[]
[]
[]
[]
[]
[]
[]
[]
[]
[]
[]
[]
[]
[]
[]
[]
[]
[]
[]
[]
[]
[]
[]
[]
[]
[null,null,null,null,null,null,null,null,null,null,null,null,null,null,null,null,null,null,null,null,null,null,null,null,null,null,null,null,null,null,null,null,null,null,null,null,null,null,null,null,null,null,null,null,null,null,null,null,null,null,null,null,null,null,null,null,null,null,null,null,null,null,null,"Hayvan Türleri"]
[null,null,null,null,null,null,null,null,null,null,null,null,null,null,null,null,null,null,null,null,null,null,null,null,null,null,null,null,null,null,null,null,null,null,null,null,null,null,null,null,null,null,null,null,null,null,null,null,null,null,null,null,null,null,null,null,null,null,null,null,null,null,null,"TAVUK",null,null,null,null,null,null,null,null,null,null,null,null,null,null,null,null,null,null,null,null,null,null,null,null,null,null,null,null,null,null,null,null,null,null,null,null,null,null,null,null,null,null,null,null,null,null,null,null,null,null,null,null,null,null,null,null,null,null,null,null,null,null,null,null,null,null,"HİNDİ"]
[null,null,null,null,null,null,null,null,null,null,null,null,null,null,null,null,null,null,null,null,null,null,null,null,null,null,null,null,null,null,null,null,null,null,null,null,null,null,null,null,null,null,null,null,null,null,null,null,null,null,null,null,null,null,null,null,null,null,null,null,null,null,null,"HİNDİ"]
[null,null,null,null,null,null,null,null,null,null,null,null,null,null,null,null,null,null,null,null,null,null,null,null,null,null,null,null,null,null,null,null,null,null,null,null,null,null,null,null,null,null,null,null,null,null,null,null,null,null,null,null,null,null,null,null,null,null,null,null,null,null,null,"KAZ",null,null,null,null,null,null,null,null,null,null,null,null,null,null,null,null,null,null,null,null,null,null,null,null,null,null,null,null,null,null,null,null,null,null,null,null,null,null,null,null,null,null,null,null,null,null,null,null,null,null,null,null,null,null,null,null,null,null,null,null,null,null,null,null,null,null,"NICHOLAS DAMIZLIK HİNDİ, BAŞLANGIÇ",25,26,2800,{"$f":"ED372","v":2800},1.45,{"$f":"EF372","v":1.45},null,0.73,{"$f":"EI372","v":0.73},0.17,{"$f":"EK372/0.75","v":0.22666666666666668},0.2,{"$f":"EM372/0.75","v":0.26666666666666666},0.56000000000000005,{"$f":"EO372","v":0.56000000000000005},0.5,{"$f":"EQ372","v":0.5},1.01,{"$f":"ES372","v":1.01},0.91,{"$f":"EU372","v":0.91},1.55,{"$f":"EW372","v":1.55},1.4,{"$f":"EY372","v":1.4},0.94,{"$f":"FA372","v":0.94},0.85,{"$f":"FC372","v":0.85},0.25,{"$f":"FE372","v":0.25},0.22,{"$f":"FG372","v":0.22},1.58,{"$f":"FI372","v":1.58},1.43,{"$f":"FK372","v":1.43},1.25]
[null,null,null,null,null,null,null,null,null,null,null,null,null,null,null,null,null,null,null,null,null,null,null,null,null,null,null,null,null,null,null,null,null,null,null,null,null,null,null,null,null,null,null,null,null,null,null,null,null,null,null,null,null,null,null,null,null,null,null,null,null,null,null,"PEKİN ÖRDEĞİ",null,null,null,null,null,null,null,null,null,null,null,null,null,null,null,null,null,null,null,null,null,null,null,null,null,null,null,null,null,null,null,null,null,null,null,null,null,null,null,null,null,null,null,null,null,null,null,null,null,null,null,null,null,null,null,null,null,null,null,null,null,null,null,null,null,null,"NICHOLAS DAMIZLIK HİNDİ, YETİŞTİRME",21,23,2800,2800,1.35,1.35,null,0.68,0.68,0.16,0.21333333333333335,0.2,0.26666666666666666,0.45,0.45,0.41,{"$f":"EQ373","v":0.41},0.78,{"$f":"ES373","v":0.78},0.71,{"$f":"EU373","v":0.71},1.1499999999999999,{"$f":"EW373","v":1.1499999999999999},1.04,{"$f":"EY373","v":1.04},0.74,{"$f":"FA373","v":0.74},0.67,{"$f":"FC373","v":0.67},0.2,{"$f":"FE373","v":0.2},0.18,{"$f":"FG373","v":0.18},1.2,{"$f":"FI373","v":1.2},1.08,{"$f":"FK373","v":1.08},1.2]
[null,null,null,null,null,null,null,null,null,null,null,null,null,null,null,null,null,null,null,null,null,null,null,null,null,null,null,null,null,null,null,null,null,null,null,null,null,null,null,null,null,null,null,null,null,null,null,null,null,null,null,null,null,null,null,null,null,null,null,null,null,null,null,"DEVEKUŞU",null,null,null,null,null,null,null,null,null,null,null,null,null,null,null,null,null,null,null,null,null,null,null,null,null,null,null,null,null,null,null,null,null,null,null,null,null,null,null,null,null,null,null,null,null,null,null,null,null,null,null,null,null,null,null,null,null,null,null,null,null,null,null,null,null,null,"NICHOLAS DAMIZLIK HİNDİ, BÜYÜTME 1",16,18,2800,2800,1.25,1.25,null,0.62,0.62,0.16,0.21333333333333335,0.18,0.24,0.38,0.38,0.34,{"$f":"EQ374","v":0.34},0.65,{"$f":"ES374","v":0.65},0.59,{"$f":"EU374","v":0.59},0.9,{"$f":"EW374","v":0.9},0.81,{"$f":"EY374","v":0.81},0.61,{"$f":"FA374","v":0.61},0.55000000000000004,{"$f":"FC374","v":0.55000000000000004},0.17,{"$f":"FE374","v":0.17},0.15,{"$f":"FG374","v":0.15},0.95,{"$f":"FI374","v":0.95},0.88,{"$f":"FK374","v":0.88},1.1000000000000001]
[null,null,null,null,null,null,null,null,null,null,null,null,null,null,null,null,null,null,null,null,null,null,null,null,null,null,null,null,null,null,null,null,null,null,null,null,null,null,null,null,null,null,null,null,null,null,null,null,null,null,null,null,null,null,null,null,null,null,null,null,null,null,null,"SÜLÜN",null,null,null,null,null,null,null,null,null,null,null,null,null,null,null,null,null,null,null,null,null,null,null,null,null,null,null,null,null,null,null,null,null,null,null,null,null,null,null,null,null,null,null,null,null,null,null,null,null,null,null,null,null,null,null,null,null,null,null,null,null,null,null,null,null,null,"NICHOLAS DAMIZLIK HİNDİ, BÜYÜTME 2",12,14,2800,2800,1.1000000000000001,1.1000000000000001,null,0.55000000000000004,0.55000000000000004,0.16,0.21333333333333335,0.18,0.24,0.28999999999999998,0.28999999999999998,0.26,{"$f":"EQ375","v":0.26},0.5,{"$f":"ES375","v":0.5},0.45,{"$f":"EU375","v":0.45},0.65,{"$f":"EW375","v":0.65},0.57999999999999996,{"$f":"EY375","v":0.57999999999999996},0.42,{"$f":"FA375","v":0.42},0.38,{"$f":"FC375","v":0.38},0.15,{"$f":"FE375","v":0.15},0.13,{"$f":"FG375","v":0.13},0.69,{"$f":"FI375","v":0.69},0.62,{"$f":"FK375","v":0.62},1]
[null,null,null,null,null,null,null,null,null,null,null,null,null,null,null,null,null,null,null,null,null,null,null,null,null,null,null,null,null,null,null,null,null,null,null,null,null,null,null,null,null,null,null,null,null,null,null,null,null,null,null,null,null,null,null,null,null,null,null,null,null,null,null,"KEKLİK",null,null,null,null,null,null,null,null,null,null,null,null,null,null,null,null,null,null,null,null,null,null,null,null,null,null,null,null,null,null,null,null,null,null,null,null,null,null,null,null,null,null,null,null,null,null,null,null,null,null,null,null,null,null,null,null,null,null,null,null,null,null,null,null,null,null,"NICHOLAS DAMIZLIK HİNDİ, BÜYÜTME 3",10,12,2800,2800,1,1,null,0.5,0.5,0.16,0.21333333333333335,0.18,0.24,0.25,0.25,0.22,{"$f":"EQ376","v":0.22},0.42,{"$f":"ES376","v":0.42},0.39,{"$f":"EU376","v":0.39},0.45,{"$f":"EW376","v":0.45},0.4,{"$f":"EY376","v":0.4},0.28999999999999998,{"$f":"FA376","v":0.28999999999999998},0.26,{"$f":"FC376","v":0.26},0.15,{"$f":"FE376","v":0.15},0.13,{"$f":"FG376","v":0.13},0.48,{"$f":"FI376","v":0.48},0.43,{"$f":"FK376","v":0.43},1]
[null,null,null,null,null,null,null,null,null,null,null,null,null,null,null,null,null,null,null,null,null,null,null,null,null,null,null,null,null,null,null,null,null,null,null,null,null,null,null,null,null,null,null,null,null,null,null,null,null,null,null,null,null,null,null,null,null,null,null,null,null,null,null,"BILDIRCIN",null,null,null,null,null,null,null,null,null,null,null,null,null,null,null,null,null,null,null,null,null,null,null,null,null,null,null,null,null,null,null,null,null,null,null,null,null,null,null,null,null,null,null,null,null,null,null,null,null,null,null,null,null,null,null,null,null,null,null,null,null,null,null,null,null,null,"NICHOLAS DAMIZLIK HİNDİ, BÜYÜTME 4",9,11,2800,2800,1,1,null,0.5,0.5,0.16,0.21333333333333335,0.18,0.24,0.19,0.19,0.16,{"$f":"EQ377","v":0.16},0.33,{"$f":"ES377","v":0.33},0.27,{"$f":"EU377","v":0.27},0.3,{"$f":"EW377","v":0.3},0.25,{"$f":"EY377","v":0.25},0.22,{"$f":"FA377","v":0.22},0.18,{"$f":"FC377","v":0.18},0.13,{"$f":"FE377","v":0.13},0.11,{"$f":"FG377","v":0.11},0.32,{"$f":"FI377","v":0.32},0.27,{"$f":"FK377","v":0.27},0.9]
[null,null,null,null,null,null,null,null,null,null,null,null,null,null,null,null,null,null,null,null,null,null,null,null,null,null,null,null,null,null,null,null,null,null,null,null,null,null,null,null,null,null,null,null,null,null,null,null,null,null,null,null,null,null,null,null,null,null,null,null,null,null,null,null,null,null,null,null,null,null,null,null,null,null,null,null,null,null,null,null,null,null,null,null,null,null,null,null,null,null,null,null,null,null,null,null,null,null,null,null,null,null,null,null,null,null,null,null,null,null,null,null,null,null,null,null,null,null,null,null,null,null,null,null,null,null,null,null,null,null,"NICHOLAS DAMIZLIK HİNDİ, ERKEK (AD LİB)",9,12,2800,2800,1,1,null,0.5,0.5,0.16,0.21333333333333335,0.18,0.24,0.25,0.25,0.22,{"$f":"EQ378","v":0.22},0.42,{"$f":"ES378","v":0.42},0.38,{"$f":"EU378","v":0.38},0.45,{"$f":"EW378","v":0.45},0.4,{"$f":"EY378","v":0.4},0.28999999999999998,{"$f":"FA378","v":0.28999999999999998},0.26,{"$f":"FC378","v":0.26},0.15,{"$f":"FE378","v":0.15},0.13,{"$f":"FG378","v":0.13},0.49,{"$f":"FI378","v":0.49},0.43,{"$f":"FK378","v":0.43},1]
[null,null,null,null,null,null,null,null,null,null,null,null,null,null,null,null,null,null,null,null,null,null,null,null,null,null,null,null,null,null,null,null,null,null,null,null,null,null,null,null,null,null,null,null,null,null,null,null,null,null,null,null,null,null,null,null,null,null,null,null,null,null,null,"Yem Grupları",null,null,null,null,null,null,null,null,null,null,null,null,null,null,null,null,null,null,null,null,null,null,null,null,null,null,null,null,null,null,null,null,null,null,null,null,null,null,null,null,null,null,null,null,null,null,null,null,null,null,null,null,null,null,null,null,null,null,null,null,null,null,null,null,null,null,"NICHOLAS DAMIZLIK HİNDİ, ERKEK (KISITLI)",14,15,2866,2866,1,{"$f":"EF379","v":1},null,0.55000000000000004,{"$f":"EI379","v":0.55000000000000004},0.16,0.21333333333333335,0.18,0.24,0.28999999999999998,0.28999999999999998,0.26,{"$f":"EQ379","v":0.26},0.52,{"$f":"ES379","v":0.52},0.47,{"$f":"EU379","v":0.47},0.65,{"$f":"EW379","v":0.65},0.57999999999999996,{"$f":"EY379","v":0.57999999999999996},0.42,{"$f":"FA379","v":0.42},0.38,{"$f":"FC379","v":0.38},0.16,{"$f":"FE379","v":0.16},0.14000000000000001,{"$f":"FG379","v":0.14000000000000001},0.7,{"$f":"FI379","v":0.7},0.63,{"$f":"FK379","v":0.63},1]
[null,null,null,null,null,null,null,null,null,null,null,null,null,null,null,null,null,null,null,null,null,null,null,null,null,null,null,null,null,null,null,null,null,null,null,null,null,null,null,null,null,null,null,null,null,null,null,null,null,null,null,null,null,null,null,null,null,null,null,null,null,null,null,"ENERJİ KAYNAKLARI ve YAN ÜRÜNLERİ",null,null,null,null,null,null,null,null,null,null,null,null,null,null,null,null,null,null,null,null,null,null,null,null,null,null,null,null,null,null,null,null,null,null,null,null,null,null,null,null,null,null,null,null,null,null,null,null,null,null,null,null,null,null,null,null,null,null,null,null,null,null,null,null,null,null,"NICHOLAS DAMIZLIK HİNDİ, YUMURTA",16.5,18.5,2820,2820,2.8,2.8,null,0.38,0.38,0.18,0.24,0.21,0.27999999999999997,0.4,0.4,0.37,{"$f":"EQ380","v":0.37},0.66,{"$f":"ES380","v":0.66},0.61,{"$f":"EU380","v":0.61},0.8,{"$f":"EW380","v":0.8},0.74,{"$f":"EY380","v":0.74},0.56999999999999995,{"$f":"FA380","v":0.56999999999999995},0.53,{"$f":"FC380","v":0.53},0.17,{"$f":"FE380","v":0.17},0.16,{"$f":"FG380","v":0.16},0.83,{"$f":"FI380","v":0.83},0.77,{"$f":"FK380","v":0.77},1.55]
[null,null,null,null,null,null,null,null,null,null,null,null,null,null,null,null,null,null,null,null,null,null,null,null,null,null,null,null,null,null,null,null,null,null,null,null,null,null,null,null,null,null,null,null,null,null,null,null,null,null,null,null,null,null,null,null,null,null,null,null,null,null,null,"PROTEİN KAYNAKLARI"]
[null,null,null,null,null,null,null,null,null,null,null,null,null,null,null,null,null,null,null,null,null,null,null,null,null,null,null,null,null,null,null,null,null,null,null,null,null,null,null,null,null,null,null,null,null,null,null,null,null,null,null,null,null,null,null,null,null,null,null,null,null,null,null,"VİTAMİN-MİNERAL ve KATKI MADDELERİ"]
[]
[null,null,null,null,null,null,null,null,null,null,null,null,null,null,null,null,null,null,null,null,null,null,null,null,null,null,null,null,null,null,null,null,null,null,null,null,null,null,null,null,null,null,null,null,null,null,null,null,null,null,null,null,null,null,null,null,null,null,null,null,null,null,null,"TAVUK Grupları"]
[null,null,null,null,null,null,null,null,null,null,null,null,null,null,null,null,null,null,null,null,null,null,null,null,null,null,null,null,null,null,null,null,null,null,null,null,null,null,null,null,null,null,null,null,null,null,null,null,null,null,null,null,null,null,null,null,null,null,null,null,null,null,null,"YUMURTACI TİCARİ"]
[null,null,null,null,null,null,null,null,null,null,null,null,null,null,null,null,null,null,null,null,null,null,null,null,null,null,null,null,null,null,null,null,null,null,null,null,null,null,null,null,null,null,null,null,null,null,null,null,null,null,null,null,null,null,null,null,null,null,null,null,null,null,null,"YUMURTACI DAMIZLIK"]
[null,null,null,null,null,null,null,null,null,null,null,null,null,null,null,null,null,null,null,null,null,null,null,null,null,null,null,null,null,null,null,null,null,null,null,null,null,null,null,null,null,null,null,null,null,null,null,null,null,null,null,null,null,null,null,null,null,null,null,null,null,null,null,"BROYLER TİCARİ"]
[null,null,null,null,null,null,null,null,null,null,null,null,null,null,null,null,null,null,null,null,null,null,null,null,null,null,null,null,null,null,null,null,null,null,null,null,null,null,null,null,null,null,null,null,null,null,null,null,null,null,null,null,null,null,null,null,null,null,null,null,null,null,null,"BROYLER DAMIZLIK"]
[null,null,null,null,null,null,null,null,null,null,null,null,null,null,null,null,null,null,null,null,null,null,null,null,null,null,null,null,null,null,null,null,null,null,null,null,null,null,null,null,null,null,null,null,null,null,null,null,null,null,null,null,null,null,null,null,null,null,null,null,null,null,null,"TAVUK"]
[null,null,null,null,null,null,null,null,null,null,null,null,null,null,null,null,null,null,null,null,null,null,null,null,null,null,null,null,null,null,null,null,null,null,null,null,null,null,null,null,null,null,null,null,null,null,null,null,null,null,null,null,null,null,null,null,null,null,null,null,null,null,null,"YUMURTACI TİCARİ"]
[null,null,null,null,null,null,null,null,null,null,null,null,null,null,null,null,null,null,null,null,null,null,null,null,null,null,null,null,null,null,null,null,null,null,null,null,null,null,null,null,null,null,null,null,null,null,null,null,null,null,null,null,null,null,null,null,null,null,null,null,null,null,null,"ATABEY BEYAZ, PİLİÇ BÜYÜTME (4-10 hf)"]
[]
[]
[]
[]
[]
[]
[null,null,null,null,null,null,null,null,null,null,null,null,null,null,null,null,null,null,null,null,null,null,null,null,null,null,null,null,null,null,null,null,null,null,null,null,null,null,null,null,null,null,null,null,null,null,null,null,null,null,null,null,null,null,null,null,null,null,null,null,null,null,null,null,null,null,null,null,null,null,null,null,null,null,null,null,null,null,null,null,null,null,null,null,null,null,null,null,null,null,null,null,null,null,null,null,null,null,null,null,null,null,null,null,null,null,null,null,null,null,null,null,null,null,null,null,null,null,null,null,null,null,null,null,null,null,null,null,null,null,"NICHOLAS/B.U.T. TİCARİ HİNDİ, RASYON 1 (0-21 gün)",26,28,2838,{"$f":"ED398","v":2838},1.4,{"$f":"EF398","v":1.4},null,0.71,{"$f":"EI398","v":0.71},0.16,{"$f":"EK398/0.75","v":0.21333333333333335},0.19,{"$f":"EM398/0.75","v":0.25333333333333335},0.63,{"$f":"EO398","v":0.63},0.6,0.6,1.1399999999999999,{"$f":"ES398","v":1.1399999999999999},1.0900000000000001,{"$f":"EU398","v":1.0900000000000001},1.76,{"$f":"EW398","v":1.76},1.67,{"$f":"EY398","v":1.67},1.02,{"$f":"FA398","v":1.02},0.97,{"$f":"FC398","v":0.97},0.25,{"$f":"FE398","v":0.25},0.24,{"$f":"FG398","v":0.24},1.8,{"$f":"FI398","v":1.8},1.71,{"$f":"FK398","v":1.71},1.25]
[null,null,null,null,null,null,null,null,null,null,null,null,null,null,null,null,null,null,null,null,null,null,null,null,null,null,null,null,null,null,null,null,null,null,null,null,null,null,null,null,null,null,null,null,null,null,null,null,null,null,null,null,null,null,null,null,null,null,null,null,null,null,null,null,null,null,null,null,null,null,null,null,null,null,null,null,null,null,null,null,null,null,null,null,null,null,null,null,null,null,null,null,null,null,null,null,null,null,null,null,null,null,null,null,null,null,null,null,null,null,null,null,null,null,null,null,null,null,null,null,null,null,null,null,null,null,null,null,null,null,"NICHOLAS/B.U.T. TİCARİ HİNDİ, RASYON 2 (22-42 gün)",24,26,2909,{"$f":"ED399","v":2909},1.29,{"$f":"EF399","v":1.29},null,0.65,0.65,0.15,0.19999999999999998,0.18,0.24,0.56000000000000005,0.56000000000000005,0.53,0.53,1.04,{"$f":"ES399","v":1.04},0.97,{"$f":"EU399","v":0.97},1.57,{"$f":"EW399","v":1.57},1.48,{"$f":"EY399","v":1.48},0.92,{"$f":"FA399","v":0.92},0.87,{"$f":"FC399","v":0.87},0.25,{"$f":"FE399","v":0.25},0.24,{"$f":"FG399","v":0.24},1.61,{"$f":"FI399","v":1.61},1.52,{"$f":"FK399","v":1.52},1.2]
[null,null,null,null,null,null,null,null,null,null,null,null,null,null,null,null,null,null,null,null,null,null,null,null,null,null,null,null,null,null,null,null,null,null,null,null,null,null,null,null,null,null,null,null,null,null,null,null,null,null,null,null,null,null,null,null,null,null,null,null,null,null,null,null,null,null,null,null,null,null,null,null,null,null,null,null,null,null,null,null,null,null,null,null,null,null,null,null,null,null,null,null,null,null,null,null,null,null,null,null,null,null,null,null,null,null,null,null,null,null,null,null,null,null,null,null,null,null,null,null,null,null,null,null,null,null,null,null,null,null,"NICHOLAS/B.U.T. TİCARİ HİNDİ, RASYON 3 (E/D,43-63/43-56 gün)",23,25,3005,3005,1.19,1.19,null,0.59,0.59,0.16,0.21333333333333335,0.18,0.24,0.52,0.52,0.48,0.48,0.94,{"$f":"ES400","v":0.94},0.87,{"$f":"EU400","v":0.87},1.41,{"$f":"EW400","v":1.41},1.3,{"$f":"EY400","v":1.3},0.84,{"$f":"FA400","v":0.84},0.78,{"$f":"FC400","v":0.78},0.23,{"$f":"FE400","v":0.23},0.21,{"$f":"FG400","v":0.21},1.45,{"$f":"FI400","v":1.45},1.34,{"$f":"FK400","v":1.34}]
[null,null,null,null,null,null,null,null,null,null,null,null,null,null,null,null,null,null,null,null,null,null,null,null,null,null,null,null,null,null,null,null,null,null,null,null,null,null,null,null,null,null,null,null,null,null,null,null,null,null,null,null,null,null,null,null,null,null,null,null,null,null,null,null,null,null,null,null,null,null,null,null,null,null,null,null,null,null,null,null,null,null,null,null,null,null,null,null,null,null,null,null,null,null,null,null,null,null,null,null,null,null,null,null,null,null,null,null,null,null,null,null,null,null,null,null,null,null,null,null,null,null,null,null,null,null,null,null,null,null,"NICHOLAS/B.U.T. TİCARİ HİNDİ, RASYON 4 (E/D,64-84/57-70 gün)",20,22,3076,3076,1.08,1.08,null,0.55000000000000004,0.55000000000000004,0.15,0.19999999999999998,0.18,0.24,0.47,0.47,0.43,0.43,0.85,{"$f":"ES401","v":0.85},0.79,{"$f":"EU401","v":0.79},1.25,{"$f":"EW401","v":1.25},1.1399999999999999,{"$f":"EY401","v":1.1399999999999999},0.76,{"$f":"FA401","v":0.76},0.69,{"$f":"FC401","v":0.69},0.2,{"$f":"FE401","v":0.2},0.19,{"$f":"FG401","v":0.19},1.29,{"$f":"FI401","v":1.29},1.19,{"$f":"FK401","v":1.19}]
[null,null,null,null,null,null,null,null,null,null,null,null,null,null,null,null,null,null,null,null,null,null,null,null,null,null,null,null,null,null,null,null,null,null,null,null,null,null,null,null,null,null,null,null,null,null,null,null,null,null,null,null,null,null,null,null,null,null,null,null,null,null,null,null,null,null,null,null,null,null,null,null,null,null,null,null,null,null,null,null,null,null,null,null,null,null,null,null,null,null,null,null,null,null,null,null,null,null,null,null,null,null,null,null,null,null,null,null,null,null,null,null,null,null,null,null,null,null,null,null,null,null,null,null,null,null,null,null,null,null,"NICHOLAS/B.U.T. TİCARİ HİNDİ, RASYON 5 (E/D,85-105/106-126 gün)",18,20,3148,3148,0.95,0.95,null,0.47,0.47,0.15,0.19999999999999998,0.17,0.22666666666666668,0.42,0.42,0.39,0.39,0.76,{"$f":"ES402","v":0.76},0.7,{"$f":"EU402","v":0.7},1.0900000000000001,{"$f":"EW402","v":1.0900000000000001},1.01,{"$f":"EY402","v":1.01},0.68,{"$f":"FA402","v":0.68},0.62,{"$f":"FC402","v":0.62},0.2,{"$f":"FE402","v":0.2},0.18,{"$f":"FG402","v":0.18},1.1200000000000001,{"$f":"FI402","v":1.1200000000000001},1.04,{"$f":"FK402","v":1.04}]
[null,null,null,null,null,null,null,null,null,null,null,null,null,null,null,null,null,null,null,null,null,null,null,null,null,null,null,null,null,null,null,null,null,null,null,null,null,null,null,null,null,null,null,null,null,null,null,null,null,null,null,null,null,null,null,null,null,null,null,null,null,null,null,null,null,null,null,null,null,null,null,null,null,null,null,null,null,null,null,null,null,null,null,null,null,null,null,null,null,null,null,null,null,null,null,null,null,null,null,null,null,null,null,null,null,null,null,null,null,null,null,null,null,null,null,null,null,null,null,null,null,null,null,null,null,null,null,null,null,null,"NICHOLAS/B.U.T. TİCARİ HİNDİ, RASYON 6 (E/D,106-126/85-98 gün)",15,18,3219,3219,0.86,0.86,null,0.43,0.43,0.14000000000000001,0.18666666666666668,0.18,0.24,0.4,0.4,0.36,0.36,0.72,{"$f":"ES403","v":0.72},0.65,{"$f":"EU403","v":0.65},0.97,{"$f":"EW403","v":0.97},0.89,{"$f":"EY403","v":0.89},0.6,{"$f":"FA403","v":0.6},0.55000000000000004,{"$f":"FC403","v":0.55000000000000004},0.19,{"$f":"FE403","v":0.19},0.17,{"$f":"FG403","v":0.17},1.01,{"$f":"FI403","v":1.01},0.92,{"$f":"FK403","v":0.92}]
[null,null,null,null,null,null,null,null,null,null,null,null,null,null,null,null,null,null,null,null,null,null,null,null,null,null,null,null,null,null,null,null,null,null,null,null,null,null,null,null,null,null,null,null,null,null,null,null,null,null,null,null,null,null,null,null,null,null,null,null,null,null,null,null,null,null,null,null,null,null,null,null,null,null,null,null,null,null,null,null,null,null,null,null,null,null,null,null,null,null,null,null,null,null,null,null,null,null,null,null,null,null,null,null,null,null,null,null,null,null,null,null,null,null,null,null,null,null,null,null,null,null,null,null,null,null,null,null,null,null,"NICHOLAS/B.U.T. TİCARİ HİNDİ, RASYON 7 (E/D,127-147/99-126 gün)",14,17,3291,3291,0.77,0.77,null,0.39,0.39,0.14000000000000001,0.18666666666666668,0.18,0.24,0.37,0.37,0.33,0.33,0.66,{"$f":"ES404","v":0.66},0.61,{"$f":"EU404","v":0.61},0.85,{"$f":"EW404","v":0.85},0.77,{"$f":"EY404","v":0.77},0.54,{"$f":"FA404","v":0.54},0.49,{"$f":"FC404","v":0.49},0.19,{"$f":"FE404","v":0.19},0.16,{"$f":"FG404","v":0.16},0.89,{"$f":"FI404","v":0.89},0.82,{"$f":"FK404","v":0.82}]
[]
[null,null,null,null,null,null,null,null,null,null,null,null,null,null,null,null,null,null,null,null,null,null,null,null,null,null,null,null,null,null,null,null,null,null,null,null,null,null,null,null,null,null,null,null,null,null,null,null,null,null,null,null,null,null,null,null,null,null,null,null,null,null,null,null,null,null,null,null,null,null,null,null,null,null,null,null,null,null,null,null,null,null,null,null,null,null,null,null,null,null,null,null,null,null,null,null,null,null,null,null,null,null,null,null,null,null,null,null,null,null,null,null,null,null,null,null,null,null,null,null,null,null,null,null,null,null,null,null,null,null,"NRC 1994,   0-4 haftalık HİNDİ",28,{"$f":"EB406","v":28},2800,{"$f":"ED406","v":2800},1.2,{"$f":"EF406","v":1.2},null,0.6,{"$f":"EI406","v":0.6},0.17,{"$f":"EK406/0.75","v":0.22666666666666668},0.15,{"$f":"EM406/0.75","v":0.19999999999999998},0.55000000000000004,0.55000000000000004,null,null,1.05,{"$f":"ES406","v":1.05},null,null,1.6,{"$f":"EW406","v":1.6},null,null,1,{"$f":"FA406","v":1},null,null,0.26,{"$f":"FE406","v":0.26},null,null,null,null,null,null,1]
[null,null,null,null,null,null,null,null,null,null,null,null,null,null,null,null,null,null,null,null,null,null,null,null,null,null,null,null,null,null,null,null,null,null,null,null,null,null,null,null,null,null,null,null,null,null,null,null,null,null,null,null,null,null,null,null,null,null,null,null,null,null,null,null,null,null,null,null,null,null,null,null,null,null,null,null,null,null,null,null,null,null,null,null,null,null,null,null,null,null,null,null,null,null,null,null,null,null,null,null,null,null,null,null,null,null,null,null,null,null,null,null,null,null,null,null,null,null,null,null,null,null,null,null,null,null,null,null,null,null,"NRC 1994,    4-8 haftalık HİNDİ",26,26,2900,2900,1,1,null,0.5,0.5,0.15,0.19999999999999998,0.14000000000000001,0.18666666666666668,0.45,0.45,null,null,0.95,{"$f":"ES407","v":0.95},null,null,1.5,{"$f":"EW407","v":1.5},null,null,0.95,{"$f":"FA407","v":0.95},null,null,0.24,{"$f":"FE407","v":0.24},null,null,null,null,null,null,1]
[null,null,null,null,null,null,null,null,null,null,null,null,null,null,null,null,null,null,null,null,null,null,null,null,null,null,null,null,null,null,null,null,null,null,null,null,null,null,null,null,null,null,null,null,null,null,null,null,null,null,null,null,null,null,null,null,null,null,null,null,null,null,null,null,null,null,null,null,null,null,null,null,null,null,null,null,null,null,null,null,null,null,null,null,null,null,null,null,null,null,null,null,null,null,null,null,null,null,null,null,null,null,null,null,null,null,null,null,null,null,null,null,null,null,null,null,null,null,null,null,null,null,null,null,null,null,null,null,null,null,"NRC 1994,    8-11 haftalık DİŞİ HİNDİ",22,22,3000,3000,0.85,0.85,null,0.42,0.42,0.12,0.16,0.14000000000000001,0.18666666666666668,0.4,0.4,null,null,0.8,{"$f":"ES408","v":0.8},null,null,1.3,{"$f":"EW408","v":1.3},null,null,0.8,{"$f":"FA408","v":0.8},null,null,0.2,{"$f":"FE408","v":0.2},null,null,null,null,null,null,0.8]
[null,null,null,null,null,null,null,null,null,null,null,null,null,null,null,null,null,null,null,null,null,null,null,null,null,null,null,null,null,null,null,null,null,null,null,null,null,null,null,null,null,null,null,null,null,null,null,null,null,null,null,null,null,null,null,null,null,null,null,null,null,null,null,null,null,null,null,null,null,null,null,null,null,null,null,null,null,null,null,null,null,null,null,null,null,null,null,null,null,null,null,null,null,null,null,null,null,null,null,null,null,null,null,null,null,null,null,null,null,null,null,null,null,null,null,null,null,null,null,null,null,null,null,null,null,null,null,null,null,null,"NRC 1994,    8-12 haftalık ERKEK HİNDİ",22,22,3000,3000,0.85,0.85,null,0.42,0.42,0.12,0.16,0.14000000000000001,0.18666666666666668,0.4,0.4,null,null,0.8,{"$f":"ES409","v":0.8},null,null,1.3,{"$f":"EW409","v":1.3},null,null,0.8,{"$f":"FA409","v":0.8},null,null,0.2,{"$f":"FE409","v":0.2},null,null,null,null,null,null,0.8]
[null,null,null,null,null,null,null,null,null,null,null,null,null,null,null,null,null,null,null,null,null,null,null,null,null,null,null,null,null,null,null,null,null,null,null,null,null,null,null,null,null,null,null,null,null,null,null,null,null,null,null,null,null,null,null,null,null,null,null,null,null,null,null,null,null,null,null,null,null,null,null,null,null,null,null,null,null,null,null,null,null,null,null,null,null,null,null,null,null,null,null,null,null,null,null,null,null,null,null,null,null,null,null,null,null,null,null,null,null,null,null,null,null,null,null,null,null,null,null,null,null,null,null,null,null,null,null,null,null,null,"NRC 1994,   11-14 haftalık DİŞİ HİNDİ",19,19,3100,3100,0.75,0.75,null,0.38,0.38,0.12,0.16,0.12,0.16,0.35,0.35,null,null,0.65,{"$f":"ES410","v":0.65},null,null,1,{"$f":"EW410","v":1},null,null,0.75,{"$f":"FA410","v":0.75},null,null,0.18,{"$f":"FE410","v":0.18},null,null,null,null,null,null,0.8]
[null,null,null,null,null,null,null,null,null,null,null,null,null,null,null,null,null,null,null,null,null,null,null,null,null,null,null,null,null,null,null,null,null,null,null,null,null,null,null,null,null,null,null,null,null,null,null,null,null,null,null,null,null,null,null,null,null,null,null,null,null,null,null,null,null,null,null,null,null,null,null,null,null,null,null,null,null,null,null,null,null,null,null,null,null,null,null,null,null,null,null,null,null,null,null,null,null,null,null,null,null,null,null,null,null,null,null,null,null,null,null,null,null,null,null,null,null,null,null,null,null,null,null,null,null,null,null,null,null,null,"NRC 1994,   12-16 haftalık ERKEK HİNDİ",19,19,3100,3100,0.75,0.75,null,0.38,0.38,0.12,0.16,0.12,0.16,0.35,0.35,null,null,0.65,{"$f":"ES411","v":0.65},null,null,1,{"$f":"EW411","v":1},null,null,0.75,{"$f":"FA411","v":0.75},null,null,0.18,{"$f":"FE411","v":0.18},null,null,null,null,null,null,0.8]
[null,null,null,null,null,null,null,null,null,null,null,null,null,null,null,null,null,null,null,null,null,null,null,null,null,null,null,null,null,null,null,null,null,null,null,null,null,null,null,null,null,null,null,null,null,null,null,null,null,null,null,null,null,null,null,null,null,null,null,null,null,null,null,null,null,null,null,null,null,null,null,null,null,null,null,null,null,null,null,null,null,null,null,null,null,null,null,null,null,null,null,null,null,null,null,null,null,null,null,null,null,null,null,null,null,null,null,null,null,null,null,null,null,null,null,null,null,null,null,null,null,null,null,null,null,null,null,null,null,null,"NRC 1994,   14-17 haftalık DİŞİ HİNDİ",16.5,16.5,3200,3200,0.65,0.65,null,0.32,0.32,0.12,0.16,0.12,0.16,0.25,0.25,null,null,0.55000000000000004,{"$f":"ES412","v":0.55000000000000004},null,null,0.8,{"$f":"EW412","v":0.8},null,null,0.6,{"$f":"FA412","v":0.6},null,null,0.15,{"$f":"FE412","v":0.15},null,null,null,null,null,null,0.8]
[null,null,null,null,null,null,null,null,null,null,null,null,null,null,null,null,null,null,null,null,null,null,null,null,null,null,null,null,null,null,null,null,null,null,null,null,null,null,null,null,null,null,null,null,null,null,null,null,null,null,null,null,null,null,null,null,null,null,null,null,null,null,null,null,null,null,null,null,null,null,null,null,null,null,null,null,null,null,null,null,null,null,null,null,null,null,null,null,null,null,null,null,null,null,null,null,null,null,null,null,null,null,null,null,null,null,null,null,null,null,null,null,null,null,null,null,null,null,null,null,null,null,null,null,null,null,null,null,null,null,"NRC 1994,   16-20 haftalık ERKEK HİNDİ",16.5,16.5,3200,3200,0.65,0.65,null,0.32,0.32,0.12,0.16,0.12,0.16,0.25,0.25,null,null,0.55000000000000004,{"$f":"ES413","v":0.55000000000000004},null,null,0.8,{"$f":"EW413","v":0.8},null,null,0.6,{"$f":"FA413","v":0.6},null,null,0.15,{"$f":"FE413","v":0.15},null,null,null,null,null,null,0.8]
[null,null,null,null,null,null,null,null,null,null,null,null,null,null,null,null,null,null,null,null,null,null,null,null,null,null,null,null,null,null,null,null,null,null,null,null,null,null,null,null,null,null,null,null,null,null,null,null,null,null,null,null,null,null,null,null,null,null,null,null,null,null,null,null,null,null,null,null,null,null,null,null,null,null,null,null,null,null,null,null,null,null,null,null,null,null,null,null,null,null,null,null,null,null,null,null,null,null,null,null,null,null,null,null,null,null,null,null,null,null,null,null,null,null,null,null,null,null,null,null,null,null,null,null,null,null,null,null,null,null,"NRC 1994,   17-20 haftalık DİŞİ HİNDİ",14,14,3300,3300,0.55000000000000004,0.55000000000000004,null,0.28000000000000003,0.28000000000000003,0.12,0.16,0.12,0.16,0.25,0.25,null,null,0.45,{"$f":"ES414","v":0.45},null,null,0.65,{"$f":"EW414","v":0.65},null,null,0.5,{"$f":"FA414","v":0.5},null,null,0.13,{"$f":"FE414","v":0.13},null,null,null,null,null,null,0.8]
[null,null,null,null,null,null,null,null,null,null,null,null,null,null,null,null,null,null,null,null,null,null,null,null,null,null,null,null,null,null,null,null,null,null,null,null,null,null,null,null,null,null,null,null,null,null,null,null,null,null,null,null,null,null,null,null,null,null,null,null,null,null,null,null,null,null,null,null,null,null,null,null,null,null,null,null,null,null,null,null,null,null,null,null,null,null,null,null,null,null,null,null,null,null,null,null,null,null,null,null,null,null,null,null,null,null,null,null,null,null,null,null,null,null,null,null,null,null,null,null,null,null,null,null,null,null,null,null,null,null,"NRC 1994,   20-24 haftalık ERKEK HİNDİ",14,14,3300,3300,0.55000000000000004,0.55000000000000004,null,0.28000000000000003,0.28000000000000003,0.12,0.16,0.12,0.16,0.25,0.25,null,null,0.45,{"$f":"ES415","v":0.45},null,null,0.65,{"$f":"EW415","v":0.65},null,null,0.5,{"$f":"FA415","v":0.5},null,null,0.13,{"$f":"FE415","v":0.13},null,null,null,null,null,null,0.8]
[null,null,null,null,null,null,null,null,null,null,null,null,null,null,null,null,null,null,null,null,null,null,null,null,null,null,null,null,null,null,null,null,null,null,null,null,null,null,null,null,null,null,null,null,null,null,null,null,null,null,null,null,null,null,null,null,null,null,null,null,null,null,null,null,null,null,null,null,null,null,null,null,null,null,null,null,null,null,null,null,null,null,null,null,null,null,null,null,null,null,null,null,null,null,null,null,null,null,null,null,null,null,null,null,null,null,null,null,null,null,null,null,null,null,null,null,null,null,null,null,null,null,null,null,null,null,null,null,null,null,"NRC 1994,   DAMIZLIK DİŞİ HİNDİ",14,14,2900,2900,2.25,2.25,null,0.35,0.35,0.12,0.16,0.12,0.16,0.2,0.2,null,null,0.4,{"$f":"ES416","v":0.4},null,null,0.6,{"$f":"EW416","v":0.6},null,null,0.4,{"$f":"FA416","v":0.4},null,null,0.1,{"$f":"FE416","v":0.1},null,null,null,null,null,null,1]
[null,null,null,null,null,null,null,null,null,null,null,null,null,null,null,null,null,null,null,null,null,null,null,null,null,null,null,null,null,null,null,null,null,null,null,null,null,null,null,null,null,null,null,null,null,null,null,null,null,null,null,null,null,null,null,null,null,null,null,null,null,null,null,null,null,null,null,null,null,null,null,null,null,null,null,null,null,null,null,null,null,null,null,null,null,null,null,null,null,null,null,null,null,null,null,null,null,null,null,null,null,null,null,null,null,null,null,null,null,null,null,null,null,null,null,null,null,null,null,null,null,null,null,null,null,null,null,null,null,null,"NRC 1994,   DAMIZLIK ERKEK HİNDİ",12,12,2900,2900,0.5,0.5,null,0.25,0.25,0.12,0.16,0.12,0.16,0.2,0.2,null,null,0.4,{"$f":"ES417","v":0.4},null,null,0.5,{"$f":"EW417","v":0.5},null,null,0.45,{"$f":"FA417","v":0.45},null,null,0.13,{"$f":"FE417","v":0.13},null,null,null,null,null,null,1]
[]
[]
[null,null,null,null,null,null,null,null,null,null,null,null,null,null,null,null,null,null,null,null,null,null,null,null,null,null,null,null,null,null,null,null,null,null,null,null,null,null,null,null,null,null,null,null,null,null,null,null,null,null,null,null,null,null,null,null,null,null,null,null,null,null,null,null,null,null,null,null,null,null,null,null,null,null,null,null,null,null,null,null,null,null,null,null,null,null,null,null,null,null,null,null,null,null,null,null,null,null,null,null,null,null,null,null,null,null,null,null,null,null,null,null,null,null,null,null,null,null,null,null,null,null,null,null,null,null,null,null,null,null,"KAZ, NRC 1994"]
[]
[null,null,null,null,null,null,null,null,null,null,null,null,null,null,null,null,null,null,null,null,null,null,null,null,null,null,null,null,null,null,null,null,null,null,null,null,null,null,null,null,null,null,null,null,null,null,null,null,null,null,null,null,null,null,null,null,null,null,null,null,null,null,null,null,null,null,null,null,null,null,null,null,null,null,null,null,null,null,null,null,null,null,null,null,null,null,null,null,null,null,null,null,null,null,null,null,null,null,null,null,null,null,null,null,null,null,null,null,null,null,null,null,null,null,null,null,null,null,null,null,null,null,null,null,null,null,null,null,null,null,"0-4 haftalık KAZ",20,{"$f":"EB422","v":20},2900,{"$f":"ED422","v":2900},0.65,{"$f":"EF422","v":0.65},null,0.3,{"$f":"EI422","v":0.3},0.15,{"$f":"EK422/0.75","v":0.19999999999999998},null,null,null,null,null,null,0.6,{"$f":"ES422","v":0.6},null,null,1,{"$f":"EW422","v":1}]
[null,null,null,null,null,null,null,null,null,null,null,null,null,null,null,null,null,null,null,null,null,null,null,null,null,null,null,null,null,null,null,null,null,null,null,null,null,null,null,null,null,null,null,null,null,null,null,null,null,null,null,null,null,null,null,null,null,null,null,null,null,null,null,null,null,null,null,null,null,null,null,null,null,null,null,null,null,null,null,null,null,null,null,null,null,null,null,null,null,null,null,null,null,null,null,null,null,null,null,null,null,null,null,null,null,null,null,null,null,null,null,null,null,null,null,null,null,null,null,null,null,null,null,null,null,null,null,null,null,null,"4 haftalıktan büyük KAZ",15,{"$f":"EB423","v":15},3000,{"$f":"ED423","v":3000},0.6,{"$f":"EF423","v":0.6},null,0.3,{"$f":"EI423","v":0.3},0.15,0.19999999999999998,null,null,null,null,null,null,0.5,{"$f":"ES423","v":0.5},null,null,0.85,{"$f":"EW423","v":0.85}]
[null,null,null,null,null,null,null,null,null,null,null,null,null,null,null,null,null,null,null,null,null,null,null,null,null,null,null,null,null,null,null,null,null,null,null,null,null,null,null,null,null,null,null,null,null,null,null,null,null,null,null,null,null,null,null,null,null,null,null,null,null,null,null,null,null,null,null,null,null,null,null,null,null,null,null,null,null,null,null,null,null,null,null,null,null,null,null,null,null,null,null,null,null,null,null,null,null,null,null,null,null,null,null,null,null,null,null,null,null,null,null,null,null,null,null,null,null,null,null,null,null,null,null,null,null,null,null,null,null,null,"DAMIZLIK KAZ",15,{"$f":"EB424","v":15},2900,{"$f":"ED424","v":2900},2.25,{"$f":"EF424","v":2.25},null,0.3,{"$f":"EI424","v":0.3},0.15,0.19999999999999998,null,null,null,null,null,null,0.5,{"$f":"ES424","v":0.5},null,null,0.6,{"$f":"EW424","v":0.6}]
[]
[]
[]
[]
[]
[]
[null,null,null,null,null,null,null,null,null,null,null,null,null,null,null,null,null,null,null,null,null,null,null,null,null,null,null,null,null,null,null,null,null,null,null,null,null,null,null,null,null,null,null,null,null,null,null,null,null,null,null,null,null,null,null,null,null,null,null,null,null,null,null,null,null,null,null,null,null,null,null,null,null,null,null,null,null,null,null,null,null,null,null,null,null,null,null,null,null,null,null,null,null,null,null,null,null,null,null,null,null,null,null,null,null,null,null,null,null,null,null,null,null,null,null,null,null,null,null,null,null,null,null,null,null,null,null,null,null,null,"PEKİN ÖRDEĞİ, NRC 1994"]
[]
[null,null,null,null,null,null,null,null,null,null,null,null,null,null,null,null,null,null,null,null,null,null,null,null,null,null,null,null,null,null,null,null,null,null,null,null,null,null,null,null,null,null,null,null,null,null,null,null,null,null,null,null,null,null,null,null,null,null,null,null,null,null,null,null,null,null,null,null,null,null,null,null,null,null,null,null,null,null,null,null,null,null,null,null,null,null,null,null,null,null,null,null,null,null,null,null,null,null,null,null,null,null,null,null,null,null,null,null,null,null,null,null,null,null,null,null,null,null,null,null,null,null,null,null,null,null,null,null,null,null,"0-2 haftalık ÖRDEK",22,{"$f":"EB433","v":22},2900,{"$f":"ED433","v":2900},0.65,{"$f":"EF433","v":0.65},null,0.4,{"$f":"EI433","v":0.4},0.15,{"$f":"EK433/0.75","v":0.19999999999999998},0.12,{"$f":"EM433/0.75","v":0.16},0.4,0.4,null,null,0.7,{"$f":"ES433","v":0.7},null,null,0.9,{"$f":"EW433","v":0.9},null,null,null,null,null,null,0.23,{"$f":"FE433","v":0.23}]
[null,null,null,null,null,null,null,null,null,null,null,null,null,null,null,null,null,null,null,null,null,null,null,null,null,null,null,null,null,null,null,null,null,null,null,null,null,null,null,null,null,null,null,null,null,null,null,null,null,null,null,null,null,null,null,null,null,null,null,null,null,null,null,null,null,null,null,null,null,null,null,null,null,null,null,null,null,null,null,null,null,null,null,null,null,null,null,null,null,null,null,null,null,null,null,null,null,null,null,null,null,null,null,null,null,null,null,null,null,null,null,null,null,null,null,null,null,null,null,null,null,null,null,null,null,null,null,null,null,null,"2-7 haftalık ÖRDEK",16,{"$f":"EB434","v":16},3000,{"$f":"ED434","v":3000},0.6,{"$f":"EF434","v":0.6},null,0.3,{"$f":"EI434","v":0.3},0.15,0.19999999999999998,0.12,0.16,0.3,0.3,null,null,0.55000000000000004,{"$f":"ES434","v":0.55000000000000004},null,null,0.65,{"$f":"EW434","v":0.65},null,null,null,null,null,null,0.17,{"$f":"FE434","v":0.17}]
[null,null,null,null,null,null,null,null,null,null,null,null,null,null,null,null,null,null,null,null,null,null,null,null,null,null,null,null,null,null,null,null,null,null,null,null,null,null,null,null,null,null,null,null,null,null,null,null,null,null,null,null,null,null,null,null,null,null,null,null,null,null,null,null,null,null,null,null,null,null,null,null,null,null,null,null,null,null,null,null,null,null,null,null,null,null,null,null,null,null,null,null,null,null,null,null,null,null,null,null,null,null,null,null,null,null,null,null,null,null,null,null,null,null,null,null,null,null,null,null,null,null,null,null,null,null,null,null,null,null,"DAMIZLIK ÖRDEK",15,{"$f":"EB435","v":15},2900,{"$f":"ED435","v":2900},2.75,{"$f":"EF435","v":2.75},null,0.3,{"$f":"EI435","v":0.3},0.15,0.19999999999999998,0.12,0.16,0.27,0.27,null,null,0.5,{"$f":"ES435","v":0.5},null,null,0.6,{"$f":"EW435","v":0.6},null,null,null,null,null,null,0.14000000000000001,{"$f":"FE435","v":0.14000000000000001}]
[]
[]
[]
[]
[]
[null,null,null,null,null,null,null,null,null,null,null,null,null,null,null,null,null,null,null,null,null,null,null,null,null,null,null,null,null,null,null,null,null,null,null,null,null,null,null,null,null,null,null,null,null,null,null,null,null,null,null,null,null,null,null,null,null,null,null,null,null,null,null,null,null,null,null,null,null,null,null,null,null,null,null,null,null,null,null,null,null,null,null,null,null,null,null,null,null,null,null,null,null,null,null,null,null,null,null,null,null,null,null,null,null,null,null,null,null,null,null,null,null,null,null,null,null,null,null,null,null,null,null,null,null,null,null,null,null,null,"DEVEKUŞU"]
[]
[null,null,null,null,null,null,null,null,null,null,null,null,null,null,null,null,null,null,null,null,null,null,null,null,null,null,null,null,null,null,null,null,null,null,null,null,null,null,null,null,null,null,null,null,null,null,null,null,null,null,null,null,null,null,null,null,null,null,null,null,null,null,null,null,null,null,null,null,null,null,null,null,null,null,null,null,null,null,null,null,null,null,null,null,null,null,null,null,null,null,null,null,null,null,null,null,null,null,null,null,null,null,null,null,null,null,null,null,null,null,null,null,null,null,null,null,null,null,null,null,null,null,null,null,null,null,null,null,null,null,"DEVEKUŞU BAŞLANGIÇ (0-8 hafta)",18,22,2650,2850,1.2,1.5,0.9,0.6,{"$f":"EI443","v":0.6},0.15,{"$f":"EK443/0.75","v":0.19999999999999998},null,null,null,null,null,null,0.65,{"$f":"ES443","v":0.65},null,null,0.9,{"$f":"EW443","v":0.9}]
[null,null,null,null,null,null,null,null,null,null,null,null,null,null,null,null,null,null,null,null,null,null,null,null,null,null,null,null,null,null,null,null,null,null,null,null,null,null,null,null,null,null,null,null,null,null,null,null,null,null,null,null,null,null,null,null,null,null,null,null,null,null,null,null,null,null,null,null,null,null,null,null,null,null,null,null,null,null,null,null,null,null,null,null,null,null,null,null,null,null,null,null,null,null,null,null,null,null,null,null,null,null,null,null,null,null,null,null,null,null,null,null,null,null,null,null,null,null,null,null,null,null,null,null,null,null,null,null,null,null,"DEVEKUŞU BÜYÜTME (9-42 hafta)",15,17,2150,2400,1.3,2.5,0.9,0.6,0.6,0.15,0.19999999999999998,null,null,null,null,null,null,0.6,{"$f":"ES444","v":0.6},null,null,0.6,{"$f":"EW444","v":0.6}]
[null,null,null,null,null,null,null,null,null,null,null,null,null,null,null,null,null,null,null,null,null,null,null,null,null,null,null,null,null,null,null,null,null,null,null,null,null,null,null,null,null,null,null,null,null,null,null,null,null,null,null,null,null,null,null,null,null,null,null,null,null,null,null,null,null,null,null,null,null,null,null,null,null,null,null,null,null,null,null,null,null,null,null,null,null,null,null,null,null,null,null,null,null,null,null,null,null,null,null,null,null,null,null,null,null,null,null,null,null,null,null,null,null,null,null,null,null,null,null,null,null,null,null,null,null,null,null,null,null,null,"DEVEKUŞU GELİŞTİRME (42.hafta-cinsel olgunluk)",12,14,1900,2400,1.2,2.5,0.9,0.6,0.6,0.15,0.19999999999999998,null,null,null,null,null,null,0.6,{"$f":"ES445","v":0.6},null,null,0.6,{"$f":"EW445","v":0.6}]
[null,null,null,null,null,null,null,null,null,null,null,null,null,null,null,null,null,null,null,null,null,null,null,null,null,null,null,null,null,null,null,null,null,null,null,null,null,null,null,null,null,null,null,null,null,null,null,null,null,null,null,null,null,null,null,null,null,null,null,null,null,null,null,null,null,null,null,null,null,null,null,null,null,null,null,null,null,null,null,null,null,null,null,null,null,null,null,null,null,null,null,null,null,null,null,null,null,null,null,null,null,null,null,null,null,null,null,null,null,null,null,null,null,null,null,null,null,null,null,null,null,null,null,null,null,null,null,null,null,null,"DEVEKUŞU BİTİRME (42.hafta-kesim)",12,16,2300,2500,1.2,2.5,0.9,0.6,0.6,0.15,0.19999999999999998,null,null,null,null,null,null,0.6,{"$f":"ES446","v":0.6},null,null,0.6,{"$f":"EW446","v":0.6}]
[null,null,null,null,null,null,null,null,null,null,null,null,null,null,null,null,null,null,null,null,null,null,null,null,null,null,null,null,null,null,null,null,null,null,null,null,null,null,null,null,null,null,null,null,null,null,null,null,null,null,null,null,null,null,null,null,null,null,null,null,null,null,null,null,null,null,null,null,null,null,null,null,null,null,null,null,null,null,null,null,null,null,null,null,null,null,null,null,null,null,null,null,null,null,null,null,null,null,null,null,null,null,null,null,null,null,null,null,null,null,null,null,null,null,null,null,null,null,null,null,null,null,null,null,null,null,null,null,null,null,"DAMIZLIK DEVEKUŞU",18,21,2300,2450,2,3.5,0.9,0.7,0.7,0.15,0.19999999999999998,null,null,null,null,null,null,0.7,{"$f":"ES447","v":0.7},null,null,0.7,{"$f":"EW447","v":0.7}]
[]
[]
[]
[]
[]
[null,null,null,null,null,null,null,null,null,null,null,null,null,null,null,null,null,null,null,null,null,null,null,null,null,null,null,null,null,null,null,null,null,null,null,null,null,null,null,null,null,null,null,null,null,null,null,null,null,null,null,null,null,null,null,null,null,null,null,null,null,null,null,null,null,null,null,null,null,null,null,null,null,null,null,null,null,null,null,null,null,null,null,null,null,null,null,null,null,null,null,null,null,null,null,null,null,null,null,null,null,null,null,null,null,null,null,null,null,null,null,null,null,null,null,null,null,null,null,null,null,null,null,null,null,null,null,null,null,null,"SÜLÜN, NRC 1994"]
[]
[null,null,null,null,null,null,null,null,null,null,null,null,null,null,null,null,null,null,null,null,null,null,null,null,null,null,null,null,null,null,null,null,null,null,null,null,null,null,null,null,null,null,null,null,null,null,null,null,null,null,null,null,null,null,null,null,null,null,null,null,null,null,null,null,null,null,null,null,null,null,null,null,null,null,null,null,null,null,null,null,null,null,null,null,null,null,null,null,null,null,null,null,null,null,null,null,null,null,null,null,null,null,null,null,null,null,null,null,null,null,null,null,null,null,null,null,null,null,null,null,null,null,null,null,null,null,null,null,null,null,"SÜLÜN BAŞLANGIÇ (0-4 hf)",28,{"$f":"EB455","v":28},2800,{"$f":"ED455","v":2800},1,{"$f":"EF455","v":1},null,0.55000000000000004,{"$f":"EI455","v":0.55000000000000004},0.15,{"$f":"EK455/0.75","v":0.19999999999999998},0.11,{"$f":"EM455/0.75","v":0.14666666666666667},0.5,0.5,null,null,1,{"$f":"ES455","v":1},null,null,1.5,{"$f":"EW455","v":1.5},null,null,null,null,null,null,null,null,null,null,null,null,null,null,1]
[null,null,null,null,null,null,null,null,null,null,null,null,null,null,null,null,null,null,null,null,null,null,null,null,null,null,null,null,null,null,null,null,null,null,null,null,null,null,null,null,null,null,null,null,null,null,null,null,null,null,null,null,null,null,null,null,null,null,null,null,null,null,null,null,null,null,null,null,null,null,null,null,null,null,null,null,null,null,null,null,null,null,null,null,null,null,null,null,null,null,null,null,null,null,null,null,null,null,null,null,null,null,null,null,null,null,null,null,null,null,null,null,null,null,null,null,null,null,null,null,null,null,null,null,null,null,null,null,null,null,"SÜLÜN BÜYÜTME (5-8 hf)",24,{"$f":"EB456","v":24},2800,{"$f":"ED456","v":2800},0.85,{"$f":"EF456","v":0.85},null,0.5,{"$f":"EI456","v":0.5},0.15,0.19999999999999998,0.11,0.14666666666666667,0.47,0.47,null,null,0.93,{"$f":"ES456","v":0.93},null,null,1.4,{"$f":"EW456","v":1.4},null,null,null,null,null,null,null,null,null,null,null,null,null,null,1]
[null,null,null,null,null,null,null,null,null,null,null,null,null,null,null,null,null,null,null,null,null,null,null,null,null,null,null,null,null,null,null,null,null,null,null,null,null,null,null,null,null,null,null,null,null,null,null,null,null,null,null,null,null,null,null,null,null,null,null,null,null,null,null,null,null,null,null,null,null,null,null,null,null,null,null,null,null,null,null,null,null,null,null,null,null,null,null,null,null,null,null,null,null,null,null,null,null,null,null,null,null,null,null,null,null,null,null,null,null,null,null,null,null,null,null,null,null,null,null,null,null,null,null,null,null,null,null,null,null,null,"SÜLÜN GELİŞTİRME (9-17 hf)",18,{"$f":"EB457","v":18},2700,{"$f":"ED457","v":2700},0.53,{"$f":"EF457","v":0.53},null,0.45,{"$f":"EI457","v":0.45},0.15,0.19999999999999998,0.11,0.14666666666666667,0.3,{"$f":"EO457","v":0.3},null,null,0.6,{"$f":"ES457","v":0.6},null,null,0.8,{"$f":"EW457","v":0.8},null,null,null,null,null,null,null,null,null,null,null,null,null,null,1]
[null,null,null,null,null,null,null,null,null,null,null,null,null,null,null,null,null,null,null,null,null,null,null,null,null,null,null,null,null,null,null,null,null,null,null,null,null,null,null,null,null,null,null,null,null,null,null,null,null,null,null,null,null,null,null,null,null,null,null,null,null,null,null,null,null,null,null,null,null,null,null,null,null,null,null,null,null,null,null,null,null,null,null,null,null,null,null,null,null,null,null,null,null,null,null,null,null,null,null,null,null,null,null,null,null,null,null,null,null,null,null,null,null,null,null,null,null,null,null,null,null,null,null,null,null,null,null,null,null,null,"DAMIZLIK SÜLÜN",15,{"$f":"EB458","v":15},2800,{"$f":"ED458","v":2800},2.5,{"$f":"EF458","v":2.5},null,0.4,{"$f":"EI458","v":0.4},0.15,0.19999999999999998,0.11,0.14666666666666667,0.3,0.3,null,null,0.6,{"$f":"ES458","v":0.6},null,null,0.68,{"$f":"EW458","v":0.68},null,null,null,null,null,null,null,null,null,null,null,null,null,null,1]
[]
[]
[]
[]
[]
[null,null,null,null,null,null,null,null,null,null,null,null,null,null,null,null,null,null,null,null,null,null,null,null,null,null,null,null,null,null,null,null,null,null,null,null,null,null,null,null,null,null,null,null,null,null,null,null,null,null,null,null,null,null,null,null,null,null,null,null,null,null,null,null,null,null,null,null,null,null,null,null,null,null,null,null,null,null,null,null,null,null,null,null,null,null,null,null,null,null,null,null,null,null,null,null,null,null,null,null,null,null,null,null,null,null,null,null,null,null,null,null,null,null,null,null,null,null,null,null,null,null,null,null,null,null,null,null,null,null,"KEKLİK, INRA"]
[]
[null,null,null,null,null,null,null,null,null,null,null,null,null,null,null,null,null,null,null,null,null,null,null,null,null,null,null,null,null,null,null,null,null,null,null,null,null,null,null,null,null,null,null,null,null,null,null,null,null,null,null,null,null,null,null,null,null,null,null,null,null,null,null,null,null,null,null,null,null,null,null,null,null,null,null,null,null,null,null,null,null,null,null,null,null,null,null,null,null,null,null,null,null,null,null,null,null,null,null,null,null,null,null,null,null,null,null,null,null,null,null,null,null,null,null,null,null,null,null,null,null,null,null,null,null,null,null,null,null,null,"KEKLİK BAŞLANGIÇ (0-4 hf)",17.600000000000001,{"$f":"EB466","v":17.600000000000001},2600,{"$f":"ED466","v":2600},0.9,{"$f":"EF466","v":0.9},0.7,0.47,{"$f":"EI466","v":0.47},0.15,{"$f":"EK466/0.75","v":0.19999999999999998},null,null,0.39,0.39,null,null,0.73,{"$f":"ES466","v":0.73},null,null,1.02,{"$f":"EW466","v":1.02},null,null,0.6,{"$f":"FA466","v":0.6},null,null,0.18,{"$f":"FE466","v":0.18}]
[null,null,null,null,null,null,null,null,null,null,null,null,null,null,null,null,null,null,null,null,null,null,null,null,null,null,null,null,null,null,null,null,null,null,null,null,null,null,null,null,null,null,null,null,null,null,null,null,null,null,null,null,null,null,null,null,null,null,null,null,null,null,null,null,null,null,null,null,null,null,null,null,null,null,null,null,null,null,null,null,null,null,null,null,null,null,null,null,null,null,null,null,null,null,null,null,null,null,null,null,null,null,null,null,null,null,null,null,null,null,null,null,null,null,null,null,null,null,null,null,null,null,null,null,null,null,null,null,null,null,"KEKLİK BAŞLANGIÇ (0-4 hf)",19,19,2800,2800,1,1,0.75,0.5,0.5,0.15,0.19999999999999998,null,null,0.42,0.42,null,null,0.79,{"$f":"ES467","v":0.79},null,null,1.1000000000000001,{"$f":"EW467","v":1.1000000000000001},null,null,0.65,{"$f":"FA467","v":0.65},null,null,0.19,{"$f":"FE467","v":0.19}]
[null,null,null,null,null,null,null,null,null,null,null,null,null,null,null,null,null,null,null,null,null,null,null,null,null,null,null,null,null,null,null,null,null,null,null,null,null,null,null,null,null,null,null,null,null,null,null,null,null,null,null,null,null,null,null,null,null,null,null,null,null,null,null,null,null,null,null,null,null,null,null,null,null,null,null,null,null,null,null,null,null,null,null,null,null,null,null,null,null,null,null,null,null,null,null,null,null,null,null,null,null,null,null,null,null,null,null,null,null,null,null,null,null,null,null,null,null,null,null,null,null,null,null,null,null,null,null,null,null,null,"KEKLİK BAŞLANGIÇ (0-4 hf)",20.399999999999999,20.399999999999999,3000,3000,1.1000000000000001,1.1000000000000001,0.8,0.53,0.53,0.15,0.19999999999999998,null,null,0.45,0.45,null,null,0.85,{"$f":"ES468","v":0.85},null,null,1.18,{"$f":"EW468","v":1.18},null,null,0.7,{"$f":"FA468","v":0.7},null,null,0.2,{"$f":"FE468","v":0.2}]
[null,null,null,null,null,null,null,null,null,null,null,null,null,null,null,null,null,null,null,null,null,null,null,null,null,null,null,null,null,null,null,null,null,null,null,null,null,null,null,null,null,null,null,null,null,null,null,null,null,null,null,null,null,null,null,null,null,null,null,null,null,null,null,null,null,null,null,null,null,null,null,null,null,null,null,null,null,null,null,null,null,null,null,null,null,null,null,null,null,null,null,null,null,null,null,null,null,null,null,null,null,null,null,null,null,null,null,null,null,null,null,null,null,null,null,null,null,null,null,null,null,null,null,null,null,null,null,null,null,null,"KEKLİK BÜYÜTME (>4 hf)",14,14,2500,2500,0.85,0.85,0.56000000000000005,0.34,0.34,0.15,0.19999999999999998,null,null,0.32,0.32,null,null,0.54,{"$f":"ES469","v":0.54},null,null,0.74,{"$f":"EW469","v":0.74},null,null,0.44,{"$f":"FA469","v":0.44},null,null,0.13,{"$f":"FE469","v":0.13}]
[null,null,null,null,null,null,null,null,null,null,null,null,null,null,null,null,null,null,null,null,null,null,null,null,null,null,null,null,null,null,null,null,null,null,null,null,null,null,null,null,null,null,null,null,null,null,null,null,null,null,null,null,null,null,null,null,null,null,null,null,null,null,null,null,null,null,null,null,null,null,null,null,null,null,null,null,null,null,null,null,null,null,null,null,null,null,null,null,null,null,null,null,null,null,null,null,null,null,null,null,null,null,null,null,null,null,null,null,null,null,null,null,null,null,null,null,null,null,null,null,null,null,null,null,null,null,null,null,null,null,"KEKLİK BÜYÜTME (>4 hf)",15,15,2700,2700,0.9,0.9,0.61,0.37,0.37,0.15,0.19999999999999998,null,null,0.35,0.35,null,null,0.57999999999999996,{"$f":"ES470","v":0.57999999999999996},null,null,0.8,{"$f":"EW470","v":0.8},null,null,0.48,{"$f":"FA470","v":0.48},null,null,0.14000000000000001,{"$f":"FE470","v":0.14000000000000001}]
[null,null,null,null,null,null,null,null,null,null,null,null,null,null,null,null,null,null,null,null,null,null,null,null,null,null,null,null,null,null,null,null,null,null,null,null,null,null,null,null,null,null,null,null,null,null,null,null,null,null,null,null,null,null,null,null,null,null,null,null,null,null,null,null,null,null,null,null,null,null,null,null,null,null,null,null,null,null,null,null,null,null,null,null,null,null,null,null,null,null,null,null,null,null,null,null,null,null,null,null,null,null,null,null,null,null,null,null,null,null,null,null,null,null,null,null,null,null,null,null,null,null,null,null,null,null,null,null,null,null,"KEKLİK BÜYÜTME (>4 hf)",16,16,2900,2900,0.95,0.95,0.65,0.4,0.4,0.15,0.19999999999999998,null,null,0.38,0.38,null,null,0.62,{"$f":"ES471","v":0.62},null,null,0.86,{"$f":"EW471","v":0.86},null,null,0.52,{"$f":"FA471","v":0.52},null,null,0.15,{"$f":"FE471","v":0.15}]
[null,null,null,null,null,null,null,null,null,null,null,null,null,null,null,null,null,null,null,null,null,null,null,null,null,null,null,null,null,null,null,null,null,null,null,null,null,null,null,null,null,null,null,null,null,null,null,null,null,null,null,null,null,null,null,null,null,null,null,null,null,null,null,null,null,null,null,null,null,null,null,null,null,null,null,null,null,null,null,null,null,null,null,null,null,null,null,null,null,null,null,null,null,null,null,null,null,null,null,null,null,null,null,null,null,null,null,null,null,null,null,null,null,null,null,null,null,null,null,null,null,null,null,null,null,null,null,null,null,null,"DAMIZLIK KEKLİK",14.7,14.7,2600,2600,2.4,2.4,0.54,0.3,0.3,0.15,0.19999999999999998,null,null,0.33,0.33,null,null,0.61,{"$f":"ES472","v":0.61},null,null,0.78,{"$f":"EW472","v":0.78},null,null,0.49,{"$f":"FA472","v":0.49},null,null,0.16,{"$f":"FE472","v":0.16}]
[null,null,null,null,null,null,null,null,null,null,null,null,null,null,null,null,null,null,null,null,null,null,null,null,null,null,null,null,null,null,null,null,null,null,null,null,null,null,null,null,null,null,null,null,null,null,null,null,null,null,null,null,null,null,null,null,null,null,null,null,null,null,null,null,null,null,null,null,null,null,null,null,null,null,null,null,null,null,null,null,null,null,null,null,null,null,null,null,null,null,null,null,null,null,null,null,null,null,null,null,null,null,null,null,null,null,null,null,null,null,null,null,null,null,null,null,null,null,null,null,null,null,null,null,null,null,null,null,null,null,"DAMIZLIK KEKLİK",16,16,2800,2800,2.6,2.6,0.56999999999999995,0.32,0.32,0.15,0.19999999999999998,null,null,0.35,0.35,null,null,0.66,{"$f":"ES473","v":0.66},null,null,0.84,{"$f":"EW473","v":0.84},null,null,0.53,{"$f":"FA473","v":0.53},null,null,0.18,{"$f":"FE473","v":0.18}]
[null,null,null,null,null,null,null,null,null,null,null,null,null,null,null,null,null,null,null,null,null,null,null,null,null,null,null,null,null,null,null,null,null,null,null,null,null,null,null,null,null,null,null,null,null,null,null,null,null,null,null,null,null,null,null,null,null,null,null,null,null,null,null,null,null,null,null,null,null,null,null,null,null,null,null,null,null,null,null,null,null,null,null,null,null,null,null,null,null,null,null,null,null,null,null,null,null,null,null,null,null,null,null,null,null,null,null,null,null,null,null,null,null,null,null,null,null,null,null,null,null,null,null,null,null,null,null,null,null,null,"DAMIZLIK KEKLİK",17,17,3000,3000,2.8,2.8,0.6,0.34,0.34,0.15,0.19999999999999998,null,null,0.38,0.38,null,null,0.7,{"$f":"ES474","v":0.7},null,null,0.9,{"$f":"EW474","v":0.9},null,null,0.56999999999999995,{"$f":"FA474","v":0.56999999999999995},null,null,0.19,{"$f":"FE474","v":0.19}]
[]
[]
[]
[null,null,null,null,null,null,null,null,null,null,null,null,null,null,null,null,null,null,null,null,null,null,null,null,null,null,null,null,null,null,null,null,null,null,null,null,null,null,null,null,null,null,null,null,null,null,null,null,null,null,null,null,null,null,null,null,null,null,null,null,null,null,null,null,null,null,null,null,null,null,null,null,null,null,null,null,null,null,null,null,null,null,null,null,null,null,null,null,null,null,null,null,null,null,null,null,null,null,null,null,null,null,null,null,null,null,null,null,null,null,null,null,null,null,null,null,null,null,null,null,null,null,null,null,null,null,null,null,null,null,"BILDIRCIN, NRC 1994"]
[]
[null,null,null,null,null,null,null,null,null,null,null,null,null,null,null,null,null,null,null,null,null,null,null,null,null,null,null,null,null,null,null,null,null,null,null,null,null,null,null,null,null,null,null,null,null,null,null,null,null,null,null,null,null,null,null,null,null,null,null,null,null,null,null,null,null,null,null,null,null,null,null,null,null,null,null,null,null,null,null,null,null,null,null,null,null,null,null,null,null,null,null,null,null,null,null,null,null,null,null,null,null,null,null,null,null,null,null,null,null,null,null,null,null,null,null,null,null,null,null,null,null,null,null,null,null,null,null,null,null,null,"BILDIRCIN BAŞLANGIÇ",24,{"$f":"EB480","v":24},2900,{"$f":"ED480","v":2900},0.8,{"$f":"EF480","v":0.8},null,0.3,{"$f":"EI480","v":0.3},0.15,{"$f":"EK480/0.75","v":0.19999999999999998},0.14000000000000001,{"$f":"EM480/0.75","v":0.18666666666666668},0.5,0.5,null,null,0.75,{"$f":"ES480","v":0.75},null,null,1.3,{"$f":"EW480","v":1.3},null,null,1.02,{"$f":"FA480","v":1.02},null,null,0.22,{"$f":"FE480","v":0.22},null,null,null,null,null,null,1]
[null,null,null,null,null,null,null,null,null,null,null,null,null,null,null,null,null,null,null,null,null,null,null,null,null,null,null,null,null,null,null,null,null,null,null,null,null,null,null,null,null,null,null,null,null,null,null,null,null,null,null,null,null,null,null,null,null,null,null,null,null,null,null,null,null,null,null,null,null,null,null,null,null,null,null,null,null,null,null,null,null,null,null,null,null,null,null,null,null,null,null,null,null,null,null,null,null,null,null,null,null,null,null,null,null,null,null,null,null,null,null,null,null,null,null,null,null,null,null,null,null,null,null,null,null,null,null,null,null,null,"DAMIZLIK BILDIRCIN",20,{"$f":"EB481","v":20},2900,{"$f":"ED481","v":2900},2.5,{"$f":"EF481","v":2.5},null,0.35,{"$f":"EI481","v":0.35},0.15,0.19999999999999998,0.14000000000000001,0.18666666666666668,0.45,0.45,null,null,0.7,{"$f":"ES481","v":0.7},null,null,1,{"$f":"EW481","v":1},null,null,0.74,{"$f":"FA481","v":0.74},null,null,0.19,{"$f":"FE481","v":0.19},null,null,null,null,null,null,1]