{"text_format":"1","workbook":"xlsx","n_sheets":2,"sheets":["Süt","Rapor"],"not_rendered":{"charts":0,"images":0,"macros":1,"external_links":1,"defined_names":698,"comments":1,"pivot_tables":0},"unopened":[],"bounds":{"document_bytes":16777216,"sheet_cells":100000,"rows_first":2000,"rows_last":500,"rows_between":2000,"halvings":0,"cell_chars":16384,"cell_head_chars":4096},"cells_cut":0,"cells_raw":0,"read":"whole","date_system":"1900"}

{"sheet":"Süt","index":0,"n_rows":265,"n_cols":60,"rows_kept":265,"cut":false,"hidden":false,"merged":[[54,3,54,6],[55,3,55,6],[56,3,56,6],[57,3,57,6],[62,3,62,6],[63,3,63,6],[64,3,64,6],[65,3,65,6],[58,3,58,6],[59,3,59,6],[60,3,60,6],[61,3,61,6],[67,3,67,6],[69,3,69,6],[68,3,68,6],[245,3,245,5],[255,3,255,5],[250,3,250,5],[251,3,251,5],[252,3,252,5],[254,3,254,5],[253,3,253,5],[247,3,247,5],[156,3,156,5],[158,3,158,5],[74,3,74,6],[75,3,75,6],[246,3,246,5],[232,3,232,5],[228,3,228,5],[229,3,229,5],[230,3,230,5],[235,3,235,5],[234,3,234,5],[233,3,233,5],[242,3,242,5],[241,3,241,5],[236,3,236,5],[237,3,237,5],[240,3,240,5],[239,3,239,5],[243,3,243,5],[244,3,244,5],[76,3,76,6],[77,3,77,6],[179,3,179,5],[180,3,180,5],[181,3,181,5],[176,3,176,5],[177,3,177,5],[168,3,168,5],[169,3,169,5],[170,3,170,5],[171,3,171,5],[70,3,70,6],[71,3,71,6],[72,3,72,6],[73,3,73,6],[27,6,27,7],[27,11,27,12],[178,3,178,5],[163,3,163,5],[165,3,165,5],[166,3,166,5],[167,3,167,5],[159,3,159,5],[160,3,160,5],[161,3,161,5],[162,3,162,5],[154,3,154,5],[155,3,155,5],[51,3,51,6],[52,3,52,6],[53,3,53,6],[50,3,50,6],[66,3,66,6],[172,3,172,5],[173,3,173,5],[2,4,2,5],[2,11,2,12],[3,11,3,12],[1,14,1,21],[0,14,0,21],[20,11,20,12],[21,11,21,12],[25,11,25,12],[26,6,26,7],[26,11,26,12],[6,16,6,18],[7,16,7,18],[8,16,8,18],[18,16,18,18],[9,16,9,18],[10,16,10,18],[11,16,11,18],[13,16,13,18],[20,16,20,18],[21,16,21,18],[15,16,15,18],[14,16,14,18],[4,16,4,18],[5,16,5,18],[32,16,32,18],[24,16,24,18],[25,16,25,18],[26,16,26,18],[27,16,27,18],[17,16,17,18],[28,16,28,18],[30,16,30,18],[19,16,19,18],[23,16,23,18]]}
[null,"SÜTÇÜ SIĞIRLAR İÇİN EN DÜŞÜK",null,null,null,null,"BESİN MADDELERİ","İHTİYAÇ","RASYON","SONUÇ",{"$f":"TODAY()","v":"2025-08-18"},null,"Coşkun & İnal & İnal",null,"Selçuk Üniversitesi Veteriner Fakültesi Rasyon Hazırlama Programları",null,null,null,null,null,null,null,null,null,null,null,null,"Adres","Rasyonlar","Rasyon Kayıt Bölümü"]
[null,"MALİYETLİ RASYON PROGRAMI",null,null,null,null,{"$f":"Rapor!G2","v":"Kuru Madde, kg/gün"},{"$f":"Rapor!H2","v":21.160792246064069},{"$f":"Rapor!I2","v":21.138159154151602},{"$f":"Rapor!J2","v":"TAMAM"},null,null,null,null,"Fİ & Şİ & BC",null,null,null,null,null,null,null,null,null,null,null,null,"AE","Sağmal İnek1","Diğer bilgiler",1,2,3,4,5,6,7,8,9,10,{"$f":"AN2+1","v":11},{"$f":"AO2+1","v":12},13,14,15,16,17,18,19,20,21,22,23,24,25,26,27,28,29,30]
[null,null,"Miktar,kg","Fiyat,₺","Yemlerin sınırları",null,{"$f":"Rapor!G3","v":"Kuru madde, % Canlı Ağırlık"},null,{"$f":"Rapor!I3","v":3.2520244852540925},null,"Hayvanın tipi :","Sağmal İnek",null,null,null,null,null,null,null,null,null,null,null,null,null,null,null,"AF",null,"Rasyonun Adı :","Sağmal İnek1"]
[null,"VERİLECEK YEMLER",{"$f":"Rapor!C4","v":39.617116065205927},{"$f":"(C5*D5+C6*D6+C7*D7+C8*D8+C9*D9+C10*D10+C11*D11+C12*D12+C13*D13+C14*D14+C15*D15+C16*D16+C17*D17+C18*D18+C19*D19+C20*D20+C21*D21+C22*D22+C23*D23+C24*D24+C25*D25+C26*D26+C27*D27+C28*D28+C29*D29+C30*D30+C31*D31)","v":202.34339039713626},"En az","En çok",{"$f":"Rapor!G4","v":"Rasyon Kuru Madde Oranı, %"},null,{"$f":"Rapor!I4","v":53.356127991144639},null,"Irkı :","Siyah Alaca",null,null,null,null,null,null,null,null,null,null,null,null,null,null,null,"AG",null,"Rasyonun hazırlandığı tarih :","12.11.2024"]
[1,"Mısır Silajı, %29-33 KM",25,2.5,0,25,{"$f":"Rapor!G5","v":"Rasyon Kaba Yem Oranı, %"},null,{"$f":"Rapor!I5","v":70.350869710993493},null,"Yaşı :",51,"ay",null,"Hayvan Sahibi ile İlgili bilgiler",null,"Rasyonla ilgili bilgiler",null,null,"İhtiyaç","Rasyon","Sonuç",null,null,null,null,null,"AH",null,"Hayvan sahibinin adı soyadı :",""]
[2,"Buğday Samanı",0.70871500090575867,1.5,0,7,{"$f":"Rapor!G6","v":"Ham Protein, g/gün"},{"$f":"Rapor!H6","v":2884.33},{"$f":"Rapor!I6","v":2951.987462864884},{"$f":"Rapor!J6","v":"TAMAM"},"Canlı ağırlığı :",650,"kg",null,"Adı Soyadı:","aaa","Ham Protein (g/gün):",null,null,{"$f":"RDPReq+RUPReq","v":2884.33},{"$f":"DietCP*TotalDMFed*1000","v":2951.987462864884},{"$f":"IF(T6=\"\",\"     \",IF(U6>(T6*1.05),\"FAZLA\",IF(U6<(T6*0.95),\"EKSİK\",\"TAMAM\")))","v":"TAMAM"},null,null,null,null,null,"AI",null,"Rasyonu Hazırlayanın Adı Soyadı :","wwww"]
[2,"Yonca Kuru Otu, 4.kalite, %15-17 HP, %44-48 NDF",7,8.5,0,7,{"$f":"Rapor!G7","v":"Ham Protein, % KM"},null,{"$f":"Rapor!I7","v":13.965205963950291},null,"Hedef GCAA :",0.87302631578947387,"kg",null,"Adresi:","fff","HP (% KM):",null,null,null,{"$f":"DietCP*100","v":13.965205963950291},null,null,null,null,null,null,"AJ",null,"Adresi :",""]
[3,"Arpa, Ezme ",5,9.75,0,5,{"$f":"Rapor!G8","v":"Metabolik Protein, g/gün"},{"$f":"Rapor!H8","v":1918.7341316804641},{"$f":"Rapor!I8","v":1898.0109829788305},{"$f":"Rapor!J8","v":"TAMAM"},"Kaç günlük gebe :",30,"gün",null,"Telefon Numarası:","333",{"$f":"IF(OR(AnimalType = \"Damızlık Düve\",AnimalType = \"Kurudaki İnek\")=TRUE,\"\",\"Metabolik Protein (g/gün):\")","v":"Metabolik Protein (g/gün):"},null,null,{"$f":"IF(OR(AnimalType = \"Damızlık Düve\",AnimalType = \"Kurudaki İnek\")=TRUE,\"\",MP_TargetDietConc*DryMatterIntake)","v":1918.7341316804641},{"$f":"IF(OR(AnimalType = \"Damızlık Düve\",AnimalType = \"Kurudaki İnek\")=TRUE,\"\",(MPFeed*1000)+MPBact+MPEndo)","v":1898.0109829788305},{"$f":"IF(T8=\"\",\"     \",IF(U8>(T8*1.05),\"FAZLA\",IF(U8<(T8*0.95),\"EKSİK\",\"TAMAM\")))","v":"TAMAM"},null,null,null,null,null,"AK",null,"Telefonu :",""]
[3,"Mısır, Pul Haline Getirilmiş",2.094454588298537E-8,11.5,0,10,{"$f":"Rapor!G9","v":"Rumende Yıkılabilir Protein, g/gün"},{"$f":"Rapor!H9","v":2024},{"$f":"Rapor!I9","v":2061.5872156285709},{"$f":"Rapor!J9","v":"TAMAM"},"Kondisyon skoru :",3,null,null,null,null,{"$f":"IF(OR(AnimalType=\"Damızlık Düve\",AnimalType=\"Kurudaki İnek\")=TRUE,\"\",\"Rumende Yıkılabilir Protein (g/gün):\")","v":"Rumende Yıkılabilir Protein (g/gün):"},null,null,{"$f":"IF(OR(AnimalType = \"Damızlık Düve\",AnimalType = \"Kurudaki İnek\")=TRUE,\"\",RDPReq)","v":2024},{"$f":"IF(OR(AnimalType = \"Damızlık Düve\",AnimalType = \"Kurudaki İnek\")=TRUE,\"\",RDPSup)","v":2061.5872156285709},{"$f":"IF(T9=\"\",\"     \",IF(U9>(T9*1.05),\"FAZLA\",IF(U9<(T9*0.95),\"EKSİK\",\"TAMAM\")))","v":"TAMAM"},null,null,null,null,null,"AL",null,"Hayvan Tanımlama Bilgisi Girişi"]
[4,"Pamuk Tohumu Küspesi, Pres, %25 HP",1.6426040151275287E-8,12,0,5,{"$f":"Rapor!G10","v":"Rumende Yıkımlanmayan Protein, g/gün"},{"$f":"Rapor!H10","v":860.32999999999993},{"$f":"Rapor!I10","v":890.40024723631416},{"$f":"Rapor!J10","v":"TAMAM"},"Kaç gündür süt veriyor :",120,"gün",null,"Hayvanla İlgili bilgiler",null,{"$f":"IF(OR(AnimalType = \"Damızlık Düve\",AnimalType = \"Kurudaki İnek\")=TRUE,\"\",\"Rumende Yıkılabilir Protein (% HP):\")","v":"Rumende Yıkılabilir Protein (% HP):"},null,null,null,{"$f":"IF(OR(AnimalType = \"Damızlık Düve\",AnimalType = \"Kurudaki İnek\")=TRUE,\"\",CP_RDP*100)","v":69.837261897711926},null,null,null,null,null,null,"AM",null,"Hayvanın Tipi :","Sağmal İnek"]
[4,"Soya Küspesi, Solvent, %44",1.7534010269295777,17,0,5,{"$f":"Rapor!G11","v":"ME, Mcal/kg KM"},null,{"$f":"Rapor!I11","v":2.4330303637692645},null,"Kaçıncı laktasyonda :",3,null,null,"Hayvanın tipi:",{"$f":"AnimalType","v":"Sağmal İnek"},{"$f":"IF(OR(AnimalType = \"Damızlık Düve\",AnimalType = \"Kurudaki İnek\")=TRUE,\"\",\"By-pass Protein (g/gün):\")","v":"By-pass Protein (g/gün):"},null,null,{"$f":"IF(OR(AnimalType = \"Damızlık Düve\",AnimalType = \"Kurudaki İnek\")=TRUE,\"\",RUPReq)","v":860.32999999999993},{"$f":"IF(OR(AnimalType = \"Damızlık Düve\",AnimalType = \"Kurudaki İnek\")=TRUE,\"\",RUPSup)","v":890.40024723631313},{"$f":"IF(AnimalType=\"Damızlık Düve\",\"\",IF(T11=\"\",\"     \",IF(U11>(T11*1.05),\"FAZLA\",IF(U11<(T11*0.95),\"EKSİK\",\"TAMAM\"))))","v":"TAMAM"},null,null,null,null,null,"AN",null,"Irkı :","Siyah Alaca"]
[5,"Buğday Kepeği, Razmol",0,12,0,2,{"$f":"Rapor!G12","v":"NEl, Mcal/kg KM"},{"$f":"Rapor!H12","v":""},{"$f":"Rapor!I12","v":1.3772880273403774},null,"İlk buzağılama yaşı :",24,"ay",null,"Yaşı (ay):",{"$f":"Age","v":51},{"$f":"IF(OR(AnimalType = \"Damızlık Düve\",AnimalType = \"Kurudaki İnek\")=TRUE,\"\",\"By-pass Protein (% HP):\")","v":"By-pass Protein (% HP):"},null,null,null,{"$f":"IF(OR(AnimalType = \"Damızlık Düve\",AnimalType = \"Kurudaki İnek\")=TRUE,\"\",CP_RUP*100)","v":30.162738102288067},null,null,null,null,null,null,"AO",null,"Yaşı :",51]
[5,"Şeker Pancarı Posası,Yaş, Ambalajlı",0,2.5,0,10,{"$f":"Rapor!G13","v":"NEl, Mcal/gün"},{"$f":"Rapor!H13","v":28.190107785056014},{"$f":"Rapor!I13","v":29.113333523028398},{"$f":"Rapor!J13","v":"TAMAM"},"Buzağılama aralığı :",12,"ay",null,"Irk:",{"$f":"Breed","v":"Siyah Alaca"},null,null,null,null,null,null,null,null,null,null,null,"AP",null,"Canlı Ağırlığı :",650]
[null,null,null,null,null,null,{"$f":"Rapor!G14","v":"Emilebilir Ca, g/gün"},{"$f":"Rapor!H14","v":51.17},{"$f":"Rapor!I14","v":50.832836067684262},{"$f":"Rapor!J14","v":"TAMAM"},"Günlük süt verimi :",25,"kg",null,"Canlı ağırlığı (kg):",{"$f":"BW","v":650},{"$f":"CONCATENATE(IF(AnimalType<>\"Damızlık Düve\",\"NEl,\",\"ME,\"),\" Mcal/gün\")","v":"NEl, Mcal/gün"},null,null,{"$f":"IF(AnimalType <> \"Damızlık Düve\",NEMaint+NEPreg+NELact+NEGrowth,MEMaint+MEPreg+MEGrowth)","v":28.190107785056014},{"$f":"I13","v":29.113333523028398},{"$f":"IF(T14=\"\",\"     \",IF(U14>(T14*1.05),\"FAZLA\",IF(U14<(T14*0.98),\"EKSİK\",\"TAMAM\")))","v":"TAMAM"},null,null,null,null,null,"AQ",null,"Hedef Günlük Canlı Ağırlık Artışı :",0.87302631578947387]
[null,null,null,null,null,null,{"$f":"Rapor!G15","v":"Ca, % KM"},null,{"$f":"Rapor!I15","v":0.58545147991700242},null,"Süt yağı oranı :",3.7,"%",null,"Kondisyon skoru:",{"$f":"CS","v":3},"ME (Mcal/kg KM):",null,null,null,{"$f":"DietME","v":2.4330303637692645},null,null,null,null,null,null,"AR",null,"Kaç günlük gebe :",30]
[null,null,null,null,null,null,{"$f":"Rapor!G16","v":"Emilebilir P, g/gün"},{"$f":"Rapor!H16","v":44.938159154151606},{"$f":"Rapor!I16","v":44.661350144067278},{"$f":"Rapor!J16","v":"TAMAM"},"Süt proteini oranı :",3.1,"%",null,"Gebelik günü:",{"$f":"DaysPreg","v":30},{"$f":"IF(AnimalType <> \"Damızlık Düve\",\"NEl, Mcal/kg KM\",\"\")","v":"NEl, Mcal/kg KM"},null,null,null,{"$f":"IF(AnimalType <> \"Damızlık Düve\",NEl_Total/TotalDMFed,\"\")","v":1.3772880273403774},null,null,null,null,null,null,"AS",null,"Kondisyon Skoru :",3]
[null,null,null,null,null,null,{"$f":"Rapor!G17","v":"P, % KM"},null,{"$f":"Rapor!I17","v":0.30831695783457491},null,"Sütteki laktoz oranı :",4.8,"%",null,{"$f":"IF(AnimalType=\"Sağmal İnek\",\"Laktasyon günü:\",\"\")","v":"Laktasyon günü:"},{"$f":"IF(AnimalType=\"Sağmal İnek\",DaysInMilk,\"\")","v":120},null,null,null,null,null,null,null,null,null,null,null,"AT",null,"Kaç gündür süt veriyor :",120]
[null,null,null,null,null,null,{"$f":"Rapor!G18","v":"Ca / P"},{"$f":"Rapor!H18","v":1.1386759262761805},{"$f":"Rapor!I18","v":1.1381840428851611},{"$f":"Rapor!J18","v":"TAMAM"},"Çevre ısısı :",18,"°C",null,{"$f":"IF(AnimalType=\"Sağmal İnek\",\"Süt verimi (kg):\",\"\")","v":"Süt verimi (kg):"},{"$f":"IF(AnimalType=\"Sağmal İnek\",MilkProd,\"\")","v":25},"Emilebilir Ca (g/gün):",null,null,{"$f":"Ca Total","v":51.17},{"$f":"Ca Absorbable","v":50.832836067684262},{"$f":"IF(T18=\"\",\"     \",IF(U18>(T18*1.02),\"FAZLA\",IF(U18<(T18*0.99),\"EKSİK\",\"TAMAM\")))","v":"TAMAM"},null,null,null,null,null,"AU",null,"Laktasyon sayısı :",3]
[null,null,null,null,null,null,{"$f":"Rapor!G19","v":"NDF, % KM, enaz"},{"$f":"Rapor!H19","v":25},{"$f":"Rapor!I19","v":42.133348197502613},{"$f":"Rapor!J19","v":"TAMAM"},"Önceki ayın ısı ortalaması :",null,"°C",null,{"$f":"IF(AnimalType=\"Sağmal İnek\",\"Süt yağı (%):\",\"\")","v":"Süt yağı (%):"},{"$f":"IF(AnimalType=\"Sağmal İnek\",MilkFat,\"\")","v":3.7},"Ca (% KM):",null,null,null,{"$f":"Ca RD/10","v":0.58545147991700242},null,null,null,null,null,null,"AV",null,"İlk Buzağılama Yaşı :",24]
[null,null,null,null,null,null,{"$f":"Rapor!G20","v":"Kaba yem NDF, % KM, enaz"},{"$f":"Rapor!H20","v":19},{"$f":"Rapor!I20","v":36.177975917836584},{"$f":"Rapor!J20","v":"TAMAM"},"Rüzgarın hızı :",1,"km/sa",null,{"$f":"IF(AnimalType=\"Sağmal İnek\",\"Süt proteini (%):\",\"\")","v":"Süt proteini (%):"},{"$f":"IF(AnimalType=\"Sağmal İnek\",MilkTrueProtein,\"\")","v":3.1},"Emilebilir P (g/gün):",null,null,{"$f":"P Total","v":44.938159154151606},{"$f":"P Absorbable","v":44.661350144067278},{"$f":"IF(T20=\"\",\"     \",IF(U20>(T20*1.02),\"FAZLA\",IF(U20<(T20*0.99),\"EKSİK\",\"TAMAM\")))","v":"TAMAM"},null,null,null,null,null,"AW",null,"Buzağılama Aralığı :",12]
[null,null,null,null,null,null,{"$f":"Rapor!G21","v":"ADF, % KM, enaz"},{"$f":"Rapor!H21","v":17},{"$f":"Rapor!I21","v":27.101129481730819},{"$f":"Rapor!J21","v":"TAMAM"},"Merada otluyor mu? :","Otlamıyor",null,null,{"$f":"IF(AnimalType=\"Sağmal İnek\",\"Laktoz (%):\",\"\")","v":"Laktoz (%):"},{"$f":"IF(AnimalType=\"Sağmal İnek\",Lactose,\"\")","v":4.8},"P (% KM):",null,null,null,{"$f":"P RD/10","v":0.30831695783457491},null,null,null,null,null,null,"AX",null,"Günlük süt verimi :",25]
[null,null,null,null,null,null,{"$f":"Rapor!G22","v":"NFC, % KM, ençok"},{"$f":"Rapor!H22","v":44},{"$f":"Rapor!I22","v":36.391064687449656},{"$f":"Rapor!J22","v":"TAMAM"},"Arazinin durumu :",null,null,null,null,null,"Ca/P oranı:",null,null,{"$f":"IF(ISERROR(T18/T20)=TRUE,0,T18/T20)","v":1.1386759262761805},{"$f":"IF(ISERROR(U18/U20)=TRUE,0,U18/U20)","v":1.1381840428851611},{"$f":"IF(T22=\"\",\"\",IF(U22>(T22*1.05),\"FAZLA\",IF(U22<(T22*0.95),\"EKSİK\",\"TAMAM\")))","v":"TAMAM"},null,null,null,null,null,"AY",null,"Süt yağı oranı :",3.7]
[7,"Mermer tozu",0.04,2,0,0.5,{"$f":"Rapor!G23","v":"TSBM, % KM"},null,{"$f":"Rapor!I23","v":66.058141708757717},null,"Mera ile ahır arası :",null,"m",null,null,null,null,null,null,null,null,null,null,null,null,null,null,"AZ",null,"Süt proteini oranı :",3.1]
[7,"Tuz",9.5000000000000001E-2,1.5,0.05,0.1,{"$f":"Rapor!G24","v":"Katyon-Anyon, meq/kg"},{"$f":"Rapor!H24","v":""},{"$f":"Rapor!I24","v":160.7261866958558},null,"Meraya gidiş-geliş sayısı :",null,"tur",null,"Yem Tüketimi ve Canlı Ağırlık Artışı Değerleri",null,"Kaba Yem Oranı, %",null,null,null,{"$f":"100-PercentConc","v":70.350869710993493},null,null,null,null,null,null,"BA",null,"Sütteki laktoz oranı :",4.8]
[7,"Vit-Min. Kar. (Kavimix  VM 902), 1 kg/ton",0.02,25,0.01,0.05,{"$f":"Rapor!G25","v":"1 KS için gerekli gün"},null,{"$f":"Rapor!I25","v":538.95412018345621},null,"Kıllarının uzunluğu :",1,"cm",null,"Kuru madde tüketimi (kg/gün):",{"$f":"TotalDMFed","v":21.138159154151602},"NDF (% KM):",null,null,{"$f":"NDFmin","v":25},{"$f":"DietNDF*100","v":42.133348197502613},{"$f":"IF(T25=\"\",\"\",IF(U25<T25,\"EKSİK\",\"TAMAM\"))","v":"TAMAM"},null,null,null,null,null,"BB",null,"Çevre ısısı :",18]
[null,null,null,null,null,null,{"$f":"Rapor!G26","v":"Rasyon maliyeti, TL"},null,{"$f":"Rapor!I26","v":202.34339039713626},null,"Deri ve kıllarının durumu :","Biraz Çamurlu",null,null,"Kuru madde ihtiyacı (kg/gün):",{"$f":"DryMatterIntake","v":21.160792246064069},{"$f":"IF(AnimalType <> \"Damızlık Düve\",\"Kaba yem NDF (% KM):\",\"\")","v":"Kaba yem NDF (% KM):"},null,null,{"$f":"IF(AnimalType=\"Sağmal İnek\",15,\"\")","v":15},{"$f":"IF(OR(AnimalType = \"Damızlık Düve\",AnimalType = \"Kurudaki İnek\")=TRUE,\"\",ForageNDF/TotalDMFed*100)","v":36.177975917836584},{"$f":"IF(T26=\"\",\"\",IF(U26<T26,\"EKSİK\",\"TAMAM\"))","v":"TAMAM"},null,null,null,null,null,"BC",null,"Önceki ayın ısı ortalaması :"]
[null,null,null,null,null,null,{"$f":"Rapor!G27","v":"Proteinin sağlayabileceği süt, kg"},{"$f":"Rapor!H27","v":0},{"$f":"Rapor!I27","v":24.552112592577597},null,"Sıcaklık stresi :","Yok",null,null,"Kuru madde tüketim oranı (% CA):",{"$f":"BW_DMI","v":3.2520244852540925},"ADF (% KM):",null,null,{"$f":"ADFmin","v":17},{"$f":"DietADF*100","v":27.101129481730819},{"$f":"IF(T27=\"\",\"\",IF(U27<T27,\"EKSİK\",\"TAMAM\"))","v":"TAMAM"},null,null,null,null,null,"BD",null,"Rüzgarın hızı :",1]
[null,null,null,null,null,null,{"$f":"Rapor!G28","v":"Enerjinin sağlayabileceği süt, kg"},{"$f":"Rapor!H28","v":0},{"$f":"Rapor!I28","v":26.290027999160294},null,"Geceler serinliyor mu? :",null,null,null,{"$f":"IF(AnimalType=\"Damızlık Düve\",\"KM tüketimi / Yaşama payı KM tüketimi:\",\"\")","v":""},{"$f":"IF(AnimalType=\"Damızlık Düve\",DMI_to_DMIMaint,\"\")","v":""},"NFC (% KM):",null,null,{"$f":"NFCmak","v":44},{"$f":"IF(ISERROR(DietaryNFC/TotalDMFed*100)=TRUE,0,DietaryNFC/TotalDMFed*100)","v":36.391064687449656},{"$f":"IF(T28=\"\",\"\",IF(U28>T28,\"FAZLA\",\"TAMAM\"))","v":"TAMAM"},null,null,null,null,null,"BE",null,"Merada Otluyor mu? :","Otlamıyor"]
[null,null,null,null,null,null,{"$f":"Rapor!G29","v":"Kesif yem; Miktarı,kg"},null,{"$f":"Rapor!I29","v":""},null,null,null,null,null,{"$f":"IF(AnimalType=\"Damızlık Düve\",\"Yem enerjisinin sağlayabileceği GCAA (g):\",\"\")","v":""},{"$f":"IF(AnimalType=\"Damızlık Düve\",IF(DaysPreg>0,MEAllowGainPreg,MEAllowGain)*1000,\"\")","v":""},"TSBM (% KM):",null,null,null,{"$f":"TDNConc","v":66.058141708757717},null,null,null,null,null,null,"BF",null,"Arazinin durumu :"]
[null,null,null,null,null,null,{"$f":"Rapor!G30","v":"HP,% KM"},null,{"$f":"Rapor!I30","v":""},null,null,null,"kg",null,{"$f":"IF(AnimalType=\"Damızlık Düve\",\"Yem metabolik proteininin sağlayabileceği GCAA (g):\",\"\")","v":""},{"$f":"IF(AnimalType=\"Damızlık Düve\",IF(DaysPreg>0,MPAllowGainPreg,MPAllowGain)*1000,\"\")","v":""},null,null,null,null,null,null,null,null,null,null,null,"BG",null,"Mera ile sağım yeri arası :"]
[null,null,null,null,null,null,{"$f":"Rapor!G31","v":"ME,Mcal/kg KM"},null,{"$f":"Rapor!I31","v":""},null,{"$f":"19*0.9","v":17.100000000000001},null,"°C",null,{"$f":"IF(AnimalType=\"Damızlık Düve\",\"Düvenin durumuna uygun GCAA (g):\",\"\")","v":""},{"$f":"IF(AnimalType=\"Damızlık Düve\",IF(DaysPreg>0,TargetADGPreg,TargetADGwoPreg)*1000,\"\")","v":""},"Katyon-anyon (mEQ/kg):",null,null,{"$f":"IF(AnimalType=\"Kurudaki İnek\",IF(DaysPreg>264,\"Negatif\",\"\"),\"\")","v":""},{"$f":"DCAD/1000","v":160.7261866958558},null,null,null,null,null,null,"BH",null,"Meraya gidiş-geliş sayısı :"]
[null,null,null,null,null,null,{"$f":"Rapor!G32","v":"Ca,% KM"},null,{"$f":"Rapor!I32","v":""},null,null,null,null,null,null,null,null,null,null,null,null,null,null,null,null,null,null,null,null,"Kıllarının uzunluğu :",1]
[null,null,null,null,null,null,{"$f":"Rapor!G33","v":"P,% KM"},null,{"$f":"Rapor!I33","v":""},null,null,null,null,null,null,null,"Rasyon maliyeti (Krş/gün):",null,null,{"$f":"IF(AnimalType=\"Kurudaki İnek\",IF(DaysPreg>264,\"Negatif\",\"\"),\"\")","v":""},{"$f":"Fiyat","v":202.34339039713626},null,null,null,null,null,null,null,null,"Deri ve kıllarının durumu :","Biraz Çamurlu"]
[null,null,null,null,null,null,null,null,null,null,null,null,null,null,null,null,null,null,null,null,null,null,null,null,null,null,null,null,null,"Sıcaklık stresi :","Yok"]
[null,null,null,null,null,null,null,null,null,null,null,null,null,null,null,null,null,null,null,null,null,null,null,null,null,null,null,null,null,"Gece serinliği :"]
[null,null,null,null,null,null,null,null,null,null,null,null,null,null,null,null,null,null,null,null,null,null,null,null,null,null,null,null,null,"Buzağının Canlı ağırlığı :"]
[null,null,null,null,null,null,null,null,null,null,null,null,null,null,null,null,null,null,null,null,null,null,null,null,null,null,null,null,null,"Buzağının Çevre sıcaklığı :"]
[null,null,null,null,null,null,null,null,null,null,null,null,null,null,null,null,null,null,null,null,null,null,null,null,null,null,null,null,null,"Yemlerin KODU",1]
[null,null,null,null,null,null,null,null,null,null,null,null,null,null,"Rasyon özeti","Yem","KM","KM","ME","NEl","HP","NDF",null,null,null,null,null,null,null,null,2]
[null,null,null,null,null,null,null,null,null,null,null,null,null,null,"Yem maddeleri","kg/gün","kg/gün","%","Mcal/gün","Mcal/gün","g/gün","kg/gün",null,null,null,null,null,null,null,null,2]
[null,null,null,null,null,null,null,null,null,null,null,null,null,1,null,null,null,null,null,null,null,null,null,null,null,null,null,null,null,null,6]
[null,null,null,null,null,null,null,null,null,null,null,null,null,2]
[null,null,null,null,null,null,null,null,null,null,null,null,null,2]
[null,null,null,null,null,null,null,null,null,null,null,null,null,3]
[null,null,null,null,null,null,null,null,null,null,null,null,null,3]
[null,null,null,null,null,null,null,null,null,null,null,null,null,4]
[null,null,null,null,null,null,null,null,null,null,null,null,null,4]
[null,null,null,null,null,null,null,null,null,null,null,null,null,5]
[null,null,null,null,null,null,null,null,null,null,null,null,null,7]
[null,null,null,null,null,null,null,null,null,null,null,null,null,7]
[null,"Hayvanla İlgili bilgiler",null,"Rasyonla ilgili bilgiler",null,null,null,null,null,null,null,null,null,10]
[null,"Hayvanın tipi:",{"$f":"AnimalType","v":"Sağmal İnek"},"Kaba Yem Oranı, %",null,null,null,{"$f":"100-PercentConc","v":70.350869710993493}]
[null,"Yaşı (ay):",{"$f":"Age","v":51},"NDF (% KM):",null,null,null,{"$f":"DietNDF*100","v":42.133348197502613}]
[null,"Irk:",{"$f":"Breed","v":"Siyah Alaca"},"Kaba yem NDF (% KM):",null,null,null,{"$f":"ForageNDF/TotalDMFed*100","v":36.177975917836584}]
[null,"Canlı ağırlığı (kg):",{"$f":"BW","v":650},"ADF (% KM):",null,null,null,{"$f":"DietADF*100","v":27.101129481730819}]
[null,"Ergin ağırlık (kg):",{"$f":"MW","v":682},"NFC (% KM):",null,null,null,{"$f":"DietaryNFC/TotalDMFed*100","v":36.391064687449656}]
[null,{"$f":"IF(AnimalType<>\"Damızlık Düve\",\"\",\"Hedef GCAA (kg):\")","v":""},{"$f":"IF(AnimalType<>\"Damızlık Düve\",\"\",ADG)","v":""},"TSBM (% KM):",null,null,null,{"$f":"TDNConc","v":66.058141708757717}]
[null,"Kondisyon skoru:",{"$f":"CS","v":3},{"$f":"CONCATENATE(IF(AnimalType=\"Damızlık Düve\",\"ME (Mcal/gün)\",\"\"))","v":""},null,null,null,{"$f":"IF(AnimalType=\"Damızlık Düve\",MEng_Total,\"\")","v":""}]
[null,"Gebelik günü:",{"$f":"DaysPreg","v":30},{"$f":"CONCATENATE(IF(AnimalType=\"Damızlık Düve\",\"ME (Mcal/kg KM)\",\"\"))","v":""},null,null,null,{"$f":"IF(AnimalType=\"Damızlık Düve\",DietME,\"\")","v":""}]
[null,{"$f":"IF(AnimalType=\"Sağmal İnek\",\"Laktasyon günü:\",\"\")","v":"Laktasyon günü:"},{"$f":"IF(AnimalType=\"Sağmal İnek\",DaysInMilk,\"\")","v":120},"NEl (Mcal/kg KM):",null,null,null,{"$f":"DietNEl","v":1.3772880273403774}]
[null,{"$f":"IF(AnimalType=\"Sağmal İnek\",\"Süt verimi (kg):\",\"\")","v":"Süt verimi (kg):"},{"$f":"IF(AnimalType=\"Sağmal İnek\",MilkProd,\"\")","v":25},"NEyp (Mcal/kg):",null,null,null,{"$f":"NEDietConc","v":1.3772880273403774}]
[null,{"$f":"IF(AnimalType=\"Sağmal İnek\",\"Süt yağı (%):\",\"\")","v":"Süt yağı (%):"},{"$f":"IF(AnimalType=\"Sağmal İnek\",MilkFat,\"\")","v":3.7},"NEb (Mcal/kg KM):",null,null,null,{"$f":"DietNEg","v":0.93911342650708396}]
[null,{"$f":"IF(AnimalType=\"Sağmal İnek\",\"Süt proteini (%):\",\"\")","v":"Süt proteini (%):"},{"$f":"IF(AnimalType=\"Sağmal İnek\",MilkTrueProtein,\"\")","v":3.1},"Ca (% KM):",null,null,null,{"$f":"Ca RD/10","v":0.58545147991700242}]
[null,{"$f":"IF(AnimalType=\"Sağmal İnek\",\"Laktoz (%):\",\"\")","v":"Laktoz (%):"},{"$f":"IF(AnimalType=\"Sağmal İnek\",Lactose,\"\")","v":4.8},"P (% KM):",null,null,null,{"$f":"P RD/10","v":0.30831695783457491}]
[null,{"$f":"IF(AnimalType=\"Sağmal İnek\",\"\",\"Otlama:\")","v":""},{"$f":"IF(AnimalType=\"Sağmal İnek\",\"\",Grazing)","v":""},"HY (% KM):",null,null,null,{"$f":"Fat_Total","v":0.56776954745161057},null,null,null,null,null,null,null,null,null,null,null,null,null,null,null,null,null,null,null,null,null,"Yemlerin ADI","Mısır Silajı, %29-33 KM"]
[null,null,null,"Katyon-anyon (mEQ/kg):",null,null,null,{"$f":"DCAD/1000","v":160.7261866958558},null,null,null,null,null,null,null,null,null,null,null,null,null,null,null,null,null,null,null,null,null,null,"Baklagil Kuru Otu"]
[null,"Yem Tüketimi ve Canlı Ağırlık Artışı Değerleri",null,"Rumende Yıkılabilir Protein ihtiyacı (g/gün):",null,null,null,{"$f":"RDPReq","v":2024},null,null,null,null,null,null,null,null,null,null,null,null,null,null,null,null,null,null,null,null,null,null,"Buğday Samanı"]
[null,"Kuru madde tüketimi (kg/gün):",{"$f":"TotalDMFed","v":21.138159154151602},"Rumende Yıkılabilir Protein sağlanan (g/gün):",null,null,null,{"$f":"RDPSup","v":2061.5872156285709},null,null,null,null,null,null,null,null,null,null,null,null,null,null,null,null,null,null,null,null,null,null,"Sığır Süt Yemi,21 HP, 2650 ME"]
[null,"Kuru madde ihtiyacı (kg/gün):",{"$f":"DryMatterIntake","v":21.160792246064069},"Rumende Yıkılabilir Protein dengesi (g/gün):",null,null,null,{"$f":"CONCATENATE(IF(RDPBal>=0,\"+\",\"\"),TEXT(RDPBal,0))","v":"+38"}]
[null,"Kuru madde tüketim oranı (% CA):",{"$f":"BW_DMI","v":3.2520244852540925},"By-pass Protein ihtiyacı (g/gün):",null,null,null,{"$f":"RUPReq","v":860.32999999999993}]
[null,{"$f":"IF(AnimalType=\"Damızlık Düve\",\"KM tüketimi / Yaşama payı KM tüketimi:\",\"\")","v":""},{"$f":"IF(AnimalType=\"Damızlık Düve\",DMI_to_DMIMaint,\"\")","v":""},"By-pass Protein sağlanan (g/gün):",null,null,null,{"$f":"RUPSup","v":890.40024723631313}]
[null,{"$f":"IF(AnimalType=\"Damızlık Düve\",\"Yem enerjisinin sağlayabileceği GCAA (g):\",\"\")","v":""},{"$f":"IF(AnimalType=\"Damızlık Düve\",IF(DaysPreg>0,MEAllowGainPreg,MEAllowGain)*1000,\"\")","v":""},"By-pass Protein dengesi (g/gün):",null,null,null,{"$f":"CONCATENATE(IF(RUPBal>=0,\"+\",\"\"),TEXT(RUPBal,0))","v":"+30"}]
[null,{"$f":"IF(AnimalType=\"Damızlık Düve\",\"Yem metabolik proteininin sağlayabileceği GCAA (g):\",\"\")","v":""},{"$f":"IF(AnimalType=\"Damızlık Düve\",IF(DaysPreg>0,MPAllowGainPreg,MPAllowGain)*1000,\"\")","v":""},"Rasyon By-pass Protein sindirilebilirliği (%):",null,null,null,{"$f":"DietRUPDigest*100","v":76.003508373879114}]
[null,{"$f":"IF(AnimalType=\"Damızlık Düve\",\"Düvenin durumuna uygun GCAA (g):\",\"\")","v":""},{"$f":"IF(AnimalType=\"Damızlık Düve\",IF(DaysPreg>0,TargetADGPreg,TargetADGwoPreg)*1000,\"\")","v":""},"MP (% KM):",null,null,null,{"$f":"((MPFeed*1000)+MPBact+MPEndo)/TotalDMFed/10","v":8.9790741432943317}]
[null,null,null,"HP (g/gün):",null,null,null,{"$f":"DietCP*TotalDMFed*1000","v":2951.987462864884}]
[null,null,null,"HP (% KM):",null,null,null,{"$f":"DietCP*100","v":13.965205963950291}]
[null,null,null,"Rumende Yıkılabilir Protein (% KM):",null,null,null,{"$f":"RDP_Total/TotalRegDMFed*100","v":9.7529174635988518}]
[null,null,null,"By-pass Protein (% KM):",null,null,null,{"$f":"RUP_Total/TotalRegDMFed*100","v":4.2122885003514448}]
[]
[null,"Rasyon besin maddesi dengesi",{"$f":"IF(AnimalType<>\"Damızlık Düve\",\"NEl(Mcal/gün)\",\"ME(Mcal/gün)\")","v":"NEl(Mcal/gün)"},"MP(g/gün)","Ca(g/gün)","P(g/gün)","K(g/gün)"]
[null,"Yaşama payı ihtiyacı",{"$f":"NEMaint","v":10.298524451722679},{"$f":"MPMaint","v":762.01771377001637},{"$f":"Ca Maint","v":20.669999999999998},{"$f":"P Maint","v":22.438159154151602},{"$f":"K Maint","v":153.64277084032474}]
[null,"Gebelik ihtiyacı",{"$f":"NEPreg","v":0},{"$f":"MPPreg","v":0},{"$f":"Ca Fetal","v":0},{"$f":"P Fetal","v":0},{"$f":"K Fetal","v":0}]
[null,"Laktasyon ihtiyacı",{"$f":"NELact","v":17.891583333333333},{"$f":"MPLact","v":1156.7164179104477},{"$f":"Ca Milk","v":30.5},{"$f":"P Milk","v":22.5},{"$f":"K Milk","v":37.5}]
[null,"Büyüme ihtiyacı",{"$f":"NEGrowth","v":0},{"$f":"MPGrowth","v":0},{"$f":"Ca Growth","v":0},{"$f":"P Growth","v":0},{"$f":"K Growth","v":0}]
[null,"Toplam ihtiyaç",{"$f":"C81+C82+C83+C84","v":28.190107785056014},{"$f":"D81+D82+D83+D84","v":1918.7341316804641},{"$f":"Ca Total","v":51.17},{"$f":"P Total","v":44.938159154151606},{"$f":"K Total","v":191.14277084032474}]
[null,"Rasyondan gelen",{"$f":"NEl_Total","v":29.113333523028398},{"$f":"(MPFeed * 1000)+MPBact+MPEndo","v":1898.0109829788305},{"$f":"Ca Absorbable","v":50.832836067684262},{"$f":"P Absorbable","v":44.661350144067278},{"$f":"K Absorbable","v":237.5213713054824}]
[null,"Denge",{"$f":"CONCATENATE(IF((C86-C85)>=0,\"+\",\"\"),TEXT((C86-C85),0))","v":"+1"},{"$f":"CONCATENATE(IF((D86-D85)>=0,\"+\",\"\"),TEXT((D86-D85),0))","v":"-21"},{"$f":"CONCATENATE(IF((E86-E85)>=0,\"+\",\"\"),TEXT((E86-E85),0))","v":"0"},{"$f":"CONCATENATE(IF((F86-F85)>=0,\"+\",\"\"),TEXT((F86-F85),0))","v":"0"},{"$f":"CONCATENATE(IF((G86-G85)>=0,\"+\",\"\"),TEXT((G86-G85),0))","v":"+46"}]
[null,"Not: Mineraller için emilebilir miktarlar verilmiştir."]
[]
[null,"Rasyon özeti","Yem","KM","KM","ME","NEl","HP","NDF"]
[null,"Yem maddesi","kg/gün","kg/gün","%","Mcal/gün","Mcal/gün","g/gün","kg/gün"]
[null,{"$f":"Süt!O41","v":0},{"$f":"Süt!P41","v":0},{"$f":"Süt!Q41","v":0},{"$f":"Süt!R41","v":0},{"$f":"Süt!S41","v":0},{"$f":"Süt!T41","v":0},{"$f":"Süt!U41","v":0},{"$f":"Süt!V41","v":0},null,null,null,null,null,null,null,null,null,null,null,null,null,null,null,null,null,null,null,null,"Yemlerin MİKTARI",25.181232149667256]
[null,{"$f":"Süt!O42","v":0},{"$f":"Süt!P42","v":0},{"$f":"Süt!Q42","v":0},{"$f":"Süt!R42","v":0},{"$f":"Süt!S42","v":0},{"$f":"Süt!T42","v":0},{"$f":"Süt!U42","v":0},{"$f":"Süt!V42","v":0},null,null,null,null,null,null,null,null,null,null,null,null,null,null,null,null,null,null,null,null,null,6]
[null,{"$f":"Süt!O43","v":0},{"$f":"Süt!P43","v":0},{"$f":"Süt!Q43","v":0},{"$f":"Süt!R43","v":0},{"$f":"Süt!S43","v":0},{"$f":"Süt!T43","v":0},{"$f":"Süt!U43","v":0},{"$f":"Süt!V43","v":0},null,null,null,null,null,null,null,null,null,null,null,null,null,null,null,null,null,null,null,null,null,2]
[null,{"$f":"Süt!O44","v":0},{"$f":"Süt!P44","v":0},{"$f":"Süt!Q44","v":0},{"$f":"Süt!R44","v":0},{"$f":"Süt!S44","v":0},{"$f":"Süt!T44","v":0},{"$f":"Süt!U44","v":0},{"$f":"Süt!V44","v":0},null,null,null,null,null,null,null,null,null,null,null,null,null,null,null,null,null,null,null,null,null,7]
[null,{"$f":"Süt!O45","v":0},{"$f":"Süt!P45","v":0},{"$f":"Süt!Q45","v":0},{"$f":"Süt!R45","v":0},{"$f":"Süt!S45","v":0},{"$f":"Süt!T45","v":0},{"$f":"Süt!U45","v":0},{"$f":"Süt!V45","v":0}]
[null,{"$f":"Süt!O46","v":0},{"$f":"Süt!P46","v":0},{"$f":"Süt!Q46","v":0},{"$f":"Süt!R46","v":0},{"$f":"Süt!S46","v":0},{"$f":"Süt!T46","v":0},{"$f":"Süt!U46","v":0},{"$f":"Süt!V46","v":0}]
[null,{"$f":"Süt!O47","v":0},{"$f":"Süt!P47","v":0},{"$f":"Süt!Q47","v":0},{"$f":"Süt!R47","v":0},{"$f":"Süt!S47","v":0},{"$f":"Süt!T47","v":0},{"$f":"Süt!U47","v":0},{"$f":"Süt!V47","v":0}]
[null,{"$f":"Süt!O48","v":0},{"$f":"Süt!P48","v":0},{"$f":"Süt!Q48","v":0},{"$f":"Süt!R48","v":0},{"$f":"Süt!S48","v":0},{"$f":"Süt!T48","v":0},{"$f":"Süt!U48","v":0},{"$f":"Süt!V48","v":0}]
[null,{"$f":"Süt!O49","v":0},{"$f":"Süt!P49","v":0},{"$f":"Süt!Q49","v":0},{"$f":"Süt!R49","v":0},{"$f":"Süt!S49","v":0},{"$f":"Süt!T49","v":0},{"$f":"Süt!U49","v":0},{"$f":"Süt!V49","v":0}]
[null,{"$f":"Süt!O50","v":0},{"$f":"Süt!P50","v":0},{"$f":"Süt!Q50","v":0},{"$f":"Süt!R50","v":0},{"$f":"Süt!S50","v":0},{"$f":"Süt!T50","v":0},{"$f":"Süt!U50","v":0},{"$f":"Süt!V50","v":0}]
[null,{"$f":"Süt!O51","v":0},{"$f":"Süt!P51","v":0},{"$f":"Süt!Q51","v":0},{"$f":"Süt!R51","v":0},{"$f":"Süt!S51","v":0},{"$f":"Süt!T51","v":0},{"$f":"Süt!U51","v":0},{"$f":"Süt!V51","v":0}]
[null,{"$f":"Süt!O52","v":0},{"$f":"Süt!P52","v":0},{"$f":"Süt!Q52","v":0},{"$f":"Süt!R52","v":0},{"$f":"Süt!S52","v":0},{"$f":"Süt!T52","v":0},{"$f":"Süt!U52","v":0},{"$f":"Süt!V52","v":0}]
[null,{"$f":"Süt!O53","v":0},{"$f":"Süt!P53","v":0},{"$f":"Süt!Q53","v":0},{"$f":"Süt!R53","v":0},{"$f":"Süt!S53","v":0},{"$f":"Süt!T53","v":0},{"$f":"Süt!U53","v":0},{"$f":"Süt!V53","v":0}]
[null,{"$f":"Süt!O54","v":0},{"$f":"Süt!P54","v":0},{"$f":"Süt!Q54","v":0},{"$f":"Süt!R54","v":0},{"$f":"Süt!S54","v":0},{"$f":"Süt!T54","v":0},{"$f":"Süt!U54","v":0},{"$f":"Süt!V54","v":0}]
[null,{"$f":"Süt!O55","v":0},{"$f":"Süt!P55","v":0},{"$f":"Süt!Q55","v":0},{"$f":"Süt!R55","v":0},{"$f":"Süt!S55","v":0},{"$f":"Süt!T55","v":0},{"$f":"Süt!U55","v":0},{"$f":"Süt!V55","v":0}]
[null,{"$f":"Süt!O56","v":0},{"$f":"Süt!P56","v":0},{"$f":"Süt!Q56","v":0},{"$f":"Süt!R56","v":0},{"$f":"Süt!S56","v":0},{"$f":"Süt!T56","v":0},{"$f":"Süt!U56","v":0},{"$f":"Süt!V56","v":0}]
[null,{"$f":"Süt!O57","v":0},{"$f":"Süt!P57","v":0},{"$f":"Süt!Q57","v":0},{"$f":"Süt!R57","v":0},{"$f":"Süt!S57","v":0},{"$f":"Süt!T57","v":0},{"$f":"Süt!U57","v":0},{"$f":"Süt!V57","v":0}]
[null,{"$f":"Süt!O58","v":0},{"$f":"Süt!P58","v":0},{"$f":"Süt!Q58","v":0},{"$f":"Süt!R58","v":0},{"$f":"Süt!S58","v":0},{"$f":"Süt!T58","v":0},{"$f":"Süt!U58","v":0},{"$f":"Süt!V58","v":0}]
[null,{"$f":"Süt!O59","v":0},{"$f":"Süt!P59","v":0},{"$f":"Süt!Q59","v":0},{"$f":"Süt!R59","v":0},{"$f":"Süt!S59","v":0},{"$f":"Süt!T59","v":0},{"$f":"Süt!U59","v":0},{"$f":"Süt!V59","v":0}]
[null,{"$f":"Süt!O60","v":0},{"$f":"Süt!P60","v":0},{"$f":"Süt!Q60","v":0},{"$f":"Süt!R60","v":0},{"$f":"Süt!S60","v":0},{"$f":"Süt!T60","v":0},{"$f":"Süt!U60","v":0},{"$f":"Süt!V60","v":0}]
[null,{"$f":"Süt!O61","v":0},{"$f":"Süt!P61","v":0},{"$f":"Süt!Q61","v":0},{"$f":"Süt!R61","v":0},{"$f":"Süt!S61","v":0},{"$f":"Süt!T61","v":0},{"$f":"Süt!U61","v":0},{"$f":"Süt!V61","v":0}]
[null,{"$f":"Süt!O62","v":0},{"$f":"Süt!P62","v":0},{"$f":"Süt!Q62","v":0},{"$f":"Süt!R62","v":0},{"$f":"Süt!S62","v":0},{"$f":"Süt!T62","v":0},{"$f":"Süt!U62","v":0},{"$f":"Süt!V62","v":0}]
[null,{"$f":"Süt!O63","v":0},{"$f":"Süt!P63","v":0},{"$f":"Süt!Q63","v":0},{"$f":"Süt!R63","v":0},{"$f":"Süt!S63","v":0},{"$f":"Süt!T63","v":0},{"$f":"Süt!U63","v":0},{"$f":"Süt!V63","v":0}]
[null,{"$f":"Süt!O64","v":0},{"$f":"Süt!P64","v":0},{"$f":"Süt!Q64","v":0},{"$f":"Süt!R64","v":0},{"$f":"Süt!S64","v":0},{"$f":"Süt!T64","v":0},{"$f":"Süt!U64","v":0},{"$f":"Süt!V64","v":0}]
[null,{"$f":"Süt!O65","v":0},{"$f":"Süt!P65","v":0},{"$f":"Süt!Q65","v":0},{"$f":"Süt!R65","v":0},{"$f":"Süt!S65","v":0},{"$f":"Süt!T65","v":0},{"$f":"Süt!U65","v":0},{"$f":"Süt!V65","v":0}]
[null,{"$f":"Süt!O66","v":0},{"$f":"Süt!P66","v":0},{"$f":"Süt!Q66","v":0},{"$f":"Süt!R66","v":0},{"$f":"Süt!S66","v":0},{"$f":"Süt!T66","v":0},{"$f":"Süt!U66","v":0},{"$f":"Süt!V66","v":0}]
[null,{"$f":"Süt!O67","v":0},{"$f":"Süt!P67","v":0},{"$f":"Süt!Q67","v":0},{"$f":"Süt!R67","v":0},{"$f":"Süt!S67","v":0},{"$f":"Süt!T67","v":0},{"$f":"Süt!U67","v":0},{"$f":"Süt!V67","v":0}]
[null,{"$f":"Süt!O68","v":0},{"$f":"Süt!P68","v":0},{"$f":"Süt!Q68","v":0},{"$f":"Süt!R68","v":0},{"$f":"Süt!S68","v":0},{"$f":"Süt!T68","v":0},{"$f":"Süt!U68","v":0},{"$f":"Süt!V68","v":0},null,null,null,null,null,null,null,null,null,null,null,null,null,null,null,null,null,null,null,null,"Fiyat",2.5]
[null,{"$f":"Süt!B194","v":"RASYONUN MİNERAL ve VİTAMİN DURUMU"},null,null,null,null,null,null,null,null,null,null,null,null,null,null,null,null,null,null,null,null,null,null,null,null,null,null,null,null,6]
[null,{"$f":"Süt!B195","v":"Makro mineraller"},{"$f":"Süt!C195","v":"Ca"},{"$f":"Süt!D195","v":"P"},{"$f":"Süt!E195","v":"Mg"},{"$f":"Süt!F195","v":"Cl"},{"$f":"Süt!G195","v":"K"},{"$f":"Süt!H195","v":"Na"},{"$f":"Süt!I195","v":"S"},null,null,null,null,null,null,null,null,null,null,null,null,null,null,null,null,null,null,null,null,null,1.5]
[null,{"$f":"Süt!B196","v":"Emilebilir ihtiyaç (g/gün)"},{"$f":"Süt!C196","v":51.17},{"$f":"Süt!D196","v":44.938159154151606},{"$f":"Süt!E196","v":5.7},{"$f":"Süt!F196","v":43.375},{"$f":"Süt!G196","v":191.14277084032474},{"$f":"Süt!H196","v":40.450000000000003},{"$f":"Süt!I196","v":42.276318308303203},null,null,null,null,null,null,null,null,null,null,null,null,null,null,null,null,null,null,null,null,null,12]
[null,{"$f":"Süt!B197","v":"Rasyondan gelen (g/gün)"},{"$f":"Süt!C197","v":123.75366559519188},{"$f":"Süt!D197","v":65.17252924631093},{"$f":"Süt!E197","v":42.685369418966765},{"$f":"Süt!F197","v":92.2073372711845},{"$f":"Süt!G197","v":263.91263478386935},{"$f":"Süt!H197","v":44.951016704128492},{"$f":"Süt!I197","v":43.490866208851898}]
[null,{"$f":"Süt!B198","v":"Rasyondan gelen emilebilir miktar (g/gün)"},{"$f":"Süt!C198","v":50.832836067684262},{"$f":"Süt!D198","v":44.661350144067278},{"$f":"Süt!E198","v":6.8296591070346837},{"$f":"Süt!F198","v":82.986603544066057},{"$f":"Süt!G198","v":237.5213713054824},{"$f":"Süt!H198","v":40.455915033715634},{"$f":"Süt!I198","v":43.490866208851898}]
[null,{"$f":"Süt!B199","v":"Denge (g/gün)"},{"$f":"Süt!C199","v":"-0,34"},{"$f":"Süt!D199","v":"-0,28"},{"$f":"Süt!E199","v":"+1,13"},{"$f":"Süt!F199","v":"+39,61"},{"$f":"Süt!G199","v":"+46,38"},{"$f":"Süt!H199","v":"+0,01"},{"$f":"Süt!I199","v":"+1,21"}]
[null,{"$f":"Süt!B200","v":"Rasyondaki oran (% KM)"},{"$f":"Süt!C200","v":0.58545147991700242},{"$f":"Süt!D200","v":0.30831695783457491},{"$f":"Süt!E200","v":0.20193513118943102},{"$f":"Süt!F200","v":0.43621271180122934},{"$f":"Süt!G200","v":1.2485128570528152},{"$f":"Süt!H200","v":0.21265341213641098},{"$f":"Süt!I200","v":0.2057457600337452}]
[null,{"$f":"Süt!B201","v":"Mikro mineraller"},{"$f":"Süt!C201","v":"Co"},{"$f":"Süt!D201","v":"Cu"},{"$f":"Süt!E201","v":"I"},{"$f":"Süt!F201","v":"Fe"},{"$f":"Süt!G201","v":"Mn"},{"$f":"Süt!H201","v":"Se"},{"$f":"Süt!I201","v":"Zn"}]
[null,{"$f":"Süt!B202","v":"Emilebilir ihtiyaç (mg/gün)"},{"$f":"Süt!C202","v":2.3251975069566764},{"$f":"Süt!D202","v":8.8650000000000002},{"$f":"Süt!E202","v":9.75},{"$f":"Süt!F202","v":25},{"$f":"Süt!G202","v":1.3},{"$f":"Süt!H202","v":6.3414477462454801},{"$f":"Süt!I202","v":129.25}]
[null,{"$f":"Süt!B203","v":"Rasyondan gelen (mg/gün)"},{"$f":"Süt!C203","v":6.061947},{"$f":"Süt!D203","v":375.81214996892351},{"$f":"Süt!E203","v":16.830556999999999},{"$f":"Süt!F203","v":3556.5462155099831},{"$f":"Süt!G203","v":1750.7478615312052},{"$f":"Süt!H203","v":7.6554738707108685},{"$f":"Süt!I203","v":1627.0119301490552}]
[null,{"$f":"Süt!B204","v":"Rasyondan gelen emilebilir miktar (mg/gün)"},{"$f":"Süt!C204","v":6.061947},{"$f":"Süt!D204","v":15.03248599875694},{"$f":"Süt!E204","v":14.30597345},{"$f":"Süt!F204","v":355.65462155099829},{"$f":"Süt!G204","v":17.507478615312053},{"$f":"Süt!H204","v":7.6554738707108685},{"$f":"Süt!I204","v":244.05178952235826}]
[null,{"$f":"Süt!B205","v":"Denge (mg/gün)"},{"$f":"Süt!C205","v":"+3,74"},{"$f":"Süt!D205","v":"+6,17"},{"$f":"Süt!E205","v":"+4,56"},{"$f":"Süt!F205","v":"+330,65"},{"$f":"Süt!G205","v":"+16,21"},{"$f":"Süt!H205","v":"+1,31"},{"$f":"Süt!I205","v":"+114,80"}]
[null,{"$f":"Süt!B206","v":"Rasyondaki miktar (mg/kg)"},{"$f":"Süt!C206","v":0.28677743202673417},{"$f":"Süt!D206","v":17.778849483925509},{"$f":"Süt!E206","v":0.79621677920304734},{"$f":"Süt!F206","v":168.25240975685747},{"$f":"Süt!G206","v":82.824045782026047},{"$f":"Süt!H206","v":0.36216369717356911},{"$f":"Süt!I206","v":76.970369949622835}]
[null,{"$f":"Süt!B207","v":"Vitaminler"},{"$f":"Süt!C207","v":"VitA"},{"$f":"Süt!D207","v":"VitD"},{"$f":"Süt!E207","v":"VitE"}]
[null,{"$f":"Süt!B208","v":"Emilebilir ihtiyaç (IU/gün)"},{"$f":"Süt!C208","v":71500},{"$f":"Süt!D208","v":19500},{"$f":"Süt!E208","v":520}]
[null,{"$f":"Süt!B209","v":"Rasyondan gelen (IU/gün)"},{"$f":"Süt!C209","v":423305.77},{"$f":"Süt!D209","v":66388.900000000009},{"$f":"Süt!E209","v":600}]
[null,{"$f":"Süt!B210","v":"Rasyondan gelen emilebilir miktar (IU/gün)"},{"$f":"Süt!C210","v":423305.77},{"$f":"Süt!D210","v":66388.900000000009},{"$f":"Süt!E210","v":600}]
[null,{"$f":"Süt!B211","v":"Denge (IU/gün)"},{"$f":"Süt!C211","v":"+351806"},{"$f":"Süt!D211","v":"+46889"},{"$f":"Süt!E211","v":"+80"}]
[null,{"$f":"Süt!B212","v":"Rasyondaki miktar (IU/kg)"},{"$f":"Süt!C212","v":20025.668598339671},{"$f":"Süt!D212","v":3140.7134138717565},{"$f":"Süt!E212","v":28.38468551705261}]
[null,{"$f":"Süt!B213","v":0},{"$f":"Süt!C213","v":0},{"$f":"Süt!D213","v":0},{"$f":"Süt!E213","v":0}]
[null,{"$f":"Süt!B214","v":"Duodenal amino asit "},{"$f":"Süt!C214","v":"Akış(g/gün)"},{"$f":"Süt!D214","v":"Sind.AA akışı(g/gün)"},{"$f":"Süt!E214","v":"MP'deki oranı(%)"}]
[null,{"$f":"Süt!B215","v":"Arjinin"},{"$f":"Süt!C215","v":159.52283689682852},{"$f":"Süt!D215","v":127.33779363960964},{"$f":"Süt!E215","v":6.7090124757739567}]
[null,{"$f":"Süt!B216","v":"Histidin"},{"$f":"Süt!C216","v":69.45584558403992},{"$f":"Süt!D216","v":55.239960476607322},{"$f":"Süt!E216","v":2.9104131099342245}]
[null,{"$f":"Süt!B217","v":"İzolöysin"},{"$f":"Süt!C217","v":126.74933294419552},{"$f":"Süt!D217","v":100.39258105900939},{"$f":"Süt!E217","v":5.289357224974979}]
[null,{"$f":"Süt!B218","v":"Löysin"},{"$f":"Süt!C218","v":241.0107526380734},{"$f":"Süt!D218","v":190.55530171331679},{"$f":"Süt!E218","v":10.03973651481458}]
[null,{"$f":"Süt!B219","v":"Lizin"},{"$f":"Süt!C219","v":148.47072638952201},{"$f":"Süt!D219","v":117.98660007739788},{"$f":"Süt!E219","v":6.2163286269410296}]
[null,{"$f":"Süt!B220","v":"Metiyonin"},{"$f":"Süt!C220","v":48.986927278064925},{"$f":"Süt!D220","v":38.706009969468354},{"$f":"Süt!E220","v":2.0392932557598411},null,null,null,null,null,null,null,null,null,null,null,null,null,null,null,null,null,null,null,null,null,null,null,null,"En az",0]
[null,{"$f":"Süt!B221","v":"Sistin"},{"$f":"Süt!C221","v":0},{"$f":"Süt!D221","v":0},{"$f":"Süt!E221","v":0},null,null,null,null,null,null,null,null,null,null,null,null,null,null,null,null,null,null,null,null,null,null,null,null,null,1]
[null,{"$f":"Süt!B222","v":"Fenilalanin"},{"$f":"Süt!C222","v":149.87243440583521},{"$f":"Süt!D222","v":118.83394312320961},{"$f":"Süt!E222","v":6.2609723646965332},null,null,null,null,null,null,null,null,null,null,null,null,null,null,null,null,null,null,null,null,null,null,null,null,null,0]
[null,{"$f":"Süt!B223","v":"Treonin"},{"$f":"Süt!C223","v":123.80144334838651},{"$f":"Süt!D223","v":97.798139618227538},{"$f":"Süt!E223","v":5.1526645786178955},null,null,null,null,null,null,null,null,null,null,null,null,null,null,null,null,null,null,null,null,null,null,null,null,null,0]
[null,{"$f":"Süt!B224","v":"Triptofan"},{"$f":"Süt!C224","v":0},{"$f":"Süt!D224","v":0},{"$f":"Süt!E224","v":0}]
[null,{"$f":"Süt!B225","v":"Valin"},{"$f":"Süt!C225","v":180.38398120473099},{"$f":"Süt!D225","v":143.58553465237148},{"$f":"Süt!E225","v":7.5650528864180426}]
[null,{"$f":"Süt!B226","v":"ToplamEAA (g/gün):"},{"$f":"Süt!C226","v":1099.1616447149256}]
[]
[null,{"$f":"Süt!B228","v":"Sıcaklık stresi faktörleri hesaplamaları:"}]
[null,{"$f":"Süt!B229","v":"Bazal metabolizma (Mcal/gün/CA0,75):"},{"$f":"Süt!C229","v":0.08},{"$f":"Süt!D229","v":"NEyp-Rasyon (Mcal/kg KM):"},{"$f":"Süt!E229","v":0},{"$f":"Süt!F229","v":0},{"$f":"Süt!G229","v":1.3772880273403774}]
[null,{"$f":"Süt!B230","v":"Yüzey alanı (m2):"},{"$f":"Süt!C230","v":6.7145387502739053},{"$f":"Süt!D230","v":"Yaşama payı KM ihtiyacı (kg/gün):"},{"$f":"Süt!E230","v":0},{"$f":"Süt!F230","v":0},{"$f":"Süt!G230","v":7.4773934335359931}]
[null,{"$f":"Süt!B231","v":"Isı üretimi (Mcal/m2/gün):"},{"$f":"Süt!C231","v":5.8381012632163714},{"$f":"Süt!D231","v":"Yaşama payı ME ihtiyacı (Mcal/gün):"},{"$f":"Süt!E231","v":0},{"$f":"Süt!F231","v":0},{"$f":"Süt!G231","v":0}]
[null,{"$f":"Süt!B232","v":"Doku izolasyonu (Mcal/m2/°C/gün):"},{"$f":"Süt!C232","v":9}]
[null,{"$f":"Süt!B233","v":"Dış izolasyon (Mcal/m2/°C/gün):"},{"$f":"Süt!C233","v":6.1529600000000011},{"$f":"Süt!D233","v":"Yaşama payı MP ihtiyacı:"},{"$f":"Süt!E233","v":0},{"$f":"Süt!F233","v":0},{"$f":"Süt!G233","v":762.01771377001637}]
[null,{"$f":"Süt!B234","v":"Toplam izolasyon (Mcal/m2/°C/gün):"},{"$f":"Süt!C234","v":15.15296},{"$f":"Süt!D234","v":"Deri döküntüleri ihtiyacı (g/gün):"},{"$f":"Süt!E234","v":0},{"$f":"Süt!F234","v":0},{"$f":"Süt!G234","v":14.617370962252203}]
[null,{"$f":"Süt!B235","v":"Alt kritik sıcaklık (°C):"},{"$f":"Süt!C235","v":-36.194837679847069},{"$f":"Süt!D235","v":"Üriner ihtiyaç (g/gün):"},{"$f":"Süt!E235","v":0},{"$f":"Süt!F235","v":0},{"$f":"Süt!G235","v":104.52990002865208}]
[null,{"$f":"Süt!B236","v":"Soğuk stresinde ME ihtiyacı (Mcal/gün):"},{"$f":"Süt!C236","v":0},{"$f":"Süt!D236","v":"Metabolik fekal ihtiyaç (g/gün):"},{"$f":"Süt!E236","v":0},{"$f":"Süt!F236","v":0},{"$f":"Süt!G236","v":493.95684396180525}]
[null,{"$f":"Süt!B237","v":"Sıcak stresi ayarlama faktörü:"},{"$f":"Süt!C237","v":1},{"$f":"Süt!D237","v":"Endojen ihtiyaç (g/gün):"},{"$f":"Süt!E237","v":0},{"$f":"Süt!F237","v":0},{"$f":"Süt!G237","v":99.772111207595572}]
[null,{"$f":"Süt!B238","v":"Sıcaklık stresi (-) NEyp ihtiyacı (Mcal/gün):"},{"$f":"Süt!C238","v":10.298524451722679},{"$f":"Süt!D238","v":"Sıcaklık stresi (+) NEyp ihtiyacı (Mcal/gün):"},{"$f":"Süt!E238","v":0},{"$f":"Süt!F238","v":0},{"$f":"Süt!G238","v":10.298524451722679}]
[]
[null,{"$f":"Süt!B240","v":"Büyüme ihtiyaçları"},null,{"$f":"Süt!D240","v":"Laktasyon ihtiyaçlarının hesaplanması"},{"$f":"Süt!E240","v":0},{"$f":"Süt!F240","v":0}]
[null,{"$f":"Süt!B241","v":""},{"$f":"Süt!C241","v":""},{"$f":"Süt!D241","v":"Süt yağı verimi (kg/gün):"},{"$f":"Süt!E241","v":0},{"$f":"Süt!F241","v":0},{"$f":"Süt!G241","v":0.92500000000000016}]
[null,{"$f":"Süt!B242","v":""},{"$f":"Süt!C242","v":""},{"$f":"Süt!D242","v":"Sütün enerji içeriği (Mcal NEl/kg):"},{"$f":"Süt!E242","v":0},{"$f":"Süt!F242","v":0},{"$f":"Süt!G242","v":0.71566333333333332}]
[null,{"$f":"Süt!B243","v":""},{"$f":"Süt!C243","v":""},{"$f":"Süt!D243","v":"Yağı düzeltilmiş süt verimi (kg/gün):"},{"$f":"Süt!E243","v":0},{"$f":"Süt!F243","v":0},{"$f":"Süt!G243","v":23.875}]
[null,{"$f":"Süt!B244","v":""},{"$f":"Süt!C244","v":""},{"$f":"Süt!D244","v":"Yem enerjisinin sağlayabileceği süt (kg/gün):"},{"$f":"Süt!E244","v":0},{"$f":"Süt!F244","v":0},{"$f":"Süt!G244","v":26.290027999160294}]
[null,{"$f":"Süt!B245","v":"Büyüme için net protein ihtiyacı (g/gün):"},{"$f":"Süt!C245","v":0},{"$f":"Süt!D245","v":"Laktasyon için NE ihtiyacı (Mcal/gün):"},{"$f":"Süt!E245","v":0},{"$f":"Süt!F245","v":0},{"$f":"Süt!G245","v":17.891583333333333}]
[null,{"$f":"Süt!B246","v":"Büyüme için MP ihtiyacı (g/gün):"},{"$f":"Süt!C246","v":0},{"$f":"Süt!D246","v":"Süt proteini verimi (kg/gün):"},{"$f":"Süt!E246","v":0},{"$f":"Süt!F246","v":0},{"$f":"Süt!G246","v":0.77500000000000002}]
[null,{"$f":"Süt!B247","v":"Yaşama payı+büyüme MP ihtiyacı (g):"},{"$f":"Süt!C247","v":762.01771377001637},{"$f":"Süt!D247","v":"Laktasyon için MP ihtiyacı (g/gün):"},{"$f":"Süt!E247","v":0},{"$f":"Süt!F247","v":0},{"$f":"Süt!G247","v":1156.7164179104477},null,null,null,null,null,null,null,null,null,null,null,null,null,null,null,null,null,null,null,null,null,null,"En çok",30]
[null,{"$f":"Süt!B248","v":""},{"$f":"Süt!C248","v":""},{"$f":"Süt!D248","v":"Yem proteininin sağlayabileceği süt (kg/gün):"},{"$f":"Süt!E248","v":0},{"$f":"Süt!F248","v":0},{"$f":"Süt!G248","v":24.552112592577597},null,null,null,null,null,null,null,null,null,null,null,null,null,null,null,null,null,null,null,null,null,null,null,7]
[null,{"$f":"Süt!B249","v":"Büyüme için NE ihtiyacı (Mcal/gün):"},{"$f":"Süt!C249","v":0},null,null,null,null,null,null,null,null,null,null,null,null,null,null,null,null,null,null,null,null,null,null,null,null,null,null,null,7]
[null,null,null,null,null,null,null,null,null,null,null,null,null,null,null,null,null,null,null,null,null,null,null,null,null,null,null,null,null,null,15]
[null,{"$f":"Süt!B251","v":"Gebelik ihtiyaçları"},null,{"$f":"Süt!D251","v":"Kondüsyon skoru ve enerji"},{"$f":"Süt!E251","v":0},{"$f":"Süt!F251","v":0}]
[null,{"$f":"Süt!B252","v":"Gebelik için KM ihtiyacı (kg/gün):"},{"$f":"Süt!C252","v":0},{"$f":"Süt!D252","v":"1 KS kaybından gelen enerji (Mcal):"},{"$f":"Süt!E252","v":0},{"$f":"Süt!F252","v":0},{"$f":"Süt!G252","v":487.17947575614107}]
[null,{"$f":"Süt!B253","v":"Gebelikte ortalama GCAA (g/gün):"},{"$f":"Süt!C253","v":0},{"$f":"Süt!D253","v":"1 KS kazanmak için gerekli enerji (Mcal):"},{"$f":"Süt!E253","v":0},{"$f":"Süt!F253","v":0},{"$f":"Süt!G253","v":579.47552252285914}]
[null,{"$f":"Süt!B254","v":"Fötüs ve doku ağırlığı (kg):"},{"$f":"Süt!C254","v":0},{"$f":"Süt!D254","v":"1 KS kaybının rasyon NEl değeri (Mcal):"},{"$f":"Süt!E254","v":0},{"$f":"Süt!F254","v":0},{"$f":"Süt!G254","v":399.48717012003567}]
[null,{"$f":"Süt!B255","v":"Gebelik için ME ihtiyacı (Mcal/gün):"},{"$f":"Süt!C255","v":0},{"$f":"Süt!D255","v":"1 KS kazanmak için rasyonda gerekli NEl (Mcal):"},{"$f":"Süt!E255","v":0},{"$f":"Süt!F255","v":0},{"$f":"Süt!G255","v":497.57631533962837}]
[null,{"$f":"Süt!B256","v":"Gebelik için NE ihtiyacı (Mcal/gün):"},{"$f":"Süt!C256","v":0},{"$f":"Süt!D256","v":"1 KS kazanmak için gün sayısı:"},{"$f":"Süt!E256","v":0},{"$f":"Süt!F256","v":0},{"$f":"Süt!G256","v":538.95412018345621}]
[null,{"$f":"Süt!B257","v":"Gebelik için MP ihtiyacı (g/gün):"},{"$f":"Süt!C257","v":0}]
[]
[null,{"$f":"Süt!B259","v":"KS'na göre vücut rezervleri değişiklikleri"},{"$f":"Süt!C259","v":0},{"$f":"Süt!D259","v":"Yağ"},{"$f":"Süt!E259","v":"Protein"},{"$f":"Süt!F259","v":"Vücut enerjisi"}]
[null,{"$f":"Süt!B260","v":"Kondisyon skoru"},{"$f":"Süt!C260","v":"Ağırlık faktörü"},{"$f":"Süt!D260","v":"(kg)"},{"$f":"Süt!E260","v":"(kg)"},{"$f":"Süt!F260","v":"(Mcal)"}]
[null,{"$f":"Süt!B261","v":1},{"$f":"Süt!C261","v":0.72599999999999998},{"$f":"Süt!D261","v":14.527679186592},{"$f":"Süt!E261","v":74.872427070355201},{"$f":"Süt!F261","v":552.10215459443612}]
[null,{"$f":"Süt!B262","v":2},{"$f":"Süt!C262","v":0.86299999999999999},{"$f":"Süt!D262","v":51.807384867888004},{"$f":"Süt!E262","v":82.882192040668798},{"$f":"Süt!F262","v":946.98558358385912}]
[null,{"$f":"Süt!B263","v":3},{"$f":"Süt!C263","v":1},{"$f":"Süt!D263","v":100.05288696},{"$f":"Süt!E263","v":88.949175120000007},{"$f":"Süt!F263","v":1434.16505934}]
[null,{"$f":"Süt!B264","v":4},{"$f":"Süt!C264","v":1.137},{"$f":"Süt!D264","v":159.26418546292797},{"$f":"Süt!E264","v":93.073376308348799},{"$f":"Süt!F264","v":2013.6405818628587}]
[null,{"$f":"Süt!B265","v":5},{"$f":"Süt!C265","v":1.274},{"$f":"Süt!D265","v":229.44128037667204},{"$f":"Süt!E265","v":95.254795605715216},{"$f":"Süt!F265","v":2685.4121511524368}]
[]
[]
[null,"RASYONUN MİNERAL ve VİTAMİN DURUMU"]
[null,"Makro mineraller","Ca","P","Mg","Cl","K","Na","S"]
[null,"Emilebilir ihtiyaç (g/gün)",{"$f":"Ca Total","v":51.17},{"$f":"P Total","v":44.938159154151606},{"$f":"Mg Total","v":5.7},{"$f":"Cl Total","v":43.375},{"$f":"K Total","v":191.14277084032474},{"$f":"Na Total","v":40.450000000000003},{"$f":"S Total","v":42.276318308303203}]
[null,"Rasyondan gelen (g/gün)",{"$f":"Ca Supplied","v":123.75366559519188},{"$f":"P Supplied","v":65.17252924631093},{"$f":"Mg Supplied","v":42.685369418966765},{"$f":"Cl Supplied","v":92.2073372711845},{"$f":"K Supplied","v":263.91263478386935},{"$f":"Na Supplied","v":44.951016704128492},{"$f":"S Supplied","v":43.490866208851898}]
[null,"Rasyondan gelen emilebilir miktar (g/gün)",{"$f":"Ca Absorbable","v":50.832836067684262},{"$f":"P Absorbable","v":44.661350144067278},{"$f":"Mg Absorbable","v":6.8296591070346837},{"$f":"Cl Absorbable","v":82.986603544066057},{"$f":"K Absorbable","v":237.5213713054824},{"$f":"Na Absorbable","v":40.455915033715634},{"$f":"S Absorbable","v":43.490866208851898}]
[null,"Denge (g/gün)",{"$f":"CONCATENATE(IF(Ca Balance>=0,\"+\",\"\"),TEXT(Ca Balance,\"0,00\"))","v":"-0,34"},{"$f":"CONCATENATE(IF(P Balance>=0,\"+\",\"\"),TEXT(P Balance,\"0,00\"))","v":"-0,28"},{"$f":"CONCATENATE(IF(Mg Balance>=0,\"+\",\"\"),TEXT(Mg Balance,\"0,00\"))","v":"+1,13"},{"$f":"CONCATENATE(IF(Cl Balance>=0,\"+\",\"\"),TEXT(Cl Balance,\"0,00\"))","v":"+39,61"},{"$f":"CONCATENATE(IF(K Balance>=0,\"+\",\"\"),TEXT(K Balance,\"0,00\"))","v":"+46,38"},{"$f":"CONCATENATE(IF(Na Balance>=0,\"+\",\"\"),TEXT(Na Balance,\"0,00\"))","v":"+0,01"},{"$f":"CONCATENATE(IF(S Balance>=0,\"+\",\"\"),TEXT(S Balance,\"0,00\"))","v":"+1,21"}]
[null,"Rasyondaki oran (% KM)",{"$f":"Ca RD/10","v":0.58545147991700242},{"$f":"P RD/10","v":0.30831695783457491},{"$f":"Mg RD/10","v":0.20193513118943102},{"$f":"Cl RD/10","v":0.43621271180122934},{"$f":"K RD/10","v":1.2485128570528152},{"$f":"Na RD/10","v":0.21265341213641098},{"$f":"S RD/10","v":0.2057457600337452}]
[null,"Mikro mineraller","Co","Cu","I","Fe","Mn","Se","Zn",null,null,null,null,null,null,null,null,null,null,null,null,null,null,null,null,null,null,"AE",null,"Yem1"]
[null,"Emilebilir ihtiyaç (mg/gün)",{"$f":"Co Total","v":2.3251975069566764},{"$f":"Cu Total","v":8.8650000000000002},{"$f":"I Total","v":9.75},{"$f":"Fe Total","v":25},{"$f":"Mn Total","v":1.3},{"$f":"Se Total","v":6.3414477462454801},{"$f":"Zn Total","v":129.25},null,null,null,null,null,null,null,null,null,null,null,null,null,null,null,null,null,null,"AF",null,"Yem2"]
[null,"Rasyondan gelen (mg/gün)",{"$f":"Co Supplied","v":6.061947},{"$f":"Cu Supplied","v":375.81214996892351},{"$f":"I Supplied","v":16.830556999999999},{"$f":"Fe Supplied","v":3556.5462155099831},{"$f":"Mn Supplied","v":1750.7478615312052},{"$f":"Se Supplied","v":7.6554738707108685},{"$f":"Zn Supplied","v":1627.0119301490552},null,null,null,null,null,null,null,null,null,null,null,null,null,null,null,null,null,null,"AG",null,"Yem3"]
[null,"Rasyondan gelen emilebilir miktar (mg/gün)",{"$f":"Co Absorbable","v":6.061947},{"$f":"Cu Absorbable","v":15.03248599875694},{"$f":"I Absorbable","v":14.30597345},{"$f":"Fe Absorbable","v":355.65462155099829},{"$f":"Mn Absorbable","v":17.507478615312053},{"$f":"Se Absorbable","v":7.6554738707108685},{"$f":"Zn Absorbable","v":244.05178952235826},null,null,null,null,null,null,null,null,null,null,null,null,null,null,null,null,null,null,"AH",null,"Yem4"]
[null,"Denge (mg/gün)",{"$f":"CONCATENATE(IF(Co Balance>=0,\"+\",\"\"),TEXT(Co Balance,\"0,00\"))","v":"+3,74"},{"$f":"CONCATENATE(IF(Cu Balance>=0,\"+\",\"\"),TEXT(Cu Balance,\"0,00\"))","v":"+6,17"},{"$f":"CONCATENATE(IF(I Balance>=0,\"+\",\"\"),TEXT(I Balance,\"0,00\"))","v":"+4,56"},{"$f":"CONCATENATE(IF(Fe Balance>=0,\"+\",\"\"),TEXT(Fe Balance,\"0,00\"))","v":"+330,65"},{"$f":"CONCATENATE(IF(Mn Balance>=0,\"+\",\"\"),TEXT(Mn Balance,\"0,00\"))","v":"+16,21"},{"$f":"CONCATENATE(IF(Se Balance>=0,\"+\",\"\"),TEXT(Se Balance,\"0,00\"))","v":"+1,31"},{"$f":"CONCATENATE(IF(Zn Balance>=0,\"+\",\"\"),TEXT(Zn Balance,\"0,00\"))","v":"+114,80"},null,null,null,null,null,null,null,null,null,null,null,null,null,null,null,null,null,null,"AI",null,"Yem5"]
[null,"Rasyondaki miktar (mg/kg)",{"$f":"Co RD","v":0.28677743202673417},{"$f":"Cu RD","v":17.778849483925509},{"$f":"I RD","v":0.79621677920304734},{"$f":"Fe RD","v":168.25240975685747},{"$f":"Mn RD","v":82.824045782026047},{"$f":"Se RD","v":0.36216369717356911},{"$f":"Zn RD","v":76.970369949622835},null,null,null,null,null,null,null,null,null,null,null,null,null,null,null,null,null,null,"AJ",null,"Yem6"]
[null,"Vitaminler","VitA","VitD","VitE",null,null,null,null,null,null,null,null,null,null,null,null,null,null,null,null,null,null,null,null,null,null,"AK",null,"Yem7"]
[null,"Emilebilir ihtiyaç (IU/gün)",{"$f":"VitA Total*1000","v":71500},{"$f":"VitD Total*1000","v":19500},{"$f":"VitE Total","v":520},null,null,null,null,null,null,null,null,null,null,null,null,null,null,null,null,null,null,null,null,null,null,"AL",null,"Yem8"]
[null,"Rasyondan gelen (IU/gün)",{"$f":"VitA Supplied*1000","v":423305.77},{"$f":"VitD Supplied*1000","v":66388.900000000009},{"$f":"VitE Supplied","v":600},null,null,null,null,null,null,null,null,null,null,null,null,null,null,null,null,null,null,null,null,null,null,"AM",null,"Yem9"]
[null,"Rasyondan gelen emilebilir miktar (IU/gün)",{"$f":"VitA Absorbable*1000","v":423305.77},{"$f":"VitD Absorbable*1000","v":66388.900000000009},{"$f":"VitE Absorbable","v":600},null,null,null,null,null,null,null,null,null,null,null,null,null,null,null,null,null,null,null,null,null,null,"AN",null,"Yem10"]
[null,"Denge (IU/gün)",{"$f":"CONCATENATE(IF(VitA Balance*1000>=0,\"+\",\"\"),TEXT(VitA Balance*1000,\"0\"))","v":"+351806"},{"$f":"CONCATENATE(IF(VitD Balance*1000>=0,\"+\",\"\"),TEXT(VitD Balance*1000,\"0\"))","v":"+46889"},{"$f":"CONCATENATE(IF(VitE Balance>=0,\"+\",\"\"),TEXT(VitE Balance,\"0\"))","v":"+80"},null,null,null,null,null,null,null,null,null,null,null,null,null,null,null,null,null,null,null,null,null,null,"AO",null,"Yem11"]
[null,"Rasyondaki miktar (IU/kg)",{"$f":"VitA RD*1000","v":20025.668598339671},{"$f":"VitD RD*1000","v":3140.7134138717565},{"$f":"VitE RD","v":28.38468551705261},null,null,null,null,null,null,null,null,null,null,null,null,null,null,null,null,null,null,null,null,null,null,"AP",null,"Yem12"]
[null,null,null,null,null,null,null,null,null,null,null,null,null,null,null,null,null,null,null,null,null,null,null,null,null,null,null,"AQ",null,"Yem13"]
[null,"Duodenal amino asit ","Akış(g/gün)","Sind.AA akışı(g/gün)","MP'deki oranı(%)",null,null,null,null,null,null,null,null,null,null,null,null,null,null,null,null,null,null,null,null,null,null,"AR",null,"Yem14"]
[null,"Arjinin",{"$f":"Rapor!CK65","v":159.52283689682852},{"$f":"Rapor!CP65","v":127.33779363960964},{"$f":"Rapor!CQ65","v":6.7090124757739567},null,null,null,null,null,null,null,null,null,null,null,null,null,null,null,null,null,null,null,null,null,null,"AS",null,"Yem15"]
[null,"Histidin",{"$f":"Rapor!CK66","v":69.45584558403992},{"$f":"Rapor!CP66","v":55.239960476607322},{"$f":"Rapor!CQ66","v":2.9104131099342245},null,null,null,null,null,null,null,null,null,null,null,null,null,null,null,null,null,null,null,null,null,null,"AT",null,"Yem16"]
[null,"İzolöysin",{"$f":"Rapor!CK67","v":126.74933294419552},{"$f":"Rapor!CP67","v":100.39258105900939},{"$f":"Rapor!CQ67","v":5.289357224974979},null,null,null,null,null,null,null,null,null,null,null,null,null,null,null,null,null,null,null,null,null,null,"AU",null,"Yem17"]
[null,"Löysin",{"$f":"Rapor!CK68","v":241.0107526380734},{"$f":"Rapor!CP68","v":190.55530171331679},{"$f":"Rapor!CQ68","v":10.03973651481458},null,null,null,null,null,null,null,null,null,null,null,null,null,null,null,null,null,null,null,null,null,null,"AV",null,"Yem18"]
[null,"Lizin",{"$f":"Rapor!CK69","v":148.47072638952201},{"$f":"Rapor!CP69","v":117.98660007739788},{"$f":"Rapor!CQ69","v":6.2163286269410296},null,null,null,null,null,null,null,null,null,null,null,null,null,null,null,null,null,null,null,null,null,null,"AW",null,"Yem19"]
[null,"Metiyonin",{"$f":"Rapor!CK70","v":48.986927278064925},{"$f":"Rapor!CP70","v":38.706009969468354},{"$f":"Rapor!CQ70","v":2.0392932557598411},null,null,null,null,null,null,null,null,null,null,null,null,null,null,null,null,null,null,null,null,null,null,"AX",null,"Yem20"]
[null,"Sistin",{"$f":"Rapor!CK71","v":0},{"$f":"Rapor!CP71","v":0},{"$f":"Rapor!CQ71","v":0},null,null,null,null,null,null,null,null,null,null,null,null,null,null,null,null,null,null,null,null,null,null,"AY",null,"Yem21"]
[null,"Fenilalanin",{"$f":"Rapor!CK72","v":149.87243440583521},{"$f":"Rapor!CP72","v":118.83394312320961},{"$f":"Rapor!CQ72","v":6.2609723646965332},null,null,null,null,null,null,null,null,null,null,null,null,null,null,null,null,null,null,null,null,null,null,"AZ",null,"Yem22"]
[null,"Treonin",{"$f":"Rapor!CK73","v":123.80144334838651},{"$f":"Rapor!CP73","v":97.798139618227538},{"$f":"Rapor!CQ73","v":5.1526645786178955},null,null,null,null,null,null,null,null,null,null,null,null,null,null,null,null,null,null,null,null,null,null,"BA",null,"Yem23"]
[null,"Triptofan",{"$f":"Rapor!CK74","v":0},{"$f":"Rapor!CP74","v":0},{"$f":"Rapor!CQ74","v":0},null,null,null,null,null,null,null,null,null,null,null,null,null,null,null,null,null,null,null,null,null,null,"BB",null,"Yem24"]
[null,"Valin",{"$f":"Rapor!CK75","v":180.38398120473099},{"$f":"Rapor!CP75","v":143.58553465237148},{"$f":"Rapor!CQ75","v":7.5650528864180426},null,null,null,null,null,null,null,null,null,null,null,null,null,null,null,null,null,null,null,null,null,null,"BC",null,"Yem25"]
[null,"ToplamEAA (g/gün):",{"$f":"Rapor!CI76","v":1099.1616447149256},null,null,null,null,null,null,null,null,null,null,null,null,null,null,null,null,null,null,null,null,null,null,null,null,"BD",null,"Yem26"]
[null,null,null,null,null,null,null,null,null,null,null,null,null,null,null,null,null,null,null,null,null,null,null,null,null,null,null,"BE",null,"Yem27"]
[null,"Sıcaklık stresi faktörleri hesaplamaları:",null,null,null,null,null,null,null,null,null,null,null,null,null,null,null,null,null,null,null,null,null,null,null,null,null,"BF",null,"Miktar1"]
[null,"Bazal metabolizma (Mcal/gün/CA0,75):",{"$f":"a_1","v":0.08},"NEyp-Rasyon (Mcal/kg KM):",null,null,{"$f":"NEDietConc","v":1.3772880273403774},null,null,null,null,null,null,null,null,null,null,null,null,null,null,null,null,null,null,null,null,"BG",null,"Miktar2"]
[null,"Yüzey alanı (m2):",{"$f":"SA","v":6.7145387502739053},"Yaşama payı KM ihtiyacı (kg/gün):",null,null,{"$f":"DMIMaint","v":7.4773934335359931},null,null,null,null,null,null,null,null,null,null,null,null,null,null,null,null,null,null,null,null,"BH",null,"Miktar3"]
[null,"Isı üretimi (Mcal/m2/gün):",{"$f":"HP","v":5.8381012632163714},"Yaşama payı ME ihtiyacı (Mcal/gün):",null,null,{"$f":"MEMaint","v":0},null,null,null,null,null,null,null,null,null,null,null,null,null,null,null,null,null,null,null,null,null,null,"Miktar4"]
[null,"Doku izolasyonu (Mcal/m2/°C/gün):",{"$f":"TI","v":9},null,null,null,null,null,null,null,null,null,null,null,null,null,null,null,null,null,null,null,null,null,null,null,null,null,null,"Miktar5"]
[null,"Dış izolasyon (Mcal/m2/°C/gün):",{"$f":"EI","v":6.1529600000000011},"Yaşama payı MP ihtiyacı:",null,null,{"$f":"MPMaint","v":762.01771377001637},null,null,null,null,null,null,null,null,null,null,null,null,null,null,null,null,null,null,null,null,null,null,"Miktar6"]
[null,"Toplam izolasyon (Mcal/m2/°C/gün):",{"$f":"INS","v":15.15296},"Deri döküntüleri ihtiyacı (g/gün):",null,null,{"$f":"ScurfMP","v":14.617370962252203},null,null,null,null,null,null,null,null,null,null,null,null,null,null,null,null,null,null,null,null,null,null,"Miktar7"]
[null,"Alt kritik sıcaklık (°C):",{"$f":"LCT","v":-36.194837679847069},"Üriner ihtiyaç (g/gün):",null,null,{"$f":"UrineMP","v":104.52990002865208},null,null,null,null,null,null,null,null,null,null,null,null,null,null,null,null,null,null,null,null,null,null,"Miktar8"]
[null,"Soğuk stresinde ME ihtiyacı (Mcal/gün):",{"$f":"MEcs","v":0},"Metabolik fekal ihtiyaç (g/gün):",null,null,{"$f":"FecalMP","v":493.95684396180525},null,null,null,null,null,null,null,null,null,null,null,null,null,null,null,null,null,null,null,null,null,null,"Miktar9"]
[null,"Sıcak stresi ayarlama faktörü:",{"$f":"HeatStr","v":1},"Endojen ihtiyaç (g/gün):",null,null,{"$f":"MPEndo","v":99.772111207595572},null,null,null,null,null,null,null,null,null,null,null,null,null,null,null,null,null,null,null,null,null,null,"Miktar10"]
[null,"Sıcaklık stresi (-) NEyp ihtiyacı (Mcal/gün):",{"$f":"NEMaintNS","v":10.298524451722679},"Sıcaklık stresi (+) NEyp ihtiyacı (Mcal/gün):",null,null,{"$f":"NEMaint","v":10.298524451722679},null,null,null,null,null,null,null,null,null,null,null,null,null,null,null,null,null,null,null,null,null,null,"Miktar11"]
[null,null,null,null,null,null,null,null,null,null,null,null,null,null,null,null,null,null,null,null,null,null,null,null,null,null,null,null,null,"Miktar12"]
[null,"Büyüme ihtiyaçları",null,{"$f":"IF(AnimalType=\"Sağmal İnek\",\"Laktasyon ihtiyaçlarının hesaplanması\",\"\")","v":"Laktasyon ihtiyaçlarının hesaplanması"},null,null,null,null,null,null,null,null,null,null,null,null,null,null,null,null,null,null,null,null,null,null,null,null,null,"Miktar13"]
[null,{"$f":"IF(AnimalType=\"Damızlık Düve\",\"Büyüme için kullanılabilir KM tüketimi (kg/gün):\",\"\")","v":""},{"$f":"IF(AnimalType=\"Damızlık Düve\",DMIAvailGrowth,\"\")","v":""},{"$f":"IF(AnimalType=\"Sağmal İnek\",\"Süt yağı verimi (kg/gün):\",\"\")","v":"Süt yağı verimi (kg/gün):"},null,null,{"$f":"IF(AnimalType=\"Sağmal İnek\",YFatn,\"\")","v":0.92500000000000016},null,null,null,null,null,null,null,null,null,null,null,null,null,null,null,null,null,null,null,null,null,null,"Miktar14"]
[null,{"$f":"IF(AnimalType=\"Damızlık Düve\",\"Büyüme için kullanılabilir NE (Mcal/gün):\",\"\")","v":""},{"$f":"IF(AnimalType=\"Damızlık Düve\",NEGrowth,\"\")","v":""},{"$f":"IF(AnimalType=\"Sağmal İnek\",\"Sütün enerji içeriği (Mcal NEl/kg):\",\"\")","v":"Sütün enerji içeriği (Mcal NEl/kg):"},null,null,{"$f":"IF(AnimalType=\"Sağmal İnek\",MilkEN,\"\")","v":0.71566333333333332},null,null,null,null,null,null,null,null,null,null,null,null,null,null,null,null,null,null,null,null,null,null,"Miktar15"]
[null,{"$f":"IF(AnimalType=\"Damızlık Düve\",\"Büyüme için kullanılabilir ME (Mcal/gün):\",\"\")","v":""},{"$f":"IF(AnimalType=\"Damızlık Düve\",MEGrowth,\"\")","v":""},{"$f":"IF(AnimalType=\"Sağmal İnek\",\"Yağı düzeltilmiş süt verimi (kg/gün):\",\"\")","v":"Yağı düzeltilmiş süt verimi (kg/gün):"},null,null,{"$f":"IF(AnimalType=\"Sağmal İnek\",FCM,\"\")","v":23.875},null,null,null,null,null,null,null,null,null,null,null,null,null,null,null,null,null,null,null,null,null,null,"Miktar16"]
[null,{"$f":"IF(AnimalType=\"Damızlık Düve\",\"Yem enerjisinin sağlayabileceği GCAA (g):\",\"\")","v":""},{"$f":"IF(AnimalType=\"Damızlık Düve\",IF(DaysPreg>0,MEAllowGainPreg,MEAllowGain)*1000,\"\")","v":""},{"$f":"IF(AnimalType=\"Sağmal İnek\",\"Yem enerjisinin sağlayabileceği süt (kg/gün):\",\"\")","v":"Yem enerjisinin sağlayabileceği süt (kg/gün):"},null,null,{"$f":"IF(AnimalType=\"Sağmal İnek\",EnergyAllowableMilk,\"\")","v":26.290027999160294},null,null,null,null,null,null,null,null,null,null,null,null,null,null,null,null,null,null,null,null,null,null,"Miktar17"]
[null,"Büyüme için net protein ihtiyacı (g/gün):",{"$f":"NPg","v":0},{"$f":"IF(AnimalType=\"Sağmal İnek\",\"Laktasyon için NE ihtiyacı (Mcal/gün):\",\"\")","v":"Laktasyon için NE ihtiyacı (Mcal/gün):"},null,null,{"$f":"IF(AnimalType=\"Sağmal İnek\",NELact,\"\")","v":17.891583333333333},null,null,null,null,null,null,null,null,null,null,null,null,null,null,null,null,null,null,null,null,null,null,"Miktar18"]
[null,"Büyüme için MP ihtiyacı (g/gün):",{"$f":"MPGrowth","v":0},{"$f":"IF(AnimalType=\"Sağmal İnek\",\"Süt proteini verimi (kg/gün):\",\"\")","v":"Süt proteini verimi (kg/gün):"},null,null,{"$f":"IF(AnimalType=\"Sağmal İnek\",YProtn,\"\")","v":0.77500000000000002},null,null,null,null,null,null,null,null,null,null,null,null,null,null,null,null,null,null,null,null,null,null,"Miktar19"]
[null,"Yaşama payı+büyüme MP ihtiyacı (g):",{"$f":"MPMaint+MPGrowth","v":762.01771377001637},{"$f":"IF(AnimalType=\"Sağmal İnek\",\"Laktasyon için MP ihtiyacı (g/gün):\",\"\")","v":"Laktasyon için MP ihtiyacı (g/gün):"},null,null,{"$f":"IF(AnimalType=\"Sağmal İnek\",MPLact,\"\")","v":1156.7164179104477},null,null,null,null,null,null,null,null,null,null,null,null,null,null,null,null,null,null,null,null,null,null,"Miktar20"]
[null,{"$f":"IF(AnimalType=\"Damızlık Düve\",\"Yem metabolik proteininin sağlayabileceği GCAA (g):\",\"\")","v":""},{"$f":"IF(AnimalType=\"Damızlık Düve\",IF(DaysPreg>0,MPAllowGainPreg,MPAllowGain)*1000,\"\")","v":""},{"$f":"IF(AnimalType=\"Sağmal İnek\",\"Yem proteininin sağlayabileceği süt (kg/gün):\",\"\")","v":"Yem proteininin sağlayabileceği süt (kg/gün):"},null,null,{"$f":"IF(AnimalType=\"Sağmal İnek\",ProteinAllowableMilk,\"\")","v":24.552112592577597},null,null,null,null,null,null,null,null,null,null,null,null,null,null,null,null,null,null,null,null,null,null,"Miktar21"]
[null,"Büyüme için NE ihtiyacı (Mcal/gün):",{"$f":"NEGrowth","v":0},null,null,null,null,null,null,null,null,null,null,null,null,null,null,null,null,null,null,null,null,null,null,null,null,null,null,"Miktar22"]
[null,null,null,null,null,null,null,null,null,null,null,null,null,null,null,null,null,null,null,null,null,null,null,null,null,null,null,null,null,"Miktar23"]
[null,"Gebelik ihtiyaçları",null,{"$f":"IF(AnimalType=\"Damızlık Düve\",\"\",\"Kondüsyon skoru ve enerji\")","v":"Kondüsyon skoru ve enerji"},null,null,null,null,null,null,null,null,null,null,null,null,null,null,null,null,null,null,null,null,null,null,null,null,null,"Miktar24"]
[null,"Gebelik için KM ihtiyacı (kg/gün):",{"$f":"DMIPreg","v":0},{"$f":"IF(AnimalType=\"Damızlık Düve\",\"\",\"1 KS kaybından gelen enerji (Mcal):\")","v":"1 KS kaybından gelen enerji (Mcal):"},null,null,{"$f":"IF(AnimalType=\"Damızlık Düve\",\"\",Lose1CS)","v":487.17947575614107},null,null,null,null,null,null,null,null,null,null,null,null,null,null,null,null,null,null,null,null,null,null,"Miktar25"]
[null,"Gebelikte ortalama GCAA (g/gün):",{"$f":"ADGPreg","v":0},{"$f":"IF(AnimalType=\"Damızlık Düve\",\"\",\"1 KS kazanmak için gerekli enerji (Mcal):\")","v":"1 KS kazanmak için gerekli enerji (Mcal):"},null,null,{"$f":"IF(AnimalType=\"Damızlık Düve\",\"\",Gain1CS)","v":579.47552252285914},null,null,null,null,null,null,null,null,null,null,null,null,null,null,null,null,null,null,null,null,null,null,"Miktar26"]
[null,"Fötüs ve doku ağırlığı (kg):",{"$f":"CW","v":0},{"$f":"IF(AnimalType=\"Damızlık Düve\",\"\",\"1 KS kaybının rasyon NEl değeri (Mcal):\")","v":"1 KS kaybının rasyon NEl değeri (Mcal):"},null,null,{"$f":"IF(AnimalType=\"Damızlık Düve\",\"\",NElSub)","v":399.48717012003567},null,null,null,null,null,null,null,null,null,null,null,null,null,null,null,null,null,null,null,null,null,null,"Miktar27"]
[null,"Gebelik için ME ihtiyacı (Mcal/gün):",{"$f":"MEPreg","v":0},{"$f":"IF(AnimalType=\"Damızlık Düve\",\"\",\"1 KS kazanmak için rasyonda gerekli NEl (Mcal):\")","v":"1 KS kazanmak için rasyonda gerekli NEl (Mcal):"},null,null,{"$f":"IF(AnimalType=\"Damızlık Düve\",\"\",NElReq)","v":497.57631533962837}]
[null,"Gebelik için NE ihtiyacı (Mcal/gün):",{"$f":"NEPreg","v":0},{"$f":"IF(AnimalType=\"Damızlık Düve\",\"\",\"1 KS kazanmak için gün sayısı:\")","v":"1 KS kazanmak için gün sayısı:"},null,null,{"$f":"IF(AnimalType=\"Damızlık Düve\",\"\",DaysToChange)","v":538.95412018345621}]
[null,"Gebelik için MP ihtiyacı (g/gün):",{"$f":"MPPreg","v":0}]
[]
[null,{"$f":"IF(AnimalType=\"Damızlık Düve\",\"\",\"KS'na göre vücut rezervleri değişiklikleri\")","v":"KS'na göre vücut rezervleri değişiklikleri"},null,{"$f":"IF(AnimalType=\"Damızlık Düve\",\"\",\"Yağ\")","v":"Yağ"},{"$f":"IF(AnimalType=\"Damızlık Düve\",\"\",\"Protein\")","v":"Protein"},{"$f":"IF(AnimalType=\"Damızlık Düve\",\"\",\"Vücut enerjisi\")","v":"Vücut enerjisi"}]
[null,{"$f":"IF(AnimalType=\"Damızlık Düve\",\"\",\"Kondisyon skoru\")","v":"Kondisyon skoru"},{"$f":"IF(AnimalType=\"Damızlık Düve\",\"\",\"Ağırlık faktörü\")","v":"Ağırlık faktörü"},{"$f":"IF(AnimalType=\"Damızlık Düve\",\"\",\"(kg)\")","v":"(kg)"},{"$f":"IF(AnimalType=\"Damızlık Düve\",\"\",\"(kg)\")","v":"(kg)"},{"$f":"IF(AnimalType=\"Damızlık Düve\",\"\",\"(Mcal)\")","v":"(Mcal)"}]
[null,{"$f":"IF(AnimalType=\"Damızlık Düve\",\"\",1)","v":1},{"$f":"IF(AnimalType=\"Damızlık Düve\",\"\",Rapor!BX65)","v":0.72599999999999998},{"$f":"IF(AnimalType=\"Damızlık Düve\",\"\",Rapor!CA65)","v":14.527679186592},{"$f":"IF(AnimalType=\"Damızlık Düve\",\"\",Rapor!CC65)","v":74.872427070355201},{"$f":"IF(AnimalType=\"Damızlık Düve\",\"\",Rapor!CD65)","v":552.10215459443612}]
[null,{"$f":"IF(AnimalType=\"Damızlık Düve\",\"\",2)","v":2},{"$f":"IF(AnimalType=\"Damızlık Düve\",\"\",Rapor!BX67)","v":0.86299999999999999},{"$f":"IF(AnimalType=\"Damızlık Düve\",\"\",Rapor!CA67)","v":51.807384867888004},{"$f":"IF(AnimalType=\"Damızlık Düve\",\"\",Rapor!CC67)","v":82.882192040668798},{"$f":"IF(AnimalType=\"Damızlık Düve\",\"\",Rapor!CD67)","v":946.98558358385912}]
[null,{"$f":"IF(AnimalType=\"Damızlık Düve\",\"\",3)","v":3},{"$f":"IF(AnimalType=\"Damızlık Düve\",\"\",Rapor!BX69)","v":1},{"$f":"IF(AnimalType=\"Damızlık Düve\",\"\",Rapor!CA69)","v":100.05288696},{"$f":"IF(AnimalType=\"Damızlık Düve\",\"\",Rapor!CC69)","v":88.949175120000007},{"$f":"IF(AnimalType=\"Damızlık Düve\",\"\",Rapor!CD69)","v":1434.16505934}]
[null,{"$f":"IF(AnimalType=\"Damızlık Düve\",\"\",4)","v":4},{"$f":"IF(AnimalType=\"Damızlık Düve\",\"\",Rapor!BX71)","v":1.137},{"$f":"IF(AnimalType=\"Damızlık Düve\",\"\",Rapor!CA71)","v":159.26418546292797},{"$f":"IF(AnimalType=\"Damızlık Düve\",\"\",Rapor!CC71)","v":93.073376308348799},{"$f":"IF(AnimalType=\"Damızlık Düve\",\"\",Rapor!CD71)","v":2013.6405818628587}]
[null,{"$f":"IF(AnimalType=\"Damızlık Düve\",\"\",5)","v":5},{"$f":"IF(AnimalType=\"Damızlık Düve\",\"\",Rapor!BX73)","v":1.274},{"$f":"IF(AnimalType=\"Damızlık Düve\",\"\",Rapor!CA73)","v":229.44128037667204},{"$f":"IF(AnimalType=\"Damızlık Düve\",\"\",Rapor!CC73)","v":95.254795605715216},{"$f":"IF(AnimalType=\"Damızlık Düve\",\"\",Rapor!CD73)","v":2685.4121511524368}]

{"sheet":"Rapor","index":1,"n_rows":661,"n_cols":116,"rows_kept":661,"cut":false,"hidden":false,"merged":[[631,40,631,41],[631,42,631,44],[0,42,0,44],[2,4,2,5],[26,6,26,7],[0,40,0,41],[38,1,39,1],[38,2,39,2],[27,6,27,7],[260,101,260,102],[259,101,259,102],[236,101,236,102],[237,101,237,102],[95,40,95,41]]}
[null,null,null,null,null,null,"BESİN MADDELERİ","İHTİYAÇ","RASYON","SONUÇ",null,null,null,null,{"$f":"SUM(O3:O29)","v":202.34339039713626},null,"Int.","TSBM-1X","TSBM","NFC","SE-1X","ME-3X ","NEL-3X","NEL-4X","NEM-3X ","NEG-3X","KM","HP","HPSind.","NDICP","ADICP","HY","HYSind.","NDF","NDFSind.","ADF","Lignin","HK","Yem",null,"Ver.Miktar",null,"N Fraksiyonu % HP",null,null,"Kd","RUP % HP (KMT=2%CA)","RUP % HP (KMT=4%CA)","RUPSind.","Arj","His","İzolöy","Löy","Lizin","Met","Sis","Fen","Tre","Trip","Val","TEAA","Lizin","Met","FİYAT","Ca","CaDeğ.","P","PDeğ.","Mg","MgDeğ.","K","KDeğ.","Na","NaDEğ.","Cl","ClDeğ.","S","SDeğ.","Co","CoDeğ.","Cu","CuDeğ.","I","IDeğ.","Fe","FeDeğ.","Mn","MnDeğ.","Se","SeDeğ.","Zn","ZnDeğ.","Mo","MoDeğ.","Vit A ","Vit D ","Vit E ","Sıcaklık stresi için katsayı tablosu (Buzağı için)",null,null,null,null,null,null,null,null,null,null,null,null,null,null,null,"Tanımlamalar"]
[null,null,null,null,null,null,"Kuru Madde, kg/gün",{"$f":"DryMatterIntake","v":21.160792246064069},{"$f":"TotalDMFed","v":21.138159154151602},{"$f":"IF(H2=\"\",\"\",IF(I2>(H2*1.02),\"FAZLA\",IF(I2<(H2*0.98),\"EKSİK\",\"TAMAM\")))","v":"TAMAM"},null,null,null,null,"Fiyat","VERİLECEK YEMLER","Yem no","%","Sınıf","Katsayı","Mcal/kg","Mcal/kg","Mcal/kg","Mcal/kg","Mcal/kg","Mcal/kg","%","%",null,"%","%","%",null,"%",null,"%","%","%","tipi","Kategori","Enaz","Ençok","A","B","C","%/sa B","Kaba yem=25%KMT","Kaba yem=50%KMT","%","%HP","%HP","%HP","%HP","%HP","%HP","%HP","%HP","%HP","%HP","%HP","%HP","%EAA","%EAA","TL/kg","%",null,"%",null,"%",null,"%",null,"%",null,"%",null,"%",null,"mg/kg",null,"mg/kg",null,"mg/kg",null,"mg/kg",null,"mg/kg",null,"mg/kg",null,"mg/kg",null,"mg/kg",null,"(1000 IU/kg)","(1000 IU/kg)","(IU/kg)","TempFactor",">2","<=2","Hayvan Tanımlama değişkenleri",null,null,null,null,null,null,null,null,null,null,null,null,"Hayvanın Tipi"]
[null,null,"MİKTAR,kg","Fiyat,₺","Yemler için",null,"Kuru madde, % Canlı Ağırlık",null,{"$f":"TotalDMFed/BW*100","v":3.2520244852540925},null,null,null,30,null,{"$f":"IF(P3=\"\",\"\",C5*D5)","v":62.5},{"$f":"IF(Süt!B5=\"\",\"\",IF(Süt!C5<=0,\"\",Süt!B5))","v":"Mısır Silajı, %29-33 KM"},{"$f":"IF(Süt!$B5=\"\",\"\",IF(Süt!$C5<=0,\"\",VLOOKUP($P3,$P$98:$CS$631,Q$30,FALSE)))","v":0},{"$f":"IF(Süt!$B5=\"\",\"\",IF(Süt!$C5<=0,\"\",VLOOKUP($P3,$P$98:$CS$631,R$30,FALSE)))","v":60.99},{"$f":"IF(Süt!$B5=\"\",\"\",IF(Süt!$C5<=0,\"\",VLOOKUP($P3,$P$98:$CS$631,S$30,FALSE)))","v":"Forage"},{"$f":"IF(Süt!$B5=\"\",\"\",IF(Süt!$C5<=0,\"\",VLOOKUP($P3,$P$98:$CS$631,T$30,FALSE)))","v":0.94},{"$f":"IF(Süt!$B5=\"\",\"\",IF(Süt!$C5<=0,\"\",VLOOKUP($P3,$P$98:$CS$631,U$30,FALSE)))","v":2.68},{"$f":"IF(Süt!$B5=\"\",\"\",IF(Süt!$C5<=0,\"\",VLOOKUP($P3,$P$98:$CS$631,V$30,FALSE)))","v":2.04},{"$f":"IF(Süt!$B5=\"\",\"\",IF(Süt!$C5<=0,\"\",VLOOKUP($P3,$P$98:$CS$631,W$30,FALSE)))","v":1.24},{"$f":"IF(Süt!$B5=\"\",\"\",IF(Süt!$C5<=0,\"\",VLOOKUP($P3,$P$98:$CS$631,X$30,FALSE)))","v":1.17},{"$f":"IF(Süt!$B5=\"\",\"\",IF(Süt!$C5<=0,\"\",VLOOKUP($P3,$P$98:$CS$631,Y$30,FALSE)))","v":1.22},{"$f":"IF(Süt!$B5=\"\",\"\",IF(Süt!$C5<=0,\"\",VLOOKUP($P3,$P$98:$CS$631,Z$30,FALSE)))","v":0.64},{"$f":"IF(Süt!$B5=\"\",\"\",IF(Süt!$C5<=0,\"\",VLOOKUP($P3,$P$98:$CS$631,AA$30,FALSE)))","v":31.3},{"$f":"IF(Süt!$B5=\"\",\"\",IF(Süt!$C5<=0,\"\",VLOOKUP($P3,$P$98:$CS$631,AB$30,FALSE)))","v":7.2},{"$f":"IF(Süt!$B5=\"\",\"\",IF(Süt!$C5<=0,\"\",VLOOKUP($P3,$P$98:$CS$631,AC$30,FALSE)))","v":1},{"$f":"IF(Süt!$B5=\"\",\"\",IF(Süt!$C5<=0,\"\",VLOOKUP($P3,$P$98:$CS$631,AD$30,FALSE)))","v":1.6},{"$f":"IF(Süt!$B5=\"\",\"\",IF(Süt!$C5<=0,\"\",VLOOKUP($P3,$P$98:$CS$631,AE$30,FALSE)))","v":0.7},{"$f":"IF(Süt!$B5=\"\",\"\",IF(Süt!$C5<=0,\"\",VLOOKUP($P3,$P$98:$CS$631,AF$30,FALSE)))","v":3.4},{"$f":"IF(Süt!$B5=\"\",\"\",IF(Süt!$C5<=0,\"\",VLOOKUP($P3,$P$98:$CS$631,AG$30,FALSE)))","v":1},{"$f":"IF(Süt!$B5=\"\",\"\",IF(Süt!$C5<=0,\"\",VLOOKUP($P3,$P$98:$CS$631,AH$30,FALSE)))","v":52.9},{"$f":"IF(Süt!$B5=\"\",\"\",IF(Süt!$C5<=0,\"\",VLOOKUP($P3,$P$98:$CS$631,AI$30,FALSE)))","v":0.57999999999999996},{"$f":"IF(Süt!$B5=\"\",\"\",IF(Süt!$C5<=0,\"\",VLOOKUP($P3,$P$98:$CS$631,AJ$30,FALSE)))","v":31.1},{"$f":"IF(Süt!$B5=\"\",\"\",IF(Süt!$C5<=0,\"\",VLOOKUP($P3,$P$98:$CS$631,AK$30,FALSE)))","v":5},{"$f":"IF(Süt!$B5=\"\",\"\",IF(Süt!$C5<=0,\"\",VLOOKUP($P3,$P$98:$CS$631,AL$30,FALSE)))","v":5.8},{"$f":"IF(Süt!$B5=\"\",\"\",IF(Süt!$C5<=0,\"\",VLOOKUP($P3,$P$98:$CS$631,AM$30,FALSE)))","v":"Wet"},{"$f":"IF(Süt!$B5=\"\",\"\",IF(Süt!$C5<=0,\"\",VLOOKUP($P3,$P$98:$CS$631,AN$30,FALSE)))","v":"Grain Crop Forage"},{"$f":"IF(Süt!$B5=\"\",\"\",IF(Süt!$C5<=0,\"\",VLOOKUP($P3,$P$98:$CS$631,AO$30,FALSE)))","v":0},{"$f":"IF(Süt!$B5=\"\",\"\",IF(Süt!$C5<=0,\"\",VLOOKUP($P3,$P$98:$CS$631,AP$30,FALSE)))","v":30},{"$f":"IF(Süt!$B5=\"\",\"\",IF(Süt!$C5<=0,\"\",VLOOKUP($P3,$P$98:$CS$631,AQ$30,FALSE)))","v":49.8},{"$f":"IF(Süt!$B5=\"\",\"\",IF(Süt!$C5<=0,\"\",VLOOKUP($P3,$P$98:$CS$631,AR$30,FALSE)))","v":37.6},{"$f":"IF(Süt!$B5=\"\",\"\",IF(Süt!$C5<=0,\"\",VLOOKUP($P3,$P$98:$CS$631,AS$30,FALSE)))","v":12.2},{"$f":"IF(Süt!$B5=\"\",\"\",IF(Süt!$C5<=0,\"\",VLOOKUP($P3,$P$98:$CS$631,AT$30,FALSE)))","v":4.4000000000000004},{"$f":"IF(Süt!$B5=\"\",\"\",IF(Süt!$C5<=0,\"\",VLOOKUP($P3,$P$98:$CS$631,AU$30,FALSE)))","v":29.8},{"$f":"IF(Süt!$B5=\"\",\"\",IF(Süt!$C5<=0,\"\",VLOOKUP($P3,$P$98:$CS$631,AV$30,FALSE)))","v":31.2},{"$f":"IF(Süt!$B5=\"\",\"\",IF(Süt!$C5<=0,\"\",VLOOKUP($P3,$P$98:$CS$631,AW$30,FALSE)))","v":67.7},{"$f":"IF(Süt!$B5=\"\",\"\",IF(Süt!$C5<=0,\"\",VLOOKUP($P3,$P$98:$CS$631,AX$30,FALSE)))","v":1.97},{"$f":"IF(Süt!$B5=\"\",\"\",IF(Süt!$C5<=0,\"\",VLOOKUP($P3,$P$98:$CS$631,AY$30,FALSE)))","v":1.79},{"$f":"IF(Süt!$B5=\"\",\"\",IF(Süt!$C5<=0,\"\",VLOOKUP($P3,$P$98:$CS$631,AZ$30,FALSE)))","v":3.34},{"$f":"IF(Süt!$B5=\"\",\"\",IF(Süt!$C5<=0,\"\",VLOOKUP($P3,$P$98:$CS$631,BA$30,FALSE)))","v":8.59},{"$f":"IF(Süt!$B5=\"\",\"\",IF(Süt!$C5<=0,\"\",VLOOKUP($P3,$P$98:$CS$631,BB$30,FALSE)))","v":2.5099999999999998},{"$f":"IF(Süt!$B5=\"\",\"\",IF(Süt!$C5<=0,\"\",VLOOKUP($P3,$P$98:$CS$631,BC$30,FALSE)))","v":1.53},{"$f":"IF(Süt!$B5=\"\",\"\",IF(Süt!$C5<=0,\"\",VLOOKUP($P3,$P$98:$CS$631,BD$30,FALSE)))","v":1.34},{"$f":"IF(Süt!$B5=\"\",\"\",IF(Süt!$C5<=0,\"\",VLOOKUP($P3,$P$98:$CS$631,BE$30,FALSE)))","v":3.83},{"$f":"IF(Süt!$B5=\"\",\"\",IF(Süt!$C5<=0,\"\",VLOOKUP($P3,$P$98:$CS$631,BF$30,FALSE)))","v":3.19},{"$f":"IF(Süt!$B5=\"\",\"\",IF(Süt!$C5<=0,\"\",VLOOKUP($P3,$P$98:$CS$631,BG$30,FALSE)))","v":0.44},{"$f":"IF(Süt!$B5=\"\",\"\",IF(Süt!$C5<=0,\"\",VLOOKUP($P3,$P$98:$CS$631,BH$30,FALSE)))","v":4.47},{"$f":"IF(Süt!$B5=\"\",\"\",IF(Süt!$C5<=0,\"\",VLOOKUP($P3,$P$98:$CS$631,BI$30,FALSE)))","v":31.64},{"$f":"IF(Süt!$B5=\"\",\"\",IF(Süt!$C5<=0,\"\",VLOOKUP($P3,$P$98:$CS$631,BJ$30,FALSE)))","v":7.93},{"$f":"IF(Süt!$B5=\"\",\"\",IF(Süt!$C5<=0,\"\",VLOOKUP($P3,$P$98:$CS$631,BK$30,FALSE)))","v":4.84},{"$f":"IF(Süt!$B5=\"\",\"\",IF(Süt!$C5<=0,\"\",VLOOKUP($P3,$P$98:$CS$631,BL$30,FALSE)))","v":2.5},{"$f":"IF(Süt!$B5=\"\",\"\",IF(Süt!$C5<=0,\"\",VLOOKUP($P3,$P$98:$CS$631,BM$30,FALSE)))","v":0.28000000000000003},{"$f":"IF(Süt!$B5=\"\",\"\",IF(Süt!$C5<=0,\"\",VLOOKUP($P3,$P$98:$CS$631,BN$30,FALSE)))","v":0.6},{"$f":"IF(Süt!$B5=\"\",\"\",IF(Süt!$C5<=0,\"\",VLOOKUP($P3,$P$98:$CS$631,BO$30,FALSE)))","v":0.26},{"$f":"IF(Süt!$B5=\"\",\"\",IF(Süt!$C5<=0,\"\",VLOOKUP($P3,$P$98:$CS$631,BP$30,FALSE)))","v":0.7},{"$f":"IF(Süt!$B5=\"\",\"\",IF(Süt!$C5<=0,\"\",VLOOKUP($P3,$P$98:$CS$631,BQ$30,FALSE)))","v":0.17},{"$f":"IF(Süt!$B5=\"\",\"\",IF(Süt!$C5<=0,\"\",VLOOKUP($P3,$P$98:$CS$631,BR$30,FALSE)))","v":0.16},{"$f":"IF(Süt!$B5=\"\",\"\",IF(Süt!$C5<=0,\"\",VLOOKUP($P3,$P$98:$CS$631,BS$30,FALSE)))","v":1.2},{"$f":"IF(Süt!$B5=\"\",\"\",IF(Süt!$C5<=0,\"\",VLOOKUP($P3,$P$98:$CS$631,BT$30,FALSE)))","v":0.9},{"$f":"IF(Süt!$B5=\"\",\"\",IF(Süt!$C5<=0,\"\",VLOOKUP($P3,$P$98:$CS$631,BU$30,FALSE)))","v":0.01},{"$f":"IF(Süt!$B5=\"\",\"\",IF(Süt!$C5<=0,\"\",VLOOKUP($P3,$P$98:$CS$631,BV$30,FALSE)))","v":0.9},{"$f":"IF(Süt!$B5=\"\",\"\",IF(Süt!$C5<=0,\"\",VLOOKUP($P3,$P$98:$CS$631,BW$30,FALSE)))","v":0.28999999999999998},{"$f":"IF(Süt!$B5=\"\",\"\",IF(Süt!$C5<=0,\"\",VLOOKUP($P3,$P$98:$CS$631,BX$30,FALSE)))","v":0.9},{"$f":"IF(Süt!$B5=\"\",\"\",IF(Süt!$C5<=0,\"\",VLOOKUP($P3,$P$98:$CS$631,BY$30,FALSE)))","v":0.14000000000000001},{"$f":"IF(Süt!$B5=\"\",\"\",IF(Süt!$C5<=0,\"\",VLOOKUP($P3,$P$98:$CS$631,BZ$30,FALSE)))","v":1},{"$f":"IF(Süt!$B5=\"\",\"\",IF(Süt!$C5<=0,\"\",VLOOKUP($P3,$P$98:$CS$631,CA$30,FALSE)))","v":0},{"$f":"IF(Süt!$B5=\"\",\"\",IF(Süt!$C5<=0,\"\",VLOOKUP($P3,$P$98:$CS$631,CB$30,FALSE)))","v":1},{"$f":"IF(Süt!$B5=\"\",\"\",IF(Süt!$C5<=0,\"\",VLOOKUP($P3,$P$98:$CS$631,CC$30,FALSE)))","v":6},{"$f":"IF(Süt!$B5=\"\",\"\",IF(Süt!$C5<=0,\"\",VLOOKUP($P3,$P$98:$CS$631,CD$30,FALSE)))","v":0.04},{"$f":"IF(Süt!$B5=\"\",\"\",IF(Süt!$C5<=0,\"\",VLOOKUP($P3,$P$98:$CS$631,CE$30,FALSE)))","v":0},{"$f":"IF(Süt!$B5=\"\",\"\",IF(Süt!$C5<=0,\"\",VLOOKUP($P3,$P$98:$CS$631,CF$30,FALSE)))","v":0.85},{"$f":"IF(Süt!$B5=\"\",\"\",IF(Süt!$C5<=0,\"\",VLOOKUP($P3,$P$98:$CS$631,CG$30,FALSE)))","v":104},{"$f":"IF(Süt!$B5=\"\",\"\",IF(Süt!$C5<=0,\"\",VLOOKUP($P3,$P$98:$CS$631,CH$30,FALSE)))","v":0.1},{"$f":"IF(Süt!$B5=\"\",\"\",IF(Süt!$C5<=0,\"\",VLOOKUP($P3,$P$98:$CS$631,CI$30,FALSE)))","v":36},{"$f":"IF(Süt!$B5=\"\",\"\",IF(Süt!$C5<=0,\"\",VLOOKUP($P3,$P$98:$CS$631,CJ$30,FALSE)))","v":0.01},{"$f":"IF(Süt!$B5=\"\",\"\",IF(Süt!$C5<=0,\"\",VLOOKUP($P3,$P$98:$CS$631,CK$30,FALSE)))","v":0.04},{"$f":"IF(Süt!$B5=\"\",\"\",IF(Süt!$C5<=0,\"\",VLOOKUP($P3,$P$98:$CS$631,CL$30,FALSE)))","v":1},{"$f":"IF(Süt!$B5=\"\",\"\",IF(Süt!$C5<=0,\"\",VLOOKUP($P3,$P$98:$CS$631,CM$30,FALSE)))","v":24},{"$f":"IF(Süt!$B5=\"\",\"\",IF(Süt!$C5<=0,\"\",VLOOKUP($P3,$P$98:$CS$631,CN$30,FALSE)))","v":0.15},{"$f":"IF(Süt!$B5=\"\",\"\",IF(Süt!$C5<=0,\"\",VLOOKUP($P3,$P$98:$CS$631,CO$30,FALSE)))","v":0},{"$f":"IF(Süt!$B5=\"\",\"\",IF(Süt!$C5<=0,\"\",VLOOKUP($P3,$P$98:$CS$631,CP$30,FALSE)))","v":0},{"$f":"IF(Süt!$B5=\"\",\"\",IF(Süt!$C5<=0,\"\",VLOOKUP($P3,$P$98:$CS$631,CQ$30,FALSE)))","v":0},{"$f":"IF(Süt!$B5=\"\",\"\",IF(Süt!$C5<=0,\"\",VLOOKUP($P3,$P$98:$CS$631,CR$30,FALSE)))","v":0},{"$f":"IF(Süt!$B5=\"\",\"\",IF(Süt!$C5<=0,\"\",VLOOKUP($P3,$P$98:$CS$631,CS$30,FALSE)))","v":0},15,0,0,"Ergin Çağ canlı ağırlığı",{"$f":"MWFromBreed","v":682},"kg",null,null,null,null,null,null,null,null,null,null,"Sağmal İnek"]
[null,"VERİLECEK YEMLER",{"$f":"SUM(O34:O60)","v":39.617116065205927},{"$f":"(C5*D5+C6*D6+C7*D7+C8*D8+C9*D9+C10*D10+C11*D11+C12*D12+C13*D13+C14*D14+C15*D15+C16*D16+C17*D17+C18*D18+C19*D19+C20*D20+C21*D21+C22*D22+C23*D23+C24*D24+C25*D25+C26*D26+C27*D27+C28*D28+C29*D29+C30*D30+C31*D31)","v":{"$error":"#VALUE!"}},"En az","En çok","Rasyon Kuru Madde Oranı, %",null,{"$f":"TotalDMFed/C4*100","v":53.356127991144639},null,null,null,3.8,null,{"$f":"IF(P4=\"\",\"\",C6*D6)","v":1.063072501358638},{"$f":"IF(Süt!B6=\"\",\"\",IF(Süt!C6<=0,\"\",Süt!B6))","v":"Buğday Samanı"},{"$f":"IF(Süt!$B6=\"\",\"\",IF(Süt!$C6<=0,\"\",VLOOKUP($P4,$P$98:$CS$631,Q$30,FALSE)))","v":"1-05-175"},{"$f":"IF(Süt!$B6=\"\",\"\",IF(Süt!$C6<=0,\"\",VLOOKUP($P4,$P$98:$CS$631,R$30,FALSE)))","v":47.5},{"$f":"IF(Süt!$B6=\"\",\"\",IF(Süt!$C6<=0,\"\",VLOOKUP($P4,$P$98:$CS$631,S$30,FALSE)))","v":"Forage"},{"$f":"IF(Süt!$B6=\"\",\"\",IF(Süt!$C6<=0,\"\",VLOOKUP($P4,$P$98:$CS$631,T$30,FALSE)))","v":1},{"$f":"IF(Süt!$B6=\"\",\"\",IF(Süt!$C6<=0,\"\",VLOOKUP($P4,$P$98:$CS$631,U$30,FALSE)))","v":2.04},{"$f":"IF(Süt!$B6=\"\",\"\",IF(Süt!$C6<=0,\"\",VLOOKUP($P4,$P$98:$CS$631,V$30,FALSE)))","v":1.44},{"$f":"IF(Süt!$B6=\"\",\"\",IF(Süt!$C6<=0,\"\",VLOOKUP($P4,$P$98:$CS$631,W$30,FALSE)))","v":0.82},{"$f":"IF(Süt!$B6=\"\",\"\",IF(Süt!$C6<=0,\"\",VLOOKUP($P4,$P$98:$CS$631,X$30,FALSE)))","v":0.76},{"$f":"IF(Süt!$B6=\"\",\"\",IF(Süt!$C6<=0,\"\",VLOOKUP($P4,$P$98:$CS$631,Y$30,FALSE)))","v":0.83},{"$f":"IF(Süt!$B6=\"\",\"\",IF(Süt!$C6<=0,\"\",VLOOKUP($P4,$P$98:$CS$631,Z$30,FALSE)))","v":0.28999999999999998},{"$f":"IF(Süt!$B6=\"\",\"\",IF(Süt!$C6<=0,\"\",VLOOKUP($P4,$P$98:$CS$631,AA$30,FALSE)))","v":92.7},{"$f":"IF(Süt!$B6=\"\",\"\",IF(Süt!$C6<=0,\"\",VLOOKUP($P4,$P$98:$CS$631,AB$30,FALSE)))","v":4.8},{"$f":"IF(Süt!$B6=\"\",\"\",IF(Süt!$C6<=0,\"\",VLOOKUP($P4,$P$98:$CS$631,AC$30,FALSE)))","v":1},{"$f":"IF(Süt!$B6=\"\",\"\",IF(Süt!$C6<=0,\"\",VLOOKUP($P4,$P$98:$CS$631,AD$30,FALSE)))","v":2.1},{"$f":"IF(Süt!$B6=\"\",\"\",IF(Süt!$C6<=0,\"\",VLOOKUP($P4,$P$98:$CS$631,AE$30,FALSE)))","v":1.4},{"$f":"IF(Süt!$B6=\"\",\"\",IF(Süt!$C6<=0,\"\",VLOOKUP($P4,$P$98:$CS$631,AF$30,FALSE)))","v":1.6},{"$f":"IF(Süt!$B6=\"\",\"\",IF(Süt!$C6<=0,\"\",VLOOKUP($P4,$P$98:$CS$631,AG$30,FALSE)))","v":1},{"$f":"IF(Süt!$B6=\"\",\"\",IF(Süt!$C6<=0,\"\",VLOOKUP($P4,$P$98:$CS$631,AH$30,FALSE)))","v":73},{"$f":"IF(Süt!$B6=\"\",\"\",IF(Süt!$C6<=0,\"\",VLOOKUP($P4,$P$98:$CS$631,AI$30,FALSE)))","v":0.48},{"$f":"IF(Süt!$B6=\"\",\"\",IF(Süt!$C6<=0,\"\",VLOOKUP($P4,$P$98:$CS$631,AJ$30,FALSE)))","v":49.4},{"$f":"IF(Süt!$B6=\"\",\"\",IF(Süt!$C6<=0,\"\",VLOOKUP($P4,$P$98:$CS$631,AK$30,FALSE)))","v":8.8000000000000007},{"$f":"IF(Süt!$B6=\"\",\"\",IF(Süt!$C6<=0,\"\",VLOOKUP($P4,$P$98:$CS$631,AL$30,FALSE)))","v":7.6},{"$f":"IF(Süt!$B6=\"\",\"\",IF(Süt!$C6<=0,\"\",VLOOKUP($P4,$P$98:$CS$631,AM$30,FALSE)))","v":"Dry"},{"$f":"IF(Süt!$B6=\"\",\"\",IF(Süt!$C6<=0,\"\",VLOOKUP($P4,$P$98:$CS$631,AN$30,FALSE)))","v":"Grain Crop Forage"},{"$f":"IF(Süt!$B6=\"\",\"\",IF(Süt!$C6<=0,\"\",VLOOKUP($P4,$P$98:$CS$631,AO$30,FALSE)))","v":0},{"$f":"IF(Süt!$B6=\"\",\"\",IF(Süt!$C6<=0,\"\",VLOOKUP($P4,$P$98:$CS$631,AP$30,FALSE)))","v":7},{"$f":"IF(Süt!$B6=\"\",\"\",IF(Süt!$C6<=0,\"\",VLOOKUP($P4,$P$98:$CS$631,AQ$30,FALSE)))","v":9.3000000000000007},{"$f":"IF(Süt!$B6=\"\",\"\",IF(Süt!$C6<=0,\"\",VLOOKUP($P4,$P$98:$CS$631,AR$30,FALSE)))","v":51.4},{"$f":"IF(Süt!$B6=\"\",\"\",IF(Süt!$C6<=0,\"\",VLOOKUP($P4,$P$98:$CS$631,AS$30,FALSE)))","v":39.299999999999997},{"$f":"IF(Süt!$B6=\"\",\"\",IF(Süt!$C6<=0,\"\",VLOOKUP($P4,$P$98:$CS$631,AT$30,FALSE)))","v":1.4},{"$f":"IF(Süt!$B6=\"\",\"\",IF(Süt!$C6<=0,\"\",VLOOKUP($P4,$P$98:$CS$631,AU$30,FALSE)))","v":76.400000000000006},{"$f":"IF(Süt!$B6=\"\",\"\",IF(Süt!$C6<=0,\"\",VLOOKUP($P4,$P$98:$CS$631,AV$30,FALSE)))","v":78.3},{"$f":"IF(Süt!$B6=\"\",\"\",IF(Süt!$C6<=0,\"\",VLOOKUP($P4,$P$98:$CS$631,AW$30,FALSE)))","v":65},{"$f":"IF(Süt!$B6=\"\",\"\",IF(Süt!$C6<=0,\"\",VLOOKUP($P4,$P$98:$CS$631,AX$30,FALSE)))","v":1.08},{"$f":"IF(Süt!$B6=\"\",\"\",IF(Süt!$C6<=0,\"\",VLOOKUP($P4,$P$98:$CS$631,AY$30,FALSE)))","v":1.64},{"$f":"IF(Süt!$B6=\"\",\"\",IF(Süt!$C6<=0,\"\",VLOOKUP($P4,$P$98:$CS$631,AZ$30,FALSE)))","v":1.78},{"$f":"IF(Süt!$B6=\"\",\"\",IF(Süt!$C6<=0,\"\",VLOOKUP($P4,$P$98:$CS$631,BA$30,FALSE)))","v":3.25},{"$f":"IF(Süt!$B6=\"\",\"\",IF(Süt!$C6<=0,\"\",VLOOKUP($P4,$P$98:$CS$631,BB$30,FALSE)))","v":3.25},{"$f":"IF(Süt!$B6=\"\",\"\",IF(Süt!$C6<=0,\"\",VLOOKUP($P4,$P$98:$CS$631,BC$30,FALSE)))","v":1.19},{"$f":"IF(Süt!$B6=\"\",\"\",IF(Süt!$C6<=0,\"\",VLOOKUP($P4,$P$98:$CS$631,BD$30,FALSE)))","v":1.07},{"$f":"IF(Süt!$B6=\"\",\"\",IF(Süt!$C6<=0,\"\",VLOOKUP($P4,$P$98:$CS$631,BE$30,FALSE)))","v":2.08},{"$f":"IF(Süt!$B6=\"\",\"\",IF(Süt!$C6<=0,\"\",VLOOKUP($P4,$P$98:$CS$631,BF$30,FALSE)))","v":3.25},{"$f":"IF(Süt!$B6=\"\",\"\",IF(Süt!$C6<=0,\"\",VLOOKUP($P4,$P$98:$CS$631,BG$30,FALSE)))","v":1.42},{"$f":"IF(Süt!$B6=\"\",\"\",IF(Süt!$C6<=0,\"\",VLOOKUP($P4,$P$98:$CS$631,BH$30,FALSE)))","v":2.67},{"$f":"IF(Süt!$B6=\"\",\"\",IF(Süt!$C6<=0,\"\",VLOOKUP($P4,$P$98:$CS$631,BI$30,FALSE)))","v":21.61},{"$f":"IF(Süt!$B6=\"\",\"\",IF(Süt!$C6<=0,\"\",VLOOKUP($P4,$P$98:$CS$631,BJ$30,FALSE)))","v":15.04},{"$f":"IF(Süt!$B6=\"\",\"\",IF(Süt!$C6<=0,\"\",VLOOKUP($P4,$P$98:$CS$631,BK$30,FALSE)))","v":5.51},{"$f":"IF(Süt!$B6=\"\",\"\",IF(Süt!$C6<=0,\"\",VLOOKUP($P4,$P$98:$CS$631,BL$30,FALSE)))","v":1.5},{"$f":"IF(Süt!$B6=\"\",\"\",IF(Süt!$C6<=0,\"\",VLOOKUP($P4,$P$98:$CS$631,BM$30,FALSE)))","v":0.31},{"$f":"IF(Süt!$B6=\"\",\"\",IF(Süt!$C6<=0,\"\",VLOOKUP($P4,$P$98:$CS$631,BN$30,FALSE)))","v":0.3},{"$f":"IF(Süt!$B6=\"\",\"\",IF(Süt!$C6<=0,\"\",VLOOKUP($P4,$P$98:$CS$631,BO$30,FALSE)))","v":0.1},{"$f":"IF(Süt!$B6=\"\",\"\",IF(Süt!$C6<=0,\"\",VLOOKUP($P4,$P$98:$CS$631,BP$30,FALSE)))","v":0.64},{"$f":"IF(Süt!$B6=\"\",\"\",IF(Süt!$C6<=0,\"\",VLOOKUP($P4,$P$98:$CS$631,BQ$30,FALSE)))","v":0.14000000000000001},{"$f":"IF(Süt!$B6=\"\",\"\",IF(Süt!$C6<=0,\"\",VLOOKUP($P4,$P$98:$CS$631,BR$30,FALSE)))","v":0.16},{"$f":"IF(Süt!$B6=\"\",\"\",IF(Süt!$C6<=0,\"\",VLOOKUP($P4,$P$98:$CS$631,BS$30,FALSE)))","v":1.55},{"$f":"IF(Süt!$B6=\"\",\"\",IF(Süt!$C6<=0,\"\",VLOOKUP($P4,$P$98:$CS$631,BT$30,FALSE)))","v":0.9},{"$f":"IF(Süt!$B6=\"\",\"\",IF(Süt!$C6<=0,\"\",VLOOKUP($P4,$P$98:$CS$631,BU$30,FALSE)))","v":0.12},{"$f":"IF(Süt!$B6=\"\",\"\",IF(Süt!$C6<=0,\"\",VLOOKUP($P4,$P$98:$CS$631,BV$30,FALSE)))","v":0.9},{"$f":"IF(Süt!$B6=\"\",\"\",IF(Süt!$C6<=0,\"\",VLOOKUP($P4,$P$98:$CS$631,BW$30,FALSE)))","v":0.6},{"$f":"IF(Süt!$B6=\"\",\"\",IF(Süt!$C6<=0,\"\",VLOOKUP($P4,$P$98:$CS$631,BX$30,FALSE)))","v":0.9},{"$f":"IF(Süt!$B6=\"\",\"\",IF(Süt!$C6<=0,\"\",VLOOKUP($P4,$P$98:$CS$631,BY$30,FALSE)))","v":0.11},{"$f":"IF(Süt!$B6=\"\",\"\",IF(Süt!$C6<=0,\"\",VLOOKUP($P4,$P$98:$CS$631,BZ$30,FALSE)))","v":1},{"$f":"IF(Süt!$B6=\"\",\"\",IF(Süt!$C6<=0,\"\",VLOOKUP($P4,$P$98:$CS$631,CA$30,FALSE)))","v":0},{"$f":"IF(Süt!$B6=\"\",\"\",IF(Süt!$C6<=0,\"\",VLOOKUP($P4,$P$98:$CS$631,CB$30,FALSE)))","v":1},{"$f":"IF(Süt!$B6=\"\",\"\",IF(Süt!$C6<=0,\"\",VLOOKUP($P4,$P$98:$CS$631,CC$30,FALSE)))","v":6},{"$f":"IF(Süt!$B6=\"\",\"\",IF(Süt!$C6<=0,\"\",VLOOKUP($P4,$P$98:$CS$631,CD$30,FALSE)))","v":0.04},{"$f":"IF(Süt!$B6=\"\",\"\",IF(Süt!$C6<=0,\"\",VLOOKUP($P4,$P$98:$CS$631,CE$30,FALSE)))","v":0},{"$f":"IF(Süt!$B6=\"\",\"\",IF(Süt!$C6<=0,\"\",VLOOKUP($P4,$P$98:$CS$631,CF$30,FALSE)))","v":0.85},{"$f":"IF(Süt!$B6=\"\",\"\",IF(Süt!$C6<=0,\"\",VLOOKUP($P4,$P$98:$CS$631,CG$30,FALSE)))","v":172},{"$f":"IF(Süt!$B6=\"\",\"\",IF(Süt!$C6<=0,\"\",VLOOKUP($P4,$P$98:$CS$631,CH$30,FALSE)))","v":0.1},{"$f":"IF(Süt!$B6=\"\",\"\",IF(Süt!$C6<=0,\"\",VLOOKUP($P4,$P$98:$CS$631,CI$30,FALSE)))","v":67},{"$f":"IF(Süt!$B6=\"\",\"\",IF(Süt!$C6<=0,\"\",VLOOKUP($P4,$P$98:$CS$631,CJ$30,FALSE)))","v":0.01},{"$f":"IF(Süt!$B6=\"\",\"\",IF(Süt!$C6<=0,\"\",VLOOKUP($P4,$P$98:$CS$631,CK$30,FALSE)))","v":0},{"$f":"IF(Süt!$B6=\"\",\"\",IF(Süt!$C6<=0,\"\",VLOOKUP($P4,$P$98:$CS$631,CL$30,FALSE)))","v":1},{"$f":"IF(Süt!$B6=\"\",\"\",IF(Süt!$C6<=0,\"\",VLOOKUP($P4,$P$98:$CS$631,CM$30,FALSE)))","v":16},{"$f":"IF(Süt!$B6=\"\",\"\",IF(Süt!$C6<=0,\"\",VLOOKUP($P4,$P$98:$CS$631,CN$30,FALSE)))","v":0.15},{"$f":"IF(Süt!$B6=\"\",\"\",IF(Süt!$C6<=0,\"\",VLOOKUP($P4,$P$98:$CS$631,CO$30,FALSE)))","v":1.3},{"$f":"IF(Süt!$B6=\"\",\"\",IF(Süt!$C6<=0,\"\",VLOOKUP($P4,$P$98:$CS$631,CP$30,FALSE)))","v":0},{"$f":"IF(Süt!$B6=\"\",\"\",IF(Süt!$C6<=0,\"\",VLOOKUP($P4,$P$98:$CS$631,CQ$30,FALSE)))","v":0},{"$f":"IF(Süt!$B6=\"\",\"\",IF(Süt!$C6<=0,\"\",VLOOKUP($P4,$P$98:$CS$631,CR$30,FALSE)))","v":0},{"$f":"IF(Süt!$B6=\"\",\"\",IF(Süt!$C6<=0,\"\",VLOOKUP($P4,$P$98:$CS$631,CS$30,FALSE)))","v":0},14,0,2.7E-2,"UseTargetADG",1,"Büyüme ihyiyaçlarını belirlemek için; ",null,null,null,null,null,null,null,null,null,null,"Kurudaki İnek"]
[{"$f":"IF(Süt!A5=\"\",\"\",Süt!A5)","v":1},{"$f":"IF(Süt!B5=\"\",\"\",Süt!B5)","v":"Mısır Silajı, %29-33 KM"},{"$f":"IF(Süt!C5=\"\",\"\",Süt!C5)","v":25},{"$f":"Süt!D5","v":2.5},{"$f":"Süt!E5","v":0},{"$f":"Süt!F5","v":25},"Rasyon Kaba Yem Oranı, %",null,{"$f":"100-PercentConc","v":70.350869710993493},null,null,null,7.5,null,59.5,{"$f":"IF(Süt!B7=\"\",\"\",IF(Süt!C7<=0,\"\",Süt!B7))","v":"Yonca Kuru Otu, 4.kalite, %15-17 HP, %44-48 NDF"},{"$f":"IF(Süt!$B7=\"\",\"\",IF(Süt!$C7<=0,\"\",VLOOKUP($P5,$P$98:$CS$631,Q$30,FALSE)))","v":0},{"$f":"IF(Süt!$B7=\"\",\"\",IF(Süt!$C7<=0,\"\",VLOOKUP($P5,$P$98:$CS$631,R$30,FALSE)))","v":52.7},{"$f":"IF(Süt!$B7=\"\",\"\",IF(Süt!$C7<=0,\"\",VLOOKUP($P5,$P$98:$CS$631,S$30,FALSE)))","v":"Forage"},{"$f":"IF(Süt!$B7=\"\",\"\",IF(Süt!$C7<=0,\"\",VLOOKUP($P5,$P$98:$CS$631,T$30,FALSE)))","v":1},{"$f":"IF(Süt!$B7=\"\",\"\",IF(Süt!$C7<=0,\"\",VLOOKUP($P5,$P$98:$CS$631,U$30,FALSE)))","v":2.41},{"$f":"IF(Süt!$B7=\"\",\"\",IF(Süt!$C7<=0,\"\",VLOOKUP($P5,$P$98:$CS$631,V$30,FALSE)))","v":1.84},{"$f":"IF(Süt!$B7=\"\",\"\",IF(Süt!$C7<=0,\"\",VLOOKUP($P5,$P$98:$CS$631,W$30,FALSE)))","v":1.1000000000000001},{"$f":"IF(Süt!$B7=\"\",\"\",IF(Süt!$C7<=0,\"\",VLOOKUP($P5,$P$98:$CS$631,X$30,FALSE)))","v":1.06},{"$f":"IF(Süt!$B7=\"\",\"\",IF(Süt!$C7<=0,\"\",VLOOKUP($P5,$P$98:$CS$631,Y$30,FALSE)))","v":1.03},{"$f":"IF(Süt!$B7=\"\",\"\",IF(Süt!$C7<=0,\"\",VLOOKUP($P5,$P$98:$CS$631,Z$30,FALSE)))","v":0.46},{"$f":"IF(Süt!$B7=\"\",\"\",IF(Süt!$C7<=0,\"\",VLOOKUP($P5,$P$98:$CS$631,AA$30,FALSE)))","v":91.27},{"$f":"IF(Süt!$B7=\"\",\"\",IF(Süt!$C7<=0,\"\",VLOOKUP($P5,$P$98:$CS$631,AB$30,FALSE)))","v":16.079999999999998},{"$f":"IF(Süt!$B7=\"\",\"\",IF(Süt!$C7<=0,\"\",VLOOKUP($P5,$P$98:$CS$631,AC$30,FALSE)))","v":1},{"$f":"IF(Süt!$B7=\"\",\"\",IF(Süt!$C7<=0,\"\",VLOOKUP($P5,$P$98:$CS$631,AD$30,FALSE)))","v":3.3},{"$f":"IF(Süt!$B7=\"\",\"\",IF(Süt!$C7<=0,\"\",VLOOKUP($P5,$P$98:$CS$631,AE$30,FALSE)))","v":1.5},{"$f":"IF(Süt!$B7=\"\",\"\",IF(Süt!$C7<=0,\"\",VLOOKUP($P5,$P$98:$CS$631,AF$30,FALSE)))","v":2.6},{"$f":"IF(Süt!$B7=\"\",\"\",IF(Süt!$C7<=0,\"\",VLOOKUP($P5,$P$98:$CS$631,AG$30,FALSE)))","v":1},{"$f":"IF(Süt!$B7=\"\",\"\",IF(Süt!$C7<=0,\"\",VLOOKUP($P5,$P$98:$CS$631,AH$30,FALSE)))","v":47.4},{"$f":"IF(Süt!$B7=\"\",\"\",IF(Süt!$C7<=0,\"\",VLOOKUP($P5,$P$98:$CS$631,AI$30,FALSE)))","v":0.48},{"$f":"IF(Süt!$B7=\"\",\"\",IF(Süt!$C7<=0,\"\",VLOOKUP($P5,$P$98:$CS$631,AJ$30,FALSE)))","v":37.700000000000003},{"$f":"IF(Süt!$B7=\"\",\"\",IF(Süt!$C7<=0,\"\",VLOOKUP($P5,$P$98:$CS$631,AK$30,FALSE)))","v":9.1},{"$f":"IF(Süt!$B7=\"\",\"\",IF(Süt!$C7<=0,\"\",VLOOKUP($P5,$P$98:$CS$631,AL$30,FALSE)))","v":8.9},{"$f":"IF(Süt!$B7=\"\",\"\",IF(Süt!$C7<=0,\"\",VLOOKUP($P5,$P$98:$CS$631,AM$30,FALSE)))","v":"Dry"},{"$f":"IF(Süt!$B7=\"\",\"\",IF(Süt!$C7<=0,\"\",VLOOKUP($P5,$P$98:$CS$631,AN$30,FALSE)))","v":"Grass/Legume Forage"},{"$f":"IF(Süt!$B7=\"\",\"\",IF(Süt!$C7<=0,\"\",VLOOKUP($P5,$P$98:$CS$631,AO$30,FALSE)))","v":0},{"$f":"IF(Süt!$B7=\"\",\"\",IF(Süt!$C7<=0,\"\",VLOOKUP($P5,$P$98:$CS$631,AP$30,FALSE)))","v":7},{"$f":"IF(Süt!$B7=\"\",\"\",IF(Süt!$C7<=0,\"\",VLOOKUP($P5,$P$98:$CS$631,AQ$30,FALSE)))","v":32.5},{"$f":"IF(Süt!$B7=\"\",\"\",IF(Süt!$C7<=0,\"\",VLOOKUP($P5,$P$98:$CS$631,AR$30,FALSE)))","v":49.7},{"$f":"IF(Süt!$B7=\"\",\"\",IF(Süt!$C7<=0,\"\",VLOOKUP($P5,$P$98:$CS$631,AS$30,FALSE)))","v":9},{"$f":"IF(Süt!$B7=\"\",\"\",IF(Süt!$C7<=0,\"\",VLOOKUP($P5,$P$98:$CS$631,AT$30,FALSE)))","v":14},{"$f":"IF(Süt!$B7=\"\",\"\",IF(Süt!$C7<=0,\"\",VLOOKUP($P5,$P$98:$CS$631,AU$30,FALSE)))","v":32},{"$f":"IF(Süt!$B7=\"\",\"\",IF(Süt!$C7<=0,\"\",VLOOKUP($P5,$P$98:$CS$631,AV$30,FALSE)))","v":33.1},{"$f":"IF(Süt!$B7=\"\",\"\",IF(Süt!$C7<=0,\"\",VLOOKUP($P5,$P$98:$CS$631,AW$30,FALSE)))","v":65.900000000000006},{"$f":"IF(Süt!$B7=\"\",\"\",IF(Süt!$C7<=0,\"\",VLOOKUP($P5,$P$98:$CS$631,AX$30,FALSE)))","v":5.14},{"$f":"IF(Süt!$B7=\"\",\"\",IF(Süt!$C7<=0,\"\",VLOOKUP($P5,$P$98:$CS$631,AY$30,FALSE)))","v":1.95},{"$f":"IF(Süt!$B7=\"\",\"\",IF(Süt!$C7<=0,\"\",VLOOKUP($P5,$P$98:$CS$631,AZ$30,FALSE)))","v":4.22},{"$f":"IF(Süt!$B7=\"\",\"\",IF(Süt!$C7<=0,\"\",VLOOKUP($P5,$P$98:$CS$631,BA$30,FALSE)))","v":7.35},{"$f":"IF(Süt!$B7=\"\",\"\",IF(Süt!$C7<=0,\"\",VLOOKUP($P5,$P$98:$CS$631,BB$30,FALSE)))","v":5.08},{"$f":"IF(Süt!$B7=\"\",\"\",IF(Süt!$C7<=0,\"\",VLOOKUP($P5,$P$98:$CS$631,BC$30,FALSE)))","v":1.56},{"$f":"IF(Süt!$B7=\"\",\"\",IF(Süt!$C7<=0,\"\",VLOOKUP($P5,$P$98:$CS$631,BD$30,FALSE)))","v":1.42},{"$f":"IF(Süt!$B7=\"\",\"\",IF(Süt!$C7<=0,\"\",VLOOKUP($P5,$P$98:$CS$631,BE$30,FALSE)))","v":4.78},{"$f":"IF(Süt!$B7=\"\",\"\",IF(Süt!$C7<=0,\"\",VLOOKUP($P5,$P$98:$CS$631,BF$30,FALSE)))","v":4.37},{"$f":"IF(Süt!$B7=\"\",\"\",IF(Süt!$C7<=0,\"\",VLOOKUP($P5,$P$98:$CS$631,BG$30,FALSE)))","v":1.5},{"$f":"IF(Süt!$B7=\"\",\"\",IF(Süt!$C7<=0,\"\",VLOOKUP($P5,$P$98:$CS$631,BH$30,FALSE)))","v":5.23},{"$f":"IF(Süt!$B7=\"\",\"\",IF(Süt!$C7<=0,\"\",VLOOKUP($P5,$P$98:$CS$631,BI$30,FALSE)))","v":41.18},{"$f":"IF(Süt!$B7=\"\",\"\",IF(Süt!$C7<=0,\"\",VLOOKUP($P5,$P$98:$CS$631,BJ$30,FALSE)))","v":12.34},{"$f":"IF(Süt!$B7=\"\",\"\",IF(Süt!$C7<=0,\"\",VLOOKUP($P5,$P$98:$CS$631,BK$30,FALSE)))","v":3.79},{"$f":"IF(Süt!$B7=\"\",\"\",IF(Süt!$C7<=0,\"\",VLOOKUP($P5,$P$98:$CS$631,BL$30,FALSE)))","v":8.5},{"$f":"IF(Süt!$B7=\"\",\"\",IF(Süt!$C7<=0,\"\",VLOOKUP($P5,$P$98:$CS$631,BM$30,FALSE)))","v":1.19},{"$f":"IF(Süt!$B7=\"\",\"\",IF(Süt!$C7<=0,\"\",VLOOKUP($P5,$P$98:$CS$631,BN$30,FALSE)))","v":0.3},{"$f":"IF(Süt!$B7=\"\",\"\",IF(Süt!$C7<=0,\"\",VLOOKUP($P5,$P$98:$CS$631,BO$30,FALSE)))","v":0.24},{"$f":"IF(Süt!$B7=\"\",\"\",IF(Süt!$C7<=0,\"\",VLOOKUP($P5,$P$98:$CS$631,BP$30,FALSE)))","v":0.64},{"$f":"IF(Süt!$B7=\"\",\"\",IF(Süt!$C7<=0,\"\",VLOOKUP($P5,$P$98:$CS$631,BQ$30,FALSE)))","v":0.27},{"$f":"IF(Süt!$B7=\"\",\"\",IF(Süt!$C7<=0,\"\",VLOOKUP($P5,$P$98:$CS$631,BR$30,FALSE)))","v":0.16},{"$f":"IF(Süt!$B7=\"\",\"\",IF(Süt!$C7<=0,\"\",VLOOKUP($P5,$P$98:$CS$631,BS$30,FALSE)))","v":1.56},{"$f":"IF(Süt!$B7=\"\",\"\",IF(Süt!$C7<=0,\"\",VLOOKUP($P5,$P$98:$CS$631,BT$30,FALSE)))","v":0.9},{"$f":"IF(Süt!$B7=\"\",\"\",IF(Süt!$C7<=0,\"\",VLOOKUP($P5,$P$98:$CS$631,BU$30,FALSE)))","v":7.0000000000000007E-2},{"$f":"IF(Süt!$B7=\"\",\"\",IF(Süt!$C7<=0,\"\",VLOOKUP($P5,$P$98:$CS$631,BV$30,FALSE)))","v":0.9},{"$f":"IF(Süt!$B7=\"\",\"\",IF(Süt!$C7<=0,\"\",VLOOKUP($P5,$P$98:$CS$631,BW$30,FALSE)))","v":0},{"$f":"IF(Süt!$B7=\"\",\"\",IF(Süt!$C7<=0,\"\",VLOOKUP($P5,$P$98:$CS$631,BX$30,FALSE)))","v":0.9},{"$f":"IF(Süt!$B7=\"\",\"\",IF(Süt!$C7<=0,\"\",VLOOKUP($P5,$P$98:$CS$631,BY$30,FALSE)))","v":0.3},{"$f":"IF(Süt!$B7=\"\",\"\",IF(Süt!$C7<=0,\"\",VLOOKUP($P5,$P$98:$CS$631,BZ$30,FALSE)))","v":1},{"$f":"IF(Süt!$B7=\"\",\"\",IF(Süt!$C7<=0,\"\",VLOOKUP($P5,$P$98:$CS$631,CA$30,FALSE)))","v":0.23},{"$f":"IF(Süt!$B7=\"\",\"\",IF(Süt!$C7<=0,\"\",VLOOKUP($P5,$P$98:$CS$631,CB$30,FALSE)))","v":1},{"$f":"IF(Süt!$B7=\"\",\"\",IF(Süt!$C7<=0,\"\",VLOOKUP($P5,$P$98:$CS$631,CC$30,FALSE)))","v":9.9},{"$f":"IF(Süt!$B7=\"\",\"\",IF(Süt!$C7<=0,\"\",VLOOKUP($P5,$P$98:$CS$631,CD$30,FALSE)))","v":0.04},{"$f":"IF(Süt!$B7=\"\",\"\",IF(Süt!$C7<=0,\"\",VLOOKUP($P5,$P$98:$CS$631,CE$30,FALSE)))","v":0.13},{"$f":"IF(Süt!$B7=\"\",\"\",IF(Süt!$C7<=0,\"\",VLOOKUP($P5,$P$98:$CS$631,CF$30,FALSE)))","v":0.85},{"$f":"IF(Süt!$B7=\"\",\"\",IF(Süt!$C7<=0,\"\",VLOOKUP($P5,$P$98:$CS$631,CG$30,FALSE)))","v":160},{"$f":"IF(Süt!$B7=\"\",\"\",IF(Süt!$C7<=0,\"\",VLOOKUP($P5,$P$98:$CS$631,CH$30,FALSE)))","v":0.1},{"$f":"IF(Süt!$B7=\"\",\"\",IF(Süt!$C7<=0,\"\",VLOOKUP($P5,$P$98:$CS$631,CI$30,FALSE)))","v":42.3},{"$f":"IF(Süt!$B7=\"\",\"\",IF(Süt!$C7<=0,\"\",VLOOKUP($P5,$P$98:$CS$631,CJ$30,FALSE)))","v":0.01},{"$f":"IF(Süt!$B7=\"\",\"\",IF(Süt!$C7<=0,\"\",VLOOKUP($P5,$P$98:$CS$631,CK$30,FALSE)))","v":0.55000000000000004},{"$f":"IF(Süt!$B7=\"\",\"\",IF(Süt!$C7<=0,\"\",VLOOKUP($P5,$P$98:$CS$631,CL$30,FALSE)))","v":1},{"$f":"IF(Süt!$B7=\"\",\"\",IF(Süt!$C7<=0,\"\",VLOOKUP($P5,$P$98:$CS$631,CM$30,FALSE)))","v":26.1},{"$f":"IF(Süt!$B7=\"\",\"\",IF(Süt!$C7<=0,\"\",VLOOKUP($P5,$P$98:$CS$631,CN$30,FALSE)))","v":0.15},{"$f":"IF(Süt!$B7=\"\",\"\",IF(Süt!$C7<=0,\"\",VLOOKUP($P5,$P$98:$CS$631,CO$30,FALSE)))","v":0},{"$f":"IF(Süt!$B7=\"\",\"\",IF(Süt!$C7<=0,\"\",VLOOKUP($P5,$P$98:$CS$631,CP$30,FALSE)))","v":0},{"$f":"IF(Süt!$B7=\"\",\"\",IF(Süt!$C7<=0,\"\",VLOOKUP($P5,$P$98:$CS$631,CQ$30,FALSE)))","v":19.3},{"$f":"IF(Süt!$B7=\"\",\"\",IF(Süt!$C7<=0,\"\",VLOOKUP($P5,$P$98:$CS$631,CR$30,FALSE)))","v":1},{"$f":"IF(Süt!$B7=\"\",\"\",IF(Süt!$C7<=0,\"\",VLOOKUP($P5,$P$98:$CS$631,CS$30,FALSE)))","v":0},13,0,5.3999999999999999E-2,null,null,"1 seçildiğinde program Target ADG yi kullanır, 0 seçildiğinde Desired ADG yi kullanır",null,null,null,null,null,null,null,null,null,null,"Damızlık Düve"]
[{"$f":"IF(Süt!A6=\"\",\"\",Süt!A6)","v":2},{"$f":"IF(Süt!B6=\"\",\"\",Süt!B6)","v":"Buğday Samanı"},{"$f":"IF(Süt!C6=\"\",\"\",Süt!C6)","v":0.70871500090575867},{"$f":"Süt!D6","v":1.5},{"$f":"Süt!E6","v":0},{"$f":"Süt!F6","v":7},"Ham Protein, g/gün",{"$f":"IF(AnimalType=\"Damızlık Düve\",HeiferRDP+HeiferRUP,RDPReq+RUPReq)","v":2884.33},{"$f":"DietCP*TotalDMFed*1000","v":2951.987462864884},{"$f":"IF(H6=\"\",\"     \",IF(I6>(H6*1.05),\"FAZLA\",IF(I6<(H6*0.98),\"EKSİK\",\"TAMAM\")))","v":"TAMAM"},null,null,null,null,48.75,{"$f":"IF(Süt!B8=\"\",\"\",IF(Süt!C8<=0,\"\",Süt!B8))","v":"Arpa, Ezme "},{"$f":"IF(Süt!$B8=\"\",\"\",IF(Süt!$C8<=0,\"\",VLOOKUP($P6,$P$98:$CS$631,Q$30,FALSE)))","v":"4-00-528"},{"$f":"IF(Süt!$B8=\"\",\"\",IF(Süt!$C8<=0,\"\",VLOOKUP($P6,$P$98:$CS$631,R$30,FALSE)))","v":82.7},{"$f":"IF(Süt!$B8=\"\",\"\",IF(Süt!$C8<=0,\"\",VLOOKUP($P6,$P$98:$CS$631,S$30,FALSE)))","v":"Conc"},{"$f":"IF(Süt!$B8=\"\",\"\",IF(Süt!$C8<=0,\"\",VLOOKUP($P6,$P$98:$CS$631,T$30,FALSE)))","v":1.04},{"$f":"IF(Süt!$B8=\"\",\"\",IF(Süt!$C8<=0,\"\",VLOOKUP($P6,$P$98:$CS$631,U$30,FALSE)))","v":3.64},{"$f":"IF(Süt!$B8=\"\",\"\",IF(Süt!$C8<=0,\"\",VLOOKUP($P6,$P$98:$CS$631,V$30,FALSE)))","v":2.92},{"$f":"IF(Süt!$B8=\"\",\"\",IF(Süt!$C8<=0,\"\",VLOOKUP($P6,$P$98:$CS$631,W$30,FALSE)))","v":1.86},{"$f":"IF(Süt!$B8=\"\",\"\",IF(Süt!$C8<=0,\"\",VLOOKUP($P6,$P$98:$CS$631,X$30,FALSE)))","v":1.76},{"$f":"IF(Süt!$B8=\"\",\"\",IF(Süt!$C8<=0,\"\",VLOOKUP($P6,$P$98:$CS$631,Y$30,FALSE)))","v":2.02},{"$f":"IF(Süt!$B8=\"\",\"\",IF(Süt!$C8<=0,\"\",VLOOKUP($P6,$P$98:$CS$631,Z$30,FALSE)))","v":1.36},{"$f":"IF(Süt!$B8=\"\",\"\",IF(Süt!$C8<=0,\"\",VLOOKUP($P6,$P$98:$CS$631,AA$30,FALSE)))","v":91},{"$f":"IF(Süt!$B8=\"\",\"\",IF(Süt!$C8<=0,\"\",VLOOKUP($P6,$P$98:$CS$631,AB$30,FALSE)))","v":12.4},{"$f":"IF(Süt!$B8=\"\",\"\",IF(Süt!$C8<=0,\"\",VLOOKUP($P6,$P$98:$CS$631,AC$30,FALSE)))","v":1},{"$f":"IF(Süt!$B8=\"\",\"\",IF(Süt!$C8<=0,\"\",VLOOKUP($P6,$P$98:$CS$631,AD$30,FALSE)))","v":1.8},{"$f":"IF(Süt!$B8=\"\",\"\",IF(Süt!$C8<=0,\"\",VLOOKUP($P6,$P$98:$CS$631,AE$30,FALSE)))","v":0.5},{"$f":"IF(Süt!$B8=\"\",\"\",IF(Süt!$C8<=0,\"\",VLOOKUP($P6,$P$98:$CS$631,AF$30,FALSE)))","v":2.2000000000000002},{"$f":"IF(Süt!$B8=\"\",\"\",IF(Süt!$C8<=0,\"\",VLOOKUP($P6,$P$98:$CS$631,AG$30,FALSE)))","v":1},{"$f":"IF(Süt!$B8=\"\",\"\",IF(Süt!$C8<=0,\"\",VLOOKUP($P6,$P$98:$CS$631,AH$30,FALSE)))","v":20.8},{"$f":"IF(Süt!$B8=\"\",\"\",IF(Süt!$C8<=0,\"\",VLOOKUP($P6,$P$98:$CS$631,AI$30,FALSE)))","v":0.48},{"$f":"IF(Süt!$B8=\"\",\"\",IF(Süt!$C8<=0,\"\",VLOOKUP($P6,$P$98:$CS$631,AJ$30,FALSE)))","v":7.2},{"$f":"IF(Süt!$B8=\"\",\"\",IF(Süt!$C8<=0,\"\",VLOOKUP($P6,$P$98:$CS$631,AK$30,FALSE)))","v":1.9},{"$f":"IF(Süt!$B8=\"\",\"\",IF(Süt!$C8<=0,\"\",VLOOKUP($P6,$P$98:$CS$631,AL$30,FALSE)))","v":2.9},{"$f":"IF(Süt!$B8=\"\",\"\",IF(Süt!$C8<=0,\"\",VLOOKUP($P6,$P$98:$CS$631,AM$30,FALSE)))","v":"Conc"},{"$f":"IF(Süt!$B8=\"\",\"\",IF(Süt!$C8<=0,\"\",VLOOKUP($P6,$P$98:$CS$631,AN$30,FALSE)))","v":"Energy Source"},{"$f":"IF(Süt!$B8=\"\",\"\",IF(Süt!$C8<=0,\"\",VLOOKUP($P6,$P$98:$CS$631,AO$30,FALSE)))","v":0},{"$f":"IF(Süt!$B8=\"\",\"\",IF(Süt!$C8<=0,\"\",VLOOKUP($P6,$P$98:$CS$631,AP$30,FALSE)))","v":10},{"$f":"IF(Süt!$B8=\"\",\"\",IF(Süt!$C8<=0,\"\",VLOOKUP($P6,$P$98:$CS$631,AQ$30,FALSE)))","v":30.2},{"$f":"IF(Süt!$B8=\"\",\"\",IF(Süt!$C8<=0,\"\",VLOOKUP($P6,$P$98:$CS$631,AR$30,FALSE)))","v":61.2},{"$f":"IF(Süt!$B8=\"\",\"\",IF(Süt!$C8<=0,\"\",VLOOKUP($P6,$P$98:$CS$631,AS$30,FALSE)))","v":8.6},{"$f":"IF(Süt!$B8=\"\",\"\",IF(Süt!$C8<=0,\"\",VLOOKUP($P6,$P$98:$CS$631,AT$30,FALSE)))","v":22.7},{"$f":"IF(Süt!$B8=\"\",\"\",IF(Süt!$C8<=0,\"\",VLOOKUP($P6,$P$98:$CS$631,AU$30,FALSE)))","v":18.100000000000001},{"$f":"IF(Süt!$B8=\"\",\"\",IF(Süt!$C8<=0,\"\",VLOOKUP($P6,$P$98:$CS$631,AV$30,FALSE)))","v":23.7},{"$f":"IF(Süt!$B8=\"\",\"\",IF(Süt!$C8<=0,\"\",VLOOKUP($P6,$P$98:$CS$631,AW$30,FALSE)))","v":85},{"$f":"IF(Süt!$B8=\"\",\"\",IF(Süt!$C8<=0,\"\",VLOOKUP($P6,$P$98:$CS$631,AX$30,FALSE)))","v":5.07},{"$f":"IF(Süt!$B8=\"\",\"\",IF(Süt!$C8<=0,\"\",VLOOKUP($P6,$P$98:$CS$631,AY$30,FALSE)))","v":2.2999999999999998},{"$f":"IF(Süt!$B8=\"\",\"\",IF(Süt!$C8<=0,\"\",VLOOKUP($P6,$P$98:$CS$631,AZ$30,FALSE)))","v":3.47},{"$f":"IF(Süt!$B8=\"\",\"\",IF(Süt!$C8<=0,\"\",VLOOKUP($P6,$P$98:$CS$631,BA$30,FALSE)))","v":6.97},{"$f":"IF(Süt!$B8=\"\",\"\",IF(Süt!$C8<=0,\"\",VLOOKUP($P6,$P$98:$CS$631,BB$30,FALSE)))","v":3.63},{"$f":"IF(Süt!$B8=\"\",\"\",IF(Süt!$C8<=0,\"\",VLOOKUP($P6,$P$98:$CS$631,BC$30,FALSE)))","v":1.7},{"$f":"IF(Süt!$B8=\"\",\"\",IF(Süt!$C8<=0,\"\",VLOOKUP($P6,$P$98:$CS$631,BD$30,FALSE)))","v":2.2799999999999998},{"$f":"IF(Süt!$B8=\"\",\"\",IF(Süt!$C8<=0,\"\",VLOOKUP($P6,$P$98:$CS$631,BE$30,FALSE)))","v":5.1100000000000003},{"$f":"IF(Süt!$B8=\"\",\"\",IF(Süt!$C8<=0,\"\",VLOOKUP($P6,$P$98:$CS$631,BF$30,FALSE)))","v":3.42},{"$f":"IF(Süt!$B8=\"\",\"\",IF(Süt!$C8<=0,\"\",VLOOKUP($P6,$P$98:$CS$631,BG$30,FALSE)))","v":1.17},{"$f":"IF(Süt!$B8=\"\",\"\",IF(Süt!$C8<=0,\"\",VLOOKUP($P6,$P$98:$CS$631,BH$30,FALSE)))","v":4.9000000000000004},{"$f":"IF(Süt!$B8=\"\",\"\",IF(Süt!$C8<=0,\"\",VLOOKUP($P6,$P$98:$CS$631,BI$30,FALSE)))","v":37.74},{"$f":"IF(Süt!$B8=\"\",\"\",IF(Süt!$C8<=0,\"\",VLOOKUP($P6,$P$98:$CS$631,BJ$30,FALSE)))","v":9.6199999999999992},{"$f":"IF(Süt!$B8=\"\",\"\",IF(Süt!$C8<=0,\"\",VLOOKUP($P6,$P$98:$CS$631,BK$30,FALSE)))","v":4.5},{"$f":"IF(Süt!$B8=\"\",\"\",IF(Süt!$C8<=0,\"\",VLOOKUP($P6,$P$98:$CS$631,BL$30,FALSE)))","v":9.75},{"$f":"IF(Süt!$B8=\"\",\"\",IF(Süt!$C8<=0,\"\",VLOOKUP($P6,$P$98:$CS$631,BM$30,FALSE)))","v":0.06},{"$f":"IF(Süt!$B8=\"\",\"\",IF(Süt!$C8<=0,\"\",VLOOKUP($P6,$P$98:$CS$631,BN$30,FALSE)))","v":0.6},{"$f":"IF(Süt!$B8=\"\",\"\",IF(Süt!$C8<=0,\"\",VLOOKUP($P6,$P$98:$CS$631,BO$30,FALSE)))","v":0.39},{"$f":"IF(Süt!$B8=\"\",\"\",IF(Süt!$C8<=0,\"\",VLOOKUP($P6,$P$98:$CS$631,BP$30,FALSE)))","v":0.7},{"$f":"IF(Süt!$B8=\"\",\"\",IF(Süt!$C8<=0,\"\",VLOOKUP($P6,$P$98:$CS$631,BQ$30,FALSE)))","v":0.14000000000000001},{"$f":"IF(Süt!$B8=\"\",\"\",IF(Süt!$C8<=0,\"\",VLOOKUP($P6,$P$98:$CS$631,BR$30,FALSE)))","v":0.16},{"$f":"IF(Süt!$B8=\"\",\"\",IF(Süt!$C8<=0,\"\",VLOOKUP($P6,$P$98:$CS$631,BS$30,FALSE)))","v":0.56000000000000005},{"$f":"IF(Süt!$B8=\"\",\"\",IF(Süt!$C8<=0,\"\",VLOOKUP($P6,$P$98:$CS$631,BT$30,FALSE)))","v":0.9},{"$f":"IF(Süt!$B8=\"\",\"\",IF(Süt!$C8<=0,\"\",VLOOKUP($P6,$P$98:$CS$631,BU$30,FALSE)))","v":0.02},{"$f":"IF(Süt!$B8=\"\",\"\",IF(Süt!$C8<=0,\"\",VLOOKUP($P6,$P$98:$CS$631,BV$30,FALSE)))","v":0.9},{"$f":"IF(Süt!$B8=\"\",\"\",IF(Süt!$C8<=0,\"\",VLOOKUP($P6,$P$98:$CS$631,BW$30,FALSE)))","v":0.13},{"$f":"IF(Süt!$B8=\"\",\"\",IF(Süt!$C8<=0,\"\",VLOOKUP($P6,$P$98:$CS$631,BX$30,FALSE)))","v":0.9},{"$f":"IF(Süt!$B8=\"\",\"\",IF(Süt!$C8<=0,\"\",VLOOKUP($P6,$P$98:$CS$631,BY$30,FALSE)))","v":0.12},{"$f":"IF(Süt!$B8=\"\",\"\",IF(Süt!$C8<=0,\"\",VLOOKUP($P6,$P$98:$CS$631,BZ$30,FALSE)))","v":1},{"$f":"IF(Süt!$B8=\"\",\"\",IF(Süt!$C8<=0,\"\",VLOOKUP($P6,$P$98:$CS$631,CA$30,FALSE)))","v":0.35},{"$f":"IF(Süt!$B8=\"\",\"\",IF(Süt!$C8<=0,\"\",VLOOKUP($P6,$P$98:$CS$631,CB$30,FALSE)))","v":1},{"$f":"IF(Süt!$B8=\"\",\"\",IF(Süt!$C8<=0,\"\",VLOOKUP($P6,$P$98:$CS$631,CC$30,FALSE)))","v":6},{"$f":"IF(Süt!$B8=\"\",\"\",IF(Süt!$C8<=0,\"\",VLOOKUP($P6,$P$98:$CS$631,CD$30,FALSE)))","v":0.04},{"$f":"IF(Süt!$B8=\"\",\"\",IF(Süt!$C8<=0,\"\",VLOOKUP($P6,$P$98:$CS$631,CE$30,FALSE)))","v":0},{"$f":"IF(Süt!$B8=\"\",\"\",IF(Süt!$C8<=0,\"\",VLOOKUP($P6,$P$98:$CS$631,CF$30,FALSE)))","v":0.85},{"$f":"IF(Süt!$B8=\"\",\"\",IF(Süt!$C8<=0,\"\",VLOOKUP($P6,$P$98:$CS$631,CG$30,FALSE)))","v":70},{"$f":"IF(Süt!$B8=\"\",\"\",IF(Süt!$C8<=0,\"\",VLOOKUP($P6,$P$98:$CS$631,CH$30,FALSE)))","v":0.1},{"$f":"IF(Süt!$B8=\"\",\"\",IF(Süt!$C8<=0,\"\",VLOOKUP($P6,$P$98:$CS$631,CI$30,FALSE)))","v":22},{"$f":"IF(Süt!$B8=\"\",\"\",IF(Süt!$C8<=0,\"\",VLOOKUP($P6,$P$98:$CS$631,CJ$30,FALSE)))","v":0.01},{"$f":"IF(Süt!$B8=\"\",\"\",IF(Süt!$C8<=0,\"\",VLOOKUP($P6,$P$98:$CS$631,CK$30,FALSE)))","v":0.11},{"$f":"IF(Süt!$B8=\"\",\"\",IF(Süt!$C8<=0,\"\",VLOOKUP($P6,$P$98:$CS$631,CL$30,FALSE)))","v":1},{"$f":"IF(Süt!$B8=\"\",\"\",IF(Süt!$C8<=0,\"\",VLOOKUP($P6,$P$98:$CS$631,CM$30,FALSE)))","v":38},{"$f":"IF(Süt!$B8=\"\",\"\",IF(Süt!$C8<=0,\"\",VLOOKUP($P6,$P$98:$CS$631,CN$30,FALSE)))","v":0.15},{"$f":"IF(Süt!$B8=\"\",\"\",IF(Süt!$C8<=0,\"\",VLOOKUP($P6,$P$98:$CS$631,CO$30,FALSE)))","v":1.1000000000000001},{"$f":"IF(Süt!$B8=\"\",\"\",IF(Süt!$C8<=0,\"\",VLOOKUP($P6,$P$98:$CS$631,CP$30,FALSE)))","v":0},{"$f":"IF(Süt!$B8=\"\",\"\",IF(Süt!$C8<=0,\"\",VLOOKUP($P6,$P$98:$CS$631,CQ$30,FALSE)))","v":0},{"$f":"IF(Süt!$B8=\"\",\"\",IF(Süt!$C8<=0,\"\",VLOOKUP($P6,$P$98:$CS$631,CR$30,FALSE)))","v":0},{"$f":"IF(Süt!$B8=\"\",\"\",IF(Süt!$C8<=0,\"\",VLOOKUP($P6,$P$98:$CS$631,CS$30,FALSE)))","v":0},12,0,8.1000000000000003E-2,"İstenilen canlı ağırlık artışı :",{"$f":"IF(AnimalType=\"Damızlık Düve\",ADG*1000,0)","v":0},"gram/gün"]
[{"$f":"IF(Süt!A7=\"\",\"\",Süt!A7)","v":2},{"$f":"IF(Süt!B7=\"\",\"\",Süt!B7)","v":"Yonca Kuru Otu, 4.kalite, %15-17 HP, %44-48 NDF"},{"$f":"IF(Süt!C7=\"\",\"\",Süt!C7)","v":7},{"$f":"Süt!D7","v":8.5},{"$f":"Süt!E7","v":0},{"$f":"Süt!F7","v":7},"Ham Protein, % KM",null,{"$f":"DietCP*100","v":13.965205963950291},null,null,null,0.1,null,2.4086227765433174E-7,{"$f":"IF(Süt!B9=\"\",\"\",IF(Süt!C9<=0,\"\",Süt!B9))","v":"Mısır, Pul Haline Getirilmiş"},{"$f":"IF(Süt!$B9=\"\",\"\",IF(Süt!$C9<=0,\"\",VLOOKUP($P7,$P$98:$CS$631,Q$30,FALSE)))","v":"4-02-854"},{"$f":"IF(Süt!$B9=\"\",\"\",IF(Süt!$C9<=0,\"\",VLOOKUP($P7,$P$98:$CS$631,R$30,FALSE)))","v":91.7},{"$f":"IF(Süt!$B9=\"\",\"\",IF(Süt!$C9<=0,\"\",VLOOKUP($P7,$P$98:$CS$631,S$30,FALSE)))","v":"Conc"},{"$f":"IF(Süt!$B9=\"\",\"\",IF(Süt!$C9<=0,\"\",VLOOKUP($P7,$P$98:$CS$631,T$30,FALSE)))","v":1.04},{"$f":"IF(Süt!$B9=\"\",\"\",IF(Süt!$C9<=0,\"\",VLOOKUP($P7,$P$98:$CS$631,U$30,FALSE)))","v":3.97},{"$f":"IF(Süt!$B9=\"\",\"\",IF(Süt!$C9<=0,\"\",VLOOKUP($P7,$P$98:$CS$631,V$30,FALSE)))","v":3.24},{"$f":"IF(Süt!$B9=\"\",\"\",IF(Süt!$C9<=0,\"\",VLOOKUP($P7,$P$98:$CS$631,W$30,FALSE)))","v":2.09},{"$f":"IF(Süt!$B9=\"\",\"\",IF(Süt!$C9<=0,\"\",VLOOKUP($P7,$P$98:$CS$631,X$30,FALSE)))","v":1.98},{"$f":"IF(Süt!$B9=\"\",\"\",IF(Süt!$C9<=0,\"\",VLOOKUP($P7,$P$98:$CS$631,Y$30,FALSE)))","v":2.2400000000000002},{"$f":"IF(Süt!$B9=\"\",\"\",IF(Süt!$C9<=0,\"\",VLOOKUP($P7,$P$98:$CS$631,Z$30,FALSE)))","v":1.55},{"$f":"IF(Süt!$B9=\"\",\"\",IF(Süt!$C9<=0,\"\",VLOOKUP($P7,$P$98:$CS$631,AA$30,FALSE)))","v":88.1},{"$f":"IF(Süt!$B9=\"\",\"\",IF(Süt!$C9<=0,\"\",VLOOKUP($P7,$P$98:$CS$631,AB$30,FALSE)))","v":9.4},{"$f":"IF(Süt!$B9=\"\",\"\",IF(Süt!$C9<=0,\"\",VLOOKUP($P7,$P$98:$CS$631,AC$30,FALSE)))","v":1},{"$f":"IF(Süt!$B9=\"\",\"\",IF(Süt!$C9<=0,\"\",VLOOKUP($P7,$P$98:$CS$631,AD$30,FALSE)))","v":0.7},{"$f":"IF(Süt!$B9=\"\",\"\",IF(Süt!$C9<=0,\"\",VLOOKUP($P7,$P$98:$CS$631,AE$30,FALSE)))","v":0.3},{"$f":"IF(Süt!$B9=\"\",\"\",IF(Süt!$C9<=0,\"\",VLOOKUP($P7,$P$98:$CS$631,AF$30,FALSE)))","v":4.2},{"$f":"IF(Süt!$B9=\"\",\"\",IF(Süt!$C9<=0,\"\",VLOOKUP($P7,$P$98:$CS$631,AG$30,FALSE)))","v":1},{"$f":"IF(Süt!$B9=\"\",\"\",IF(Süt!$C9<=0,\"\",VLOOKUP($P7,$P$98:$CS$631,AH$30,FALSE)))","v":9.5},{"$f":"IF(Süt!$B9=\"\",\"\",IF(Süt!$C9<=0,\"\",VLOOKUP($P7,$P$98:$CS$631,AI$30,FALSE)))","v":0.49},{"$f":"IF(Süt!$B9=\"\",\"\",IF(Süt!$C9<=0,\"\",VLOOKUP($P7,$P$98:$CS$631,AJ$30,FALSE)))","v":3.4},{"$f":"IF(Süt!$B9=\"\",\"\",IF(Süt!$C9<=0,\"\",VLOOKUP($P7,$P$98:$CS$631,AK$30,FALSE)))","v":0.9},{"$f":"IF(Süt!$B9=\"\",\"\",IF(Süt!$C9<=0,\"\",VLOOKUP($P7,$P$98:$CS$631,AL$30,FALSE)))","v":1.5},{"$f":"IF(Süt!$B9=\"\",\"\",IF(Süt!$C9<=0,\"\",VLOOKUP($P7,$P$98:$CS$631,AM$30,FALSE)))","v":"Conc"},{"$f":"IF(Süt!$B9=\"\",\"\",IF(Süt!$C9<=0,\"\",VLOOKUP($P7,$P$98:$CS$631,AN$30,FALSE)))","v":"Energy Source"},{"$f":"IF(Süt!$B9=\"\",\"\",IF(Süt!$C9<=0,\"\",VLOOKUP($P7,$P$98:$CS$631,AO$30,FALSE)))","v":0},{"$f":"IF(Süt!$B9=\"\",\"\",IF(Süt!$C9<=0,\"\",VLOOKUP($P7,$P$98:$CS$631,AP$30,FALSE)))","v":10},{"$f":"IF(Süt!$B9=\"\",\"\",IF(Süt!$C9<=0,\"\",VLOOKUP($P7,$P$98:$CS$631,AQ$30,FALSE)))","v":1.7},{"$f":"IF(Süt!$B9=\"\",\"\",IF(Süt!$C9<=0,\"\",VLOOKUP($P7,$P$98:$CS$631,AR$30,FALSE)))","v":82.8},{"$f":"IF(Süt!$B9=\"\",\"\",IF(Süt!$C9<=0,\"\",VLOOKUP($P7,$P$98:$CS$631,AS$30,FALSE)))","v":15.5},{"$f":"IF(Süt!$B9=\"\",\"\",IF(Süt!$C9<=0,\"\",VLOOKUP($P7,$P$98:$CS$631,AT$30,FALSE)))","v":3},{"$f":"IF(Süt!$B9=\"\",\"\",IF(Süt!$C9<=0,\"\",VLOOKUP($P7,$P$98:$CS$631,AU$30,FALSE)))","v":63.7},{"$f":"IF(Süt!$B9=\"\",\"\",IF(Süt!$C9<=0,\"\",VLOOKUP($P7,$P$98:$CS$631,AV$30,FALSE)))","v":74.5},{"$f":"IF(Süt!$B9=\"\",\"\",IF(Süt!$C9<=0,\"\",VLOOKUP($P7,$P$98:$CS$631,AW$30,FALSE)))","v":90},{"$f":"IF(Süt!$B9=\"\",\"\",IF(Süt!$C9<=0,\"\",VLOOKUP($P7,$P$98:$CS$631,AX$30,FALSE)))","v":4.7300000000000004},{"$f":"IF(Süt!$B9=\"\",\"\",IF(Süt!$C9<=0,\"\",VLOOKUP($P7,$P$98:$CS$631,AY$30,FALSE)))","v":3.13},{"$f":"IF(Süt!$B9=\"\",\"\",IF(Süt!$C9<=0,\"\",VLOOKUP($P7,$P$98:$CS$631,AZ$30,FALSE)))","v":3.34},{"$f":"IF(Süt!$B9=\"\",\"\",IF(Süt!$C9<=0,\"\",VLOOKUP($P7,$P$98:$CS$631,BA$30,FALSE)))","v":10.87},{"$f":"IF(Süt!$B9=\"\",\"\",IF(Süt!$C9<=0,\"\",VLOOKUP($P7,$P$98:$CS$631,BB$30,FALSE)))","v":3.05},{"$f":"IF(Süt!$B9=\"\",\"\",IF(Süt!$C9<=0,\"\",VLOOKUP($P7,$P$98:$CS$631,BC$30,FALSE)))","v":2.04},{"$f":"IF(Süt!$B9=\"\",\"\",IF(Süt!$C9<=0,\"\",VLOOKUP($P7,$P$98:$CS$631,BD$30,FALSE)))","v":2.2200000000000002},{"$f":"IF(Süt!$B9=\"\",\"\",IF(Süt!$C9<=0,\"\",VLOOKUP($P7,$P$98:$CS$631,BE$30,FALSE)))","v":4.62},{"$f":"IF(Süt!$B9=\"\",\"\",IF(Süt!$C9<=0,\"\",VLOOKUP($P7,$P$98:$CS$631,BF$30,FALSE)))","v":3.66},{"$f":"IF(Süt!$B9=\"\",\"\",IF(Süt!$C9<=0,\"\",VLOOKUP($P7,$P$98:$CS$631,BG$30,FALSE)))","v":0.72},{"$f":"IF(Süt!$B9=\"\",\"\",IF(Süt!$C9<=0,\"\",VLOOKUP($P7,$P$98:$CS$631,BH$30,FALSE)))","v":4.75},{"$f":"IF(Süt!$B9=\"\",\"\",IF(Süt!$C9<=0,\"\",VLOOKUP($P7,$P$98:$CS$631,BI$30,FALSE)))","v":40.19},{"$f":"IF(Süt!$B9=\"\",\"\",IF(Süt!$C9<=0,\"\",VLOOKUP($P7,$P$98:$CS$631,BJ$30,FALSE)))","v":7.45},{"$f":"IF(Süt!$B9=\"\",\"\",IF(Süt!$C9<=0,\"\",VLOOKUP($P7,$P$98:$CS$631,BK$30,FALSE)))","v":4.99},{"$f":"IF(Süt!$B9=\"\",\"\",IF(Süt!$C9<=0,\"\",VLOOKUP($P7,$P$98:$CS$631,BL$30,FALSE)))","v":11.5},{"$f":"IF(Süt!$B9=\"\",\"\",IF(Süt!$C9<=0,\"\",VLOOKUP($P7,$P$98:$CS$631,BM$30,FALSE)))","v":0.04},{"$f":"IF(Süt!$B9=\"\",\"\",IF(Süt!$C9<=0,\"\",VLOOKUP($P7,$P$98:$CS$631,BN$30,FALSE)))","v":0.6},{"$f":"IF(Süt!$B9=\"\",\"\",IF(Süt!$C9<=0,\"\",VLOOKUP($P7,$P$98:$CS$631,BO$30,FALSE)))","v":0.3},{"$f":"IF(Süt!$B9=\"\",\"\",IF(Süt!$C9<=0,\"\",VLOOKUP($P7,$P$98:$CS$631,BP$30,FALSE)))","v":0.7},{"$f":"IF(Süt!$B9=\"\",\"\",IF(Süt!$C9<=0,\"\",VLOOKUP($P7,$P$98:$CS$631,BQ$30,FALSE)))","v":0.12},{"$f":"IF(Süt!$B9=\"\",\"\",IF(Süt!$C9<=0,\"\",VLOOKUP($P7,$P$98:$CS$631,BR$30,FALSE)))","v":0.16},{"$f":"IF(Süt!$B9=\"\",\"\",IF(Süt!$C9<=0,\"\",VLOOKUP($P7,$P$98:$CS$631,BS$30,FALSE)))","v":0.42},{"$f":"IF(Süt!$B9=\"\",\"\",IF(Süt!$C9<=0,\"\",VLOOKUP($P7,$P$98:$CS$631,BT$30,FALSE)))","v":0.9},{"$f":"IF(Süt!$B9=\"\",\"\",IF(Süt!$C9<=0,\"\",VLOOKUP($P7,$P$98:$CS$631,BU$30,FALSE)))","v":0.02},{"$f":"IF(Süt!$B9=\"\",\"\",IF(Süt!$C9<=0,\"\",VLOOKUP($P7,$P$98:$CS$631,BV$30,FALSE)))","v":0.9},{"$f":"IF(Süt!$B9=\"\",\"\",IF(Süt!$C9<=0,\"\",VLOOKUP($P7,$P$98:$CS$631,BW$30,FALSE)))","v":0.08},{"$f":"IF(Süt!$B9=\"\",\"\",IF(Süt!$C9<=0,\"\",VLOOKUP($P7,$P$98:$CS$631,BX$30,FALSE)))","v":0.9},{"$f":"IF(Süt!$B9=\"\",\"\",IF(Süt!$C9<=0,\"\",VLOOKUP($P7,$P$98:$CS$631,BY$30,FALSE)))","v":0.1},{"$f":"IF(Süt!$B9=\"\",\"\",IF(Süt!$C9<=0,\"\",VLOOKUP($P7,$P$98:$CS$631,BZ$30,FALSE)))","v":1},{"$f":"IF(Süt!$B9=\"\",\"\",IF(Süt!$C9<=0,\"\",VLOOKUP($P7,$P$98:$CS$631,CA$30,FALSE)))","v":0},{"$f":"IF(Süt!$B9=\"\",\"\",IF(Süt!$C9<=0,\"\",VLOOKUP($P7,$P$98:$CS$631,CB$30,FALSE)))","v":1},{"$f":"IF(Süt!$B9=\"\",\"\",IF(Süt!$C9<=0,\"\",VLOOKUP($P7,$P$98:$CS$631,CC$30,FALSE)))","v":3},{"$f":"IF(Süt!$B9=\"\",\"\",IF(Süt!$C9<=0,\"\",VLOOKUP($P7,$P$98:$CS$631,CD$30,FALSE)))","v":0.04},{"$f":"IF(Süt!$B9=\"\",\"\",IF(Süt!$C9<=0,\"\",VLOOKUP($P7,$P$98:$CS$631,CE$30,FALSE)))","v":0},{"$f":"IF(Süt!$B9=\"\",\"\",IF(Süt!$C9<=0,\"\",VLOOKUP($P7,$P$98:$CS$631,CF$30,FALSE)))","v":0.85},{"$f":"IF(Süt!$B9=\"\",\"\",IF(Süt!$C9<=0,\"\",VLOOKUP($P7,$P$98:$CS$631,CG$30,FALSE)))","v":54},{"$f":"IF(Süt!$B9=\"\",\"\",IF(Süt!$C9<=0,\"\",VLOOKUP($P7,$P$98:$CS$631,CH$30,FALSE)))","v":0.1},{"$f":"IF(Süt!$B9=\"\",\"\",IF(Süt!$C9<=0,\"\",VLOOKUP($P7,$P$98:$CS$631,CI$30,FALSE)))","v":11},{"$f":"IF(Süt!$B9=\"\",\"\",IF(Süt!$C9<=0,\"\",VLOOKUP($P7,$P$98:$CS$631,CJ$30,FALSE)))","v":0.01},{"$f":"IF(Süt!$B9=\"\",\"\",IF(Süt!$C9<=0,\"\",VLOOKUP($P7,$P$98:$CS$631,CK$30,FALSE)))","v":7.0000000000000007E-2},{"$f":"IF(Süt!$B9=\"\",\"\",IF(Süt!$C9<=0,\"\",VLOOKUP($P7,$P$98:$CS$631,CL$30,FALSE)))","v":1},{"$f":"IF(Süt!$B9=\"\",\"\",IF(Süt!$C9<=0,\"\",VLOOKUP($P7,$P$98:$CS$631,CM$30,FALSE)))","v":27},{"$f":"IF(Süt!$B9=\"\",\"\",IF(Süt!$C9<=0,\"\",VLOOKUP($P7,$P$98:$CS$631,CN$30,FALSE)))","v":0.15},{"$f":"IF(Süt!$B9=\"\",\"\",IF(Süt!$C9<=0,\"\",VLOOKUP($P7,$P$98:$CS$631,CO$30,FALSE)))","v":0.8},{"$f":"IF(Süt!$B9=\"\",\"\",IF(Süt!$C9<=0,\"\",VLOOKUP($P7,$P$98:$CS$631,CP$30,FALSE)))","v":0},{"$f":"IF(Süt!$B9=\"\",\"\",IF(Süt!$C9<=0,\"\",VLOOKUP($P7,$P$98:$CS$631,CQ$30,FALSE)))","v":0},{"$f":"IF(Süt!$B9=\"\",\"\",IF(Süt!$C9<=0,\"\",VLOOKUP($P7,$P$98:$CS$631,CR$30,FALSE)))","v":0},{"$f":"IF(Süt!$B9=\"\",\"\",IF(Süt!$C9<=0,\"\",VLOOKUP($P7,$P$98:$CS$631,CS$30,FALSE)))","v":0},11,0,0.108,"MWFromBreed",{"$f":"VLOOKUP(Breed,P65:X75,2,FALSE)","v":682},"Eğer hayvanın ergin ağırlığı ırkın bir fonksiyonu gibi kabul edilecekse"]
[{"$f":"IF(Süt!A8=\"\",\"\",Süt!A8)","v":3},{"$f":"IF(Süt!B8=\"\",\"\",Süt!B8)","v":"Arpa, Ezme "},{"$f":"IF(Süt!C8=\"\",\"\",Süt!C8)","v":5},{"$f":"Süt!D8","v":9.75},{"$f":"Süt!E8","v":0},{"$f":"Süt!F8","v":5},"Metabolik Protein, g/gün",{"$f":"IF(OR(AnimalType=\"Damızlık Düve\",AnimalType=\"Kurudaki İnek\")=TRUE,\"\",MP_TargetDietConc*H2)","v":1918.7341316804641},{"$f":"(MPFeed*1000)+MPBact+MPEndo","v":1898.0109829788305},{"$f":"IF(H8=\"\",\"\",IF(I8>(H8*1.05),\"FAZLA\",IF(I8<(H8*0.98),\"EKSİK\",\"TAMAM\")))","v":"TAMAM"},null,null,1.7,null,1.9711248181530346E-7,{"$f":"IF(Süt!B10=\"\",\"\",IF(Süt!C10<=0,\"\",Süt!B10))","v":"Pamuk Tohumu Küspesi, Pres, %25 HP"},{"$f":"IF(Süt!$B10=\"\",\"\",IF(Süt!$C10<=0,\"\",VLOOKUP($P8,$P$98:$CS$631,Q$30,FALSE)))","v":0},{"$f":"IF(Süt!$B10=\"\",\"\",IF(Süt!$C10<=0,\"\",VLOOKUP($P8,$P$98:$CS$631,R$30,FALSE)))","v":60},{"$f":"IF(Süt!$B10=\"\",\"\",IF(Süt!$C10<=0,\"\",VLOOKUP($P8,$P$98:$CS$631,S$30,FALSE)))","v":"Conc"},{"$f":"IF(Süt!$B10=\"\",\"\",IF(Süt!$C10<=0,\"\",VLOOKUP($P8,$P$98:$CS$631,T$30,FALSE)))","v":0},{"$f":"IF(Süt!$B10=\"\",\"\",IF(Süt!$C10<=0,\"\",VLOOKUP($P8,$P$98:$CS$631,U$30,FALSE)))","v":2.9},{"$f":"IF(Süt!$B10=\"\",\"\",IF(Süt!$C10<=0,\"\",VLOOKUP($P8,$P$98:$CS$631,V$30,FALSE)))","v":2.2999999999999998},{"$f":"IF(Süt!$B10=\"\",\"\",IF(Süt!$C10<=0,\"\",VLOOKUP($P8,$P$98:$CS$631,W$30,FALSE)))","v":1.4},{"$f":"IF(Süt!$B10=\"\",\"\",IF(Süt!$C10<=0,\"\",VLOOKUP($P8,$P$98:$CS$631,X$30,FALSE)))","v":1.3},{"$f":"IF(Süt!$B10=\"\",\"\",IF(Süt!$C10<=0,\"\",VLOOKUP($P8,$P$98:$CS$631,Y$30,FALSE)))","v":1.5},{"$f":"IF(Süt!$B10=\"\",\"\",IF(Süt!$C10<=0,\"\",VLOOKUP($P8,$P$98:$CS$631,Z$30,FALSE)))","v":0.9},{"$f":"IF(Süt!$B10=\"\",\"\",IF(Süt!$C10<=0,\"\",VLOOKUP($P8,$P$98:$CS$631,AA$30,FALSE)))","v":90.5},{"$f":"IF(Süt!$B10=\"\",\"\",IF(Süt!$C10<=0,\"\",VLOOKUP($P8,$P$98:$CS$631,AB$30,FALSE)))","v":27.6},{"$f":"IF(Süt!$B10=\"\",\"\",IF(Süt!$C10<=0,\"\",VLOOKUP($P8,$P$98:$CS$631,AC$30,FALSE)))","v":1},{"$f":"IF(Süt!$B10=\"\",\"\",IF(Süt!$C10<=0,\"\",VLOOKUP($P8,$P$98:$CS$631,AD$30,FALSE)))","v":5.5},{"$f":"IF(Süt!$B10=\"\",\"\",IF(Süt!$C10<=0,\"\",VLOOKUP($P8,$P$98:$CS$631,AE$30,FALSE)))","v":1.4},{"$f":"IF(Süt!$B10=\"\",\"\",IF(Süt!$C10<=0,\"\",VLOOKUP($P8,$P$98:$CS$631,AF$30,FALSE)))","v":5},{"$f":"IF(Süt!$B10=\"\",\"\",IF(Süt!$C10<=0,\"\",VLOOKUP($P8,$P$98:$CS$631,AG$30,FALSE)))","v":1},{"$f":"IF(Süt!$B10=\"\",\"\",IF(Süt!$C10<=0,\"\",VLOOKUP($P8,$P$98:$CS$631,AH$30,FALSE)))","v":40},{"$f":"IF(Süt!$B10=\"\",\"\",IF(Süt!$C10<=0,\"\",VLOOKUP($P8,$P$98:$CS$631,AI$30,FALSE)))","v":0.27},{"$f":"IF(Süt!$B10=\"\",\"\",IF(Süt!$C10<=0,\"\",VLOOKUP($P8,$P$98:$CS$631,AJ$30,FALSE)))","v":30},{"$f":"IF(Süt!$B10=\"\",\"\",IF(Süt!$C10<=0,\"\",VLOOKUP($P8,$P$98:$CS$631,AK$30,FALSE)))","v":9.5},{"$f":"IF(Süt!$B10=\"\",\"\",IF(Süt!$C10<=0,\"\",VLOOKUP($P8,$P$98:$CS$631,AL$30,FALSE)))","v":7.5},{"$f":"IF(Süt!$B10=\"\",\"\",IF(Süt!$C10<=0,\"\",VLOOKUP($P8,$P$98:$CS$631,AM$30,FALSE)))","v":"Conc"},{"$f":"IF(Süt!$B10=\"\",\"\",IF(Süt!$C10<=0,\"\",VLOOKUP($P8,$P$98:$CS$631,AN$30,FALSE)))","v":"Plant Protein"},{"$f":"IF(Süt!$B10=\"\",\"\",IF(Süt!$C10<=0,\"\",VLOOKUP($P8,$P$98:$CS$631,AO$30,FALSE)))","v":0},{"$f":"IF(Süt!$B10=\"\",\"\",IF(Süt!$C10<=0,\"\",VLOOKUP($P8,$P$98:$CS$631,AP$30,FALSE)))","v":5},{"$f":"IF(Süt!$B10=\"\",\"\",IF(Süt!$C10<=0,\"\",VLOOKUP($P8,$P$98:$CS$631,AQ$30,FALSE)))","v":36},{"$f":"IF(Süt!$B10=\"\",\"\",IF(Süt!$C10<=0,\"\",VLOOKUP($P8,$P$98:$CS$631,AR$30,FALSE)))","v":56},{"$f":"IF(Süt!$B10=\"\",\"\",IF(Süt!$C10<=0,\"\",VLOOKUP($P8,$P$98:$CS$631,AS$30,FALSE)))","v":8},{"$f":"IF(Süt!$B10=\"\",\"\",IF(Süt!$C10<=0,\"\",VLOOKUP($P8,$P$98:$CS$631,AT$30,FALSE)))","v":20},{"$f":"IF(Süt!$B10=\"\",\"\",IF(Süt!$C10<=0,\"\",VLOOKUP($P8,$P$98:$CS$631,AU$30,FALSE)))","v":42},{"$f":"IF(Süt!$B10=\"\",\"\",IF(Süt!$C10<=0,\"\",VLOOKUP($P8,$P$98:$CS$631,AV$30,FALSE)))","v":48},{"$f":"IF(Süt!$B10=\"\",\"\",IF(Süt!$C10<=0,\"\",VLOOKUP($P8,$P$98:$CS$631,AW$30,FALSE)))","v":90},{"$f":"IF(Süt!$B10=\"\",\"\",IF(Süt!$C10<=0,\"\",VLOOKUP($P8,$P$98:$CS$631,AX$30,FALSE)))","v":8.5},{"$f":"IF(Süt!$B10=\"\",\"\",IF(Süt!$C10<=0,\"\",VLOOKUP($P8,$P$98:$CS$631,AY$30,FALSE)))","v":2.65},{"$f":"IF(Süt!$B10=\"\",\"\",IF(Süt!$C10<=0,\"\",VLOOKUP($P8,$P$98:$CS$631,AZ$30,FALSE)))","v":3.8},{"$f":"IF(Süt!$B10=\"\",\"\",IF(Süt!$C10<=0,\"\",VLOOKUP($P8,$P$98:$CS$631,BA$30,FALSE)))","v":6.3},{"$f":"IF(Süt!$B10=\"\",\"\",IF(Süt!$C10<=0,\"\",VLOOKUP($P8,$P$98:$CS$631,BB$30,FALSE)))","v":3.7},{"$f":"IF(Süt!$B10=\"\",\"\",IF(Süt!$C10<=0,\"\",VLOOKUP($P8,$P$98:$CS$631,BC$30,FALSE)))","v":1.5},{"$f":"IF(Süt!$B10=\"\",\"\",IF(Süt!$C10<=0,\"\",VLOOKUP($P8,$P$98:$CS$631,BD$30,FALSE)))","v":1.6},{"$f":"IF(Süt!$B10=\"\",\"\",IF(Süt!$C10<=0,\"\",VLOOKUP($P8,$P$98:$CS$631,BE$30,FALSE)))","v":4.8},{"$f":"IF(Süt!$B10=\"\",\"\",IF(Süt!$C10<=0,\"\",VLOOKUP($P8,$P$98:$CS$631,BF$30,FALSE)))","v":3.1},{"$f":"IF(Süt!$B10=\"\",\"\",IF(Süt!$C10<=0,\"\",VLOOKUP($P8,$P$98:$CS$631,BG$30,FALSE)))","v":1.2},{"$f":"IF(Süt!$B10=\"\",\"\",IF(Süt!$C10<=0,\"\",VLOOKUP($P8,$P$98:$CS$631,BH$30,FALSE)))","v":4},{"$f":"IF(Süt!$B10=\"\",\"\",IF(Süt!$C10<=0,\"\",VLOOKUP($P8,$P$98:$CS$631,BI$30,FALSE)))","v":41.15},{"$f":"IF(Süt!$B10=\"\",\"\",IF(Süt!$C10<=0,\"\",VLOOKUP($P8,$P$98:$CS$631,BJ$30,FALSE)))","v":8.6999999999999993},{"$f":"IF(Süt!$B10=\"\",\"\",IF(Süt!$C10<=0,\"\",VLOOKUP($P8,$P$98:$CS$631,BK$30,FALSE)))","v":3.5},{"$f":"IF(Süt!$B10=\"\",\"\",IF(Süt!$C10<=0,\"\",VLOOKUP($P8,$P$98:$CS$631,BL$30,FALSE)))","v":12},{"$f":"IF(Süt!$B10=\"\",\"\",IF(Süt!$C10<=0,\"\",VLOOKUP($P8,$P$98:$CS$631,BM$30,FALSE)))","v":0.2},{"$f":"IF(Süt!$B10=\"\",\"\",IF(Süt!$C10<=0,\"\",VLOOKUP($P8,$P$98:$CS$631,BN$30,FALSE)))","v":0.6},{"$f":"IF(Süt!$B10=\"\",\"\",IF(Süt!$C10<=0,\"\",VLOOKUP($P8,$P$98:$CS$631,BO$30,FALSE)))","v":1},{"$f":"IF(Süt!$B10=\"\",\"\",IF(Süt!$C10<=0,\"\",VLOOKUP($P8,$P$98:$CS$631,BP$30,FALSE)))","v":0.7},{"$f":"IF(Süt!$B10=\"\",\"\",IF(Süt!$C10<=0,\"\",VLOOKUP($P8,$P$98:$CS$631,BQ$30,FALSE)))","v":0.62},{"$f":"IF(Süt!$B10=\"\",\"\",IF(Süt!$C10<=0,\"\",VLOOKUP($P8,$P$98:$CS$631,BR$30,FALSE)))","v":0.16},{"$f":"IF(Süt!$B10=\"\",\"\",IF(Süt!$C10<=0,\"\",VLOOKUP($P8,$P$98:$CS$631,BS$30,FALSE)))","v":1.5},{"$f":"IF(Süt!$B10=\"\",\"\",IF(Süt!$C10<=0,\"\",VLOOKUP($P8,$P$98:$CS$631,BT$30,FALSE)))","v":0.9},{"$f":"IF(Süt!$B10=\"\",\"\",IF(Süt!$C10<=0,\"\",VLOOKUP($P8,$P$98:$CS$631,BU$30,FALSE)))","v":0.05},{"$f":"IF(Süt!$B10=\"\",\"\",IF(Süt!$C10<=0,\"\",VLOOKUP($P8,$P$98:$CS$631,BV$30,FALSE)))","v":0.9},{"$f":"IF(Süt!$B10=\"\",\"\",IF(Süt!$C10<=0,\"\",VLOOKUP($P8,$P$98:$CS$631,BW$30,FALSE)))","v":0.08},{"$f":"IF(Süt!$B10=\"\",\"\",IF(Süt!$C10<=0,\"\",VLOOKUP($P8,$P$98:$CS$631,BX$30,FALSE)))","v":0.9},{"$f":"IF(Süt!$B10=\"\",\"\",IF(Süt!$C10<=0,\"\",VLOOKUP($P8,$P$98:$CS$631,BY$30,FALSE)))","v":0.37},{"$f":"IF(Süt!$B10=\"\",\"\",IF(Süt!$C10<=0,\"\",VLOOKUP($P8,$P$98:$CS$631,BZ$30,FALSE)))","v":1},{"$f":"IF(Süt!$B10=\"\",\"\",IF(Süt!$C10<=0,\"\",VLOOKUP($P8,$P$98:$CS$631,CA$30,FALSE)))","v":0},{"$f":"IF(Süt!$B10=\"\",\"\",IF(Süt!$C10<=0,\"\",VLOOKUP($P8,$P$98:$CS$631,CB$30,FALSE)))","v":1},{"$f":"IF(Süt!$B10=\"\",\"\",IF(Süt!$C10<=0,\"\",VLOOKUP($P8,$P$98:$CS$631,CC$30,FALSE)))","v":10},{"$f":"IF(Süt!$B10=\"\",\"\",IF(Süt!$C10<=0,\"\",VLOOKUP($P8,$P$98:$CS$631,CD$30,FALSE)))","v":0.04},{"$f":"IF(Süt!$B10=\"\",\"\",IF(Süt!$C10<=0,\"\",VLOOKUP($P8,$P$98:$CS$631,CE$30,FALSE)))","v":0},{"$f":"IF(Süt!$B10=\"\",\"\",IF(Süt!$C10<=0,\"\",VLOOKUP($P8,$P$98:$CS$631,CF$30,FALSE)))","v":0.85},{"$f":"IF(Süt!$B10=\"\",\"\",IF(Süt!$C10<=0,\"\",VLOOKUP($P8,$P$98:$CS$631,CG$30,FALSE)))","v":110},{"$f":"IF(Süt!$B10=\"\",\"\",IF(Süt!$C10<=0,\"\",VLOOKUP($P8,$P$98:$CS$631,CH$30,FALSE)))","v":0.1},{"$f":"IF(Süt!$B10=\"\",\"\",IF(Süt!$C10<=0,\"\",VLOOKUP($P8,$P$98:$CS$631,CI$30,FALSE)))","v":21},{"$f":"IF(Süt!$B10=\"\",\"\",IF(Süt!$C10<=0,\"\",VLOOKUP($P8,$P$98:$CS$631,CJ$30,FALSE)))","v":0.01},{"$f":"IF(Süt!$B10=\"\",\"\",IF(Süt!$C10<=0,\"\",VLOOKUP($P8,$P$98:$CS$631,CK$30,FALSE)))","v":0.22},{"$f":"IF(Süt!$B10=\"\",\"\",IF(Süt!$C10<=0,\"\",VLOOKUP($P8,$P$98:$CS$631,CL$30,FALSE)))","v":1},{"$f":"IF(Süt!$B10=\"\",\"\",IF(Süt!$C10<=0,\"\",VLOOKUP($P8,$P$98:$CS$631,CM$30,FALSE)))","v":54},{"$f":"IF(Süt!$B10=\"\",\"\",IF(Süt!$C10<=0,\"\",VLOOKUP($P8,$P$98:$CS$631,CN$30,FALSE)))","v":0.15},{"$f":"IF(Süt!$B10=\"\",\"\",IF(Süt!$C10<=0,\"\",VLOOKUP($P8,$P$98:$CS$631,CO$30,FALSE)))","v":2.4},{"$f":"IF(Süt!$B10=\"\",\"\",IF(Süt!$C10<=0,\"\",VLOOKUP($P8,$P$98:$CS$631,CP$30,FALSE)))","v":0},{"$f":"IF(Süt!$B10=\"\",\"\",IF(Süt!$C10<=0,\"\",VLOOKUP($P8,$P$98:$CS$631,CQ$30,FALSE)))","v":0},{"$f":"IF(Süt!$B10=\"\",\"\",IF(Süt!$C10<=0,\"\",VLOOKUP($P8,$P$98:$CS$631,CR$30,FALSE)))","v":0},{"$f":"IF(Süt!$B10=\"\",\"\",IF(Süt!$C10<=0,\"\",VLOOKUP($P8,$P$98:$CS$631,CS$30,FALSE)))","v":0},10,0,0.13500000000000001,"Buzağı doğum ağırlığı :",{"$f":"0.06275 * MW","v":42.795499999999997},"kg",null,null,null,null,null,null,null,null,null,null,"Kondisyon Skoru - Laktasyon Sayısı"]
[{"$f":"IF(Süt!A9=\"\",\"\",Süt!A9)","v":3},{"$f":"IF(Süt!B9=\"\",\"\",Süt!B9)","v":"Mısır, Pul Haline Getirilmiş"},{"$f":"IF(Süt!C9=\"\",\"\",Süt!C9)","v":2.094454588298537E-8},{"$f":"Süt!D9","v":11.5},{"$f":"Süt!E9","v":0},{"$f":"Süt!F9","v":10},"Rumende Yıkılabilir Protein, g/gün",{"$f":"IF(OR(AnimalType=\"Damızlık Düve\",AnimalType=\"Kurudaki İnek\")=TRUE,\"\",RDPReq)","v":2024},{"$f":"F77*1000","v":2061.5872156285709},{"$f":"IF(H9=\"\",\"\",IF(I9>(H9*1.02),\"FAZLA\",IF(I9<(H9*0.98),\"EKSİK\",\"TAMAM\")))","v":"TAMAM"},null,null,1.2649553758003869,null,29.80781745780282,{"$f":"IF(Süt!B11=\"\",\"\",IF(Süt!C11<=0,\"\",Süt!B11))","v":"Soya Küspesi, Solvent, %44"},{"$f":"IF(Süt!$B11=\"\",\"\",IF(Süt!$C11<=0,\"\",VLOOKUP($P9,$P$98:$CS$631,Q$30,FALSE)))","v":0},{"$f":"IF(Süt!$B11=\"\",\"\",IF(Süt!$C11<=0,\"\",VLOOKUP($P9,$P$98:$CS$631,R$30,FALSE)))","v":78},{"$f":"IF(Süt!$B11=\"\",\"\",IF(Süt!$C11<=0,\"\",VLOOKUP($P9,$P$98:$CS$631,S$30,FALSE)))","v":"Conc"},{"$f":"IF(Süt!$B11=\"\",\"\",IF(Süt!$C11<=0,\"\",VLOOKUP($P9,$P$98:$CS$631,T$30,FALSE)))","v":0},{"$f":"IF(Süt!$B11=\"\",\"\",IF(Süt!$C11<=0,\"\",VLOOKUP($P9,$P$98:$CS$631,U$30,FALSE)))","v":3.8},{"$f":"IF(Süt!$B11=\"\",\"\",IF(Süt!$C11<=0,\"\",VLOOKUP($P9,$P$98:$CS$631,V$30,FALSE)))","v":3},{"$f":"IF(Süt!$B11=\"\",\"\",IF(Süt!$C11<=0,\"\",VLOOKUP($P9,$P$98:$CS$631,W$30,FALSE)))","v":1.9},{"$f":"IF(Süt!$B11=\"\",\"\",IF(Süt!$C11<=0,\"\",VLOOKUP($P9,$P$98:$CS$631,X$30,FALSE)))","v":1.8},{"$f":"IF(Süt!$B11=\"\",\"\",IF(Süt!$C11<=0,\"\",VLOOKUP($P9,$P$98:$CS$631,Y$30,FALSE)))","v":2},{"$f":"IF(Süt!$B11=\"\",\"\",IF(Süt!$C11<=0,\"\",VLOOKUP($P9,$P$98:$CS$631,Z$30,FALSE)))","v":1.3},{"$f":"IF(Süt!$B11=\"\",\"\",IF(Süt!$C11<=0,\"\",VLOOKUP($P9,$P$98:$CS$631,AA$30,FALSE)))","v":89.1},{"$f":"IF(Süt!$B11=\"\",\"\",IF(Süt!$C11<=0,\"\",VLOOKUP($P9,$P$98:$CS$631,AB$30,FALSE)))","v":49},{"$f":"IF(Süt!$B11=\"\",\"\",IF(Süt!$C11<=0,\"\",VLOOKUP($P9,$P$98:$CS$631,AC$30,FALSE)))","v":1},{"$f":"IF(Süt!$B11=\"\",\"\",IF(Süt!$C11<=0,\"\",VLOOKUP($P9,$P$98:$CS$631,AD$30,FALSE)))","v":0.7},{"$f":"IF(Süt!$B11=\"\",\"\",IF(Süt!$C11<=0,\"\",VLOOKUP($P9,$P$98:$CS$631,AE$30,FALSE)))","v":0.4},{"$f":"IF(Süt!$B11=\"\",\"\",IF(Süt!$C11<=0,\"\",VLOOKUP($P9,$P$98:$CS$631,AF$30,FALSE)))","v":1.6},{"$f":"IF(Süt!$B11=\"\",\"\",IF(Süt!$C11<=0,\"\",VLOOKUP($P9,$P$98:$CS$631,AG$30,FALSE)))","v":1},{"$f":"IF(Süt!$B11=\"\",\"\",IF(Süt!$C11<=0,\"\",VLOOKUP($P9,$P$98:$CS$631,AH$30,FALSE)))","v":20},{"$f":"IF(Süt!$B11=\"\",\"\",IF(Süt!$C11<=0,\"\",VLOOKUP($P9,$P$98:$CS$631,AI$30,FALSE)))","v":0.59},{"$f":"IF(Süt!$B11=\"\",\"\",IF(Süt!$C11<=0,\"\",VLOOKUP($P9,$P$98:$CS$631,AJ$30,FALSE)))","v":15},{"$f":"IF(Süt!$B11=\"\",\"\",IF(Süt!$C11<=0,\"\",VLOOKUP($P9,$P$98:$CS$631,AK$30,FALSE)))","v":1.2},{"$f":"IF(Süt!$B11=\"\",\"\",IF(Süt!$C11<=0,\"\",VLOOKUP($P9,$P$98:$CS$631,AL$30,FALSE)))","v":6.6},{"$f":"IF(Süt!$B11=\"\",\"\",IF(Süt!$C11<=0,\"\",VLOOKUP($P9,$P$98:$CS$631,AM$30,FALSE)))","v":"Conc"},{"$f":"IF(Süt!$B11=\"\",\"\",IF(Süt!$C11<=0,\"\",VLOOKUP($P9,$P$98:$CS$631,AN$30,FALSE)))","v":"Plant Protein"},{"$f":"IF(Süt!$B11=\"\",\"\",IF(Süt!$C11<=0,\"\",VLOOKUP($P9,$P$98:$CS$631,AO$30,FALSE)))","v":0},{"$f":"IF(Süt!$B11=\"\",\"\",IF(Süt!$C11<=0,\"\",VLOOKUP($P9,$P$98:$CS$631,AP$30,FALSE)))","v":5},{"$f":"IF(Süt!$B11=\"\",\"\",IF(Süt!$C11<=0,\"\",VLOOKUP($P9,$P$98:$CS$631,AQ$30,FALSE)))","v":22.5},{"$f":"IF(Süt!$B11=\"\",\"\",IF(Süt!$C11<=0,\"\",VLOOKUP($P9,$P$98:$CS$631,AR$30,FALSE)))","v":76.8},{"$f":"IF(Süt!$B11=\"\",\"\",IF(Süt!$C11<=0,\"\",VLOOKUP($P9,$P$98:$CS$631,AS$30,FALSE)))","v":0.7},{"$f":"IF(Süt!$B11=\"\",\"\",IF(Süt!$C11<=0,\"\",VLOOKUP($P9,$P$98:$CS$631,AT$30,FALSE)))","v":9.4},{"$f":"IF(Süt!$B11=\"\",\"\",IF(Süt!$C11<=0,\"\",VLOOKUP($P9,$P$98:$CS$631,AU$30,FALSE)))","v":24.3},{"$f":"IF(Süt!$B11=\"\",\"\",IF(Süt!$C11<=0,\"\",VLOOKUP($P9,$P$98:$CS$631,AV$30,FALSE)))","v":34.6},{"$f":"IF(Süt!$B11=\"\",\"\",IF(Süt!$C11<=0,\"\",VLOOKUP($P9,$P$98:$CS$631,AW$30,FALSE)))","v":93},{"$f":"IF(Süt!$B11=\"\",\"\",IF(Süt!$C11<=0,\"\",VLOOKUP($P9,$P$98:$CS$631,AX$30,FALSE)))","v":7.38},{"$f":"IF(Süt!$B11=\"\",\"\",IF(Süt!$C11<=0,\"\",VLOOKUP($P9,$P$98:$CS$631,AY$30,FALSE)))","v":2.77},{"$f":"IF(Süt!$B11=\"\",\"\",IF(Süt!$C11<=0,\"\",VLOOKUP($P9,$P$98:$CS$631,AZ$30,FALSE)))","v":4.5599999999999996},{"$f":"IF(Süt!$B11=\"\",\"\",IF(Süt!$C11<=0,\"\",VLOOKUP($P9,$P$98:$CS$631,BA$30,FALSE)))","v":7.81},{"$f":"IF(Süt!$B11=\"\",\"\",IF(Süt!$C11<=0,\"\",VLOOKUP($P9,$P$98:$CS$631,BB$30,FALSE)))","v":6.28},{"$f":"IF(Süt!$B11=\"\",\"\",IF(Süt!$C11<=0,\"\",VLOOKUP($P9,$P$98:$CS$631,BC$30,FALSE)))","v":1.45},{"$f":"IF(Süt!$B11=\"\",\"\",IF(Süt!$C11<=0,\"\",VLOOKUP($P9,$P$98:$CS$631,BD$30,FALSE)))","v":1.52},{"$f":"IF(Süt!$B11=\"\",\"\",IF(Süt!$C11<=0,\"\",VLOOKUP($P9,$P$98:$CS$631,BE$30,FALSE)))","v":5.26},{"$f":"IF(Süt!$B11=\"\",\"\",IF(Süt!$C11<=0,\"\",VLOOKUP($P9,$P$98:$CS$631,BF$30,FALSE)))","v":3.98},{"$f":"IF(Süt!$B11=\"\",\"\",IF(Süt!$C11<=0,\"\",VLOOKUP($P9,$P$98:$CS$631,BG$30,FALSE)))","v":1.27},{"$f":"IF(Süt!$B11=\"\",\"\",IF(Süt!$C11<=0,\"\",VLOOKUP($P9,$P$98:$CS$631,BH$30,FALSE)))","v":7.81},{"$f":"IF(Süt!$B11=\"\",\"\",IF(Süt!$C11<=0,\"\",VLOOKUP($P9,$P$98:$CS$631,BI$30,FALSE)))","v":45.43},{"$f":"IF(Süt!$B11=\"\",\"\",IF(Süt!$C11<=0,\"\",VLOOKUP($P9,$P$98:$CS$631,BJ$30,FALSE)))","v":13.82},{"$f":"IF(Süt!$B11=\"\",\"\",IF(Süt!$C11<=0,\"\",VLOOKUP($P9,$P$98:$CS$631,BK$30,FALSE)))","v":3.19},{"$f":"IF(Süt!$B11=\"\",\"\",IF(Süt!$C11<=0,\"\",VLOOKUP($P9,$P$98:$CS$631,BL$30,FALSE)))","v":17},{"$f":"IF(Süt!$B11=\"\",\"\",IF(Süt!$C11<=0,\"\",VLOOKUP($P9,$P$98:$CS$631,BM$30,FALSE)))","v":0.4},{"$f":"IF(Süt!$B11=\"\",\"\",IF(Süt!$C11<=0,\"\",VLOOKUP($P9,$P$98:$CS$631,BN$30,FALSE)))","v":0.6},{"$f":"IF(Süt!$B11=\"\",\"\",IF(Süt!$C11<=0,\"\",VLOOKUP($P9,$P$98:$CS$631,BO$30,FALSE)))","v":0.71},{"$f":"IF(Süt!$B11=\"\",\"\",IF(Süt!$C11<=0,\"\",VLOOKUP($P9,$P$98:$CS$631,BP$30,FALSE)))","v":0.7},{"$f":"IF(Süt!$B11=\"\",\"\",IF(Süt!$C11<=0,\"\",VLOOKUP($P9,$P$98:$CS$631,BQ$30,FALSE)))","v":0.31},{"$f":"IF(Süt!$B11=\"\",\"\",IF(Süt!$C11<=0,\"\",VLOOKUP($P9,$P$98:$CS$631,BR$30,FALSE)))","v":0.16},{"$f":"IF(Süt!$B11=\"\",\"\",IF(Süt!$C11<=0,\"\",VLOOKUP($P9,$P$98:$CS$631,BS$30,FALSE)))","v":2.2200000000000002},{"$f":"IF(Süt!$B11=\"\",\"\",IF(Süt!$C11<=0,\"\",VLOOKUP($P9,$P$98:$CS$631,BT$30,FALSE)))","v":0.9},{"$f":"IF(Süt!$B11=\"\",\"\",IF(Süt!$C11<=0,\"\",VLOOKUP($P9,$P$98:$CS$631,BU$30,FALSE)))","v":0.04},{"$f":"IF(Süt!$B11=\"\",\"\",IF(Süt!$C11<=0,\"\",VLOOKUP($P9,$P$98:$CS$631,BV$30,FALSE)))","v":0.9},{"$f":"IF(Süt!$B11=\"\",\"\",IF(Süt!$C11<=0,\"\",VLOOKUP($P9,$P$98:$CS$631,BW$30,FALSE)))","v":0.13},{"$f":"IF(Süt!$B11=\"\",\"\",IF(Süt!$C11<=0,\"\",VLOOKUP($P9,$P$98:$CS$631,BX$30,FALSE)))","v":0.9},{"$f":"IF(Süt!$B11=\"\",\"\",IF(Süt!$C11<=0,\"\",VLOOKUP($P9,$P$98:$CS$631,BY$30,FALSE)))","v":0.46},{"$f":"IF(Süt!$B11=\"\",\"\",IF(Süt!$C11<=0,\"\",VLOOKUP($P9,$P$98:$CS$631,BZ$30,FALSE)))","v":1},{"$f":"IF(Süt!$B11=\"\",\"\",IF(Süt!$C11<=0,\"\",VLOOKUP($P9,$P$98:$CS$631,CA$30,FALSE)))","v":0},{"$f":"IF(Süt!$B11=\"\",\"\",IF(Süt!$C11<=0,\"\",VLOOKUP($P9,$P$98:$CS$631,CB$30,FALSE)))","v":1},{"$f":"IF(Süt!$B11=\"\",\"\",IF(Süt!$C11<=0,\"\",VLOOKUP($P9,$P$98:$CS$631,CC$30,FALSE)))","v":22},{"$f":"IF(Süt!$B11=\"\",\"\",IF(Süt!$C11<=0,\"\",VLOOKUP($P9,$P$98:$CS$631,CD$30,FALSE)))","v":0.04},{"$f":"IF(Süt!$B11=\"\",\"\",IF(Süt!$C11<=0,\"\",VLOOKUP($P9,$P$98:$CS$631,CE$30,FALSE)))","v":0},{"$f":"IF(Süt!$B11=\"\",\"\",IF(Süt!$C11<=0,\"\",VLOOKUP($P9,$P$98:$CS$631,CF$30,FALSE)))","v":0.85},{"$f":"IF(Süt!$B11=\"\",\"\",IF(Süt!$C11<=0,\"\",VLOOKUP($P9,$P$98:$CS$631,CG$30,FALSE)))","v":185},{"$f":"IF(Süt!$B11=\"\",\"\",IF(Süt!$C11<=0,\"\",VLOOKUP($P9,$P$98:$CS$631,CH$30,FALSE)))","v":0.1},{"$f":"IF(Süt!$B11=\"\",\"\",IF(Süt!$C11<=0,\"\",VLOOKUP($P9,$P$98:$CS$631,CI$30,FALSE)))","v":35},{"$f":"IF(Süt!$B11=\"\",\"\",IF(Süt!$C11<=0,\"\",VLOOKUP($P9,$P$98:$CS$631,CJ$30,FALSE)))","v":0.01},{"$f":"IF(Süt!$B11=\"\",\"\",IF(Süt!$C11<=0,\"\",VLOOKUP($P9,$P$98:$CS$631,CK$30,FALSE)))","v":0.21},{"$f":"IF(Süt!$B11=\"\",\"\",IF(Süt!$C11<=0,\"\",VLOOKUP($P9,$P$98:$CS$631,CL$30,FALSE)))","v":1},{"$f":"IF(Süt!$B11=\"\",\"\",IF(Süt!$C11<=0,\"\",VLOOKUP($P9,$P$98:$CS$631,CM$30,FALSE)))","v":57},{"$f":"IF(Süt!$B11=\"\",\"\",IF(Süt!$C11<=0,\"\",VLOOKUP($P9,$P$98:$CS$631,CN$30,FALSE)))","v":0.15},{"$f":"IF(Süt!$B11=\"\",\"\",IF(Süt!$C11<=0,\"\",VLOOKUP($P9,$P$98:$CS$631,CO$30,FALSE)))","v":0.1},{"$f":"IF(Süt!$B11=\"\",\"\",IF(Süt!$C11<=0,\"\",VLOOKUP($P9,$P$98:$CS$631,CP$30,FALSE)))","v":0},{"$f":"IF(Süt!$B11=\"\",\"\",IF(Süt!$C11<=0,\"\",VLOOKUP($P9,$P$98:$CS$631,CQ$30,FALSE)))","v":0},{"$f":"IF(Süt!$B11=\"\",\"\",IF(Süt!$C11<=0,\"\",VLOOKUP($P9,$P$98:$CS$631,CR$30,FALSE)))","v":0},{"$f":"IF(Süt!$B11=\"\",\"\",IF(Süt!$C11<=0,\"\",VLOOKUP($P9,$P$98:$CS$631,CS$30,FALSE)))","v":0},9,0,0.16200000000000001,"Gebelik ihtiyaçları",null,null,null,null,null,null,null,null,null,null,null,null,1]
[{"$f":"IF(Süt!A10=\"\",\"\",Süt!A10)","v":4},{"$f":"IF(Süt!B10=\"\",\"\",Süt!B10)","v":"Pamuk Tohumu Küspesi, Pres, %25 HP"},{"$f":"IF(Süt!C10=\"\",\"\",Süt!C10)","v":1.6426040151275287E-8},{"$f":"Süt!D10","v":12},{"$f":"Süt!E10","v":0},{"$f":"Süt!F10","v":5},"Rumende Yıkımlanmayan Protein, g/gün",{"$f":"IF(OR(AnimalType=\"Damızlık Düve\",AnimalType=\"Kurudaki İnek\")=TRUE,\"\",RUPReq)","v":860.32999999999993},{"$f":"E77*1000","v":890.40024723631416},{"$f":"IF(H10=\"\",\"\",IF(I10>(H10*1.05),\"FAZLA\",IF(I10<(H10*0.98),\"EKSİK\",\"TAMAM\")))","v":"TAMAM"},null,null,0,null,"",{"$f":"IF(Süt!B12=\"\",\"\",IF(Süt!C12<=0,\"\",Süt!B12))","v":""},{"$f":"IF(Süt!$B12=\"\",\"\",IF(Süt!$C12<=0,\"\",VLOOKUP($P10,$P$98:$CS$631,Q$30,FALSE)))","v":""},{"$f":"IF(Süt!$B12=\"\",\"\",IF(Süt!$C12<=0,\"\",VLOOKUP($P10,$P$98:$CS$631,R$30,FALSE)))","v":""},{"$f":"IF(Süt!$B12=\"\",\"\",IF(Süt!$C12<=0,\"\",VLOOKUP($P10,$P$98:$CS$631,S$30,FALSE)))","v":""},{"$f":"IF(Süt!$B12=\"\",\"\",IF(Süt!$C12<=0,\"\",VLOOKUP($P10,$P$98:$CS$631,T$30,FALSE)))","v":""},{"$f":"IF(Süt!$B12=\"\",\"\",IF(Süt!$C12<=0,\"\",VLOOKUP($P10,$P$98:$CS$631,U$30,FALSE)))","v":""},{"$f":"IF(Süt!$B12=\"\",\"\",IF(Süt!$C12<=0,\"\",VLOOKUP($P10,$P$98:$CS$631,V$30,FALSE)))","v":""},{"$f":"IF(Süt!$B12=\"\",\"\",IF(Süt!$C12<=0,\"\",VLOOKUP($P10,$P$98:$CS$631,W$30,FALSE)))","v":""},{"$f":"IF(Süt!$B12=\"\",\"\",IF(Süt!$C12<=0,\"\",VLOOKUP($P10,$P$98:$CS$631,X$30,FALSE)))","v":""},{"$f":"IF(Süt!$B12=\"\",\"\",IF(Süt!$C12<=0,\"\",VLOOKUP($P10,$P$98:$CS$631,Y$30,FALSE)))","v":""},{"$f":"IF(Süt!$B12=\"\",\"\",IF(Süt!$C12<=0,\"\",VLOOKUP($P10,$P$98:$CS$631,Z$30,FALSE)))","v":""},{"$f":"IF(Süt!$B12=\"\",\"\",IF(Süt!$C12<=0,\"\",VLOOKUP($P10,$P$98:$CS$631,AA$30,FALSE)))","v":""},{"$f":"IF(Süt!$B12=\"\",\"\",IF(Süt!$C12<=0,\"\",VLOOKUP($P10,$P$98:$CS$631,AB$30,FALSE)))","v":""},{"$f":"IF(Süt!$B12=\"\",\"\",IF(Süt!$C12<=0,\"\",VLOOKUP($P10,$P$98:$CS$631,AC$30,FALSE)))","v":""},{"$f":"IF(Süt!$B12=\"\",\"\",IF(Süt!$C12<=0,\"\",VLOOKUP($P10,$P$98:$CS$631,AD$30,FALSE)))","v":""},{"$f":"IF(Süt!$B12=\"\",\"\",IF(Süt!$C12<=0,\"\",VLOOKUP($P10,$P$98:$CS$631,AE$30,FALSE)))","v":""},{"$f":"IF(Süt!$B12=\"\",\"\",IF(Süt!$C12<=0,\"\",VLOOKUP($P10,$P$98:$CS$631,AF$30,FALSE)))","v":""},{"$f":"IF(Süt!$B12=\"\",\"\",IF(Süt!$C12<=0,\"\",VLOOKUP($P10,$P$98:$CS$631,AG$30,FALSE)))","v":""},{"$f":"IF(Süt!$B12=\"\",\"\",IF(Süt!$C12<=0,\"\",VLOOKUP($P10,$P$98:$CS$631,AH$30,FALSE)))","v":""},{"$f":"IF(Süt!$B12=\"\",\"\",IF(Süt!$C12<=0,\"\",VLOOKUP($P10,$P$98:$CS$631,AI$30,FALSE)))","v":""},{"$f":"IF(Süt!$B12=\"\",\"\",IF(Süt!$C12<=0,\"\",VLOOKUP($P10,$P$98:$CS$631,AJ$30,FALSE)))","v":""},{"$f":"IF(Süt!$B12=\"\",\"\",IF(Süt!$C12<=0,\"\",VLOOKUP($P10,$P$98:$CS$631,AK$30,FALSE)))","v":""},{"$f":"IF(Süt!$B12=\"\",\"\",IF(Süt!$C12<=0,\"\",VLOOKUP($P10,$P$98:$CS$631,AL$30,FALSE)))","v":""},{"$f":"IF(Süt!$B12=\"\",\"\",IF(Süt!$C12<=0,\"\",VLOOKUP($P10,$P$98:$CS$631,AM$30,FALSE)))","v":""},{"$f":"IF(Süt!$B12=\"\",\"\",IF(Süt!$C12<=0,\"\",VLOOKUP($P10,$P$98:$CS$631,AN$30,FALSE)))","v":""},{"$f":"IF(Süt!$B12=\"\",\"\",IF(Süt!$C12<=0,\"\",VLOOKUP($P10,$P$98:$CS$631,AO$30,FALSE)))","v":""},{"$f":"IF(Süt!$B12=\"\",\"\",IF(Süt!$C12<=0,\"\",VLOOKUP($P10,$P$98:$CS$631,AP$30,FALSE)))","v":""},{"$f":"IF(Süt!$B12=\"\",\"\",IF(Süt!$C12<=0,\"\",VLOOKUP($P10,$P$98:$CS$631,AQ$30,FALSE)))","v":""},{"$f":"IF(Süt!$B12=\"\",\"\",IF(Süt!$C12<=0,\"\",VLOOKUP($P10,$P$98:$CS$631,AR$30,FALSE)))","v":""},{"$f":"IF(Süt!$B12=\"\",\"\",IF(Süt!$C12<=0,\"\",VLOOKUP($P10,$P$98:$CS$631,AS$30,FALSE)))","v":""},{"$f":"IF(Süt!$B12=\"\",\"\",IF(Süt!$C12<=0,\"\",VLOOKUP($P10,$P$98:$CS$631,AT$30,FALSE)))","v":""},{"$f":"IF(Süt!$B12=\"\",\"\",IF(Süt!$C12<=0,\"\",VLOOKUP($P10,$P$98:$CS$631,AU$30,FALSE)))","v":""},{"$f":"IF(Süt!$B12=\"\",\"\",IF(Süt!$C12<=0,\"\",VLOOKUP($P10,$P$98:$CS$631,AV$30,FALSE)))","v":""},{"$f":"IF(Süt!$B12=\"\",\"\",IF(Süt!$C12<=0,\"\",VLOOKUP($P10,$P$98:$CS$631,AW$30,FALSE)))","v":""},{"$f":"IF(Süt!$B12=\"\",\"\",IF(Süt!$C12<=0,\"\",VLOOKUP($P10,$P$98:$CS$631,AX$30,FALSE)))","v":""},{"$f":"IF(Süt!$B12=\"\",\"\",IF(Süt!$C12<=0,\"\",VLOOKUP($P10,$P$98:$CS$631,AY$30,FALSE)))","v":""},{"$f":"IF(Süt!$B12=\"\",\"\",IF(Süt!$C12<=0,\"\",VLOOKUP($P10,$P$98:$CS$631,AZ$30,FALSE)))","v":""},{"$f":"IF(Süt!$B12=\"\",\"\",IF(Süt!$C12<=0,\"\",VLOOKUP($P10,$P$98:$CS$631,BA$30,FALSE)))","v":""},{"$f":"IF(Süt!$B12=\"\",\"\",IF(Süt!$C12<=0,\"\",VLOOKUP($P10,$P$98:$CS$631,BB$30,FALSE)))","v":""},{"$f":"IF(Süt!$B12=\"\",\"\",IF(Süt!$C12<=0,\"\",VLOOKUP($P10,$P$98:$CS$631,BC$30,FALSE)))","v":""},{"$f":"IF(Süt!$B12=\"\",\"\",IF(Süt!$C12<=0,\"\",VLOOKUP($P10,$P$98:$CS$631,BD$30,FALSE)))","v":""},{"$f":"IF(Süt!$B12=\"\",\"\",IF(Süt!$C12<=0,\"\",VLOOKUP($P10,$P$98:$CS$631,BE$30,FALSE)))","v":""},{"$f":"IF(Süt!$B12=\"\",\"\",IF(Süt!$C12<=0,\"\",VLOOKUP($P10,$P$98:$CS$631,BF$30,FALSE)))","v":""},{"$f":"IF(Süt!$B12=\"\",\"\",IF(Süt!$C12<=0,\"\",VLOOKUP($P10,$P$98:$CS$631,BG$30,FALSE)))","v":""},{"$f":"IF(Süt!$B12=\"\",\"\",IF(Süt!$C12<=0,\"\",VLOOKUP($P10,$P$98:$CS$631,BH$30,FALSE)))","v":""},{"$f":"IF(Süt!$B12=\"\",\"\",IF(Süt!$C12<=0,\"\",VLOOKUP($P10,$P$98:$CS$631,BI$30,FALSE)))","v":""},{"$f":"IF(Süt!$B12=\"\",\"\",IF(Süt!$C12<=0,\"\",VLOOKUP($P10,$P$98:$CS$631,BJ$30,FALSE)))","v":""},{"$f":"IF(Süt!$B12=\"\",\"\",IF(Süt!$C12<=0,\"\",VLOOKUP($P10,$P$98:$CS$631,BK$30,FALSE)))","v":""},{"$f":"IF(Süt!$B12=\"\",\"\",IF(Süt!$C12<=0,\"\",VLOOKUP($P10,$P$98:$CS$631,BL$30,FALSE)))","v":""},{"$f":"IF(Süt!$B12=\"\",\"\",IF(Süt!$C12<=0,\"\",VLOOKUP($P10,$P$98:$CS$631,BM$30,FALSE)))","v":""},{"$f":"IF(Süt!$B12=\"\",\"\",IF(Süt!$C12<=0,\"\",VLOOKUP($P10,$P$98:$CS$631,BN$30,FALSE)))","v":""},{"$f":"IF(Süt!$B12=\"\",\"\",IF(Süt!$C12<=0,\"\",VLOOKUP($P10,$P$98:$CS$631,BO$30,FALSE)))","v":""},{"$f":"IF(Süt!$B12=\"\",\"\",IF(Süt!$C12<=0,\"\",VLOOKUP($P10,$P$98:$CS$631,BP$30,FALSE)))","v":""},{"$f":"IF(Süt!$B12=\"\",\"\",IF(Süt!$C12<=0,\"\",VLOOKUP($P10,$P$98:$CS$631,BQ$30,FALSE)))","v":""},{"$f":"IF(Süt!$B12=\"\",\"\",IF(Süt!$C12<=0,\"\",VLOOKUP($P10,$P$98:$CS$631,BR$30,FALSE)))","v":""},{"$f":"IF(Süt!$B12=\"\",\"\",IF(Süt!$C12<=0,\"\",VLOOKUP($P10,$P$98:$CS$631,BS$30,FALSE)))","v":""},{"$f":"IF(Süt!$B12=\"\",\"\",IF(Süt!$C12<=0,\"\",VLOOKUP($P10,$P$98:$CS$631,BT$30,FALSE)))","v":""},{"$f":"IF(Süt!$B12=\"\",\"\",IF(Süt!$C12<=0,\"\",VLOOKUP($P10,$P$98:$CS$631,BU$30,FALSE)))","v":""},{"$f":"IF(Süt!$B12=\"\",\"\",IF(Süt!$C12<=0,\"\",VLOOKUP($P10,$P$98:$CS$631,BV$30,FALSE)))","v":""},{"$f":"IF(Süt!$B12=\"\",\"\",IF(Süt!$C12<=0,\"\",VLOOKUP($P10,$P$98:$CS$631,BW$30,FALSE)))","v":""},{"$f":"IF(Süt!$B12=\"\",\"\",IF(Süt!$C12<=0,\"\",VLOOKUP($P10,$P$98:$CS$631,BX$30,FALSE)))","v":""},{"$f":"IF(Süt!$B12=\"\",\"\",IF(Süt!$C12<=0,\"\",VLOOKUP($P10,$P$98:$CS$631,BY$30,FALSE)))","v":""},{"$f":"IF(Süt!$B12=\"\",\"\",IF(Süt!$C12<=0,\"\",VLOOKUP($P10,$P$98:$CS$631,BZ$30,FALSE)))","v":""},{"$f":"IF(Süt!$B12=\"\",\"\",IF(Süt!$C12<=0,\"\",VLOOKUP($P10,$P$98:$CS$631,CA$30,FALSE)))","v":""},{"$f":"IF(Süt!$B12=\"\",\"\",IF(Süt!$C12<=0,\"\",VLOOKUP($P10,$P$98:$CS$631,CB$30,FALSE)))","v":""},{"$f":"IF(Süt!$B12=\"\",\"\",IF(Süt!$C12<=0,\"\",VLOOKUP($P10,$P$98:$CS$631,CC$30,FALSE)))","v":""},{"$f":"IF(Süt!$B12=\"\",\"\",IF(Süt!$C12<=0,\"\",VLOOKUP($P10,$P$98:$CS$631,CD$30,FALSE)))","v":""},{"$f":"IF(Süt!$B12=\"\",\"\",IF(Süt!$C12<=0,\"\",VLOOKUP($P10,$P$98:$CS$631,CE$30,FALSE)))","v":""},{"$f":"IF(Süt!$B12=\"\",\"\",IF(Süt!$C12<=0,\"\",VLOOKUP($P10,$P$98:$CS$631,CF$30,FALSE)))","v":""},{"$f":"IF(Süt!$B12=\"\",\"\",IF(Süt!$C12<=0,\"\",VLOOKUP($P10,$P$98:$CS$631,CG$30,FALSE)))","v":""},{"$f":"IF(Süt!$B12=\"\",\"\",IF(Süt!$C12<=0,\"\",VLOOKUP($P10,$P$98:$CS$631,CH$30,FALSE)))","v":""},{"$f":"IF(Süt!$B12=\"\",\"\",IF(Süt!$C12<=0,\"\",VLOOKUP($P10,$P$98:$CS$631,CI$30,FALSE)))","v":""},{"$f":"IF(Süt!$B12=\"\",\"\",IF(Süt!$C12<=0,\"\",VLOOKUP($P10,$P$98:$CS$631,CJ$30,FALSE)))","v":""},{"$f":"IF(Süt!$B12=\"\",\"\",IF(Süt!$C12<=0,\"\",VLOOKUP($P10,$P$98:$CS$631,CK$30,FALSE)))","v":""},{"$f":"IF(Süt!$B12=\"\",\"\",IF(Süt!$C12<=0,\"\",VLOOKUP($P10,$P$98:$CS$631,CL$30,FALSE)))","v":""},{"$f":"IF(Süt!$B12=\"\",\"\",IF(Süt!$C12<=0,\"\",VLOOKUP($P10,$P$98:$CS$631,CM$30,FALSE)))","v":""},{"$f":"IF(Süt!$B12=\"\",\"\",IF(Süt!$C12<=0,\"\",VLOOKUP($P10,$P$98:$CS$631,CN$30,FALSE)))","v":""},{"$f":"IF(Süt!$B12=\"\",\"\",IF(Süt!$C12<=0,\"\",VLOOKUP($P10,$P$98:$CS$631,CO$30,FALSE)))","v":""},{"$f":"IF(Süt!$B12=\"\",\"\",IF(Süt!$C12<=0,\"\",VLOOKUP($P10,$P$98:$CS$631,CP$30,FALSE)))","v":""},{"$f":"IF(Süt!$B12=\"\",\"\",IF(Süt!$C12<=0,\"\",VLOOKUP($P10,$P$98:$CS$631,CQ$30,FALSE)))","v":""},{"$f":"IF(Süt!$B12=\"\",\"\",IF(Süt!$C12<=0,\"\",VLOOKUP($P10,$P$98:$CS$631,CR$30,FALSE)))","v":""},{"$f":"IF(Süt!$B12=\"\",\"\",IF(Süt!$C12<=0,\"\",VLOOKUP($P10,$P$98:$CS$631,CS$30,FALSE)))","v":""},8,0,0.189,"MEPreg",{"$f":"IF(DaysPreg < 190,0,(((2 * 0.00159 * DaysPreg) - 0.0352) * (CBW / 45)) / 0.14)","v":0},"Mcal/gün, Gebelik için metabolic enerji ihtiyacı",null,null,null,null,null,null,null,null,null,null,2]
[{"$f":"IF(Süt!A11=\"\",\"\",Süt!A11)","v":4},{"$f":"IF(Süt!B11=\"\",\"\",Süt!B11)","v":"Soya Küspesi, Solvent, %44"},{"$f":"IF(Süt!C11=\"\",\"\",Süt!C11)","v":1.7534010269295777},{"$f":"Süt!D11","v":17},{"$f":"Süt!E11","v":0},{"$f":"Süt!F11","v":5},"ME, Mcal/kg KM",null,{"$f":"DietME","v":2.4330303637692645},null,null,null,0,null,"",{"$f":"IF(Süt!B13=\"\",\"\",IF(Süt!C13<=0,\"\",Süt!B13))","v":""},{"$f":"IF(Süt!$B13=\"\",\"\",IF(Süt!$C13<=0,\"\",VLOOKUP($P11,$P$98:$CS$631,Q$30,FALSE)))","v":""},{"$f":"IF(Süt!$B13=\"\",\"\",IF(Süt!$C13<=0,\"\",VLOOKUP($P11,$P$98:$CS$631,R$30,FALSE)))","v":""},{"$f":"IF(Süt!$B13=\"\",\"\",IF(Süt!$C13<=0,\"\",VLOOKUP($P11,$P$98:$CS$631,S$30,FALSE)))","v":""},{"$f":"IF(Süt!$B13=\"\",\"\",IF(Süt!$C13<=0,\"\",VLOOKUP($P11,$P$98:$CS$631,T$30,FALSE)))","v":""},{"$f":"IF(Süt!$B13=\"\",\"\",IF(Süt!$C13<=0,\"\",VLOOKUP($P11,$P$98:$CS$631,U$30,FALSE)))","v":""},{"$f":"IF(Süt!$B13=\"\",\"\",IF(Süt!$C13<=0,\"\",VLOOKUP($P11,$P$98:$CS$631,V$30,FALSE)))","v":""},{"$f":"IF(Süt!$B13=\"\",\"\",IF(Süt!$C13<=0,\"\",VLOOKUP($P11,$P$98:$CS$631,W$30,FALSE)))","v":""},{"$f":"IF(Süt!$B13=\"\",\"\",IF(Süt!$C13<=0,\"\",VLOOKUP($P11,$P$98:$CS$631,X$30,FALSE)))","v":""},{"$f":"IF(Süt!$B13=\"\",\"\",IF(Süt!$C13<=0,\"\",VLOOKUP($P11,$P$98:$CS$631,Y$30,FALSE)))","v":""},{"$f":"IF(Süt!$B13=\"\",\"\",IF(Süt!$C13<=0,\"\",VLOOKUP($P11,$P$98:$CS$631,Z$30,FALSE)))","v":""},{"$f":"IF(Süt!$B13=\"\",\"\",IF(Süt!$C13<=0,\"\",VLOOKUP($P11,$P$98:$CS$631,AA$30,FALSE)))","v":""},{"$f":"IF(Süt!$B13=\"\",\"\",IF(Süt!$C13<=0,\"\",VLOOKUP($P11,$P$98:$CS$631,AB$30,FALSE)))","v":""},{"$f":"IF(Süt!$B13=\"\",\"\",IF(Süt!$C13<=0,\"\",VLOOKUP($P11,$P$98:$CS$631,AC$30,FALSE)))","v":""},{"$f":"IF(Süt!$B13=\"\",\"\",IF(Süt!$C13<=0,\"\",VLOOKUP($P11,$P$98:$CS$631,AD$30,FALSE)))","v":""},{"$f":"IF(Süt!$B13=\"\",\"\",IF(Süt!$C13<=0,\"\",VLOOKUP($P11,$P$98:$CS$631,AE$30,FALSE)))","v":""},{"$f":"IF(Süt!$B13=\"\",\"\",IF(Süt!$C13<=0,\"\",VLOOKUP($P11,$P$98:$CS$631,AF$30,FALSE)))","v":""},{"$f":"IF(Süt!$B13=\"\",\"\",IF(Süt!$C13<=0,\"\",VLOOKUP($P11,$P$98:$CS$631,AG$30,FALSE)))","v":""},{"$f":"IF(Süt!$B13=\"\",\"\",IF(Süt!$C13<=0,\"\",VLOOKUP($P11,$P$98:$CS$631,AH$30,FALSE)))","v":""},{"$f":"IF(Süt!$B13=\"\",\"\",IF(Süt!$C13<=0,\"\",VLOOKUP($P11,$P$98:$CS$631,AI$30,FALSE)))","v":""},{"$f":"IF(Süt!$B13=\"\",\"\",IF(Süt!$C13<=0,\"\",VLOOKUP($P11,$P$98:$CS$631,AJ$30,FALSE)))","v":""},{"$f":"IF(Süt!$B13=\"\",\"\",IF(Süt!$C13<=0,\"\",VLOOKUP($P11,$P$98:$CS$631,AK$30,FALSE)))","v":""},{"$f":"IF(Süt!$B13=\"\",\"\",IF(Süt!$C13<=0,\"\",VLOOKUP($P11,$P$98:$CS$631,AL$30,FALSE)))","v":""},{"$f":"IF(Süt!$B13=\"\",\"\",IF(Süt!$C13<=0,\"\",VLOOKUP($P11,$P$98:$CS$631,AM$30,FALSE)))","v":""},{"$f":"IF(Süt!$B13=\"\",\"\",IF(Süt!$C13<=0,\"\",VLOOKUP($P11,$P$98:$CS$631,AN$30,FALSE)))","v":""},{"$f":"IF(Süt!$B13=\"\",\"\",IF(Süt!$C13<=0,\"\",VLOOKUP($P11,$P$98:$CS$631,AO$30,FALSE)))","v":""},{"$f":"IF(Süt!$B13=\"\",\"\",IF(Süt!$C13<=0,\"\",VLOOKUP($P11,$P$98:$CS$631,AP$30,FALSE)))","v":""},{"$f":"IF(Süt!$B13=\"\",\"\",IF(Süt!$C13<=0,\"\",VLOOKUP($P11,$P$98:$CS$631,AQ$30,FALSE)))","v":""},{"$f":"IF(Süt!$B13=\"\",\"\",IF(Süt!$C13<=0,\"\",VLOOKUP($P11,$P$98:$CS$631,AR$30,FALSE)))","v":""},{"$f":"IF(Süt!$B13=\"\",\"\",IF(Süt!$C13<=0,\"\",VLOOKUP($P11,$P$98:$CS$631,AS$30,FALSE)))","v":""},{"$f":"IF(Süt!$B13=\"\",\"\",IF(Süt!$C13<=0,\"\",VLOOKUP($P11,$P$98:$CS$631,AT$30,FALSE)))","v":""},{"$f":"IF(Süt!$B13=\"\",\"\",IF(Süt!$C13<=0,\"\",VLOOKUP($P11,$P$98:$CS$631,AU$30,FALSE)))","v":""},{"$f":"IF(Süt!$B13=\"\",\"\",IF(Süt!$C13<=0,\"\",VLOOKUP($P11,$P$98:$CS$631,AV$30,FALSE)))","v":""},{"$f":"IF(Süt!$B13=\"\",\"\",IF(Süt!$C13<=0,\"\",VLOOKUP($P11,$P$98:$CS$631,AW$30,FALSE)))","v":""},{"$f":"IF(Süt!$B13=\"\",\"\",IF(Süt!$C13<=0,\"\",VLOOKUP($P11,$P$98:$CS$631,AX$30,FALSE)))","v":""},{"$f":"IF(Süt!$B13=\"\",\"\",IF(Süt!$C13<=0,\"\",VLOOKUP($P11,$P$98:$CS$631,AY$30,FALSE)))","v":""},{"$f":"IF(Süt!$B13=\"\",\"\",IF(Süt!$C13<=0,\"\",VLOOKUP($P11,$P$98:$CS$631,AZ$30,FALSE)))","v":""},{"$f":"IF(Süt!$B13=\"\",\"\",IF(Süt!$C13<=0,\"\",VLOOKUP($P11,$P$98:$CS$631,BA$30,FALSE)))","v":""},{"$f":"IF(Süt!$B13=\"\",\"\",IF(Süt!$C13<=0,\"\",VLOOKUP($P11,$P$98:$CS$631,BB$30,FALSE)))","v":""},{"$f":"IF(Süt!$B13=\"\",\"\",IF(Süt!$C13<=0,\"\",VLOOKUP($P11,$P$98:$CS$631,BC$30,FALSE)))","v":""},{"$f":"IF(Süt!$B13=\"\",\"\",IF(Süt!$C13<=0,\"\",VLOOKUP($P11,$P$98:$CS$631,BD$30,FALSE)))","v":""},{"$f":"IF(Süt!$B13=\"\",\"\",IF(Süt!$C13<=0,\"\",VLOOKUP($P11,$P$98:$CS$631,BE$30,FALSE)))","v":""},{"$f":"IF(Süt!$B13=\"\",\"\",IF(Süt!$C13<=0,\"\",VLOOKUP($P11,$P$98:$CS$631,BF$30,FALSE)))","v":""},{"$f":"IF(Süt!$B13=\"\",\"\",IF(Süt!$C13<=0,\"\",VLOOKUP($P11,$P$98:$CS$631,BG$30,FALSE)))","v":""},{"$f":"IF(Süt!$B13=\"\",\"\",IF(Süt!$C13<=0,\"\",VLOOKUP($P11,$P$98:$CS$631,BH$30,FALSE)))","v":""},{"$f":"IF(Süt!$B13=\"\",\"\",IF(Süt!$C13<=0,\"\",VLOOKUP($P11,$P$98:$CS$631,BI$30,FALSE)))","v":""},{"$f":"IF(Süt!$B13=\"\",\"\",IF(Süt!$C13<=0,\"\",VLOOKUP($P11,$P$98:$CS$631,BJ$30,FALSE)))","v":""},{"$f":"IF(Süt!$B13=\"\",\"\",IF(Süt!$C13<=0,\"\",VLOOKUP($P11,$P$98:$CS$631,BK$30,FALSE)))","v":""},{"$f":"IF(Süt!$B13=\"\",\"\",IF(Süt!$C13<=0,\"\",VLOOKUP($P11,$P$98:$CS$631,BL$30,FALSE)))","v":""},{"$f":"IF(Süt!$B13=\"\",\"\",IF(Süt!$C13<=0,\"\",VLOOKUP($P11,$P$98:$CS$631,BM$30,FALSE)))","v":""},{"$f":"IF(Süt!$B13=\"\",\"\",IF(Süt!$C13<=0,\"\",VLOOKUP($P11,$P$98:$CS$631,BN$30,FALSE)))","v":""},{"$f":"IF(Süt!$B13=\"\",\"\",IF(Süt!$C13<=0,\"\",VLOOKUP($P11,$P$98:$CS$631,BO$30,FALSE)))","v":""},{"$f":"IF(Süt!$B13=\"\",\"\",IF(Süt!$C13<=0,\"\",VLOOKUP($P11,$P$98:$CS$631,BP$30,FALSE)))","v":""},{"$f":"IF(Süt!$B13=\"\",\"\",IF(Süt!$C13<=0,\"\",VLOOKUP($P11,$P$98:$CS$631,BQ$30,FALSE)))","v":""},{"$f":"IF(Süt!$B13=\"\",\"\",IF(Süt!$C13<=0,\"\",VLOOKUP($P11,$P$98:$CS$631,BR$30,FALSE)))","v":""},{"$f":"IF(Süt!$B13=\"\",\"\",IF(Süt!$C13<=0,\"\",VLOOKUP($P11,$P$98:$CS$631,BS$30,FALSE)))","v":""},{"$f":"IF(Süt!$B13=\"\",\"\",IF(Süt!$C13<=0,\"\",VLOOKUP($P11,$P$98:$CS$631,BT$30,FALSE)))","v":""},{"$f":"IF(Süt!$B13=\"\",\"\",IF(Süt!$C13<=0,\"\",VLOOKUP($P11,$P$98:$CS$631,BU$30,FALSE)))","v":""},{"$f":"IF(Süt!$B13=\"\",\"\",IF(Süt!$C13<=0,\"\",VLOOKUP($P11,$P$98:$CS$631,BV$30,FALSE)))","v":""},{"$f":"IF(Süt!$B13=\"\",\"\",IF(Süt!$C13<=0,\"\",VLOOKUP($P11,$P$98:$CS$631,BW$30,FALSE)))","v":""},{"$f":"IF(Süt!$B13=\"\",\"\",IF(Süt!$C13<=0,\"\",VLOOKUP($P11,$P$98:$CS$631,BX$30,FALSE)))","v":""},{"$f":"IF(Süt!$B13=\"\",\"\",IF(Süt!$C13<=0,\"\",VLOOKUP($P11,$P$98:$CS$631,BY$30,FALSE)))","v":""},{"$f":"IF(Süt!$B13=\"\",\"\",IF(Süt!$C13<=0,\"\",VLOOKUP($P11,$P$98:$CS$631,BZ$30,FALSE)))","v":""},{"$f":"IF(Süt!$B13=\"\",\"\",IF(Süt!$C13<=0,\"\",VLOOKUP($P11,$P$98:$CS$631,CA$30,FALSE)))","v":""},{"$f":"IF(Süt!$B13=\"\",\"\",IF(Süt!$C13<=0,\"\",VLOOKUP($P11,$P$98:$CS$631,CB$30,FALSE)))","v":""},{"$f":"IF(Süt!$B13=\"\",\"\",IF(Süt!$C13<=0,\"\",VLOOKUP($P11,$P$98:$CS$631,CC$30,FALSE)))","v":""},{"$f":"IF(Süt!$B13=\"\",\"\",IF(Süt!$C13<=0,\"\",VLOOKUP($P11,$P$98:$CS$631,CD$30,FALSE)))","v":""},{"$f":"IF(Süt!$B13=\"\",\"\",IF(Süt!$C13<=0,\"\",VLOOKUP($P11,$P$98:$CS$631,CE$30,FALSE)))","v":""},{"$f":"IF(Süt!$B13=\"\",\"\",IF(Süt!$C13<=0,\"\",VLOOKUP($P11,$P$98:$CS$631,CF$30,FALSE)))","v":""},{"$f":"IF(Süt!$B13=\"\",\"\",IF(Süt!$C13<=0,\"\",VLOOKUP($P11,$P$98:$CS$631,CG$30,FALSE)))","v":""},{"$f":"IF(Süt!$B13=\"\",\"\",IF(Süt!$C13<=0,\"\",VLOOKUP($P11,$P$98:$CS$631,CH$30,FALSE)))","v":""},{"$f":"IF(Süt!$B13=\"\",\"\",IF(Süt!$C13<=0,\"\",VLOOKUP($P11,$P$98:$CS$631,CI$30,FALSE)))","v":""},{"$f":"IF(Süt!$B13=\"\",\"\",IF(Süt!$C13<=0,\"\",VLOOKUP($P11,$P$98:$CS$631,CJ$30,FALSE)))","v":""},{"$f":"IF(Süt!$B13=\"\",\"\",IF(Süt!$C13<=0,\"\",VLOOKUP($P11,$P$98:$CS$631,CK$30,FALSE)))","v":""},{"$f":"IF(Süt!$B13=\"\",\"\",IF(Süt!$C13<=0,\"\",VLOOKUP($P11,$P$98:$CS$631,CL$30,FALSE)))","v":""},{"$f":"IF(Süt!$B13=\"\",\"\",IF(Süt!$C13<=0,\"\",VLOOKUP($P11,$P$98:$CS$631,CM$30,FALSE)))","v":""},{"$f":"IF(Süt!$B13=\"\",\"\",IF(Süt!$C13<=0,\"\",VLOOKUP($P11,$P$98:$CS$631,CN$30,FALSE)))","v":""},{"$f":"IF(Süt!$B13=\"\",\"\",IF(Süt!$C13<=0,\"\",VLOOKUP($P11,$P$98:$CS$631,CO$30,FALSE)))","v":""},{"$f":"IF(Süt!$B13=\"\",\"\",IF(Süt!$C13<=0,\"\",VLOOKUP($P11,$P$98:$CS$631,CP$30,FALSE)))","v":""},{"$f":"IF(Süt!$B13=\"\",\"\",IF(Süt!$C13<=0,\"\",VLOOKUP($P11,$P$98:$CS$631,CQ$30,FALSE)))","v":""},{"$f":"IF(Süt!$B13=\"\",\"\",IF(Süt!$C13<=0,\"\",VLOOKUP($P11,$P$98:$CS$631,CR$30,FALSE)))","v":""},{"$f":"IF(Süt!$B13=\"\",\"\",IF(Süt!$C13<=0,\"\",VLOOKUP($P11,$P$98:$CS$631,CS$30,FALSE)))","v":""},7,0,0.216,"NEPreg",{"$f":" MEPreg * 0.64","v":0},"g/gün, Gebelik için gerekli net enerji ",null,null,null,null,null,null,null,null,null,null,3]
[{"$f":"IF(Süt!A12=\"\",\"\",Süt!A12)","v":5},{"$f":"IF(Süt!B12=\"\",\"\",Süt!B12)","v":"Buğday Kepeği, Razmol"},{"$f":"IF(Süt!C12=\"\",\"\",Süt!C12)","v":0},{"$f":"Süt!D12","v":12},{"$f":"Süt!E12","v":0},{"$f":"Süt!F12","v":2},{"$f":"IF(AnimalType<>\"Damızlık Düve\",\"NEl, Mcal/kg KM\",\"NEb,  Mcal/gün\")","v":"NEl, Mcal/kg KM"},{"$f":"IF(AnimalType<>\"Damızlık Düve\",\"\",HeiferNEG)","v":""},{"$f":"IF(AnimalType <> \"Damızlık Düve\",NEl_Total/TotalDMFed,NEGrowthDiet)","v":1.3772880273403774},null,null,null,0,null,"",{"$f":"IF(Süt!B14=\"\",\"\",IF(Süt!C14<=0,\"\",Süt!B14))","v":""},{"$f":"IF(Süt!$B14=\"\",\"\",IF(Süt!$C14<=0,\"\",VLOOKUP($P12,$P$98:$CS$631,Q$30,FALSE)))","v":""},{"$f":"IF(Süt!$B14=\"\",\"\",IF(Süt!$C14<=0,\"\",VLOOKUP($P12,$P$98:$CS$631,R$30,FALSE)))","v":""},{"$f":"IF(Süt!$B14=\"\",\"\",IF(Süt!$C14<=0,\"\",VLOOKUP($P12,$P$98:$CS$631,S$30,FALSE)))","v":""},{"$f":"IF(Süt!$B14=\"\",\"\",IF(Süt!$C14<=0,\"\",VLOOKUP($P12,$P$98:$CS$631,T$30,FALSE)))","v":""},{"$f":"IF(Süt!$B14=\"\",\"\",IF(Süt!$C14<=0,\"\",VLOOKUP($P12,$P$98:$CS$631,U$30,FALSE)))","v":""},{"$f":"IF(Süt!$B14=\"\",\"\",IF(Süt!$C14<=0,\"\",VLOOKUP($P12,$P$98:$CS$631,V$30,FALSE)))","v":""},{"$f":"IF(Süt!$B14=\"\",\"\",IF(Süt!$C14<=0,\"\",VLOOKUP($P12,$P$98:$CS$631,W$30,FALSE)))","v":""},{"$f":"IF(Süt!$B14=\"\",\"\",IF(Süt!$C14<=0,\"\",VLOOKUP($P12,$P$98:$CS$631,X$30,FALSE)))","v":""},{"$f":"IF(Süt!$B14=\"\",\"\",IF(Süt!$C14<=0,\"\",VLOOKUP($P12,$P$98:$CS$631,Y$30,FALSE)))","v":""},{"$f":"IF(Süt!$B14=\"\",\"\",IF(Süt!$C14<=0,\"\",VLOOKUP($P12,$P$98:$CS$631,Z$30,FALSE)))","v":""},{"$f":"IF(Süt!$B14=\"\",\"\",IF(Süt!$C14<=0,\"\",VLOOKUP($P12,$P$98:$CS$631,AA$30,FALSE)))","v":""},{"$f":"IF(Süt!$B14=\"\",\"\",IF(Süt!$C14<=0,\"\",VLOOKUP($P12,$P$98:$CS$631,AB$30,FALSE)))","v":""},{"$f":"IF(Süt!$B14=\"\",\"\",IF(Süt!$C14<=0,\"\",VLOOKUP($P12,$P$98:$CS$631,AC$30,FALSE)))","v":""},{"$f":"IF(Süt!$B14=\"\",\"\",IF(Süt!$C14<=0,\"\",VLOOKUP($P12,$P$98:$CS$631,AD$30,FALSE)))","v":""},{"$f":"IF(Süt!$B14=\"\",\"\",IF(Süt!$C14<=0,\"\",VLOOKUP($P12,$P$98:$CS$631,AE$30,FALSE)))","v":""},{"$f":"IF(Süt!$B14=\"\",\"\",IF(Süt!$C14<=0,\"\",VLOOKUP($P12,$P$98:$CS$631,AF$30,FALSE)))","v":""},{"$f":"IF(Süt!$B14=\"\",\"\",IF(Süt!$C14<=0,\"\",VLOOKUP($P12,$P$98:$CS$631,AG$30,FALSE)))","v":""},{"$f":"IF(Süt!$B14=\"\",\"\",IF(Süt!$C14<=0,\"\",VLOOKUP($P12,$P$98:$CS$631,AH$30,FALSE)))","v":""},{"$f":"IF(Süt!$B14=\"\",\"\",IF(Süt!$C14<=0,\"\",VLOOKUP($P12,$P$98:$CS$631,AI$30,FALSE)))","v":""},{"$f":"IF(Süt!$B14=\"\",\"\",IF(Süt!$C14<=0,\"\",VLOOKUP($P12,$P$98:$CS$631,AJ$30,FALSE)))","v":""},{"$f":"IF(Süt!$B14=\"\",\"\",IF(Süt!$C14<=0,\"\",VLOOKUP($P12,$P$98:$CS$631,AK$30,FALSE)))","v":""},{"$f":"IF(Süt!$B14=\"\",\"\",IF(Süt!$C14<=0,\"\",VLOOKUP($P12,$P$98:$CS$631,AL$30,FALSE)))","v":""},{"$f":"IF(Süt!$B14=\"\",\"\",IF(Süt!$C14<=0,\"\",VLOOKUP($P12,$P$98:$CS$631,AM$30,FALSE)))","v":""},{"$f":"IF(Süt!$B14=\"\",\"\",IF(Süt!$C14<=0,\"\",VLOOKUP($P12,$P$98:$CS$631,AN$30,FALSE)))","v":""},{"$f":"IF(Süt!$B14=\"\",\"\",IF(Süt!$C14<=0,\"\",VLOOKUP($P12,$P$98:$CS$631,AO$30,FALSE)))","v":""},{"$f":"IF(Süt!$B14=\"\",\"\",IF(Süt!$C14<=0,\"\",VLOOKUP($P12,$P$98:$CS$631,AP$30,FALSE)))","v":""},{"$f":"IF(Süt!$B14=\"\",\"\",IF(Süt!$C14<=0,\"\",VLOOKUP($P12,$P$98:$CS$631,AQ$30,FALSE)))","v":""},{"$f":"IF(Süt!$B14=\"\",\"\",IF(Süt!$C14<=0,\"\",VLOOKUP($P12,$P$98:$CS$631,AR$30,FALSE)))","v":""},{"$f":"IF(Süt!$B14=\"\",\"\",IF(Süt!$C14<=0,\"\",VLOOKUP($P12,$P$98:$CS$631,AS$30,FALSE)))","v":""},{"$f":"IF(Süt!$B14=\"\",\"\",IF(Süt!$C14<=0,\"\",VLOOKUP($P12,$P$98:$CS$631,AT$30,FALSE)))","v":""},{"$f":"IF(Süt!$B14=\"\",\"\",IF(Süt!$C14<=0,\"\",VLOOKUP($P12,$P$98:$CS$631,AU$30,FALSE)))","v":""},{"$f":"IF(Süt!$B14=\"\",\"\",IF(Süt!$C14<=0,\"\",VLOOKUP($P12,$P$98:$CS$631,AV$30,FALSE)))","v":""},{"$f":"IF(Süt!$B14=\"\",\"\",IF(Süt!$C14<=0,\"\",VLOOKUP($P12,$P$98:$CS$631,AW$30,FALSE)))","v":""},{"$f":"IF(Süt!$B14=\"\",\"\",IF(Süt!$C14<=0,\"\",VLOOKUP($P12,$P$98:$CS$631,AX$30,FALSE)))","v":""},{"$f":"IF(Süt!$B14=\"\",\"\",IF(Süt!$C14<=0,\"\",VLOOKUP($P12,$P$98:$CS$631,AY$30,FALSE)))","v":""},{"$f":"IF(Süt!$B14=\"\",\"\",IF(Süt!$C14<=0,\"\",VLOOKUP($P12,$P$98:$CS$631,AZ$30,FALSE)))","v":""},{"$f":"IF(Süt!$B14=\"\",\"\",IF(Süt!$C14<=0,\"\",VLOOKUP($P12,$P$98:$CS$631,BA$30,FALSE)))","v":""},{"$f":"IF(Süt!$B14=\"\",\"\",IF(Süt!$C14<=0,\"\",VLOOKUP($P12,$P$98:$CS$631,BB$30,FALSE)))","v":""},{"$f":"IF(Süt!$B14=\"\",\"\",IF(Süt!$C14<=0,\"\",VLOOKUP($P12,$P$98:$CS$631,BC$30,FALSE)))","v":""},{"$f":"IF(Süt!$B14=\"\",\"\",IF(Süt!$C14<=0,\"\",VLOOKUP($P12,$P$98:$CS$631,BD$30,FALSE)))","v":""},{"$f":"IF(Süt!$B14=\"\",\"\",IF(Süt!$C14<=0,\"\",VLOOKUP($P12,$P$98:$CS$631,BE$30,FALSE)))","v":""},{"$f":"IF(Süt!$B14=\"\",\"\",IF(Süt!$C14<=0,\"\",VLOOKUP($P12,$P$98:$CS$631,BF$30,FALSE)))","v":""},{"$f":"IF(Süt!$B14=\"\",\"\",IF(Süt!$C14<=0,\"\",VLOOKUP($P12,$P$98:$CS$631,BG$30,FALSE)))","v":""},{"$f":"IF(Süt!$B14=\"\",\"\",IF(Süt!$C14<=0,\"\",VLOOKUP($P12,$P$98:$CS$631,BH$30,FALSE)))","v":""},{"$f":"IF(Süt!$B14=\"\",\"\",IF(Süt!$C14<=0,\"\",VLOOKUP($P12,$P$98:$CS$631,BI$30,FALSE)))","v":""},{"$f":"IF(Süt!$B14=\"\",\"\",IF(Süt!$C14<=0,\"\",VLOOKUP($P12,$P$98:$CS$631,BJ$30,FALSE)))","v":""},{"$f":"IF(Süt!$B14=\"\",\"\",IF(Süt!$C14<=0,\"\",VLOOKUP($P12,$P$98:$CS$631,BK$30,FALSE)))","v":""},{"$f":"IF(Süt!$B14=\"\",\"\",IF(Süt!$C14<=0,\"\",VLOOKUP($P12,$P$98:$CS$631,BL$30,FALSE)))","v":""},{"$f":"IF(Süt!$B14=\"\",\"\",IF(Süt!$C14<=0,\"\",VLOOKUP($P12,$P$98:$CS$631,BM$30,FALSE)))","v":""},{"$f":"IF(Süt!$B14=\"\",\"\",IF(Süt!$C14<=0,\"\",VLOOKUP($P12,$P$98:$CS$631,BN$30,FALSE)))","v":""},{"$f":"IF(Süt!$B14=\"\",\"\",IF(Süt!$C14<=0,\"\",VLOOKUP($P12,$P$98:$CS$631,BO$30,FALSE)))","v":""},{"$f":"IF(Süt!$B14=\"\",\"\",IF(Süt!$C14<=0,\"\",VLOOKUP($P12,$P$98:$CS$631,BP$30,FALSE)))","v":""},{"$f":"IF(Süt!$B14=\"\",\"\",IF(Süt!$C14<=0,\"\",VLOOKUP($P12,$P$98:$CS$631,BQ$30,FALSE)))","v":""},{"$f":"IF(Süt!$B14=\"\",\"\",IF(Süt!$C14<=0,\"\",VLOOKUP($P12,$P$98:$CS$631,BR$30,FALSE)))","v":""},{"$f":"IF(Süt!$B14=\"\",\"\",IF(Süt!$C14<=0,\"\",VLOOKUP($P12,$P$98:$CS$631,BS$30,FALSE)))","v":""},{"$f":"IF(Süt!$B14=\"\",\"\",IF(Süt!$C14<=0,\"\",VLOOKUP($P12,$P$98:$CS$631,BT$30,FALSE)))","v":""},{"$f":"IF(Süt!$B14=\"\",\"\",IF(Süt!$C14<=0,\"\",VLOOKUP($P12,$P$98:$CS$631,BU$30,FALSE)))","v":""},{"$f":"IF(Süt!$B14=\"\",\"\",IF(Süt!$C14<=0,\"\",VLOOKUP($P12,$P$98:$CS$631,BV$30,FALSE)))","v":""},{"$f":"IF(Süt!$B14=\"\",\"\",IF(Süt!$C14<=0,\"\",VLOOKUP($P12,$P$98:$CS$631,BW$30,FALSE)))","v":""},{"$f":"IF(Süt!$B14=\"\",\"\",IF(Süt!$C14<=0,\"\",VLOOKUP($P12,$P$98:$CS$631,BX$30,FALSE)))","v":""},{"$f":"IF(Süt!$B14=\"\",\"\",IF(Süt!$C14<=0,\"\",VLOOKUP($P12,$P$98:$CS$631,BY$30,FALSE)))","v":""},{"$f":"IF(Süt!$B14=\"\",\"\",IF(Süt!$C14<=0,\"\",VLOOKUP($P12,$P$98:$CS$631,BZ$30,FALSE)))","v":""},{"$f":"IF(Süt!$B14=\"\",\"\",IF(Süt!$C14<=0,\"\",VLOOKUP($P12,$P$98:$CS$631,CA$30,FALSE)))","v":""},{"$f":"IF(Süt!$B14=\"\",\"\",IF(Süt!$C14<=0,\"\",VLOOKUP($P12,$P$98:$CS$631,CB$30,FALSE)))","v":""},{"$f":"IF(Süt!$B14=\"\",\"\",IF(Süt!$C14<=0,\"\",VLOOKUP($P12,$P$98:$CS$631,CC$30,FALSE)))","v":""},{"$f":"IF(Süt!$B14=\"\",\"\",IF(Süt!$C14<=0,\"\",VLOOKUP($P12,$P$98:$CS$631,CD$30,FALSE)))","v":""},{"$f":"IF(Süt!$B14=\"\",\"\",IF(Süt!$C14<=0,\"\",VLOOKUP($P12,$P$98:$CS$631,CE$30,FALSE)))","v":""},{"$f":"IF(Süt!$B14=\"\",\"\",IF(Süt!$C14<=0,\"\",VLOOKUP($P12,$P$98:$CS$631,CF$30,FALSE)))","v":""},{"$f":"IF(Süt!$B14=\"\",\"\",IF(Süt!$C14<=0,\"\",VLOOKUP($P12,$P$98:$CS$631,CG$30,FALSE)))","v":""},{"$f":"IF(Süt!$B14=\"\",\"\",IF(Süt!$C14<=0,\"\",VLOOKUP($P12,$P$98:$CS$631,CH$30,FALSE)))","v":""},{"$f":"IF(Süt!$B14=\"\",\"\",IF(Süt!$C14<=0,\"\",VLOOKUP($P12,$P$98:$CS$631,CI$30,FALSE)))","v":""},{"$f":"IF(Süt!$B14=\"\",\"\",IF(Süt!$C14<=0,\"\",VLOOKUP($P12,$P$98:$CS$631,CJ$30,FALSE)))","v":""},{"$f":"IF(Süt!$B14=\"\",\"\",IF(Süt!$C14<=0,\"\",VLOOKUP($P12,$P$98:$CS$631,CK$30,FALSE)))","v":""},{"$f":"IF(Süt!$B14=\"\",\"\",IF(Süt!$C14<=0,\"\",VLOOKUP($P12,$P$98:$CS$631,CL$30,FALSE)))","v":""},{"$f":"IF(Süt!$B14=\"\",\"\",IF(Süt!$C14<=0,\"\",VLOOKUP($P12,$P$98:$CS$631,CM$30,FALSE)))","v":""},{"$f":"IF(Süt!$B14=\"\",\"\",IF(Süt!$C14<=0,\"\",VLOOKUP($P12,$P$98:$CS$631,CN$30,FALSE)))","v":""},{"$f":"IF(Süt!$B14=\"\",\"\",IF(Süt!$C14<=0,\"\",VLOOKUP($P12,$P$98:$CS$631,CO$30,FALSE)))","v":""},{"$f":"IF(Süt!$B14=\"\",\"\",IF(Süt!$C14<=0,\"\",VLOOKUP($P12,$P$98:$CS$631,CP$30,FALSE)))","v":""},{"$f":"IF(Süt!$B14=\"\",\"\",IF(Süt!$C14<=0,\"\",VLOOKUP($P12,$P$98:$CS$631,CQ$30,FALSE)))","v":""},{"$f":"IF(Süt!$B14=\"\",\"\",IF(Süt!$C14<=0,\"\",VLOOKUP($P12,$P$98:$CS$631,CR$30,FALSE)))","v":""},{"$f":"IF(Süt!$B14=\"\",\"\",IF(Süt!$C14<=0,\"\",VLOOKUP($P12,$P$98:$CS$631,CS$30,FALSE)))","v":""},6,0,0.24299999999999999,"MPPreg",{"$f":"IF(DaysPreg < 190,0,(((0.69 * DaysPreg) - 69.2) * (CBW / 45)) / 0.33)","v":0},"g/gün, Gebelik için metabolic protein ihtiyacı",null,null,null,null,null,null,null,null,null,null,4]
[{"$f":"IF(Süt!A13=\"\",\"\",Süt!A13)","v":5},{"$f":"IF(Süt!B13=\"\",\"\",Süt!B13)","v":"Şeker Pancarı Posası,Yaş, Ambalajlı"},{"$f":"IF(Süt!C13=\"\",\"\",Süt!C13)","v":0},{"$f":"Süt!D13","v":2.5},{"$f":"Süt!E13","v":0},{"$f":"Süt!F13","v":10},{"$f":"CONCATENATE(IF(AnimalType<>\"Damızlık Düve\",\"NEl,\",\"ME,\"),\" Mcal/gün\")","v":"NEl, Mcal/gün"},{"$f":"IF(AnimalType <> \"Damızlık Düve\",NEMaint+NEPreg+NELact+NEGrowth,HeiferME)","v":28.190107785056014},{"$f":"IF(AnimalType <> \"Damızlık Düve\",NEl_Total,MEng_Total)","v":29.113333523028398},{"$f":"IF(H13=\"\",\"     \",IF(I13>(H13*1.05),\"FAZLA\",IF(I13<(H13*0.98),\"EKSİK\",\"TAMAM\")))","v":"TAMAM"},null,null,0,null,"",{"$f":"IF(Süt!B15=\"\",\"\",IF(Süt!C15<=0,\"\",Süt!B15))","v":""},{"$f":"IF(Süt!$B15=\"\",\"\",IF(Süt!$C15<=0,\"\",VLOOKUP($P13,$P$98:$CS$631,Q$30,FALSE)))","v":""},{"$f":"IF(Süt!$B15=\"\",\"\",IF(Süt!$C15<=0,\"\",VLOOKUP($P13,$P$98:$CS$631,R$30,FALSE)))","v":""},{"$f":"IF(Süt!$B15=\"\",\"\",IF(Süt!$C15<=0,\"\",VLOOKUP($P13,$P$98:$CS$631,S$30,FALSE)))","v":""},{"$f":"IF(Süt!$B15=\"\",\"\",IF(Süt!$C15<=0,\"\",VLOOKUP($P13,$P$98:$CS$631,T$30,FALSE)))","v":""},{"$f":"IF(Süt!$B15=\"\",\"\",IF(Süt!$C15<=0,\"\",VLOOKUP($P13,$P$98:$CS$631,U$30,FALSE)))","v":""},{"$f":"IF(Süt!$B15=\"\",\"\",IF(Süt!$C15<=0,\"\",VLOOKUP($P13,$P$98:$CS$631,V$30,FALSE)))","v":""},{"$f":"IF(Süt!$B15=\"\",\"\",IF(Süt!$C15<=0,\"\",VLOOKUP($P13,$P$98:$CS$631,W$30,FALSE)))","v":""},{"$f":"IF(Süt!$B15=\"\",\"\",IF(Süt!$C15<=0,\"\",VLOOKUP($P13,$P$98:$CS$631,X$30,FALSE)))","v":""},{"$f":"IF(Süt!$B15=\"\",\"\",IF(Süt!$C15<=0,\"\",VLOOKUP($P13,$P$98:$CS$631,Y$30,FALSE)))","v":""},{"$f":"IF(Süt!$B15=\"\",\"\",IF(Süt!$C15<=0,\"\",VLOOKUP($P13,$P$98:$CS$631,Z$30,FALSE)))","v":""},{"$f":"IF(Süt!$B15=\"\",\"\",IF(Süt!$C15<=0,\"\",VLOOKUP($P13,$P$98:$CS$631,AA$30,FALSE)))","v":""},{"$f":"IF(Süt!$B15=\"\",\"\",IF(Süt!$C15<=0,\"\",VLOOKUP($P13,$P$98:$CS$631,AB$30,FALSE)))","v":""},{"$f":"IF(Süt!$B15=\"\",\"\",IF(Süt!$C15<=0,\"\",VLOOKUP($P13,$P$98:$CS$631,AC$30,FALSE)))","v":""},{"$f":"IF(Süt!$B15=\"\",\"\",IF(Süt!$C15<=0,\"\",VLOOKUP($P13,$P$98:$CS$631,AD$30,FALSE)))","v":""},{"$f":"IF(Süt!$B15=\"\",\"\",IF(Süt!$C15<=0,\"\",VLOOKUP($P13,$P$98:$CS$631,AE$30,FALSE)))","v":""},{"$f":"IF(Süt!$B15=\"\",\"\",IF(Süt!$C15<=0,\"\",VLOOKUP($P13,$P$98:$CS$631,AF$30,FALSE)))","v":""},{"$f":"IF(Süt!$B15=\"\",\"\",IF(Süt!$C15<=0,\"\",VLOOKUP($P13,$P$98:$CS$631,AG$30,FALSE)))","v":""},{"$f":"IF(Süt!$B15=\"\",\"\",IF(Süt!$C15<=0,\"\",VLOOKUP($P13,$P$98:$CS$631,AH$30,FALSE)))","v":""},{"$f":"IF(Süt!$B15=\"\",\"\",IF(Süt!$C15<=0,\"\",VLOOKUP($P13,$P$98:$CS$631,AI$30,FALSE)))","v":""},{"$f":"IF(Süt!$B15=\"\",\"\",IF(Süt!$C15<=0,\"\",VLOOKUP($P13,$P$98:$CS$631,AJ$30,FALSE)))","v":""},{"$f":"IF(Süt!$B15=\"\",\"\",IF(Süt!$C15<=0,\"\",VLOOKUP($P13,$P$98:$CS$631,AK$30,FALSE)))","v":""},{"$f":"IF(Süt!$B15=\"\",\"\",IF(Süt!$C15<=0,\"\",VLOOKUP($P13,$P$98:$CS$631,AL$30,FALSE)))","v":""},{"$f":"IF(Süt!$B15=\"\",\"\",IF(Süt!$C15<=0,\"\",VLOOKUP($P13,$P$98:$CS$631,AM$30,FALSE)))","v":""},{"$f":"IF(Süt!$B15=\"\",\"\",IF(Süt!$C15<=0,\"\",VLOOKUP($P13,$P$98:$CS$631,AN$30,FALSE)))","v":""},{"$f":"IF(Süt!$B15=\"\",\"\",IF(Süt!$C15<=0,\"\",VLOOKUP($P13,$P$98:$CS$631,AO$30,FALSE)))","v":""},{"$f":"IF(Süt!$B15=\"\",\"\",IF(Süt!$C15<=0,\"\",VLOOKUP($P13,$P$98:$CS$631,AP$30,FALSE)))","v":""},{"$f":"IF(Süt!$B15=\"\",\"\",IF(Süt!$C15<=0,\"\",VLOOKUP($P13,$P$98:$CS$631,AQ$30,FALSE)))","v":""},{"$f":"IF(Süt!$B15=\"\",\"\",IF(Süt!$C15<=0,\"\",VLOOKUP($P13,$P$98:$CS$631,AR$30,FALSE)))","v":""},{"$f":"IF(Süt!$B15=\"\",\"\",IF(Süt!$C15<=0,\"\",VLOOKUP($P13,$P$98:$CS$631,AS$30,FALSE)))","v":""},{"$f":"IF(Süt!$B15=\"\",\"\",IF(Süt!$C15<=0,\"\",VLOOKUP($P13,$P$98:$CS$631,AT$30,FALSE)))","v":""},{"$f":"IF(Süt!$B15=\"\",\"\",IF(Süt!$C15<=0,\"\",VLOOKUP($P13,$P$98:$CS$631,AU$30,FALSE)))","v":""},{"$f":"IF(Süt!$B15=\"\",\"\",IF(Süt!$C15<=0,\"\",VLOOKUP($P13,$P$98:$CS$631,AV$30,FALSE)))","v":""},{"$f":"IF(Süt!$B15=\"\",\"\",IF(Süt!$C15<=0,\"\",VLOOKUP($P13,$P$98:$CS$631,AW$30,FALSE)))","v":""},{"$f":"IF(Süt!$B15=\"\",\"\",IF(Süt!$C15<=0,\"\",VLOOKUP($P13,$P$98:$CS$631,AX$30,FALSE)))","v":""},{"$f":"IF(Süt!$B15=\"\",\"\",IF(Süt!$C15<=0,\"\",VLOOKUP($P13,$P$98:$CS$631,AY$30,FALSE)))","v":""},{"$f":"IF(Süt!$B15=\"\",\"\",IF(Süt!$C15<=0,\"\",VLOOKUP($P13,$P$98:$CS$631,AZ$30,FALSE)))","v":""},{"$f":"IF(Süt!$B15=\"\",\"\",IF(Süt!$C15<=0,\"\",VLOOKUP($P13,$P$98:$CS$631,BA$30,FALSE)))","v":""},{"$f":"IF(Süt!$B15=\"\",\"\",IF(Süt!$C15<=0,\"\",VLOOKUP($P13,$P$98:$CS$631,BB$30,FALSE)))","v":""},{"$f":"IF(Süt!$B15=\"\",\"\",IF(Süt!$C15<=0,\"\",VLOOKUP($P13,$P$98:$CS$631,BC$30,FALSE)))","v":""},{"$f":"IF(Süt!$B15=\"\",\"\",IF(Süt!$C15<=0,\"\",VLOOKUP($P13,$P$98:$CS$631,BD$30,FALSE)))","v":""},{"$f":"IF(Süt!$B15=\"\",\"\",IF(Süt!$C15<=0,\"\",VLOOKUP($P13,$P$98:$CS$631,BE$30,FALSE)))","v":""},{"$f":"IF(Süt!$B15=\"\",\"\",IF(Süt!$C15<=0,\"\",VLOOKUP($P13,$P$98:$CS$631,BF$30,FALSE)))","v":""},{"$f":"IF(Süt!$B15=\"\",\"\",IF(Süt!$C15<=0,\"\",VLOOKUP($P13,$P$98:$CS$631,BG$30,FALSE)))","v":""},{"$f":"IF(Süt!$B15=\"\",\"\",IF(Süt!$C15<=0,\"\",VLOOKUP($P13,$P$98:$CS$631,BH$30,FALSE)))","v":""},{"$f":"IF(Süt!$B15=\"\",\"\",IF(Süt!$C15<=0,\"\",VLOOKUP($P13,$P$98:$CS$631,BI$30,FALSE)))","v":""},{"$f":"IF(Süt!$B15=\"\",\"\",IF(Süt!$C15<=0,\"\",VLOOKUP($P13,$P$98:$CS$631,BJ$30,FALSE)))","v":""},{"$f":"IF(Süt!$B15=\"\",\"\",IF(Süt!$C15<=0,\"\",VLOOKUP($P13,$P$98:$CS$631,BK$30,FALSE)))","v":""},{"$f":"IF(Süt!$B15=\"\",\"\",IF(Süt!$C15<=0,\"\",VLOOKUP($P13,$P$98:$CS$631,BL$30,FALSE)))","v":""},{"$f":"IF(Süt!$B15=\"\",\"\",IF(Süt!$C15<=0,\"\",VLOOKUP($P13,$P$98:$CS$631,BM$30,FALSE)))","v":""},{"$f":"IF(Süt!$B15=\"\",\"\",IF(Süt!$C15<=0,\"\",VLOOKUP($P13,$P$98:$CS$631,BN$30,FALSE)))","v":""},{"$f":"IF(Süt!$B15=\"\",\"\",IF(Süt!$C15<=0,\"\",VLOOKUP($P13,$P$98:$CS$631,BO$30,FALSE)))","v":""},{"$f":"IF(Süt!$B15=\"\",\"\",IF(Süt!$C15<=0,\"\",VLOOKUP($P13,$P$98:$CS$631,BP$30,FALSE)))","v":""},{"$f":"IF(Süt!$B15=\"\",\"\",IF(Süt!$C15<=0,\"\",VLOOKUP($P13,$P$98:$CS$631,BQ$30,FALSE)))","v":""},{"$f":"IF(Süt!$B15=\"\",\"\",IF(Süt!$C15<=0,\"\",VLOOKUP($P13,$P$98:$CS$631,BR$30,FALSE)))","v":""},{"$f":"IF(Süt!$B15=\"\",\"\",IF(Süt!$C15<=0,\"\",VLOOKUP($P13,$P$98:$CS$631,BS$30,FALSE)))","v":""},{"$f":"IF(Süt!$B15=\"\",\"\",IF(Süt!$C15<=0,\"\",VLOOKUP($P13,$P$98:$CS$631,BT$30,FALSE)))","v":""},{"$f":"IF(Süt!$B15=\"\",\"\",IF(Süt!$C15<=0,\"\",VLOOKUP($P13,$P$98:$CS$631,BU$30,FALSE)))","v":""},{"$f":"IF(Süt!$B15=\"\",\"\",IF(Süt!$C15<=0,\"\",VLOOKUP($P13,$P$98:$CS$631,BV$30,FALSE)))","v":""},{"$f":"IF(Süt!$B15=\"\",\"\",IF(Süt!$C15<=0,\"\",VLOOKUP($P13,$P$98:$CS$631,BW$30,FALSE)))","v":""},{"$f":"IF(Süt!$B15=\"\",\"\",IF(Süt!$C15<=0,\"\",VLOOKUP($P13,$P$98:$CS$631,BX$30,FALSE)))","v":""},{"$f":"IF(Süt!$B15=\"\",\"\",IF(Süt!$C15<=0,\"\",VLOOKUP($P13,$P$98:$CS$631,BY$30,FALSE)))","v":""},{"$f":"IF(Süt!$B15=\"\",\"\",IF(Süt!$C15<=0,\"\",VLOOKUP($P13,$P$98:$CS$631,BZ$30,FALSE)))","v":""},{"$f":"IF(Süt!$B15=\"\",\"\",IF(Süt!$C15<=0,\"\",VLOOKUP($P13,$P$98:$CS$631,CA$30,FALSE)))","v":""},{"$f":"IF(Süt!$B15=\"\",\"\",IF(Süt!$C15<=0,\"\",VLOOKUP($P13,$P$98:$CS$631,CB$30,FALSE)))","v":""},{"$f":"IF(Süt!$B15=\"\",\"\",IF(Süt!$C15<=0,\"\",VLOOKUP($P13,$P$98:$CS$631,CC$30,FALSE)))","v":""},{"$f":"IF(Süt!$B15=\"\",\"\",IF(Süt!$C15<=0,\"\",VLOOKUP($P13,$P$98:$CS$631,CD$30,FALSE)))","v":""},{"$f":"IF(Süt!$B15=\"\",\"\",IF(Süt!$C15<=0,\"\",VLOOKUP($P13,$P$98:$CS$631,CE$30,FALSE)))","v":""},{"$f":"IF(Süt!$B15=\"\",\"\",IF(Süt!$C15<=0,\"\",VLOOKUP($P13,$P$98:$CS$631,CF$30,FALSE)))","v":""},{"$f":"IF(Süt!$B15=\"\",\"\",IF(Süt!$C15<=0,\"\",VLOOKUP($P13,$P$98:$CS$631,CG$30,FALSE)))","v":""},{"$f":"IF(Süt!$B15=\"\",\"\",IF(Süt!$C15<=0,\"\",VLOOKUP($P13,$P$98:$CS$631,CH$30,FALSE)))","v":""},{"$f":"IF(Süt!$B15=\"\",\"\",IF(Süt!$C15<=0,\"\",VLOOKUP($P13,$P$98:$CS$631,CI$30,FALSE)))","v":""},{"$f":"IF(Süt!$B15=\"\",\"\",IF(Süt!$C15<=0,\"\",VLOOKUP($P13,$P$98:$CS$631,CJ$30,FALSE)))","v":""},{"$f":"IF(Süt!$B15=\"\",\"\",IF(Süt!$C15<=0,\"\",VLOOKUP($P13,$P$98:$CS$631,CK$30,FALSE)))","v":""},{"$f":"IF(Süt!$B15=\"\",\"\",IF(Süt!$C15<=0,\"\",VLOOKUP($P13,$P$98:$CS$631,CL$30,FALSE)))","v":""},{"$f":"IF(Süt!$B15=\"\",\"\",IF(Süt!$C15<=0,\"\",VLOOKUP($P13,$P$98:$CS$631,CM$30,FALSE)))","v":""},{"$f":"IF(Süt!$B15=\"\",\"\",IF(Süt!$C15<=0,\"\",VLOOKUP($P13,$P$98:$CS$631,CN$30,FALSE)))","v":""},{"$f":"IF(Süt!$B15=\"\",\"\",IF(Süt!$C15<=0,\"\",VLOOKUP($P13,$P$98:$CS$631,CO$30,FALSE)))","v":""},{"$f":"IF(Süt!$B15=\"\",\"\",IF(Süt!$C15<=0,\"\",VLOOKUP($P13,$P$98:$CS$631,CP$30,FALSE)))","v":""},{"$f":"IF(Süt!$B15=\"\",\"\",IF(Süt!$C15<=0,\"\",VLOOKUP($P13,$P$98:$CS$631,CQ$30,FALSE)))","v":""},{"$f":"IF(Süt!$B15=\"\",\"\",IF(Süt!$C15<=0,\"\",VLOOKUP($P13,$P$98:$CS$631,CR$30,FALSE)))","v":""},{"$f":"IF(Süt!$B15=\"\",\"\",IF(Süt!$C15<=0,\"\",VLOOKUP($P13,$P$98:$CS$631,CS$30,FALSE)))","v":""},5,0,0.27,"CW",{"$f":"IF(DaysPreg < 190,0,(18 + ((DaysPreg - 190) * 0.665)) * (CBW / 45))","v":0},"kg, fötus ağırlığı",null,null,null,null,null,null,null,null,null,null,5]
[{"$f":"IF(Süt!A14=\"\",\"\",Süt!A14)","v":""},{"$f":"IF(Süt!B14=\"\",\"\",Süt!B14)","v":""},{"$f":"IF(Süt!C14=\"\",\"\",Süt!C14)","v":""},{"$f":"Süt!D14","v":0},{"$f":"Süt!E14","v":0},{"$f":"Süt!F14","v":0},"Emilebilir Ca, g/gün",{"$f":"Ca Total","v":51.17},{"$f":"Ca Absorbable","v":50.832836067684262},{"$f":"IF(H14=\"\",\"     \",IF(I14>(H14*1.5),\"FAZLA\",IF(I14<(H14*0.99),\"EKSİK\",\"TAMAM\")))","v":"TAMAM"},null,null,0,null,"",{"$f":"IF(Süt!B16=\"\",\"\",IF(Süt!C16<=0,\"\",Süt!B16))","v":""},{"$f":"IF(Süt!$B16=\"\",\"\",IF(Süt!$C16<=0,\"\",VLOOKUP($P14,$P$98:$CS$631,Q$30,FALSE)))","v":""},{"$f":"IF(Süt!$B16=\"\",\"\",IF(Süt!$C16<=0,\"\",VLOOKUP($P14,$P$98:$CS$631,R$30,FALSE)))","v":""},{"$f":"IF(Süt!$B16=\"\",\"\",IF(Süt!$C16<=0,\"\",VLOOKUP($P14,$P$98:$CS$631,S$30,FALSE)))","v":""},{"$f":"IF(Süt!$B16=\"\",\"\",IF(Süt!$C16<=0,\"\",VLOOKUP($P14,$P$98:$CS$631,T$30,FALSE)))","v":""},{"$f":"IF(Süt!$B16=\"\",\"\",IF(Süt!$C16<=0,\"\",VLOOKUP($P14,$P$98:$CS$631,U$30,FALSE)))","v":""},{"$f":"IF(Süt!$B16=\"\",\"\",IF(Süt!$C16<=0,\"\",VLOOKUP($P14,$P$98:$CS$631,V$30,FALSE)))","v":""},{"$f":"IF(Süt!$B16=\"\",\"\",IF(Süt!$C16<=0,\"\",VLOOKUP($P14,$P$98:$CS$631,W$30,FALSE)))","v":""},{"$f":"IF(Süt!$B16=\"\",\"\",IF(Süt!$C16<=0,\"\",VLOOKUP($P14,$P$98:$CS$631,X$30,FALSE)))","v":""},{"$f":"IF(Süt!$B16=\"\",\"\",IF(Süt!$C16<=0,\"\",VLOOKUP($P14,$P$98:$CS$631,Y$30,FALSE)))","v":""},{"$f":"IF(Süt!$B16=\"\",\"\",IF(Süt!$C16<=0,\"\",VLOOKUP($P14,$P$98:$CS$631,Z$30,FALSE)))","v":""},{"$f":"IF(Süt!$B16=\"\",\"\",IF(Süt!$C16<=0,\"\",VLOOKUP($P14,$P$98:$CS$631,AA$30,FALSE)))","v":""},{"$f":"IF(Süt!$B16=\"\",\"\",IF(Süt!$C16<=0,\"\",VLOOKUP($P14,$P$98:$CS$631,AB$30,FALSE)))","v":""},{"$f":"IF(Süt!$B16=\"\",\"\",IF(Süt!$C16<=0,\"\",VLOOKUP($P14,$P$98:$CS$631,AC$30,FALSE)))","v":""},{"$f":"IF(Süt!$B16=\"\",\"\",IF(Süt!$C16<=0,\"\",VLOOKUP($P14,$P$98:$CS$631,AD$30,FALSE)))","v":""},{"$f":"IF(Süt!$B16=\"\",\"\",IF(Süt!$C16<=0,\"\",VLOOKUP($P14,$P$98:$CS$631,AE$30,FALSE)))","v":""},{"$f":"IF(Süt!$B16=\"\",\"\",IF(Süt!$C16<=0,\"\",VLOOKUP($P14,$P$98:$CS$631,AF$30,FALSE)))","v":""},{"$f":"IF(Süt!$B16=\"\",\"\",IF(Süt!$C16<=0,\"\",VLOOKUP($P14,$P$98:$CS$631,AG$30,FALSE)))","v":""},{"$f":"IF(Süt!$B16=\"\",\"\",IF(Süt!$C16<=0,\"\",VLOOKUP($P14,$P$98:$CS$631,AH$30,FALSE)))","v":""},{"$f":"IF(Süt!$B16=\"\",\"\",IF(Süt!$C16<=0,\"\",VLOOKUP($P14,$P$98:$CS$631,AI$30,FALSE)))","v":""},{"$f":"IF(Süt!$B16=\"\",\"\",IF(Süt!$C16<=0,\"\",VLOOKUP($P14,$P$98:$CS$631,AJ$30,FALSE)))","v":""},{"$f":"IF(Süt!$B16=\"\",\"\",IF(Süt!$C16<=0,\"\",VLOOKUP($P14,$P$98:$CS$631,AK$30,FALSE)))","v":""},{"$f":"IF(Süt!$B16=\"\",\"\",IF(Süt!$C16<=0,\"\",VLOOKUP($P14,$P$98:$CS$631,AL$30,FALSE)))","v":""},{"$f":"IF(Süt!$B16=\"\",\"\",IF(Süt!$C16<=0,\"\",VLOOKUP($P14,$P$98:$CS$631,AM$30,FALSE)))","v":""},{"$f":"IF(Süt!$B16=\"\",\"\",IF(Süt!$C16<=0,\"\",VLOOKUP($P14,$P$98:$CS$631,AN$30,FALSE)))","v":""},{"$f":"IF(Süt!$B16=\"\",\"\",IF(Süt!$C16<=0,\"\",VLOOKUP($P14,$P$98:$CS$631,AO$30,FALSE)))","v":""},{"$f":"IF(Süt!$B16=\"\",\"\",IF(Süt!$C16<=0,\"\",VLOOKUP($P14,$P$98:$CS$631,AP$30,FALSE)))","v":""},{"$f":"IF(Süt!$B16=\"\",\"\",IF(Süt!$C16<=0,\"\",VLOOKUP($P14,$P$98:$CS$631,AQ$30,FALSE)))","v":""},{"$f":"IF(Süt!$B16=\"\",\"\",IF(Süt!$C16<=0,\"\",VLOOKUP($P14,$P$98:$CS$631,AR$30,FALSE)))","v":""},{"$f":"IF(Süt!$B16=\"\",\"\",IF(Süt!$C16<=0,\"\",VLOOKUP($P14,$P$98:$CS$631,AS$30,FALSE)))","v":""},{"$f":"IF(Süt!$B16=\"\",\"\",IF(Süt!$C16<=0,\"\",VLOOKUP($P14,$P$98:$CS$631,AT$30,FALSE)))","v":""},{"$f":"IF(Süt!$B16=\"\",\"\",IF(Süt!$C16<=0,\"\",VLOOKUP($P14,$P$98:$CS$631,AU$30,FALSE)))","v":""},{"$f":"IF(Süt!$B16=\"\",\"\",IF(Süt!$C16<=0,\"\",VLOOKUP($P14,$P$98:$CS$631,AV$30,FALSE)))","v":""},{"$f":"IF(Süt!$B16=\"\",\"\",IF(Süt!$C16<=0,\"\",VLOOKUP($P14,$P$98:$CS$631,AW$30,FALSE)))","v":""},{"$f":"IF(Süt!$B16=\"\",\"\",IF(Süt!$C16<=0,\"\",VLOOKUP($P14,$P$98:$CS$631,AX$30,FALSE)))","v":""},{"$f":"IF(Süt!$B16=\"\",\"\",IF(Süt!$C16<=0,\"\",VLOOKUP($P14,$P$98:$CS$631,AY$30,FALSE)))","v":""},{"$f":"IF(Süt!$B16=\"\",\"\",IF(Süt!$C16<=0,\"\",VLOOKUP($P14,$P$98:$CS$631,AZ$30,FALSE)))","v":""},{"$f":"IF(Süt!$B16=\"\",\"\",IF(Süt!$C16<=0,\"\",VLOOKUP($P14,$P$98:$CS$631,BA$30,FALSE)))","v":""},{"$f":"IF(Süt!$B16=\"\",\"\",IF(Süt!$C16<=0,\"\",VLOOKUP($P14,$P$98:$CS$631,BB$30,FALSE)))","v":""},{"$f":"IF(Süt!$B16=\"\",\"\",IF(Süt!$C16<=0,\"\",VLOOKUP($P14,$P$98:$CS$631,BC$30,FALSE)))","v":""},{"$f":"IF(Süt!$B16=\"\",\"\",IF(Süt!$C16<=0,\"\",VLOOKUP($P14,$P$98:$CS$631,BD$30,FALSE)))","v":""},{"$f":"IF(Süt!$B16=\"\",\"\",IF(Süt!$C16<=0,\"\",VLOOKUP($P14,$P$98:$CS$631,BE$30,FALSE)))","v":""},{"$f":"IF(Süt!$B16=\"\",\"\",IF(Süt!$C16<=0,\"\",VLOOKUP($P14,$P$98:$CS$631,BF$30,FALSE)))","v":""},{"$f":"IF(Süt!$B16=\"\",\"\",IF(Süt!$C16<=0,\"\",VLOOKUP($P14,$P$98:$CS$631,BG$30,FALSE)))","v":""},{"$f":"IF(Süt!$B16=\"\",\"\",IF(Süt!$C16<=0,\"\",VLOOKUP($P14,$P$98:$CS$631,BH$30,FALSE)))","v":""},{"$f":"IF(Süt!$B16=\"\",\"\",IF(Süt!$C16<=0,\"\",VLOOKUP($P14,$P$98:$CS$631,BI$30,FALSE)))","v":""},{"$f":"IF(Süt!$B16=\"\",\"\",IF(Süt!$C16<=0,\"\",VLOOKUP($P14,$P$98:$CS$631,BJ$30,FALSE)))","v":""},{"$f":"IF(Süt!$B16=\"\",\"\",IF(Süt!$C16<=0,\"\",VLOOKUP($P14,$P$98:$CS$631,BK$30,FALSE)))","v":""},{"$f":"IF(Süt!$B16=\"\",\"\",IF(Süt!$C16<=0,\"\",VLOOKUP($P14,$P$98:$CS$631,BL$30,FALSE)))","v":""},{"$f":"IF(Süt!$B16=\"\",\"\",IF(Süt!$C16<=0,\"\",VLOOKUP($P14,$P$98:$CS$631,BM$30,FALSE)))","v":""},{"$f":"IF(Süt!$B16=\"\",\"\",IF(Süt!$C16<=0,\"\",VLOOKUP($P14,$P$98:$CS$631,BN$30,FALSE)))","v":""},{"$f":"IF(Süt!$B16=\"\",\"\",IF(Süt!$C16<=0,\"\",VLOOKUP($P14,$P$98:$CS$631,BO$30,FALSE)))","v":""},{"$f":"IF(Süt!$B16=\"\",\"\",IF(Süt!$C16<=0,\"\",VLOOKUP($P14,$P$98:$CS$631,BP$30,FALSE)))","v":""},{"$f":"IF(Süt!$B16=\"\",\"\",IF(Süt!$C16<=0,\"\",VLOOKUP($P14,$P$98:$CS$631,BQ$30,FALSE)))","v":""},{"$f":"IF(Süt!$B16=\"\",\"\",IF(Süt!$C16<=0,\"\",VLOOKUP($P14,$P$98:$CS$631,BR$30,FALSE)))","v":""},{"$f":"IF(Süt!$B16=\"\",\"\",IF(Süt!$C16<=0,\"\",VLOOKUP($P14,$P$98:$CS$631,BS$30,FALSE)))","v":""},{"$f":"IF(Süt!$B16=\"\",\"\",IF(Süt!$C16<=0,\"\",VLOOKUP($P14,$P$98:$CS$631,BT$30,FALSE)))","v":""},{"$f":"IF(Süt!$B16=\"\",\"\",IF(Süt!$C16<=0,\"\",VLOOKUP($P14,$P$98:$CS$631,BU$30,FALSE)))","v":""},{"$f":"IF(Süt!$B16=\"\",\"\",IF(Süt!$C16<=0,\"\",VLOOKUP($P14,$P$98:$CS$631,BV$30,FALSE)))","v":""},{"$f":"IF(Süt!$B16=\"\",\"\",IF(Süt!$C16<=0,\"\",VLOOKUP($P14,$P$98:$CS$631,BW$30,FALSE)))","v":""},{"$f":"IF(Süt!$B16=\"\",\"\",IF(Süt!$C16<=0,\"\",VLOOKUP($P14,$P$98:$CS$631,BX$30,FALSE)))","v":""},{"$f":"IF(Süt!$B16=\"\",\"\",IF(Süt!$C16<=0,\"\",VLOOKUP($P14,$P$98:$CS$631,BY$30,FALSE)))","v":""},{"$f":"IF(Süt!$B16=\"\",\"\",IF(Süt!$C16<=0,\"\",VLOOKUP($P14,$P$98:$CS$631,BZ$30,FALSE)))","v":""},{"$f":"IF(Süt!$B16=\"\",\"\",IF(Süt!$C16<=0,\"\",VLOOKUP($P14,$P$98:$CS$631,CA$30,FALSE)))","v":""},{"$f":"IF(Süt!$B16=\"\",\"\",IF(Süt!$C16<=0,\"\",VLOOKUP($P14,$P$98:$CS$631,CB$30,FALSE)))","v":""},{"$f":"IF(Süt!$B16=\"\",\"\",IF(Süt!$C16<=0,\"\",VLOOKUP($P14,$P$98:$CS$631,CC$30,FALSE)))","v":""},{"$f":"IF(Süt!$B16=\"\",\"\",IF(Süt!$C16<=0,\"\",VLOOKUP($P14,$P$98:$CS$631,CD$30,FALSE)))","v":""},{"$f":"IF(Süt!$B16=\"\",\"\",IF(Süt!$C16<=0,\"\",VLOOKUP($P14,$P$98:$CS$631,CE$30,FALSE)))","v":""},{"$f":"IF(Süt!$B16=\"\",\"\",IF(Süt!$C16<=0,\"\",VLOOKUP($P14,$P$98:$CS$631,CF$30,FALSE)))","v":""},{"$f":"IF(Süt!$B16=\"\",\"\",IF(Süt!$C16<=0,\"\",VLOOKUP($P14,$P$98:$CS$631,CG$30,FALSE)))","v":""},{"$f":"IF(Süt!$B16=\"\",\"\",IF(Süt!$C16<=0,\"\",VLOOKUP($P14,$P$98:$CS$631,CH$30,FALSE)))","v":""},{"$f":"IF(Süt!$B16=\"\",\"\",IF(Süt!$C16<=0,\"\",VLOOKUP($P14,$P$98:$CS$631,CI$30,FALSE)))","v":""},{"$f":"IF(Süt!$B16=\"\",\"\",IF(Süt!$C16<=0,\"\",VLOOKUP($P14,$P$98:$CS$631,CJ$30,FALSE)))","v":""},{"$f":"IF(Süt!$B16=\"\",\"\",IF(Süt!$C16<=0,\"\",VLOOKUP($P14,$P$98:$CS$631,CK$30,FALSE)))","v":""},{"$f":"IF(Süt!$B16=\"\",\"\",IF(Süt!$C16<=0,\"\",VLOOKUP($P14,$P$98:$CS$631,CL$30,FALSE)))","v":""},{"$f":"IF(Süt!$B16=\"\",\"\",IF(Süt!$C16<=0,\"\",VLOOKUP($P14,$P$98:$CS$631,CM$30,FALSE)))","v":""},{"$f":"IF(Süt!$B16=\"\",\"\",IF(Süt!$C16<=0,\"\",VLOOKUP($P14,$P$98:$CS$631,CN$30,FALSE)))","v":""},{"$f":"IF(Süt!$B16=\"\",\"\",IF(Süt!$C16<=0,\"\",VLOOKUP($P14,$P$98:$CS$631,CO$30,FALSE)))","v":""},{"$f":"IF(Süt!$B16=\"\",\"\",IF(Süt!$C16<=0,\"\",VLOOKUP($P14,$P$98:$CS$631,CP$30,FALSE)))","v":""},{"$f":"IF(Süt!$B16=\"\",\"\",IF(Süt!$C16<=0,\"\",VLOOKUP($P14,$P$98:$CS$631,CQ$30,FALSE)))","v":""},{"$f":"IF(Süt!$B16=\"\",\"\",IF(Süt!$C16<=0,\"\",VLOOKUP($P14,$P$98:$CS$631,CR$30,FALSE)))","v":""},{"$f":"IF(Süt!$B16=\"\",\"\",IF(Süt!$C16<=0,\"\",VLOOKUP($P14,$P$98:$CS$631,CS$30,FALSE)))","v":""},4,2.7E-2,0.29700000000000004,"ADGPreg",{"$f":"IF(DaysPreg < 190,0,665 * (CBW / 45))","v":0},"g/gün, gebelik büyümesine bağlı günlük ağırlık artışı",null,null,null,null,null,null,null,null,null,null,6]
[{"$f":"IF(Süt!A15=\"\",\"\",Süt!A15)","v":""},{"$f":"IF(Süt!B15=\"\",\"\",Süt!B15)","v":""},{"$f":"IF(Süt!C15=\"\",\"\",Süt!C15)","v":""},{"$f":"Süt!D15","v":0},{"$f":"Süt!E15","v":0},{"$f":"Süt!F15","v":0},"Ca, % KM",null,{"$f":"(Ca Supplied/TotalDMFed)/10","v":0.58545147991700242},null,null,null,0,null,"",{"$f":"IF(Süt!B17=\"\",\"\",IF(Süt!C17<=0,\"\",Süt!B17))","v":""},{"$f":"IF(Süt!$B17=\"\",\"\",IF(Süt!$C17<=0,\"\",VLOOKUP($P15,$P$98:$CS$631,Q$30,FALSE)))","v":""},{"$f":"IF(Süt!$B17=\"\",\"\",IF(Süt!$C17<=0,\"\",VLOOKUP($P15,$P$98:$CS$631,R$30,FALSE)))","v":""},{"$f":"IF(Süt!$B17=\"\",\"\",IF(Süt!$C17<=0,\"\",VLOOKUP($P15,$P$98:$CS$631,S$30,FALSE)))","v":""},{"$f":"IF(Süt!$B17=\"\",\"\",IF(Süt!$C17<=0,\"\",VLOOKUP($P15,$P$98:$CS$631,T$30,FALSE)))","v":""},{"$f":"IF(Süt!$B17=\"\",\"\",IF(Süt!$C17<=0,\"\",VLOOKUP($P15,$P$98:$CS$631,U$30,FALSE)))","v":""},{"$f":"IF(Süt!$B17=\"\",\"\",IF(Süt!$C17<=0,\"\",VLOOKUP($P15,$P$98:$CS$631,V$30,FALSE)))","v":""},{"$f":"IF(Süt!$B17=\"\",\"\",IF(Süt!$C17<=0,\"\",VLOOKUP($P15,$P$98:$CS$631,W$30,FALSE)))","v":""},{"$f":"IF(Süt!$B17=\"\",\"\",IF(Süt!$C17<=0,\"\",VLOOKUP($P15,$P$98:$CS$631,X$30,FALSE)))","v":""},{"$f":"IF(Süt!$B17=\"\",\"\",IF(Süt!$C17<=0,\"\",VLOOKUP($P15,$P$98:$CS$631,Y$30,FALSE)))","v":""},{"$f":"IF(Süt!$B17=\"\",\"\",IF(Süt!$C17<=0,\"\",VLOOKUP($P15,$P$98:$CS$631,Z$30,FALSE)))","v":""},{"$f":"IF(Süt!$B17=\"\",\"\",IF(Süt!$C17<=0,\"\",VLOOKUP($P15,$P$98:$CS$631,AA$30,FALSE)))","v":""},{"$f":"IF(Süt!$B17=\"\",\"\",IF(Süt!$C17<=0,\"\",VLOOKUP($P15,$P$98:$CS$631,AB$30,FALSE)))","v":""},{"$f":"IF(Süt!$B17=\"\",\"\",IF(Süt!$C17<=0,\"\",VLOOKUP($P15,$P$98:$CS$631,AC$30,FALSE)))","v":""},{"$f":"IF(Süt!$B17=\"\",\"\",IF(Süt!$C17<=0,\"\",VLOOKUP($P15,$P$98:$CS$631,AD$30,FALSE)))","v":""},{"$f":"IF(Süt!$B17=\"\",\"\",IF(Süt!$C17<=0,\"\",VLOOKUP($P15,$P$98:$CS$631,AE$30,FALSE)))","v":""},{"$f":"IF(Süt!$B17=\"\",\"\",IF(Süt!$C17<=0,\"\",VLOOKUP($P15,$P$98:$CS$631,AF$30,FALSE)))","v":""},{"$f":"IF(Süt!$B17=\"\",\"\",IF(Süt!$C17<=0,\"\",VLOOKUP($P15,$P$98:$CS$631,AG$30,FALSE)))","v":""},{"$f":"IF(Süt!$B17=\"\",\"\",IF(Süt!$C17<=0,\"\",VLOOKUP($P15,$P$98:$CS$631,AH$30,FALSE)))","v":""},{"$f":"IF(Süt!$B17=\"\",\"\",IF(Süt!$C17<=0,\"\",VLOOKUP($P15,$P$98:$CS$631,AI$30,FALSE)))","v":""},{"$f":"IF(Süt!$B17=\"\",\"\",IF(Süt!$C17<=0,\"\",VLOOKUP($P15,$P$98:$CS$631,AJ$30,FALSE)))","v":""},{"$f":"IF(Süt!$B17=\"\",\"\",IF(Süt!$C17<=0,\"\",VLOOKUP($P15,$P$98:$CS$631,AK$30,FALSE)))","v":""},{"$f":"IF(Süt!$B17=\"\",\"\",IF(Süt!$C17<=0,\"\",VLOOKUP($P15,$P$98:$CS$631,AL$30,FALSE)))","v":""},{"$f":"IF(Süt!$B17=\"\",\"\",IF(Süt!$C17<=0,\"\",VLOOKUP($P15,$P$98:$CS$631,AM$30,FALSE)))","v":""},{"$f":"IF(Süt!$B17=\"\",\"\",IF(Süt!$C17<=0,\"\",VLOOKUP($P15,$P$98:$CS$631,AN$30,FALSE)))","v":""},{"$f":"IF(Süt!$B17=\"\",\"\",IF(Süt!$C17<=0,\"\",VLOOKUP($P15,$P$98:$CS$631,AO$30,FALSE)))","v":""},{"$f":"IF(Süt!$B17=\"\",\"\",IF(Süt!$C17<=0,\"\",VLOOKUP($P15,$P$98:$CS$631,AP$30,FALSE)))","v":""},{"$f":"IF(Süt!$B17=\"\",\"\",IF(Süt!$C17<=0,\"\",VLOOKUP($P15,$P$98:$CS$631,AQ$30,FALSE)))","v":""},{"$f":"IF(Süt!$B17=\"\",\"\",IF(Süt!$C17<=0,\"\",VLOOKUP($P15,$P$98:$CS$631,AR$30,FALSE)))","v":""},{"$f":"IF(Süt!$B17=\"\",\"\",IF(Süt!$C17<=0,\"\",VLOOKUP($P15,$P$98:$CS$631,AS$30,FALSE)))","v":""},{"$f":"IF(Süt!$B17=\"\",\"\",IF(Süt!$C17<=0,\"\",VLOOKUP($P15,$P$98:$CS$631,AT$30,FALSE)))","v":""},{"$f":"IF(Süt!$B17=\"\",\"\",IF(Süt!$C17<=0,\"\",VLOOKUP($P15,$P$98:$CS$631,AU$30,FALSE)))","v":""},{"$f":"IF(Süt!$B17=\"\",\"\",IF(Süt!$C17<=0,\"\",VLOOKUP($P15,$P$98:$CS$631,AV$30,FALSE)))","v":""},{"$f":"IF(Süt!$B17=\"\",\"\",IF(Süt!$C17<=0,\"\",VLOOKUP($P15,$P$98:$CS$631,AW$30,FALSE)))","v":""},{"$f":"IF(Süt!$B17=\"\",\"\",IF(Süt!$C17<=0,\"\",VLOOKUP($P15,$P$98:$CS$631,AX$30,FALSE)))","v":""},{"$f":"IF(Süt!$B17=\"\",\"\",IF(Süt!$C17<=0,\"\",VLOOKUP($P15,$P$98:$CS$631,AY$30,FALSE)))","v":""},{"$f":"IF(Süt!$B17=\"\",\"\",IF(Süt!$C17<=0,\"\",VLOOKUP($P15,$P$98:$CS$631,AZ$30,FALSE)))","v":""},{"$f":"IF(Süt!$B17=\"\",\"\",IF(Süt!$C17<=0,\"\",VLOOKUP($P15,$P$98:$CS$631,BA$30,FALSE)))","v":""},{"$f":"IF(Süt!$B17=\"\",\"\",IF(Süt!$C17<=0,\"\",VLOOKUP($P15,$P$98:$CS$631,BB$30,FALSE)))","v":""},{"$f":"IF(Süt!$B17=\"\",\"\",IF(Süt!$C17<=0,\"\",VLOOKUP($P15,$P$98:$CS$631,BC$30,FALSE)))","v":""},{"$f":"IF(Süt!$B17=\"\",\"\",IF(Süt!$C17<=0,\"\",VLOOKUP($P15,$P$98:$CS$631,BD$30,FALSE)))","v":""},{"$f":"IF(Süt!$B17=\"\",\"\",IF(Süt!$C17<=0,\"\",VLOOKUP($P15,$P$98:$CS$631,BE$30,FALSE)))","v":""},{"$f":"IF(Süt!$B17=\"\",\"\",IF(Süt!$C17<=0,\"\",VLOOKUP($P15,$P$98:$CS$631,BF$30,FALSE)))","v":""},{"$f":"IF(Süt!$B17=\"\",\"\",IF(Süt!$C17<=0,\"\",VLOOKUP($P15,$P$98:$CS$631,BG$30,FALSE)))","v":""},{"$f":"IF(Süt!$B17=\"\",\"\",IF(Süt!$C17<=0,\"\",VLOOKUP($P15,$P$98:$CS$631,BH$30,FALSE)))","v":""},{"$f":"IF(Süt!$B17=\"\",\"\",IF(Süt!$C17<=0,\"\",VLOOKUP($P15,$P$98:$CS$631,BI$30,FALSE)))","v":""},{"$f":"IF(Süt!$B17=\"\",\"\",IF(Süt!$C17<=0,\"\",VLOOKUP($P15,$P$98:$CS$631,BJ$30,FALSE)))","v":""},{"$f":"IF(Süt!$B17=\"\",\"\",IF(Süt!$C17<=0,\"\",VLOOKUP($P15,$P$98:$CS$631,BK$30,FALSE)))","v":""},{"$f":"IF(Süt!$B17=\"\",\"\",IF(Süt!$C17<=0,\"\",VLOOKUP($P15,$P$98:$CS$631,BL$30,FALSE)))","v":""},{"$f":"IF(Süt!$B17=\"\",\"\",IF(Süt!$C17<=0,\"\",VLOOKUP($P15,$P$98:$CS$631,BM$30,FALSE)))","v":""},{"$f":"IF(Süt!$B17=\"\",\"\",IF(Süt!$C17<=0,\"\",VLOOKUP($P15,$P$98:$CS$631,BN$30,FALSE)))","v":""},{"$f":"IF(Süt!$B17=\"\",\"\",IF(Süt!$C17<=0,\"\",VLOOKUP($P15,$P$98:$CS$631,BO$30,FALSE)))","v":""},{"$f":"IF(Süt!$B17=\"\",\"\",IF(Süt!$C17<=0,\"\",VLOOKUP($P15,$P$98:$CS$631,BP$30,FALSE)))","v":""},{"$f":"IF(Süt!$B17=\"\",\"\",IF(Süt!$C17<=0,\"\",VLOOKUP($P15,$P$98:$CS$631,BQ$30,FALSE)))","v":""},{"$f":"IF(Süt!$B17=\"\",\"\",IF(Süt!$C17<=0,\"\",VLOOKUP($P15,$P$98:$CS$631,BR$30,FALSE)))","v":""},{"$f":"IF(Süt!$B17=\"\",\"\",IF(Süt!$C17<=0,\"\",VLOOKUP($P15,$P$98:$CS$631,BS$30,FALSE)))","v":""},{"$f":"IF(Süt!$B17=\"\",\"\",IF(Süt!$C17<=0,\"\",VLOOKUP($P15,$P$98:$CS$631,BT$30,FALSE)))","v":""},{"$f":"IF(Süt!$B17=\"\",\"\",IF(Süt!$C17<=0,\"\",VLOOKUP($P15,$P$98:$CS$631,BU$30,FALSE)))","v":""},{"$f":"IF(Süt!$B17=\"\",\"\",IF(Süt!$C17<=0,\"\",VLOOKUP($P15,$P$98:$CS$631,BV$30,FALSE)))","v":""},{"$f":"IF(Süt!$B17=\"\",\"\",IF(Süt!$C17<=0,\"\",VLOOKUP($P15,$P$98:$CS$631,BW$30,FALSE)))","v":""},{"$f":"IF(Süt!$B17=\"\",\"\",IF(Süt!$C17<=0,\"\",VLOOKUP($P15,$P$98:$CS$631,BX$30,FALSE)))","v":""},{"$f":"IF(Süt!$B17=\"\",\"\",IF(Süt!$C17<=0,\"\",VLOOKUP($P15,$P$98:$CS$631,BY$30,FALSE)))","v":""},{"$f":"IF(Süt!$B17=\"\",\"\",IF(Süt!$C17<=0,\"\",VLOOKUP($P15,$P$98:$CS$631,BZ$30,FALSE)))","v":""},{"$f":"IF(Süt!$B17=\"\",\"\",IF(Süt!$C17<=0,\"\",VLOOKUP($P15,$P$98:$CS$631,CA$30,FALSE)))","v":""},{"$f":"IF(Süt!$B17=\"\",\"\",IF(Süt!$C17<=0,\"\",VLOOKUP($P15,$P$98:$CS$631,CB$30,FALSE)))","v":""},{"$f":"IF(Süt!$B17=\"\",\"\",IF(Süt!$C17<=0,\"\",VLOOKUP($P15,$P$98:$CS$631,CC$30,FALSE)))","v":""},{"$f":"IF(Süt!$B17=\"\",\"\",IF(Süt!$C17<=0,\"\",VLOOKUP($P15,$P$98:$CS$631,CD$30,FALSE)))","v":""},{"$f":"IF(Süt!$B17=\"\",\"\",IF(Süt!$C17<=0,\"\",VLOOKUP($P15,$P$98:$CS$631,CE$30,FALSE)))","v":""},{"$f":"IF(Süt!$B17=\"\",\"\",IF(Süt!$C17<=0,\"\",VLOOKUP($P15,$P$98:$CS$631,CF$30,FALSE)))","v":""},{"$f":"IF(Süt!$B17=\"\",\"\",IF(Süt!$C17<=0,\"\",VLOOKUP($P15,$P$98:$CS$631,CG$30,FALSE)))","v":""},{"$f":"IF(Süt!$B17=\"\",\"\",IF(Süt!$C17<=0,\"\",VLOOKUP($P15,$P$98:$CS$631,CH$30,FALSE)))","v":""},{"$f":"IF(Süt!$B17=\"\",\"\",IF(Süt!$C17<=0,\"\",VLOOKUP($P15,$P$98:$CS$631,CI$30,FALSE)))","v":""},{"$f":"IF(Süt!$B17=\"\",\"\",IF(Süt!$C17<=0,\"\",VLOOKUP($P15,$P$98:$CS$631,CJ$30,FALSE)))","v":""},{"$f":"IF(Süt!$B17=\"\",\"\",IF(Süt!$C17<=0,\"\",VLOOKUP($P15,$P$98:$CS$631,CK$30,FALSE)))","v":""},{"$f":"IF(Süt!$B17=\"\",\"\",IF(Süt!$C17<=0,\"\",VLOOKUP($P15,$P$98:$CS$631,CL$30,FALSE)))","v":""},{"$f":"IF(Süt!$B17=\"\",\"\",IF(Süt!$C17<=0,\"\",VLOOKUP($P15,$P$98:$CS$631,CM$30,FALSE)))","v":""},{"$f":"IF(Süt!$B17=\"\",\"\",IF(Süt!$C17<=0,\"\",VLOOKUP($P15,$P$98:$CS$631,CN$30,FALSE)))","v":""},{"$f":"IF(Süt!$B17=\"\",\"\",IF(Süt!$C17<=0,\"\",VLOOKUP($P15,$P$98:$CS$631,CO$30,FALSE)))","v":""},{"$f":"IF(Süt!$B17=\"\",\"\",IF(Süt!$C17<=0,\"\",VLOOKUP($P15,$P$98:$CS$631,CP$30,FALSE)))","v":""},{"$f":"IF(Süt!$B17=\"\",\"\",IF(Süt!$C17<=0,\"\",VLOOKUP($P15,$P$98:$CS$631,CQ$30,FALSE)))","v":""},{"$f":"IF(Süt!$B17=\"\",\"\",IF(Süt!$C17<=0,\"\",VLOOKUP($P15,$P$98:$CS$631,CR$30,FALSE)))","v":""},{"$f":"IF(Süt!$B17=\"\",\"\",IF(Süt!$C17<=0,\"\",VLOOKUP($P15,$P$98:$CS$631,CS$30,FALSE)))","v":""},3,5.3999999999999999E-2,0.32400000000000007,"Laktasyon ihtiyaçları",null,null,null,null,null,null,null,null,null,null,null,null,7]
[{"$f":"IF(Süt!A16=\"\",\"\",Süt!A16)","v":""},{"$f":"IF(Süt!B16=\"\",\"\",Süt!B16)","v":""},{"$f":"IF(Süt!C16=\"\",\"\",Süt!C16)","v":""},{"$f":"Süt!D16","v":0},{"$f":"Süt!E16","v":0},{"$f":"Süt!F16","v":0},"Emilebilir P, g/gün",{"$f":"P Total","v":44.938159154151606},{"$f":"P Absorbable","v":44.661350144067278},{"$f":"IF(H16=\"\",\"     \",IF(I16>(H16*1.5),\"FAZLA\",IF(I16<(H16*0.99),\"EKSİK\",\"TAMAM\")))","v":"TAMAM"},null,null,0,null,"",{"$f":"IF(Süt!B18=\"\",\"\",IF(Süt!C18<=0,\"\",Süt!B18))","v":""},{"$f":"IF(Süt!$B18=\"\",\"\",IF(Süt!$C18<=0,\"\",VLOOKUP($P16,$P$98:$CS$631,Q$30,FALSE)))","v":""},{"$f":"IF(Süt!$B18=\"\",\"\",IF(Süt!$C18<=0,\"\",VLOOKUP($P16,$P$98:$CS$631,R$30,FALSE)))","v":""},{"$f":"IF(Süt!$B18=\"\",\"\",IF(Süt!$C18<=0,\"\",VLOOKUP($P16,$P$98:$CS$631,S$30,FALSE)))","v":""},{"$f":"IF(Süt!$B18=\"\",\"\",IF(Süt!$C18<=0,\"\",VLOOKUP($P16,$P$98:$CS$631,T$30,FALSE)))","v":""},{"$f":"IF(Süt!$B18=\"\",\"\",IF(Süt!$C18<=0,\"\",VLOOKUP($P16,$P$98:$CS$631,U$30,FALSE)))","v":""},{"$f":"IF(Süt!$B18=\"\",\"\",IF(Süt!$C18<=0,\"\",VLOOKUP($P16,$P$98:$CS$631,V$30,FALSE)))","v":""},{"$f":"IF(Süt!$B18=\"\",\"\",IF(Süt!$C18<=0,\"\",VLOOKUP($P16,$P$98:$CS$631,W$30,FALSE)))","v":""},{"$f":"IF(Süt!$B18=\"\",\"\",IF(Süt!$C18<=0,\"\",VLOOKUP($P16,$P$98:$CS$631,X$30,FALSE)))","v":""},{"$f":"IF(Süt!$B18=\"\",\"\",IF(Süt!$C18<=0,\"\",VLOOKUP($P16,$P$98:$CS$631,Y$30,FALSE)))","v":""},{"$f":"IF(Süt!$B18=\"\",\"\",IF(Süt!$C18<=0,\"\",VLOOKUP($P16,$P$98:$CS$631,Z$30,FALSE)))","v":""},{"$f":"IF(Süt!$B18=\"\",\"\",IF(Süt!$C18<=0,\"\",VLOOKUP($P16,$P$98:$CS$631,AA$30,FALSE)))","v":""},{"$f":"IF(Süt!$B18=\"\",\"\",IF(Süt!$C18<=0,\"\",VLOOKUP($P16,$P$98:$CS$631,AB$30,FALSE)))","v":""},{"$f":"IF(Süt!$B18=\"\",\"\",IF(Süt!$C18<=0,\"\",VLOOKUP($P16,$P$98:$CS$631,AC$30,FALSE)))","v":""},{"$f":"IF(Süt!$B18=\"\",\"\",IF(Süt!$C18<=0,\"\",VLOOKUP($P16,$P$98:$CS$631,AD$30,FALSE)))","v":""},{"$f":"IF(Süt!$B18=\"\",\"\",IF(Süt!$C18<=0,\"\",VLOOKUP($P16,$P$98:$CS$631,AE$30,FALSE)))","v":""},{"$f":"IF(Süt!$B18=\"\",\"\",IF(Süt!$C18<=0,\"\",VLOOKUP($P16,$P$98:$CS$631,AF$30,FALSE)))","v":""},{"$f":"IF(Süt!$B18=\"\",\"\",IF(Süt!$C18<=0,\"\",VLOOKUP($P16,$P$98:$CS$631,AG$30,FALSE)))","v":""},{"$f":"IF(Süt!$B18=\"\",\"\",IF(Süt!$C18<=0,\"\",VLOOKUP($P16,$P$98:$CS$631,AH$30,FALSE)))","v":""},{"$f":"IF(Süt!$B18=\"\",\"\",IF(Süt!$C18<=0,\"\",VLOOKUP($P16,$P$98:$CS$631,AI$30,FALSE)))","v":""},{"$f":"IF(Süt!$B18=\"\",\"\",IF(Süt!$C18<=0,\"\",VLOOKUP($P16,$P$98:$CS$631,AJ$30,FALSE)))","v":""},{"$f":"IF(Süt!$B18=\"\",\"\",IF(Süt!$C18<=0,\"\",VLOOKUP($P16,$P$98:$CS$631,AK$30,FALSE)))","v":""},{"$f":"IF(Süt!$B18=\"\",\"\",IF(Süt!$C18<=0,\"\",VLOOKUP($P16,$P$98:$CS$631,AL$30,FALSE)))","v":""},{"$f":"IF(Süt!$B18=\"\",\"\",IF(Süt!$C18<=0,\"\",VLOOKUP($P16,$P$98:$CS$631,AM$30,FALSE)))","v":""},{"$f":"IF(Süt!$B18=\"\",\"\",IF(Süt!$C18<=0,\"\",VLOOKUP($P16,$P$98:$CS$631,AN$30,FALSE)))","v":""},{"$f":"IF(Süt!$B18=\"\",\"\",IF(Süt!$C18<=0,\"\",VLOOKUP($P16,$P$98:$CS$631,AO$30,FALSE)))","v":""},{"$f":"IF(Süt!$B18=\"\",\"\",IF(Süt!$C18<=0,\"\",VLOOKUP($P16,$P$98:$CS$631,AP$30,FALSE)))","v":""},{"$f":"IF(Süt!$B18=\"\",\"\",IF(Süt!$C18<=0,\"\",VLOOKUP($P16,$P$98:$CS$631,AQ$30,FALSE)))","v":""},{"$f":"IF(Süt!$B18=\"\",\"\",IF(Süt!$C18<=0,\"\",VLOOKUP($P16,$P$98:$CS$631,AR$30,FALSE)))","v":""},{"$f":"IF(Süt!$B18=\"\",\"\",IF(Süt!$C18<=0,\"\",VLOOKUP($P16,$P$98:$CS$631,AS$30,FALSE)))","v":""},{"$f":"IF(Süt!$B18=\"\",\"\",IF(Süt!$C18<=0,\"\",VLOOKUP($P16,$P$98:$CS$631,AT$30,FALSE)))","v":""},{"$f":"IF(Süt!$B18=\"\",\"\",IF(Süt!$C18<=0,\"\",VLOOKUP($P16,$P$98:$CS$631,AU$30,FALSE)))","v":""},{"$f":"IF(Süt!$B18=\"\",\"\",IF(Süt!$C18<=0,\"\",VLOOKUP($P16,$P$98:$CS$631,AV$30,FALSE)))","v":""},{"$f":"IF(Süt!$B18=\"\",\"\",IF(Süt!$C18<=0,\"\",VLOOKUP($P16,$P$98:$CS$631,AW$30,FALSE)))","v":""},{"$f":"IF(Süt!$B18=\"\",\"\",IF(Süt!$C18<=0,\"\",VLOOKUP($P16,$P$98:$CS$631,AX$30,FALSE)))","v":""},{"$f":"IF(Süt!$B18=\"\",\"\",IF(Süt!$C18<=0,\"\",VLOOKUP($P16,$P$98:$CS$631,AY$30,FALSE)))","v":""},{"$f":"IF(Süt!$B18=\"\",\"\",IF(Süt!$C18<=0,\"\",VLOOKUP($P16,$P$98:$CS$631,AZ$30,FALSE)))","v":""},{"$f":"IF(Süt!$B18=\"\",\"\",IF(Süt!$C18<=0,\"\",VLOOKUP($P16,$P$98:$CS$631,BA$30,FALSE)))","v":""},{"$f":"IF(Süt!$B18=\"\",\"\",IF(Süt!$C18<=0,\"\",VLOOKUP($P16,$P$98:$CS$631,BB$30,FALSE)))","v":""},{"$f":"IF(Süt!$B18=\"\",\"\",IF(Süt!$C18<=0,\"\",VLOOKUP($P16,$P$98:$CS$631,BC$30,FALSE)))","v":""},{"$f":"IF(Süt!$B18=\"\",\"\",IF(Süt!$C18<=0,\"\",VLOOKUP($P16,$P$98:$CS$631,BD$30,FALSE)))","v":""},{"$f":"IF(Süt!$B18=\"\",\"\",IF(Süt!$C18<=0,\"\",VLOOKUP($P16,$P$98:$CS$631,BE$30,FALSE)))","v":""},{"$f":"IF(Süt!$B18=\"\",\"\",IF(Süt!$C18<=0,\"\",VLOOKUP($P16,$P$98:$CS$631,BF$30,FALSE)))","v":""},{"$f":"IF(Süt!$B18=\"\",\"\",IF(Süt!$C18<=0,\"\",VLOOKUP($P16,$P$98:$CS$631,BG$30,FALSE)))","v":""},{"$f":"IF(Süt!$B18=\"\",\"\",IF(Süt!$C18<=0,\"\",VLOOKUP($P16,$P$98:$CS$631,BH$30,FALSE)))","v":""},{"$f":"IF(Süt!$B18=\"\",\"\",IF(Süt!$C18<=0,\"\",VLOOKUP($P16,$P$98:$CS$631,BI$30,FALSE)))","v":""},{"$f":"IF(Süt!$B18=\"\",\"\",IF(Süt!$C18<=0,\"\",VLOOKUP($P16,$P$98:$CS$631,BJ$30,FALSE)))","v":""},{"$f":"IF(Süt!$B18=\"\",\"\",IF(Süt!$C18<=0,\"\",VLOOKUP($P16,$P$98:$CS$631,BK$30,FALSE)))","v":""},{"$f":"IF(Süt!$B18=\"\",\"\",IF(Süt!$C18<=0,\"\",VLOOKUP($P16,$P$98:$CS$631,BL$30,FALSE)))","v":""},{"$f":"IF(Süt!$B18=\"\",\"\",IF(Süt!$C18<=0,\"\",VLOOKUP($P16,$P$98:$CS$631,BM$30,FALSE)))","v":""},{"$f":"IF(Süt!$B18=\"\",\"\",IF(Süt!$C18<=0,\"\",VLOOKUP($P16,$P$98:$CS$631,BN$30,FALSE)))","v":""},{"$f":"IF(Süt!$B18=\"\",\"\",IF(Süt!$C18<=0,\"\",VLOOKUP($P16,$P$98:$CS$631,BO$30,FALSE)))","v":""},{"$f":"IF(Süt!$B18=\"\",\"\",IF(Süt!$C18<=0,\"\",VLOOKUP($P16,$P$98:$CS$631,BP$30,FALSE)))","v":""},{"$f":"IF(Süt!$B18=\"\",\"\",IF(Süt!$C18<=0,\"\",VLOOKUP($P16,$P$98:$CS$631,BQ$30,FALSE)))","v":""},{"$f":"IF(Süt!$B18=\"\",\"\",IF(Süt!$C18<=0,\"\",VLOOKUP($P16,$P$98:$CS$631,BR$30,FALSE)))","v":""},{"$f":"IF(Süt!$B18=\"\",\"\",IF(Süt!$C18<=0,\"\",VLOOKUP($P16,$P$98:$CS$631,BS$30,FALSE)))","v":""},{"$f":"IF(Süt!$B18=\"\",\"\",IF(Süt!$C18<=0,\"\",VLOOKUP($P16,$P$98:$CS$631,BT$30,FALSE)))","v":""},{"$f":"IF(Süt!$B18=\"\",\"\",IF(Süt!$C18<=0,\"\",VLOOKUP($P16,$P$98:$CS$631,BU$30,FALSE)))","v":""},{"$f":"IF(Süt!$B18=\"\",\"\",IF(Süt!$C18<=0,\"\",VLOOKUP($P16,$P$98:$CS$631,BV$30,FALSE)))","v":""},{"$f":"IF(Süt!$B18=\"\",\"\",IF(Süt!$C18<=0,\"\",VLOOKUP($P16,$P$98:$CS$631,BW$30,FALSE)))","v":""},{"$f":"IF(Süt!$B18=\"\",\"\",IF(Süt!$C18<=0,\"\",VLOOKUP($P16,$P$98:$CS$631,BX$30,FALSE)))","v":""},{"$f":"IF(Süt!$B18=\"\",\"\",IF(Süt!$C18<=0,\"\",VLOOKUP($P16,$P$98:$CS$631,BY$30,FALSE)))","v":""},{"$f":"IF(Süt!$B18=\"\",\"\",IF(Süt!$C18<=0,\"\",VLOOKUP($P16,$P$98:$CS$631,BZ$30,FALSE)))","v":""},{"$f":"IF(Süt!$B18=\"\",\"\",IF(Süt!$C18<=0,\"\",VLOOKUP($P16,$P$98:$CS$631,CA$30,FALSE)))","v":""},{"$f":"IF(Süt!$B18=\"\",\"\",IF(Süt!$C18<=0,\"\",VLOOKUP($P16,$P$98:$CS$631,CB$30,FALSE)))","v":""},{"$f":"IF(Süt!$B18=\"\",\"\",IF(Süt!$C18<=0,\"\",VLOOKUP($P16,$P$98:$CS$631,CC$30,FALSE)))","v":""},{"$f":"IF(Süt!$B18=\"\",\"\",IF(Süt!$C18<=0,\"\",VLOOKUP($P16,$P$98:$CS$631,CD$30,FALSE)))","v":""},{"$f":"IF(Süt!$B18=\"\",\"\",IF(Süt!$C18<=0,\"\",VLOOKUP($P16,$P$98:$CS$631,CE$30,FALSE)))","v":""},{"$f":"IF(Süt!$B18=\"\",\"\",IF(Süt!$C18<=0,\"\",VLOOKUP($P16,$P$98:$CS$631,CF$30,FALSE)))","v":""},{"$f":"IF(Süt!$B18=\"\",\"\",IF(Süt!$C18<=0,\"\",VLOOKUP($P16,$P$98:$CS$631,CG$30,FALSE)))","v":""},{"$f":"IF(Süt!$B18=\"\",\"\",IF(Süt!$C18<=0,\"\",VLOOKUP($P16,$P$98:$CS$631,CH$30,FALSE)))","v":""},{"$f":"IF(Süt!$B18=\"\",\"\",IF(Süt!$C18<=0,\"\",VLOOKUP($P16,$P$98:$CS$631,CI$30,FALSE)))","v":""},{"$f":"IF(Süt!$B18=\"\",\"\",IF(Süt!$C18<=0,\"\",VLOOKUP($P16,$P$98:$CS$631,CJ$30,FALSE)))","v":""},{"$f":"IF(Süt!$B18=\"\",\"\",IF(Süt!$C18<=0,\"\",VLOOKUP($P16,$P$98:$CS$631,CK$30,FALSE)))","v":""},{"$f":"IF(Süt!$B18=\"\",\"\",IF(Süt!$C18<=0,\"\",VLOOKUP($P16,$P$98:$CS$631,CL$30,FALSE)))","v":""},{"$f":"IF(Süt!$B18=\"\",\"\",IF(Süt!$C18<=0,\"\",VLOOKUP($P16,$P$98:$CS$631,CM$30,FALSE)))","v":""},{"$f":"IF(Süt!$B18=\"\",\"\",IF(Süt!$C18<=0,\"\",VLOOKUP($P16,$P$98:$CS$631,CN$30,FALSE)))","v":""},{"$f":"IF(Süt!$B18=\"\",\"\",IF(Süt!$C18<=0,\"\",VLOOKUP($P16,$P$98:$CS$631,CO$30,FALSE)))","v":""},{"$f":"IF(Süt!$B18=\"\",\"\",IF(Süt!$C18<=0,\"\",VLOOKUP($P16,$P$98:$CS$631,CP$30,FALSE)))","v":""},{"$f":"IF(Süt!$B18=\"\",\"\",IF(Süt!$C18<=0,\"\",VLOOKUP($P16,$P$98:$CS$631,CQ$30,FALSE)))","v":""},{"$f":"IF(Süt!$B18=\"\",\"\",IF(Süt!$C18<=0,\"\",VLOOKUP($P16,$P$98:$CS$631,CR$30,FALSE)))","v":""},{"$f":"IF(Süt!$B18=\"\",\"\",IF(Süt!$C18<=0,\"\",VLOOKUP($P16,$P$98:$CS$631,CS$30,FALSE)))","v":""},2,8.1000000000000003E-2,0.35100000000000009,"MilkEN",{"$f":"IF(MilkProd = 0,0,IF((Lactose = 0),(0.0929 * MilkFat) + (0.0547 * (MilkTrueProtein / 0.93)) + 0.192,(0.0929 * MilkFat) + (0.0547 * (MilkTrueProtein / 0.93)) + (0.0395 * Lactose)))","v":0.71566333333333332},"Mcal/ Nel/kg, Sütün enerji içeriği",null,null,null,null,null,null,null,null,null,null,8]
[{"$f":"IF(Süt!A17=\"\",\"\",Süt!A17)","v":""},{"$f":"IF(Süt!B17=\"\",\"\",Süt!B17)","v":""},{"$f":"IF(Süt!C17=\"\",\"\",Süt!C17)","v":""},{"$f":"Süt!D17","v":0},{"$f":"Süt!E17","v":0},{"$f":"Süt!F17","v":0},"P, % KM",null,{"$f":"(P Supplied/TotalDMFed)/10","v":0.30831695783457491},null,null,null,0,null,"",{"$f":"IF(Süt!B19=\"\",\"\",IF(Süt!C19<=0,\"\",Süt!B19))","v":""},{"$f":"IF(Süt!$B19=\"\",\"\",IF(Süt!$C19<=0,\"\",VLOOKUP($P17,$P$98:$CS$631,Q$30,FALSE)))","v":""},{"$f":"IF(Süt!$B19=\"\",\"\",IF(Süt!$C19<=0,\"\",VLOOKUP($P17,$P$98:$CS$631,R$30,FALSE)))","v":""},{"$f":"IF(Süt!$B19=\"\",\"\",IF(Süt!$C19<=0,\"\",VLOOKUP($P17,$P$98:$CS$631,S$30,FALSE)))","v":""},{"$f":"IF(Süt!$B19=\"\",\"\",IF(Süt!$C19<=0,\"\",VLOOKUP($P17,$P$98:$CS$631,T$30,FALSE)))","v":""},{"$f":"IF(Süt!$B19=\"\",\"\",IF(Süt!$C19<=0,\"\",VLOOKUP($P17,$P$98:$CS$631,U$30,FALSE)))","v":""},{"$f":"IF(Süt!$B19=\"\",\"\",IF(Süt!$C19<=0,\"\",VLOOKUP($P17,$P$98:$CS$631,V$30,FALSE)))","v":""},{"$f":"IF(Süt!$B19=\"\",\"\",IF(Süt!$C19<=0,\"\",VLOOKUP($P17,$P$98:$CS$631,W$30,FALSE)))","v":""},{"$f":"IF(Süt!$B19=\"\",\"\",IF(Süt!$C19<=0,\"\",VLOOKUP($P17,$P$98:$CS$631,X$30,FALSE)))","v":""},{"$f":"IF(Süt!$B19=\"\",\"\",IF(Süt!$C19<=0,\"\",VLOOKUP($P17,$P$98:$CS$631,Y$30,FALSE)))","v":""},{"$f":"IF(Süt!$B19=\"\",\"\",IF(Süt!$C19<=0,\"\",VLOOKUP($P17,$P$98:$CS$631,Z$30,FALSE)))","v":""},{"$f":"IF(Süt!$B19=\"\",\"\",IF(Süt!$C19<=0,\"\",VLOOKUP($P17,$P$98:$CS$631,AA$30,FALSE)))","v":""},{"$f":"IF(Süt!$B19=\"\",\"\",IF(Süt!$C19<=0,\"\",VLOOKUP($P17,$P$98:$CS$631,AB$30,FALSE)))","v":""},{"$f":"IF(Süt!$B19=\"\",\"\",IF(Süt!$C19<=0,\"\",VLOOKUP($P17,$P$98:$CS$631,AC$30,FALSE)))","v":""},{"$f":"IF(Süt!$B19=\"\",\"\",IF(Süt!$C19<=0,\"\",VLOOKUP($P17,$P$98:$CS$631,AD$30,FALSE)))","v":""},{"$f":"IF(Süt!$B19=\"\",\"\",IF(Süt!$C19<=0,\"\",VLOOKUP($P17,$P$98:$CS$631,AE$30,FALSE)))","v":""},{"$f":"IF(Süt!$B19=\"\",\"\",IF(Süt!$C19<=0,\"\",VLOOKUP($P17,$P$98:$CS$631,AF$30,FALSE)))","v":""},{"$f":"IF(Süt!$B19=\"\",\"\",IF(Süt!$C19<=0,\"\",VLOOKUP($P17,$P$98:$CS$631,AG$30,FALSE)))","v":""},{"$f":"IF(Süt!$B19=\"\",\"\",IF(Süt!$C19<=0,\"\",VLOOKUP($P17,$P$98:$CS$631,AH$30,FALSE)))","v":""},{"$f":"IF(Süt!$B19=\"\",\"\",IF(Süt!$C19<=0,\"\",VLOOKUP($P17,$P$98:$CS$631,AI$30,FALSE)))","v":""},{"$f":"IF(Süt!$B19=\"\",\"\",IF(Süt!$C19<=0,\"\",VLOOKUP($P17,$P$98:$CS$631,AJ$30,FALSE)))","v":""},{"$f":"IF(Süt!$B19=\"\",\"\",IF(Süt!$C19<=0,\"\",VLOOKUP($P17,$P$98:$CS$631,AK$30,FALSE)))","v":""},{"$f":"IF(Süt!$B19=\"\",\"\",IF(Süt!$C19<=0,\"\",VLOOKUP($P17,$P$98:$CS$631,AL$30,FALSE)))","v":""},{"$f":"IF(Süt!$B19=\"\",\"\",IF(Süt!$C19<=0,\"\",VLOOKUP($P17,$P$98:$CS$631,AM$30,FALSE)))","v":""},{"$f":"IF(Süt!$B19=\"\",\"\",IF(Süt!$C19<=0,\"\",VLOOKUP($P17,$P$98:$CS$631,AN$30,FALSE)))","v":""},{"$f":"IF(Süt!$B19=\"\",\"\",IF(Süt!$C19<=0,\"\",VLOOKUP($P17,$P$98:$CS$631,AO$30,FALSE)))","v":""},{"$f":"IF(Süt!$B19=\"\",\"\",IF(Süt!$C19<=0,\"\",VLOOKUP($P17,$P$98:$CS$631,AP$30,FALSE)))","v":""},{"$f":"IF(Süt!$B19=\"\",\"\",IF(Süt!$C19<=0,\"\",VLOOKUP($P17,$P$98:$CS$631,AQ$30,FALSE)))","v":""},{"$f":"IF(Süt!$B19=\"\",\"\",IF(Süt!$C19<=0,\"\",VLOOKUP($P17,$P$98:$CS$631,AR$30,FALSE)))","v":""},{"$f":"IF(Süt!$B19=\"\",\"\",IF(Süt!$C19<=0,\"\",VLOOKUP($P17,$P$98:$CS$631,AS$30,FALSE)))","v":""},{"$f":"IF(Süt!$B19=\"\",\"\",IF(Süt!$C19<=0,\"\",VLOOKUP($P17,$P$98:$CS$631,AT$30,FALSE)))","v":""},{"$f":"IF(Süt!$B19=\"\",\"\",IF(Süt!$C19<=0,\"\",VLOOKUP($P17,$P$98:$CS$631,AU$30,FALSE)))","v":""},{"$f":"IF(Süt!$B19=\"\",\"\",IF(Süt!$C19<=0,\"\",VLOOKUP($P17,$P$98:$CS$631,AV$30,FALSE)))","v":""},{"$f":"IF(Süt!$B19=\"\",\"\",IF(Süt!$C19<=0,\"\",VLOOKUP($P17,$P$98:$CS$631,AW$30,FALSE)))","v":""},{"$f":"IF(Süt!$B19=\"\",\"\",IF(Süt!$C19<=0,\"\",VLOOKUP($P17,$P$98:$CS$631,AX$30,FALSE)))","v":""},{"$f":"IF(Süt!$B19=\"\",\"\",IF(Süt!$C19<=0,\"\",VLOOKUP($P17,$P$98:$CS$631,AY$30,FALSE)))","v":""},{"$f":"IF(Süt!$B19=\"\",\"\",IF(Süt!$C19<=0,\"\",VLOOKUP($P17,$P$98:$CS$631,AZ$30,FALSE)))","v":""},{"$f":"IF(Süt!$B19=\"\",\"\",IF(Süt!$C19<=0,\"\",VLOOKUP($P17,$P$98:$CS$631,BA$30,FALSE)))","v":""},{"$f":"IF(Süt!$B19=\"\",\"\",IF(Süt!$C19<=0,\"\",VLOOKUP($P17,$P$98:$CS$631,BB$30,FALSE)))","v":""},{"$f":"IF(Süt!$B19=\"\",\"\",IF(Süt!$C19<=0,\"\",VLOOKUP($P17,$P$98:$CS$631,BC$30,FALSE)))","v":""},{"$f":"IF(Süt!$B19=\"\",\"\",IF(Süt!$C19<=0,\"\",VLOOKUP($P17,$P$98:$CS$631,BD$30,FALSE)))","v":""},{"$f":"IF(Süt!$B19=\"\",\"\",IF(Süt!$C19<=0,\"\",VLOOKUP($P17,$P$98:$CS$631,BE$30,FALSE)))","v":""},{"$f":"IF(Süt!$B19=\"\",\"\",IF(Süt!$C19<=0,\"\",VLOOKUP($P17,$P$98:$CS$631,BF$30,FALSE)))","v":""},{"$f":"IF(Süt!$B19=\"\",\"\",IF(Süt!$C19<=0,\"\",VLOOKUP($P17,$P$98:$CS$631,BG$30,FALSE)))","v":""},{"$f":"IF(Süt!$B19=\"\",\"\",IF(Süt!$C19<=0,\"\",VLOOKUP($P17,$P$98:$CS$631,BH$30,FALSE)))","v":""},{"$f":"IF(Süt!$B19=\"\",\"\",IF(Süt!$C19<=0,\"\",VLOOKUP($P17,$P$98:$CS$631,BI$30,FALSE)))","v":""},{"$f":"IF(Süt!$B19=\"\",\"\",IF(Süt!$C19<=0,\"\",VLOOKUP($P17,$P$98:$CS$631,BJ$30,FALSE)))","v":""},{"$f":"IF(Süt!$B19=\"\",\"\",IF(Süt!$C19<=0,\"\",VLOOKUP($P17,$P$98:$CS$631,BK$30,FALSE)))","v":""},{"$f":"IF(Süt!$B19=\"\",\"\",IF(Süt!$C19<=0,\"\",VLOOKUP($P17,$P$98:$CS$631,BL$30,FALSE)))","v":""},{"$f":"IF(Süt!$B19=\"\",\"\",IF(Süt!$C19<=0,\"\",VLOOKUP($P17,$P$98:$CS$631,BM$30,FALSE)))","v":""},{"$f":"IF(Süt!$B19=\"\",\"\",IF(Süt!$C19<=0,\"\",VLOOKUP($P17,$P$98:$CS$631,BN$30,FALSE)))","v":""},{"$f":"IF(Süt!$B19=\"\",\"\",IF(Süt!$C19<=0,\"\",VLOOKUP($P17,$P$98:$CS$631,BO$30,FALSE)))","v":""},{"$f":"IF(Süt!$B19=\"\",\"\",IF(Süt!$C19<=0,\"\",VLOOKUP($P17,$P$98:$CS$631,BP$30,FALSE)))","v":""},{"$f":"IF(Süt!$B19=\"\",\"\",IF(Süt!$C19<=0,\"\",VLOOKUP($P17,$P$98:$CS$631,BQ$30,FALSE)))","v":""},{"$f":"IF(Süt!$B19=\"\",\"\",IF(Süt!$C19<=0,\"\",VLOOKUP($P17,$P$98:$CS$631,BR$30,FALSE)))","v":""},{"$f":"IF(Süt!$B19=\"\",\"\",IF(Süt!$C19<=0,\"\",VLOOKUP($P17,$P$98:$CS$631,BS$30,FALSE)))","v":""},{"$f":"IF(Süt!$B19=\"\",\"\",IF(Süt!$C19<=0,\"\",VLOOKUP($P17,$P$98:$CS$631,BT$30,FALSE)))","v":""},{"$f":"IF(Süt!$B19=\"\",\"\",IF(Süt!$C19<=0,\"\",VLOOKUP($P17,$P$98:$CS$631,BU$30,FALSE)))","v":""},{"$f":"IF(Süt!$B19=\"\",\"\",IF(Süt!$C19<=0,\"\",VLOOKUP($P17,$P$98:$CS$631,BV$30,FALSE)))","v":""},{"$f":"IF(Süt!$B19=\"\",\"\",IF(Süt!$C19<=0,\"\",VLOOKUP($P17,$P$98:$CS$631,BW$30,FALSE)))","v":""},{"$f":"IF(Süt!$B19=\"\",\"\",IF(Süt!$C19<=0,\"\",VLOOKUP($P17,$P$98:$CS$631,BX$30,FALSE)))","v":""},{"$f":"IF(Süt!$B19=\"\",\"\",IF(Süt!$C19<=0,\"\",VLOOKUP($P17,$P$98:$CS$631,BY$30,FALSE)))","v":""},{"$f":"IF(Süt!$B19=\"\",\"\",IF(Süt!$C19<=0,\"\",VLOOKUP($P17,$P$98:$CS$631,BZ$30,FALSE)))","v":""},{"$f":"IF(Süt!$B19=\"\",\"\",IF(Süt!$C19<=0,\"\",VLOOKUP($P17,$P$98:$CS$631,CA$30,FALSE)))","v":""},{"$f":"IF(Süt!$B19=\"\",\"\",IF(Süt!$C19<=0,\"\",VLOOKUP($P17,$P$98:$CS$631,CB$30,FALSE)))","v":""},{"$f":"IF(Süt!$B19=\"\",\"\",IF(Süt!$C19<=0,\"\",VLOOKUP($P17,$P$98:$CS$631,CC$30,FALSE)))","v":""},{"$f":"IF(Süt!$B19=\"\",\"\",IF(Süt!$C19<=0,\"\",VLOOKUP($P17,$P$98:$CS$631,CD$30,FALSE)))","v":""},{"$f":"IF(Süt!$B19=\"\",\"\",IF(Süt!$C19<=0,\"\",VLOOKUP($P17,$P$98:$CS$631,CE$30,FALSE)))","v":""},{"$f":"IF(Süt!$B19=\"\",\"\",IF(Süt!$C19<=0,\"\",VLOOKUP($P17,$P$98:$CS$631,CF$30,FALSE)))","v":""},{"$f":"IF(Süt!$B19=\"\",\"\",IF(Süt!$C19<=0,\"\",VLOOKUP($P17,$P$98:$CS$631,CG$30,FALSE)))","v":""},{"$f":"IF(Süt!$B19=\"\",\"\",IF(Süt!$C19<=0,\"\",VLOOKUP($P17,$P$98:$CS$631,CH$30,FALSE)))","v":""},{"$f":"IF(Süt!$B19=\"\",\"\",IF(Süt!$C19<=0,\"\",VLOOKUP($P17,$P$98:$CS$631,CI$30,FALSE)))","v":""},{"$f":"IF(Süt!$B19=\"\",\"\",IF(Süt!$C19<=0,\"\",VLOOKUP($P17,$P$98:$CS$631,CJ$30,FALSE)))","v":""},{"$f":"IF(Süt!$B19=\"\",\"\",IF(Süt!$C19<=0,\"\",VLOOKUP($P17,$P$98:$CS$631,CK$30,FALSE)))","v":""},{"$f":"IF(Süt!$B19=\"\",\"\",IF(Süt!$C19<=0,\"\",VLOOKUP($P17,$P$98:$CS$631,CL$30,FALSE)))","v":""},{"$f":"IF(Süt!$B19=\"\",\"\",IF(Süt!$C19<=0,\"\",VLOOKUP($P17,$P$98:$CS$631,CM$30,FALSE)))","v":""},{"$f":"IF(Süt!$B19=\"\",\"\",IF(Süt!$C19<=0,\"\",VLOOKUP($P17,$P$98:$CS$631,CN$30,FALSE)))","v":""},{"$f":"IF(Süt!$B19=\"\",\"\",IF(Süt!$C19<=0,\"\",VLOOKUP($P17,$P$98:$CS$631,CO$30,FALSE)))","v":""},{"$f":"IF(Süt!$B19=\"\",\"\",IF(Süt!$C19<=0,\"\",VLOOKUP($P17,$P$98:$CS$631,CP$30,FALSE)))","v":""},{"$f":"IF(Süt!$B19=\"\",\"\",IF(Süt!$C19<=0,\"\",VLOOKUP($P17,$P$98:$CS$631,CQ$30,FALSE)))","v":""},{"$f":"IF(Süt!$B19=\"\",\"\",IF(Süt!$C19<=0,\"\",VLOOKUP($P17,$P$98:$CS$631,CR$30,FALSE)))","v":""},{"$f":"IF(Süt!$B19=\"\",\"\",IF(Süt!$C19<=0,\"\",VLOOKUP($P17,$P$98:$CS$631,CS$30,FALSE)))","v":""},1,0.108,0.37800000000000011,"YEn",{"$f":" MilkEN * MilkProd","v":17.891583333333333},"Mcal/ Nel/kg, Sütte salgılanan günlük enerji "]
[{"$f":"IF(Süt!A18=\"\",\"\",Süt!A18)","v":""},{"$f":"IF(Süt!B18=\"\",\"\",Süt!B18)","v":""},{"$f":"IF(Süt!C18=\"\",\"\",Süt!C18)","v":""},{"$f":"Süt!D18","v":0},{"$f":"Süt!E18","v":0},{"$f":"Süt!F18","v":0},"Ca / P",{"$f":"IF(ISERROR(H14/H16)=TRUE,0,H14/H16)","v":1.1386759262761805},{"$f":"IF(ISERROR(I14/I16)=TRUE,0,I14/I16)","v":1.1381840428851611},{"$f":"IF(H18=\"\",\"\",IF(I18>(H18*1.5),\"FAZLA\",IF(I18<H18*0.99,\"EKSİK\",\"TAMAM\")))","v":"TAMAM"},null,null,0,null,"",{"$f":"IF(Süt!B20=\"\",\"\",IF(Süt!C20<=0,\"\",Süt!B20))","v":""},{"$f":"IF(Süt!$B20=\"\",\"\",IF(Süt!$C20<=0,\"\",VLOOKUP($P18,$P$98:$CS$631,Q$30,FALSE)))","v":""},{"$f":"IF(Süt!$B20=\"\",\"\",IF(Süt!$C20<=0,\"\",VLOOKUP($P18,$P$98:$CS$631,R$30,FALSE)))","v":""},{"$f":"IF(Süt!$B20=\"\",\"\",IF(Süt!$C20<=0,\"\",VLOOKUP($P18,$P$98:$CS$631,S$30,FALSE)))","v":""},{"$f":"IF(Süt!$B20=\"\",\"\",IF(Süt!$C20<=0,\"\",VLOOKUP($P18,$P$98:$CS$631,T$30,FALSE)))","v":""},{"$f":"IF(Süt!$B20=\"\",\"\",IF(Süt!$C20<=0,\"\",VLOOKUP($P18,$P$98:$CS$631,U$30,FALSE)))","v":""},{"$f":"IF(Süt!$B20=\"\",\"\",IF(Süt!$C20<=0,\"\",VLOOKUP($P18,$P$98:$CS$631,V$30,FALSE)))","v":""},{"$f":"IF(Süt!$B20=\"\",\"\",IF(Süt!$C20<=0,\"\",VLOOKUP($P18,$P$98:$CS$631,W$30,FALSE)))","v":""},{"$f":"IF(Süt!$B20=\"\",\"\",IF(Süt!$C20<=0,\"\",VLOOKUP($P18,$P$98:$CS$631,X$30,FALSE)))","v":""},{"$f":"IF(Süt!$B20=\"\",\"\",IF(Süt!$C20<=0,\"\",VLOOKUP($P18,$P$98:$CS$631,Y$30,FALSE)))","v":""},{"$f":"IF(Süt!$B20=\"\",\"\",IF(Süt!$C20<=0,\"\",VLOOKUP($P18,$P$98:$CS$631,Z$30,FALSE)))","v":""},{"$f":"IF(Süt!$B20=\"\",\"\",IF(Süt!$C20<=0,\"\",VLOOKUP($P18,$P$98:$CS$631,AA$30,FALSE)))","v":""},{"$f":"IF(Süt!$B20=\"\",\"\",IF(Süt!$C20<=0,\"\",VLOOKUP($P18,$P$98:$CS$631,AB$30,FALSE)))","v":""},{"$f":"IF(Süt!$B20=\"\",\"\",IF(Süt!$C20<=0,\"\",VLOOKUP($P18,$P$98:$CS$631,AC$30,FALSE)))","v":""},{"$f":"IF(Süt!$B20=\"\",\"\",IF(Süt!$C20<=0,\"\",VLOOKUP($P18,$P$98:$CS$631,AD$30,FALSE)))","v":""},{"$f":"IF(Süt!$B20=\"\",\"\",IF(Süt!$C20<=0,\"\",VLOOKUP($P18,$P$98:$CS$631,AE$30,FALSE)))","v":""},{"$f":"IF(Süt!$B20=\"\",\"\",IF(Süt!$C20<=0,\"\",VLOOKUP($P18,$P$98:$CS$631,AF$30,FALSE)))","v":""},{"$f":"IF(Süt!$B20=\"\",\"\",IF(Süt!$C20<=0,\"\",VLOOKUP($P18,$P$98:$CS$631,AG$30,FALSE)))","v":""},{"$f":"IF(Süt!$B20=\"\",\"\",IF(Süt!$C20<=0,\"\",VLOOKUP($P18,$P$98:$CS$631,AH$30,FALSE)))","v":""},{"$f":"IF(Süt!$B20=\"\",\"\",IF(Süt!$C20<=0,\"\",VLOOKUP($P18,$P$98:$CS$631,AI$30,FALSE)))","v":""},{"$f":"IF(Süt!$B20=\"\",\"\",IF(Süt!$C20<=0,\"\",VLOOKUP($P18,$P$98:$CS$631,AJ$30,FALSE)))","v":""},{"$f":"IF(Süt!$B20=\"\",\"\",IF(Süt!$C20<=0,\"\",VLOOKUP($P18,$P$98:$CS$631,AK$30,FALSE)))","v":""},{"$f":"IF(Süt!$B20=\"\",\"\",IF(Süt!$C20<=0,\"\",VLOOKUP($P18,$P$98:$CS$631,AL$30,FALSE)))","v":""},{"$f":"IF(Süt!$B20=\"\",\"\",IF(Süt!$C20<=0,\"\",VLOOKUP($P18,$P$98:$CS$631,AM$30,FALSE)))","v":""},{"$f":"IF(Süt!$B20=\"\",\"\",IF(Süt!$C20<=0,\"\",VLOOKUP($P18,$P$98:$CS$631,AN$30,FALSE)))","v":""},{"$f":"IF(Süt!$B20=\"\",\"\",IF(Süt!$C20<=0,\"\",VLOOKUP($P18,$P$98:$CS$631,AO$30,FALSE)))","v":""},{"$f":"IF(Süt!$B20=\"\",\"\",IF(Süt!$C20<=0,\"\",VLOOKUP($P18,$P$98:$CS$631,AP$30,FALSE)))","v":""},{"$f":"IF(Süt!$B20=\"\",\"\",IF(Süt!$C20<=0,\"\",VLOOKUP($P18,$P$98:$CS$631,AQ$30,FALSE)))","v":""},{"$f":"IF(Süt!$B20=\"\",\"\",IF(Süt!$C20<=0,\"\",VLOOKUP($P18,$P$98:$CS$631,AR$30,FALSE)))","v":""},{"$f":"IF(Süt!$B20=\"\",\"\",IF(Süt!$C20<=0,\"\",VLOOKUP($P18,$P$98:$CS$631,AS$30,FALSE)))","v":""},{"$f":"IF(Süt!$B20=\"\",\"\",IF(Süt!$C20<=0,\"\",VLOOKUP($P18,$P$98:$CS$631,AT$30,FALSE)))","v":""},{"$f":"IF(Süt!$B20=\"\",\"\",IF(Süt!$C20<=0,\"\",VLOOKUP($P18,$P$98:$CS$631,AU$30,FALSE)))","v":""},{"$f":"IF(Süt!$B20=\"\",\"\",IF(Süt!$C20<=0,\"\",VLOOKUP($P18,$P$98:$CS$631,AV$30,FALSE)))","v":""},{"$f":"IF(Süt!$B20=\"\",\"\",IF(Süt!$C20<=0,\"\",VLOOKUP($P18,$P$98:$CS$631,AW$30,FALSE)))","v":""},{"$f":"IF(Süt!$B20=\"\",\"\",IF(Süt!$C20<=0,\"\",VLOOKUP($P18,$P$98:$CS$631,AX$30,FALSE)))","v":""},{"$f":"IF(Süt!$B20=\"\",\"\",IF(Süt!$C20<=0,\"\",VLOOKUP($P18,$P$98:$CS$631,AY$30,FALSE)))","v":""},{"$f":"IF(Süt!$B20=\"\",\"\",IF(Süt!$C20<=0,\"\",VLOOKUP($P18,$P$98:$CS$631,AZ$30,FALSE)))","v":""},{"$f":"IF(Süt!$B20=\"\",\"\",IF(Süt!$C20<=0,\"\",VLOOKUP($P18,$P$98:$CS$631,BA$30,FALSE)))","v":""},{"$f":"IF(Süt!$B20=\"\",\"\",IF(Süt!$C20<=0,\"\",VLOOKUP($P18,$P$98:$CS$631,BB$30,FALSE)))","v":""},{"$f":"IF(Süt!$B20=\"\",\"\",IF(Süt!$C20<=0,\"\",VLOOKUP($P18,$P$98:$CS$631,BC$30,FALSE)))","v":""},{"$f":"IF(Süt!$B20=\"\",\"\",IF(Süt!$C20<=0,\"\",VLOOKUP($P18,$P$98:$CS$631,BD$30,FALSE)))","v":""},{"$f":"IF(Süt!$B20=\"\",\"\",IF(Süt!$C20<=0,\"\",VLOOKUP($P18,$P$98:$CS$631,BE$30,FALSE)))","v":""},{"$f":"IF(Süt!$B20=\"\",\"\",IF(Süt!$C20<=0,\"\",VLOOKUP($P18,$P$98:$CS$631,BF$30,FALSE)))","v":""},{"$f":"IF(Süt!$B20=\"\",\"\",IF(Süt!$C20<=0,\"\",VLOOKUP($P18,$P$98:$CS$631,BG$30,FALSE)))","v":""},{"$f":"IF(Süt!$B20=\"\",\"\",IF(Süt!$C20<=0,\"\",VLOOKUP($P18,$P$98:$CS$631,BH$30,FALSE)))","v":""},{"$f":"IF(Süt!$B20=\"\",\"\",IF(Süt!$C20<=0,\"\",VLOOKUP($P18,$P$98:$CS$631,BI$30,FALSE)))","v":""},{"$f":"IF(Süt!$B20=\"\",\"\",IF(Süt!$C20<=0,\"\",VLOOKUP($P18,$P$98:$CS$631,BJ$30,FALSE)))","v":""},{"$f":"IF(Süt!$B20=\"\",\"\",IF(Süt!$C20<=0,\"\",VLOOKUP($P18,$P$98:$CS$631,BK$30,FALSE)))","v":""},{"$f":"IF(Süt!$B20=\"\",\"\",IF(Süt!$C20<=0,\"\",VLOOKUP($P18,$P$98:$CS$631,BL$30,FALSE)))","v":""},{"$f":"IF(Süt!$B20=\"\",\"\",IF(Süt!$C20<=0,\"\",VLOOKUP($P18,$P$98:$CS$631,BM$30,FALSE)))","v":""},{"$f":"IF(Süt!$B20=\"\",\"\",IF(Süt!$C20<=0,\"\",VLOOKUP($P18,$P$98:$CS$631,BN$30,FALSE)))","v":""},{"$f":"IF(Süt!$B20=\"\",\"\",IF(Süt!$C20<=0,\"\",VLOOKUP($P18,$P$98:$CS$631,BO$30,FALSE)))","v":""},{"$f":"IF(Süt!$B20=\"\",\"\",IF(Süt!$C20<=0,\"\",VLOOKUP($P18,$P$98:$CS$631,BP$30,FALSE)))","v":""},{"$f":"IF(Süt!$B20=\"\",\"\",IF(Süt!$C20<=0,\"\",VLOOKUP($P18,$P$98:$CS$631,BQ$30,FALSE)))","v":""},{"$f":"IF(Süt!$B20=\"\",\"\",IF(Süt!$C20<=0,\"\",VLOOKUP($P18,$P$98:$CS$631,BR$30,FALSE)))","v":""},{"$f":"IF(Süt!$B20=\"\",\"\",IF(Süt!$C20<=0,\"\",VLOOKUP($P18,$P$98:$CS$631,BS$30,FALSE)))","v":""},{"$f":"IF(Süt!$B20=\"\",\"\",IF(Süt!$C20<=0,\"\",VLOOKUP($P18,$P$98:$CS$631,BT$30,FALSE)))","v":""},{"$f":"IF(Süt!$B20=\"\",\"\",IF(Süt!$C20<=0,\"\",VLOOKUP($P18,$P$98:$CS$631,BU$30,FALSE)))","v":""},{"$f":"IF(Süt!$B20=\"\",\"\",IF(Süt!$C20<=0,\"\",VLOOKUP($P18,$P$98:$CS$631,BV$30,FALSE)))","v":""},{"$f":"IF(Süt!$B20=\"\",\"\",IF(Süt!$C20<=0,\"\",VLOOKUP($P18,$P$98:$CS$631,BW$30,FALSE)))","v":""},{"$f":"IF(Süt!$B20=\"\",\"\",IF(Süt!$C20<=0,\"\",VLOOKUP($P18,$P$98:$CS$631,BX$30,FALSE)))","v":""},{"$f":"IF(Süt!$B20=\"\",\"\",IF(Süt!$C20<=0,\"\",VLOOKUP($P18,$P$98:$CS$631,BY$30,FALSE)))","v":""},{"$f":"IF(Süt!$B20=\"\",\"\",IF(Süt!$C20<=0,\"\",VLOOKUP($P18,$P$98:$CS$631,BZ$30,FALSE)))","v":""},{"$f":"IF(Süt!$B20=\"\",\"\",IF(Süt!$C20<=0,\"\",VLOOKUP($P18,$P$98:$CS$631,CA$30,FALSE)))","v":""},{"$f":"IF(Süt!$B20=\"\",\"\",IF(Süt!$C20<=0,\"\",VLOOKUP($P18,$P$98:$CS$631,CB$30,FALSE)))","v":""},{"$f":"IF(Süt!$B20=\"\",\"\",IF(Süt!$C20<=0,\"\",VLOOKUP($P18,$P$98:$CS$631,CC$30,FALSE)))","v":""},{"$f":"IF(Süt!$B20=\"\",\"\",IF(Süt!$C20<=0,\"\",VLOOKUP($P18,$P$98:$CS$631,CD$30,FALSE)))","v":""},{"$f":"IF(Süt!$B20=\"\",\"\",IF(Süt!$C20<=0,\"\",VLOOKUP($P18,$P$98:$CS$631,CE$30,FALSE)))","v":""},{"$f":"IF(Süt!$B20=\"\",\"\",IF(Süt!$C20<=0,\"\",VLOOKUP($P18,$P$98:$CS$631,CF$30,FALSE)))","v":""},{"$f":"IF(Süt!$B20=\"\",\"\",IF(Süt!$C20<=0,\"\",VLOOKUP($P18,$P$98:$CS$631,CG$30,FALSE)))","v":""},{"$f":"IF(Süt!$B20=\"\",\"\",IF(Süt!$C20<=0,\"\",VLOOKUP($P18,$P$98:$CS$631,CH$30,FALSE)))","v":""},{"$f":"IF(Süt!$B20=\"\",\"\",IF(Süt!$C20<=0,\"\",VLOOKUP($P18,$P$98:$CS$631,CI$30,FALSE)))","v":""},{"$f":"IF(Süt!$B20=\"\",\"\",IF(Süt!$C20<=0,\"\",VLOOKUP($P18,$P$98:$CS$631,CJ$30,FALSE)))","v":""},{"$f":"IF(Süt!$B20=\"\",\"\",IF(Süt!$C20<=0,\"\",VLOOKUP($P18,$P$98:$CS$631,CK$30,FALSE)))","v":""},{"$f":"IF(Süt!$B20=\"\",\"\",IF(Süt!$C20<=0,\"\",VLOOKUP($P18,$P$98:$CS$631,CL$30,FALSE)))","v":""},{"$f":"IF(Süt!$B20=\"\",\"\",IF(Süt!$C20<=0,\"\",VLOOKUP($P18,$P$98:$CS$631,CM$30,FALSE)))","v":""},{"$f":"IF(Süt!$B20=\"\",\"\",IF(Süt!$C20<=0,\"\",VLOOKUP($P18,$P$98:$CS$631,CN$30,FALSE)))","v":""},{"$f":"IF(Süt!$B20=\"\",\"\",IF(Süt!$C20<=0,\"\",VLOOKUP($P18,$P$98:$CS$631,CO$30,FALSE)))","v":""},{"$f":"IF(Süt!$B20=\"\",\"\",IF(Süt!$C20<=0,\"\",VLOOKUP($P18,$P$98:$CS$631,CP$30,FALSE)))","v":""},{"$f":"IF(Süt!$B20=\"\",\"\",IF(Süt!$C20<=0,\"\",VLOOKUP($P18,$P$98:$CS$631,CQ$30,FALSE)))","v":""},{"$f":"IF(Süt!$B20=\"\",\"\",IF(Süt!$C20<=0,\"\",VLOOKUP($P18,$P$98:$CS$631,CR$30,FALSE)))","v":""},{"$f":"IF(Süt!$B20=\"\",\"\",IF(Süt!$C20<=0,\"\",VLOOKUP($P18,$P$98:$CS$631,CS$30,FALSE)))","v":""},0,0.13500000000000001,0.40500000000000003,"NELact",{"$f":"IF(MilkProd = 0,0,YEn)","v":17.891583333333333},"Mcal/gün, Laktasyon için net enerji ihtiyacı",null,null,null,null,null,null,null,null,null,null,"Merada Otluyor mu?"]
[{"$f":"IF(Süt!A19=\"\",\"\",Süt!A19)","v":""},{"$f":"IF(Süt!B19=\"\",\"\",Süt!B19)","v":""},{"$f":"IF(Süt!C19=\"\",\"\",Süt!C19)","v":""},{"$f":"Süt!D19","v":0},{"$f":"Süt!E19","v":0},{"$f":"Süt!F19","v":0},"NDF, % KM, enaz",{"$f":"NDFmin","v":25},{"$f":"DietNDF*100","v":42.133348197502613},{"$f":"IF(H19=\"\",\"\",IF(I19<H19,\"EKSİK\",\"TAMAM\"))","v":"TAMAM"},null,null,0,null,"",{"$f":"IF(Süt!B21=\"\",\"\",IF(Süt!C21<=0,\"\",Süt!B21))","v":""},{"$f":"IF(Süt!$B21=\"\",\"\",IF(Süt!$C21<=0,\"\",VLOOKUP($P19,$P$98:$CS$631,Q$30,FALSE)))","v":""},{"$f":"IF(Süt!$B21=\"\",\"\",IF(Süt!$C21<=0,\"\",VLOOKUP($P19,$P$98:$CS$631,R$30,FALSE)))","v":""},{"$f":"IF(Süt!$B21=\"\",\"\",IF(Süt!$C21<=0,\"\",VLOOKUP($P19,$P$98:$CS$631,S$30,FALSE)))","v":""},{"$f":"IF(Süt!$B21=\"\",\"\",IF(Süt!$C21<=0,\"\",VLOOKUP($P19,$P$98:$CS$631,T$30,FALSE)))","v":""},{"$f":"IF(Süt!$B21=\"\",\"\",IF(Süt!$C21<=0,\"\",VLOOKUP($P19,$P$98:$CS$631,U$30,FALSE)))","v":""},{"$f":"IF(Süt!$B21=\"\",\"\",IF(Süt!$C21<=0,\"\",VLOOKUP($P19,$P$98:$CS$631,V$30,FALSE)))","v":""},{"$f":"IF(Süt!$B21=\"\",\"\",IF(Süt!$C21<=0,\"\",VLOOKUP($P19,$P$98:$CS$631,W$30,FALSE)))","v":""},{"$f":"IF(Süt!$B21=\"\",\"\",IF(Süt!$C21<=0,\"\",VLOOKUP($P19,$P$98:$CS$631,X$30,FALSE)))","v":""},{"$f":"IF(Süt!$B21=\"\",\"\",IF(Süt!$C21<=0,\"\",VLOOKUP($P19,$P$98:$CS$631,Y$30,FALSE)))","v":""},{"$f":"IF(Süt!$B21=\"\",\"\",IF(Süt!$C21<=0,\"\",VLOOKUP($P19,$P$98:$CS$631,Z$30,FALSE)))","v":""},{"$f":"IF(Süt!$B21=\"\",\"\",IF(Süt!$C21<=0,\"\",VLOOKUP($P19,$P$98:$CS$631,AA$30,FALSE)))","v":""},{"$f":"IF(Süt!$B21=\"\",\"\",IF(Süt!$C21<=0,\"\",VLOOKUP($P19,$P$98:$CS$631,AB$30,FALSE)))","v":""},{"$f":"IF(Süt!$B21=\"\",\"\",IF(Süt!$C21<=0,\"\",VLOOKUP($P19,$P$98:$CS$631,AC$30,FALSE)))","v":""},{"$f":"IF(Süt!$B21=\"\",\"\",IF(Süt!$C21<=0,\"\",VLOOKUP($P19,$P$98:$CS$631,AD$30,FALSE)))","v":""},{"$f":"IF(Süt!$B21=\"\",\"\",IF(Süt!$C21<=0,\"\",VLOOKUP($P19,$P$98:$CS$631,AE$30,FALSE)))","v":""},{"$f":"IF(Süt!$B21=\"\",\"\",IF(Süt!$C21<=0,\"\",VLOOKUP($P19,$P$98:$CS$631,AF$30,FALSE)))","v":""},{"$f":"IF(Süt!$B21=\"\",\"\",IF(Süt!$C21<=0,\"\",VLOOKUP($P19,$P$98:$CS$631,AG$30,FALSE)))","v":""},{"$f":"IF(Süt!$B21=\"\",\"\",IF(Süt!$C21<=0,\"\",VLOOKUP($P19,$P$98:$CS$631,AH$30,FALSE)))","v":""},{"$f":"IF(Süt!$B21=\"\",\"\",IF(Süt!$C21<=0,\"\",VLOOKUP($P19,$P$98:$CS$631,AI$30,FALSE)))","v":""},{"$f":"IF(Süt!$B21=\"\",\"\",IF(Süt!$C21<=0,\"\",VLOOKUP($P19,$P$98:$CS$631,AJ$30,FALSE)))","v":""},{"$f":"IF(Süt!$B21=\"\",\"\",IF(Süt!$C21<=0,\"\",VLOOKUP($P19,$P$98:$CS$631,AK$30,FALSE)))","v":""},{"$f":"IF(Süt!$B21=\"\",\"\",IF(Süt!$C21<=0,\"\",VLOOKUP($P19,$P$98:$CS$631,AL$30,FALSE)))","v":""},{"$f":"IF(Süt!$B21=\"\",\"\",IF(Süt!$C21<=0,\"\",VLOOKUP($P19,$P$98:$CS$631,AM$30,FALSE)))","v":""},{"$f":"IF(Süt!$B21=\"\",\"\",IF(Süt!$C21<=0,\"\",VLOOKUP($P19,$P$98:$CS$631,AN$30,FALSE)))","v":""},{"$f":"IF(Süt!$B21=\"\",\"\",IF(Süt!$C21<=0,\"\",VLOOKUP($P19,$P$98:$CS$631,AO$30,FALSE)))","v":""},{"$f":"IF(Süt!$B21=\"\",\"\",IF(Süt!$C21<=0,\"\",VLOOKUP($P19,$P$98:$CS$631,AP$30,FALSE)))","v":""},{"$f":"IF(Süt!$B21=\"\",\"\",IF(Süt!$C21<=0,\"\",VLOOKUP($P19,$P$98:$CS$631,AQ$30,FALSE)))","v":""},{"$f":"IF(Süt!$B21=\"\",\"\",IF(Süt!$C21<=0,\"\",VLOOKUP($P19,$P$98:$CS$631,AR$30,FALSE)))","v":""},{"$f":"IF(Süt!$B21=\"\",\"\",IF(Süt!$C21<=0,\"\",VLOOKUP($P19,$P$98:$CS$631,AS$30,FALSE)))","v":""},{"$f":"IF(Süt!$B21=\"\",\"\",IF(Süt!$C21<=0,\"\",VLOOKUP($P19,$P$98:$CS$631,AT$30,FALSE)))","v":""},{"$f":"IF(Süt!$B21=\"\",\"\",IF(Süt!$C21<=0,\"\",VLOOKUP($P19,$P$98:$CS$631,AU$30,FALSE)))","v":""},{"$f":"IF(Süt!$B21=\"\",\"\",IF(Süt!$C21<=0,\"\",VLOOKUP($P19,$P$98:$CS$631,AV$30,FALSE)))","v":""},{"$f":"IF(Süt!$B21=\"\",\"\",IF(Süt!$C21<=0,\"\",VLOOKUP($P19,$P$98:$CS$631,AW$30,FALSE)))","v":""},{"$f":"IF(Süt!$B21=\"\",\"\",IF(Süt!$C21<=0,\"\",VLOOKUP($P19,$P$98:$CS$631,AX$30,FALSE)))","v":""},{"$f":"IF(Süt!$B21=\"\",\"\",IF(Süt!$C21<=0,\"\",VLOOKUP($P19,$P$98:$CS$631,AY$30,FALSE)))","v":""},{"$f":"IF(Süt!$B21=\"\",\"\",IF(Süt!$C21<=0,\"\",VLOOKUP($P19,$P$98:$CS$631,AZ$30,FALSE)))","v":""},{"$f":"IF(Süt!$B21=\"\",\"\",IF(Süt!$C21<=0,\"\",VLOOKUP($P19,$P$98:$CS$631,BA$30,FALSE)))","v":""},{"$f":"IF(Süt!$B21=\"\",\"\",IF(Süt!$C21<=0,\"\",VLOOKUP($P19,$P$98:$CS$631,BB$30,FALSE)))","v":""},{"$f":"IF(Süt!$B21=\"\",\"\",IF(Süt!$C21<=0,\"\",VLOOKUP($P19,$P$98:$CS$631,BC$30,FALSE)))","v":""},{"$f":"IF(Süt!$B21=\"\",\"\",IF(Süt!$C21<=0,\"\",VLOOKUP($P19,$P$98:$CS$631,BD$30,FALSE)))","v":""},{"$f":"IF(Süt!$B21=\"\",\"\",IF(Süt!$C21<=0,\"\",VLOOKUP($P19,$P$98:$CS$631,BE$30,FALSE)))","v":""},{"$f":"IF(Süt!$B21=\"\",\"\",IF(Süt!$C21<=0,\"\",VLOOKUP($P19,$P$98:$CS$631,BF$30,FALSE)))","v":""},{"$f":"IF(Süt!$B21=\"\",\"\",IF(Süt!$C21<=0,\"\",VLOOKUP($P19,$P$98:$CS$631,BG$30,FALSE)))","v":""},{"$f":"IF(Süt!$B21=\"\",\"\",IF(Süt!$C21<=0,\"\",VLOOKUP($P19,$P$98:$CS$631,BH$30,FALSE)))","v":""},{"$f":"IF(Süt!$B21=\"\",\"\",IF(Süt!$C21<=0,\"\",VLOOKUP($P19,$P$98:$CS$631,BI$30,FALSE)))","v":""},{"$f":"IF(Süt!$B21=\"\",\"\",IF(Süt!$C21<=0,\"\",VLOOKUP($P19,$P$98:$CS$631,BJ$30,FALSE)))","v":""},{"$f":"IF(Süt!$B21=\"\",\"\",IF(Süt!$C21<=0,\"\",VLOOKUP($P19,$P$98:$CS$631,BK$30,FALSE)))","v":""},{"$f":"IF(Süt!$B21=\"\",\"\",IF(Süt!$C21<=0,\"\",VLOOKUP($P19,$P$98:$CS$631,BL$30,FALSE)))","v":""},{"$f":"IF(Süt!$B21=\"\",\"\",IF(Süt!$C21<=0,\"\",VLOOKUP($P19,$P$98:$CS$631,BM$30,FALSE)))","v":""},{"$f":"IF(Süt!$B21=\"\",\"\",IF(Süt!$C21<=0,\"\",VLOOKUP($P19,$P$98:$CS$631,BN$30,FALSE)))","v":""},{"$f":"IF(Süt!$B21=\"\",\"\",IF(Süt!$C21<=0,\"\",VLOOKUP($P19,$P$98:$CS$631,BO$30,FALSE)))","v":""},{"$f":"IF(Süt!$B21=\"\",\"\",IF(Süt!$C21<=0,\"\",VLOOKUP($P19,$P$98:$CS$631,BP$30,FALSE)))","v":""},{"$f":"IF(Süt!$B21=\"\",\"\",IF(Süt!$C21<=0,\"\",VLOOKUP($P19,$P$98:$CS$631,BQ$30,FALSE)))","v":""},{"$f":"IF(Süt!$B21=\"\",\"\",IF(Süt!$C21<=0,\"\",VLOOKUP($P19,$P$98:$CS$631,BR$30,FALSE)))","v":""},{"$f":"IF(Süt!$B21=\"\",\"\",IF(Süt!$C21<=0,\"\",VLOOKUP($P19,$P$98:$CS$631,BS$30,FALSE)))","v":""},{"$f":"IF(Süt!$B21=\"\",\"\",IF(Süt!$C21<=0,\"\",VLOOKUP($P19,$P$98:$CS$631,BT$30,FALSE)))","v":""},{"$f":"IF(Süt!$B21=\"\",\"\",IF(Süt!$C21<=0,\"\",VLOOKUP($P19,$P$98:$CS$631,BU$30,FALSE)))","v":""},{"$f":"IF(Süt!$B21=\"\",\"\",IF(Süt!$C21<=0,\"\",VLOOKUP($P19,$P$98:$CS$631,BV$30,FALSE)))","v":""},{"$f":"IF(Süt!$B21=\"\",\"\",IF(Süt!$C21<=0,\"\",VLOOKUP($P19,$P$98:$CS$631,BW$30,FALSE)))","v":""},{"$f":"IF(Süt!$B21=\"\",\"\",IF(Süt!$C21<=0,\"\",VLOOKUP($P19,$P$98:$CS$631,BX$30,FALSE)))","v":""},{"$f":"IF(Süt!$B21=\"\",\"\",IF(Süt!$C21<=0,\"\",VLOOKUP($P19,$P$98:$CS$631,BY$30,FALSE)))","v":""},{"$f":"IF(Süt!$B21=\"\",\"\",IF(Süt!$C21<=0,\"\",VLOOKUP($P19,$P$98:$CS$631,BZ$30,FALSE)))","v":""},{"$f":"IF(Süt!$B21=\"\",\"\",IF(Süt!$C21<=0,\"\",VLOOKUP($P19,$P$98:$CS$631,CA$30,FALSE)))","v":""},{"$f":"IF(Süt!$B21=\"\",\"\",IF(Süt!$C21<=0,\"\",VLOOKUP($P19,$P$98:$CS$631,CB$30,FALSE)))","v":""},{"$f":"IF(Süt!$B21=\"\",\"\",IF(Süt!$C21<=0,\"\",VLOOKUP($P19,$P$98:$CS$631,CC$30,FALSE)))","v":""},{"$f":"IF(Süt!$B21=\"\",\"\",IF(Süt!$C21<=0,\"\",VLOOKUP($P19,$P$98:$CS$631,CD$30,FALSE)))","v":""},{"$f":"IF(Süt!$B21=\"\",\"\",IF(Süt!$C21<=0,\"\",VLOOKUP($P19,$P$98:$CS$631,CE$30,FALSE)))","v":""},{"$f":"IF(Süt!$B21=\"\",\"\",IF(Süt!$C21<=0,\"\",VLOOKUP($P19,$P$98:$CS$631,CF$30,FALSE)))","v":""},{"$f":"IF(Süt!$B21=\"\",\"\",IF(Süt!$C21<=0,\"\",VLOOKUP($P19,$P$98:$CS$631,CG$30,FALSE)))","v":""},{"$f":"IF(Süt!$B21=\"\",\"\",IF(Süt!$C21<=0,\"\",VLOOKUP($P19,$P$98:$CS$631,CH$30,FALSE)))","v":""},{"$f":"IF(Süt!$B21=\"\",\"\",IF(Süt!$C21<=0,\"\",VLOOKUP($P19,$P$98:$CS$631,CI$30,FALSE)))","v":""},{"$f":"IF(Süt!$B21=\"\",\"\",IF(Süt!$C21<=0,\"\",VLOOKUP($P19,$P$98:$CS$631,CJ$30,FALSE)))","v":""},{"$f":"IF(Süt!$B21=\"\",\"\",IF(Süt!$C21<=0,\"\",VLOOKUP($P19,$P$98:$CS$631,CK$30,FALSE)))","v":""},{"$f":"IF(Süt!$B21=\"\",\"\",IF(Süt!$C21<=0,\"\",VLOOKUP($P19,$P$98:$CS$631,CL$30,FALSE)))","v":""},{"$f":"IF(Süt!$B21=\"\",\"\",IF(Süt!$C21<=0,\"\",VLOOKUP($P19,$P$98:$CS$631,CM$30,FALSE)))","v":""},{"$f":"IF(Süt!$B21=\"\",\"\",IF(Süt!$C21<=0,\"\",VLOOKUP($P19,$P$98:$CS$631,CN$30,FALSE)))","v":""},{"$f":"IF(Süt!$B21=\"\",\"\",IF(Süt!$C21<=0,\"\",VLOOKUP($P19,$P$98:$CS$631,CO$30,FALSE)))","v":""},{"$f":"IF(Süt!$B21=\"\",\"\",IF(Süt!$C21<=0,\"\",VLOOKUP($P19,$P$98:$CS$631,CP$30,FALSE)))","v":""},{"$f":"IF(Süt!$B21=\"\",\"\",IF(Süt!$C21<=0,\"\",VLOOKUP($P19,$P$98:$CS$631,CQ$30,FALSE)))","v":""},{"$f":"IF(Süt!$B21=\"\",\"\",IF(Süt!$C21<=0,\"\",VLOOKUP($P19,$P$98:$CS$631,CR$30,FALSE)))","v":""},{"$f":"IF(Süt!$B21=\"\",\"\",IF(Süt!$C21<=0,\"\",VLOOKUP($P19,$P$98:$CS$631,CS$30,FALSE)))","v":""},{"$f":"CT18-1","v":-1},0.16200000000000001,0.43200000000000016,"YProtn",{"$f":"IF(MilkProd = 0,0,MilkProd * (MilkTrueProtein / 100))","v":0.77500000000000002},"kg/day, Laktasyonun mevcut durumunda günlük süt proteini verimi",null,null,null,null,null,null,null,null,null,null,"Otluyor"]
[{"$f":"IF(Süt!A20=\"\",\"\",Süt!A20)","v":""},{"$f":"IF(Süt!B20=\"\",\"\",Süt!B20)","v":""},{"$f":"IF(Süt!C20=\"\",\"\",Süt!C20)","v":""},{"$f":"Süt!D20","v":0},{"$f":"Süt!E20","v":0},{"$f":"Süt!F20","v":0},"Kaba yem NDF, % KM, enaz",{"$f":"P90","v":19},{"$f":"ForageNDF/TotalDMFed*100","v":36.177975917836584},{"$f":"IF(H20=\"\",\"\",IF(I20<H20,\"EKSİK\",\"TAMAM\"))","v":"TAMAM"},null,null,0,null,"",{"$f":"IF(Süt!B22=\"\",\"\",IF(Süt!C22<=0,\"\",Süt!B22))","v":""},{"$f":"IF(Süt!$B22=\"\",\"\",IF(Süt!$C22<=0,\"\",VLOOKUP($P20,$P$98:$CS$631,Q$30,FALSE)))","v":""},{"$f":"IF(Süt!$B22=\"\",\"\",IF(Süt!$C22<=0,\"\",VLOOKUP($P20,$P$98:$CS$631,R$30,FALSE)))","v":""},{"$f":"IF(Süt!$B22=\"\",\"\",IF(Süt!$C22<=0,\"\",VLOOKUP($P20,$P$98:$CS$631,S$30,FALSE)))","v":""},{"$f":"IF(Süt!$B22=\"\",\"\",IF(Süt!$C22<=0,\"\",VLOOKUP($P20,$P$98:$CS$631,T$30,FALSE)))","v":""},{"$f":"IF(Süt!$B22=\"\",\"\",IF(Süt!$C22<=0,\"\",VLOOKUP($P20,$P$98:$CS$631,U$30,FALSE)))","v":""},{"$f":"IF(Süt!$B22=\"\",\"\",IF(Süt!$C22<=0,\"\",VLOOKUP($P20,$P$98:$CS$631,V$30,FALSE)))","v":""},{"$f":"IF(Süt!$B22=\"\",\"\",IF(Süt!$C22<=0,\"\",VLOOKUP($P20,$P$98:$CS$631,W$30,FALSE)))","v":""},{"$f":"IF(Süt!$B22=\"\",\"\",IF(Süt!$C22<=0,\"\",VLOOKUP($P20,$P$98:$CS$631,X$30,FALSE)))","v":""},{"$f":"IF(Süt!$B22=\"\",\"\",IF(Süt!$C22<=0,\"\",VLOOKUP($P20,$P$98:$CS$631,Y$30,FALSE)))","v":""},{"$f":"IF(Süt!$B22=\"\",\"\",IF(Süt!$C22<=0,\"\",VLOOKUP($P20,$P$98:$CS$631,Z$30,FALSE)))","v":""},{"$f":"IF(Süt!$B22=\"\",\"\",IF(Süt!$C22<=0,\"\",VLOOKUP($P20,$P$98:$CS$631,AA$30,FALSE)))","v":""},{"$f":"IF(Süt!$B22=\"\",\"\",IF(Süt!$C22<=0,\"\",VLOOKUP($P20,$P$98:$CS$631,AB$30,FALSE)))","v":""},{"$f":"IF(Süt!$B22=\"\",\"\",IF(Süt!$C22<=0,\"\",VLOOKUP($P20,$P$98:$CS$631,AC$30,FALSE)))","v":""},{"$f":"IF(Süt!$B22=\"\",\"\",IF(Süt!$C22<=0,\"\",VLOOKUP($P20,$P$98:$CS$631,AD$30,FALSE)))","v":""},{"$f":"IF(Süt!$B22=\"\",\"\",IF(Süt!$C22<=0,\"\",VLOOKUP($P20,$P$98:$CS$631,AE$30,FALSE)))","v":""},{"$f":"IF(Süt!$B22=\"\",\"\",IF(Süt!$C22<=0,\"\",VLOOKUP($P20,$P$98:$CS$631,AF$30,FALSE)))","v":""},{"$f":"IF(Süt!$B22=\"\",\"\",IF(Süt!$C22<=0,\"\",VLOOKUP($P20,$P$98:$CS$631,AG$30,FALSE)))","v":""},{"$f":"IF(Süt!$B22=\"\",\"\",IF(Süt!$C22<=0,\"\",VLOOKUP($P20,$P$98:$CS$631,AH$30,FALSE)))","v":""},{"$f":"IF(Süt!$B22=\"\",\"\",IF(Süt!$C22<=0,\"\",VLOOKUP($P20,$P$98:$CS$631,AI$30,FALSE)))","v":""},{"$f":"IF(Süt!$B22=\"\",\"\",IF(Süt!$C22<=0,\"\",VLOOKUP($P20,$P$98:$CS$631,AJ$30,FALSE)))","v":""},{"$f":"IF(Süt!$B22=\"\",\"\",IF(Süt!$C22<=0,\"\",VLOOKUP($P20,$P$98:$CS$631,AK$30,FALSE)))","v":""},{"$f":"IF(Süt!$B22=\"\",\"\",IF(Süt!$C22<=0,\"\",VLOOKUP($P20,$P$98:$CS$631,AL$30,FALSE)))","v":""},{"$f":"IF(Süt!$B22=\"\",\"\",IF(Süt!$C22<=0,\"\",VLOOKUP($P20,$P$98:$CS$631,AM$30,FALSE)))","v":""},{"$f":"IF(Süt!$B22=\"\",\"\",IF(Süt!$C22<=0,\"\",VLOOKUP($P20,$P$98:$CS$631,AN$30,FALSE)))","v":""},{"$f":"IF(Süt!$B22=\"\",\"\",IF(Süt!$C22<=0,\"\",VLOOKUP($P20,$P$98:$CS$631,AO$30,FALSE)))","v":""},{"$f":"IF(Süt!$B22=\"\",\"\",IF(Süt!$C22<=0,\"\",VLOOKUP($P20,$P$98:$CS$631,AP$30,FALSE)))","v":""},{"$f":"IF(Süt!$B22=\"\",\"\",IF(Süt!$C22<=0,\"\",VLOOKUP($P20,$P$98:$CS$631,AQ$30,FALSE)))","v":""},{"$f":"IF(Süt!$B22=\"\",\"\",IF(Süt!$C22<=0,\"\",VLOOKUP($P20,$P$98:$CS$631,AR$30,FALSE)))","v":""},{"$f":"IF(Süt!$B22=\"\",\"\",IF(Süt!$C22<=0,\"\",VLOOKUP($P20,$P$98:$CS$631,AS$30,FALSE)))","v":""},{"$f":"IF(Süt!$B22=\"\",\"\",IF(Süt!$C22<=0,\"\",VLOOKUP($P20,$P$98:$CS$631,AT$30,FALSE)))","v":""},{"$f":"IF(Süt!$B22=\"\",\"\",IF(Süt!$C22<=0,\"\",VLOOKUP($P20,$P$98:$CS$631,AU$30,FALSE)))","v":""},{"$f":"IF(Süt!$B22=\"\",\"\",IF(Süt!$C22<=0,\"\",VLOOKUP($P20,$P$98:$CS$631,AV$30,FALSE)))","v":""},{"$f":"IF(Süt!$B22=\"\",\"\",IF(Süt!$C22<=0,\"\",VLOOKUP($P20,$P$98:$CS$631,AW$30,FALSE)))","v":""},{"$f":"IF(Süt!$B22=\"\",\"\",IF(Süt!$C22<=0,\"\",VLOOKUP($P20,$P$98:$CS$631,AX$30,FALSE)))","v":""},{"$f":"IF(Süt!$B22=\"\",\"\",IF(Süt!$C22<=0,\"\",VLOOKUP($P20,$P$98:$CS$631,AY$30,FALSE)))","v":""},{"$f":"IF(Süt!$B22=\"\",\"\",IF(Süt!$C22<=0,\"\",VLOOKUP($P20,$P$98:$CS$631,AZ$30,FALSE)))","v":""},{"$f":"IF(Süt!$B22=\"\",\"\",IF(Süt!$C22<=0,\"\",VLOOKUP($P20,$P$98:$CS$631,BA$30,FALSE)))","v":""},{"$f":"IF(Süt!$B22=\"\",\"\",IF(Süt!$C22<=0,\"\",VLOOKUP($P20,$P$98:$CS$631,BB$30,FALSE)))","v":""},{"$f":"IF(Süt!$B22=\"\",\"\",IF(Süt!$C22<=0,\"\",VLOOKUP($P20,$P$98:$CS$631,BC$30,FALSE)))","v":""},{"$f":"IF(Süt!$B22=\"\",\"\",IF(Süt!$C22<=0,\"\",VLOOKUP($P20,$P$98:$CS$631,BD$30,FALSE)))","v":""},{"$f":"IF(Süt!$B22=\"\",\"\",IF(Süt!$C22<=0,\"\",VLOOKUP($P20,$P$98:$CS$631,BE$30,FALSE)))","v":""},{"$f":"IF(Süt!$B22=\"\",\"\",IF(Süt!$C22<=0,\"\",VLOOKUP($P20,$P$98:$CS$631,BF$30,FALSE)))","v":""},{"$f":"IF(Süt!$B22=\"\",\"\",IF(Süt!$C22<=0,\"\",VLOOKUP($P20,$P$98:$CS$631,BG$30,FALSE)))","v":""},{"$f":"IF(Süt!$B22=\"\",\"\",IF(Süt!$C22<=0,\"\",VLOOKUP($P20,$P$98:$CS$631,BH$30,FALSE)))","v":""},{"$f":"IF(Süt!$B22=\"\",\"\",IF(Süt!$C22<=0,\"\",VLOOKUP($P20,$P$98:$CS$631,BI$30,FALSE)))","v":""},{"$f":"IF(Süt!$B22=\"\",\"\",IF(Süt!$C22<=0,\"\",VLOOKUP($P20,$P$98:$CS$631,BJ$30,FALSE)))","v":""},{"$f":"IF(Süt!$B22=\"\",\"\",IF(Süt!$C22<=0,\"\",VLOOKUP($P20,$P$98:$CS$631,BK$30,FALSE)))","v":""},{"$f":"IF(Süt!$B22=\"\",\"\",IF(Süt!$C22<=0,\"\",VLOOKUP($P20,$P$98:$CS$631,BL$30,FALSE)))","v":""},{"$f":"IF(Süt!$B22=\"\",\"\",IF(Süt!$C22<=0,\"\",VLOOKUP($P20,$P$98:$CS$631,BM$30,FALSE)))","v":""},{"$f":"IF(Süt!$B22=\"\",\"\",IF(Süt!$C22<=0,\"\",VLOOKUP($P20,$P$98:$CS$631,BN$30,FALSE)))","v":""},{"$f":"IF(Süt!$B22=\"\",\"\",IF(Süt!$C22<=0,\"\",VLOOKUP($P20,$P$98:$CS$631,BO$30,FALSE)))","v":""},{"$f":"IF(Süt!$B22=\"\",\"\",IF(Süt!$C22<=0,\"\",VLOOKUP($P20,$P$98:$CS$631,BP$30,FALSE)))","v":""},{"$f":"IF(Süt!$B22=\"\",\"\",IF(Süt!$C22<=0,\"\",VLOOKUP($P20,$P$98:$CS$631,BQ$30,FALSE)))","v":""},{"$f":"IF(Süt!$B22=\"\",\"\",IF(Süt!$C22<=0,\"\",VLOOKUP($P20,$P$98:$CS$631,BR$30,FALSE)))","v":""},{"$f":"IF(Süt!$B22=\"\",\"\",IF(Süt!$C22<=0,\"\",VLOOKUP($P20,$P$98:$CS$631,BS$30,FALSE)))","v":""},{"$f":"IF(Süt!$B22=\"\",\"\",IF(Süt!$C22<=0,\"\",VLOOKUP($P20,$P$98:$CS$631,BT$30,FALSE)))","v":""},{"$f":"IF(Süt!$B22=\"\",\"\",IF(Süt!$C22<=0,\"\",VLOOKUP($P20,$P$98:$CS$631,BU$30,FALSE)))","v":""},{"$f":"IF(Süt!$B22=\"\",\"\",IF(Süt!$C22<=0,\"\",VLOOKUP($P20,$P$98:$CS$631,BV$30,FALSE)))","v":""},{"$f":"IF(Süt!$B22=\"\",\"\",IF(Süt!$C22<=0,\"\",VLOOKUP($P20,$P$98:$CS$631,BW$30,FALSE)))","v":""},{"$f":"IF(Süt!$B22=\"\",\"\",IF(Süt!$C22<=0,\"\",VLOOKUP($P20,$P$98:$CS$631,BX$30,FALSE)))","v":""},{"$f":"IF(Süt!$B22=\"\",\"\",IF(Süt!$C22<=0,\"\",VLOOKUP($P20,$P$98:$CS$631,BY$30,FALSE)))","v":""},{"$f":"IF(Süt!$B22=\"\",\"\",IF(Süt!$C22<=0,\"\",VLOOKUP($P20,$P$98:$CS$631,BZ$30,FALSE)))","v":""},{"$f":"IF(Süt!$B22=\"\",\"\",IF(Süt!$C22<=0,\"\",VLOOKUP($P20,$P$98:$CS$631,CA$30,FALSE)))","v":""},{"$f":"IF(Süt!$B22=\"\",\"\",IF(Süt!$C22<=0,\"\",VLOOKUP($P20,$P$98:$CS$631,CB$30,FALSE)))","v":""},{"$f":"IF(Süt!$B22=\"\",\"\",IF(Süt!$C22<=0,\"\",VLOOKUP($P20,$P$98:$CS$631,CC$30,FALSE)))","v":""},{"$f":"IF(Süt!$B22=\"\",\"\",IF(Süt!$C22<=0,\"\",VLOOKUP($P20,$P$98:$CS$631,CD$30,FALSE)))","v":""},{"$f":"IF(Süt!$B22=\"\",\"\",IF(Süt!$C22<=0,\"\",VLOOKUP($P20,$P$98:$CS$631,CE$30,FALSE)))","v":""},{"$f":"IF(Süt!$B22=\"\",\"\",IF(Süt!$C22<=0,\"\",VLOOKUP($P20,$P$98:$CS$631,CF$30,FALSE)))","v":""},{"$f":"IF(Süt!$B22=\"\",\"\",IF(Süt!$C22<=0,\"\",VLOOKUP($P20,$P$98:$CS$631,CG$30,FALSE)))","v":""},{"$f":"IF(Süt!$B22=\"\",\"\",IF(Süt!$C22<=0,\"\",VLOOKUP($P20,$P$98:$CS$631,CH$30,FALSE)))","v":""},{"$f":"IF(Süt!$B22=\"\",\"\",IF(Süt!$C22<=0,\"\",VLOOKUP($P20,$P$98:$CS$631,CI$30,FALSE)))","v":""},{"$f":"IF(Süt!$B22=\"\",\"\",IF(Süt!$C22<=0,\"\",VLOOKUP($P20,$P$98:$CS$631,CJ$30,FALSE)))","v":""},{"$f":"IF(Süt!$B22=\"\",\"\",IF(Süt!$C22<=0,\"\",VLOOKUP($P20,$P$98:$CS$631,CK$30,FALSE)))","v":""},{"$f":"IF(Süt!$B22=\"\",\"\",IF(Süt!$C22<=0,\"\",VLOOKUP($P20,$P$98:$CS$631,CL$30,FALSE)))","v":""},{"$f":"IF(Süt!$B22=\"\",\"\",IF(Süt!$C22<=0,\"\",VLOOKUP($P20,$P$98:$CS$631,CM$30,FALSE)))","v":""},{"$f":"IF(Süt!$B22=\"\",\"\",IF(Süt!$C22<=0,\"\",VLOOKUP($P20,$P$98:$CS$631,CN$30,FALSE)))","v":""},{"$f":"IF(Süt!$B22=\"\",\"\",IF(Süt!$C22<=0,\"\",VLOOKUP($P20,$P$98:$CS$631,CO$30,FALSE)))","v":""},{"$f":"IF(Süt!$B22=\"\",\"\",IF(Süt!$C22<=0,\"\",VLOOKUP($P20,$P$98:$CS$631,CP$30,FALSE)))","v":""},{"$f":"IF(Süt!$B22=\"\",\"\",IF(Süt!$C22<=0,\"\",VLOOKUP($P20,$P$98:$CS$631,CQ$30,FALSE)))","v":""},{"$f":"IF(Süt!$B22=\"\",\"\",IF(Süt!$C22<=0,\"\",VLOOKUP($P20,$P$98:$CS$631,CR$30,FALSE)))","v":""},{"$f":"IF(Süt!$B22=\"\",\"\",IF(Süt!$C22<=0,\"\",VLOOKUP($P20,$P$98:$CS$631,CS$30,FALSE)))","v":""},-2,0.189,0.45900000000000019,"YFatn",{"$f":"IF(MilkProd = 0,0,MilkProd * (MilkFat / 100))","v":0.92500000000000016},"kg/day, Laktasyonun mevcut durumunda günlük süt yağı verimi",null,null,null,null,null,null,null,null,null,null,"Otlamıyor"]
[{"$f":"IF(Süt!A21=\"\",\"\",Süt!A21)","v":""},{"$f":"IF(Süt!B21=\"\",\"\",Süt!B21)","v":""},{"$f":"IF(Süt!C21=\"\",\"\",Süt!C21)","v":""},{"$f":"Süt!D21","v":0},{"$f":"Süt!E21","v":0},{"$f":"Süt!F21","v":0},"ADF, % KM, enaz",{"$f":"ADFmin","v":17},{"$f":"DietADF*100","v":27.101129481730819},{"$f":"IF(H21=\"\",\"\",IF(I21<H21,\"EKSİK\",\"TAMAM\"))","v":"TAMAM"},null,null,0,null,0.08,{"$f":"IF(Süt!B23=\"\",\"\",IF(Süt!C23<=0,\"\",Süt!B23))","v":"Mermer tozu"},{"$f":"IF(Süt!$B23=\"\",\"\",IF(Süt!$C23<=0,\"\",VLOOKUP($P21,$P$98:$CS$631,Q$30,FALSE)))","v":0},{"$f":"IF(Süt!$B23=\"\",\"\",IF(Süt!$C23<=0,\"\",VLOOKUP($P21,$P$98:$CS$631,R$30,FALSE)))","v":0},{"$f":"IF(Süt!$B23=\"\",\"\",IF(Süt!$C23<=0,\"\",VLOOKUP($P21,$P$98:$CS$631,S$30,FALSE)))","v":"0"},{"$f":"IF(Süt!$B23=\"\",\"\",IF(Süt!$C23<=0,\"\",VLOOKUP($P21,$P$98:$CS$631,T$30,FALSE)))","v":0},{"$f":"IF(Süt!$B23=\"\",\"\",IF(Süt!$C23<=0,\"\",VLOOKUP($P21,$P$98:$CS$631,U$30,FALSE)))","v":0},{"$f":"IF(Süt!$B23=\"\",\"\",IF(Süt!$C23<=0,\"\",VLOOKUP($P21,$P$98:$CS$631,V$30,FALSE)))","v":0},{"$f":"IF(Süt!$B23=\"\",\"\",IF(Süt!$C23<=0,\"\",VLOOKUP($P21,$P$98:$CS$631,W$30,FALSE)))","v":0},{"$f":"IF(Süt!$B23=\"\",\"\",IF(Süt!$C23<=0,\"\",VLOOKUP($P21,$P$98:$CS$631,X$30,FALSE)))","v":0},{"$f":"IF(Süt!$B23=\"\",\"\",IF(Süt!$C23<=0,\"\",VLOOKUP($P21,$P$98:$CS$631,Y$30,FALSE)))","v":0},{"$f":"IF(Süt!$B23=\"\",\"\",IF(Süt!$C23<=0,\"\",VLOOKUP($P21,$P$98:$CS$631,Z$30,FALSE)))","v":0},{"$f":"IF(Süt!$B23=\"\",\"\",IF(Süt!$C23<=0,\"\",VLOOKUP($P21,$P$98:$CS$631,AA$30,FALSE)))","v":100},{"$f":"IF(Süt!$B23=\"\",\"\",IF(Süt!$C23<=0,\"\",VLOOKUP($P21,$P$98:$CS$631,AB$30,FALSE)))","v":0},{"$f":"IF(Süt!$B23=\"\",\"\",IF(Süt!$C23<=0,\"\",VLOOKUP($P21,$P$98:$CS$631,AC$30,FALSE)))","v":0},{"$f":"IF(Süt!$B23=\"\",\"\",IF(Süt!$C23<=0,\"\",VLOOKUP($P21,$P$98:$CS$631,AD$30,FALSE)))","v":0},{"$f":"IF(Süt!$B23=\"\",\"\",IF(Süt!$C23<=0,\"\",VLOOKUP($P21,$P$98:$CS$631,AE$30,FALSE)))","v":0},{"$f":"IF(Süt!$B23=\"\",\"\",IF(Süt!$C23<=0,\"\",VLOOKUP($P21,$P$98:$CS$631,AF$30,FALSE)))","v":0},{"$f":"IF(Süt!$B23=\"\",\"\",IF(Süt!$C23<=0,\"\",VLOOKUP($P21,$P$98:$CS$631,AG$30,FALSE)))","v":0},{"$f":"IF(Süt!$B23=\"\",\"\",IF(Süt!$C23<=0,\"\",VLOOKUP($P21,$P$98:$CS$631,AH$30,FALSE)))","v":0},{"$f":"IF(Süt!$B23=\"\",\"\",IF(Süt!$C23<=0,\"\",VLOOKUP($P21,$P$98:$CS$631,AI$30,FALSE)))","v":0},{"$f":"IF(Süt!$B23=\"\",\"\",IF(Süt!$C23<=0,\"\",VLOOKUP($P21,$P$98:$CS$631,AJ$30,FALSE)))","v":0},{"$f":"IF(Süt!$B23=\"\",\"\",IF(Süt!$C23<=0,\"\",VLOOKUP($P21,$P$98:$CS$631,AK$30,FALSE)))","v":0},{"$f":"IF(Süt!$B23=\"\",\"\",IF(Süt!$C23<=0,\"\",VLOOKUP($P21,$P$98:$CS$631,AL$30,FALSE)))","v":100},{"$f":"IF(Süt!$B23=\"\",\"\",IF(Süt!$C23<=0,\"\",VLOOKUP($P21,$P$98:$CS$631,AM$30,FALSE)))","v":"Conc"},{"$f":"IF(Süt!$B23=\"\",\"\",IF(Süt!$C23<=0,\"\",VLOOKUP($P21,$P$98:$CS$631,AN$30,FALSE)))","v":"Calf Feed-Vit/Min"},{"$f":"IF(Süt!$B23=\"\",\"\",IF(Süt!$C23<=0,\"\",VLOOKUP($P21,$P$98:$CS$631,AO$30,FALSE)))","v":0},{"$f":"IF(Süt!$B23=\"\",\"\",IF(Süt!$C23<=0,\"\",VLOOKUP($P21,$P$98:$CS$631,AP$30,FALSE)))","v":0.5},{"$f":"IF(Süt!$B23=\"\",\"\",IF(Süt!$C23<=0,\"\",VLOOKUP($P21,$P$98:$CS$631,AQ$30,FALSE)))","v":0},{"$f":"IF(Süt!$B23=\"\",\"\",IF(Süt!$C23<=0,\"\",VLOOKUP($P21,$P$98:$CS$631,AR$30,FALSE)))","v":0},{"$f":"IF(Süt!$B23=\"\",\"\",IF(Süt!$C23<=0,\"\",VLOOKUP($P21,$P$98:$CS$631,AS$30,FALSE)))","v":0},{"$f":"IF(Süt!$B23=\"\",\"\",IF(Süt!$C23<=0,\"\",VLOOKUP($P21,$P$98:$CS$631,AT$30,FALSE)))","v":0},{"$f":"IF(Süt!$B23=\"\",\"\",IF(Süt!$C23<=0,\"\",VLOOKUP($P21,$P$98:$CS$631,AU$30,FALSE)))","v":0},{"$f":"IF(Süt!$B23=\"\",\"\",IF(Süt!$C23<=0,\"\",VLOOKUP($P21,$P$98:$CS$631,AV$30,FALSE)))","v":0},{"$f":"IF(Süt!$B23=\"\",\"\",IF(Süt!$C23<=0,\"\",VLOOKUP($P21,$P$98:$CS$631,AW$30,FALSE)))","v":0},{"$f":"IF(Süt!$B23=\"\",\"\",IF(Süt!$C23<=0,\"\",VLOOKUP($P21,$P$98:$CS$631,AX$30,FALSE)))","v":0},{"$f":"IF(Süt!$B23=\"\",\"\",IF(Süt!$C23<=0,\"\",VLOOKUP($P21,$P$98:$CS$631,AY$30,FALSE)))","v":0},{"$f":"IF(Süt!$B23=\"\",\"\",IF(Süt!$C23<=0,\"\",VLOOKUP($P21,$P$98:$CS$631,AZ$30,FALSE)))","v":0},{"$f":"IF(Süt!$B23=\"\",\"\",IF(Süt!$C23<=0,\"\",VLOOKUP($P21,$P$98:$CS$631,BA$30,FALSE)))","v":0},{"$f":"IF(Süt!$B23=\"\",\"\",IF(Süt!$C23<=0,\"\",VLOOKUP($P21,$P$98:$CS$631,BB$30,FALSE)))","v":0},{"$f":"IF(Süt!$B23=\"\",\"\",IF(Süt!$C23<=0,\"\",VLOOKUP($P21,$P$98:$CS$631,BC$30,FALSE)))","v":0},{"$f":"IF(Süt!$B23=\"\",\"\",IF(Süt!$C23<=0,\"\",VLOOKUP($P21,$P$98:$CS$631,BD$30,FALSE)))","v":0},{"$f":"IF(Süt!$B23=\"\",\"\",IF(Süt!$C23<=0,\"\",VLOOKUP($P21,$P$98:$CS$631,BE$30,FALSE)))","v":0},{"$f":"IF(Süt!$B23=\"\",\"\",IF(Süt!$C23<=0,\"\",VLOOKUP($P21,$P$98:$CS$631,BF$30,FALSE)))","v":0},{"$f":"IF(Süt!$B23=\"\",\"\",IF(Süt!$C23<=0,\"\",VLOOKUP($P21,$P$98:$CS$631,BG$30,FALSE)))","v":0},{"$f":"IF(Süt!$B23=\"\",\"\",IF(Süt!$C23<=0,\"\",VLOOKUP($P21,$P$98:$CS$631,BH$30,FALSE)))","v":0},{"$f":"IF(Süt!$B23=\"\",\"\",IF(Süt!$C23<=0,\"\",VLOOKUP($P21,$P$98:$CS$631,BI$30,FALSE)))","v":0},{"$f":"IF(Süt!$B23=\"\",\"\",IF(Süt!$C23<=0,\"\",VLOOKUP($P21,$P$98:$CS$631,BJ$30,FALSE)))","v":0},{"$f":"IF(Süt!$B23=\"\",\"\",IF(Süt!$C23<=0,\"\",VLOOKUP($P21,$P$98:$CS$631,BK$30,FALSE)))","v":0},{"$f":"IF(Süt!$B23=\"\",\"\",IF(Süt!$C23<=0,\"\",VLOOKUP($P21,$P$98:$CS$631,BL$30,FALSE)))","v":2},{"$f":"IF(Süt!$B23=\"\",\"\",IF(Süt!$C23<=0,\"\",VLOOKUP($P21,$P$98:$CS$631,BM$30,FALSE)))","v":37},{"$f":"IF(Süt!$B23=\"\",\"\",IF(Süt!$C23<=0,\"\",VLOOKUP($P21,$P$98:$CS$631,BN$30,FALSE)))","v":0.6},{"$f":"IF(Süt!$B23=\"\",\"\",IF(Süt!$C23<=0,\"\",VLOOKUP($P21,$P$98:$CS$631,BO$30,FALSE)))","v":0},{"$f":"IF(Süt!$B23=\"\",\"\",IF(Süt!$C23<=0,\"\",VLOOKUP($P21,$P$98:$CS$631,BP$30,FALSE)))","v":0},{"$f":"IF(Süt!$B23=\"\",\"\",IF(Süt!$C23<=0,\"\",VLOOKUP($P21,$P$98:$CS$631,BQ$30,FALSE)))","v":0},{"$f":"IF(Süt!$B23=\"\",\"\",IF(Süt!$C23<=0,\"\",VLOOKUP($P21,$P$98:$CS$631,BR$30,FALSE)))","v":0.5},{"$f":"IF(Süt!$B23=\"\",\"\",IF(Süt!$C23<=0,\"\",VLOOKUP($P21,$P$98:$CS$631,BS$30,FALSE)))","v":0},{"$f":"IF(Süt!$B23=\"\",\"\",IF(Süt!$C23<=0,\"\",VLOOKUP($P21,$P$98:$CS$631,BT$30,FALSE)))","v":0.9},{"$f":"IF(Süt!$B23=\"\",\"\",IF(Süt!$C23<=0,\"\",VLOOKUP($P21,$P$98:$CS$631,BU$30,FALSE)))","v":0},{"$f":"IF(Süt!$B23=\"\",\"\",IF(Süt!$C23<=0,\"\",VLOOKUP($P21,$P$98:$CS$631,BV$30,FALSE)))","v":0.9},{"$f":"IF(Süt!$B23=\"\",\"\",IF(Süt!$C23<=0,\"\",VLOOKUP($P21,$P$98:$CS$631,BW$30,FALSE)))","v":0},{"$f":"IF(Süt!$B23=\"\",\"\",IF(Süt!$C23<=0,\"\",VLOOKUP($P21,$P$98:$CS$631,BX$30,FALSE)))","v":0.9},{"$f":"IF(Süt!$B23=\"\",\"\",IF(Süt!$C23<=0,\"\",VLOOKUP($P21,$P$98:$CS$631,BY$30,FALSE)))","v":0},{"$f":"IF(Süt!$B23=\"\",\"\",IF(Süt!$C23<=0,\"\",VLOOKUP($P21,$P$98:$CS$631,BZ$30,FALSE)))","v":1},{"$f":"IF(Süt!$B23=\"\",\"\",IF(Süt!$C23<=0,\"\",VLOOKUP($P21,$P$98:$CS$631,CA$30,FALSE)))","v":0},{"$f":"IF(Süt!$B23=\"\",\"\",IF(Süt!$C23<=0,\"\",VLOOKUP($P21,$P$98:$CS$631,CB$30,FALSE)))","v":1},{"$f":"IF(Süt!$B23=\"\",\"\",IF(Süt!$C23<=0,\"\",VLOOKUP($P21,$P$98:$CS$631,CC$30,FALSE)))","v":0},{"$f":"IF(Süt!$B23=\"\",\"\",IF(Süt!$C23<=0,\"\",VLOOKUP($P21,$P$98:$CS$631,CD$30,FALSE)))","v":0.04},{"$f":"IF(Süt!$B23=\"\",\"\",IF(Süt!$C23<=0,\"\",VLOOKUP($P21,$P$98:$CS$631,CE$30,FALSE)))","v":0},{"$f":"IF(Süt!$B23=\"\",\"\",IF(Süt!$C23<=0,\"\",VLOOKUP($P21,$P$98:$CS$631,CF$30,FALSE)))","v":0.85},{"$f":"IF(Süt!$B23=\"\",\"\",IF(Süt!$C23<=0,\"\",VLOOKUP($P21,$P$98:$CS$631,CG$30,FALSE)))","v":0},{"$f":"IF(Süt!$B23=\"\",\"\",IF(Süt!$C23<=0,\"\",VLOOKUP($P21,$P$98:$CS$631,CH$30,FALSE)))","v":0.1},{"$f":"IF(Süt!$B23=\"\",\"\",IF(Süt!$C23<=0,\"\",VLOOKUP($P21,$P$98:$CS$631,CI$30,FALSE)))","v":0},{"$f":"IF(Süt!$B23=\"\",\"\",IF(Süt!$C23<=0,\"\",VLOOKUP($P21,$P$98:$CS$631,CJ$30,FALSE)))","v":0.01},{"$f":"IF(Süt!$B23=\"\",\"\",IF(Süt!$C23<=0,\"\",VLOOKUP($P21,$P$98:$CS$631,CK$30,FALSE)))","v":0},{"$f":"IF(Süt!$B23=\"\",\"\",IF(Süt!$C23<=0,\"\",VLOOKUP($P21,$P$98:$CS$631,CL$30,FALSE)))","v":1},{"$f":"IF(Süt!$B23=\"\",\"\",IF(Süt!$C23<=0,\"\",VLOOKUP($P21,$P$98:$CS$631,CM$30,FALSE)))","v":0},{"$f":"IF(Süt!$B23=\"\",\"\",IF(Süt!$C23<=0,\"\",VLOOKUP($P21,$P$98:$CS$631,CN$30,FALSE)))","v":0.15},{"$f":"IF(Süt!$B23=\"\",\"\",IF(Süt!$C23<=0,\"\",VLOOKUP($P21,$P$98:$CS$631,CO$30,FALSE)))","v":0},{"$f":"IF(Süt!$B23=\"\",\"\",IF(Süt!$C23<=0,\"\",VLOOKUP($P21,$P$98:$CS$631,CP$30,FALSE)))","v":0},{"$f":"IF(Süt!$B23=\"\",\"\",IF(Süt!$C23<=0,\"\",VLOOKUP($P21,$P$98:$CS$631,CQ$30,FALSE)))","v":0},{"$f":"IF(Süt!$B23=\"\",\"\",IF(Süt!$C23<=0,\"\",VLOOKUP($P21,$P$98:$CS$631,CR$30,FALSE)))","v":0},{"$f":"IF(Süt!$B23=\"\",\"\",IF(Süt!$C23<=0,\"\",VLOOKUP($P21,$P$98:$CS$631,CS$30,FALSE)))","v":0},-3,0.216,0.48600000000000021,"MPLact",{"$f":"IF(MilkProd = 0,0,(YProtn / 0.67) * 1000)","v":1156.7164179104477},"g/gün, Laktasyon için metabolik protein ihtiyacı"]
[{"$f":"IF(Süt!A22=\"\",\"\",Süt!A22)","v":""},{"$f":"IF(Süt!B22=\"\",\"\",Süt!B22)","v":""},{"$f":"IF(Süt!C22=\"\",\"\",Süt!C22)","v":""},{"$f":"Süt!D22","v":0},{"$f":"Süt!E22","v":0},{"$f":"Süt!F22","v":0},"NFC, % KM, ençok",{"$f":"NFCmak","v":44},{"$f":"IF(ISERROR(DietaryNFC/TotalDMFed*100)=TRUE,0,DietaryNFC/TotalDMFed*100)","v":36.391064687449656},{"$f":"IF(H22=\"\",\"\",IF(I22>H22,\"FAZLA\",\"TAMAM\"))","v":"TAMAM"},null,null,0,null,0.14250000000000002,{"$f":"IF(Süt!B24=\"\",\"\",IF(Süt!C24<=0,\"\",Süt!B24))","v":"Tuz"},{"$f":"IF(Süt!$B24=\"\",\"\",IF(Süt!$C24<=0,\"\",VLOOKUP($P22,$P$98:$CS$631,Q$30,FALSE)))","v":"6-04-152"},{"$f":"IF(Süt!$B24=\"\",\"\",IF(Süt!$C24<=0,\"\",VLOOKUP($P22,$P$98:$CS$631,R$30,FALSE)))","v":0},{"$f":"IF(Süt!$B24=\"\",\"\",IF(Süt!$C24<=0,\"\",VLOOKUP($P22,$P$98:$CS$631,S$30,FALSE)))","v":0},{"$f":"IF(Süt!$B24=\"\",\"\",IF(Süt!$C24<=0,\"\",VLOOKUP($P22,$P$98:$CS$631,T$30,FALSE)))","v":0},{"$f":"IF(Süt!$B24=\"\",\"\",IF(Süt!$C24<=0,\"\",VLOOKUP($P22,$P$98:$CS$631,U$30,FALSE)))","v":0},{"$f":"IF(Süt!$B24=\"\",\"\",IF(Süt!$C24<=0,\"\",VLOOKUP($P22,$P$98:$CS$631,V$30,FALSE)))","v":0},{"$f":"IF(Süt!$B24=\"\",\"\",IF(Süt!$C24<=0,\"\",VLOOKUP($P22,$P$98:$CS$631,W$30,FALSE)))","v":0},{"$f":"IF(Süt!$B24=\"\",\"\",IF(Süt!$C24<=0,\"\",VLOOKUP($P22,$P$98:$CS$631,X$30,FALSE)))","v":0},{"$f":"IF(Süt!$B24=\"\",\"\",IF(Süt!$C24<=0,\"\",VLOOKUP($P22,$P$98:$CS$631,Y$30,FALSE)))","v":0},{"$f":"IF(Süt!$B24=\"\",\"\",IF(Süt!$C24<=0,\"\",VLOOKUP($P22,$P$98:$CS$631,Z$30,FALSE)))","v":0},{"$f":"IF(Süt!$B24=\"\",\"\",IF(Süt!$C24<=0,\"\",VLOOKUP($P22,$P$98:$CS$631,AA$30,FALSE)))","v":100},{"$f":"IF(Süt!$B24=\"\",\"\",IF(Süt!$C24<=0,\"\",VLOOKUP($P22,$P$98:$CS$631,AB$30,FALSE)))","v":0},{"$f":"IF(Süt!$B24=\"\",\"\",IF(Süt!$C24<=0,\"\",VLOOKUP($P22,$P$98:$CS$631,AC$30,FALSE)))","v":0},{"$f":"IF(Süt!$B24=\"\",\"\",IF(Süt!$C24<=0,\"\",VLOOKUP($P22,$P$98:$CS$631,AD$30,FALSE)))","v":0},{"$f":"IF(Süt!$B24=\"\",\"\",IF(Süt!$C24<=0,\"\",VLOOKUP($P22,$P$98:$CS$631,AE$30,FALSE)))","v":0},{"$f":"IF(Süt!$B24=\"\",\"\",IF(Süt!$C24<=0,\"\",VLOOKUP($P22,$P$98:$CS$631,AF$30,FALSE)))","v":0},{"$f":"IF(Süt!$B24=\"\",\"\",IF(Süt!$C24<=0,\"\",VLOOKUP($P22,$P$98:$CS$631,AG$30,FALSE)))","v":0},{"$f":"IF(Süt!$B24=\"\",\"\",IF(Süt!$C24<=0,\"\",VLOOKUP($P22,$P$98:$CS$631,AH$30,FALSE)))","v":0},{"$f":"IF(Süt!$B24=\"\",\"\",IF(Süt!$C24<=0,\"\",VLOOKUP($P22,$P$98:$CS$631,AI$30,FALSE)))","v":0},{"$f":"IF(Süt!$B24=\"\",\"\",IF(Süt!$C24<=0,\"\",VLOOKUP($P22,$P$98:$CS$631,AJ$30,FALSE)))","v":0},{"$f":"IF(Süt!$B24=\"\",\"\",IF(Süt!$C24<=0,\"\",VLOOKUP($P22,$P$98:$CS$631,AK$30,FALSE)))","v":0},{"$f":"IF(Süt!$B24=\"\",\"\",IF(Süt!$C24<=0,\"\",VLOOKUP($P22,$P$98:$CS$631,AL$30,FALSE)))","v":100},{"$f":"IF(Süt!$B24=\"\",\"\",IF(Süt!$C24<=0,\"\",VLOOKUP($P22,$P$98:$CS$631,AM$30,FALSE)))","v":"Conc"},{"$f":"IF(Süt!$B24=\"\",\"\",IF(Süt!$C24<=0,\"\",VLOOKUP($P22,$P$98:$CS$631,AN$30,FALSE)))","v":"Calf Feed-Vit/Min"},{"$f":"IF(Süt!$B24=\"\",\"\",IF(Süt!$C24<=0,\"\",VLOOKUP($P22,$P$98:$CS$631,AO$30,FALSE)))","v":0.05},{"$f":"IF(Süt!$B24=\"\",\"\",IF(Süt!$C24<=0,\"\",VLOOKUP($P22,$P$98:$CS$631,AP$30,FALSE)))","v":0.1},{"$f":"IF(Süt!$B24=\"\",\"\",IF(Süt!$C24<=0,\"\",VLOOKUP($P22,$P$98:$CS$631,AQ$30,FALSE)))","v":0},{"$f":"IF(Süt!$B24=\"\",\"\",IF(Süt!$C24<=0,\"\",VLOOKUP($P22,$P$98:$CS$631,AR$30,FALSE)))","v":0},{"$f":"IF(Süt!$B24=\"\",\"\",IF(Süt!$C24<=0,\"\",VLOOKUP($P22,$P$98:$CS$631,AS$30,FALSE)))","v":0},{"$f":"IF(Süt!$B24=\"\",\"\",IF(Süt!$C24<=0,\"\",VLOOKUP($P22,$P$98:$CS$631,AT$30,FALSE)))","v":0},{"$f":"IF(Süt!$B24=\"\",\"\",IF(Süt!$C24<=0,\"\",VLOOKUP($P22,$P$98:$CS$631,AU$30,FALSE)))","v":0},{"$f":"IF(Süt!$B24=\"\",\"\",IF(Süt!$C24<=0,\"\",VLOOKUP($P22,$P$98:$CS$631,AV$30,FALSE)))","v":0},{"$f":"IF(Süt!$B24=\"\",\"\",IF(Süt!$C24<=0,\"\",VLOOKUP($P22,$P$98:$CS$631,AW$30,FALSE)))","v":0},{"$f":"IF(Süt!$B24=\"\",\"\",IF(Süt!$C24<=0,\"\",VLOOKUP($P22,$P$98:$CS$631,AX$30,FALSE)))","v":0},{"$f":"IF(Süt!$B24=\"\",\"\",IF(Süt!$C24<=0,\"\",VLOOKUP($P22,$P$98:$CS$631,AY$30,FALSE)))","v":0},{"$f":"IF(Süt!$B24=\"\",\"\",IF(Süt!$C24<=0,\"\",VLOOKUP($P22,$P$98:$CS$631,AZ$30,FALSE)))","v":0},{"$f":"IF(Süt!$B24=\"\",\"\",IF(Süt!$C24<=0,\"\",VLOOKUP($P22,$P$98:$CS$631,BA$30,FALSE)))","v":0},{"$f":"IF(Süt!$B24=\"\",\"\",IF(Süt!$C24<=0,\"\",VLOOKUP($P22,$P$98:$CS$631,BB$30,FALSE)))","v":0},{"$f":"IF(Süt!$B24=\"\",\"\",IF(Süt!$C24<=0,\"\",VLOOKUP($P22,$P$98:$CS$631,BC$30,FALSE)))","v":0},{"$f":"IF(Süt!$B24=\"\",\"\",IF(Süt!$C24<=0,\"\",VLOOKUP($P22,$P$98:$CS$631,BD$30,FALSE)))","v":0},{"$f":"IF(Süt!$B24=\"\",\"\",IF(Süt!$C24<=0,\"\",VLOOKUP($P22,$P$98:$CS$631,BE$30,FALSE)))","v":0},{"$f":"IF(Süt!$B24=\"\",\"\",IF(Süt!$C24<=0,\"\",VLOOKUP($P22,$P$98:$CS$631,BF$30,FALSE)))","v":0},{"$f":"IF(Süt!$B24=\"\",\"\",IF(Süt!$C24<=0,\"\",VLOOKUP($P22,$P$98:$CS$631,BG$30,FALSE)))","v":0},{"$f":"IF(Süt!$B24=\"\",\"\",IF(Süt!$C24<=0,\"\",VLOOKUP($P22,$P$98:$CS$631,BH$30,FALSE)))","v":0},{"$f":"IF(Süt!$B24=\"\",\"\",IF(Süt!$C24<=0,\"\",VLOOKUP($P22,$P$98:$CS$631,BI$30,FALSE)))","v":0},{"$f":"IF(Süt!$B24=\"\",\"\",IF(Süt!$C24<=0,\"\",VLOOKUP($P22,$P$98:$CS$631,BJ$30,FALSE)))","v":0},{"$f":"IF(Süt!$B24=\"\",\"\",IF(Süt!$C24<=0,\"\",VLOOKUP($P22,$P$98:$CS$631,BK$30,FALSE)))","v":0},{"$f":"IF(Süt!$B24=\"\",\"\",IF(Süt!$C24<=0,\"\",VLOOKUP($P22,$P$98:$CS$631,BL$30,FALSE)))","v":1.5},{"$f":"IF(Süt!$B24=\"\",\"\",IF(Süt!$C24<=0,\"\",VLOOKUP($P22,$P$98:$CS$631,BM$30,FALSE)))","v":0},{"$f":"IF(Süt!$B24=\"\",\"\",IF(Süt!$C24<=0,\"\",VLOOKUP($P22,$P$98:$CS$631,BN$30,FALSE)))","v":0.6},{"$f":"IF(Süt!$B24=\"\",\"\",IF(Süt!$C24<=0,\"\",VLOOKUP($P22,$P$98:$CS$631,BO$30,FALSE)))","v":0},{"$f":"IF(Süt!$B24=\"\",\"\",IF(Süt!$C24<=0,\"\",VLOOKUP($P22,$P$98:$CS$631,BP$30,FALSE)))","v":0.7},{"$f":"IF(Süt!$B24=\"\",\"\",IF(Süt!$C24<=0,\"\",VLOOKUP($P22,$P$98:$CS$631,BQ$30,FALSE)))","v":0},{"$f":"IF(Süt!$B24=\"\",\"\",IF(Süt!$C24<=0,\"\",VLOOKUP($P22,$P$98:$CS$631,BR$30,FALSE)))","v":0.16},{"$f":"IF(Süt!$B24=\"\",\"\",IF(Süt!$C24<=0,\"\",VLOOKUP($P22,$P$98:$CS$631,BS$30,FALSE)))","v":0},{"$f":"IF(Süt!$B24=\"\",\"\",IF(Süt!$C24<=0,\"\",VLOOKUP($P22,$P$98:$CS$631,BT$30,FALSE)))","v":0.9},{"$f":"IF(Süt!$B24=\"\",\"\",IF(Süt!$C24<=0,\"\",VLOOKUP($P22,$P$98:$CS$631,BU$30,FALSE)))","v":39.340000000000003},{"$f":"IF(Süt!$B24=\"\",\"\",IF(Süt!$C24<=0,\"\",VLOOKUP($P22,$P$98:$CS$631,BV$30,FALSE)))","v":0.9},{"$f":"IF(Süt!$B24=\"\",\"\",IF(Süt!$C24<=0,\"\",VLOOKUP($P22,$P$98:$CS$631,BW$30,FALSE)))","v":60.66},{"$f":"IF(Süt!$B24=\"\",\"\",IF(Süt!$C24<=0,\"\",VLOOKUP($P22,$P$98:$CS$631,BX$30,FALSE)))","v":0.9},{"$f":"IF(Süt!$B24=\"\",\"\",IF(Süt!$C24<=0,\"\",VLOOKUP($P22,$P$98:$CS$631,BY$30,FALSE)))","v":0},{"$f":"IF(Süt!$B24=\"\",\"\",IF(Süt!$C24<=0,\"\",VLOOKUP($P22,$P$98:$CS$631,BZ$30,FALSE)))","v":1},{"$f":"IF(Süt!$B24=\"\",\"\",IF(Süt!$C24<=0,\"\",VLOOKUP($P22,$P$98:$CS$631,CA$30,FALSE)))","v":0},{"$f":"IF(Süt!$B24=\"\",\"\",IF(Süt!$C24<=0,\"\",VLOOKUP($P22,$P$98:$CS$631,CB$30,FALSE)))","v":1},{"$f":"IF(Süt!$B24=\"\",\"\",IF(Süt!$C24<=0,\"\",VLOOKUP($P22,$P$98:$CS$631,CC$30,FALSE)))","v":0},{"$f":"IF(Süt!$B24=\"\",\"\",IF(Süt!$C24<=0,\"\",VLOOKUP($P22,$P$98:$CS$631,CD$30,FALSE)))","v":0.04},{"$f":"IF(Süt!$B24=\"\",\"\",IF(Süt!$C24<=0,\"\",VLOOKUP($P22,$P$98:$CS$631,CE$30,FALSE)))","v":0},{"$f":"IF(Süt!$B24=\"\",\"\",IF(Süt!$C24<=0,\"\",VLOOKUP($P22,$P$98:$CS$631,CF$30,FALSE)))","v":0.85},{"$f":"IF(Süt!$B24=\"\",\"\",IF(Süt!$C24<=0,\"\",VLOOKUP($P22,$P$98:$CS$631,CG$30,FALSE)))","v":0},{"$f":"IF(Süt!$B24=\"\",\"\",IF(Süt!$C24<=0,\"\",VLOOKUP($P22,$P$98:$CS$631,CH$30,FALSE)))","v":0.1},{"$f":"IF(Süt!$B24=\"\",\"\",IF(Süt!$C24<=0,\"\",VLOOKUP($P22,$P$98:$CS$631,CI$30,FALSE)))","v":0},{"$f":"IF(Süt!$B24=\"\",\"\",IF(Süt!$C24<=0,\"\",VLOOKUP($P22,$P$98:$CS$631,CJ$30,FALSE)))","v":0.01},{"$f":"IF(Süt!$B24=\"\",\"\",IF(Süt!$C24<=0,\"\",VLOOKUP($P22,$P$98:$CS$631,CK$30,FALSE)))","v":0},{"$f":"IF(Süt!$B24=\"\",\"\",IF(Süt!$C24<=0,\"\",VLOOKUP($P22,$P$98:$CS$631,CL$30,FALSE)))","v":1},{"$f":"IF(Süt!$B24=\"\",\"\",IF(Süt!$C24<=0,\"\",VLOOKUP($P22,$P$98:$CS$631,CM$30,FALSE)))","v":0},{"$f":"IF(Süt!$B24=\"\",\"\",IF(Süt!$C24<=0,\"\",VLOOKUP($P22,$P$98:$CS$631,CN$30,FALSE)))","v":0.15},{"$f":"IF(Süt!$B24=\"\",\"\",IF(Süt!$C24<=0,\"\",VLOOKUP($P22,$P$98:$CS$631,CO$30,FALSE)))","v":0},{"$f":"IF(Süt!$B24=\"\",\"\",IF(Süt!$C24<=0,\"\",VLOOKUP($P22,$P$98:$CS$631,CP$30,FALSE)))","v":0},{"$f":"IF(Süt!$B24=\"\",\"\",IF(Süt!$C24<=0,\"\",VLOOKUP($P22,$P$98:$CS$631,CQ$30,FALSE)))","v":0},{"$f":"IF(Süt!$B24=\"\",\"\",IF(Süt!$C24<=0,\"\",VLOOKUP($P22,$P$98:$CS$631,CR$30,FALSE)))","v":0},{"$f":"IF(Süt!$B24=\"\",\"\",IF(Süt!$C24<=0,\"\",VLOOKUP($P22,$P$98:$CS$631,CS$30,FALSE)))","v":0},-4,0.24299999999999999,0.51300000000000023,"FCM",{"$f":"IF(MilkProd = 0,0,(0.4 * MilkProd) + (15 * (MilkFat / 100) * MilkProd))","v":23.875},"kg/gün, yağa göre düzeltilmiş süt verimi",null,null,null,null,null,null,null,null,null,null,"Arazinin durumu"]
[{"$f":"IF(Süt!A23=\"\",\"\",Süt!A23)","v":7},{"$f":"IF(Süt!B23=\"\",\"\",Süt!B23)","v":"Mermer tozu"},{"$f":"IF(Süt!C23=\"\",\"\",Süt!C23)","v":0.04},{"$f":"Süt!D23","v":2},{"$f":"Süt!E23","v":0},{"$f":"Süt!F23","v":0.5},"TSBM, % KM",null,{"$f":"TDNConc","v":66.058141708757717},null,null,null,0.1,null,0.5,{"$f":"IF(Süt!B25=\"\",\"\",IF(Süt!C25<=0,\"\",Süt!B25))","v":"Vit-Min. Kar. (Kavimix  VM 902), 1 kg/ton"},{"$f":"IF(Süt!$B25=\"\",\"\",IF(Süt!$C25<=0,\"\",VLOOKUP($P23,$P$98:$CS$631,Q$30,FALSE)))","v":0},{"$f":"IF(Süt!$B25=\"\",\"\",IF(Süt!$C25<=0,\"\",VLOOKUP($P23,$P$98:$CS$631,R$30,FALSE)))","v":0},{"$f":"IF(Süt!$B25=\"\",\"\",IF(Süt!$C25<=0,\"\",VLOOKUP($P23,$P$98:$CS$631,S$30,FALSE)))","v":0},{"$f":"IF(Süt!$B25=\"\",\"\",IF(Süt!$C25<=0,\"\",VLOOKUP($P23,$P$98:$CS$631,T$30,FALSE)))","v":0},{"$f":"IF(Süt!$B25=\"\",\"\",IF(Süt!$C25<=0,\"\",VLOOKUP($P23,$P$98:$CS$631,U$30,FALSE)))","v":0},{"$f":"IF(Süt!$B25=\"\",\"\",IF(Süt!$C25<=0,\"\",VLOOKUP($P23,$P$98:$CS$631,V$30,FALSE)))","v":0},{"$f":"IF(Süt!$B25=\"\",\"\",IF(Süt!$C25<=0,\"\",VLOOKUP($P23,$P$98:$CS$631,W$30,FALSE)))","v":0},{"$f":"IF(Süt!$B25=\"\",\"\",IF(Süt!$C25<=0,\"\",VLOOKUP($P23,$P$98:$CS$631,X$30,FALSE)))","v":0},{"$f":"IF(Süt!$B25=\"\",\"\",IF(Süt!$C25<=0,\"\",VLOOKUP($P23,$P$98:$CS$631,Y$30,FALSE)))","v":0},{"$f":"IF(Süt!$B25=\"\",\"\",IF(Süt!$C25<=0,\"\",VLOOKUP($P23,$P$98:$CS$631,Z$30,FALSE)))","v":0},{"$f":"IF(Süt!$B25=\"\",\"\",IF(Süt!$C25<=0,\"\",VLOOKUP($P23,$P$98:$CS$631,AA$30,FALSE)))","v":100},{"$f":"IF(Süt!$B25=\"\",\"\",IF(Süt!$C25<=0,\"\",VLOOKUP($P23,$P$98:$CS$631,AB$30,FALSE)))","v":0},{"$f":"IF(Süt!$B25=\"\",\"\",IF(Süt!$C25<=0,\"\",VLOOKUP($P23,$P$98:$CS$631,AC$30,FALSE)))","v":0},{"$f":"IF(Süt!$B25=\"\",\"\",IF(Süt!$C25<=0,\"\",VLOOKUP($P23,$P$98:$CS$631,AD$30,FALSE)))","v":0},{"$f":"IF(Süt!$B25=\"\",\"\",IF(Süt!$C25<=0,\"\",VLOOKUP($P23,$P$98:$CS$631,AE$30,FALSE)))","v":0},{"$f":"IF(Süt!$B25=\"\",\"\",IF(Süt!$C25<=0,\"\",VLOOKUP($P23,$P$98:$CS$631,AF$30,FALSE)))","v":0},{"$f":"IF(Süt!$B25=\"\",\"\",IF(Süt!$C25<=0,\"\",VLOOKUP($P23,$P$98:$CS$631,AG$30,FALSE)))","v":0},{"$f":"IF(Süt!$B25=\"\",\"\",IF(Süt!$C25<=0,\"\",VLOOKUP($P23,$P$98:$CS$631,AH$30,FALSE)))","v":0},{"$f":"IF(Süt!$B25=\"\",\"\",IF(Süt!$C25<=0,\"\",VLOOKUP($P23,$P$98:$CS$631,AI$30,FALSE)))","v":0},{"$f":"IF(Süt!$B25=\"\",\"\",IF(Süt!$C25<=0,\"\",VLOOKUP($P23,$P$98:$CS$631,AJ$30,FALSE)))","v":0},{"$f":"IF(Süt!$B25=\"\",\"\",IF(Süt!$C25<=0,\"\",VLOOKUP($P23,$P$98:$CS$631,AK$30,FALSE)))","v":0},{"$f":"IF(Süt!$B25=\"\",\"\",IF(Süt!$C25<=0,\"\",VLOOKUP($P23,$P$98:$CS$631,AL$30,FALSE)))","v":100},{"$f":"IF(Süt!$B25=\"\",\"\",IF(Süt!$C25<=0,\"\",VLOOKUP($P23,$P$98:$CS$631,AM$30,FALSE)))","v":"Conc"},{"$f":"IF(Süt!$B25=\"\",\"\",IF(Süt!$C25<=0,\"\",VLOOKUP($P23,$P$98:$CS$631,AN$30,FALSE)))","v":"Calf Feed-Vit/Min"},{"$f":"IF(Süt!$B25=\"\",\"\",IF(Süt!$C25<=0,\"\",VLOOKUP($P23,$P$98:$CS$631,AO$30,FALSE)))","v":0.01},{"$f":"IF(Süt!$B25=\"\",\"\",IF(Süt!$C25<=0,\"\",VLOOKUP($P23,$P$98:$CS$631,AP$30,FALSE)))","v":0.05},{"$f":"IF(Süt!$B25=\"\",\"\",IF(Süt!$C25<=0,\"\",VLOOKUP($P23,$P$98:$CS$631,AQ$30,FALSE)))","v":0},{"$f":"IF(Süt!$B25=\"\",\"\",IF(Süt!$C25<=0,\"\",VLOOKUP($P23,$P$98:$CS$631,AR$30,FALSE)))","v":0},{"$f":"IF(Süt!$B25=\"\",\"\",IF(Süt!$C25<=0,\"\",VLOOKUP($P23,$P$98:$CS$631,AS$30,FALSE)))","v":0},{"$f":"IF(Süt!$B25=\"\",\"\",IF(Süt!$C25<=0,\"\",VLOOKUP($P23,$P$98:$CS$631,AT$30,FALSE)))","v":0},{"$f":"IF(Süt!$B25=\"\",\"\",IF(Süt!$C25<=0,\"\",VLOOKUP($P23,$P$98:$CS$631,AU$30,FALSE)))","v":0},{"$f":"IF(Süt!$B25=\"\",\"\",IF(Süt!$C25<=0,\"\",VLOOKUP($P23,$P$98:$CS$631,AV$30,FALSE)))","v":0},{"$f":"IF(Süt!$B25=\"\",\"\",IF(Süt!$C25<=0,\"\",VLOOKUP($P23,$P$98:$CS$631,AW$30,FALSE)))","v":0},{"$f":"IF(Süt!$B25=\"\",\"\",IF(Süt!$C25<=0,\"\",VLOOKUP($P23,$P$98:$CS$631,AX$30,FALSE)))","v":0},{"$f":"IF(Süt!$B25=\"\",\"\",IF(Süt!$C25<=0,\"\",VLOOKUP($P23,$P$98:$CS$631,AY$30,FALSE)))","v":0},{"$f":"IF(Süt!$B25=\"\",\"\",IF(Süt!$C25<=0,\"\",VLOOKUP($P23,$P$98:$CS$631,AZ$30,FALSE)))","v":0},{"$f":"IF(Süt!$B25=\"\",\"\",IF(Süt!$C25<=0,\"\",VLOOKUP($P23,$P$98:$CS$631,BA$30,FALSE)))","v":0},{"$f":"IF(Süt!$B25=\"\",\"\",IF(Süt!$C25<=0,\"\",VLOOKUP($P23,$P$98:$CS$631,BB$30,FALSE)))","v":0},{"$f":"IF(Süt!$B25=\"\",\"\",IF(Süt!$C25<=0,\"\",VLOOKUP($P23,$P$98:$CS$631,BC$30,FALSE)))","v":0},{"$f":"IF(Süt!$B25=\"\",\"\",IF(Süt!$C25<=0,\"\",VLOOKUP($P23,$P$98:$CS$631,BD$30,FALSE)))","v":0},{"$f":"IF(Süt!$B25=\"\",\"\",IF(Süt!$C25<=0,\"\",VLOOKUP($P23,$P$98:$CS$631,BE$30,FALSE)))","v":0},{"$f":"IF(Süt!$B25=\"\",\"\",IF(Süt!$C25<=0,\"\",VLOOKUP($P23,$P$98:$CS$631,BF$30,FALSE)))","v":0},{"$f":"IF(Süt!$B25=\"\",\"\",IF(Süt!$C25<=0,\"\",VLOOKUP($P23,$P$98:$CS$631,BG$30,FALSE)))","v":0},{"$f":"IF(Süt!$B25=\"\",\"\",IF(Süt!$C25<=0,\"\",VLOOKUP($P23,$P$98:$CS$631,BH$30,FALSE)))","v":0},{"$f":"IF(Süt!$B25=\"\",\"\",IF(Süt!$C25<=0,\"\",VLOOKUP($P23,$P$98:$CS$631,BI$30,FALSE)))","v":0},{"$f":"IF(Süt!$B25=\"\",\"\",IF(Süt!$C25<=0,\"\",VLOOKUP($P23,$P$98:$CS$631,BJ$30,FALSE)))","v":0},{"$f":"IF(Süt!$B25=\"\",\"\",IF(Süt!$C25<=0,\"\",VLOOKUP($P23,$P$98:$CS$631,BK$30,FALSE)))","v":0},{"$f":"IF(Süt!$B25=\"\",\"\",IF(Süt!$C25<=0,\"\",VLOOKUP($P23,$P$98:$CS$631,BL$30,FALSE)))","v":25},{"$f":"IF(Süt!$B25=\"\",\"\",IF(Süt!$C25<=0,\"\",VLOOKUP($P23,$P$98:$CS$631,BM$30,FALSE)))","v":0},{"$f":"IF(Süt!$B25=\"\",\"\",IF(Süt!$C25<=0,\"\",VLOOKUP($P23,$P$98:$CS$631,BN$30,FALSE)))","v":0.6},{"$f":"IF(Süt!$B25=\"\",\"\",IF(Süt!$C25<=0,\"\",VLOOKUP($P23,$P$98:$CS$631,BO$30,FALSE)))","v":0},{"$f":"IF(Süt!$B25=\"\",\"\",IF(Süt!$C25<=0,\"\",VLOOKUP($P23,$P$98:$CS$631,BP$30,FALSE)))","v":0.7},{"$f":"IF(Süt!$B25=\"\",\"\",IF(Süt!$C25<=0,\"\",VLOOKUP($P23,$P$98:$CS$631,BQ$30,FALSE)))","v":0},{"$f":"IF(Süt!$B25=\"\",\"\",IF(Süt!$C25<=0,\"\",VLOOKUP($P23,$P$98:$CS$631,BR$30,FALSE)))","v":0.16},{"$f":"IF(Süt!$B25=\"\",\"\",IF(Süt!$C25<=0,\"\",VLOOKUP($P23,$P$98:$CS$631,BS$30,FALSE)))","v":0},{"$f":"IF(Süt!$B25=\"\",\"\",IF(Süt!$C25<=0,\"\",VLOOKUP($P23,$P$98:$CS$631,BT$30,FALSE)))","v":0},{"$f":"IF(Süt!$B25=\"\",\"\",IF(Süt!$C25<=0,\"\",VLOOKUP($P23,$P$98:$CS$631,BU$30,FALSE)))","v":0},{"$f":"IF(Süt!$B25=\"\",\"\",IF(Süt!$C25<=0,\"\",VLOOKUP($P23,$P$98:$CS$631,BV$30,FALSE)))","v":0.9},{"$f":"IF(Süt!$B25=\"\",\"\",IF(Süt!$C25<=0,\"\",VLOOKUP($P23,$P$98:$CS$631,BW$30,FALSE)))","v":0},{"$f":"IF(Süt!$B25=\"\",\"\",IF(Süt!$C25<=0,\"\",VLOOKUP($P23,$P$98:$CS$631,BX$30,FALSE)))","v":0},{"$f":"IF(Süt!$B25=\"\",\"\",IF(Süt!$C25<=0,\"\",VLOOKUP($P23,$P$98:$CS$631,BY$30,FALSE)))","v":0},{"$f":"IF(Süt!$B25=\"\",\"\",IF(Süt!$C25<=0,\"\",VLOOKUP($P23,$P$98:$CS$631,BZ$30,FALSE)))","v":0},{"$f":"IF(Süt!$B25=\"\",\"\",IF(Süt!$C25<=0,\"\",VLOOKUP($P23,$P$98:$CS$631,CA$30,FALSE)))","v":150},{"$f":"IF(Süt!$B25=\"\",\"\",IF(Süt!$C25<=0,\"\",VLOOKUP($P23,$P$98:$CS$631,CB$30,FALSE)))","v":1},{"$f":"IF(Süt!$B25=\"\",\"\",IF(Süt!$C25<=0,\"\",VLOOKUP($P23,$P$98:$CS$631,CC$30,FALSE)))","v":10000},{"$f":"IF(Süt!$B25=\"\",\"\",IF(Süt!$C25<=0,\"\",VLOOKUP($P23,$P$98:$CS$631,CD$30,FALSE)))","v":0.04},{"$f":"IF(Süt!$B25=\"\",\"\",IF(Süt!$C25<=0,\"\",VLOOKUP($P23,$P$98:$CS$631,CE$30,FALSE)))","v":800},{"$f":"IF(Süt!$B25=\"\",\"\",IF(Süt!$C25<=0,\"\",VLOOKUP($P23,$P$98:$CS$631,CF$30,FALSE)))","v":0.85},{"$f":"IF(Süt!$B25=\"\",\"\",IF(Süt!$C25<=0,\"\",VLOOKUP($P23,$P$98:$CS$631,CG$30,FALSE)))","v":50000},{"$f":"IF(Süt!$B25=\"\",\"\",IF(Süt!$C25<=0,\"\",VLOOKUP($P23,$P$98:$CS$631,CH$30,FALSE)))","v":0.1},{"$f":"IF(Süt!$B25=\"\",\"\",IF(Süt!$C25<=0,\"\",VLOOKUP($P23,$P$98:$CS$631,CI$30,FALSE)))","v":50000},{"$f":"IF(Süt!$B25=\"\",\"\",IF(Süt!$C25<=0,\"\",VLOOKUP($P23,$P$98:$CS$631,CJ$30,FALSE)))","v":0.01},{"$f":"IF(Süt!$B25=\"\",\"\",IF(Süt!$C25<=0,\"\",VLOOKUP($P23,$P$98:$CS$631,CK$30,FALSE)))","v":150},{"$f":"IF(Süt!$B25=\"\",\"\",IF(Süt!$C25<=0,\"\",VLOOKUP($P23,$P$98:$CS$631,CL$30,FALSE)))","v":1},{"$f":"IF(Süt!$B25=\"\",\"\",IF(Süt!$C25<=0,\"\",VLOOKUP($P23,$P$98:$CS$631,CM$30,FALSE)))","v":50000},{"$f":"IF(Süt!$B25=\"\",\"\",IF(Süt!$C25<=0,\"\",VLOOKUP($P23,$P$98:$CS$631,CN$30,FALSE)))","v":0.15},{"$f":"IF(Süt!$B25=\"\",\"\",IF(Süt!$C25<=0,\"\",VLOOKUP($P23,$P$98:$CS$631,CO$30,FALSE)))","v":0},{"$f":"IF(Süt!$B25=\"\",\"\",IF(Süt!$C25<=0,\"\",VLOOKUP($P23,$P$98:$CS$631,CP$30,FALSE)))","v":0},{"$f":"IF(Süt!$B25=\"\",\"\",IF(Süt!$C25<=0,\"\",VLOOKUP($P23,$P$98:$CS$631,CQ$30,FALSE)))","v":15000},{"$f":"IF(Süt!$B25=\"\",\"\",IF(Süt!$C25<=0,\"\",VLOOKUP($P23,$P$98:$CS$631,CR$30,FALSE)))","v":3000},{"$f":"IF(Süt!$B25=\"\",\"\",IF(Süt!$C25<=0,\"\",VLOOKUP($P23,$P$98:$CS$631,CS$30,FALSE)))","v":30000},-5,0.27,0.54,"Damızlık dişiler için Hedef ağırlıklar ve CAA",null,null,null,null,null,null,null,null,null,null,null,null,"Düz arazi"]
[{"$f":"IF(Süt!A24=\"\",\"\",Süt!A24)","v":7},{"$f":"IF(Süt!B24=\"\",\"\",Süt!B24)","v":"Tuz"},{"$f":"IF(Süt!C24=\"\",\"\",Süt!C24)","v":9.5000000000000001E-2},{"$f":"Süt!D24","v":1.5},{"$f":"Süt!E24","v":0.05},{"$f":"Süt!F24","v":0.1},"Katyon-Anyon, meq/kg",{"$f":"IF(AnimalType=\"Kurudaki İnek\",IF(DaysPreg>264,\"Negatif\",\"\"),\"\")","v":""},{"$f":"DCAD/1000","v":160.7261866958558},null,null,null,2.7E-2,null,"",{"$f":"IF(Süt!B26=\"\",\"\",IF(Süt!C26<=0,\"\",Süt!B26))","v":""},{"$f":"IF(Süt!$B26=\"\",\"\",IF(Süt!$C26<=0,\"\",VLOOKUP($P24,$P$98:$CS$631,Q$30,FALSE)))","v":""},{"$f":"IF(Süt!$B26=\"\",\"\",IF(Süt!$C26<=0,\"\",VLOOKUP($P24,$P$98:$CS$631,R$30,FALSE)))","v":""},{"$f":"IF(Süt!$B26=\"\",\"\",IF(Süt!$C26<=0,\"\",VLOOKUP($P24,$P$98:$CS$631,S$30,FALSE)))","v":""},{"$f":"IF(Süt!$B26=\"\",\"\",IF(Süt!$C26<=0,\"\",VLOOKUP($P24,$P$98:$CS$631,T$30,FALSE)))","v":""},{"$f":"IF(Süt!$B26=\"\",\"\",IF(Süt!$C26<=0,\"\",VLOOKUP($P24,$P$98:$CS$631,U$30,FALSE)))","v":""},{"$f":"IF(Süt!$B26=\"\",\"\",IF(Süt!$C26<=0,\"\",VLOOKUP($P24,$P$98:$CS$631,V$30,FALSE)))","v":""},{"$f":"IF(Süt!$B26=\"\",\"\",IF(Süt!$C26<=0,\"\",VLOOKUP($P24,$P$98:$CS$631,W$30,FALSE)))","v":""},{"$f":"IF(Süt!$B26=\"\",\"\",IF(Süt!$C26<=0,\"\",VLOOKUP($P24,$P$98:$CS$631,X$30,FALSE)))","v":""},{"$f":"IF(Süt!$B26=\"\",\"\",IF(Süt!$C26<=0,\"\",VLOOKUP($P24,$P$98:$CS$631,Y$30,FALSE)))","v":""},{"$f":"IF(Süt!$B26=\"\",\"\",IF(Süt!$C26<=0,\"\",VLOOKUP($P24,$P$98:$CS$631,Z$30,FALSE)))","v":""},{"$f":"IF(Süt!$B26=\"\",\"\",IF(Süt!$C26<=0,\"\",VLOOKUP($P24,$P$98:$CS$631,AA$30,FALSE)))","v":""},{"$f":"IF(Süt!$B26=\"\",\"\",IF(Süt!$C26<=0,\"\",VLOOKUP($P24,$P$98:$CS$631,AB$30,FALSE)))","v":""},{"$f":"IF(Süt!$B26=\"\",\"\",IF(Süt!$C26<=0,\"\",VLOOKUP($P24,$P$98:$CS$631,AC$30,FALSE)))","v":""},{"$f":"IF(Süt!$B26=\"\",\"\",IF(Süt!$C26<=0,\"\",VLOOKUP($P24,$P$98:$CS$631,AD$30,FALSE)))","v":""},{"$f":"IF(Süt!$B26=\"\",\"\",IF(Süt!$C26<=0,\"\",VLOOKUP($P24,$P$98:$CS$631,AE$30,FALSE)))","v":""},{"$f":"IF(Süt!$B26=\"\",\"\",IF(Süt!$C26<=0,\"\",VLOOKUP($P24,$P$98:$CS$631,AF$30,FALSE)))","v":""},{"$f":"IF(Süt!$B26=\"\",\"\",IF(Süt!$C26<=0,\"\",VLOOKUP($P24,$P$98:$CS$631,AG$30,FALSE)))","v":""},{"$f":"IF(Süt!$B26=\"\",\"\",IF(Süt!$C26<=0,\"\",VLOOKUP($P24,$P$98:$CS$631,AH$30,FALSE)))","v":""},{"$f":"IF(Süt!$B26=\"\",\"\",IF(Süt!$C26<=0,\"\",VLOOKUP($P24,$P$98:$CS$631,AI$30,FALSE)))","v":""},{"$f":"IF(Süt!$B26=\"\",\"\",IF(Süt!$C26<=0,\"\",VLOOKUP($P24,$P$98:$CS$631,AJ$30,FALSE)))","v":""},{"$f":"IF(Süt!$B26=\"\",\"\",IF(Süt!$C26<=0,\"\",VLOOKUP($P24,$P$98:$CS$631,AK$30,FALSE)))","v":""},{"$f":"IF(Süt!$B26=\"\",\"\",IF(Süt!$C26<=0,\"\",VLOOKUP($P24,$P$98:$CS$631,AL$30,FALSE)))","v":""},{"$f":"IF(Süt!$B26=\"\",\"\",IF(Süt!$C26<=0,\"\",VLOOKUP($P24,$P$98:$CS$631,AM$30,FALSE)))","v":""},{"$f":"IF(Süt!$B26=\"\",\"\",IF(Süt!$C26<=0,\"\",VLOOKUP($P24,$P$98:$CS$631,AN$30,FALSE)))","v":""},{"$f":"IF(Süt!$B26=\"\",\"\",IF(Süt!$C26<=0,\"\",VLOOKUP($P24,$P$98:$CS$631,AO$30,FALSE)))","v":""},{"$f":"IF(Süt!$B26=\"\",\"\",IF(Süt!$C26<=0,\"\",VLOOKUP($P24,$P$98:$CS$631,AP$30,FALSE)))","v":""},{"$f":"IF(Süt!$B26=\"\",\"\",IF(Süt!$C26<=0,\"\",VLOOKUP($P24,$P$98:$CS$631,AQ$30,FALSE)))","v":""},{"$f":"IF(Süt!$B26=\"\",\"\",IF(Süt!$C26<=0,\"\",VLOOKUP($P24,$P$98:$CS$631,AR$30,FALSE)))","v":""},{"$f":"IF(Süt!$B26=\"\",\"\",IF(Süt!$C26<=0,\"\",VLOOKUP($P24,$P$98:$CS$631,AS$30,FALSE)))","v":""},{"$f":"IF(Süt!$B26=\"\",\"\",IF(Süt!$C26<=0,\"\",VLOOKUP($P24,$P$98:$CS$631,AT$30,FALSE)))","v":""},{"$f":"IF(Süt!$B26=\"\",\"\",IF(Süt!$C26<=0,\"\",VLOOKUP($P24,$P$98:$CS$631,AU$30,FALSE)))","v":""},{"$f":"IF(Süt!$B26=\"\",\"\",IF(Süt!$C26<=0,\"\",VLOOKUP($P24,$P$98:$CS$631,AV$30,FALSE)))","v":""},{"$f":"IF(Süt!$B26=\"\",\"\",IF(Süt!$C26<=0,\"\",VLOOKUP($P24,$P$98:$CS$631,AW$30,FALSE)))","v":""},{"$f":"IF(Süt!$B26=\"\",\"\",IF(Süt!$C26<=0,\"\",VLOOKUP($P24,$P$98:$CS$631,AX$30,FALSE)))","v":""},{"$f":"IF(Süt!$B26=\"\",\"\",IF(Süt!$C26<=0,\"\",VLOOKUP($P24,$P$98:$CS$631,AY$30,FALSE)))","v":""},{"$f":"IF(Süt!$B26=\"\",\"\",IF(Süt!$C26<=0,\"\",VLOOKUP($P24,$P$98:$CS$631,AZ$30,FALSE)))","v":""},{"$f":"IF(Süt!$B26=\"\",\"\",IF(Süt!$C26<=0,\"\",VLOOKUP($P24,$P$98:$CS$631,BA$30,FALSE)))","v":""},{"$f":"IF(Süt!$B26=\"\",\"\",IF(Süt!$C26<=0,\"\",VLOOKUP($P24,$P$98:$CS$631,BB$30,FALSE)))","v":""},{"$f":"IF(Süt!$B26=\"\",\"\",IF(Süt!$C26<=0,\"\",VLOOKUP($P24,$P$98:$CS$631,BC$30,FALSE)))","v":""},{"$f":"IF(Süt!$B26=\"\",\"\",IF(Süt!$C26<=0,\"\",VLOOKUP($P24,$P$98:$CS$631,BD$30,FALSE)))","v":""},{"$f":"IF(Süt!$B26=\"\",\"\",IF(Süt!$C26<=0,\"\",VLOOKUP($P24,$P$98:$CS$631,BE$30,FALSE)))","v":""},{"$f":"IF(Süt!$B26=\"\",\"\",IF(Süt!$C26<=0,\"\",VLOOKUP($P24,$P$98:$CS$631,BF$30,FALSE)))","v":""},{"$f":"IF(Süt!$B26=\"\",\"\",IF(Süt!$C26<=0,\"\",VLOOKUP($P24,$P$98:$CS$631,BG$30,FALSE)))","v":""},{"$f":"IF(Süt!$B26=\"\",\"\",IF(Süt!$C26<=0,\"\",VLOOKUP($P24,$P$98:$CS$631,BH$30,FALSE)))","v":""},{"$f":"IF(Süt!$B26=\"\",\"\",IF(Süt!$C26<=0,\"\",VLOOKUP($P24,$P$98:$CS$631,BI$30,FALSE)))","v":""},{"$f":"IF(Süt!$B26=\"\",\"\",IF(Süt!$C26<=0,\"\",VLOOKUP($P24,$P$98:$CS$631,BJ$30,FALSE)))","v":""},{"$f":"IF(Süt!$B26=\"\",\"\",IF(Süt!$C26<=0,\"\",VLOOKUP($P24,$P$98:$CS$631,BK$30,FALSE)))","v":""},{"$f":"IF(Süt!$B26=\"\",\"\",IF(Süt!$C26<=0,\"\",VLOOKUP($P24,$P$98:$CS$631,BL$30,FALSE)))","v":""},{"$f":"IF(Süt!$B26=\"\",\"\",IF(Süt!$C26<=0,\"\",VLOOKUP($P24,$P$98:$CS$631,BM$30,FALSE)))","v":""},{"$f":"IF(Süt!$B26=\"\",\"\",IF(Süt!$C26<=0,\"\",VLOOKUP($P24,$P$98:$CS$631,BN$30,FALSE)))","v":""},{"$f":"IF(Süt!$B26=\"\",\"\",IF(Süt!$C26<=0,\"\",VLOOKUP($P24,$P$98:$CS$631,BO$30,FALSE)))","v":""},{"$f":"IF(Süt!$B26=\"\",\"\",IF(Süt!$C26<=0,\"\",VLOOKUP($P24,$P$98:$CS$631,BP$30,FALSE)))","v":""},{"$f":"IF(Süt!$B26=\"\",\"\",IF(Süt!$C26<=0,\"\",VLOOKUP($P24,$P$98:$CS$631,BQ$30,FALSE)))","v":""},{"$f":"IF(Süt!$B26=\"\",\"\",IF(Süt!$C26<=0,\"\",VLOOKUP($P24,$P$98:$CS$631,BR$30,FALSE)))","v":""},{"$f":"IF(Süt!$B26=\"\",\"\",IF(Süt!$C26<=0,\"\",VLOOKUP($P24,$P$98:$CS$631,BS$30,FALSE)))","v":""},{"$f":"IF(Süt!$B26=\"\",\"\",IF(Süt!$C26<=0,\"\",VLOOKUP($P24,$P$98:$CS$631,BT$30,FALSE)))","v":""},{"$f":"IF(Süt!$B26=\"\",\"\",IF(Süt!$C26<=0,\"\",VLOOKUP($P24,$P$98:$CS$631,BU$30,FALSE)))","v":""},{"$f":"IF(Süt!$B26=\"\",\"\",IF(Süt!$C26<=0,\"\",VLOOKUP($P24,$P$98:$CS$631,BV$30,FALSE)))","v":""},{"$f":"IF(Süt!$B26=\"\",\"\",IF(Süt!$C26<=0,\"\",VLOOKUP($P24,$P$98:$CS$631,BW$30,FALSE)))","v":""},{"$f":"IF(Süt!$B26=\"\",\"\",IF(Süt!$C26<=0,\"\",VLOOKUP($P24,$P$98:$CS$631,BX$30,FALSE)))","v":""},{"$f":"IF(Süt!$B26=\"\",\"\",IF(Süt!$C26<=0,\"\",VLOOKUP($P24,$P$98:$CS$631,BY$30,FALSE)))","v":""},{"$f":"IF(Süt!$B26=\"\",\"\",IF(Süt!$C26<=0,\"\",VLOOKUP($P24,$P$98:$CS$631,BZ$30,FALSE)))","v":""},{"$f":"IF(Süt!$B26=\"\",\"\",IF(Süt!$C26<=0,\"\",VLOOKUP($P24,$P$98:$CS$631,CA$30,FALSE)))","v":""},{"$f":"IF(Süt!$B26=\"\",\"\",IF(Süt!$C26<=0,\"\",VLOOKUP($P24,$P$98:$CS$631,CB$30,FALSE)))","v":""},{"$f":"IF(Süt!$B26=\"\",\"\",IF(Süt!$C26<=0,\"\",VLOOKUP($P24,$P$98:$CS$631,CC$30,FALSE)))","v":""},{"$f":"IF(Süt!$B26=\"\",\"\",IF(Süt!$C26<=0,\"\",VLOOKUP($P24,$P$98:$CS$631,CD$30,FALSE)))","v":""},{"$f":"IF(Süt!$B26=\"\",\"\",IF(Süt!$C26<=0,\"\",VLOOKUP($P24,$P$98:$CS$631,CE$30,FALSE)))","v":""},{"$f":"IF(Süt!$B26=\"\",\"\",IF(Süt!$C26<=0,\"\",VLOOKUP($P24,$P$98:$CS$631,CF$30,FALSE)))","v":""},{"$f":"IF(Süt!$B26=\"\",\"\",IF(Süt!$C26<=0,\"\",VLOOKUP($P24,$P$98:$CS$631,CG$30,FALSE)))","v":""},{"$f":"IF(Süt!$B26=\"\",\"\",IF(Süt!$C26<=0,\"\",VLOOKUP($P24,$P$98:$CS$631,CH$30,FALSE)))","v":""},{"$f":"IF(Süt!$B26=\"\",\"\",IF(Süt!$C26<=0,\"\",VLOOKUP($P24,$P$98:$CS$631,CI$30,FALSE)))","v":""},{"$f":"IF(Süt!$B26=\"\",\"\",IF(Süt!$C26<=0,\"\",VLOOKUP($P24,$P$98:$CS$631,CJ$30,FALSE)))","v":""},{"$f":"IF(Süt!$B26=\"\",\"\",IF(Süt!$C26<=0,\"\",VLOOKUP($P24,$P$98:$CS$631,CK$30,FALSE)))","v":""},{"$f":"IF(Süt!$B26=\"\",\"\",IF(Süt!$C26<=0,\"\",VLOOKUP($P24,$P$98:$CS$631,CL$30,FALSE)))","v":""},{"$f":"IF(Süt!$B26=\"\",\"\",IF(Süt!$C26<=0,\"\",VLOOKUP($P24,$P$98:$CS$631,CM$30,FALSE)))","v":""},{"$f":"IF(Süt!$B26=\"\",\"\",IF(Süt!$C26<=0,\"\",VLOOKUP($P24,$P$98:$CS$631,CN$30,FALSE)))","v":""},{"$f":"IF(Süt!$B26=\"\",\"\",IF(Süt!$C26<=0,\"\",VLOOKUP($P24,$P$98:$CS$631,CO$30,FALSE)))","v":""},{"$f":"IF(Süt!$B26=\"\",\"\",IF(Süt!$C26<=0,\"\",VLOOKUP($P24,$P$98:$CS$631,CP$30,FALSE)))","v":""},{"$f":"IF(Süt!$B26=\"\",\"\",IF(Süt!$C26<=0,\"\",VLOOKUP($P24,$P$98:$CS$631,CQ$30,FALSE)))","v":""},{"$f":"IF(Süt!$B26=\"\",\"\",IF(Süt!$C26<=0,\"\",VLOOKUP($P24,$P$98:$CS$631,CR$30,FALSE)))","v":""},{"$f":"IF(Süt!$B26=\"\",\"\",IF(Süt!$C26<=0,\"\",VLOOKUP($P24,$P$98:$CS$631,CS$30,FALSE)))","v":""},-6,0.29700000000000004,0.56700000000000028,"Age2nd",{"$f":" FirstCalf + CalfInt","v":36},"ay, İkinci buzağılama yaşı",null,null,null,null,null,null,null,null,null,null,"Engebeli"]
[{"$f":"IF(Süt!A25=\"\",\"\",Süt!A25)","v":7},{"$f":"IF(Süt!B25=\"\",\"\",Süt!B25)","v":"Vit-Min. Kar. (Kavimix  VM 902), 1 kg/ton"},{"$f":"IF(Süt!C25=\"\",\"\",Süt!C25)","v":0.02},{"$f":"Süt!D25","v":25},{"$f":"Süt!E25","v":0.01},{"$f":"Süt!F25","v":0.05},"1 KS için gerekli gün",null,{"$f":"DaysToChange","v":538.95412018345621},null,null,null,0,null,"",{"$f":"IF(Süt!B27=\"\",\"\",IF(Süt!C27<=0,\"\",Süt!B27))","v":""},{"$f":"IF(Süt!$B27=\"\",\"\",IF(Süt!$C27<=0,\"\",VLOOKUP($P25,$P$98:$CS$631,Q$30,FALSE)))","v":""},{"$f":"IF(Süt!$B27=\"\",\"\",IF(Süt!$C27<=0,\"\",VLOOKUP($P25,$P$98:$CS$631,R$30,FALSE)))","v":""},{"$f":"IF(Süt!$B27=\"\",\"\",IF(Süt!$C27<=0,\"\",VLOOKUP($P25,$P$98:$CS$631,S$30,FALSE)))","v":""},{"$f":"IF(Süt!$B27=\"\",\"\",IF(Süt!$C27<=0,\"\",VLOOKUP($P25,$P$98:$CS$631,T$30,FALSE)))","v":""},{"$f":"IF(Süt!$B27=\"\",\"\",IF(Süt!$C27<=0,\"\",VLOOKUP($P25,$P$98:$CS$631,U$30,FALSE)))","v":""},{"$f":"IF(Süt!$B27=\"\",\"\",IF(Süt!$C27<=0,\"\",VLOOKUP($P25,$P$98:$CS$631,V$30,FALSE)))","v":""},{"$f":"IF(Süt!$B27=\"\",\"\",IF(Süt!$C27<=0,\"\",VLOOKUP($P25,$P$98:$CS$631,W$30,FALSE)))","v":""},{"$f":"IF(Süt!$B27=\"\",\"\",IF(Süt!$C27<=0,\"\",VLOOKUP($P25,$P$98:$CS$631,X$30,FALSE)))","v":""},{"$f":"IF(Süt!$B27=\"\",\"\",IF(Süt!$C27<=0,\"\",VLOOKUP($P25,$P$98:$CS$631,Y$30,FALSE)))","v":""},{"$f":"IF(Süt!$B27=\"\",\"\",IF(Süt!$C27<=0,\"\",VLOOKUP($P25,$P$98:$CS$631,Z$30,FALSE)))","v":""},{"$f":"IF(Süt!$B27=\"\",\"\",IF(Süt!$C27<=0,\"\",VLOOKUP($P25,$P$98:$CS$631,AA$30,FALSE)))","v":""},{"$f":"IF(Süt!$B27=\"\",\"\",IF(Süt!$C27<=0,\"\",VLOOKUP($P25,$P$98:$CS$631,AB$30,FALSE)))","v":""},{"$f":"IF(Süt!$B27=\"\",\"\",IF(Süt!$C27<=0,\"\",VLOOKUP($P25,$P$98:$CS$631,AC$30,FALSE)))","v":""},{"$f":"IF(Süt!$B27=\"\",\"\",IF(Süt!$C27<=0,\"\",VLOOKUP($P25,$P$98:$CS$631,AD$30,FALSE)))","v":""},{"$f":"IF(Süt!$B27=\"\",\"\",IF(Süt!$C27<=0,\"\",VLOOKUP($P25,$P$98:$CS$631,AE$30,FALSE)))","v":""},{"$f":"IF(Süt!$B27=\"\",\"\",IF(Süt!$C27<=0,\"\",VLOOKUP($P25,$P$98:$CS$631,AF$30,FALSE)))","v":""},{"$f":"IF(Süt!$B27=\"\",\"\",IF(Süt!$C27<=0,\"\",VLOOKUP($P25,$P$98:$CS$631,AG$30,FALSE)))","v":""},{"$f":"IF(Süt!$B27=\"\",\"\",IF(Süt!$C27<=0,\"\",VLOOKUP($P25,$P$98:$CS$631,AH$30,FALSE)))","v":""},{"$f":"IF(Süt!$B27=\"\",\"\",IF(Süt!$C27<=0,\"\",VLOOKUP($P25,$P$98:$CS$631,AI$30,FALSE)))","v":""},{"$f":"IF(Süt!$B27=\"\",\"\",IF(Süt!$C27<=0,\"\",VLOOKUP($P25,$P$98:$CS$631,AJ$30,FALSE)))","v":""},{"$f":"IF(Süt!$B27=\"\",\"\",IF(Süt!$C27<=0,\"\",VLOOKUP($P25,$P$98:$CS$631,AK$30,FALSE)))","v":""},{"$f":"IF(Süt!$B27=\"\",\"\",IF(Süt!$C27<=0,\"\",VLOOKUP($P25,$P$98:$CS$631,AL$30,FALSE)))","v":""},{"$f":"IF(Süt!$B27=\"\",\"\",IF(Süt!$C27<=0,\"\",VLOOKUP($P25,$P$98:$CS$631,AM$30,FALSE)))","v":""},{"$f":"IF(Süt!$B27=\"\",\"\",IF(Süt!$C27<=0,\"\",VLOOKUP($P25,$P$98:$CS$631,AN$30,FALSE)))","v":""},{"$f":"IF(Süt!$B27=\"\",\"\",IF(Süt!$C27<=0,\"\",VLOOKUP($P25,$P$98:$CS$631,AO$30,FALSE)))","v":""},{"$f":"IF(Süt!$B27=\"\",\"\",IF(Süt!$C27<=0,\"\",VLOOKUP($P25,$P$98:$CS$631,AP$30,FALSE)))","v":""},{"$f":"IF(Süt!$B27=\"\",\"\",IF(Süt!$C27<=0,\"\",VLOOKUP($P25,$P$98:$CS$631,AQ$30,FALSE)))","v":""},{"$f":"IF(Süt!$B27=\"\",\"\",IF(Süt!$C27<=0,\"\",VLOOKUP($P25,$P$98:$CS$631,AR$30,FALSE)))","v":""},{"$f":"IF(Süt!$B27=\"\",\"\",IF(Süt!$C27<=0,\"\",VLOOKUP($P25,$P$98:$CS$631,AS$30,FALSE)))","v":""},{"$f":"IF(Süt!$B27=\"\",\"\",IF(Süt!$C27<=0,\"\",VLOOKUP($P25,$P$98:$CS$631,AT$30,FALSE)))","v":""},{"$f":"IF(Süt!$B27=\"\",\"\",IF(Süt!$C27<=0,\"\",VLOOKUP($P25,$P$98:$CS$631,AU$30,FALSE)))","v":""},{"$f":"IF(Süt!$B27=\"\",\"\",IF(Süt!$C27<=0,\"\",VLOOKUP($P25,$P$98:$CS$631,AV$30,FALSE)))","v":""},{"$f":"IF(Süt!$B27=\"\",\"\",IF(Süt!$C27<=0,\"\",VLOOKUP($P25,$P$98:$CS$631,AW$30,FALSE)))","v":""},{"$f":"IF(Süt!$B27=\"\",\"\",IF(Süt!$C27<=0,\"\",VLOOKUP($P25,$P$98:$CS$631,AX$30,FALSE)))","v":""},{"$f":"IF(Süt!$B27=\"\",\"\",IF(Süt!$C27<=0,\"\",VLOOKUP($P25,$P$98:$CS$631,AY$30,FALSE)))","v":""},{"$f":"IF(Süt!$B27=\"\",\"\",IF(Süt!$C27<=0,\"\",VLOOKUP($P25,$P$98:$CS$631,AZ$30,FALSE)))","v":""},{"$f":"IF(Süt!$B27=\"\",\"\",IF(Süt!$C27<=0,\"\",VLOOKUP($P25,$P$98:$CS$631,BA$30,FALSE)))","v":""},{"$f":"IF(Süt!$B27=\"\",\"\",IF(Süt!$C27<=0,\"\",VLOOKUP($P25,$P$98:$CS$631,BB$30,FALSE)))","v":""},{"$f":"IF(Süt!$B27=\"\",\"\",IF(Süt!$C27<=0,\"\",VLOOKUP($P25,$P$98:$CS$631,BC$30,FALSE)))","v":""},{"$f":"IF(Süt!$B27=\"\",\"\",IF(Süt!$C27<=0,\"\",VLOOKUP($P25,$P$98:$CS$631,BD$30,FALSE)))","v":""},{"$f":"IF(Süt!$B27=\"\",\"\",IF(Süt!$C27<=0,\"\",VLOOKUP($P25,$P$98:$CS$631,BE$30,FALSE)))","v":""},{"$f":"IF(Süt!$B27=\"\",\"\",IF(Süt!$C27<=0,\"\",VLOOKUP($P25,$P$98:$CS$631,BF$30,FALSE)))","v":""},{"$f":"IF(Süt!$B27=\"\",\"\",IF(Süt!$C27<=0,\"\",VLOOKUP($P25,$P$98:$CS$631,BG$30,FALSE)))","v":""},{"$f":"IF(Süt!$B27=\"\",\"\",IF(Süt!$C27<=0,\"\",VLOOKUP($P25,$P$98:$CS$631,BH$30,FALSE)))","v":""},{"$f":"IF(Süt!$B27=\"\",\"\",IF(Süt!$C27<=0,\"\",VLOOKUP($P25,$P$98:$CS$631,BI$30,FALSE)))","v":""},{"$f":"IF(Süt!$B27=\"\",\"\",IF(Süt!$C27<=0,\"\",VLOOKUP($P25,$P$98:$CS$631,BJ$30,FALSE)))","v":""},{"$f":"IF(Süt!$B27=\"\",\"\",IF(Süt!$C27<=0,\"\",VLOOKUP($P25,$P$98:$CS$631,BK$30,FALSE)))","v":""},{"$f":"IF(Süt!$B27=\"\",\"\",IF(Süt!$C27<=0,\"\",VLOOKUP($P25,$P$98:$CS$631,BL$30,FALSE)))","v":""},{"$f":"IF(Süt!$B27=\"\",\"\",IF(Süt!$C27<=0,\"\",VLOOKUP($P25,$P$98:$CS$631,BM$30,FALSE)))","v":""},{"$f":"IF(Süt!$B27=\"\",\"\",IF(Süt!$C27<=0,\"\",VLOOKUP($P25,$P$98:$CS$631,BN$30,FALSE)))","v":""},{"$f":"IF(Süt!$B27=\"\",\"\",IF(Süt!$C27<=0,\"\",VLOOKUP($P25,$P$98:$CS$631,BO$30,FALSE)))","v":""},{"$f":"IF(Süt!$B27=\"\",\"\",IF(Süt!$C27<=0,\"\",VLOOKUP($P25,$P$98:$CS$631,BP$30,FALSE)))","v":""},{"$f":"IF(Süt!$B27=\"\",\"\",IF(Süt!$C27<=0,\"\",VLOOKUP($P25,$P$98:$CS$631,BQ$30,FALSE)))","v":""},{"$f":"IF(Süt!$B27=\"\",\"\",IF(Süt!$C27<=0,\"\",VLOOKUP($P25,$P$98:$CS$631,BR$30,FALSE)))","v":""},{"$f":"IF(Süt!$B27=\"\",\"\",IF(Süt!$C27<=0,\"\",VLOOKUP($P25,$P$98:$CS$631,BS$30,FALSE)))","v":""},{"$f":"IF(Süt!$B27=\"\",\"\",IF(Süt!$C27<=0,\"\",VLOOKUP($P25,$P$98:$CS$631,BT$30,FALSE)))","v":""},{"$f":"IF(Süt!$B27=\"\",\"\",IF(Süt!$C27<=0,\"\",VLOOKUP($P25,$P$98:$CS$631,BU$30,FALSE)))","v":""},{"$f":"IF(Süt!$B27=\"\",\"\",IF(Süt!$C27<=0,\"\",VLOOKUP($P25,$P$98:$CS$631,BV$30,FALSE)))","v":""},{"$f":"IF(Süt!$B27=\"\",\"\",IF(Süt!$C27<=0,\"\",VLOOKUP($P25,$P$98:$CS$631,BW$30,FALSE)))","v":""},{"$f":"IF(Süt!$B27=\"\",\"\",IF(Süt!$C27<=0,\"\",VLOOKUP($P25,$P$98:$CS$631,BX$30,FALSE)))","v":""},{"$f":"IF(Süt!$B27=\"\",\"\",IF(Süt!$C27<=0,\"\",VLOOKUP($P25,$P$98:$CS$631,BY$30,FALSE)))","v":""},{"$f":"IF(Süt!$B27=\"\",\"\",IF(Süt!$C27<=0,\"\",VLOOKUP($P25,$P$98:$CS$631,BZ$30,FALSE)))","v":""},{"$f":"IF(Süt!$B27=\"\",\"\",IF(Süt!$C27<=0,\"\",VLOOKUP($P25,$P$98:$CS$631,CA$30,FALSE)))","v":""},{"$f":"IF(Süt!$B27=\"\",\"\",IF(Süt!$C27<=0,\"\",VLOOKUP($P25,$P$98:$CS$631,CB$30,FALSE)))","v":""},{"$f":"IF(Süt!$B27=\"\",\"\",IF(Süt!$C27<=0,\"\",VLOOKUP($P25,$P$98:$CS$631,CC$30,FALSE)))","v":""},{"$f":"IF(Süt!$B27=\"\",\"\",IF(Süt!$C27<=0,\"\",VLOOKUP($P25,$P$98:$CS$631,CD$30,FALSE)))","v":""},{"$f":"IF(Süt!$B27=\"\",\"\",IF(Süt!$C27<=0,\"\",VLOOKUP($P25,$P$98:$CS$631,CE$30,FALSE)))","v":""},{"$f":"IF(Süt!$B27=\"\",\"\",IF(Süt!$C27<=0,\"\",VLOOKUP($P25,$P$98:$CS$631,CF$30,FALSE)))","v":""},{"$f":"IF(Süt!$B27=\"\",\"\",IF(Süt!$C27<=0,\"\",VLOOKUP($P25,$P$98:$CS$631,CG$30,FALSE)))","v":""},{"$f":"IF(Süt!$B27=\"\",\"\",IF(Süt!$C27<=0,\"\",VLOOKUP($P25,$P$98:$CS$631,CH$30,FALSE)))","v":""},{"$f":"IF(Süt!$B27=\"\",\"\",IF(Süt!$C27<=0,\"\",VLOOKUP($P25,$P$98:$CS$631,CI$30,FALSE)))","v":""},{"$f":"IF(Süt!$B27=\"\",\"\",IF(Süt!$C27<=0,\"\",VLOOKUP($P25,$P$98:$CS$631,CJ$30,FALSE)))","v":""},{"$f":"IF(Süt!$B27=\"\",\"\",IF(Süt!$C27<=0,\"\",VLOOKUP($P25,$P$98:$CS$631,CK$30,FALSE)))","v":""},{"$f":"IF(Süt!$B27=\"\",\"\",IF(Süt!$C27<=0,\"\",VLOOKUP($P25,$P$98:$CS$631,CL$30,FALSE)))","v":""},{"$f":"IF(Süt!$B27=\"\",\"\",IF(Süt!$C27<=0,\"\",VLOOKUP($P25,$P$98:$CS$631,CM$30,FALSE)))","v":""},{"$f":"IF(Süt!$B27=\"\",\"\",IF(Süt!$C27<=0,\"\",VLOOKUP($P25,$P$98:$CS$631,CN$30,FALSE)))","v":""},{"$f":"IF(Süt!$B27=\"\",\"\",IF(Süt!$C27<=0,\"\",VLOOKUP($P25,$P$98:$CS$631,CO$30,FALSE)))","v":""},{"$f":"IF(Süt!$B27=\"\",\"\",IF(Süt!$C27<=0,\"\",VLOOKUP($P25,$P$98:$CS$631,CP$30,FALSE)))","v":""},{"$f":"IF(Süt!$B27=\"\",\"\",IF(Süt!$C27<=0,\"\",VLOOKUP($P25,$P$98:$CS$631,CQ$30,FALSE)))","v":""},{"$f":"IF(Süt!$B27=\"\",\"\",IF(Süt!$C27<=0,\"\",VLOOKUP($P25,$P$98:$CS$631,CR$30,FALSE)))","v":""},{"$f":"IF(Süt!$B27=\"\",\"\",IF(Süt!$C27<=0,\"\",VLOOKUP($P25,$P$98:$CS$631,CS$30,FALSE)))","v":""},-7,0.32400000000000007,0.59400000000000031,"Age3rd",{"$f":" Age2nd + CalfInt","v":48},"ay, Üçüncü buzağılama yaşı"]
[{"$f":"IF(Süt!A26=\"\",\"\",Süt!A26)","v":""},{"$f":"IF(Süt!B26=\"\",\"\",Süt!B26)","v":""},{"$f":"IF(Süt!C26=\"\",\"\",Süt!C26)","v":""},{"$f":"Süt!D26","v":0},{"$f":"Süt!E26","v":0},{"$f":"Süt!F26","v":0},"Rasyon maliyeti, TL",null,{"$f":"Fiyat","v":202.34339039713626},null,null,null,0,null,"",{"$f":"IF(Süt!B28=\"\",\"\",IF(Süt!C28<=0,\"\",Süt!B28))","v":""},{"$f":"IF(Süt!$B28=\"\",\"\",IF(Süt!$C28<=0,\"\",VLOOKUP($P26,$P$98:$CS$631,Q$30,FALSE)))","v":""},{"$f":"IF(Süt!$B28=\"\",\"\",IF(Süt!$C28<=0,\"\",VLOOKUP($P26,$P$98:$CS$631,R$30,FALSE)))","v":""},{"$f":"IF(Süt!$B28=\"\",\"\",IF(Süt!$C28<=0,\"\",VLOOKUP($P26,$P$98:$CS$631,S$30,FALSE)))","v":""},{"$f":"IF(Süt!$B28=\"\",\"\",IF(Süt!$C28<=0,\"\",VLOOKUP($P26,$P$98:$CS$631,T$30,FALSE)))","v":""},{"$f":"IF(Süt!$B28=\"\",\"\",IF(Süt!$C28<=0,\"\",VLOOKUP($P26,$P$98:$CS$631,U$30,FALSE)))","v":""},{"$f":"IF(Süt!$B28=\"\",\"\",IF(Süt!$C28<=0,\"\",VLOOKUP($P26,$P$98:$CS$631,V$30,FALSE)))","v":""},{"$f":"IF(Süt!$B28=\"\",\"\",IF(Süt!$C28<=0,\"\",VLOOKUP($P26,$P$98:$CS$631,W$30,FALSE)))","v":""},{"$f":"IF(Süt!$B28=\"\",\"\",IF(Süt!$C28<=0,\"\",VLOOKUP($P26,$P$98:$CS$631,X$30,FALSE)))","v":""},{"$f":"IF(Süt!$B28=\"\",\"\",IF(Süt!$C28<=0,\"\",VLOOKUP($P26,$P$98:$CS$631,Y$30,FALSE)))","v":""},{"$f":"IF(Süt!$B28=\"\",\"\",IF(Süt!$C28<=0,\"\",VLOOKUP($P26,$P$98:$CS$631,Z$30,FALSE)))","v":""},{"$f":"IF(Süt!$B28=\"\",\"\",IF(Süt!$C28<=0,\"\",VLOOKUP($P26,$P$98:$CS$631,AA$30,FALSE)))","v":""},{"$f":"IF(Süt!$B28=\"\",\"\",IF(Süt!$C28<=0,\"\",VLOOKUP($P26,$P$98:$CS$631,AB$30,FALSE)))","v":""},{"$f":"IF(Süt!$B28=\"\",\"\",IF(Süt!$C28<=0,\"\",VLOOKUP($P26,$P$98:$CS$631,AC$30,FALSE)))","v":""},{"$f":"IF(Süt!$B28=\"\",\"\",IF(Süt!$C28<=0,\"\",VLOOKUP($P26,$P$98:$CS$631,AD$30,FALSE)))","v":""},{"$f":"IF(Süt!$B28=\"\",\"\",IF(Süt!$C28<=0,\"\",VLOOKUP($P26,$P$98:$CS$631,AE$30,FALSE)))","v":""},{"$f":"IF(Süt!$B28=\"\",\"\",IF(Süt!$C28<=0,\"\",VLOOKUP($P26,$P$98:$CS$631,AF$30,FALSE)))","v":""},{"$f":"IF(Süt!$B28=\"\",\"\",IF(Süt!$C28<=0,\"\",VLOOKUP($P26,$P$98:$CS$631,AG$30,FALSE)))","v":""},{"$f":"IF(Süt!$B28=\"\",\"\",IF(Süt!$C28<=0,\"\",VLOOKUP($P26,$P$98:$CS$631,AH$30,FALSE)))","v":""},{"$f":"IF(Süt!$B28=\"\",\"\",IF(Süt!$C28<=0,\"\",VLOOKUP($P26,$P$98:$CS$631,AI$30,FALSE)))","v":""},{"$f":"IF(Süt!$B28=\"\",\"\",IF(Süt!$C28<=0,\"\",VLOOKUP($P26,$P$98:$CS$631,AJ$30,FALSE)))","v":""},{"$f":"IF(Süt!$B28=\"\",\"\",IF(Süt!$C28<=0,\"\",VLOOKUP($P26,$P$98:$CS$631,AK$30,FALSE)))","v":""},{"$f":"IF(Süt!$B28=\"\",\"\",IF(Süt!$C28<=0,\"\",VLOOKUP($P26,$P$98:$CS$631,AL$30,FALSE)))","v":""},{"$f":"IF(Süt!$B28=\"\",\"\",IF(Süt!$C28<=0,\"\",VLOOKUP($P26,$P$98:$CS$631,AM$30,FALSE)))","v":""},{"$f":"IF(Süt!$B28=\"\",\"\",IF(Süt!$C28<=0,\"\",VLOOKUP($P26,$P$98:$CS$631,AN$30,FALSE)))","v":""},{"$f":"IF(Süt!$B28=\"\",\"\",IF(Süt!$C28<=0,\"\",VLOOKUP($P26,$P$98:$CS$631,AO$30,FALSE)))","v":""},{"$f":"IF(Süt!$B28=\"\",\"\",IF(Süt!$C28<=0,\"\",VLOOKUP($P26,$P$98:$CS$631,AP$30,FALSE)))","v":""},{"$f":"IF(Süt!$B28=\"\",\"\",IF(Süt!$C28<=0,\"\",VLOOKUP($P26,$P$98:$CS$631,AQ$30,FALSE)))","v":""},{"$f":"IF(Süt!$B28=\"\",\"\",IF(Süt!$C28<=0,\"\",VLOOKUP($P26,$P$98:$CS$631,AR$30,FALSE)))","v":""},{"$f":"IF(Süt!$B28=\"\",\"\",IF(Süt!$C28<=0,\"\",VLOOKUP($P26,$P$98:$CS$631,AS$30,FALSE)))","v":""},{"$f":"IF(Süt!$B28=\"\",\"\",IF(Süt!$C28<=0,\"\",VLOOKUP($P26,$P$98:$CS$631,AT$30,FALSE)))","v":""},{"$f":"IF(Süt!$B28=\"\",\"\",IF(Süt!$C28<=0,\"\",VLOOKUP($P26,$P$98:$CS$631,AU$30,FALSE)))","v":""},{"$f":"IF(Süt!$B28=\"\",\"\",IF(Süt!$C28<=0,\"\",VLOOKUP($P26,$P$98:$CS$631,AV$30,FALSE)))","v":""},{"$f":"IF(Süt!$B28=\"\",\"\",IF(Süt!$C28<=0,\"\",VLOOKUP($P26,$P$98:$CS$631,AW$30,FALSE)))","v":""},{"$f":"IF(Süt!$B28=\"\",\"\",IF(Süt!$C28<=0,\"\",VLOOKUP($P26,$P$98:$CS$631,AX$30,FALSE)))","v":""},{"$f":"IF(Süt!$B28=\"\",\"\",IF(Süt!$C28<=0,\"\",VLOOKUP($P26,$P$98:$CS$631,AY$30,FALSE)))","v":""},{"$f":"IF(Süt!$B28=\"\",\"\",IF(Süt!$C28<=0,\"\",VLOOKUP($P26,$P$98:$CS$631,AZ$30,FALSE)))","v":""},{"$f":"IF(Süt!$B28=\"\",\"\",IF(Süt!$C28<=0,\"\",VLOOKUP($P26,$P$98:$CS$631,BA$30,FALSE)))","v":""},{"$f":"IF(Süt!$B28=\"\",\"\",IF(Süt!$C28<=0,\"\",VLOOKUP($P26,$P$98:$CS$631,BB$30,FALSE)))","v":""},{"$f":"IF(Süt!$B28=\"\",\"\",IF(Süt!$C28<=0,\"\",VLOOKUP($P26,$P$98:$CS$631,BC$30,FALSE)))","v":""},{"$f":"IF(Süt!$B28=\"\",\"\",IF(Süt!$C28<=0,\"\",VLOOKUP($P26,$P$98:$CS$631,BD$30,FALSE)))","v":""},{"$f":"IF(Süt!$B28=\"\",\"\",IF(Süt!$C28<=0,\"\",VLOOKUP($P26,$P$98:$CS$631,BE$30,FALSE)))","v":""},{"$f":"IF(Süt!$B28=\"\",\"\",IF(Süt!$C28<=0,\"\",VLOOKUP($P26,$P$98:$CS$631,BF$30,FALSE)))","v":""},{"$f":"IF(Süt!$B28=\"\",\"\",IF(Süt!$C28<=0,\"\",VLOOKUP($P26,$P$98:$CS$631,BG$30,FALSE)))","v":""},{"$f":"IF(Süt!$B28=\"\",\"\",IF(Süt!$C28<=0,\"\",VLOOKUP($P26,$P$98:$CS$631,BH$30,FALSE)))","v":""},{"$f":"IF(Süt!$B28=\"\",\"\",IF(Süt!$C28<=0,\"\",VLOOKUP($P26,$P$98:$CS$631,BI$30,FALSE)))","v":""},{"$f":"IF(Süt!$B28=\"\",\"\",IF(Süt!$C28<=0,\"\",VLOOKUP($P26,$P$98:$CS$631,BJ$30,FALSE)))","v":""},{"$f":"IF(Süt!$B28=\"\",\"\",IF(Süt!$C28<=0,\"\",VLOOKUP($P26,$P$98:$CS$631,BK$30,FALSE)))","v":""},{"$f":"IF(Süt!$B28=\"\",\"\",IF(Süt!$C28<=0,\"\",VLOOKUP($P26,$P$98:$CS$631,BL$30,FALSE)))","v":""},{"$f":"IF(Süt!$B28=\"\",\"\",IF(Süt!$C28<=0,\"\",VLOOKUP($P26,$P$98:$CS$631,BM$30,FALSE)))","v":""},{"$f":"IF(Süt!$B28=\"\",\"\",IF(Süt!$C28<=0,\"\",VLOOKUP($P26,$P$98:$CS$631,BN$30,FALSE)))","v":""},{"$f":"IF(Süt!$B28=\"\",\"\",IF(Süt!$C28<=0,\"\",VLOOKUP($P26,$P$98:$CS$631,BO$30,FALSE)))","v":""},{"$f":"IF(Süt!$B28=\"\",\"\",IF(Süt!$C28<=0,\"\",VLOOKUP($P26,$P$98:$CS$631,BP$30,FALSE)))","v":""},{"$f":"IF(Süt!$B28=\"\",\"\",IF(Süt!$C28<=0,\"\",VLOOKUP($P26,$P$98:$CS$631,BQ$30,FALSE)))","v":""},{"$f":"IF(Süt!$B28=\"\",\"\",IF(Süt!$C28<=0,\"\",VLOOKUP($P26,$P$98:$CS$631,BR$30,FALSE)))","v":""},{"$f":"IF(Süt!$B28=\"\",\"\",IF(Süt!$C28<=0,\"\",VLOOKUP($P26,$P$98:$CS$631,BS$30,FALSE)))","v":""},{"$f":"IF(Süt!$B28=\"\",\"\",IF(Süt!$C28<=0,\"\",VLOOKUP($P26,$P$98:$CS$631,BT$30,FALSE)))","v":""},{"$f":"IF(Süt!$B28=\"\",\"\",IF(Süt!$C28<=0,\"\",VLOOKUP($P26,$P$98:$CS$631,BU$30,FALSE)))","v":""},{"$f":"IF(Süt!$B28=\"\",\"\",IF(Süt!$C28<=0,\"\",VLOOKUP($P26,$P$98:$CS$631,BV$30,FALSE)))","v":""},{"$f":"IF(Süt!$B28=\"\",\"\",IF(Süt!$C28<=0,\"\",VLOOKUP($P26,$P$98:$CS$631,BW$30,FALSE)))","v":""},{"$f":"IF(Süt!$B28=\"\",\"\",IF(Süt!$C28<=0,\"\",VLOOKUP($P26,$P$98:$CS$631,BX$30,FALSE)))","v":""},{"$f":"IF(Süt!$B28=\"\",\"\",IF(Süt!$C28<=0,\"\",VLOOKUP($P26,$P$98:$CS$631,BY$30,FALSE)))","v":""},{"$f":"IF(Süt!$B28=\"\",\"\",IF(Süt!$C28<=0,\"\",VLOOKUP($P26,$P$98:$CS$631,BZ$30,FALSE)))","v":""},{"$f":"IF(Süt!$B28=\"\",\"\",IF(Süt!$C28<=0,\"\",VLOOKUP($P26,$P$98:$CS$631,CA$30,FALSE)))","v":""},{"$f":"IF(Süt!$B28=\"\",\"\",IF(Süt!$C28<=0,\"\",VLOOKUP($P26,$P$98:$CS$631,CB$30,FALSE)))","v":""},{"$f":"IF(Süt!$B28=\"\",\"\",IF(Süt!$C28<=0,\"\",VLOOKUP($P26,$P$98:$CS$631,CC$30,FALSE)))","v":""},{"$f":"IF(Süt!$B28=\"\",\"\",IF(Süt!$C28<=0,\"\",VLOOKUP($P26,$P$98:$CS$631,CD$30,FALSE)))","v":""},{"$f":"IF(Süt!$B28=\"\",\"\",IF(Süt!$C28<=0,\"\",VLOOKUP($P26,$P$98:$CS$631,CE$30,FALSE)))","v":""},{"$f":"IF(Süt!$B28=\"\",\"\",IF(Süt!$C28<=0,\"\",VLOOKUP($P26,$P$98:$CS$631,CF$30,FALSE)))","v":""},{"$f":"IF(Süt!$B28=\"\",\"\",IF(Süt!$C28<=0,\"\",VLOOKUP($P26,$P$98:$CS$631,CG$30,FALSE)))","v":""},{"$f":"IF(Süt!$B28=\"\",\"\",IF(Süt!$C28<=0,\"\",VLOOKUP($P26,$P$98:$CS$631,CH$30,FALSE)))","v":""},{"$f":"IF(Süt!$B28=\"\",\"\",IF(Süt!$C28<=0,\"\",VLOOKUP($P26,$P$98:$CS$631,CI$30,FALSE)))","v":""},{"$f":"IF(Süt!$B28=\"\",\"\",IF(Süt!$C28<=0,\"\",VLOOKUP($P26,$P$98:$CS$631,CJ$30,FALSE)))","v":""},{"$f":"IF(Süt!$B28=\"\",\"\",IF(Süt!$C28<=0,\"\",VLOOKUP($P26,$P$98:$CS$631,CK$30,FALSE)))","v":""},{"$f":"IF(Süt!$B28=\"\",\"\",IF(Süt!$C28<=0,\"\",VLOOKUP($P26,$P$98:$CS$631,CL$30,FALSE)))","v":""},{"$f":"IF(Süt!$B28=\"\",\"\",IF(Süt!$C28<=0,\"\",VLOOKUP($P26,$P$98:$CS$631,CM$30,FALSE)))","v":""},{"$f":"IF(Süt!$B28=\"\",\"\",IF(Süt!$C28<=0,\"\",VLOOKUP($P26,$P$98:$CS$631,CN$30,FALSE)))","v":""},{"$f":"IF(Süt!$B28=\"\",\"\",IF(Süt!$C28<=0,\"\",VLOOKUP($P26,$P$98:$CS$631,CO$30,FALSE)))","v":""},{"$f":"IF(Süt!$B28=\"\",\"\",IF(Süt!$C28<=0,\"\",VLOOKUP($P26,$P$98:$CS$631,CP$30,FALSE)))","v":""},{"$f":"IF(Süt!$B28=\"\",\"\",IF(Süt!$C28<=0,\"\",VLOOKUP($P26,$P$98:$CS$631,CQ$30,FALSE)))","v":""},{"$f":"IF(Süt!$B28=\"\",\"\",IF(Süt!$C28<=0,\"\",VLOOKUP($P26,$P$98:$CS$631,CR$30,FALSE)))","v":""},{"$f":"IF(Süt!$B28=\"\",\"\",IF(Süt!$C28<=0,\"\",VLOOKUP($P26,$P$98:$CS$631,CS$30,FALSE)))","v":""},-8,0.35100000000000009,0.62100000000000033,"Age1stBred",{"$f":" FirstCalf - (BreedGS / 30.4)","v":14.756578947368421},"ay, İlk sıfat yaşı",null,null,null,null,null,null,null,null,null,null,"Deri ve Kılların durumu"]
[{"$f":"IF(Süt!A27=\"\",\"\",Süt!A27)","v":""},{"$f":"IF(Süt!B27=\"\",\"\",Süt!B27)","v":""},{"$f":"IF(Süt!C27=\"\",\"\",Süt!C27)","v":""},{"$f":"Süt!D27","v":0},{"$f":"Süt!E27","v":0},{"$f":"Süt!F27","v":0},{"$f":"IF(AnimalType=\"Damızlık Düve\",\"Proteinin sağlayabileceği GCAA, g\",IF(AnimalType=\"Sağmal İnek\",\"Proteinin sağlayabileceği süt, kg\",0))","v":"Proteinin sağlayabileceği süt, kg"},null,{"$f":"IF(AnimalType=\"Damızlık Düve\",IF(DaysPreg>0,MPAllowGainPreg*1000,MPAllowGain*1000),IF(AnimalType=\"Sağmal İnek\",ProteinAllowableMilk,0))","v":24.552112592577597},null,null,null,0,null,"",{"$f":"IF(Süt!B29=\"\",\"\",IF(Süt!C29<=0,\"\",Süt!B29))","v":""},{"$f":"IF(Süt!$B29=\"\",\"\",IF(Süt!$C29<=0,\"\",VLOOKUP($P27,$P$98:$CS$631,Q$30,FALSE)))","v":""},{"$f":"IF(Süt!$B29=\"\",\"\",IF(Süt!$C29<=0,\"\",VLOOKUP($P27,$P$98:$CS$631,R$30,FALSE)))","v":""},{"$f":"IF(Süt!$B29=\"\",\"\",IF(Süt!$C29<=0,\"\",VLOOKUP($P27,$P$98:$CS$631,S$30,FALSE)))","v":""},{"$f":"IF(Süt!$B29=\"\",\"\",IF(Süt!$C29<=0,\"\",VLOOKUP($P27,$P$98:$CS$631,T$30,FALSE)))","v":""},{"$f":"IF(Süt!$B29=\"\",\"\",IF(Süt!$C29<=0,\"\",VLOOKUP($P27,$P$98:$CS$631,U$30,FALSE)))","v":""},{"$f":"IF(Süt!$B29=\"\",\"\",IF(Süt!$C29<=0,\"\",VLOOKUP($P27,$P$98:$CS$631,V$30,FALSE)))","v":""},{"$f":"IF(Süt!$B29=\"\",\"\",IF(Süt!$C29<=0,\"\",VLOOKUP($P27,$P$98:$CS$631,W$30,FALSE)))","v":""},{"$f":"IF(Süt!$B29=\"\",\"\",IF(Süt!$C29<=0,\"\",VLOOKUP($P27,$P$98:$CS$631,X$30,FALSE)))","v":""},{"$f":"IF(Süt!$B29=\"\",\"\",IF(Süt!$C29<=0,\"\",VLOOKUP($P27,$P$98:$CS$631,Y$30,FALSE)))","v":""},{"$f":"IF(Süt!$B29=\"\",\"\",IF(Süt!$C29<=0,\"\",VLOOKUP($P27,$P$98:$CS$631,Z$30,FALSE)))","v":""},{"$f":"IF(Süt!$B29=\"\",\"\",IF(Süt!$C29<=0,\"\",VLOOKUP($P27,$P$98:$CS$631,AA$30,FALSE)))","v":""},{"$f":"IF(Süt!$B29=\"\",\"\",IF(Süt!$C29<=0,\"\",VLOOKUP($P27,$P$98:$CS$631,AB$30,FALSE)))","v":""},{"$f":"IF(Süt!$B29=\"\",\"\",IF(Süt!$C29<=0,\"\",VLOOKUP($P27,$P$98:$CS$631,AC$30,FALSE)))","v":""},{"$f":"IF(Süt!$B29=\"\",\"\",IF(Süt!$C29<=0,\"\",VLOOKUP($P27,$P$98:$CS$631,AD$30,FALSE)))","v":""},{"$f":"IF(Süt!$B29=\"\",\"\",IF(Süt!$C29<=0,\"\",VLOOKUP($P27,$P$98:$CS$631,AE$30,FALSE)))","v":""},{"$f":"IF(Süt!$B29=\"\",\"\",IF(Süt!$C29<=0,\"\",VLOOKUP($P27,$P$98:$CS$631,AF$30,FALSE)))","v":""},{"$f":"IF(Süt!$B29=\"\",\"\",IF(Süt!$C29<=0,\"\",VLOOKUP($P27,$P$98:$CS$631,AG$30,FALSE)))","v":""},{"$f":"IF(Süt!$B29=\"\",\"\",IF(Süt!$C29<=0,\"\",VLOOKUP($P27,$P$98:$CS$631,AH$30,FALSE)))","v":""},{"$f":"IF(Süt!$B29=\"\",\"\",IF(Süt!$C29<=0,\"\",VLOOKUP($P27,$P$98:$CS$631,AI$30,FALSE)))","v":""},{"$f":"IF(Süt!$B29=\"\",\"\",IF(Süt!$C29<=0,\"\",VLOOKUP($P27,$P$98:$CS$631,AJ$30,FALSE)))","v":""},{"$f":"IF(Süt!$B29=\"\",\"\",IF(Süt!$C29<=0,\"\",VLOOKUP($P27,$P$98:$CS$631,AK$30,FALSE)))","v":""},{"$f":"IF(Süt!$B29=\"\",\"\",IF(Süt!$C29<=0,\"\",VLOOKUP($P27,$P$98:$CS$631,AL$30,FALSE)))","v":""},{"$f":"IF(Süt!$B29=\"\",\"\",IF(Süt!$C29<=0,\"\",VLOOKUP($P27,$P$98:$CS$631,AM$30,FALSE)))","v":""},{"$f":"IF(Süt!$B29=\"\",\"\",IF(Süt!$C29<=0,\"\",VLOOKUP($P27,$P$98:$CS$631,AN$30,FALSE)))","v":""},{"$f":"IF(Süt!$B29=\"\",\"\",IF(Süt!$C29<=0,\"\",VLOOKUP($P27,$P$98:$CS$631,AO$30,FALSE)))","v":""},{"$f":"IF(Süt!$B29=\"\",\"\",IF(Süt!$C29<=0,\"\",VLOOKUP($P27,$P$98:$CS$631,AP$30,FALSE)))","v":""},{"$f":"IF(Süt!$B29=\"\",\"\",IF(Süt!$C29<=0,\"\",VLOOKUP($P27,$P$98:$CS$631,AQ$30,FALSE)))","v":""},{"$f":"IF(Süt!$B29=\"\",\"\",IF(Süt!$C29<=0,\"\",VLOOKUP($P27,$P$98:$CS$631,AR$30,FALSE)))","v":""},{"$f":"IF(Süt!$B29=\"\",\"\",IF(Süt!$C29<=0,\"\",VLOOKUP($P27,$P$98:$CS$631,AS$30,FALSE)))","v":""},{"$f":"IF(Süt!$B29=\"\",\"\",IF(Süt!$C29<=0,\"\",VLOOKUP($P27,$P$98:$CS$631,AT$30,FALSE)))","v":""},{"$f":"IF(Süt!$B29=\"\",\"\",IF(Süt!$C29<=0,\"\",VLOOKUP($P27,$P$98:$CS$631,AU$30,FALSE)))","v":""},{"$f":"IF(Süt!$B29=\"\",\"\",IF(Süt!$C29<=0,\"\",VLOOKUP($P27,$P$98:$CS$631,AV$30,FALSE)))","v":""},{"$f":"IF(Süt!$B29=\"\",\"\",IF(Süt!$C29<=0,\"\",VLOOKUP($P27,$P$98:$CS$631,AW$30,FALSE)))","v":""},{"$f":"IF(Süt!$B29=\"\",\"\",IF(Süt!$C29<=0,\"\",VLOOKUP($P27,$P$98:$CS$631,AX$30,FALSE)))","v":""},{"$f":"IF(Süt!$B29=\"\",\"\",IF(Süt!$C29<=0,\"\",VLOOKUP($P27,$P$98:$CS$631,AY$30,FALSE)))","v":""},{"$f":"IF(Süt!$B29=\"\",\"\",IF(Süt!$C29<=0,\"\",VLOOKUP($P27,$P$98:$CS$631,AZ$30,FALSE)))","v":""},{"$f":"IF(Süt!$B29=\"\",\"\",IF(Süt!$C29<=0,\"\",VLOOKUP($P27,$P$98:$CS$631,BA$30,FALSE)))","v":""},{"$f":"IF(Süt!$B29=\"\",\"\",IF(Süt!$C29<=0,\"\",VLOOKUP($P27,$P$98:$CS$631,BB$30,FALSE)))","v":""},{"$f":"IF(Süt!$B29=\"\",\"\",IF(Süt!$C29<=0,\"\",VLOOKUP($P27,$P$98:$CS$631,BC$30,FALSE)))","v":""},{"$f":"IF(Süt!$B29=\"\",\"\",IF(Süt!$C29<=0,\"\",VLOOKUP($P27,$P$98:$CS$631,BD$30,FALSE)))","v":""},{"$f":"IF(Süt!$B29=\"\",\"\",IF(Süt!$C29<=0,\"\",VLOOKUP($P27,$P$98:$CS$631,BE$30,FALSE)))","v":""},{"$f":"IF(Süt!$B29=\"\",\"\",IF(Süt!$C29<=0,\"\",VLOOKUP($P27,$P$98:$CS$631,BF$30,FALSE)))","v":""},{"$f":"IF(Süt!$B29=\"\",\"\",IF(Süt!$C29<=0,\"\",VLOOKUP($P27,$P$98:$CS$631,BG$30,FALSE)))","v":""},{"$f":"IF(Süt!$B29=\"\",\"\",IF(Süt!$C29<=0,\"\",VLOOKUP($P27,$P$98:$CS$631,BH$30,FALSE)))","v":""},{"$f":"IF(Süt!$B29=\"\",\"\",IF(Süt!$C29<=0,\"\",VLOOKUP($P27,$P$98:$CS$631,BI$30,FALSE)))","v":""},{"$f":"IF(Süt!$B29=\"\",\"\",IF(Süt!$C29<=0,\"\",VLOOKUP($P27,$P$98:$CS$631,BJ$30,FALSE)))","v":""},{"$f":"IF(Süt!$B29=\"\",\"\",IF(Süt!$C29<=0,\"\",VLOOKUP($P27,$P$98:$CS$631,BK$30,FALSE)))","v":""},{"$f":"IF(Süt!$B29=\"\",\"\",IF(Süt!$C29<=0,\"\",VLOOKUP($P27,$P$98:$CS$631,BL$30,FALSE)))","v":""},{"$f":"IF(Süt!$B29=\"\",\"\",IF(Süt!$C29<=0,\"\",VLOOKUP($P27,$P$98:$CS$631,BM$30,FALSE)))","v":""},{"$f":"IF(Süt!$B29=\"\",\"\",IF(Süt!$C29<=0,\"\",VLOOKUP($P27,$P$98:$CS$631,BN$30,FALSE)))","v":""},{"$f":"IF(Süt!$B29=\"\",\"\",IF(Süt!$C29<=0,\"\",VLOOKUP($P27,$P$98:$CS$631,BO$30,FALSE)))","v":""},{"$f":"IF(Süt!$B29=\"\",\"\",IF(Süt!$C29<=0,\"\",VLOOKUP($P27,$P$98:$CS$631,BP$30,FALSE)))","v":""},{"$f":"IF(Süt!$B29=\"\",\"\",IF(Süt!$C29<=0,\"\",VLOOKUP($P27,$P$98:$CS$631,BQ$30,FALSE)))","v":""},{"$f":"IF(Süt!$B29=\"\",\"\",IF(Süt!$C29<=0,\"\",VLOOKUP($P27,$P$98:$CS$631,BR$30,FALSE)))","v":""},{"$f":"IF(Süt!$B29=\"\",\"\",IF(Süt!$C29<=0,\"\",VLOOKUP($P27,$P$98:$CS$631,BS$30,FALSE)))","v":""},{"$f":"IF(Süt!$B29=\"\",\"\",IF(Süt!$C29<=0,\"\",VLOOKUP($P27,$P$98:$CS$631,BT$30,FALSE)))","v":""},{"$f":"IF(Süt!$B29=\"\",\"\",IF(Süt!$C29<=0,\"\",VLOOKUP($P27,$P$98:$CS$631,BU$30,FALSE)))","v":""},{"$f":"IF(Süt!$B29=\"\",\"\",IF(Süt!$C29<=0,\"\",VLOOKUP($P27,$P$98:$CS$631,BV$30,FALSE)))","v":""},{"$f":"IF(Süt!$B29=\"\",\"\",IF(Süt!$C29<=0,\"\",VLOOKUP($P27,$P$98:$CS$631,BW$30,FALSE)))","v":""},{"$f":"IF(Süt!$B29=\"\",\"\",IF(Süt!$C29<=0,\"\",VLOOKUP($P27,$P$98:$CS$631,BX$30,FALSE)))","v":""},{"$f":"IF(Süt!$B29=\"\",\"\",IF(Süt!$C29<=0,\"\",VLOOKUP($P27,$P$98:$CS$631,BY$30,FALSE)))","v":""},{"$f":"IF(Süt!$B29=\"\",\"\",IF(Süt!$C29<=0,\"\",VLOOKUP($P27,$P$98:$CS$631,BZ$30,FALSE)))","v":""},{"$f":"IF(Süt!$B29=\"\",\"\",IF(Süt!$C29<=0,\"\",VLOOKUP($P27,$P$98:$CS$631,CA$30,FALSE)))","v":""},{"$f":"IF(Süt!$B29=\"\",\"\",IF(Süt!$C29<=0,\"\",VLOOKUP($P27,$P$98:$CS$631,CB$30,FALSE)))","v":""},{"$f":"IF(Süt!$B29=\"\",\"\",IF(Süt!$C29<=0,\"\",VLOOKUP($P27,$P$98:$CS$631,CC$30,FALSE)))","v":""},{"$f":"IF(Süt!$B29=\"\",\"\",IF(Süt!$C29<=0,\"\",VLOOKUP($P27,$P$98:$CS$631,CD$30,FALSE)))","v":""},{"$f":"IF(Süt!$B29=\"\",\"\",IF(Süt!$C29<=0,\"\",VLOOKUP($P27,$P$98:$CS$631,CE$30,FALSE)))","v":""},{"$f":"IF(Süt!$B29=\"\",\"\",IF(Süt!$C29<=0,\"\",VLOOKUP($P27,$P$98:$CS$631,CF$30,FALSE)))","v":""},{"$f":"IF(Süt!$B29=\"\",\"\",IF(Süt!$C29<=0,\"\",VLOOKUP($P27,$P$98:$CS$631,CG$30,FALSE)))","v":""},{"$f":"IF(Süt!$B29=\"\",\"\",IF(Süt!$C29<=0,\"\",VLOOKUP($P27,$P$98:$CS$631,CH$30,FALSE)))","v":""},{"$f":"IF(Süt!$B29=\"\",\"\",IF(Süt!$C29<=0,\"\",VLOOKUP($P27,$P$98:$CS$631,CI$30,FALSE)))","v":""},{"$f":"IF(Süt!$B29=\"\",\"\",IF(Süt!$C29<=0,\"\",VLOOKUP($P27,$P$98:$CS$631,CJ$30,FALSE)))","v":""},{"$f":"IF(Süt!$B29=\"\",\"\",IF(Süt!$C29<=0,\"\",VLOOKUP($P27,$P$98:$CS$631,CK$30,FALSE)))","v":""},{"$f":"IF(Süt!$B29=\"\",\"\",IF(Süt!$C29<=0,\"\",VLOOKUP($P27,$P$98:$CS$631,CL$30,FALSE)))","v":""},{"$f":"IF(Süt!$B29=\"\",\"\",IF(Süt!$C29<=0,\"\",VLOOKUP($P27,$P$98:$CS$631,CM$30,FALSE)))","v":""},{"$f":"IF(Süt!$B29=\"\",\"\",IF(Süt!$C29<=0,\"\",VLOOKUP($P27,$P$98:$CS$631,CN$30,FALSE)))","v":""},{"$f":"IF(Süt!$B29=\"\",\"\",IF(Süt!$C29<=0,\"\",VLOOKUP($P27,$P$98:$CS$631,CO$30,FALSE)))","v":""},{"$f":"IF(Süt!$B29=\"\",\"\",IF(Süt!$C29<=0,\"\",VLOOKUP($P27,$P$98:$CS$631,CP$30,FALSE)))","v":""},{"$f":"IF(Süt!$B29=\"\",\"\",IF(Süt!$C29<=0,\"\",VLOOKUP($P27,$P$98:$CS$631,CQ$30,FALSE)))","v":""},{"$f":"IF(Süt!$B29=\"\",\"\",IF(Süt!$C29<=0,\"\",VLOOKUP($P27,$P$98:$CS$631,CR$30,FALSE)))","v":""},{"$f":"IF(Süt!$B29=\"\",\"\",IF(Süt!$C29<=0,\"\",VLOOKUP($P27,$P$98:$CS$631,CS$30,FALSE)))","v":""},-9,0.37800000000000011,0.64800000000000035,"Wt1st",{"$f":"MW*0.82","v":559.24},"kg, İlk buzağılama ağırlığı",null,null,null,null,null,null,null,null,null,null,"Temiz/Kuru"]
[{"$f":"IF(Süt!A28=\"\",\"\",Süt!A28)","v":""},{"$f":"IF(Süt!B28=\"\",\"\",Süt!B28)","v":""},{"$f":"IF(Süt!C28=\"\",\"\",Süt!C28)","v":""},{"$f":"Süt!D28","v":0},{"$f":"Süt!E28","v":0},{"$f":"Süt!F28","v":0},{"$f":"IF(AnimalType=\"Damızlık Düve\",\"Enerjinin sağlayabileceği GCAA, g\",IF(AnimalType=\"Sağmal İnek\",\"Enerjinin sağlayabileceği süt, kg\",0))","v":"Enerjinin sağlayabileceği süt, kg"},null,{"$f":"IF(AnimalType=\"Damızlık Düve\",IF(DaysPreg>0,MEAllowGainPreg*1000,MEAllowGain*1000),IF(AnimalType=\"Sağmal İnek\",EnergyAllowableMilk,0))","v":26.290027999160294},null,null,null,0,null,"",{"$f":"IF(Süt!B30=\"\",\"\",IF(Süt!C30<=0,\"\",Süt!B30))","v":""},{"$f":"IF(Süt!$B30=\"\",\"\",IF(Süt!$C30<=0,\"\",VLOOKUP($P28,$P$98:$CS$631,Q$30,FALSE)))","v":""},{"$f":"IF(Süt!$B30=\"\",\"\",IF(Süt!$C30<=0,\"\",VLOOKUP($P28,$P$98:$CS$631,R$30,FALSE)))","v":""},{"$f":"IF(Süt!$B30=\"\",\"\",IF(Süt!$C30<=0,\"\",VLOOKUP($P28,$P$98:$CS$631,S$30,FALSE)))","v":""},{"$f":"IF(Süt!$B30=\"\",\"\",IF(Süt!$C30<=0,\"\",VLOOKUP($P28,$P$98:$CS$631,T$30,FALSE)))","v":""},{"$f":"IF(Süt!$B30=\"\",\"\",IF(Süt!$C30<=0,\"\",VLOOKUP($P28,$P$98:$CS$631,U$30,FALSE)))","v":""},{"$f":"IF(Süt!$B30=\"\",\"\",IF(Süt!$C30<=0,\"\",VLOOKUP($P28,$P$98:$CS$631,V$30,FALSE)))","v":""},{"$f":"IF(Süt!$B30=\"\",\"\",IF(Süt!$C30<=0,\"\",VLOOKUP($P28,$P$98:$CS$631,W$30,FALSE)))","v":""},{"$f":"IF(Süt!$B30=\"\",\"\",IF(Süt!$C30<=0,\"\",VLOOKUP($P28,$P$98:$CS$631,X$30,FALSE)))","v":""},{"$f":"IF(Süt!$B30=\"\",\"\",IF(Süt!$C30<=0,\"\",VLOOKUP($P28,$P$98:$CS$631,Y$30,FALSE)))","v":""},{"$f":"IF(Süt!$B30=\"\",\"\",IF(Süt!$C30<=0,\"\",VLOOKUP($P28,$P$98:$CS$631,Z$30,FALSE)))","v":""},{"$f":"IF(Süt!$B30=\"\",\"\",IF(Süt!$C30<=0,\"\",VLOOKUP($P28,$P$98:$CS$631,AA$30,FALSE)))","v":""},{"$f":"IF(Süt!$B30=\"\",\"\",IF(Süt!$C30<=0,\"\",VLOOKUP($P28,$P$98:$CS$631,AB$30,FALSE)))","v":""},{"$f":"IF(Süt!$B30=\"\",\"\",IF(Süt!$C30<=0,\"\",VLOOKUP($P28,$P$98:$CS$631,AC$30,FALSE)))","v":""},{"$f":"IF(Süt!$B30=\"\",\"\",IF(Süt!$C30<=0,\"\",VLOOKUP($P28,$P$98:$CS$631,AD$30,FALSE)))","v":""},{"$f":"IF(Süt!$B30=\"\",\"\",IF(Süt!$C30<=0,\"\",VLOOKUP($P28,$P$98:$CS$631,AE$30,FALSE)))","v":""},{"$f":"IF(Süt!$B30=\"\",\"\",IF(Süt!$C30<=0,\"\",VLOOKUP($P28,$P$98:$CS$631,AF$30,FALSE)))","v":""},{"$f":"IF(Süt!$B30=\"\",\"\",IF(Süt!$C30<=0,\"\",VLOOKUP($P28,$P$98:$CS$631,AG$30,FALSE)))","v":""},{"$f":"IF(Süt!$B30=\"\",\"\",IF(Süt!$C30<=0,\"\",VLOOKUP($P28,$P$98:$CS$631,AH$30,FALSE)))","v":""},{"$f":"IF(Süt!$B30=\"\",\"\",IF(Süt!$C30<=0,\"\",VLOOKUP($P28,$P$98:$CS$631,AI$30,FALSE)))","v":""},{"$f":"IF(Süt!$B30=\"\",\"\",IF(Süt!$C30<=0,\"\",VLOOKUP($P28,$P$98:$CS$631,AJ$30,FALSE)))","v":""},{"$f":"IF(Süt!$B30=\"\",\"\",IF(Süt!$C30<=0,\"\",VLOOKUP($P28,$P$98:$CS$631,AK$30,FALSE)))","v":""},{"$f":"IF(Süt!$B30=\"\",\"\",IF(Süt!$C30<=0,\"\",VLOOKUP($P28,$P$98:$CS$631,AL$30,FALSE)))","v":""},{"$f":"IF(Süt!$B30=\"\",\"\",IF(Süt!$C30<=0,\"\",VLOOKUP($P28,$P$98:$CS$631,AM$30,FALSE)))","v":""},{"$f":"IF(Süt!$B30=\"\",\"\",IF(Süt!$C30<=0,\"\",VLOOKUP($P28,$P$98:$CS$631,AN$30,FALSE)))","v":""},{"$f":"IF(Süt!$B30=\"\",\"\",IF(Süt!$C30<=0,\"\",VLOOKUP($P28,$P$98:$CS$631,AO$30,FALSE)))","v":""},{"$f":"IF(Süt!$B30=\"\",\"\",IF(Süt!$C30<=0,\"\",VLOOKUP($P28,$P$98:$CS$631,AP$30,FALSE)))","v":""},{"$f":"IF(Süt!$B30=\"\",\"\",IF(Süt!$C30<=0,\"\",VLOOKUP($P28,$P$98:$CS$631,AQ$30,FALSE)))","v":""},{"$f":"IF(Süt!$B30=\"\",\"\",IF(Süt!$C30<=0,\"\",VLOOKUP($P28,$P$98:$CS$631,AR$30,FALSE)))","v":""},{"$f":"IF(Süt!$B30=\"\",\"\",IF(Süt!$C30<=0,\"\",VLOOKUP($P28,$P$98:$CS$631,AS$30,FALSE)))","v":""},{"$f":"IF(Süt!$B30=\"\",\"\",IF(Süt!$C30<=0,\"\",VLOOKUP($P28,$P$98:$CS$631,AT$30,FALSE)))","v":""},{"$f":"IF(Süt!$B30=\"\",\"\",IF(Süt!$C30<=0,\"\",VLOOKUP($P28,$P$98:$CS$631,AU$30,FALSE)))","v":""},{"$f":"IF(Süt!$B30=\"\",\"\",IF(Süt!$C30<=0,\"\",VLOOKUP($P28,$P$98:$CS$631,AV$30,FALSE)))","v":""},{"$f":"IF(Süt!$B30=\"\",\"\",IF(Süt!$C30<=0,\"\",VLOOKUP($P28,$P$98:$CS$631,AW$30,FALSE)))","v":""},{"$f":"IF(Süt!$B30=\"\",\"\",IF(Süt!$C30<=0,\"\",VLOOKUP($P28,$P$98:$CS$631,AX$30,FALSE)))","v":""},{"$f":"IF(Süt!$B30=\"\",\"\",IF(Süt!$C30<=0,\"\",VLOOKUP($P28,$P$98:$CS$631,AY$30,FALSE)))","v":""},{"$f":"IF(Süt!$B30=\"\",\"\",IF(Süt!$C30<=0,\"\",VLOOKUP($P28,$P$98:$CS$631,AZ$30,FALSE)))","v":""},{"$f":"IF(Süt!$B30=\"\",\"\",IF(Süt!$C30<=0,\"\",VLOOKUP($P28,$P$98:$CS$631,BA$30,FALSE)))","v":""},{"$f":"IF(Süt!$B30=\"\",\"\",IF(Süt!$C30<=0,\"\",VLOOKUP($P28,$P$98:$CS$631,BB$30,FALSE)))","v":""},{"$f":"IF(Süt!$B30=\"\",\"\",IF(Süt!$C30<=0,\"\",VLOOKUP($P28,$P$98:$CS$631,BC$30,FALSE)))","v":""},{"$f":"IF(Süt!$B30=\"\",\"\",IF(Süt!$C30<=0,\"\",VLOOKUP($P28,$P$98:$CS$631,BD$30,FALSE)))","v":""},{"$f":"IF(Süt!$B30=\"\",\"\",IF(Süt!$C30<=0,\"\",VLOOKUP($P28,$P$98:$CS$631,BE$30,FALSE)))","v":""},{"$f":"IF(Süt!$B30=\"\",\"\",IF(Süt!$C30<=0,\"\",VLOOKUP($P28,$P$98:$CS$631,BF$30,FALSE)))","v":""},{"$f":"IF(Süt!$B30=\"\",\"\",IF(Süt!$C30<=0,\"\",VLOOKUP($P28,$P$98:$CS$631,BG$30,FALSE)))","v":""},{"$f":"IF(Süt!$B30=\"\",\"\",IF(Süt!$C30<=0,\"\",VLOOKUP($P28,$P$98:$CS$631,BH$30,FALSE)))","v":""},{"$f":"IF(Süt!$B30=\"\",\"\",IF(Süt!$C30<=0,\"\",VLOOKUP($P28,$P$98:$CS$631,BI$30,FALSE)))","v":""},{"$f":"IF(Süt!$B30=\"\",\"\",IF(Süt!$C30<=0,\"\",VLOOKUP($P28,$P$98:$CS$631,BJ$30,FALSE)))","v":""},{"$f":"IF(Süt!$B30=\"\",\"\",IF(Süt!$C30<=0,\"\",VLOOKUP($P28,$P$98:$CS$631,BK$30,FALSE)))","v":""},{"$f":"IF(Süt!$B30=\"\",\"\",IF(Süt!$C30<=0,\"\",VLOOKUP($P28,$P$98:$CS$631,BL$30,FALSE)))","v":""},{"$f":"IF(Süt!$B30=\"\",\"\",IF(Süt!$C30<=0,\"\",VLOOKUP($P28,$P$98:$CS$631,BM$30,FALSE)))","v":""},{"$f":"IF(Süt!$B30=\"\",\"\",IF(Süt!$C30<=0,\"\",VLOOKUP($P28,$P$98:$CS$631,BN$30,FALSE)))","v":""},{"$f":"IF(Süt!$B30=\"\",\"\",IF(Süt!$C30<=0,\"\",VLOOKUP($P28,$P$98:$CS$631,BO$30,FALSE)))","v":""},{"$f":"IF(Süt!$B30=\"\",\"\",IF(Süt!$C30<=0,\"\",VLOOKUP($P28,$P$98:$CS$631,BP$30,FALSE)))","v":""},{"$f":"IF(Süt!$B30=\"\",\"\",IF(Süt!$C30<=0,\"\",VLOOKUP($P28,$P$98:$CS$631,BQ$30,FALSE)))","v":""},{"$f":"IF(Süt!$B30=\"\",\"\",IF(Süt!$C30<=0,\"\",VLOOKUP($P28,$P$98:$CS$631,BR$30,FALSE)))","v":""},{"$f":"IF(Süt!$B30=\"\",\"\",IF(Süt!$C30<=0,\"\",VLOOKUP($P28,$P$98:$CS$631,BS$30,FALSE)))","v":""},{"$f":"IF(Süt!$B30=\"\",\"\",IF(Süt!$C30<=0,\"\",VLOOKUP($P28,$P$98:$CS$631,BT$30,FALSE)))","v":""},{"$f":"IF(Süt!$B30=\"\",\"\",IF(Süt!$C30<=0,\"\",VLOOKUP($P28,$P$98:$CS$631,BU$30,FALSE)))","v":""},{"$f":"IF(Süt!$B30=\"\",\"\",IF(Süt!$C30<=0,\"\",VLOOKUP($P28,$P$98:$CS$631,BV$30,FALSE)))","v":""},{"$f":"IF(Süt!$B30=\"\",\"\",IF(Süt!$C30<=0,\"\",VLOOKUP($P28,$P$98:$CS$631,BW$30,FALSE)))","v":""},{"$f":"IF(Süt!$B30=\"\",\"\",IF(Süt!$C30<=0,\"\",VLOOKUP($P28,$P$98:$CS$631,BX$30,FALSE)))","v":""},{"$f":"IF(Süt!$B30=\"\",\"\",IF(Süt!$C30<=0,\"\",VLOOKUP($P28,$P$98:$CS$631,BY$30,FALSE)))","v":""},{"$f":"IF(Süt!$B30=\"\",\"\",IF(Süt!$C30<=0,\"\",VLOOKUP($P28,$P$98:$CS$631,BZ$30,FALSE)))","v":""},{"$f":"IF(Süt!$B30=\"\",\"\",IF(Süt!$C30<=0,\"\",VLOOKUP($P28,$P$98:$CS$631,CA$30,FALSE)))","v":""},{"$f":"IF(Süt!$B30=\"\",\"\",IF(Süt!$C30<=0,\"\",VLOOKUP($P28,$P$98:$CS$631,CB$30,FALSE)))","v":""},{"$f":"IF(Süt!$B30=\"\",\"\",IF(Süt!$C30<=0,\"\",VLOOKUP($P28,$P$98:$CS$631,CC$30,FALSE)))","v":""},{"$f":"IF(Süt!$B30=\"\",\"\",IF(Süt!$C30<=0,\"\",VLOOKUP($P28,$P$98:$CS$631,CD$30,FALSE)))","v":""},{"$f":"IF(Süt!$B30=\"\",\"\",IF(Süt!$C30<=0,\"\",VLOOKUP($P28,$P$98:$CS$631,CE$30,FALSE)))","v":""},{"$f":"IF(Süt!$B30=\"\",\"\",IF(Süt!$C30<=0,\"\",VLOOKUP($P28,$P$98:$CS$631,CF$30,FALSE)))","v":""},{"$f":"IF(Süt!$B30=\"\",\"\",IF(Süt!$C30<=0,\"\",VLOOKUP($P28,$P$98:$CS$631,CG$30,FALSE)))","v":""},{"$f":"IF(Süt!$B30=\"\",\"\",IF(Süt!$C30<=0,\"\",VLOOKUP($P28,$P$98:$CS$631,CH$30,FALSE)))","v":""},{"$f":"IF(Süt!$B30=\"\",\"\",IF(Süt!$C30<=0,\"\",VLOOKUP($P28,$P$98:$CS$631,CI$30,FALSE)))","v":""},{"$f":"IF(Süt!$B30=\"\",\"\",IF(Süt!$C30<=0,\"\",VLOOKUP($P28,$P$98:$CS$631,CJ$30,FALSE)))","v":""},{"$f":"IF(Süt!$B30=\"\",\"\",IF(Süt!$C30<=0,\"\",VLOOKUP($P28,$P$98:$CS$631,CK$30,FALSE)))","v":""},{"$f":"IF(Süt!$B30=\"\",\"\",IF(Süt!$C30<=0,\"\",VLOOKUP($P28,$P$98:$CS$631,CL$30,FALSE)))","v":""},{"$f":"IF(Süt!$B30=\"\",\"\",IF(Süt!$C30<=0,\"\",VLOOKUP($P28,$P$98:$CS$631,CM$30,FALSE)))","v":""},{"$f":"IF(Süt!$B30=\"\",\"\",IF(Süt!$C30<=0,\"\",VLOOKUP($P28,$P$98:$CS$631,CN$30,FALSE)))","v":""},{"$f":"IF(Süt!$B30=\"\",\"\",IF(Süt!$C30<=0,\"\",VLOOKUP($P28,$P$98:$CS$631,CO$30,FALSE)))","v":""},{"$f":"IF(Süt!$B30=\"\",\"\",IF(Süt!$C30<=0,\"\",VLOOKUP($P28,$P$98:$CS$631,CP$30,FALSE)))","v":""},{"$f":"IF(Süt!$B30=\"\",\"\",IF(Süt!$C30<=0,\"\",VLOOKUP($P28,$P$98:$CS$631,CQ$30,FALSE)))","v":""},{"$f":"IF(Süt!$B30=\"\",\"\",IF(Süt!$C30<=0,\"\",VLOOKUP($P28,$P$98:$CS$631,CR$30,FALSE)))","v":""},{"$f":"IF(Süt!$B30=\"\",\"\",IF(Süt!$C30<=0,\"\",VLOOKUP($P28,$P$98:$CS$631,CS$30,FALSE)))","v":""},-10,0.40500000000000003,0.67500000000000004,"Wt2nd",{"$f":"MW*0.92","v":627.44000000000005},"kg, İkinci buzağılama ağırlığı",null,null,null,null,null,null,null,null,null,null,"Biraz Çamurlu"]
[{"$f":"IF(Süt!A29=\"\",\"\",Süt!A29)","v":""},{"$f":"IF(Süt!B29=\"\",\"\",Süt!B29)","v":""},{"$f":"IF(Süt!C29=\"\",\"\",Süt!C29)","v":""},{"$f":"Süt!D29","v":0},{"$f":"Süt!E29","v":0},{"$f":"Süt!F29","v":0},"Kesif yem; Miktarı,kg",null,{"$f":"IF(OR(J2=\"TAMAM\",J2=\"FAZLA\")=TRUE,\"\",(H2-I2))","v":""},null,null,null,0,null,"",{"$f":"IF(Süt!B31=\"\",\"\",IF(Süt!C31<=0,\"\",Süt!B31))","v":""},{"$f":"IF(Süt!$B31=\"\",\"\",IF(Süt!$C31<=0,\"\",VLOOKUP($P29,$P$98:$CS$631,Q$30,FALSE)))","v":""},{"$f":"IF(Süt!$B31=\"\",\"\",IF(Süt!$C31<=0,\"\",VLOOKUP($P29,$P$98:$CS$631,R$30,FALSE)))","v":""},{"$f":"IF(Süt!$B31=\"\",\"\",IF(Süt!$C31<=0,\"\",VLOOKUP($P29,$P$98:$CS$631,S$30,FALSE)))","v":""},{"$f":"IF(Süt!$B31=\"\",\"\",IF(Süt!$C31<=0,\"\",VLOOKUP($P29,$P$98:$CS$631,T$30,FALSE)))","v":""},{"$f":"IF(Süt!$B31=\"\",\"\",IF(Süt!$C31<=0,\"\",VLOOKUP($P29,$P$98:$CS$631,U$30,FALSE)))","v":""},{"$f":"IF(Süt!$B31=\"\",\"\",IF(Süt!$C31<=0,\"\",VLOOKUP($P29,$P$98:$CS$631,V$30,FALSE)))","v":""},{"$f":"IF(Süt!$B31=\"\",\"\",IF(Süt!$C31<=0,\"\",VLOOKUP($P29,$P$98:$CS$631,W$30,FALSE)))","v":""},{"$f":"IF(Süt!$B31=\"\",\"\",IF(Süt!$C31<=0,\"\",VLOOKUP($P29,$P$98:$CS$631,X$30,FALSE)))","v":""},{"$f":"IF(Süt!$B31=\"\",\"\",IF(Süt!$C31<=0,\"\",VLOOKUP($P29,$P$98:$CS$631,Y$30,FALSE)))","v":""},{"$f":"IF(Süt!$B31=\"\",\"\",IF(Süt!$C31<=0,\"\",VLOOKUP($P29,$P$98:$CS$631,Z$30,FALSE)))","v":""},{"$f":"IF(Süt!$B31=\"\",\"\",IF(Süt!$C31<=0,\"\",VLOOKUP($P29,$P$98:$CS$631,AA$30,FALSE)))","v":""},{"$f":"IF(Süt!$B31=\"\",\"\",IF(Süt!$C31<=0,\"\",VLOOKUP($P29,$P$98:$CS$631,AB$30,FALSE)))","v":""},{"$f":"IF(Süt!$B31=\"\",\"\",IF(Süt!$C31<=0,\"\",VLOOKUP($P29,$P$98:$CS$631,AC$30,FALSE)))","v":""},{"$f":"IF(Süt!$B31=\"\",\"\",IF(Süt!$C31<=0,\"\",VLOOKUP($P29,$P$98:$CS$631,AD$30,FALSE)))","v":""},{"$f":"IF(Süt!$B31=\"\",\"\",IF(Süt!$C31<=0,\"\",VLOOKUP($P29,$P$98:$CS$631,AE$30,FALSE)))","v":""},{"$f":"IF(Süt!$B31=\"\",\"\",IF(Süt!$C31<=0,\"\",VLOOKUP($P29,$P$98:$CS$631,AF$30,FALSE)))","v":""},{"$f":"IF(Süt!$B31=\"\",\"\",IF(Süt!$C31<=0,\"\",VLOOKUP($P29,$P$98:$CS$631,AG$30,FALSE)))","v":""},{"$f":"IF(Süt!$B31=\"\",\"\",IF(Süt!$C31<=0,\"\",VLOOKUP($P29,$P$98:$CS$631,AH$30,FALSE)))","v":""},{"$f":"IF(Süt!$B31=\"\",\"\",IF(Süt!$C31<=0,\"\",VLOOKUP($P29,$P$98:$CS$631,AI$30,FALSE)))","v":""},{"$f":"IF(Süt!$B31=\"\",\"\",IF(Süt!$C31<=0,\"\",VLOOKUP($P29,$P$98:$CS$631,AJ$30,FALSE)))","v":""},{"$f":"IF(Süt!$B31=\"\",\"\",IF(Süt!$C31<=0,\"\",VLOOKUP($P29,$P$98:$CS$631,AK$30,FALSE)))","v":""},{"$f":"IF(Süt!$B31=\"\",\"\",IF(Süt!$C31<=0,\"\",VLOOKUP($P29,$P$98:$CS$631,AL$30,FALSE)))","v":""},{"$f":"IF(Süt!$B31=\"\",\"\",IF(Süt!$C31<=0,\"\",VLOOKUP($P29,$P$98:$CS$631,AM$30,FALSE)))","v":""},{"$f":"IF(Süt!$B31=\"\",\"\",IF(Süt!$C31<=0,\"\",VLOOKUP($P29,$P$98:$CS$631,AN$30,FALSE)))","v":""},{"$f":"IF(Süt!$B31=\"\",\"\",IF(Süt!$C31<=0,\"\",VLOOKUP($P29,$P$98:$CS$631,AO$30,FALSE)))","v":""},{"$f":"IF(Süt!$B31=\"\",\"\",IF(Süt!$C31<=0,\"\",VLOOKUP($P29,$P$98:$CS$631,AP$30,FALSE)))","v":""},{"$f":"IF(Süt!$B31=\"\",\"\",IF(Süt!$C31<=0,\"\",VLOOKUP($P29,$P$98:$CS$631,AQ$30,FALSE)))","v":""},{"$f":"IF(Süt!$B31=\"\",\"\",IF(Süt!$C31<=0,\"\",VLOOKUP($P29,$P$98:$CS$631,AR$30,FALSE)))","v":""},{"$f":"IF(Süt!$B31=\"\",\"\",IF(Süt!$C31<=0,\"\",VLOOKUP($P29,$P$98:$CS$631,AS$30,FALSE)))","v":""},{"$f":"IF(Süt!$B31=\"\",\"\",IF(Süt!$C31<=0,\"\",VLOOKUP($P29,$P$98:$CS$631,AT$30,FALSE)))","v":""},{"$f":"IF(Süt!$B31=\"\",\"\",IF(Süt!$C31<=0,\"\",VLOOKUP($P29,$P$98:$CS$631,AU$30,FALSE)))","v":""},{"$f":"IF(Süt!$B31=\"\",\"\",IF(Süt!$C31<=0,\"\",VLOOKUP($P29,$P$98:$CS$631,AV$30,FALSE)))","v":""},{"$f":"IF(Süt!$B31=\"\",\"\",IF(Süt!$C31<=0,\"\",VLOOKUP($P29,$P$98:$CS$631,AW$30,FALSE)))","v":""},{"$f":"IF(Süt!$B31=\"\",\"\",IF(Süt!$C31<=0,\"\",VLOOKUP($P29,$P$98:$CS$631,AX$30,FALSE)))","v":""},{"$f":"IF(Süt!$B31=\"\",\"\",IF(Süt!$C31<=0,\"\",VLOOKUP($P29,$P$98:$CS$631,AY$30,FALSE)))","v":""},{"$f":"IF(Süt!$B31=\"\",\"\",IF(Süt!$C31<=0,\"\",VLOOKUP($P29,$P$98:$CS$631,AZ$30,FALSE)))","v":""},{"$f":"IF(Süt!$B31=\"\",\"\",IF(Süt!$C31<=0,\"\",VLOOKUP($P29,$P$98:$CS$631,BA$30,FALSE)))","v":""},{"$f":"IF(Süt!$B31=\"\",\"\",IF(Süt!$C31<=0,\"\",VLOOKUP($P29,$P$98:$CS$631,BB$30,FALSE)))","v":""},{"$f":"IF(Süt!$B31=\"\",\"\",IF(Süt!$C31<=0,\"\",VLOOKUP($P29,$P$98:$CS$631,BC$30,FALSE)))","v":""},{"$f":"IF(Süt!$B31=\"\",\"\",IF(Süt!$C31<=0,\"\",VLOOKUP($P29,$P$98:$CS$631,BD$30,FALSE)))","v":""},{"$f":"IF(Süt!$B31=\"\",\"\",IF(Süt!$C31<=0,\"\",VLOOKUP($P29,$P$98:$CS$631,BE$30,FALSE)))","v":""},{"$f":"IF(Süt!$B31=\"\",\"\",IF(Süt!$C31<=0,\"\",VLOOKUP($P29,$P$98:$CS$631,BF$30,FALSE)))","v":""},{"$f":"IF(Süt!$B31=\"\",\"\",IF(Süt!$C31<=0,\"\",VLOOKUP($P29,$P$98:$CS$631,BG$30,FALSE)))","v":""},{"$f":"IF(Süt!$B31=\"\",\"\",IF(Süt!$C31<=0,\"\",VLOOKUP($P29,$P$98:$CS$631,BH$30,FALSE)))","v":""},{"$f":"IF(Süt!$B31=\"\",\"\",IF(Süt!$C31<=0,\"\",VLOOKUP($P29,$P$98:$CS$631,BI$30,FALSE)))","v":""},{"$f":"IF(Süt!$B31=\"\",\"\",IF(Süt!$C31<=0,\"\",VLOOKUP($P29,$P$98:$CS$631,BJ$30,FALSE)))","v":""},{"$f":"IF(Süt!$B31=\"\",\"\",IF(Süt!$C31<=0,\"\",VLOOKUP($P29,$P$98:$CS$631,BK$30,FALSE)))","v":""},{"$f":"IF(Süt!$B31=\"\",\"\",IF(Süt!$C31<=0,\"\",VLOOKUP($P29,$P$98:$CS$631,BL$30,FALSE)))","v":""},{"$f":"IF(Süt!$B31=\"\",\"\",IF(Süt!$C31<=0,\"\",VLOOKUP($P29,$P$98:$CS$631,BM$30,FALSE)))","v":""},{"$f":"IF(Süt!$B31=\"\",\"\",IF(Süt!$C31<=0,\"\",VLOOKUP($P29,$P$98:$CS$631,BN$30,FALSE)))","v":""},{"$f":"IF(Süt!$B31=\"\",\"\",IF(Süt!$C31<=0,\"\",VLOOKUP($P29,$P$98:$CS$631,BO$30,FALSE)))","v":""},{"$f":"IF(Süt!$B31=\"\",\"\",IF(Süt!$C31<=0,\"\",VLOOKUP($P29,$P$98:$CS$631,BP$30,FALSE)))","v":""},{"$f":"IF(Süt!$B31=\"\",\"\",IF(Süt!$C31<=0,\"\",VLOOKUP($P29,$P$98:$CS$631,BQ$30,FALSE)))","v":""},{"$f":"IF(Süt!$B31=\"\",\"\",IF(Süt!$C31<=0,\"\",VLOOKUP($P29,$P$98:$CS$631,BR$30,FALSE)))","v":""},{"$f":"IF(Süt!$B31=\"\",\"\",IF(Süt!$C31<=0,\"\",VLOOKUP($P29,$P$98:$CS$631,BS$30,FALSE)))","v":""},{"$f":"IF(Süt!$B31=\"\",\"\",IF(Süt!$C31<=0,\"\",VLOOKUP($P29,$P$98:$CS$631,BT$30,FALSE)))","v":""},{"$f":"IF(Süt!$B31=\"\",\"\",IF(Süt!$C31<=0,\"\",VLOOKUP($P29,$P$98:$CS$631,BU$30,FALSE)))","v":""},{"$f":"IF(Süt!$B31=\"\",\"\",IF(Süt!$C31<=0,\"\",VLOOKUP($P29,$P$98:$CS$631,BV$30,FALSE)))","v":""},{"$f":"IF(Süt!$B31=\"\",\"\",IF(Süt!$C31<=0,\"\",VLOOKUP($P29,$P$98:$CS$631,BW$30,FALSE)))","v":""},{"$f":"IF(Süt!$B31=\"\",\"\",IF(Süt!$C31<=0,\"\",VLOOKUP($P29,$P$98:$CS$631,BX$30,FALSE)))","v":""},{"$f":"IF(Süt!$B31=\"\",\"\",IF(Süt!$C31<=0,\"\",VLOOKUP($P29,$P$98:$CS$631,BY$30,FALSE)))","v":""},{"$f":"IF(Süt!$B31=\"\",\"\",IF(Süt!$C31<=0,\"\",VLOOKUP($P29,$P$98:$CS$631,BZ$30,FALSE)))","v":""},{"$f":"IF(Süt!$B31=\"\",\"\",IF(Süt!$C31<=0,\"\",VLOOKUP($P29,$P$98:$CS$631,CA$30,FALSE)))","v":""},{"$f":"IF(Süt!$B31=\"\",\"\",IF(Süt!$C31<=0,\"\",VLOOKUP($P29,$P$98:$CS$631,CB$30,FALSE)))","v":""},{"$f":"IF(Süt!$B31=\"\",\"\",IF(Süt!$C31<=0,\"\",VLOOKUP($P29,$P$98:$CS$631,CC$30,FALSE)))","v":""},{"$f":"IF(Süt!$B31=\"\",\"\",IF(Süt!$C31<=0,\"\",VLOOKUP($P29,$P$98:$CS$631,CD$30,FALSE)))","v":""},{"$f":"IF(Süt!$B31=\"\",\"\",IF(Süt!$C31<=0,\"\",VLOOKUP($P29,$P$98:$CS$631,CE$30,FALSE)))","v":""},{"$f":"IF(Süt!$B31=\"\",\"\",IF(Süt!$C31<=0,\"\",VLOOKUP($P29,$P$98:$CS$631,CF$30,FALSE)))","v":""},{"$f":"IF(Süt!$B31=\"\",\"\",IF(Süt!$C31<=0,\"\",VLOOKUP($P29,$P$98:$CS$631,CG$30,FALSE)))","v":""},{"$f":"IF(Süt!$B31=\"\",\"\",IF(Süt!$C31<=0,\"\",VLOOKUP($P29,$P$98:$CS$631,CH$30,FALSE)))","v":""},{"$f":"IF(Süt!$B31=\"\",\"\",IF(Süt!$C31<=0,\"\",VLOOKUP($P29,$P$98:$CS$631,CI$30,FALSE)))","v":""},{"$f":"IF(Süt!$B31=\"\",\"\",IF(Süt!$C31<=0,\"\",VLOOKUP($P29,$P$98:$CS$631,CJ$30,FALSE)))","v":""},{"$f":"IF(Süt!$B31=\"\",\"\",IF(Süt!$C31<=0,\"\",VLOOKUP($P29,$P$98:$CS$631,CK$30,FALSE)))","v":""},{"$f":"IF(Süt!$B31=\"\",\"\",IF(Süt!$C31<=0,\"\",VLOOKUP($P29,$P$98:$CS$631,CL$30,FALSE)))","v":""},{"$f":"IF(Süt!$B31=\"\",\"\",IF(Süt!$C31<=0,\"\",VLOOKUP($P29,$P$98:$CS$631,CM$30,FALSE)))","v":""},{"$f":"IF(Süt!$B31=\"\",\"\",IF(Süt!$C31<=0,\"\",VLOOKUP($P29,$P$98:$CS$631,CN$30,FALSE)))","v":""},{"$f":"IF(Süt!$B31=\"\",\"\",IF(Süt!$C31<=0,\"\",VLOOKUP($P29,$P$98:$CS$631,CO$30,FALSE)))","v":""},{"$f":"IF(Süt!$B31=\"\",\"\",IF(Süt!$C31<=0,\"\",VLOOKUP($P29,$P$98:$CS$631,CP$30,FALSE)))","v":""},{"$f":"IF(Süt!$B31=\"\",\"\",IF(Süt!$C31<=0,\"\",VLOOKUP($P29,$P$98:$CS$631,CQ$30,FALSE)))","v":""},{"$f":"IF(Süt!$B31=\"\",\"\",IF(Süt!$C31<=0,\"\",VLOOKUP($P29,$P$98:$CS$631,CR$30,FALSE)))","v":""},{"$f":"IF(Süt!$B31=\"\",\"\",IF(Süt!$C31<=0,\"\",VLOOKUP($P29,$P$98:$CS$631,CS$30,FALSE)))","v":""},-11,0.43200000000000016,0.7020000000000004,"Wt3rd",{"$f":"MW","v":682},"kg, Üçüncü buzağılama ağırlığı",null,null,null,null,null,null,null,null,null,null,"Islak/Karışık"]
[{"$f":"IF(Süt!A30=\"\",\"\",Süt!A30)","v":""},{"$f":"IF(Süt!B30=\"\",\"\",Süt!B30)","v":""},{"$f":"IF(Süt!C30=\"\",\"\",Süt!C30)","v":""},{"$f":"Süt!D30","v":0},{"$f":"Süt!E30","v":0},{"$f":"Süt!F30","v":0},"HP,% KM",null,{"$f":"IF(OR(J6=\"TAMAM\",J6=\"FAZLA\")=TRUE,\"\",((H6-I6)/10)/($H2-$I2))","v":""},null,null,null,null,null,null,null,2,{"$f":"Q30+1","v":3},4,5,6,7,8,9,10,11,12,13,14,15,16,17,18,19,20,21,22,23,24,25,26,27,28,29,30,31,32,33,34,{"$f":"AW30+1","v":35},36,37,38,39,40,41,42,43,44,45,46,47,48,49,50,51,52,53,54,55,56,57,58,59,60,61,62,63,64,65,66,{"$f":"CC30+1","v":67},68,69,70,71,72,73,74,75,76,77,78,79,80,81,82,-12,0.45900000000000019,0.72900000000000043,"Wt1stBred",{"$f":"MW*0.55","v":375.1},"kg, İlk sıfattaki hedef ağırlığı",null,null,null,null,null,null,null,null,null,null,"Çamur yada Karla Kaplı"]
[{"$f":"IF(Süt!A31=\"\",\"\",Süt!A31)","v":""},{"$f":"IF(Süt!B31=\"\",\"\",Süt!B31)","v":""},{"$f":"IF(Süt!C31=\"\",\"\",Süt!C31)","v":""},{"$f":"Süt!D31","v":0},{"$f":"Süt!E31","v":0},{"$f":"Süt!F31","v":0},"ME,Mcal/kg KM",null,{"$f":"IF(OR(J13=\"TAMAM\",J13=\"FAZLA\")=TRUE,\"\",IF(OR(AnimalType=\"Sağmal İnek\",AnimalType=\"Kurudaki İnek\")=TRUE,  (((H13-I13)/($H2-$I2))+0.45)/0.8,  (H13-I13)/($H2-$I2)   ))","v":""},null,null,null,null,null,null,null,{"$f":"SUM(Q34:Q60)","v":13.963475128672204},{"$f":"SUM(R34:R60)","v":13432.911404309303},{"$f":"SUM(S34:S60)","v":428.41110189859052},{"$f":"SUM(T34:T50)","v":13490.643487799136},{"$f":"SUM(U34:U60)","v":19.589881134942321},51.42978305623808,null,null,32.432454260230088,19.851129073307394,21.138159154151602,2951.987462864884,121.52674155047742,214.58667999999997,7.69240117152337,{"$f":"IF(TotalRegDMFed >0,SUM(AF34:AF60),0)","v":0.56776954745161057},{"$f":"IF(TotalDMFed > 0,SUM(AG34:AG60)/TotalDMFed,0)","v":1.6933260521874465},{"$f":"SUM(AH34:AH60)","v":8.9062141989609671},125.71299999999998,5.7286798824209617,443.42642155047736,20.276484086826738,6.2672803483119637,null,{"$f":"SUM(AO34:AO60)","v":30.6},null,{"$f":"SUM(AQ34:AQ60)","v":10.391795690153197},{"$f":"SUM(AR34:AR60)","v":10.340207351287752},{"$f":"SUM(AS34:AS60)","v":6.1483594098588714},null,{"$f":"SUM(AU34:AU60)","v":2.0615872156285708},0.89040024723631417,0.67673542646929241,44.481637504122183,19.367194101554823,35.343014151380643,67.20387589631423,41.399846941687159,13.659603753367049,13.703495113086296,41.790701750197059,34.521019263665877,10.560778607757353,50.298596862896893,0,0,0,7.6473581282629359,0.12375366559519188,5.083283606768426E-2,6.5172529246310937E-2,4.4661350144067274E-2,4.2685369418966765E-2,6.8296591070346833E-3,0.26391263478386934,0.2375213713054824,4.4951016704128488E-2,4.0455915033715636E-2,9.2207337271184506E-2,8.2986603544066062E-2,4.3490866208851897E-2,4.3490866208851897E-2,{"$f":"SUM(CA34:CA60)","v":6.061947},6.061947,375.81214996892351,15.03248599875694,16.830556999999999,14.30597345,3556.5462155099831,355.65462155099829,1750.7478615312052,17.507478615312053,7.6554738707108685,7.6554738707108685,1627.0119301490552,244.05178952235826,0,0,423.30577,66.388900000000007,600,-13,0.48600000000000021,0.75600000000000045,"ADG1st",{"$f":"IF((FirstCalf - Age) > 0,(Wt1st - (BW - CW)) / ((FirstCalf - Age) * 30.4),0)","v":0},"kg/gün, İlk buzağılamadaki ortalama GCAA"]
[null,null,null,null,null,null,"Ca,% KM",null,{"$f":"IF(OR(J14=\"TAMAM\",J14=\"FAZLA\")=TRUE,\"\",(((H14-I14)/10))/0.6/($H2-$I2))","v":""},null,null,null,null,null,{"$f":"SUM(O34:O60)","v":39.617116065205927},null,"TotalTDN","TDN-1X",".TDN_ActX","TDN_Act(X)","DiscDE","MEng",null,null,"NEm","NEg","DM","CP","tdCP","tdNFC","DietaryNFC","Ether Extract","TotalDigestibleFat","NDF","dNDF","ADF",".TDN",".DE","ConcSum","Kp","tdFat","ProMEng","ProNEl","ProNEm","ProNEg","ilk","RDP(X)","RUP(X)","DigestedRUP","Arg","His","Ile","Leu","Lys","Met","Cys","Phe","Thr","Trp","Val","CalfStarter","MilkFeeds","RegFeeds","ForageNDF","Ca","Ca","P","P","Mg","Mg","K","K","Na","Na","Cl","Cl","S","S","Co","Co","Cu","Cu","I","I","Fe","Fe","Mn","Mn","Se","Se","Zn","Zn","Mo","Mo","Vit A=Abs","Vit D=Abs","Vit E=Abs",{"$f":"CT31-1","v":-14},0.51300000000000023,0.78300000000000047,"ADG2nd",{"$f":" IF(CalfInt > 0,(Wt2nd - Wt1st) / (CalfInt * 30.4),0)","v":0.18695175438596506},"kg/gün, İkinci buzağılamadaki ortalama GCAA",null,null,null,null,null,null,null,null,null,null,"Sıcaklık Stresi"]
[null,null,null,null,null,null,"P,% KM",null,{"$f":"IF(OR(J16=\"TAMAM\",J16=\"FAZLA\")=TRUE,\"\",(((H16-I16)/10))/0.7/($H2-$I2))","v":""},null,null,null,null,null,"MİKTAR","HESAPLAMALAR",null,"g",null,null,null,"Mcal/gün",null,null,"Mcal/gün","Mcal/gün","kg","g",null,null,null,"%",null,"g/gün",null,"g/gün",null,null,null,null,null,null,null,null,null,"RDP",null,null,"%","%CP","%CP","%CP","%CP","%CP","%CP","%CP","%CP","%CP","%CP","%CP",null,null,null,"g/gün",null,"Abs",null,"Abs",null,"Abs",null,"Abs",null,"Abs",null,"Abs",null,"Abs","mg/kg","Abs","mg","Abs","mg","Abs","mg","Abs","mg","Abs","mg","Abs","mg","Abs","mg","Abs","(1000 IU/kg)","(1000 IU/kg)","(IU/kg)",-15,0.54,0.8100000000000005,"ADG3rd",{"$f":" IF(CalfInt > 0,(Wt3rd - Wt2nd) / (CalfInt * 30.4),0)","v":0.14956140350877181},"kg/gün, Üçüncü buzağılamadaki ortalama GCAA",null,null,null,null,null,null,null,null,null,null,"Yok"]
[null,"Hayvan sayısını giriniz :",20,null,null,null,null,null,null,null,null,null,null,null,{"$f":"IF(Süt!B5=\"\",\"\",IF(Süt!C5<=0,\"\",Süt!C5))","v":25},{"$f":"P3","v":"Mısır Silajı, %29-33 KM"},{"$f":"IF(Süt!$B5=\"\",\"\",IF(Süt!$C5<=0,\"\",IF(MID(AN3,1,9)=\"Calf Feed\",0,(AK34/100)*AA34)))","v":5.1053358597746525},{"$f":"IF(Süt!$B5=\"\",\"\",IF(Süt!$C5<=0,\"\",(R3/100)*(AA34*1000)))","v":4772.4674999999997},{"$f":"IF(Süt!$B5=\"\",\"\",IF(Süt!$C5<=0,\"\",IF(MID(AN3,1,9)=\"Calf Feed\",0,AK34*Discount)))","v":63.034617428753997},{"$f":"IF(Süt!$B5=\"\",\"\",IF(Süt!$C5<=0,\"\",(S34/100)*(AA34*1000)))","v":4932.4588137999999},{"$f":"IF(Süt!$B5=\"\",\"\",IF(Süt!$C5<=0,\"\",Discount*AL34))","v":2.7271603940936369},{"$f":"IF(Süt!$B5=\"\",\"\",IF(Süt!$C5<=0,\"\",IF(AP34<0,0,AP34)*AA34))","v":18.046578384620535},null,null,{"$f":"IF(Süt!$B5=\"\",\"\",IF(Süt!$C5<=0,\"\",IF(AR34<0,0,AR34)*AA34))","v":11.283114799601801},{"$f":"IF(Süt!$B5=\"\",\"\",IF(Süt!$C5<=0,\"\",IF(AS34<0,0,AS34)*AA34))","v":6.6971982210122514},{"$f":"IF(Süt!$B5=\"\",\"\",IF(Süt!$C5<=0,\"\",$O34*AA3/100))","v":7.8250000000000002},{"$f":"IF(Süt!$B5=\"\",\"\",IF(Süt!$C5<=0,\"\",(AB3/ 100) * (AA34 * 1000)))","v":563.40000000000009},{"$f":"IF(Süt!$B5=\"\",\"\",IF(Süt!$C5<=0,\"\",IF(MID(AN3,1,9)<>\"Calf Feed\",IF(AB3 > 0,IF(S3=\"Forage\", EXP((-1.2 * (AE3 / AB3))) * AB3,IF(AN3 = \"Animal Protein\",(AC3 * AB3),(1 - (0.4 * (AE3 / AB3))) * AB3)),0),0)))","v":6.4071487511137715},{"$f":"IF(Süt!$B5=\"\",\"\",IF(Süt!$C5<=0,\"\",IF(MID(AN3,1,9)<>\"Calf Feed\",0.98 * (100 - AH3 - AB3 - AF3 - AL3 + AD3) * T3,0)))","v":29.754759999999994},{"$f":"IF(Süt!$B5=\"\",\"\",IF(Süt!$C5<=0,\"\",IF(MID(AN3,1,9)<>\"Calf Feed\",((100 - AH3 - AB3 - AF3 - AL3 + AD3) /100)*AA34,0)))","v":2.5274749999999999},{"$f":"IF(Süt!$B5=\"\",\"\",IF(Süt!$C5<=0,\"\",IF(MID(AN3,1,9)=\"Calf Feed\",0,(AF3/100)*AA34)))","v":0.26605000000000001},{"$f":"IF(Süt!$B5=\"\",\"\",IF(Süt!$C5<=0,\"\",IF(AN3 = \"Fat and Oil\",IF(S3 = \"Fatty acids\",(AF3 * AG3)*AA34,(10 + ((AF3 - 10) * AG3))*AA34),(AF3 - 1)*AA34)))","v":18.78},{"$f":"IF(Süt!$B5=\"\",\"\",IF(Süt!$C5<=0,\"\",AH3/100*$AA34))","v":4.1394250000000001},{"$f":"IF(Süt!$B5=\"\",\"\",IF(Süt!$C5<=0,\"\",IF(MID(AN3,1,9)<>\"Calf Feed\",IF(AH3 >AD3,AI3*AH3,0),0)))","v":30.681999999999999},{"$f":"IF(Süt!$B5=\"\",\"\",IF(Süt!$C5<=0,\"\",AJ3/100*$AA34))","v":2.4335750000000003},{"$f":"IF(Süt!$B5=\"\",\"\",IF(Süt!$C5<=0,\"\",IF(MID(AN3,1,9)<>\"Calf Feed\",IF(AN3=\"Fat and Oil\",IF(S3=\"Fatty acids\",AF3*AG3*2.25,10+(((AF3-10)*AG3*2.25))),IF(AN3=\"Animal Protein\",(AC3*AB3)+((AF3-1)*2.25)+((0.98*(100-AB3-AL3-AF3))-7),IF(AI34>0,AD34+AC34+AO34+AI34-7,IF(AB3>0,((0.98*T3)*(100-AB3-AF3-AL3))+(AB3*(1-(0.4*AE3/AB3)))+((2.25*(AF3-1)-7)),((0.98*T3)*(100-AF3-AL3))+(2.25*(AF3-1)-7))))),AA34)))","v":65.243908751113764},{"$f":"IF(Süt!$B5=\"\",\"\",IF(Süt!$C5<=0,\"\",IF(MID(AN3,1,9)<>\"Calf Feed\",IF(AN3=\"Fat and Oil\",IF(S3=\"Fatty acids\",AF3*AG3*0.094,((AF3-10)*AG3*0.094)+0.43),IF(AN3=\"Animal Protein\",(AD34*0.042)+(AC34*0.056)+(0.094*(AO34/2.25))-0.3,IF(AI34>0,(AD34*0.042)+(AI34*0.042)+(AC34*0.056)+(0.094*(AO34/2.25))-0.3,IF(AB3>0,(0.98*T3*(0.042*(100-AB3-AF3-AL3))+(AB3*(0.056*(1-(0.4*AE3/AB3)))))+(0.094*(AF3-1))-0.3,(0.98*T3)*(0.042*(100-AF3-AL3))+(0.094*(AF3-1))-0.3)))),U3)))","v":2.8227442500623714},{"$f":"IF(AM3=\"Conc\",AA34,0)","v":0},{"$f":"IF(ISERROR(IF(AM3=\"Conc\",2.904 + (1.375 * BW_DMI) - (0.02 * PercentConc),IF(AM3=\"Dry\",3.362 + (0.479 * BW_DMI) - (0.017 * AH3) - (0.007 * PercentConc),IF(AM3=\"Wet\",3.054 + (0.614 * BW_DMI),0)))<0)=TRUE,0,IF(AM3=\"Conc\",2.904 + (1.375 * BW_DMI) - (0.02 * PercentConc),IF(AM3=\"Dry\",3.362 + (0.479 * BW_DMI) - (0.017 * AH3) - (0.007 * PercentConc),IF(AM3=\"Wet\",3.054 + (0.614 * BW_DMI),0))))","v":5.0507430339460129},{"$f":"IF(Süt!$B5=\"\",\"\",IF(Süt!$C5<=0,\"\",IF(MID(AN3,1,9)<>\"Calf Feed\",IF(AF3 <1,0,(AF3-1)*2.25),0)))","v":5.3999999999999995},{"$f":"IF(Süt!$B5=\"\",\"\",IF(Süt!$C5<=0,\"\",IF(AN3 <> \"Fat and Oil\",IF(AF3 >= 3,IF(AnimalType <> \"Damızlık Düve\",(1.01 * U34) - 0.45 + (0.0046 * (AF3 - 3)),0.82 * AL34),IF(AND(AnimalType <> \"Buzağı\",AnimalType <> \"Damızlık Düve\")=TRUE,(1.01 * U34) - 0.45,0.82 * AL34)),U34)))","v":2.3062719980345729},{"$f":"IF(Süt!$B5=\"\",\"\",IF(Süt!$C5<=0,\"\",IF(IF(AN3 <> \"Fat and Oil\",IF(AF3 >= 3,(0.703 * AP34) - 0.19 + ((((0.097 * AP34) + 0.19) / 97) * (AF3 - 3)),(0.703 * AP34) - 0.19),0.8*U34)<0,0,IF(AN3 <> \"Fat and Oil\",IF(AF3 >= 3,(0.703 * AP34) - 0.19 + ((((0.097 * AP34) + 0.19) / 97) * (AF3 - 3)),(0.703 * AP34) - 0.19   ),0.8*U34))))","v":1.4330152285721578},{"$f":"IF(Süt!$B5=\"\",\"\",IF(Süt!$C5<=0,\"\",IF(MID(AN3,1,9)=\"Calf Feed\",0.75*AA34*V34,IF(IF(AN3 <> \"Fat and Oil\", ((1.37 * 0.82 * AL34) - (0.138 * (0.82 * AL34) ^ 2)+ (0.0105 * (0.82 * AL34) ^ 3) - 1.12),0.8 * U34)<0,0,IF(AN3 <> \"Fat and Oil\", ((1.37 * 0.82 * AL34) - (0.138 * (0.82 * AL34) ^ 2)+ (0.0105 * (0.82 * AL34) ^ 3) - 1.12),0.8 * U34)))))","v":1.4419316037829777},{"$f":"IF(Süt!$B5=\"\",\"\",IF(Süt!$C5<=0,\"\",IF(MID(AN3,1,9)=\"Calf Feed\",0.57*AA34*V34,IF(IF(AN3 <> \"Fat and Oil\",((1.42 * 0.82 * AL34) - (0.174 * (0.82 * AL34)^2)+ (0.0122 * (0.82 * AL34)^3) - 1.65),0.55 * U34)<0,0,IF(AN3 <> \"Fat and Oil\",((1.42 * 0.82 * AL34) - (0.174 * (0.82 * AL34)^2)+ (0.0122 * (0.82 * AL34)^3) - 1.65),0.55 * U34)))))","v":0.85587197712616625},{"$f":"IF(Süt!$B5=\"\",\"\",IF(Süt!$C5<=0,\"\",IF((AT3+AN34)>0,((AT3/(AT3+AN34))*((((AR3/100)*(AB3/100))*AA34)))+(((AQ3/100)*(AB3/100))*AA34),0)))","v":0.37919919762283677},{"$f":"IF(Süt!$B5=\"\",\"\",IF(Süt!$C5<=0,\"\",IF(ISERROR(AB34/1000 - E80)=TRUE,0,AB34/1000 - E80)))","v":0.39056906583505502},{"$f":"IF(Süt!$B5=\"\",\"\",IF(Süt!$C5<=0,\"\",IF((AT3+AN34)>0,   IF(BW_DMI<2,  C80,  C80+(BW_DMI-2)*((D80-C80)/2) ),0)))","v":0.1728309341649451},{"$f":"IF(Süt!$B5=\"\",\"\",IF(Süt!$C5<=0,\"\",E80*(AW3/100)))","v":0.11700654242966785},{"$f":"IF(Süt!$B5=\"\",\"\",IF(Süt!$C5<=0,\"\",IF(AND($AA34 > 0, $AB3 > 0, $AB34 > 0),((($AA34 / TotalDMFed) * ($AB3 / 100) * (($AV34 * 1000) / $AB34)* (AX3 / 100) * TotalDMFed) * 1000),0)))","v":3.4047694030494182},{"$f":"IF(Süt!$B5=\"\",\"\",IF(Süt!$C5<=0,\"\",IF(AND($AA34 > 0, $AB3 > 0, $AB34 > 0),((($AA34 / TotalDMFed) * ($AB3 / 100) * (($AV34 * 1000) / $AB34)* (AY3 / 100) * TotalDMFed) * 1000),0)))","v":3.0936737215525167},{"$f":"IF(Süt!$B5=\"\",\"\",IF(Süt!$C5<=0,\"\",IF(AND($AA34 > 0, $AB3 > 0, $AB34 > 0),((($AA34 / TotalDMFed) * ($AB3 / 100) * (($AV34 * 1000) / $AB34)* (AZ3 / 100) * TotalDMFed) * 1000),0)))","v":5.7725532011091651},{"$f":"IF(Süt!$B5=\"\",\"\",IF(Süt!$C5<=0,\"\",IF(AND($AA34 > 0, $AB3 > 0, $AB34 > 0),((($AA34 / TotalDMFed) * ($AB3 / 100) * (($AV34 * 1000) / $AB34)* (BA3 / 100) * TotalDMFed) * 1000),0)))","v":14.846177244768784},{"$f":"IF(Süt!$B5=\"\",\"\",IF(Süt!$C5<=0,\"\",IF(AND($AA34 > 0, $AB3 > 0, $AB34 > 0),((($AA34 / TotalDMFed) * ($AB3 / 100) * (($AV34 * 1000) / $AB34)* (BB3 / 100) * TotalDMFed) * 1000),0)))","v":4.3380564475401213},{"$f":"IF(Süt!$B5=\"\",\"\",IF(Süt!$C5<=0,\"\",IF(AND($AA34 > 0, $AB3 > 0, $AB34 > 0),((($AA34 / TotalDMFed) * ($AB3 / 100) * (($AV34 * 1000) / $AB34)* (BC3 / 100) * TotalDMFed) * 1000),0)))","v":2.6443132927236599},{"$f":"IF(Süt!$B5=\"\",\"\",IF(Süt!$C5<=0,\"\",IF(AND($AA34 > 0, $AB3 > 0, $AB34 > 0),((($AA34 / TotalDMFed) * ($AB3 / 100) * (($AV34 * 1000) / $AB34)* (BD3 / 100) * TotalDMFed) * 1000),0)))","v":2.3159345178102644},{"$f":"IF(Süt!$B5=\"\",\"\",IF(Süt!$C5<=0,\"\",IF(AND($AA34 > 0, $AB3 > 0, $AB34 > 0),((($AA34 / TotalDMFed) * ($AB3 / 100) * (($AV34 * 1000) / $AB34)* (BE3 / 100) * TotalDMFed) * 1000),0)))","v":6.6194247785173967},{"$f":"IF(Süt!$B5=\"\",\"\",IF(Süt!$C5<=0,\"\",IF(AND($AA34 > 0, $AB3 > 0, $AB34 > 0),((($AA34 / TotalDMFed) * ($AB3 / 100) * (($AV34 * 1000) / $AB34)* (BF3 / 100) * TotalDMFed) * 1000),0)))","v":5.5133067998617475},{"$f":"IF(Süt!$B5=\"\",\"\",IF(Süt!$C5<=0,\"\",IF(AND($AA34 > 0, $AB3 > 0, $AB34 > 0),((($AA34 / TotalDMFed) * ($AB3 / 100) * (($AV34 * 1000) / $AB34)* (BG3 / 100) * TotalDMFed) * 1000),0)))","v":0.76045611032575833},{"$f":"IF(Süt!$B5=\"\",\"\",IF(Süt!$C5<=0,\"\",IF(AND($AA34 > 0, $AB3 > 0, $AB34 > 0),((($AA34 / TotalDMFed) * ($AB3 / 100) * (($AV34 * 1000) / $AB34)* (BH3 / 100) * TotalDMFed) * 1000),0)))","v":7.7255427571730442},{"$f":"IF(Süt!$B5=\"\",\"\",IF(Süt!$C5<=0,\"\",IF(AnimalType=\"Buzağı\",IF(P3=\"BUZAĞI BAŞLANGIÇ YEMİ\",AA34,0),0)))","v":0},{"$f":"IF(Süt!$B5=\"\",\"\",IF(Süt!$C5<=0,\"\",IF(AnimalType=\"Buzağı\",IF(AN3=\"Calf Feed-Milk\",AA34,0),0)))","v":0},{"$f":"IF(Süt!$B5=\"\",\"\",IF(Süt!$C5<=0,\"\",IF(AnimalType=\"Buzağı\",IF(P3=\"BUZAĞI BAŞLANGIÇ YEMİ\",0,AA34),0)))","v":0},{"$f":"IF(Süt!$B5=\"\",\"\",IF(Süt!$C5<=0,\"\",IF(S3=\"Forage\",AH34,0)))","v":4.1394250000000001},{"$f":"IF(Süt!$B5=\"\",\"\",IF(Süt!$C5<=0,\"\",BM3/100*$AA34))","v":2.1910000000000002E-2},{"$f":"IF(Süt!$B5=\"\",\"\",IF(Süt!$C5<=0,\"\",IF(AnimalType <> \"Buzağı\",((BM3 / 100) * $AA34) * BN3,((BM3 / 100) * $AA34))))","v":1.3146000000000001E-2},{"$f":"IF(Süt!$B5=\"\",\"\",IF(Süt!$C5<=0,\"\",BO3/100*$AA34))","v":2.0344999999999999E-2},{"$f":"IF(Süt!$B5=\"\",\"\",IF(Süt!$C5<=0,\"\",IF(AnimalType <> \"Buzağı\",((BO3 / 100) * $AA34) * BP3,((BO3 / 100) * $AA34))))","v":1.4241499999999997E-2},{"$f":"IF(Süt!$B5=\"\",\"\",IF(Süt!$C5<=0,\"\",BQ3/100*$AA34))","v":1.3302500000000002E-2},{"$f":"IF(Süt!$B5=\"\",\"\",IF(Süt!$C5<=0,\"\",IF(AnimalType <> \"Buzağı\",((BQ3 / 100) * $AA34) * BR3,((BQ3 / 100) * $AA34))))","v":2.1284000000000003E-3},{"$f":"IF(Süt!$B5=\"\",\"\",IF(Süt!$C5<=0,\"\",BS3/100*$AA34))","v":9.3899999999999997E-2},{"$f":"IF(Süt!$B5=\"\",\"\",IF(Süt!$C5<=0,\"\",IF(AnimalType <> \"Buzağı\",((BS3 / 100) * $AA34) * BT3,((BS3 / 100) * $AA34))))","v":8.4510000000000002E-2},{"$f":"IF(Süt!$B5=\"\",\"\",IF(Süt!$C5<=0,\"\",BU3/100*$AA34))","v":7.825000000000001E-4},{"$f":"IF(Süt!$B5=\"\",\"\",IF(Süt!$C5<=0,\"\",IF(AnimalType <> \"Buzağı\",((BU3 / 100) * $AA34) * BV3,((BU3 / 100) * $AA34))))","v":7.0425000000000012E-4},{"$f":"IF(Süt!$B5=\"\",\"\",IF(Süt!$C5<=0,\"\",BW3/100*$AA34))","v":2.2692499999999997E-2},{"$f":"IF(Süt!$B5=\"\",\"\",IF(Süt!$C5<=0,\"\",IF(AnimalType <> \"Buzağı\",((BW3 / 100) * $AA34) * BX3,((BW3 / 100) * $AA34))))","v":2.0423249999999997E-2},{"$f":"IF(Süt!$B5=\"\",\"\",IF(Süt!$C5<=0,\"\",BY3/100*$AA34))","v":1.0955000000000001E-2},{"$f":"IF(Süt!$B5=\"\",\"\",IF(Süt!$C5<=0,\"\",IF(AnimalType <> \"Buzağı\",((BY3 / 100) * $AA34) * BZ3,((BY3 / 100) * $AA34))))","v":1.0955000000000001E-2},{"$f":"IF(Süt!$B5=\"\",\"\",IF(Süt!$C5<=0,\"\",CA3*$AA34))","v":0},{"$f":"IF(Süt!$B5=\"\",\"\",IF(Süt!$C5<=0,\"\",IF(AnimalType <> \"Buzağı\",CA3 * $AA34 * CB3,CA3 * $AA34)))","v":0},{"$f":"IF(Süt!$B5=\"\",\"\",IF(Süt!$C5<=0,\"\",CC3*$AA34))","v":46.95},{"$f":"IF(Süt!$B5=\"\",\"\",IF(Süt!$C5<=0,\"\",IF(AnimalType <> \"Buzağı\",CC3 * $AA34 * CD3,CC3 * $AA34)))","v":1.8780000000000001},{"$f":"IF(Süt!$B5=\"\",\"\",IF(Süt!$C5<=0,\"\",CE3*$AA34))","v":0},{"$f":"IF(Süt!$B5=\"\",\"\",IF(Süt!$C5<=0,\"\",IF(AnimalType <> \"Buzağı\",CE3 * $AA34 * CF3,CE3 * $AA34)))","v":0},{"$f":"IF(Süt!$B5=\"\",\"\",IF(Süt!$C5<=0,\"\",CG3*$AA34))","v":813.80000000000007},{"$f":"IF(Süt!$B5=\"\",\"\",IF(Süt!$C5<=0,\"\",IF(AnimalType <> \"Buzağı\",CG3 * $AA34 * CH3,CG3 * $AA34)))","v":81.38000000000001},{"$f":"IF(Süt!$B5=\"\",\"\",IF(Süt!$C5<=0,\"\",CI3*$AA34))","v":281.7},{"$f":"IF(Süt!$B5=\"\",\"\",IF(Süt!$C5<=0,\"\",IF(AnimalType <> \"Buzağı\",CI3 * $AA34 * CJ3,CI3 * $AA34)))","v":2.8169999999999997},{"$f":"IF(Süt!$B5=\"\",\"\",IF(Süt!$C5<=0,\"\",CK3*$AA34))","v":0.313},{"$f":"IF(Süt!$B5=\"\",\"\",IF(Süt!$C5<=0,\"\",IF(AnimalType <> \"Buzağı\",CK3 * $AA34 * CL3,CK3 * $AA34)))","v":0.313},{"$f":"IF(Süt!$B5=\"\",\"\",IF(Süt!$C5<=0,\"\",CM3*$AA34))","v":187.8},{"$f":"IF(Süt!$B5=\"\",\"\",IF(Süt!$C5<=0,\"\",IF(AnimalType <> \"Buzağı\",CM3 * $AA34 * CN3,CM3 * $AA34)))","v":28.17},null,null,{"$f":"IF(Süt!$B5=\"\",\"\",IF(Süt!$C5<=0,\"\",CQ3*$AA34))","v":0},{"$f":"IF(Süt!$B5=\"\",\"\",IF(Süt!$C5<=0,\"\",CR3*$AA34))","v":0},{"$f":"IF(Süt!$B5=\"\",\"\",IF(Süt!$C5<=0,\"\",CS3*$AA34))","v":0},{"$f":"CT33-1","v":-16},0.56700000000000028,0.83700000000000052,"ADG1stBred",{"$f":"IF((Age1stBred - Age) > 0,(Wt1stBred - BW) / ((Age1stBred - Age) * 30.4),0)","v":0},"kg/gün, İlk sıfattaki ortalama GCAA",null,null,null,null,null,null,null,null,null,null,"Hızlı ve yüzeysel solunum"]
[null,"Öğün sayısını giriniz :",2,null,null,null,null,null,null,null,null,null,null,null,{"$f":"IF(Süt!B6=\"\",\"\",IF(Süt!C6<=0,\"\",Süt!C6))","v":0.70871500090575867},"Buğday Samanı",{"$f":"IF(Süt!$B6=\"\",\"\",IF(Süt!$C6<=0,\"\",IF(MID(AN4,1,9)=\"Calf Feed\",0,(AK35/100)*AA35)))","v":0.31252812142871461},{"$f":"IF(Süt!$B6=\"\",\"\",IF(Süt!$C6<=0,\"\",(R4/100)*(AA35*1000)))","v":312.06493277382822},{"$f":"IF(Süt!$B6=\"\",\"\",IF(Süt!$C6<=0,\"\",IF(MID(AN4,1,9)=\"Calf Feed\",0,AK35*Discount)))","v":45.95966894414925},{"$f":"IF(Süt!$B6=\"\",\"\",IF(Süt!$C6<=0,\"\",(S35/100)*(AA35*1000)))","v":301.94528419712293},{"$f":"IF(Süt!$B6=\"\",\"\",IF(Süt!$C6<=0,\"\",Discount*AL35))","v":1.9699709282199345},{"$f":"IF(Süt!$B6=\"\",\"\",IF(Süt!$C6<=0,\"\",IF(AP35<0,0,AP35)*AA35))","v":1.0115309768125067},null,null,{"$f":"IF(Süt!$B6=\"\",\"\",IF(Süt!$C6<=0,\"\",IF(AR35<0,0,AR35)*AA35))","v":0.54786904931090841},{"$f":"IF(Süt!$B6=\"\",\"\",IF(Süt!$C6<=0,\"\",IF(AS35<0,0,AS35)*AA35))","v":0.19369540345535891},{"$f":"IF(Süt!$B6=\"\",\"\",IF(Süt!$C6<=0,\"\",$O35*AA4/100))","v":0.65697880583963841},{"$f":"IF(Süt!$B6=\"\",\"\",IF(Süt!$C6<=0,\"\",(AB4/ 100) * (AA35 * 1000)))","v":31.534982680302644},{"$f":"IF(Süt!$B6=\"\",\"\",IF(Süt!$C6<=0,\"\",IF(MID(AN4,1,9)<>\"Calf Feed\",IF(AB4 > 0,IF(S4=\"Forage\", EXP((-1.2 * (AE4 / AB4))) * AB4,IF(AN4 = \"Animal Protein\",(AC4 * AB4),(1 - (0.4 * (AE4 / AB4))) * AB4)),0),0)))","v":3.3825028306498246},{"$f":"IF(Süt!$B6=\"\",\"\",IF(Süt!$C6<=0,\"\",IF(MID(AN4,1,9)<>\"Calf Feed\",0.98 * (100 - AH4 - AB4 - AF4 - AL4 + AD4) * T4,0)))","v":14.797999999999998},{"$f":"IF(Süt!$B6=\"\",\"\",IF(Süt!$C6<=0,\"\",IF(MID(AN4,1,9)<>\"Calf Feed\",((100 - AH4 - AB4 - AF4 - AL4 + AD4) /100)*AA35,0)))","v":9.9203799681785373E-2},{"$f":"IF(Süt!$B6=\"\",\"\",IF(Süt!$C6<=0,\"\",IF(MID(AN4,1,9)=\"Calf Feed\",0,(AF4/100)*AA35)))","v":1.0511660893434215E-2},{"$f":"IF(Süt!$B6=\"\",\"\",IF(Süt!$C6<=0,\"\",IF(AN4 = \"Fat and Oil\",IF(S4 = \"Fatty acids\",(AF4 * AG4)*AA35,(10 + ((AF4 - 10) * AG4))*AA35),(AF4 - 1)*AA35)))","v":0.39418728350378313},{"$f":"IF(Süt!$B6=\"\",\"\",IF(Süt!$C6<=0,\"\",AH4/100*$AA35))","v":0.47959452826293603},{"$f":"IF(Süt!$B6=\"\",\"\",IF(Süt!$C6<=0,\"\",IF(MID(AN4,1,9)<>\"Calf Feed\",IF(AH4 >AD4,AI4*AH4,0),0)))","v":35.04},{"$f":"IF(Süt!$B6=\"\",\"\",IF(Süt!$C6<=0,\"\",AJ4/100*$AA35))","v":0.32454753008478138},{"$f":"IF(Süt!$B6=\"\",\"\",IF(Süt!$C6<=0,\"\",IF(MID(AN4,1,9)<>\"Calf Feed\",IF(AN4=\"Fat and Oil\",IF(S4=\"Fatty acids\",AF4*AG4*2.25,10+(((AF4-10)*AG4*2.25))),IF(AN4=\"Animal Protein\",(AC4*AB4)+((AF4-1)*2.25)+((0.98*(100-AB4-AL4-AF4))-7),IF(AI35>0,AD35+AC35+AO35+AI35-7,IF(AB4>0,((0.98*T4)*(100-AB4-AF4-AL4))+(AB4*(1-(0.4*AE4/AB4)))+((2.25*(AF4-1)-7)),((0.98*T4)*(100-AF4-AL4))+(2.25*(AF4-1)-7))))),AA35)))","v":47.570502830649822},{"$f":"IF(Süt!$B6=\"\",\"\",IF(Süt!$C6<=0,\"\",IF(MID(AN4,1,9)<>\"Calf Feed\",IF(AN4=\"Fat and Oil\",IF(S4=\"Fatty acids\",AF4*AG4*0.094,((AF4-10)*AG4*0.094)+0.43),IF(AN4=\"Animal Protein\",(AD35*0.042)+(AC35*0.056)+(0.094*(AO35/2.25))-0.3,IF(AI35>0,(AD35*0.042)+(AI35*0.042)+(AC35*0.056)+(0.094*(AO35/2.25))-0.3,IF(AB4>0,(0.98*T4*(0.042*(100-AB4-AF4-AL4))+(AB4*(0.056*(1-(0.4*AE4/AB4)))))+(0.094*(AF4-1))-0.3,(0.98*T4)*(0.042*(100-AF4-AL4))+(0.094*(AF4-1))-0.3)))),U4)))","v":2.0390161585163904},{"$f":"IF(AM4=\"Conc\",AA35,0)","v":0},{"$f":"IF(ISERROR(IF(AM4=\"Conc\",2.904 + (1.375 * BW_DMI) - (0.02 * PercentConc),IF(AM4=\"Dry\",3.362 + (0.479 * BW_DMI) - (0.017 * AH4) - (0.007 * PercentConc),IF(AM4=\"Wet\",3.054 + (0.614 * BW_DMI),0)))<0)=TRUE,0,IF(AM4=\"Conc\",2.904 + (1.375 * BW_DMI) - (0.02 * PercentConc),IF(AM4=\"Dry\",3.362 + (0.479 * BW_DMI) - (0.017 * AH4) - (0.007 * PercentConc),IF(AM4=\"Wet\",3.054 + (0.614 * BW_DMI),0))))","v":3.4711758164136652},{"$f":"IF(Süt!$B6=\"\",\"\",IF(Süt!$C6<=0,\"\",IF(MID(AN4,1,9)<>\"Calf Feed\",IF(AF4 <1,0,(AF4-1)*2.25),0)))","v":1.35},{"$f":"IF(Süt!$B6=\"\",\"\",IF(Süt!$C6<=0,\"\",IF(AN4 <> \"Fat and Oil\",IF(AF4 >= 3,IF(AnimalType <> \"Damızlık Düve\",(1.01 * U35) - 0.45 + (0.0046 * (AF4 - 3)),0.82 * AL35),IF(AND(AnimalType <> \"Buzağı\",AnimalType <> \"Damızlık Düve\")=TRUE,(1.01 * U35) - 0.45,0.82 * AL35)),U35)))","v":1.5396706375021338},{"$f":"IF(Süt!$B6=\"\",\"\",IF(Süt!$C6<=0,\"\",IF(IF(AN4 <> \"Fat and Oil\",IF(AF4 >= 3,(0.703 * AP35) - 0.19 + ((((0.097 * AP35) + 0.19) / 97) * (AF4 - 3)),(0.703 * AP35) - 0.19),0.8*U35)<0,0,IF(AN4 <> \"Fat and Oil\",IF(AF4 >= 3,(0.703 * AP35) - 0.19 + ((((0.097 * AP35) + 0.19) / 97) * (AF4 - 3)),(0.703 * AP35) - 0.19   ),0.8*U35))))","v":0.89238845816400003},{"$f":"IF(Süt!$B6=\"\",\"\",IF(Süt!$C6<=0,\"\",IF(MID(AN4,1,9)=\"Calf Feed\",0.75*AA35*V35,IF(IF(AN4 <> \"Fat and Oil\", ((1.37 * 0.82 * AL35) - (0.138 * (0.82 * AL35) ^ 2)+ (0.0105 * (0.82 * AL35) ^ 3) - 1.12),0.8 * U35)<0,0,IF(AN4 <> \"Fat and Oil\", ((1.37 * 0.82 * AL35) - (0.138 * (0.82 * AL35) ^ 2)+ (0.0105 * (0.82 * AL35) ^ 3) - 1.12),0.8 * U35)))))","v":0.8339219537085607},{"$f":"IF(Süt!$B6=\"\",\"\",IF(Süt!$C6<=0,\"\",IF(MID(AN4,1,9)=\"Calf Feed\",0.57*AA35*V35,IF(IF(AN4 <> \"Fat and Oil\",((1.42 * 0.82 * AL35) - (0.174 * (0.82 * AL35)^2)+ (0.0122 * (0.82 * AL35)^3) - 1.65),0.55 * U35)<0,0,IF(AN4 <> \"Fat and Oil\",((1.42 * 0.82 * AL35) - (0.174 * (0.82 * AL35)^2)+ (0.0122 * (0.82 * AL35)^3) - 1.65),0.55 * U35)))))","v":0.29482747652385899},{"$f":"IF(Süt!$B6=\"\",\"\",IF(Süt!$C6<=0,\"\",IF((AT4+AN35)>0,((AT4/(AT4+AN35))*((((AR4/100)*(AB4/100))*AA35)))+(((AQ4/100)*(AB4/100))*AA35),0)))","v":7.5912946515814556E-3},{"$f":"IF(Süt!$B6=\"\",\"\",IF(Süt!$C6<=0,\"\",IF(ISERROR(AB35/1000 - E81)=TRUE,0,AB35/1000 - E81)))","v":7.067171493202299E-3},{"$f":"IF(Süt!$B6=\"\",\"\",IF(Süt!$C6<=0,\"\",IF((AT4+AN35)>0,   IF(BW_DMI<2,  C81,  C81+(BW_DMI-2)*((D81-C81)/2) ),0)))","v":2.4467811187100345E-2},{"$f":"IF(Süt!$B6=\"\",\"\",IF(Süt!$C6<=0,\"\",E81*(AW4/100)))","v":1.5904077271615226E-2},{"$f":"IF(Süt!$B6=\"\",\"\",IF(Süt!$C6<=0,\"\",IF(AND($AA35 > 0, $AB4 > 0, $AB35 > 0),((($AA35 / TotalDMFed) * ($AB4 / 100) * (($AV35 * 1000) / $AB35)* (AX4 / 100) * TotalDMFed) * 1000),0)))","v":0.26425236082068376},{"$f":"IF(Süt!$B6=\"\",\"\",IF(Süt!$C6<=0,\"\",IF(AND($AA35 > 0, $AB4 > 0, $AB35 > 0),((($AA35 / TotalDMFed) * ($AB4 / 100) * (($AV35 * 1000) / $AB35)* (AY4 / 100) * TotalDMFed) * 1000),0)))","v":0.40127210346844561},{"$f":"IF(Süt!$B6=\"\",\"\",IF(Süt!$C6<=0,\"\",IF(AND($AA35 > 0, $AB4 > 0, $AB35 > 0),((($AA35 / TotalDMFed) * ($AB4 / 100) * (($AV35 * 1000) / $AB35)* (AZ4 / 100) * TotalDMFed) * 1000),0)))","v":0.4355270391303861},{"$f":"IF(Süt!$B6=\"\",\"\",IF(Süt!$C6<=0,\"\",IF(AND($AA35 > 0, $AB4 > 0, $AB35 > 0),((($AA35 / TotalDMFed) * ($AB4 / 100) * (($AV35 * 1000) / $AB35)* (BA4 / 100) * TotalDMFed) * 1000),0)))","v":0.79520386358076123},{"$f":"IF(Süt!$B6=\"\",\"\",IF(Süt!$C6<=0,\"\",IF(AND($AA35 > 0, $AB4 > 0, $AB35 > 0),((($AA35 / TotalDMFed) * ($AB4 / 100) * (($AV35 * 1000) / $AB35)* (BB4 / 100) * TotalDMFed) * 1000),0)))","v":0.79520386358076123},{"$f":"IF(Süt!$B6=\"\",\"\",IF(Süt!$C6<=0,\"\",IF(AND($AA35 > 0, $AB4 > 0, $AB35 > 0),((($AA35 / TotalDMFed) * ($AB4 / 100) * (($AV35 * 1000) / $AB35)* (BC4 / 100) * TotalDMFed) * 1000),0)))","v":0.29116695312649404},{"$f":"IF(Süt!$B6=\"\",\"\",IF(Süt!$C6<=0,\"\",IF(AND($AA35 > 0, $AB4 > 0, $AB35 > 0),((($AA35 / TotalDMFed) * ($AB4 / 100) * (($AV35 * 1000) / $AB35)* (BD4 / 100) * TotalDMFed) * 1000),0)))","v":0.26180557970197371},{"$f":"IF(Süt!$B6=\"\",\"\",IF(Süt!$C6<=0,\"\",IF(AND($AA35 > 0, $AB4 > 0, $AB35 > 0),((($AA35 / TotalDMFed) * ($AB4 / 100) * (($AV35 * 1000) / $AB35)* (BE4 / 100) * TotalDMFed) * 1000),0)))","v":0.50893047269168723},{"$f":"IF(Süt!$B6=\"\",\"\",IF(Süt!$C6<=0,\"\",IF(AND($AA35 > 0, $AB4 > 0, $AB35 > 0),((($AA35 / TotalDMFed) * ($AB4 / 100) * (($AV35 * 1000) / $AB35)* (BF4 / 100) * TotalDMFed) * 1000),0)))","v":0.79520386358076123},{"$f":"IF(Süt!$B6=\"\",\"\",IF(Süt!$C6<=0,\"\",IF(AND($AA35 > 0, $AB4 > 0, $AB35 > 0),((($AA35 / TotalDMFed) * ($AB4 / 100) * (($AV35 * 1000) / $AB35)* (BG4 / 100) * TotalDMFed) * 1000),0)))","v":0.34744291885682488},{"$f":"IF(Süt!$B6=\"\",\"\",IF(Süt!$C6<=0,\"\",IF(AND($AA35 > 0, $AB4 > 0, $AB35 > 0),((($AA35 / TotalDMFed) * ($AB4 / 100) * (($AV35 * 1000) / $AB35)* (BH4 / 100) * TotalDMFed) * 1000),0)))","v":0.65329055869557906},{"$f":"IF(Süt!$B6=\"\",\"\",IF(Süt!$C6<=0,\"\",IF(AnimalType=\"Buzağı\",IF(P4=\"BUZAĞI BAŞLANGIÇ YEMİ\",AA35,0),0)))","v":0},{"$f":"IF(Süt!$B6=\"\",\"\",IF(Süt!$C6<=0,\"\",IF(AnimalType=\"Buzağı\",IF(AN4=\"Calf Feed-Milk\",AA35,0),0)))","v":0},{"$f":"IF(Süt!$B6=\"\",\"\",IF(Süt!$C6<=0,\"\",IF(AnimalType=\"Buzağı\",IF(P4=\"BUZAĞI BAŞLANGIÇ YEMİ\",0,AA35),0)))","v":0},{"$f":"IF(Süt!$B6=\"\",\"\",IF(Süt!$C6<=0,\"\",IF(S4=\"Forage\",AH35,0)))","v":0.47959452826293603},{"$f":"IF(Süt!$B6=\"\",\"\",IF(Süt!$C6<=0,\"\",BM4/100*$AA35))","v":2.036634298102879E-3},{"$f":"IF(Süt!$B6=\"\",\"\",IF(Süt!$C6<=0,\"\",IF(AnimalType <> \"Buzağı\",((BM4 / 100) * $AA35) * BN4,((BM4 / 100) * $AA35))))","v":6.1099028943086366E-4},{"$f":"IF(Süt!$B6=\"\",\"\",IF(Süt!$C6<=0,\"\",BO4/100*$AA35))","v":6.5697880583963841E-4},{"$f":"IF(Süt!$B6=\"\",\"\",IF(Süt!$C6<=0,\"\",IF(AnimalType <> \"Buzağı\",((BO4 / 100) * $AA35) * BP4,((BO4 / 100) * $AA35))))","v":4.2046643573736859E-4},{"$f":"IF(Süt!$B6=\"\",\"\",IF(Süt!$C6<=0,\"\",BQ4/100*$AA35))","v":9.1977032817549393E-4},{"$f":"IF(Süt!$B6=\"\",\"\",IF(Süt!$C6<=0,\"\",IF(AnimalType <> \"Buzağı\",((BQ4 / 100) * $AA35) * BR4,((BQ4 / 100) * $AA35))))","v":1.4716325250807902E-4},{"$f":"IF(Süt!$B6=\"\",\"\",IF(Süt!$C6<=0,\"\",BS4/100*$AA35))","v":1.0183171490514396E-2},{"$f":"IF(Süt!$B6=\"\",\"\",IF(Süt!$C6<=0,\"\",IF(AnimalType <> \"Buzağı\",((BS4 / 100) * $AA35) * BT4,((BS4 / 100) * $AA35))))","v":9.1648543414629569E-3},{"$f":"IF(Süt!$B6=\"\",\"\",IF(Süt!$C6<=0,\"\",BU4/100*$AA35))","v":7.8837456700756601E-4},{"$f":"IF(Süt!$B6=\"\",\"\",IF(Süt!$C6<=0,\"\",IF(AnimalType <> \"Buzağı\",((BU4 / 100) * $AA35) * BV4,((BU4 / 100) * $AA35))))","v":7.0953711030680947E-4},{"$f":"IF(Süt!$B6=\"\",\"\",IF(Süt!$C6<=0,\"\",BW4/100*$AA35))","v":3.9418728350378305E-3},{"$f":"IF(Süt!$B6=\"\",\"\",IF(Süt!$C6<=0,\"\",IF(AnimalType <> \"Buzağı\",((BW4 / 100) * $AA35) * BX4,((BW4 / 100) * $AA35))))","v":3.5476855515340477E-3},{"$f":"IF(Süt!$B6=\"\",\"\",IF(Süt!$C6<=0,\"\",BY4/100*$AA35))","v":7.2267668642360232E-4},{"$f":"IF(Süt!$B6=\"\",\"\",IF(Süt!$C6<=0,\"\",IF(AnimalType <> \"Buzağı\",((BY4 / 100) * $AA35) * BZ4,((BY4 / 100) * $AA35))))","v":7.2267668642360232E-4},{"$f":"IF(Süt!$B6=\"\",\"\",IF(Süt!$C6<=0,\"\",CA4*$AA35))","v":0},{"$f":"IF(Süt!$B6=\"\",\"\",IF(Süt!$C6<=0,\"\",IF(AnimalType <> \"Buzağı\",CA4 * $AA35 * CB4,CA4 * $AA35)))","v":0},{"$f":"IF(Süt!$B6=\"\",\"\",IF(Süt!$C6<=0,\"\",CC4*$AA35))","v":3.9418728350378305},{"$f":"IF(Süt!$B6=\"\",\"\",IF(Süt!$C6<=0,\"\",IF(AnimalType <> \"Buzağı\",CC4 * $AA35 * CD4,CC4 * $AA35)))","v":0.15767491340151321},{"$f":"IF(Süt!$B6=\"\",\"\",IF(Süt!$C6<=0,\"\",CE4*$AA35))","v":0},{"$f":"IF(Süt!$B6=\"\",\"\",IF(Süt!$C6<=0,\"\",IF(AnimalType <> \"Buzağı\",CE4 * $AA35 * CF4,CE4 * $AA35)))","v":0},{"$f":"IF(Süt!$B6=\"\",\"\",IF(Süt!$C6<=0,\"\",CG4*$AA35))","v":113.00035460441781},{"$f":"IF(Süt!$B6=\"\",\"\",IF(Süt!$C6<=0,\"\",IF(AnimalType <> \"Buzağı\",CG4 * $AA35 * CH4,CG4 * $AA35)))","v":11.300035460441782},{"$f":"IF(Süt!$B6=\"\",\"\",IF(Süt!$C6<=0,\"\",CI4*$AA35))","v":44.017579991255772},{"$f":"IF(Süt!$B6=\"\",\"\",IF(Süt!$C6<=0,\"\",IF(AnimalType <> \"Buzağı\",CI4 * $AA35 * CJ4,CI4 * $AA35)))","v":0.44017579991255773},{"$f":"IF(Süt!$B6=\"\",\"\",IF(Süt!$C6<=0,\"\",CK4*$AA35))","v":0},{"$f":"IF(Süt!$B6=\"\",\"\",IF(Süt!$C6<=0,\"\",IF(AnimalType <> \"Buzağı\",CK4 * $AA35 * CL4,CK4 * $AA35)))","v":0},{"$f":"IF(Süt!$B6=\"\",\"\",IF(Süt!$C6<=0,\"\",CM4*$AA35))","v":10.511660893434215},{"$f":"IF(Süt!$B6=\"\",\"\",IF(Süt!$C6<=0,\"\",IF(AnimalType <> \"Buzağı\",CM4 * $AA35 * CN4,CM4 * $AA35)))","v":1.5767491340151321},null,null,{"$f":"IF(Süt!$B6=\"\",\"\",IF(Süt!$C6<=0,\"\",CQ4*$AA35))","v":0},{"$f":"IF(Süt!$B6=\"\",\"\",IF(Süt!$C6<=0,\"\",CR4*$AA35))","v":0},{"$f":"IF(Süt!$B6=\"\",\"\",IF(Süt!$C6<=0,\"\",CS4*$AA35))","v":0},-17,0.59400000000000031,0.86400000000000055,"ADGNonBred",{"$f":"IF(IF(AnimalType = \"Damızlık Düve\",  IF(Age < Age1stBred,(Wt1stBred - BW) / ((Age1stBred - Age) * 30.4),0),0)<0,0,            IF(AnimalType = \"Damızlık Düve\",  IF(Age < Age1stBred,(Wt1stBred - BW) / ((Age1stBred - Age) * 30.4),0),0))","v":0},"kg/gün, İlk sıfattaki ortalama GCAA nı sağlamak için gereken GCAA",null,null,null,null,null,null,null,null,null,null,"Ağzı açık solunum"]
[null,null,null,null,null,null,null,null,null,null,null,null,null,null,{"$f":"IF(Süt!B7=\"\",\"\",IF(Süt!C7<=0,\"\",Süt!C7))","v":7},"Yonca Kuru Otu, 4.kalite, %15-17 HP, %44-48 NDF",{"$f":"IF(Süt!$B7=\"\",\"\",IF(Süt!$C7<=0,\"\",IF(MID(AN5,1,9)=\"Calf Feed\",0,(AK36/100)*AA36)))","v":3.9280675794111577},{"$f":"IF(Süt!$B7=\"\",\"\",IF(Süt!$C7<=0,\"\",(R5/100)*(AA36*1000)))","v":3366.9503},{"$f":"IF(Süt!$B7=\"\",\"\",IF(Süt!$C7<=0,\"\",IF(MID(AN5,1,9)=\"Calf Feed\",0,AK36*Discount)))","v":59.400761156916566},{"$f":"IF(Süt!$B7=\"\",\"\",IF(Süt!$C7<=0,\"\",(S36/100)*(AA36*1000)))","v":3795.0552295542425},{"$f":"IF(Süt!$B7=\"\",\"\",IF(Süt!$C7<=0,\"\",Discount*AL36))","v":2.6827257652525227},{"$f":"IF(Süt!$B7=\"\",\"\",IF(Süt!$C7<=0,\"\",IF(AP36<0,0,AP36)*AA36))","v":14.43605830803806},null,null,{"$f":"IF(Süt!$B7=\"\",\"\",IF(Süt!$C7<=0,\"\",IF(AR36<0,0,AR36)*AA36))","v":8.9949280641868707},{"$f":"IF(Süt!$B7=\"\",\"\",IF(Süt!$C7<=0,\"\",IF(AS36<0,0,AS36)*AA36))","v":5.2719553559929784},{"$f":"IF(Süt!$B7=\"\",\"\",IF(Süt!$C7<=0,\"\",$O36*AA5/100))","v":6.3888999999999996},{"$f":"IF(Süt!$B7=\"\",\"\",IF(Süt!$C7<=0,\"\",(AB5/ 100) * (AA36 * 1000)))","v":1027.3351199999997},{"$f":"IF(Süt!$B7=\"\",\"\",IF(Süt!$C7<=0,\"\",IF(MID(AN5,1,9)<>\"Calf Feed\",IF(AB5 > 0,IF(S5=\"Forage\", EXP((-1.2 * (AE5 / AB5))) * AB5,IF(AN5 = \"Animal Protein\",(AC5 * AB5),(1 - (0.4 * (AE5 / AB5))) * AB5)),0),0)))","v":14.377089968713827},{"$f":"IF(Süt!$B7=\"\",\"\",IF(Süt!$C7<=0,\"\",IF(MID(AN5,1,9)<>\"Calf Feed\",0.98 * (100 - AH5 - AB5 - AF5 - AL5 + AD5) * T5,0)))","v":27.753600000000002},{"$f":"IF(Süt!$B7=\"\",\"\",IF(Süt!$C7<=0,\"\",IF(MID(AN5,1,9)<>\"Calf Feed\",((100 - AH5 - AB5 - AF5 - AL5 + AD5) /100)*AA36,0)))","v":1.8093364800000002},{"$f":"IF(Süt!$B7=\"\",\"\",IF(Süt!$C7<=0,\"\",IF(MID(AN5,1,9)=\"Calf Feed\",0,(AF5/100)*AA36)))","v":0.16611139999999999},{"$f":"IF(Süt!$B7=\"\",\"\",IF(Süt!$C7<=0,\"\",IF(AN5 = \"Fat and Oil\",IF(S5 = \"Fatty acids\",(AF5 * AG5)*AA36,(10 + ((AF5 - 10) * AG5))*AA36),(AF5 - 1)*AA36)))","v":10.222239999999999},{"$f":"IF(Süt!$B7=\"\",\"\",IF(Süt!$C7<=0,\"\",AH5/100*$AA36))","v":3.0283385999999997},{"$f":"IF(Süt!$B7=\"\",\"\",IF(Süt!$C7<=0,\"\",IF(MID(AN5,1,9)<>\"Calf Feed\",IF(AH5 >AD5,AI5*AH5,0),0)))","v":22.751999999999999},{"$f":"IF(Süt!$B7=\"\",\"\",IF(Süt!$C7<=0,\"\",AJ5/100*$AA36))","v":2.4086152999999997},{"$f":"IF(Süt!$B7=\"\",\"\",IF(Süt!$C7<=0,\"\",IF(MID(AN5,1,9)<>\"Calf Feed\",IF(AN5=\"Fat and Oil\",IF(S5=\"Fatty acids\",AF5*AG5*2.25,10+(((AF5-10)*AG5*2.25))),IF(AN5=\"Animal Protein\",(AC5*AB5)+((AF5-1)*2.25)+((0.98*(100-AB5-AL5-AF5))-7),IF(AI36>0,AD36+AC36+AO36+AI36-7,IF(AB5>0,((0.98*T5)*(100-AB5-AF5-AL5))+(AB5*(1-(0.4*AE5/AB5)))+((2.25*(AF5-1)-7)),((0.98*T5)*(100-AF5-AL5))+(2.25*(AF5-1)-7))))),AA36)))","v":61.482689968713828},{"$f":"IF(Süt!$B7=\"\",\"\",IF(Süt!$C7<=0,\"\",IF(MID(AN5,1,9)<>\"Calf Feed\",IF(AN5=\"Fat and Oil\",IF(S5=\"Fatty acids\",AF5*AG5*0.094,((AF5-10)*AG5*0.094)+0.43),IF(AN5=\"Animal Protein\",(AD36*0.042)+(AC36*0.056)+(0.094*(AO36/2.25))-0.3,IF(AI36>0,(AD36*0.042)+(AI36*0.042)+(AC36*0.056)+(0.094*(AO36/2.25))-0.3,IF(AB5>0,(0.98*T5*(0.042*(100-AB5-AF5-AL5))+(AB5*(0.056*(1-(0.4*AE5/AB5)))))+(0.094*(AF5-1))-0.3,(0.98*T5)*(0.042*(100-AF5-AL5))+(0.094*(AF5-1))-0.3)))),U5)))","v":2.7767522382479743},0,3.9063758164136657,{"$f":"IF(Süt!$B7=\"\",\"\",IF(Süt!$C7<=0,\"\",IF(MID(AN5,1,9)<>\"Calf Feed\",IF(AF5 <1,0,(AF5-1)*2.25),0)))","v":3.6},{"$f":"IF(Süt!$B7=\"\",\"\",IF(Süt!$C7<=0,\"\",IF(AN5 <> \"Fat and Oil\",IF(AF5 >= 3,IF(AnimalType <> \"Damızlık Düve\",(1.01 * U36) - 0.45 + (0.0046 * (AF5 - 3)),0.82 * AL36),IF(AND(AnimalType <> \"Buzağı\",AnimalType <> \"Damızlık Düve\")=TRUE,(1.01 * U36) - 0.45,0.82 * AL36)),U36)))","v":2.259553022905048},{"$f":"IF(Süt!$B7=\"\",\"\",IF(Süt!$C7<=0,\"\",IF(IF(AN5 <> \"Fat and Oil\",IF(AF5 >= 3,(0.703 * AP36) - 0.19 + ((((0.097 * AP36) + 0.19) / 97) * (AF5 - 3)),(0.703 * AP36) - 0.19),0.8*U36)<0,0,IF(AN5 <> \"Fat and Oil\",IF(AF5 >= 3,(0.703 * AP36) - 0.19 + ((((0.097 * AP36) + 0.19) / 97) * (AF5 - 3)),(0.703 * AP36) - 0.19   ),0.8*U36))))","v":1.3984657751022487},{"$f":"IF(Süt!$B7=\"\",\"\",IF(Süt!$C7<=0,\"\",IF(MID(AN5,1,9)=\"Calf Feed\",0.75*AA36*V36,IF(IF(AN5 <> \"Fat and Oil\", ((1.37 * 0.82 * AL36) - (0.138 * (0.82 * AL36) ^ 2)+ (0.0105 * (0.82 * AL36) ^ 3) - 1.12),0.8 * U36)<0,0,IF(AN5 <> \"Fat and Oil\", ((1.37 * 0.82 * AL36) - (0.138 * (0.82 * AL36) ^ 2)+ (0.0105 * (0.82 * AL36) ^ 3) - 1.12),0.8 * U36)))))","v":1.407899335439101},{"$f":"IF(Süt!$B7=\"\",\"\",IF(Süt!$C7<=0,\"\",IF(MID(AN5,1,9)=\"Calf Feed\",0.57*AA36*V36,IF(IF(AN5 <> \"Fat and Oil\",((1.42 * 0.82 * AL36) - (0.174 * (0.82 * AL36)^2)+ (0.0122 * (0.82 * AL36)^3) - 1.65),0.55 * U36)<0,0,IF(AN5 <> \"Fat and Oil\",((1.42 * 0.82 * AL36) - (0.174 * (0.82 * AL36)^2)+ (0.0122 * (0.82 * AL36)^3) - 1.65),0.55 * U36)))))","v":0.8251741858524908},{"$f":"IF(Süt!$B7=\"\",\"\",IF(Süt!$C7<=0,\"\",IF((AT5+AN36)>0,((AT5/(AT5+AN36))*((((AR5/100)*(AB5/100))*AA36)))+(((AQ5/100)*(AB5/100))*AA36),0)))","v":0.73308238041483353},{"$f":"IF(Süt!$B7=\"\",\"\",IF(Süt!$C7<=0,\"\",IF(ISERROR(AB36/1000 - E82)=TRUE,0,AB36/1000 - E82)))","v":0.69151351361359192},{"$f":"IF(Süt!$B7=\"\",\"\",IF(Süt!$C7<=0,\"\",IF((AT5+AN36)>0,   IF(BW_DMI<2,  C82,  C82+(BW_DMI-2)*((D82-C82)/2) ),0)))","v":0.3358216063864079},{"$f":"IF(Süt!$B7=\"\",\"\",IF(Süt!$C7<=0,\"\",E82*(AW5/100)))","v":0.22130643860864282},{"$f":"IF(Süt!$B7=\"\",\"\",IF(Süt!$C7<=0,\"\",IF(AND($AA36 > 0, $AB5 > 0, $AB36 > 0),((($AA36 / TotalDMFed) * ($AB5 / 100) * (($AV36 * 1000) / $AB36)* (AX5 / 100) * TotalDMFed) * 1000),0)))","v":17.261230568261361},{"$f":"IF(Süt!$B7=\"\",\"\",IF(Süt!$C7<=0,\"\",IF(AND($AA36 > 0, $AB5 > 0, $AB36 > 0),((($AA36 / TotalDMFed) * ($AB5 / 100) * (($AV36 * 1000) / $AB36)* (AY5 / 100) * TotalDMFed) * 1000),0)))","v":6.5485213245349536},{"$f":"IF(Süt!$B7=\"\",\"\",IF(Süt!$C7<=0,\"\",IF(AND($AA36 > 0, $AB5 > 0, $AB36 > 0),((($AA36 / TotalDMFed) * ($AB5 / 100) * (($AV36 * 1000) / $AB36)* (AZ5 / 100) * TotalDMFed) * 1000),0)))","v":14.171671789506409},{"$f":"IF(Süt!$B7=\"\",\"\",IF(Süt!$C7<=0,\"\",IF(AND($AA36 > 0, $AB5 > 0, $AB36 > 0),((($AA36 / TotalDMFed) * ($AB5 / 100) * (($AV36 * 1000) / $AB36)* (BA5 / 100) * TotalDMFed) * 1000),0)))","v":24.682888069400978},{"$f":"IF(Süt!$B7=\"\",\"\",IF(Süt!$C7<=0,\"\",IF(AND($AA36 > 0, $AB5 > 0, $AB36 > 0),((($AA36 / TotalDMFed) * ($AB5 / 100) * (($AV36 * 1000) / $AB36)* (BB5 / 100) * TotalDMFed) * 1000),0)))","v":17.059737604429518},{"$f":"IF(Süt!$B7=\"\",\"\",IF(Süt!$C7<=0,\"\",IF(AND($AA36 > 0, $AB5 > 0, $AB36 > 0),((($AA36 / TotalDMFed) * ($AB5 / 100) * (($AV36 * 1000) / $AB36)* (BC5 / 100) * TotalDMFed) * 1000),0)))","v":5.2388170596279631},{"$f":"IF(Süt!$B7=\"\",\"\",IF(Süt!$C7<=0,\"\",IF(AND($AA36 > 0, $AB5 > 0, $AB36 > 0),((($AA36 / TotalDMFed) * ($AB5 / 100) * (($AV36 * 1000) / $AB36)* (BD5 / 100) * TotalDMFed) * 1000),0)))","v":4.7686668106869909},{"$f":"IF(Süt!$B7=\"\",\"\",IF(Süt!$C7<=0,\"\",IF(AND($AA36 > 0, $AB5 > 0, $AB36 > 0),((($AA36 / TotalDMFed) * ($AB5 / 100) * (($AV36 * 1000) / $AB36)* (BE5 / 100) * TotalDMFed) * 1000),0)))","v":16.052272785270297},{"$f":"IF(Süt!$B7=\"\",\"\",IF(Süt!$C7<=0,\"\",IF(AND($AA36 > 0, $AB5 > 0, $AB36 > 0),((($AA36 / TotalDMFed) * ($AB5 / 100) * (($AV36 * 1000) / $AB36)* (BF5 / 100) * TotalDMFed) * 1000),0)))","v":14.675404199086023},{"$f":"IF(Süt!$B7=\"\",\"\",IF(Süt!$C7<=0,\"\",IF(AND($AA36 > 0, $AB5 > 0, $AB36 > 0),((($AA36 / TotalDMFed) * ($AB5 / 100) * (($AV36 * 1000) / $AB36)* (BG5 / 100) * TotalDMFed) * 1000),0)))","v":5.0373240957961176},{"$f":"IF(Süt!$B7=\"\",\"\",IF(Süt!$C7<=0,\"\",IF(AND($AA36 > 0, $AB5 > 0, $AB36 > 0),((($AA36 / TotalDMFed) * ($AB5 / 100) * (($AV36 * 1000) / $AB36)* (BH5 / 100) * TotalDMFed) * 1000),0)))","v":17.563470014009134},{"$f":"IF(Süt!$B7=\"\",\"\",IF(Süt!$C7<=0,\"\",IF(AnimalType=\"Buzağı\",IF(P5=\"BUZAĞI BAŞLANGIÇ YEMİ\",AA36,0),0)))","v":0},{"$f":"IF(Süt!$B7=\"\",\"\",IF(Süt!$C7<=0,\"\",IF(AnimalType=\"Buzağı\",IF(AN5=\"Calf Feed-Milk\",AA36,0),0)))","v":0},{"$f":"IF(Süt!$B7=\"\",\"\",IF(Süt!$C7<=0,\"\",IF(AnimalType=\"Buzağı\",IF(P5=\"BUZAĞI BAŞLANGIÇ YEMİ\",0,AA36),0)))","v":0},{"$f":"IF(Süt!$B7=\"\",\"\",IF(Süt!$C7<=0,\"\",IF(S5=\"Forage\",AH36,0)))","v":3.0283385999999997},{"$f":"IF(Süt!$B7=\"\",\"\",IF(Süt!$C7<=0,\"\",BM5/100*$AA36))","v":7.602790999999999E-2},{"$f":"IF(Süt!$B7=\"\",\"\",IF(Süt!$C7<=0,\"\",IF(AnimalType <> \"Buzağı\",((BM5 / 100) * $AA36) * BN5,((BM5 / 100) * $AA36))))","v":2.2808372999999996E-2},{"$f":"IF(Süt!$B7=\"\",\"\",IF(Süt!$C7<=0,\"\",BO5/100*$AA36))","v":1.5333359999999997E-2},{"$f":"IF(Süt!$B7=\"\",\"\",IF(Süt!$C7<=0,\"\",IF(AnimalType <> \"Buzağı\",((BO5 / 100) * $AA36) * BP5,((BO5 / 100) * $AA36))))","v":9.8133503999999986E-3},{"$f":"IF(Süt!$B7=\"\",\"\",IF(Süt!$C7<=0,\"\",BQ5/100*$AA36))","v":1.725003E-2},{"$f":"IF(Süt!$B7=\"\",\"\",IF(Süt!$C7<=0,\"\",IF(AnimalType <> \"Buzağı\",((BQ5 / 100) * $AA36) * BR5,((BQ5 / 100) * $AA36))))","v":2.7600047999999998E-3},{"$f":"IF(Süt!$B7=\"\",\"\",IF(Süt!$C7<=0,\"\",BS5/100*$AA36))","v":9.9666840000000007E-2},{"$f":"IF(Süt!$B7=\"\",\"\",IF(Süt!$C7<=0,\"\",IF(AnimalType <> \"Buzağı\",((BS5 / 100) * $AA36) * BT5,((BS5 / 100) * $AA36))))","v":8.9700156000000003E-2},{"$f":"IF(Süt!$B7=\"\",\"\",IF(Süt!$C7<=0,\"\",BU5/100*$AA36))","v":4.4722300000000006E-3},{"$f":"IF(Süt!$B7=\"\",\"\",IF(Süt!$C7<=0,\"\",IF(AnimalType <> \"Buzağı\",((BU5 / 100) * $AA36) * BV5,((BU5 / 100) * $AA36))))","v":4.0250070000000006E-3},{"$f":"IF(Süt!$B7=\"\",\"\",IF(Süt!$C7<=0,\"\",BW5/100*$AA36))","v":0},{"$f":"IF(Süt!$B7=\"\",\"\",IF(Süt!$C7<=0,\"\",IF(AnimalType <> \"Buzağı\",((BW5 / 100) * $AA36) * BX5,((BW5 / 100) * $AA36))))","v":0},{"$f":"IF(Süt!$B7=\"\",\"\",IF(Süt!$C7<=0,\"\",BY5/100*$AA36))","v":1.9166699999999998E-2},{"$f":"IF(Süt!$B7=\"\",\"\",IF(Süt!$C7<=0,\"\",IF(AnimalType <> \"Buzağı\",((BY5 / 100) * $AA36) * BZ5,((BY5 / 100) * $AA36))))","v":1.9166699999999998E-2},{"$f":"IF(Süt!$B7=\"\",\"\",IF(Süt!$C7<=0,\"\",CA5*$AA36))","v":1.4694469999999999},{"$f":"IF(Süt!$B7=\"\",\"\",IF(Süt!$C7<=0,\"\",IF(AnimalType <> \"Buzağı\",CA5 * $AA36 * CB5,CA5 * $AA36)))","v":1.4694469999999999},{"$f":"IF(Süt!$B7=\"\",\"\",IF(Süt!$C7<=0,\"\",CC5*$AA36))","v":63.250109999999999},{"$f":"IF(Süt!$B7=\"\",\"\",IF(Süt!$C7<=0,\"\",IF(AnimalType <> \"Buzağı\",CC5 * $AA36 * CD5,CC5 * $AA36)))","v":2.5300044000000002},{"$f":"IF(Süt!$B7=\"\",\"\",IF(Süt!$C7<=0,\"\",CE5*$AA36))","v":0.83055699999999999},{"$f":"IF(Süt!$B7=\"\",\"\",IF(Süt!$C7<=0,\"\",IF(AnimalType <> \"Buzağı\",CE5 * $AA36 * CF5,CE5 * $AA36)))","v":0.70597345},{"$f":"IF(Süt!$B7=\"\",\"\",IF(Süt!$C7<=0,\"\",CG5*$AA36))","v":1022.2239999999999},{"$f":"IF(Süt!$B7=\"\",\"\",IF(Süt!$C7<=0,\"\",IF(AnimalType <> \"Buzağı\",CG5 * $AA36 * CH5,CG5 * $AA36)))","v":102.22239999999999},{"$f":"IF(Süt!$B7=\"\",\"\",IF(Süt!$C7<=0,\"\",CI5*$AA36))","v":270.25046999999995},{"$f":"IF(Süt!$B7=\"\",\"\",IF(Süt!$C7<=0,\"\",IF(AnimalType <> \"Buzağı\",CI5 * $AA36 * CJ5,CI5 * $AA36)))","v":2.7025046999999995},{"$f":"IF(Süt!$B7=\"\",\"\",IF(Süt!$C7<=0,\"\",CK5*$AA36))","v":3.5138950000000002},{"$f":"IF(Süt!$B7=\"\",\"\",IF(Süt!$C7<=0,\"\",IF(AnimalType <> \"Buzağı\",CK5 * $AA36 * CL5,CK5 * $AA36)))","v":3.5138950000000002},{"$f":"IF(Süt!$B7=\"\",\"\",IF(Süt!$C7<=0,\"\",CM5*$AA36))","v":166.75029000000001},{"$f":"IF(Süt!$B7=\"\",\"\",IF(Süt!$C7<=0,\"\",IF(AnimalType <> \"Buzağı\",CM5 * $AA36 * CN5,CM5 * $AA36)))","v":25.0125435},null,null,{"$f":"IF(Süt!$B7=\"\",\"\",IF(Süt!$C7<=0,\"\",CQ5*$AA36))","v":123.30577},{"$f":"IF(Süt!$B7=\"\",\"\",IF(Süt!$C7<=0,\"\",CR5*$AA36))","v":6.3888999999999996},{"$f":"IF(Süt!$B7=\"\",\"\",IF(Süt!$C7<=0,\"\",CS5*$AA36))","v":0},-18,0.62100000000000033,0.89100000000000057,"ADG için ön hesaplama",{"$f":"IF(AnimalType = \"Damızlık Düve\",IF((DaysPreg > 0),ADG1st,ADG1stBred),IF((Age >= Age3rd),0,IF(AND(Age2nd <= Age,Age < Age3rd)=TRUE,ADG3rd,IF(AND(FirstCalf <= Age,Age < Age2nd)=TRUE,ADG2nd,IF(AND(Age1stBred <= Age,Age < FirstCalf)=TRUE,ADG1st)))))","v":0}]
[null,null,null,"Hayvan",null,"Bir öğünde",null,null,null,null,null,null,null,null,{"$f":"IF(Süt!B8=\"\",\"\",IF(Süt!C8<=0,\"\",Süt!C8))","v":5},"Arpa, Ezme ",{"$f":"IF(Süt!$B8=\"\",\"\",IF(Süt!$C8<=0,\"\",IF(MID(AN6,1,9)=\"Calf Feed\",0,(AK37/100)*AA37)))","v":3.7584455999999995},{"$f":"IF(Süt!$B8=\"\",\"\",IF(Süt!$C8<=0,\"\",(R6/100)*(AA37*1000)))","v":3762.8500000000004},{"$f":"IF(Süt!$B8=\"\",\"\",IF(Süt!$C8<=0,\"\",IF(MID(AN6,1,9)=\"Calf Feed\",0,AK37*Discount)))","v":79.80608780282445},{"$f":"IF(Süt!$B8=\"\",\"\",IF(Süt!$C8<=0,\"\",(S37/100)*(AA37*1000)))","v":3631.1769950285125},{"$f":"IF(Süt!$B8=\"\",\"\",IF(Süt!$C8<=0,\"\",Discount*AL37))","v":3.510495542073226},{"$f":"IF(Süt!$B8=\"\",\"\",IF(Süt!$C8<=0,\"\",IF(AP37<0,0,AP37)*AA37))","v":14.084982263597508},null,null,{"$f":"IF(Süt!$B8=\"\",\"\",IF(Süt!$C8<=0,\"\",IF(AR37<0,0,AR37)*AA37))","v":9.1662361524838225},{"$f":"IF(Süt!$B8=\"\",\"\",IF(Süt!$C8<=0,\"\",IF(AS37<0,0,AS37)*AA37))","v":6.183044804409203},{"$f":"IF(Süt!$B8=\"\",\"\",IF(Süt!$C8<=0,\"\",$O37*AA6/100))","v":4.55},{"$f":"IF(Süt!$B8=\"\",\"\",IF(Süt!$C8<=0,\"\",(AB6/ 100) * (AA37 * 1000)))","v":564.20000000000005},{"$f":"IF(Süt!$B8=\"\",\"\",IF(Süt!$C8<=0,\"\",IF(MID(AN6,1,9)<>\"Calf Feed\",IF(AB6 > 0,IF(S6=\"Forage\", EXP((-1.2 * (AE6 / AB6))) * AB6,IF(AN6 = \"Animal Protein\",(AC6 * AB6),(1 - (0.4 * (AE6 / AB6))) * AB6)),0),0)))","v":12.200000000000001},{"$f":"IF(Süt!$B8=\"\",\"\",IF(Süt!$C8<=0,\"\",IF(MID(AN6,1,9)<>\"Calf Feed\",0.98 * (100 - AH6 - AB6 - AF6 - AL6 + AD6) * T6,0)))","v":64.719199999999987},{"$f":"IF(Süt!$B8=\"\",\"\",IF(Süt!$C8<=0,\"\",IF(MID(AN6,1,9)<>\"Calf Feed\",((100 - AH6 - AB6 - AF6 - AL6 + AD6) /100)*AA37,0)))","v":2.8892499999999992},{"$f":"IF(Süt!$B8=\"\",\"\",IF(Süt!$C8<=0,\"\",IF(MID(AN6,1,9)=\"Calf Feed\",0,(AF6/100)*AA37)))","v":0.10010000000000001},{"$f":"IF(Süt!$B8=\"\",\"\",IF(Süt!$C8<=0,\"\",IF(AN6 = \"Fat and Oil\",IF(S6 = \"Fatty acids\",(AF6 * AG6)*AA37,(10 + ((AF6 - 10) * AG6))*AA37),(AF6 - 1)*AA37)))","v":5.4600000000000009},{"$f":"IF(Süt!$B8=\"\",\"\",IF(Süt!$C8<=0,\"\",AH6/100*$AA37))","v":0.94640000000000002},{"$f":"IF(Süt!$B8=\"\",\"\",IF(Süt!$C8<=0,\"\",IF(MID(AN6,1,9)<>\"Calf Feed\",IF(AH6 >AD6,AI6*AH6,0),0)))","v":9.984},{"$f":"IF(Süt!$B8=\"\",\"\",IF(Süt!$C8<=0,\"\",AJ6/100*$AA37))","v":0.3276},{"$f":"IF(Süt!$B8=\"\",\"\",IF(Süt!$C8<=0,\"\",IF(MID(AN6,1,9)<>\"Calf Feed\",IF(AN6=\"Fat and Oil\",IF(S6=\"Fatty acids\",AF6*AG6*2.25,10+(((AF6-10)*AG6*2.25))),IF(AN6=\"Animal Protein\",(AC6*AB6)+((AF6-1)*2.25)+((0.98*(100-AB6-AL6-AF6))-7),IF(AI37>0,AD37+AC37+AO37+AI37-7,IF(AB6>0,((0.98*T6)*(100-AB6-AF6-AL6))+(AB6*(1-(0.4*AE6/AB6)))+((2.25*(AF6-1)-7)),((0.98*T6)*(100-AF6-AL6))+(2.25*(AF6-1)-7))))),AA37)))","v":82.603199999999987},{"$f":"IF(Süt!$B8=\"\",\"\",IF(Süt!$C8<=0,\"\",IF(MID(AN6,1,9)<>\"Calf Feed\",IF(AN6=\"Fat and Oil\",IF(S6=\"Fatty acids\",AF6*AG6*0.094,((AF6-10)*AG6*0.094)+0.43),IF(AN6=\"Animal Protein\",(AD37*0.042)+(AC37*0.056)+(0.094*(AO37/2.25))-0.3,IF(AI37>0,(AD37*0.042)+(AI37*0.042)+(AC37*0.056)+(0.094*(AO37/2.25))-0.3,IF(AB6>0,(0.98*T6*(0.042*(100-AB6-AF6-AL6))+(AB6*(0.056*(1-(0.4*AE6/AB6)))))+(0.094*(AF6-1))-0.3,(0.98*T6)*(0.042*(100-AF6-AL6))+(0.094*(AF6-1))-0.3)))),U6)))","v":3.6335344000000003},4.55,6.7825510614442468,{"$f":"IF(Süt!$B8=\"\",\"\",IF(Süt!$C8<=0,\"\",IF(MID(AN6,1,9)<>\"Calf Feed\",IF(AF6 <1,0,(AF6-1)*2.25),0)))","v":2.7},{"$f":"IF(Süt!$B8=\"\",\"\",IF(Süt!$C8<=0,\"\",IF(AN6 <> \"Fat and Oil\",IF(AF6 >= 3,IF(AnimalType <> \"Damızlık Düve\",(1.01 * U37) - 0.45 + (0.0046 * (AF6 - 3)),0.82 * AL37),IF(AND(AnimalType <> \"Buzağı\",AnimalType <> \"Damızlık Düve\")=TRUE,(1.01 * U37) - 0.45,0.82 * AL37)),U37)))","v":3.0956004974939582},{"$f":"IF(Süt!$B8=\"\",\"\",IF(Süt!$C8<=0,\"\",IF(IF(AN6 <> \"Fat and Oil\",IF(AF6 >= 3,(0.703 * AP37) - 0.19 + ((((0.097 * AP37) + 0.19) / 97) * (AF6 - 3)),(0.703 * AP37) - 0.19),0.8*U37)<0,0,IF(AN6 <> \"Fat and Oil\",IF(AF6 >= 3,(0.703 * AP37) - 0.19 + ((((0.097 * AP37) + 0.19) / 97) * (AF6 - 3)),(0.703 * AP37) - 0.19   ),0.8*U37))))","v":1.9862071497382523},{"$f":"IF(Süt!$B8=\"\",\"\",IF(Süt!$C8<=0,\"\",IF(MID(AN6,1,9)=\"Calf Feed\",0.75*AA37*V37,IF(IF(AN6 <> \"Fat and Oil\", ((1.37 * 0.82 * AL37) - (0.138 * (0.82 * AL37) ^ 2)+ (0.0105 * (0.82 * AL37) ^ 3) - 1.12),0.8 * U37)<0,0,IF(AN6 <> \"Fat and Oil\", ((1.37 * 0.82 * AL37) - (0.138 * (0.82 * AL37) ^ 2)+ (0.0105 * (0.82 * AL37) ^ 3) - 1.12),0.8 * U37)))))","v":2.0145573961502907},{"$f":"IF(Süt!$B8=\"\",\"\",IF(Süt!$C8<=0,\"\",IF(MID(AN6,1,9)=\"Calf Feed\",0.57*AA37*V37,IF(IF(AN6 <> \"Fat and Oil\",((1.42 * 0.82 * AL37) - (0.174 * (0.82 * AL37)^2)+ (0.0122 * (0.82 * AL37)^3) - 1.65),0.55 * U37)<0,0,IF(AN6 <> \"Fat and Oil\",((1.42 * 0.82 * AL37) - (0.174 * (0.82 * AL37)^2)+ (0.0122 * (0.82 * AL37)^3) - 1.65),0.55 * U37)))))","v":1.3589109460240008},{"$f":"IF(Süt!$B8=\"\",\"\",IF(Süt!$C8<=0,\"\",IF((AT6+AN37)>0,((AT6/(AT6+AN37))*((((AR6/100)*(AB6/100))*AA37)))+(((AQ6/100)*(AB6/100))*AA37),0)))","v":0.43624368720580253},{"$f":"IF(Süt!$B8=\"\",\"\",IF(Süt!$C8<=0,\"\",IF(ISERROR(AB37/1000 - E83)=TRUE,0,AB37/1000 - E83)))","v":0.44230081799174997},{"$f":"IF(Süt!$B8=\"\",\"\",IF(Süt!$C8<=0,\"\",IF((AT6+AN37)>0,   IF(BW_DMI<2,  C83,  C83+(BW_DMI-2)*((D83-C83)/2) ),0)))","v":0.12189918200825005},{"$f":"IF(Süt!$B8=\"\",\"\",IF(Süt!$C8<=0,\"\",E83*(AW6/100)))","v":0.10361430470701254},{"$f":"IF(Süt!$B8=\"\",\"\",IF(Süt!$C8<=0,\"\",IF(AND($AA37 > 0, $AB6 > 0, $AB37 > 0),((($AA37 / TotalDMFed) * ($AB6 / 100) * (($AV37 * 1000) / $AB37)* (AX6 / 100) * TotalDMFed) * 1000),0)))","v":6.1802885278182771},{"$f":"IF(Süt!$B8=\"\",\"\",IF(Süt!$C8<=0,\"\",IF(AND($AA37 > 0, $AB6 > 0, $AB37 > 0),((($AA37 / TotalDMFed) * ($AB6 / 100) * (($AV37 * 1000) / $AB37)* (AY6 / 100) * TotalDMFed) * 1000),0)))","v":2.8036811861897508},{"$f":"IF(Süt!$B8=\"\",\"\",IF(Süt!$C8<=0,\"\",IF(AND($AA37 > 0, $AB6 > 0, $AB37 > 0),((($AA37 / TotalDMFed) * ($AB6 / 100) * (($AV37 * 1000) / $AB37)* (AZ6 / 100) * TotalDMFed) * 1000),0)))","v":4.229901615686277},{"$f":"IF(Süt!$B8=\"\",\"\",IF(Süt!$C8<=0,\"\",IF(AND($AA37 > 0, $AB6 > 0, $AB37 > 0),((($AA37 / TotalDMFed) * ($AB6 / 100) * (($AV37 * 1000) / $AB37)* (BA6 / 100) * TotalDMFed) * 1000),0)))","v":8.496372985975027},{"$f":"IF(Süt!$B8=\"\",\"\",IF(Süt!$C8<=0,\"\",IF(AND($AA37 > 0, $AB6 > 0, $AB37 > 0),((($AA37 / TotalDMFed) * ($AB6 / 100) * (($AV37 * 1000) / $AB37)* (BB6 / 100) * TotalDMFed) * 1000),0)))","v":4.4249403068994759},{"$f":"IF(Süt!$B8=\"\",\"\",IF(Süt!$C8<=0,\"\",IF(AND($AA37 > 0, $AB6 > 0, $AB37 > 0),((($AA37 / TotalDMFed) * ($AB6 / 100) * (($AV37 * 1000) / $AB37)* (BC6 / 100) * TotalDMFed) * 1000),0)))","v":2.0722860941402508},{"$f":"IF(Süt!$B8=\"\",\"\",IF(Süt!$C8<=0,\"\",IF(AND($AA37 > 0, $AB6 > 0, $AB37 > 0),((($AA37 / TotalDMFed) * ($AB6 / 100) * (($AV37 * 1000) / $AB37)* (BD6 / 100) * TotalDMFed) * 1000),0)))","v":2.7793013497881005},{"$f":"IF(Süt!$B8=\"\",\"\",IF(Süt!$C8<=0,\"\",IF(AND($AA37 > 0, $AB6 > 0, $AB37 > 0),((($AA37 / TotalDMFed) * ($AB6 / 100) * (($AV37 * 1000) / $AB37)* (BE6 / 100) * TotalDMFed) * 1000),0)))","v":6.2290482006215777},{"$f":"IF(Süt!$B8=\"\",\"\",IF(Süt!$C8<=0,\"\",IF(AND($AA37 > 0, $AB6 > 0, $AB37 > 0),((($AA37 / TotalDMFed) * ($AB6 / 100) * (($AV37 * 1000) / $AB37)* (BF6 / 100) * TotalDMFed) * 1000),0)))","v":4.1689520246821514},{"$f":"IF(Süt!$B8=\"\",\"\",IF(Süt!$C8<=0,\"\",IF(AND($AA37 > 0, $AB6 > 0, $AB37 > 0),((($AA37 / TotalDMFed) * ($AB6 / 100) * (($AV37 * 1000) / $AB37)* (BG6 / 100) * TotalDMFed) * 1000),0)))","v":1.4262204294965253},{"$f":"IF(Süt!$B8=\"\",\"\",IF(Süt!$C8<=0,\"\",IF(AND($AA37 > 0, $AB6 > 0, $AB37 > 0),((($AA37 / TotalDMFed) * ($AB6 / 100) * (($AV37 * 1000) / $AB37)* (BH6 / 100) * TotalDMFed) * 1000),0)))","v":5.9730599184042523},{"$f":"IF(Süt!$B8=\"\",\"\",IF(Süt!$C8<=0,\"\",IF(AnimalType=\"Buzağı\",IF(P6=\"BUZAĞI BAŞLANGIÇ YEMİ\",AA37,0),0)))","v":0},{"$f":"IF(Süt!$B8=\"\",\"\",IF(Süt!$C8<=0,\"\",IF(AnimalType=\"Buzağı\",IF(AN6=\"Calf Feed-Milk\",AA37,0),0)))","v":0},{"$f":"IF(Süt!$B8=\"\",\"\",IF(Süt!$C8<=0,\"\",IF(AnimalType=\"Buzağı\",IF(P6=\"BUZAĞI BAŞLANGIÇ YEMİ\",0,AA37),0)))","v":0},{"$f":"IF(Süt!$B8=\"\",\"\",IF(Süt!$C8<=0,\"\",IF(S6=\"Forage\",AH37,0)))","v":0},{"$f":"IF(Süt!$B8=\"\",\"\",IF(Süt!$C8<=0,\"\",BM6/100*$AA37))","v":2.7299999999999998E-3},{"$f":"IF(Süt!$B8=\"\",\"\",IF(Süt!$C8<=0,\"\",IF(AnimalType <> \"Buzağı\",((BM6 / 100) * $AA37) * BN6,((BM6 / 100) * $AA37))))","v":1.6379999999999999E-3},{"$f":"IF(Süt!$B8=\"\",\"\",IF(Süt!$C8<=0,\"\",BO6/100*$AA37))","v":1.7745E-2},{"$f":"IF(Süt!$B8=\"\",\"\",IF(Süt!$C8<=0,\"\",IF(AnimalType <> \"Buzağı\",((BO6 / 100) * $AA37) * BP6,((BO6 / 100) * $AA37))))","v":1.24215E-2},{"$f":"IF(Süt!$B8=\"\",\"\",IF(Süt!$C8<=0,\"\",BQ6/100*$AA37))","v":6.3700000000000007E-3},{"$f":"IF(Süt!$B8=\"\",\"\",IF(Süt!$C8<=0,\"\",IF(AnimalType <> \"Buzağı\",((BQ6 / 100) * $AA37) * BR6,((BQ6 / 100) * $AA37))))","v":1.0192000000000001E-3},{"$f":"IF(Süt!$B8=\"\",\"\",IF(Süt!$C8<=0,\"\",BS6/100*$AA37))","v":2.5480000000000003E-2},{"$f":"IF(Süt!$B8=\"\",\"\",IF(Süt!$C8<=0,\"\",IF(AnimalType <> \"Buzağı\",((BS6 / 100) * $AA37) * BT6,((BS6 / 100) * $AA37))))","v":2.2932000000000004E-2},{"$f":"IF(Süt!$B8=\"\",\"\",IF(Süt!$C8<=0,\"\",BU6/100*$AA37))","v":9.1E-4},{"$f":"IF(Süt!$B8=\"\",\"\",IF(Süt!$C8<=0,\"\",IF(AnimalType <> \"Buzağı\",((BU6 / 100) * $AA37) * BV6,((BU6 / 100) * $AA37))))","v":8.1900000000000007E-4},{"$f":"IF(Süt!$B8=\"\",\"\",IF(Süt!$C8<=0,\"\",BW6/100*$AA37))","v":5.9149999999999993E-3},{"$f":"IF(Süt!$B8=\"\",\"\",IF(Süt!$C8<=0,\"\",IF(AnimalType <> \"Buzağı\",((BW6 / 100) * $AA37) * BX6,((BW6 / 100) * $AA37))))","v":5.3234999999999992E-3},{"$f":"IF(Süt!$B8=\"\",\"\",IF(Süt!$C8<=0,\"\",BY6/100*$AA37))","v":5.4599999999999996E-3},{"$f":"IF(Süt!$B8=\"\",\"\",IF(Süt!$C8<=0,\"\",IF(AnimalType <> \"Buzağı\",((BY6 / 100) * $AA37) * BZ6,((BY6 / 100) * $AA37))))","v":5.4599999999999996E-3},{"$f":"IF(Süt!$B8=\"\",\"\",IF(Süt!$C8<=0,\"\",CA6*$AA37))","v":1.5924999999999998},{"$f":"IF(Süt!$B8=\"\",\"\",IF(Süt!$C8<=0,\"\",IF(AnimalType <> \"Buzağı\",CA6 * $AA37 * CB6,CA6 * $AA37)))","v":1.5924999999999998},{"$f":"IF(Süt!$B8=\"\",\"\",IF(Süt!$C8<=0,\"\",CC6*$AA37))","v":27.299999999999997},{"$f":"IF(Süt!$B8=\"\",\"\",IF(Süt!$C8<=0,\"\",IF(AnimalType <> \"Buzağı\",CC6 * $AA37 * CD6,CC6 * $AA37)))","v":1.0919999999999999},{"$f":"IF(Süt!$B8=\"\",\"\",IF(Süt!$C8<=0,\"\",CE6*$AA37))","v":0},{"$f":"IF(Süt!$B8=\"\",\"\",IF(Süt!$C8<=0,\"\",IF(AnimalType <> \"Buzağı\",CE6 * $AA37 * CF6,CE6 * $AA37)))","v":0},{"$f":"IF(Süt!$B8=\"\",\"\",IF(Süt!$C8<=0,\"\",CG6*$AA37))","v":318.5},{"$f":"IF(Süt!$B8=\"\",\"\",IF(Süt!$C8<=0,\"\",IF(AnimalType <> \"Buzağı\",CG6 * $AA37 * CH6,CG6 * $AA37)))","v":31.85},{"$f":"IF(Süt!$B8=\"\",\"\",IF(Süt!$C8<=0,\"\",CI6*$AA37))","v":100.1},{"$f":"IF(Süt!$B8=\"\",\"\",IF(Süt!$C8<=0,\"\",IF(AnimalType <> \"Buzağı\",CI6 * $AA37 * CJ6,CI6 * $AA37)))","v":1.0009999999999999},{"$f":"IF(Süt!$B8=\"\",\"\",IF(Süt!$C8<=0,\"\",CK6*$AA37))","v":0.50049999999999994},{"$f":"IF(Süt!$B8=\"\",\"\",IF(Süt!$C8<=0,\"\",IF(AnimalType <> \"Buzağı\",CK6 * $AA37 * CL6,CK6 * $AA37)))","v":0.50049999999999994},{"$f":"IF(Süt!$B8=\"\",\"\",IF(Süt!$C8<=0,\"\",CM6*$AA37))","v":172.9},{"$f":"IF(Süt!$B8=\"\",\"\",IF(Süt!$C8<=0,\"\",IF(AnimalType <> \"Buzağı\",CM6 * $AA37 * CN6,CM6 * $AA37)))","v":25.934999999999999},null,null,{"$f":"IF(Süt!$B8=\"\",\"\",IF(Süt!$C8<=0,\"\",CQ6*$AA37))","v":0},{"$f":"IF(Süt!$B8=\"\",\"\",IF(Süt!$C8<=0,\"\",CR6*$AA37))","v":0},{"$f":"IF(Süt!$B8=\"\",\"\",IF(Süt!$C8<=0,\"\",CS6*$AA37))","v":0},{"$f":"CT36-1","v":-19},0.64800000000000035,0.91800000000000059,"ADG",{"$f":"IF(CX36<0,0,CX36)","v":0},"kg/gün, ineğin mevcut özelliği olarak verilen GCAA",null,null,null,null,null,null,null,null,null,null,"Geceleri Serinliyor mu?"]
[null,null,null,"başına","Günlük"," hayvan","Bir öğünde",null,null,null,null,null,null,null,{"$f":"IF(Süt!B9=\"\",\"\",IF(Süt!C9<=0,\"\",Süt!C9))","v":2.094454588298537E-8},"Mısır, Pul Haline Getirilmiş",{"$f":"IF(Süt!$B9=\"\",\"\",IF(Süt!$C9<=0,\"\",IF(MID(AN7,1,9)=\"Calf Feed\",0,(AK38/100)*AA38)))","v":1.6919900951085561E-8},{"$f":"IF(Süt!$B9=\"\",\"\",IF(Süt!$C9<=0,\"\",(R7/100)*(AA38*1000)))","v":1.6920616894308572E-5},{"$f":"IF(Süt!$B9=\"\",\"\",IF(Süt!$C9<=0,\"\",IF(MID(AN7,1,9)=\"Calf Feed\",0,AK38*Discount)))","v":88.591103055309333},{"$f":"IF(Süt!$B9=\"\",\"\",IF(Süt!$C9<=0,\"\",(S38/100)*(AA38*1000)))","v":1.6346958724570323E-5},{"$f":"IF(Süt!$B9=\"\",\"\",IF(Süt!$C9<=0,\"\",Discount*AL38))","v":3.8390043245754546},{"$f":"IF(Süt!$B9=\"\",\"\",IF(Süt!$C9<=0,\"\",IF(AP38<0,0,AP38)*AA38))","v":6.3344633422977305E-8},null,null,{"$f":"IF(Süt!$B9=\"\",\"\",IF(Süt!$C9<=0,\"\",IF(AR38<0,0,AR38)*AA38))","v":4.1370056448356738E-8},{"$f":"IF(Süt!$B9=\"\",\"\",IF(Süt!$C9<=0,\"\",IF(AS38<0,0,AS38)*AA38))","v":2.8629296881051527E-8},{"$f":"IF(Süt!$B9=\"\",\"\",IF(Süt!$C9<=0,\"\",$O38*AA7/100))","v":1.8452144922910111E-8},{"$f":"IF(Süt!$B9=\"\",\"\",IF(Süt!$C9<=0,\"\",(AB7/ 100) * (AA38 * 1000)))","v":1.7345016227535504E-6},{"$f":"IF(Süt!$B9=\"\",\"\",IF(Süt!$C9<=0,\"\",IF(MID(AN7,1,9)<>\"Calf Feed\",IF(AB7 > 0,IF(S7=\"Forage\", EXP((-1.2 * (AE7 / AB7))) * AB7,IF(AN7 = \"Animal Protein\",(AC7 * AB7),(1 - (0.4 * (AE7 / AB7))) * AB7)),0),0)))","v":9.2799999999999994},{"$f":"IF(Süt!$B9=\"\",\"\",IF(Süt!$C9<=0,\"\",IF(MID(AN7,1,9)<>\"Calf Feed\",0.98 * (100 - AH7 - AB7 - AF7 - AL7 + AD7) * T7,0)))","v":77.561119999999988},{"$f":"IF(Süt!$B9=\"\",\"\",IF(Süt!$C9<=0,\"\",IF(MID(AN7,1,9)<>\"Calf Feed\",((100 - AH7 - AB7 - AF7 - AL7 + AD7) /100)*AA38,0)))","v":1.4042082286334593E-8},{"$f":"IF(Süt!$B9=\"\",\"\",IF(Süt!$C9<=0,\"\",IF(MID(AN7,1,9)=\"Calf Feed\",0,(AF7/100)*AA38)))","v":7.7499008676222474E-10},{"$f":"IF(Süt!$B9=\"\",\"\",IF(Süt!$C9<=0,\"\",IF(AN7 = \"Fat and Oil\",IF(S7 = \"Fatty acids\",(AF7 * AG7)*AA38,(10 + ((AF7 - 10) * AG7))*AA38),(AF7 - 1)*AA38)))","v":5.9046863753312357E-8},{"$f":"IF(Süt!$B9=\"\",\"\",IF(Süt!$C9<=0,\"\",AH7/100*$AA38))","v":1.7529537676764605E-9},{"$f":"IF(Süt!$B9=\"\",\"\",IF(Süt!$C9<=0,\"\",IF(MID(AN7,1,9)<>\"Calf Feed\",IF(AH7 >AD7,AI7*AH7,0),0)))","v":4.6550000000000002},{"$f":"IF(Süt!$B9=\"\",\"\",IF(Süt!$C9<=0,\"\",AJ7/100*$AA38))","v":6.2737292737894381E-10},{"$f":"IF(Süt!$B9=\"\",\"\",IF(Süt!$C9<=0,\"\",IF(MID(AN7,1,9)<>\"Calf Feed\",IF(AN7=\"Fat and Oil\",IF(S7=\"Fatty acids\",AF7*AG7*2.25,10+(((AF7-10)*AG7*2.25))),IF(AN7=\"Animal Protein\",(AC7*AB7)+((AF7-1)*2.25)+((0.98*(100-AB7-AL7-AF7))-7),IF(AI38>0,AD38+AC38+AO38+AI38-7,IF(AB7>0,((0.98*T7)*(100-AB7-AF7-AL7))+(AB7*(1-(0.4*AE7/AB7)))+((2.25*(AF7-1)-7)),((0.98*T7)*(100-AF7-AL7))+(2.25*(AF7-1)-7))))),AA38)))","v":91.696119999999993},{"$f":"IF(Süt!$B9=\"\",\"\",IF(Süt!$C9<=0,\"\",IF(MID(AN7,1,9)<>\"Calf Feed\",IF(AN7=\"Fat and Oil\",IF(S7=\"Fatty acids\",AF7*AG7*0.094,((AF7-10)*AG7*0.094)+0.43),IF(AN7=\"Animal Protein\",(AD38*0.042)+(AC38*0.056)+(0.094*(AO38/2.25))-0.3,IF(AI38>0,(AD38*0.042)+(AI38*0.042)+(AC38*0.056)+(0.094*(AO38/2.25))-0.3,IF(AB7>0,(0.98*T7*(0.042*(100-AB7-AF7-AL7))+(AB7*(0.056*(1-(0.4*AE7/AB7)))))+(0.094*(AF7-1))-0.3,(0.98*T7)*(0.042*(100-AF7-AL7))+(0.094*(AF7-1))-0.3)))),U7)))","v":3.9735570399999993},1.8452144922910111E-8,6.7825510614442468,{"$f":"IF(Süt!$B9=\"\",\"\",IF(Süt!$C9<=0,\"\",IF(MID(AN7,1,9)<>\"Calf Feed\",IF(AF7 <1,0,(AF7-1)*2.25),0)))","v":7.2},{"$f":"IF(Süt!$B9=\"\",\"\",IF(Süt!$C9<=0,\"\",IF(AN7 <> \"Fat and Oil\",IF(AF7 >= 3,IF(AnimalType <> \"Damızlık Düve\",(1.01 * U38) - 0.45 + (0.0046 * (AF7 - 3)),0.82 * AL38),IF(AND(AnimalType <> \"Buzağı\",AnimalType <> \"Damızlık Düve\")=TRUE,(1.01 * U38) - 0.45,0.82 * AL38)),U38)))","v":3.4329143678212093},{"$f":"IF(Süt!$B9=\"\",\"\",IF(Süt!$C9<=0,\"\",IF(IF(AN7 <> \"Fat and Oil\",IF(AF7 >= 3,(0.703 * AP38) - 0.19 + ((((0.097 * AP38) + 0.19) / 97) * (AF7 - 3)),(0.703 * AP38) - 0.19),0.8*U38)<0,0,IF(AN7 <> \"Fat and Oil\",IF(AF7 >= 3,(0.703 * AP38) - 0.19 + ((((0.097 * AP38) + 0.19) / 97) * (AF7 - 3)),(0.703 * AP38) - 0.19   ),0.8*U38))))","v":2.2298088132836127},{"$f":"IF(Süt!$B9=\"\",\"\",IF(Süt!$C9<=0,\"\",IF(MID(AN7,1,9)=\"Calf Feed\",0.75*AA38*V38,IF(IF(AN7 <> \"Fat and Oil\", ((1.37 * 0.82 * AL38) - (0.138 * (0.82 * AL38) ^ 2)+ (0.0105 * (0.82 * AL38) ^ 3) - 1.12),0.8 * U38)<0,0,IF(AN7 <> \"Fat and Oil\", ((1.37 * 0.82 * AL38) - (0.138 * (0.82 * AL38) ^ 2)+ (0.0105 * (0.82 * AL38) ^ 3) - 1.12),0.8 * U38)))))","v":2.2420188341893974},{"$f":"IF(Süt!$B9=\"\",\"\",IF(Süt!$C9<=0,\"\",IF(MID(AN7,1,9)=\"Calf Feed\",0.57*AA38*V38,IF(IF(AN7 <> \"Fat and Oil\",((1.42 * 0.82 * AL38) - (0.174 * (0.82 * AL38)^2)+ (0.0122 * (0.82 * AL38)^3) - 1.65),0.55 * U38)<0,0,IF(AN7 <> \"Fat and Oil\",((1.42 * 0.82 * AL38) - (0.174 * (0.82 * AL38)^2)+ (0.0122 * (0.82 * AL38)^3) - 1.65),0.55 * U38)))))","v":1.5515430320247217},{"$f":"IF(Süt!$B9=\"\",\"\",IF(Süt!$C9<=0,\"\",IF((AT7+AN38)>0,((AT7/(AT7+AN38))*((((AR7/100)*(AB7/100))*AA38)))+(((AQ7/100)*(AB7/100))*AA38),0)))","v":4.6991377441211183E-10},{"$f":"IF(Süt!$B9=\"\",\"\",IF(Süt!$C9<=0,\"\",IF(ISERROR(AB38/1000 - E84)=TRUE,0,AB38/1000 - E84)))","v":5.1235560998391709E-10},{"$f":"IF(Süt!$B9=\"\",\"\",IF(Süt!$C9<=0,\"\",IF((AT7+AN38)>0,   IF(BW_DMI<2,  C84,  C84+(BW_DMI-2)*((D84-C84)/2) ),0)))","v":1.2221460127696333E-9},{"$f":"IF(Süt!$B9=\"\",\"\",IF(Süt!$C9<=0,\"\",E84*(AW7/100)))","v":1.09993141149267E-9},{"$f":"IF(Süt!$B9=\"\",\"\",IF(Süt!$C9<=0,\"\",IF(AND($AA38 > 0, $AB7 > 0, $AB38 > 0),((($AA38 / TotalDMFed) * ($AB7 / 100) * (($AV38 * 1000) / $AB38)* (AX7 / 100) * TotalDMFed) * 1000),0)))","v":5.7807506404003665E-8},{"$f":"IF(Süt!$B9=\"\",\"\",IF(Süt!$C9<=0,\"\",IF(AND($AA38 > 0, $AB7 > 0, $AB38 > 0),((($AA38 / TotalDMFed) * ($AB7 / 100) * (($AV38 * 1000) / $AB38)* (AY7 / 100) * TotalDMFed) * 1000),0)))","v":3.8253170199689526E-8},{"$f":"IF(Süt!$B9=\"\",\"\",IF(Süt!$C9<=0,\"\",IF(AND($AA38 > 0, $AB7 > 0, $AB38 > 0),((($AA38 / TotalDMFed) * ($AB7 / 100) * (($AV38 * 1000) / $AB38)* (AZ7 / 100) * TotalDMFed) * 1000),0)))","v":4.0819676826505752E-8},{"$f":"IF(Süt!$B9=\"\",\"\",IF(Süt!$C9<=0,\"\",IF(AND($AA38 > 0, $AB7 > 0, $AB38 > 0),((($AA38 / TotalDMFed) * ($AB7 / 100) * (($AV38 * 1000) / $AB38)* (BA7 / 100) * TotalDMFed) * 1000),0)))","v":1.3284727158805914E-7},{"$f":"IF(Süt!$B9=\"\",\"\",IF(Süt!$C9<=0,\"\",IF(AND($AA38 > 0, $AB7 > 0, $AB38 > 0),((($AA38 / TotalDMFed) * ($AB7 / 100) * (($AV38 * 1000) / $AB38)* (BB7 / 100) * TotalDMFed) * 1000),0)))","v":3.7275453389473813E-8},{"$f":"IF(Süt!$B9=\"\",\"\",IF(Süt!$C9<=0,\"\",IF(AND($AA38 > 0, $AB7 > 0, $AB38 > 0),((($AA38 / TotalDMFed) * ($AB7 / 100) * (($AV38 * 1000) / $AB38)* (BC7 / 100) * TotalDMFed) * 1000),0)))","v":2.4931778660500523E-8},{"$f":"IF(Süt!$B9=\"\",\"\",IF(Süt!$C9<=0,\"\",IF(AND($AA38 > 0, $AB7 > 0, $AB38 > 0),((($AA38 / TotalDMFed) * ($AB7 / 100) * (($AV38 * 1000) / $AB38)* (BD7 / 100) * TotalDMFed) * 1000),0)))","v":2.7131641483485859E-8},{"$f":"IF(Süt!$B9=\"\",\"\",IF(Süt!$C9<=0,\"\",IF(AND($AA38 > 0, $AB7 > 0, $AB38 > 0),((($AA38 / TotalDMFed) * ($AB7 / 100) * (($AV38 * 1000) / $AB38)* (BE7 / 100) * TotalDMFed) * 1000),0)))","v":5.6463145789957059E-8},{"$f":"IF(Süt!$B9=\"\",\"\",IF(Süt!$C9<=0,\"\",IF(AND($AA38 > 0, $AB7 > 0, $AB38 > 0),((($AA38 / TotalDMFed) * ($AB7 / 100) * (($AV38 * 1000) / $AB38)* (BF7 / 100) * TotalDMFed) * 1000),0)))","v":4.4730544067368579E-8},{"$f":"IF(Süt!$B9=\"\",\"\",IF(Süt!$C9<=0,\"\",IF(AND($AA38 > 0, $AB7 > 0, $AB38 > 0),((($AA38 / TotalDMFed) * ($AB7 / 100) * (($AV38 * 1000) / $AB38)* (BG7 / 100) * TotalDMFed) * 1000),0)))","v":8.7994512919413582E-9},{"$f":"IF(Süt!$B9=\"\",\"\",IF(Süt!$C9<=0,\"\",IF(AND($AA38 > 0, $AB7 > 0, $AB38 > 0),((($AA38 / TotalDMFed) * ($AB7 / 100) * (($AV38 * 1000) / $AB38)* (BH7 / 100) * TotalDMFed) * 1000),0)))","v":5.8051935606557585E-8},{"$f":"IF(Süt!$B9=\"\",\"\",IF(Süt!$C9<=0,\"\",IF(AnimalType=\"Buzağı\",IF(P7=\"BUZAĞI BAŞLANGIÇ YEMİ\",AA38,0),0)))","v":0},{"$f":"IF(Süt!$B9=\"\",\"\",IF(Süt!$C9<=0,\"\",IF(AnimalType=\"Buzağı\",IF(AN7=\"Calf Feed-Milk\",AA38,0),0)))","v":0},{"$f":"IF(Süt!$B9=\"\",\"\",IF(Süt!$C9<=0,\"\",IF(AnimalType=\"Buzağı\",IF(P7=\"BUZAĞI BAŞLANGIÇ YEMİ\",0,AA38),0)))","v":0},{"$f":"IF(Süt!$B9=\"\",\"\",IF(Süt!$C9<=0,\"\",IF(S7=\"Forage\",AH38,0)))","v":0},{"$f":"IF(Süt!$B9=\"\",\"\",IF(Süt!$C9<=0,\"\",BM7/100*$AA38))","v":7.380857969164045E-12},{"$f":"IF(Süt!$B9=\"\",\"\",IF(Süt!$C9<=0,\"\",IF(AnimalType <> \"Buzağı\",((BM7 / 100) * $AA38) * BN7,((BM7 / 100) * $AA38))))","v":4.428514781498427E-12},{"$f":"IF(Süt!$B9=\"\",\"\",IF(Süt!$C9<=0,\"\",BO7/100*$AA38))","v":5.5356434768730331E-11},{"$f":"IF(Süt!$B9=\"\",\"\",IF(Süt!$C9<=0,\"\",IF(AnimalType <> \"Buzağı\",((BO7 / 100) * $AA38) * BP7,((BO7 / 100) * $AA38))))","v":3.8749504338111232E-11},{"$f":"IF(Süt!$B9=\"\",\"\",IF(Süt!$C9<=0,\"\",BQ7/100*$AA38))","v":2.214257390749213E-11},{"$f":"IF(Süt!$B9=\"\",\"\",IF(Süt!$C9<=0,\"\",IF(AnimalType <> \"Buzağı\",((BQ7 / 100) * $AA38) * BR7,((BQ7 / 100) * $AA38))))","v":3.5428118251987408E-12},{"$f":"IF(Süt!$B9=\"\",\"\",IF(Süt!$C9<=0,\"\",BS7/100*$AA38))","v":7.7499008676222464E-11},{"$f":"IF(Süt!$B9=\"\",\"\",IF(Süt!$C9<=0,\"\",IF(AnimalType <> \"Buzağı\",((BS7 / 100) * $AA38) * BT7,((BS7 / 100) * $AA38))))","v":6.9749107808600223E-11},{"$f":"IF(Süt!$B9=\"\",\"\",IF(Süt!$C9<=0,\"\",BU7/100*$AA38))","v":3.6904289845820225E-12},{"$f":"IF(Süt!$B9=\"\",\"\",IF(Süt!$C9<=0,\"\",IF(AnimalType <> \"Buzağı\",((BU7 / 100) * $AA38) * BV7,((BU7 / 100) * $AA38))))","v":3.3213860861238203E-12},{"$f":"IF(Süt!$B9=\"\",\"\",IF(Süt!$C9<=0,\"\",BW7/100*$AA38))","v":1.476171593832809E-11},{"$f":"IF(Süt!$B9=\"\",\"\",IF(Süt!$C9<=0,\"\",IF(AnimalType <> \"Buzağı\",((BW7 / 100) * $AA38) * BX7,((BW7 / 100) * $AA38))))","v":1.3285544344495281E-11},{"$f":"IF(Süt!$B9=\"\",\"\",IF(Süt!$C9<=0,\"\",BY7/100*$AA38))","v":1.845214492291011E-11},{"$f":"IF(Süt!$B9=\"\",\"\",IF(Süt!$C9<=0,\"\",IF(AnimalType <> \"Buzağı\",((BY7 / 100) * $AA38) * BZ7,((BY7 / 100) * $AA38))))","v":1.845214492291011E-11},{"$f":"IF(Süt!$B9=\"\",\"\",IF(Süt!$C9<=0,\"\",CA7*$AA38))","v":0},{"$f":"IF(Süt!$B9=\"\",\"\",IF(Süt!$C9<=0,\"\",IF(AnimalType <> \"Buzağı\",CA7 * $AA38 * CB7,CA7 * $AA38)))","v":0},{"$f":"IF(Süt!$B9=\"\",\"\",IF(Süt!$C9<=0,\"\",CC7*$AA38))","v":5.5356434768730332E-8},{"$f":"IF(Süt!$B9=\"\",\"\",IF(Süt!$C9<=0,\"\",IF(AnimalType <> \"Buzağı\",CC7 * $AA38 * CD7,CC7 * $AA38)))","v":2.2142573907492134E-9},{"$f":"IF(Süt!$B9=\"\",\"\",IF(Süt!$C9<=0,\"\",CE7*$AA38))","v":0},{"$f":"IF(Süt!$B9=\"\",\"\",IF(Süt!$C9<=0,\"\",IF(AnimalType <> \"Buzağı\",CE7 * $AA38 * CF7,CE7 * $AA38)))","v":0},{"$f":"IF(Süt!$B9=\"\",\"\",IF(Süt!$C9<=0,\"\",CG7*$AA38))","v":9.9641582583714598E-7},{"$f":"IF(Süt!$B9=\"\",\"\",IF(Süt!$C9<=0,\"\",IF(AnimalType <> \"Buzağı\",CG7 * $AA38 * CH7,CG7 * $AA38)))","v":9.9641582583714603E-8},{"$f":"IF(Süt!$B9=\"\",\"\",IF(Süt!$C9<=0,\"\",CI7*$AA38))","v":2.0297359415201122E-7},{"$f":"IF(Süt!$B9=\"\",\"\",IF(Süt!$C9<=0,\"\",IF(AnimalType <> \"Buzağı\",CI7 * $AA38 * CJ7,CI7 * $AA38)))","v":2.0297359415201121E-9},{"$f":"IF(Süt!$B9=\"\",\"\",IF(Süt!$C9<=0,\"\",CK7*$AA38))","v":1.2916501446037078E-9},{"$f":"IF(Süt!$B9=\"\",\"\",IF(Süt!$C9<=0,\"\",IF(AnimalType <> \"Buzağı\",CK7 * $AA38 * CL7,CK7 * $AA38)))","v":1.2916501446037078E-9},{"$f":"IF(Süt!$B9=\"\",\"\",IF(Süt!$C9<=0,\"\",CM7*$AA38))","v":4.9820791291857299E-7},{"$f":"IF(Süt!$B9=\"\",\"\",IF(Süt!$C9<=0,\"\",IF(AnimalType <> \"Buzağı\",CM7 * $AA38 * CN7,CM7 * $AA38)))","v":7.4731186937785946E-8},null,null,{"$f":"IF(Süt!$B9=\"\",\"\",IF(Süt!$C9<=0,\"\",CQ7*$AA38))","v":0},{"$f":"IF(Süt!$B9=\"\",\"\",IF(Süt!$C9<=0,\"\",CR7*$AA38))","v":0},{"$f":"IF(Süt!$B9=\"\",\"\",IF(Süt!$C9<=0,\"\",CS7*$AA38))","v":0},-20,0.67500000000000004,0.94500000000000062,"Rezerv ihtiyaçlar",null,null,null,null,null,null,null,null,null,null,null,null,"Serinliyor"]
[null,"VERİLECEK YEMLER ","Oran, %","günlük","toplam","başına","toplam",null,null,null,null,null,null,null,{"$f":"IF(Süt!B10=\"\",\"\",IF(Süt!C10<=0,\"\",Süt!C10))","v":1.6426040151275287E-8},"Pamuk Tohumu Küspesi, Pres, %25 HP",{"$f":"IF(Süt!$B10=\"\",\"\",IF(Süt!$C10<=0,\"\",IF(MID(AN8,1,9)=\"Calf Feed\",0,(AK39/100)*AA39)))","v":5.9224416286226083E-9},{"$f":"IF(Süt!$B10=\"\",\"\",IF(Süt!$C10<=0,\"\",(R8/100)*(AA39*1000)))","v":8.9193398021424824E-6},{"$f":"IF(Süt!$B10=\"\",\"\",IF(Süt!$C10<=0,\"\",IF(MID(AN8,1,9)=\"Calf Feed\",0,AK39*Discount)))","v":38.490936647303336},{"$f":"IF(Süt!$B10=\"\",\"\",IF(Süt!$C10<=0,\"\",(S39/100)*(AA39*1000)))","v":5.7218957210006228E-6},{"$f":"IF(Süt!$B10=\"\",\"\",IF(Süt!$C10<=0,\"\",Discount*AL39))","v":1.9746314246291277},{"$f":"IF(Süt!$B10=\"\",\"\",IF(Süt!$C10<=0,\"\",IF(AP39<0,0,AP39)*AA39))","v":2.3094812936790073E-8},null,null,{"$f":"IF(Süt!$B10=\"\",\"\",IF(Süt!$C10<=0,\"\",IF(AR39<0,0,AR39)*AA39))","v":1.2455303265612089E-8},{"$f":"IF(Süt!$B10=\"\",\"\",IF(Süt!$C10<=0,\"\",IF(AS39<0,0,AS39)*AA39))","v":4.4380518634044864E-9},{"$f":"IF(Süt!$B10=\"\",\"\",IF(Süt!$C10<=0,\"\",$O39*AA8/100))","v":1.4865566336904137E-8},{"$f":"IF(Süt!$B10=\"\",\"\",IF(Süt!$C10<=0,\"\",(AB8/ 100) * (AA39 * 1000)))","v":4.1028963089855422E-6},{"$f":"IF(Süt!$B10=\"\",\"\",IF(Süt!$C10<=0,\"\",IF(MID(AN8,1,9)<>\"Calf Feed\",IF(AB8 > 0,IF(S8=\"Forage\", EXP((-1.2 * (AE8 / AB8))) * AB8,IF(AN8 = \"Animal Protein\",(AC8 * AB8),(1 - (0.4 * (AE8 / AB8))) * AB8)),0),0)))","v":27.040000000000003},{"$f":"IF(Süt!$B10=\"\",\"\",IF(Süt!$C10<=0,\"\",IF(MID(AN8,1,9)<>\"Calf Feed\",0.98 * (100 - AH8 - AB8 - AF8 - AL8 + AD8) * T8,0)))","v":0},{"$f":"IF(Süt!$B10=\"\",\"\",IF(Süt!$C10<=0,\"\",IF(MID(AN8,1,9)<>\"Calf Feed\",((100 - AH8 - AB8 - AF8 - AL8 + AD8) /100)*AA39,0)))","v":3.7758538495736504E-9},{"$f":"IF(Süt!$B10=\"\",\"\",IF(Süt!$C10<=0,\"\",IF(MID(AN8,1,9)=\"Calf Feed\",0,(AF8/100)*AA39)))","v":7.4327831684520687E-10},{"$f":"IF(Süt!$B10=\"\",\"\",IF(Süt!$C10<=0,\"\",IF(AN8 = \"Fat and Oil\",IF(S8 = \"Fatty acids\",(AF8 * AG8)*AA39,(10 + ((AF8 - 10) * AG8))*AA39),(AF8 - 1)*AA39)))","v":5.9462265347616546E-8},{"$f":"IF(Süt!$B10=\"\",\"\",IF(Süt!$C10<=0,\"\",AH8/100*$AA39))","v":5.946226534761655E-9},{"$f":"IF(Süt!$B10=\"\",\"\",IF(Süt!$C10<=0,\"\",IF(MID(AN8,1,9)<>\"Calf Feed\",IF(AH8 >AD8,AI8*AH8,0),0)))","v":10.8},{"$f":"IF(Süt!$B10=\"\",\"\",IF(Süt!$C10<=0,\"\",AJ8/100*$AA39))","v":4.4596699010712408E-9},{"$f":"IF(Süt!$B10=\"\",\"\",IF(Süt!$C10<=0,\"\",IF(MID(AN8,1,9)<>\"Calf Feed\",IF(AN8=\"Fat and Oil\",IF(S8=\"Fatty acids\",AF8*AG8*2.25,10+(((AF8-10)*AG8*2.25))),IF(AN8=\"Animal Protein\",(AC8*AB8)+((AF8-1)*2.25)+((0.98*(100-AB8-AL8-AF8))-7),IF(AI39>0,AD39+AC39+AO39+AI39-7,IF(AB8>0,((0.98*T8)*(100-AB8-AF8-AL8))+(AB8*(1-(0.4*AE8/AB8)))+((2.25*(AF8-1)-7)),((0.98*T8)*(100-AF8-AL8))+(2.25*(AF8-1)-7))))),AA39)))","v":39.840000000000003},{"$f":"IF(Süt!$B10=\"\",\"\",IF(Süt!$C10<=0,\"\",IF(MID(AN8,1,9)<>\"Calf Feed\",IF(AN8=\"Fat and Oil\",IF(S8=\"Fatty acids\",AF8*AG8*0.094,((AF8-10)*AG8*0.094)+0.43),IF(AN8=\"Animal Protein\",(AD39*0.042)+(AC39*0.056)+(0.094*(AO39/2.25))-0.3,IF(AI39>0,(AD39*0.042)+(AI39*0.042)+(AC39*0.056)+(0.094*(AO39/2.25))-0.3,IF(AB8>0,(0.98*T8*(0.042*(100-AB8-AF8-AL8))+(AB8*(0.056*(1-(0.4*AE8/AB8)))))+(0.094*(AF8-1))-0.3,(0.98*T8)*(0.042*(100-AF8-AL8))+(0.094*(AF8-1))-0.3)))),U8)))","v":2.0438400000000003},1.4865566336904137E-8,6.7825510614442468,{"$f":"IF(Süt!$B10=\"\",\"\",IF(Süt!$C10<=0,\"\",IF(MID(AN8,1,9)<>\"Calf Feed\",IF(AF8 <1,0,(AF8-1)*2.25),0)))","v":9},{"$f":"IF(Süt!$B10=\"\",\"\",IF(Süt!$C10<=0,\"\",IF(AN8 <> \"Fat and Oil\",IF(AF8 >= 3,IF(AnimalType <> \"Damızlık Düve\",(1.01 * U39) - 0.45 + (0.0046 * (AF8 - 3)),0.82 * AL39),IF(AND(AnimalType <> \"Buzağı\",AnimalType <> \"Damızlık Düve\")=TRUE,(1.01 * U39) - 0.45,0.82 * AL39)),U39)))","v":1.5535777388754191},{"$f":"IF(Süt!$B10=\"\",\"\",IF(Süt!$C10<=0,\"\",IF(IF(AN8 <> \"Fat and Oil\",IF(AF8 >= 3,(0.703 * AP39) - 0.19 + ((((0.097 * AP39) + 0.19) / 97) * (AF8 - 3)),(0.703 * AP39) - 0.19),0.8*U39)<0,0,IF(AN8 <> \"Fat and Oil\",IF(AF8 >= 3,(0.703 * AP39) - 0.19 + ((((0.097 * AP39) + 0.19) / 97) * (AF8 - 3)),(0.703 * AP39) - 0.19   ),0.8*U39))))","v":0.90918983168036638},{"$f":"IF(Süt!$B10=\"\",\"\",IF(Süt!$C10<=0,\"\",IF(MID(AN8,1,9)=\"Calf Feed\",0.75*AA39*V39,IF(IF(AN8 <> \"Fat and Oil\", ((1.37 * 0.82 * AL39) - (0.138 * (0.82 * AL39) ^ 2)+ (0.0105 * (0.82 * AL39) ^ 3) - 1.12),0.8 * U39)<0,0,IF(AN8 <> \"Fat and Oil\", ((1.37 * 0.82 * AL39) - (0.138 * (0.82 * AL39) ^ 2)+ (0.0105 * (0.82 * AL39) ^ 3) - 1.12),0.8 * U39)))))","v":0.83786268099934347},{"$f":"IF(Süt!$B10=\"\",\"\",IF(Süt!$C10<=0,\"\",IF(MID(AN8,1,9)=\"Calf Feed\",0.57*AA39*V39,IF(IF(AN8 <> \"Fat and Oil\",((1.42 * 0.82 * AL39) - (0.174 * (0.82 * AL39)^2)+ (0.0122 * (0.82 * AL39)^3) - 1.65),0.55 * U39)<0,0,IF(AN8 <> \"Fat and Oil\",((1.42 * 0.82 * AL39) - (0.174 * (0.82 * AL39)^2)+ (0.0122 * (0.82 * AL39)^3) - 1.65),0.55 * U39)))))","v":0.29854576427316548},{"$f":"IF(Süt!$B10=\"\",\"\",IF(Süt!$C10<=0,\"\",IF((AT8+AN39)>0,((AT8/(AT8+AN39))*((((AR8/100)*(AB8/100))*AA39)))+(((AQ8/100)*(AB8/100))*AA39),0)))","v":3.192803001728126E-9},{"$f":"IF(Süt!$B10=\"\",\"\",IF(Süt!$C10<=0,\"\",IF(ISERROR(AB39/1000 - E85)=TRUE,0,AB39/1000 - E85)))","v":2.2255720600323579E-9},{"$f":"IF(Süt!$B10=\"\",\"\",IF(Süt!$C10<=0,\"\",IF((AT8+AN39)>0,   IF(BW_DMI<2,  C85,  C85+(BW_DMI-2)*((D85-C85)/2) ),0)))","v":1.8773242489531839E-9},{"$f":"IF(Süt!$B10=\"\",\"\",IF(Süt!$C10<=0,\"\",E85*(AW8/100)))","v":1.6895918240578656E-9},{"$f":"IF(Süt!$B10=\"\",\"\",IF(Süt!$C10<=0,\"\",IF(AND($AA39 > 0, $AB8 > 0, $AB39 > 0),((($AA39 / TotalDMFed) * ($AB8 / 100) * (($AV39 * 1000) / $AB39)* (AX8 / 100) * TotalDMFed) * 1000),0)))","v":1.5957256116102066E-7},{"$f":"IF(Süt!$B10=\"\",\"\",IF(Süt!$C10<=0,\"\",IF(AND($AA39 > 0, $AB8 > 0, $AB39 > 0),((($AA39 / TotalDMFed) * ($AB8 / 100) * (($AV39 * 1000) / $AB39)* (AY8 / 100) * TotalDMFed) * 1000),0)))","v":4.9749092597259369E-8},{"$f":"IF(Süt!$B10=\"\",\"\",IF(Süt!$C10<=0,\"\",IF(AND($AA39 > 0, $AB8 > 0, $AB39 > 0),((($AA39 / TotalDMFed) * ($AB8 / 100) * (($AV39 * 1000) / $AB39)* (AZ8 / 100) * TotalDMFed) * 1000),0)))","v":7.1338321460220992E-8},{"$f":"IF(Süt!$B10=\"\",\"\",IF(Süt!$C10<=0,\"\",IF(AND($AA39 > 0, $AB8 > 0, $AB39 > 0),((($AA39 / TotalDMFed) * ($AB8 / 100) * (($AV39 * 1000) / $AB39)* (BA8 / 100) * TotalDMFed) * 1000),0)))","v":1.1827142768405057E-7},{"$f":"IF(Süt!$B10=\"\",\"\",IF(Süt!$C10<=0,\"\",IF(AND($AA39 > 0, $AB8 > 0, $AB39 > 0),((($AA39 / TotalDMFed) * ($AB8 / 100) * (($AV39 * 1000) / $AB39)* (BB8 / 100) * TotalDMFed) * 1000),0)))","v":6.9460997211267823E-8},{"$f":"IF(Süt!$B10=\"\",\"\",IF(Süt!$C10<=0,\"\",IF(AND($AA39 > 0, $AB8 > 0, $AB39 > 0),((($AA39 / TotalDMFed) * ($AB8 / 100) * (($AV39 * 1000) / $AB39)* (BC8 / 100) * TotalDMFed) * 1000),0)))","v":2.8159863734297757E-8},{"$f":"IF(Süt!$B10=\"\",\"\",IF(Süt!$C10<=0,\"\",IF(AND($AA39 > 0, $AB8 > 0, $AB39 > 0),((($AA39 / TotalDMFed) * ($AB8 / 100) * (($AV39 * 1000) / $AB39)* (BD8 / 100) * TotalDMFed) * 1000),0)))","v":3.0037187983250942E-8},{"$f":"IF(Süt!$B10=\"\",\"\",IF(Süt!$C10<=0,\"\",IF(AND($AA39 > 0, $AB8 > 0, $AB39 > 0),((($AA39 / TotalDMFed) * ($AB8 / 100) * (($AV39 * 1000) / $AB39)* (BE8 / 100) * TotalDMFed) * 1000),0)))","v":9.0111563949752827E-8},{"$f":"IF(Süt!$B10=\"\",\"\",IF(Süt!$C10<=0,\"\",IF(AND($AA39 > 0, $AB8 > 0, $AB39 > 0),((($AA39 / TotalDMFed) * ($AB8 / 100) * (($AV39 * 1000) / $AB39)* (BF8 / 100) * TotalDMFed) * 1000),0)))","v":5.8197051717548696E-8},{"$f":"IF(Süt!$B10=\"\",\"\",IF(Süt!$C10<=0,\"\",IF(AND($AA39 > 0, $AB8 > 0, $AB39 > 0),((($AA39 / TotalDMFed) * ($AB8 / 100) * (($AV39 * 1000) / $AB39)* (BG8 / 100) * TotalDMFed) * 1000),0)))","v":2.2527890987438207E-8},{"$f":"IF(Süt!$B10=\"\",\"\",IF(Süt!$C10<=0,\"\",IF(AND($AA39 > 0, $AB8 > 0, $AB39 > 0),((($AA39 / TotalDMFed) * ($AB8 / 100) * (($AV39 * 1000) / $AB39)* (BH8 / 100) * TotalDMFed) * 1000),0)))","v":7.5092969958127356E-8},{"$f":"IF(Süt!$B10=\"\",\"\",IF(Süt!$C10<=0,\"\",IF(AnimalType=\"Buzağı\",IF(P8=\"BUZAĞI BAŞLANGIÇ YEMİ\",AA39,0),0)))","v":0},{"$f":"IF(Süt!$B10=\"\",\"\",IF(Süt!$C10<=0,\"\",IF(AnimalType=\"Buzağı\",IF(AN8=\"Calf Feed-Milk\",AA39,0),0)))","v":0},{"$f":"IF(Süt!$B10=\"\",\"\",IF(Süt!$C10<=0,\"\",IF(AnimalType=\"Buzağı\",IF(P8=\"BUZAĞI BAŞLANGIÇ YEMİ\",0,AA39),0)))","v":0},{"$f":"IF(Süt!$B10=\"\",\"\",IF(Süt!$C10<=0,\"\",IF(S8=\"Forage\",AH39,0)))","v":0},{"$f":"IF(Süt!$B10=\"\",\"\",IF(Süt!$C10<=0,\"\",BM8/100*$AA39))","v":2.9731132673808271E-11},{"$f":"IF(Süt!$B10=\"\",\"\",IF(Süt!$C10<=0,\"\",IF(AnimalType <> \"Buzağı\",((BM8 / 100) * $AA39) * BN8,((BM8 / 100) * $AA39))))","v":1.7838679604284961E-11},{"$f":"IF(Süt!$B10=\"\",\"\",IF(Süt!$C10<=0,\"\",BO8/100*$AA39))","v":1.4865566336904137E-10},{"$f":"IF(Süt!$B10=\"\",\"\",IF(Süt!$C10<=0,\"\",IF(AnimalType <> \"Buzağı\",((BO8 / 100) * $AA39) * BP8,((BO8 / 100) * $AA39))))","v":1.0405896435832895E-10},{"$f":"IF(Süt!$B10=\"\",\"\",IF(Süt!$C10<=0,\"\",BQ8/100*$AA39))","v":9.2166511288805638E-11},{"$f":"IF(Süt!$B10=\"\",\"\",IF(Süt!$C10<=0,\"\",IF(AnimalType <> \"Buzağı\",((BQ8 / 100) * $AA39) * BR8,((BQ8 / 100) * $AA39))))","v":1.4746641806208903E-11},{"$f":"IF(Süt!$B10=\"\",\"\",IF(Süt!$C10<=0,\"\",BS8/100*$AA39))","v":2.2298349505356204E-10},{"$f":"IF(Süt!$B10=\"\",\"\",IF(Süt!$C10<=0,\"\",IF(AnimalType <> \"Buzağı\",((BS8 / 100) * $AA39) * BT8,((BS8 / 100) * $AA39))))","v":2.0068514554820582E-10},{"$f":"IF(Süt!$B10=\"\",\"\",IF(Süt!$C10<=0,\"\",BU8/100*$AA39))","v":7.4327831684520677E-12},{"$f":"IF(Süt!$B10=\"\",\"\",IF(Süt!$C10<=0,\"\",IF(AnimalType <> \"Buzağı\",((BU8 / 100) * $AA39) * BV8,((BU8 / 100) * $AA39))))","v":6.6895048516068614E-12},{"$f":"IF(Süt!$B10=\"\",\"\",IF(Süt!$C10<=0,\"\",BW8/100*$AA39))","v":1.189245306952331E-11},{"$f":"IF(Süt!$B10=\"\",\"\",IF(Süt!$C10<=0,\"\",IF(AnimalType <> \"Buzağı\",((BW8 / 100) * $AA39) * BX8,((BW8 / 100) * $AA39))))","v":1.070320776257098E-11},{"$f":"IF(Süt!$B10=\"\",\"\",IF(Süt!$C10<=0,\"\",BY8/100*$AA39))","v":5.5002595446545307E-11},{"$f":"IF(Süt!$B10=\"\",\"\",IF(Süt!$C10<=0,\"\",IF(AnimalType <> \"Buzağı\",((BY8 / 100) * $AA39) * BZ8,((BY8 / 100) * $AA39))))","v":5.5002595446545307E-11},{"$f":"IF(Süt!$B10=\"\",\"\",IF(Süt!$C10<=0,\"\",CA8*$AA39))","v":0},{"$f":"IF(Süt!$B10=\"\",\"\",IF(Süt!$C10<=0,\"\",IF(AnimalType <> \"Buzağı\",CA8 * $AA39 * CB8,CA8 * $AA39)))","v":0},{"$f":"IF(Süt!$B10=\"\",\"\",IF(Süt!$C10<=0,\"\",CC8*$AA39))","v":1.4865566336904138E-7},{"$f":"IF(Süt!$B10=\"\",\"\",IF(Süt!$C10<=0,\"\",IF(AnimalType <> \"Buzağı\",CC8 * $AA39 * CD8,CC8 * $AA39)))","v":5.946226534761655E-9},{"$f":"IF(Süt!$B10=\"\",\"\",IF(Süt!$C10<=0,\"\",CE8*$AA39))","v":0},{"$f":"IF(Süt!$B10=\"\",\"\",IF(Süt!$C10<=0,\"\",IF(AnimalType <> \"Buzağı\",CE8 * $AA39 * CF8,CE8 * $AA39)))","v":0},{"$f":"IF(Süt!$B10=\"\",\"\",IF(Süt!$C10<=0,\"\",CG8*$AA39))","v":1.635212297059455E-6},{"$f":"IF(Süt!$B10=\"\",\"\",IF(Süt!$C10<=0,\"\",IF(AnimalType <> \"Buzağı\",CG8 * $AA39 * CH8,CG8 * $AA39)))","v":1.6352122970594551E-7},{"$f":"IF(Süt!$B10=\"\",\"\",IF(Süt!$C10<=0,\"\",CI8*$AA39))","v":3.1217689307498686E-7},{"$f":"IF(Süt!$B10=\"\",\"\",IF(Süt!$C10<=0,\"\",IF(AnimalType <> \"Buzağı\",CI8 * $AA39 * CJ8,CI8 * $AA39)))","v":3.1217689307498686E-9},{"$f":"IF(Süt!$B10=\"\",\"\",IF(Süt!$C10<=0,\"\",CK8*$AA39))","v":3.2704245941189102E-9},{"$f":"IF(Süt!$B10=\"\",\"\",IF(Süt!$C10<=0,\"\",IF(AnimalType <> \"Buzağı\",CK8 * $AA39 * CL8,CK8 * $AA39)))","v":3.2704245941189102E-9},{"$f":"IF(Süt!$B10=\"\",\"\",IF(Süt!$C10<=0,\"\",CM8*$AA39))","v":8.0274058219282334E-7},{"$f":"IF(Süt!$B10=\"\",\"\",IF(Süt!$C10<=0,\"\",IF(AnimalType <> \"Buzağı\",CM8 * $AA39 * CN8,CM8 * $AA39)))","v":1.2041108732892349E-7},null,null,{"$f":"IF(Süt!$B10=\"\",\"\",IF(Süt!$C10<=0,\"\",CQ8*$AA39))","v":0},{"$f":"IF(Süt!$B10=\"\",\"\",IF(Süt!$C10<=0,\"\",CR8*$AA39))","v":0},{"$f":"IF(Süt!$B10=\"\",\"\",IF(Süt!$C10<=0,\"\",CS8*$AA39))","v":0},-21,0.7020000000000004,0.97200000000000064,"CS_9",{"$f":"((CS-1)*2)+1","v":5},"condition score on 1-9 scale (1996 NRC)",null,null,null,null,null,null,null,null,null,null,"Serinlemiyor"]
[null,null,null,"miktar,kg","miktar,kg","miktar,kg","miktar,kg",null,null,null,null,null,null,null,{"$f":"IF(Süt!B11=\"\",\"\",IF(Süt!C11<=0,\"\",Süt!C11))","v":1.7534010269295777},"Soya Küspesi, Solvent, %44",{"$f":"IF(Süt!$B11=\"\",\"\",IF(Süt!$C11<=0,\"\",IF(MID(AN9,1,9)=\"Calf Feed\",0,(AK40/100)*AA40)))","v":0.85909794521533989},{"$f":"IF(Süt!$B11=\"\",\"\",IF(Süt!$C11<=0,\"\",(R9/100)*(AA40*1000)))","v":1218.5786456955177},{"$f":"IF(Süt!$B11=\"\",\"\",IF(Süt!$C11<=0,\"\",IF(MID(AN9,1,9)=\"Calf Feed\",0,AK40*Discount)))","v":53.127926863333585},{"$f":"IF(Süt!$B11=\"\",\"\",IF(Süt!$C11<=0,\"\",(S40/100)*(AA40*1000)))","v":830.00714315040454},{"$f":"IF(Süt!$B11=\"\",\"\",IF(Süt!$C11<=0,\"\",Discount*AL40))","v":2.8858927560984169},{"$f":"IF(Süt!$B11=\"\",\"\",IF(Süt!$C11<=0,\"\",IF(AP40<0,0,AP40)*AA40))","v":3.850633036730025},null,null,{"$f":"IF(Süt!$B11=\"\",\"\",IF(Süt!$C11<=0,\"\",IF(AR40<0,0,AR40)*AA40))","v":2.4403061408213276},{"$f":"IF(Süt!$B11=\"\",\"\",IF(Süt!$C11<=0,\"\",IF(AS40<0,0,AS40)*AA40))","v":1.5052352553702504},{"$f":"IF(Süt!$B11=\"\",\"\",IF(Süt!$C11<=0,\"\",$O40*AA9/100))","v":1.5622803149942535},{"$f":"IF(Süt!$B11=\"\",\"\",IF(Süt!$C11<=0,\"\",(AB9/ 100) * (AA40 * 1000)))","v":765.51735434718421},{"$f":"IF(Süt!$B11=\"\",\"\",IF(Süt!$C11<=0,\"\",IF(MID(AN9,1,9)<>\"Calf Feed\",IF(AB9 > 0,IF(S9=\"Forage\", EXP((-1.2 * (AE9 / AB9))) * AB9,IF(AN9 = \"Animal Protein\",(AC9 * AB9),(1 - (0.4 * (AE9 / AB9))) * AB9)),0),0)))","v":48.839999999999996},{"$f":"IF(Süt!$B11=\"\",\"\",IF(Süt!$C11<=0,\"\",IF(MID(AN9,1,9)<>\"Calf Feed\",0.98 * (100 - AH9 - AB9 - AF9 - AL9 + AD9) * T9,0)))","v":0},{"$f":"IF(Süt!$B11=\"\",\"\",IF(Süt!$C11<=0,\"\",IF(MID(AN9,1,9)<>\"Calf Feed\",((100 - AH9 - AB9 - AF9 - AL9 + AD9) /100)*AA40,0)))","v":0.3671358740236495},{"$f":"IF(Süt!$B11=\"\",\"\",IF(Süt!$C11<=0,\"\",IF(MID(AN9,1,9)=\"Calf Feed\",0,(AF9/100)*AA40)))","v":2.4996485039908055E-2},{"$f":"IF(Süt!$B11=\"\",\"\",IF(Süt!$C11<=0,\"\",IF(AN9 = \"Fat and Oil\",IF(S9 = \"Fatty acids\",(AF9 * AG9)*AA40,(10 + ((AF9 - 10) * AG9))*AA40),(AF9 - 1)*AA40)))","v":0.93736818899655217},{"$f":"IF(Süt!$B11=\"\",\"\",IF(Süt!$C11<=0,\"\",AH9/100*$AA40))","v":0.3124560629988507},{"$f":"IF(Süt!$B11=\"\",\"\",IF(Süt!$C11<=0,\"\",IF(MID(AN9,1,9)<>\"Calf Feed\",IF(AH9 >AD9,AI9*AH9,0),0)))","v":11.799999999999999},{"$f":"IF(Süt!$B11=\"\",\"\",IF(Süt!$C11<=0,\"\",AJ9/100*$AA40))","v":0.23434204724913801},{"$f":"IF(Süt!$B11=\"\",\"\",IF(Süt!$C11<=0,\"\",IF(MID(AN9,1,9)<>\"Calf Feed\",IF(AN9=\"Fat and Oil\",IF(S9=\"Fatty acids\",AF9*AG9*2.25,10+(((AF9-10)*AG9*2.25))),IF(AN9=\"Animal Protein\",(AC9*AB9)+((AF9-1)*2.25)+((0.98*(100-AB9-AL9-AF9))-7),IF(AI40>0,AD40+AC40+AO40+AI40-7,IF(AB9>0,((0.98*T9)*(100-AB9-AF9-AL9))+(AB9*(1-(0.4*AE9/AB9)))+((2.25*(AF9-1)-7)),((0.98*T9)*(100-AF9-AL9))+(2.25*(AF9-1)-7))))),AA40)))","v":54.989999999999995},{"$f":"IF(Süt!$B11=\"\",\"\",IF(Süt!$C11<=0,\"\",IF(MID(AN9,1,9)<>\"Calf Feed\",IF(AN9=\"Fat and Oil\",IF(S9=\"Fatty acids\",AF9*AG9*0.094,((AF9-10)*AG9*0.094)+0.43),IF(AN9=\"Animal Protein\",(AD40*0.042)+(AC40*0.056)+(0.094*(AO40/2.25))-0.3,IF(AI40>0,(AD40*0.042)+(AI40*0.042)+(AC40*0.056)+(0.094*(AO40/2.25))-0.3,IF(AB9>0,(0.98*T9*(0.042*(100-AB9-AF9-AL9))+(AB9*(0.056*(1-(0.4*AE9/AB9)))))+(0.094*(AF9-1))-0.3,(0.98*T9)*(0.042*(100-AF9-AL9))+(0.094*(AF9-1))-0.3)))),U9)))","v":2.9870399999999999},1.5622803149942535,6.7825510614442468,{"$f":"IF(Süt!$B11=\"\",\"\",IF(Süt!$C11<=0,\"\",IF(MID(AN9,1,9)<>\"Calf Feed\",IF(AF9 <1,0,(AF9-1)*2.25),0)))","v":1.35},{"$f":"IF(Süt!$B11=\"\",\"\",IF(Süt!$C11<=0,\"\",IF(AN9 <> \"Fat and Oil\",IF(AF9 >= 3,IF(AnimalType <> \"Damızlık Düve\",(1.01 * U40) - 0.45 + (0.0046 * (AF9 - 3)),0.82 * AL40),IF(AND(AnimalType <> \"Buzağı\",AnimalType <> \"Damızlık Düve\")=TRUE,(1.01 * U40) - 0.45,0.82 * AL40)),U40)))","v":2.4647516836594008},{"$f":"IF(Süt!$B11=\"\",\"\",IF(Süt!$C11<=0,\"\",IF(IF(AN9 <> \"Fat and Oil\",IF(AF9 >= 3,(0.703 * AP40) - 0.19 + ((((0.097 * AP40) + 0.19) / 97) * (AF9 - 3)),(0.703 * AP40) - 0.19),0.8*U40)<0,0,IF(AN9 <> \"Fat and Oil\",IF(AF9 >= 3,(0.703 * AP40) - 0.19 + ((((0.097 * AP40) + 0.19) / 97) * (AF9 - 3)),(0.703 * AP40) - 0.19   ),0.8*U40))))","v":1.5427204336125586},{"$f":"IF(Süt!$B11=\"\",\"\",IF(Süt!$C11<=0,\"\",IF(MID(AN9,1,9)=\"Calf Feed\",0.75*AA40*V40,IF(IF(AN9 <> \"Fat and Oil\", ((1.37 * 0.82 * AL40) - (0.138 * (0.82 * AL40) ^ 2)+ (0.0105 * (0.82 * AL40) ^ 3) - 1.12),0.8 * U40)<0,0,IF(AN9 <> \"Fat and Oil\", ((1.37 * 0.82 * AL40) - (0.138 * (0.82 * AL40) ^ 2)+ (0.0105 * (0.82 * AL40) ^ 3) - 1.12),0.8 * U40)))))","v":1.5620155470180803},{"$f":"IF(Süt!$B11=\"\",\"\",IF(Süt!$C11<=0,\"\",IF(MID(AN9,1,9)=\"Calf Feed\",0.57*AA40*V40,IF(IF(AN9 <> \"Fat and Oil\",((1.42 * 0.82 * AL40) - (0.174 * (0.82 * AL40)^2)+ (0.0122 * (0.82 * AL40)^3) - 1.65),0.55 * U40)<0,0,IF(AN9 <> \"Fat and Oil\",((1.42 * 0.82 * AL40) - (0.174 * (0.82 * AL40)^2)+ (0.0122 * (0.82 * AL40)^3) - 1.65),0.55 * U40)))))","v":0.9634860280344677},{"$f":"IF(Süt!$B11=\"\",\"\",IF(Süt!$C11<=0,\"\",IF((AT9+AN40)>0,((AT9/(AT9+AN40))*((((AR9/100)*(AB9/100))*AA40)))+(((AQ9/100)*(AB9/100))*AA40),0)))","v":0.51374645319171597},{"$f":"IF(Süt!$B11=\"\",\"\",IF(Süt!$C11<=0,\"\",IF(ISERROR(AB40/1000 - E86)=TRUE,0,AB40/1000 - E86)))","v":0.53013664395704363},{"$f":"IF(Süt!$B11=\"\",\"\",IF(Süt!$C11<=0,\"\",IF((AT9+AN40)>0,   IF(BW_DMI<2,  C86,  C86+(BW_DMI-2)*((D86-C86)/2) ),0)))","v":0.23538071039014058},{"$f":"IF(Süt!$B11=\"\",\"\",IF(Süt!$C11<=0,\"\",E86*(AW9/100)))","v":0.21890406066283075},{"$f":"IF(Süt!$B11=\"\",\"\",IF(Süt!$C11<=0,\"\",IF(AND($AA40 > 0, $AB9 > 0, $AB40 > 0),((($AA40 / TotalDMFed) * ($AB9 / 100) * (($AV40 * 1000) / $AB40)* (AX9 / 100) * TotalDMFed) * 1000),0)))","v":17.371096426792374},{"$f":"IF(Süt!$B11=\"\",\"\",IF(Süt!$C11<=0,\"\",IF(AND($AA40 > 0, $AB9 > 0, $AB40 > 0),((($AA40 / TotalDMFed) * ($AB9 / 100) * (($AV40 * 1000) / $AB40)* (AY9 / 100) * TotalDMFed) * 1000),0)))","v":6.5200456778068938},{"$f":"IF(Süt!$B11=\"\",\"\",IF(Süt!$C11<=0,\"\",IF(AND($AA40 > 0, $AB9 > 0, $AB40 > 0),((($AA40 / TotalDMFed) * ($AB9 / 100) * (($AV40 * 1000) / $AB40)* (AZ9 / 100) * TotalDMFed) * 1000),0)))","v":10.733360393790409},{"$f":"IF(Süt!$B11=\"\",\"\",IF(Süt!$C11<=0,\"\",IF(AND($AA40 > 0, $AB9 > 0, $AB40 > 0),((($AA40 / TotalDMFed) * ($AB9 / 100) * (($AV40 * 1000) / $AB40)* (BA9 / 100) * TotalDMFed) * 1000),0)))","v":18.383233481469976},{"$f":"IF(Süt!$B11=\"\",\"\",IF(Süt!$C11<=0,\"\",IF(AND($AA40 > 0, $AB9 > 0, $AB40 > 0),((($AA40 / TotalDMFed) * ($AB9 / 100) * (($AV40 * 1000) / $AB40)* (BB9 / 100) * TotalDMFed) * 1000),0)))","v":14.78190861250083},{"$f":"IF(Süt!$B11=\"\",\"\",IF(Süt!$C11<=0,\"\",IF(AND($AA40 > 0, $AB9 > 0, $AB40 > 0),((($AA40 / TotalDMFed) * ($AB9 / 100) * (($AV40 * 1000) / $AB40)* (BC9 / 100) * TotalDMFed) * 1000),0)))","v":3.4130203006570379},{"$f":"IF(Süt!$B11=\"\",\"\",IF(Süt!$C11<=0,\"\",IF(AND($AA40 > 0, $AB9 > 0, $AB40 > 0),((($AA40 / TotalDMFed) * ($AB9 / 100) * (($AV40 * 1000) / $AB40)* (BD9 / 100) * TotalDMFed) * 1000),0)))","v":3.5777867979301363},{"$f":"IF(Süt!$B11=\"\",\"\",IF(Süt!$C11<=0,\"\",IF(AND($AA40 > 0, $AB9 > 0, $AB40 > 0),((($AA40 / TotalDMFed) * ($AB9 / 100) * (($AV40 * 1000) / $AB40)* (BE9 / 100) * TotalDMFed) * 1000),0)))","v":12.381025366521394},{"$f":"IF(Süt!$B11=\"\",\"\",IF(Süt!$C11<=0,\"\",IF(AND($AA40 > 0, $AB9 > 0, $AB40 > 0),((($AA40 / TotalDMFed) * ($AB9 / 100) * (($AV40 * 1000) / $AB40)* (BF9 / 100) * TotalDMFed) * 1000),0)))","v":9.3681522735275937},{"$f":"IF(Süt!$B11=\"\",\"\",IF(Süt!$C11<=0,\"\",IF(AND($AA40 > 0, $AB9 > 0, $AB40 > 0),((($AA40 / TotalDMFed) * ($AB9 / 100) * (($AV40 * 1000) / $AB40)* (BG9 / 100) * TotalDMFed) * 1000),0)))","v":2.9893350219547852},{"$f":"IF(Süt!$B11=\"\",\"\",IF(Süt!$C11<=0,\"\",IF(AND($AA40 > 0, $AB9 > 0, $AB40 > 0),((($AA40 / TotalDMFed) * ($AB9 / 100) * (($AV40 * 1000) / $AB40)* (BH9 / 100) * TotalDMFed) * 1000),0)))","v":18.383233481469976},{"$f":"IF(Süt!$B11=\"\",\"\",IF(Süt!$C11<=0,\"\",IF(AnimalType=\"Buzağı\",IF(P9=\"BUZAĞI BAŞLANGIÇ YEMİ\",AA40,0),0)))","v":0},{"$f":"IF(Süt!$B11=\"\",\"\",IF(Süt!$C11<=0,\"\",IF(AnimalType=\"Buzağı\",IF(AN9=\"Calf Feed-Milk\",AA40,0),0)))","v":0},{"$f":"IF(Süt!$B11=\"\",\"\",IF(Süt!$C11<=0,\"\",IF(AnimalType=\"Buzağı\",IF(P9=\"BUZAĞI BAŞLANGIÇ YEMİ\",0,AA40),0)))","v":0},{"$f":"IF(Süt!$B11=\"\",\"\",IF(Süt!$C11<=0,\"\",IF(S9=\"Forage\",AH40,0)))","v":0},{"$f":"IF(Süt!$B11=\"\",\"\",IF(Süt!$C11<=0,\"\",BM9/100*$AA40))","v":6.2491212599770137E-3},{"$f":"IF(Süt!$B11=\"\",\"\",IF(Süt!$C11<=0,\"\",IF(AnimalType <> \"Buzağı\",((BM9 / 100) * $AA40) * BN9,((BM9 / 100) * $AA40))))","v":3.7494727559862079E-3},{"$f":"IF(Süt!$B11=\"\",\"\",IF(Süt!$C11<=0,\"\",BO9/100*$AA40))","v":1.1092190236459199E-2},{"$f":"IF(Süt!$B11=\"\",\"\",IF(Süt!$C11<=0,\"\",IF(AnimalType <> \"Buzağı\",((BO9 / 100) * $AA40) * BP9,((BO9 / 100) * $AA40))))","v":7.7645331655214391E-3},{"$f":"IF(Süt!$B11=\"\",\"\",IF(Süt!$C11<=0,\"\",BQ9/100*$AA40))","v":4.8430689764821858E-3},{"$f":"IF(Süt!$B11=\"\",\"\",IF(Süt!$C11<=0,\"\",IF(AnimalType <> \"Buzağı\",((BQ9 / 100) * $AA40) * BR9,((BQ9 / 100) * $AA40))))","v":7.7489103623714977E-4},{"$f":"IF(Süt!$B11=\"\",\"\",IF(Süt!$C11<=0,\"\",BS9/100*$AA40))","v":3.4682622992872426E-2},{"$f":"IF(Süt!$B11=\"\",\"\",IF(Süt!$C11<=0,\"\",IF(AnimalType <> \"Buzağı\",((BS9 / 100) * $AA40) * BT9,((BS9 / 100) * $AA40))))","v":3.1214360693585186E-2},{"$f":"IF(Süt!$B11=\"\",\"\",IF(Süt!$C11<=0,\"\",BU9/100*$AA40))","v":6.2491212599770146E-4},{"$f":"IF(Süt!$B11=\"\",\"\",IF(Süt!$C11<=0,\"\",IF(AnimalType <> \"Buzağı\",((BU9 / 100) * $AA40) * BV9,((BU9 / 100) * $AA40))))","v":5.6242091339793129E-4},{"$f":"IF(Süt!$B11=\"\",\"\",IF(Süt!$C11<=0,\"\",BW9/100*$AA40))","v":2.0309644094925294E-3},{"$f":"IF(Süt!$B11=\"\",\"\",IF(Süt!$C11<=0,\"\",IF(AnimalType <> \"Buzağı\",((BW9 / 100) * $AA40) * BX9,((BW9 / 100) * $AA40))))","v":1.8278679685432766E-3},{"$f":"IF(Süt!$B11=\"\",\"\",IF(Süt!$C11<=0,\"\",BY9/100*$AA40))","v":7.1864894489735657E-3},{"$f":"IF(Süt!$B11=\"\",\"\",IF(Süt!$C11<=0,\"\",IF(AnimalType <> \"Buzağı\",((BY9 / 100) * $AA40) * BZ9,((BY9 / 100) * $AA40))))","v":7.1864894489735657E-3},{"$f":"IF(Süt!$B11=\"\",\"\",IF(Süt!$C11<=0,\"\",CA9*$AA40))","v":0},{"$f":"IF(Süt!$B11=\"\",\"\",IF(Süt!$C11<=0,\"\",IF(AnimalType <> \"Buzağı\",CA9 * $AA40 * CB9,CA9 * $AA40)))","v":0},{"$f":"IF(Süt!$B11=\"\",\"\",IF(Süt!$C11<=0,\"\",CC9*$AA40))","v":34.370166929873577},{"$f":"IF(Süt!$B11=\"\",\"\",IF(Süt!$C11<=0,\"\",IF(AnimalType <> \"Buzağı\",CC9 * $AA40 * CD9,CC9 * $AA40)))","v":1.374806677194943},{"$f":"IF(Süt!$B11=\"\",\"\",IF(Süt!$C11<=0,\"\",CE9*$AA40))","v":0},{"$f":"IF(Süt!$B11=\"\",\"\",IF(Süt!$C11<=0,\"\",IF(AnimalType <> \"Buzağı\",CE9 * $AA40 * CF9,CE9 * $AA40)))","v":0},{"$f":"IF(Süt!$B11=\"\",\"\",IF(Süt!$C11<=0,\"\",CG9*$AA40))","v":289.02185827393691},{"$f":"IF(Süt!$B11=\"\",\"\",IF(Süt!$C11<=0,\"\",IF(AnimalType <> \"Buzağı\",CG9 * $AA40 * CH9,CG9 * $AA40)))","v":28.902185827393694},{"$f":"IF(Süt!$B11=\"\",\"\",IF(Süt!$C11<=0,\"\",CI9*$AA40))","v":54.679811024798873},{"$f":"IF(Süt!$B11=\"\",\"\",IF(Süt!$C11<=0,\"\",IF(AnimalType <> \"Buzağı\",CI9 * $AA40 * CJ9,CI9 * $AA40)))","v":0.54679811024798874},{"$f":"IF(Süt!$B11=\"\",\"\",IF(Süt!$C11<=0,\"\",CK9*$AA40))","v":0.32807886614879322},{"$f":"IF(Süt!$B11=\"\",\"\",IF(Süt!$C11<=0,\"\",IF(AnimalType <> \"Buzağı\",CK9 * $AA40 * CL9,CK9 * $AA40)))","v":0.32807886614879322},{"$f":"IF(Süt!$B11=\"\",\"\",IF(Süt!$C11<=0,\"\",CM9*$AA40))","v":89.049977954672443},{"$f":"IF(Süt!$B11=\"\",\"\",IF(Süt!$C11<=0,\"\",IF(AnimalType <> \"Buzağı\",CM9 * $AA40 * CN9,CM9 * $AA40)))","v":13.357496693200867},null,null,{"$f":"IF(Süt!$B11=\"\",\"\",IF(Süt!$C11<=0,\"\",CQ9*$AA40))","v":0},{"$f":"IF(Süt!$B11=\"\",\"\",IF(Süt!$C11<=0,\"\",CR9*$AA40))","v":0},{"$f":"IF(Süt!$B11=\"\",\"\",IF(Süt!$C11<=0,\"\",CS9*$AA40))","v":0},-22,0.72900000000000043,0.99900000000000067,{"$f":"CONCATENATE(\"ER(\",CS_9,\")\")","v":"ER(5)"},{"$f":"(9.4*0.037683*CS_9*(0.6575+CS_9*0.0685)*(SBW*0.851) /(0.6575+CS_9*0.0685))+(5.55*(0.200886-(0.0066762*CS_9))*(0.6575+CS_9*0.0685)*(SBW*0.851) /(0.6575+CS_9*0.0685))","v":1434.1650593400002},"Mcal, Hayvanın CS e göre enerji deposu"]
[null,{"$f":"Süt!B5","v":"Mısır Silajı, %29-33 KM"},{"$f":"ROUND((Süt!C5/Süt!$C$4)*100,2)","v":63.1},{"$f":"ROUND(Süt!C5,2)","v":25},{"$f":"ROUND(C$34*Süt!C5,2)","v":500},{"$f":"IF(ISERROR(D41/$C$35)=TRUE,\"\",D41/$C$35)","v":12.5},{"$f":"IF(ISERROR(ROUND(F41*$C$34,2))=TRUE,\"\",ROUND(F41*$C$34,2))","v":250},null,null,null,null,null,null,null,{"$f":"IF(Süt!B12=\"\",\"\",IF(Süt!C12<=0,\"\",Süt!C12))","v":""},"",{"$f":"IF(Süt!$B12=\"\",\"\",IF(Süt!$C12<=0,\"\",IF(MID(AN10,1,9)=\"Calf Feed\",0,(AK41/100)*AA41)))","v":""},{"$f":"IF(Süt!$B12=\"\",\"\",IF(Süt!$C12<=0,\"\",(R10/100)*(AA41*1000)))","v":""},{"$f":"IF(Süt!$B12=\"\",\"\",IF(Süt!$C12<=0,\"\",IF(MID(AN10,1,9)=\"Calf Feed\",0,AK41*Discount)))","v":""},{"$f":"IF(Süt!$B12=\"\",\"\",IF(Süt!$C12<=0,\"\",(S41/100)*(AA41*1000)))","v":""},{"$f":"IF(Süt!$B12=\"\",\"\",IF(Süt!$C12<=0,\"\",Discount*AL41))","v":""},{"$f":"IF(Süt!$B12=\"\",\"\",IF(Süt!$C12<=0,\"\",IF(AP41<0,0,AP41)*AA41))","v":""},null,null,{"$f":"IF(Süt!$B12=\"\",\"\",IF(Süt!$C12<=0,\"\",IF(AR41<0,0,AR41)*AA41))","v":""},{"$f":"IF(Süt!$B12=\"\",\"\",IF(Süt!$C12<=0,\"\",IF(AS41<0,0,AS41)*AA41))","v":""},{"$f":"IF(Süt!$B12=\"\",\"\",IF(Süt!$C12<=0,\"\",$O41*AA10/100))","v":""},{"$f":"IF(Süt!$B12=\"\",\"\",IF(Süt!$C12<=0,\"\",(AB10/ 100) * (AA41 * 1000)))","v":""},{"$f":"IF(Süt!$B12=\"\",\"\",IF(Süt!$C12<=0,\"\",IF(MID(AN10,1,9)<>\"Calf Feed\",IF(AB10 > 0,IF(S10=\"Forage\", EXP((-1.2 * (AE10 / AB10))) * AB10,IF(AN10 = \"Animal Protein\",(AC10 * AB10),(1 - (0.4 * (AE10 / AB10))) * AB10)),0),0)))","v":""},{"$f":"IF(Süt!$B12=\"\",\"\",IF(Süt!$C12<=0,\"\",IF(MID(AN10,1,9)<>\"Calf Feed\",0.98 * (100 - AH10 - AB10 - AF10 - AL10 + AD10) * T10,0)))","v":""},{"$f":"IF(Süt!$B12=\"\",\"\",IF(Süt!$C12<=0,\"\",IF(MID(AN10,1,9)<>\"Calf Feed\",((100 - AH10 - AB10 - AF10 - AL10 + AD10) /100)*AA41,0)))","v":""},{"$f":"IF(Süt!$B12=\"\",\"\",IF(Süt!$C12<=0,\"\",IF(MID(AN10,1,9)=\"Calf Feed\",0,(AF10/100)*AA41)))","v":""},{"$f":"IF(Süt!$B12=\"\",\"\",IF(Süt!$C12<=0,\"\",IF(AN10 = \"Fat and Oil\",IF(S10 = \"Fatty acids\",(AF10 * AG10)*AA41,(10 + ((AF10 - 10) * AG10))*AA41),(AF10 - 1)*AA41)))","v":""},{"$f":"IF(Süt!$B12=\"\",\"\",IF(Süt!$C12<=0,\"\",AH10/100*$AA41))","v":""},{"$f":"IF(Süt!$B12=\"\",\"\",IF(Süt!$C12<=0,\"\",IF(MID(AN10,1,9)<>\"Calf Feed\",IF(AH10 >AD10,AI10*AH10,0),0)))","v":""},{"$f":"IF(Süt!$B12=\"\",\"\",IF(Süt!$C12<=0,\"\",AJ10/100*$AA41))","v":""},{"$f":"IF(Süt!$B12=\"\",\"\",IF(Süt!$C12<=0,\"\",IF(MID(AN10,1,9)<>\"Calf Feed\",IF(AN10=\"Fat and Oil\",IF(S10=\"Fatty acids\",AF10*AG10*2.25,10+(((AF10-10)*AG10*2.25))),IF(AN10=\"Animal Protein\",(AC10*AB10)+((AF10-1)*2.25)+((0.98*(100-AB10-AL10-AF10))-7),IF(AI41>0,AD41+AC41+AO41+AI41-7,IF(AB10>0,((0.98*T10)*(100-AB10-AF10-AL10))+(AB10*(1-(0.4*AE10/AB10)))+((2.25*(AF10-1)-7)),((0.98*T10)*(100-AF10-AL10))+(2.25*(AF10-1)-7))))),AA41)))","v":""},{"$f":"IF(Süt!$B12=\"\",\"\",IF(Süt!$C12<=0,\"\",IF(MID(AN10,1,9)<>\"Calf Feed\",IF(AN10=\"Fat and Oil\",IF(S10=\"Fatty acids\",AF10*AG10*0.094,((AF10-10)*AG10*0.094)+0.43),IF(AN10=\"Animal Protein\",(AD41*0.042)+(AC41*0.056)+(0.094*(AO41/2.25))-0.3,IF(AI41>0,(AD41*0.042)+(AI41*0.042)+(AC41*0.056)+(0.094*(AO41/2.25))-0.3,IF(AB10>0,(0.98*T10*(0.042*(100-AB10-AF10-AL10))+(AB10*(0.056*(1-(0.4*AE10/AB10)))))+(0.094*(AF10-1))-0.3,(0.98*T10)*(0.042*(100-AF10-AL10))+(0.094*(AF10-1))-0.3)))),U10)))","v":""},0,0,{"$f":"IF(Süt!$B12=\"\",\"\",IF(Süt!$C12<=0,\"\",IF(MID(AN10,1,9)<>\"Calf Feed\",IF(AF10 <1,0,(AF10-1)*2.25),0)))","v":""},{"$f":"IF(Süt!$B12=\"\",\"\",IF(Süt!$C12<=0,\"\",IF(AN10 <> \"Fat and Oil\",IF(AF10 >= 3,IF(AnimalType <> \"Damızlık Düve\",(1.01 * U41) - 0.45 + (0.0046 * (AF10 - 3)),0.82 * AL41),IF(AND(AnimalType <> \"Buzağı\",AnimalType <> \"Damızlık Düve\")=TRUE,(1.01 * U41) - 0.45,0.82 * AL41)),U41)))","v":""},{"$f":"IF(Süt!$B12=\"\",\"\",IF(Süt!$C12<=0,\"\",IF(IF(AN10 <> \"Fat and Oil\",IF(AF10 >= 3,(0.703 * AP41) - 0.19 + ((((0.097 * AP41) + 0.19) / 97) * (AF10 - 3)),(0.703 * AP41) - 0.19),0.8*U41)<0,0,IF(AN10 <> \"Fat and Oil\",IF(AF10 >= 3,(0.703 * AP41) - 0.19 + ((((0.097 * AP41) + 0.19) / 97) * (AF10 - 3)),(0.703 * AP41) - 0.19   ),0.8*U41))))","v":""},{"$f":"IF(Süt!$B12=\"\",\"\",IF(Süt!$C12<=0,\"\",IF(MID(AN10,1,9)=\"Calf Feed\",0.75*AA41*V41,IF(IF(AN10 <> \"Fat and Oil\", ((1.37 * 0.82 * AL41) - (0.138 * (0.82 * AL41) ^ 2)+ (0.0105 * (0.82 * AL41) ^ 3) - 1.12),0.8 * U41)<0,0,IF(AN10 <> \"Fat and Oil\", ((1.37 * 0.82 * AL41) - (0.138 * (0.82 * AL41) ^ 2)+ (0.0105 * (0.82 * AL41) ^ 3) - 1.12),0.8 * U41)))))","v":""},{"$f":"IF(Süt!$B12=\"\",\"\",IF(Süt!$C12<=0,\"\",IF(MID(AN10,1,9)=\"Calf Feed\",0.57*AA41*V41,IF(IF(AN10 <> \"Fat and Oil\",((1.42 * 0.82 * AL41) - (0.174 * (0.82 * AL41)^2)+ (0.0122 * (0.82 * AL41)^3) - 1.65),0.55 * U41)<0,0,IF(AN10 <> \"Fat and Oil\",((1.42 * 0.82 * AL41) - (0.174 * (0.82 * AL41)^2)+ (0.0122 * (0.82 * AL41)^3) - 1.65),0.55 * U41)))))","v":""},{"$f":"IF(Süt!$B12=\"\",\"\",IF(Süt!$C12<=0,\"\",IF((AT10+AN41)>0,((AT10/(AT10+AN41))*((((AR10/100)*(AB10/100))*AA41)))+(((AQ10/100)*(AB10/100))*AA41),0)))","v":""},{"$f":"IF(Süt!$B12=\"\",\"\",IF(Süt!$C12<=0,\"\",IF(ISERROR(AB41/1000 - E87)=TRUE,0,AB41/1000 - E87)))","v":""},{"$f":"IF(Süt!$B12=\"\",\"\",IF(Süt!$C12<=0,\"\",IF((AT10+AN41)>0,   IF(BW_DMI<2,  C87,  C87+(BW_DMI-2)*((D87-C87)/2) ),0)))","v":""},{"$f":"IF(Süt!$B12=\"\",\"\",IF(Süt!$C12<=0,\"\",E87*(AW10/100)))","v":""},{"$f":"IF(Süt!$B12=\"\",\"\",IF(Süt!$C12<=0,\"\",IF(AND($AA41 > 0, $AB10 > 0, $AB41 > 0),((($AA41 / TotalDMFed) * ($AB10 / 100) * (($AV41 * 1000) / $AB41)* (AX10 / 100) * TotalDMFed) * 1000),0)))","v":""},{"$f":"IF(Süt!$B12=\"\",\"\",IF(Süt!$C12<=0,\"\",IF(AND($AA41 > 0, $AB10 > 0, $AB41 > 0),((($AA41 / TotalDMFed) * ($AB10 / 100) * (($AV41 * 1000) / $AB41)* (AY10 / 100) * TotalDMFed) * 1000),0)))","v":""},{"$f":"IF(Süt!$B12=\"\",\"\",IF(Süt!$C12<=0,\"\",IF(AND($AA41 > 0, $AB10 > 0, $AB41 > 0),((($AA41 / TotalDMFed) * ($AB10 / 100) * (($AV41 * 1000) / $AB41)* (AZ10 / 100) * TotalDMFed) * 1000),0)))","v":""},{"$f":"IF(Süt!$B12=\"\",\"\",IF(Süt!$C12<=0,\"\",IF(AND($AA41 > 0, $AB10 > 0, $AB41 > 0),((($AA41 / TotalDMFed) * ($AB10 / 100) * (($AV41 * 1000) / $AB41)* (BA10 / 100) * TotalDMFed) * 1000),0)))","v":""},{"$f":"IF(Süt!$B12=\"\",\"\",IF(Süt!$C12<=0,\"\",IF(AND($AA41 > 0, $AB10 > 0, $AB41 > 0),((($AA41 / TotalDMFed) * ($AB10 / 100) * (($AV41 * 1000) / $AB41)* (BB10 / 100) * TotalDMFed) * 1000),0)))","v":""},{"$f":"IF(Süt!$B12=\"\",\"\",IF(Süt!$C12<=0,\"\",IF(AND($AA41 > 0, $AB10 > 0, $AB41 > 0),((($AA41 / TotalDMFed) * ($AB10 / 100) * (($AV41 * 1000) / $AB41)* (BC10 / 100) * TotalDMFed) * 1000),0)))","v":""},{"$f":"IF(Süt!$B12=\"\",\"\",IF(Süt!$C12<=0,\"\",IF(AND($AA41 > 0, $AB10 > 0, $AB41 > 0),((($AA41 / TotalDMFed) * ($AB10 / 100) * (($AV41 * 1000) / $AB41)* (BD10 / 100) * TotalDMFed) * 1000),0)))","v":""},{"$f":"IF(Süt!$B12=\"\",\"\",IF(Süt!$C12<=0,\"\",IF(AND($AA41 > 0, $AB10 > 0, $AB41 > 0),((($AA41 / TotalDMFed) * ($AB10 / 100) * (($AV41 * 1000) / $AB41)* (BE10 / 100) * TotalDMFed) * 1000),0)))","v":""},{"$f":"IF(Süt!$B12=\"\",\"\",IF(Süt!$C12<=0,\"\",IF(AND($AA41 > 0, $AB10 > 0, $AB41 > 0),((($AA41 / TotalDMFed) * ($AB10 / 100) * (($AV41 * 1000) / $AB41)* (BF10 / 100) * TotalDMFed) * 1000),0)))","v":""},{"$f":"IF(Süt!$B12=\"\",\"\",IF(Süt!$C12<=0,\"\",IF(AND($AA41 > 0, $AB10 > 0, $AB41 > 0),((($AA41 / TotalDMFed) * ($AB10 / 100) * (($AV41 * 1000) / $AB41)* (BG10 / 100) * TotalDMFed) * 1000),0)))","v":""},{"$f":"IF(Süt!$B12=\"\",\"\",IF(Süt!$C12<=0,\"\",IF(AND($AA41 > 0, $AB10 > 0, $AB41 > 0),((($AA41 / TotalDMFed) * ($AB10 / 100) * (($AV41 * 1000) / $AB41)* (BH10 / 100) * TotalDMFed) * 1000),0)))","v":""},{"$f":"IF(Süt!$B12=\"\",\"\",IF(Süt!$C12<=0,\"\",IF(AnimalType=\"Buzağı\",IF(P10=\"BUZAĞI BAŞLANGIÇ YEMİ\",AA41,0),0)))","v":""},{"$f":"IF(Süt!$B12=\"\",\"\",IF(Süt!$C12<=0,\"\",IF(AnimalType=\"Buzağı\",IF(AN10=\"Calf Feed-Milk\",AA41,0),0)))","v":""},{"$f":"IF(Süt!$B12=\"\",\"\",IF(Süt!$C12<=0,\"\",IF(AnimalType=\"Buzağı\",IF(P10=\"BUZAĞI BAŞLANGIÇ YEMİ\",0,AA41),0)))","v":""},{"$f":"IF(Süt!$B12=\"\",\"\",IF(Süt!$C12<=0,\"\",IF(S10=\"Forage\",AH41,0)))","v":""},{"$f":"IF(Süt!$B12=\"\",\"\",IF(Süt!$C12<=0,\"\",BM10/100*$AA41))","v":""},{"$f":"IF(Süt!$B12=\"\",\"\",IF(Süt!$C12<=0,\"\",IF(AnimalType <> \"Buzağı\",((BM10 / 100) * $AA41) * BN10,((BM10 / 100) * $AA41))))","v":""},{"$f":"IF(Süt!$B12=\"\",\"\",IF(Süt!$C12<=0,\"\",BO10/100*$AA41))","v":""},{"$f":"IF(Süt!$B12=\"\",\"\",IF(Süt!$C12<=0,\"\",IF(AnimalType <> \"Buzağı\",((BO10 / 100) * $AA41) * BP10,((BO10 / 100) * $AA41))))","v":""},{"$f":"IF(Süt!$B12=\"\",\"\",IF(Süt!$C12<=0,\"\",BQ10/100*$AA41))","v":""},{"$f":"IF(Süt!$B12=\"\",\"\",IF(Süt!$C12<=0,\"\",IF(AnimalType <> \"Buzağı\",((BQ10 / 100) * $AA41) * BR10,((BQ10 / 100) * $AA41))))","v":""},{"$f":"IF(Süt!$B12=\"\",\"\",IF(Süt!$C12<=0,\"\",BS10/100*$AA41))","v":""},{"$f":"IF(Süt!$B12=\"\",\"\",IF(Süt!$C12<=0,\"\",IF(AnimalType <> \"Buzağı\",((BS10 / 100) * $AA41) * BT10,((BS10 / 100) * $AA41))))","v":""},{"$f":"IF(Süt!$B12=\"\",\"\",IF(Süt!$C12<=0,\"\",BU10/100*$AA41))","v":""},{"$f":"IF(Süt!$B12=\"\",\"\",IF(Süt!$C12<=0,\"\",IF(AnimalType <> \"Buzağı\",((BU10 / 100) * $AA41) * BV10,((BU10 / 100) * $AA41))))","v":""},{"$f":"IF(Süt!$B12=\"\",\"\",IF(Süt!$C12<=0,\"\",BW10/100*$AA41))","v":""},{"$f":"IF(Süt!$B12=\"\",\"\",IF(Süt!$C12<=0,\"\",IF(AnimalType <> \"Buzağı\",((BW10 / 100) * $AA41) * BX10,((BW10 / 100) * $AA41))))","v":""},{"$f":"IF(Süt!$B12=\"\",\"\",IF(Süt!$C12<=0,\"\",BY10/100*$AA41))","v":""},{"$f":"IF(Süt!$B12=\"\",\"\",IF(Süt!$C12<=0,\"\",IF(AnimalType <> \"Buzağı\",((BY10 / 100) * $AA41) * BZ10,((BY10 / 100) * $AA41))))","v":""},{"$f":"IF(Süt!$B12=\"\",\"\",IF(Süt!$C12<=0,\"\",CA10*$AA41))","v":""},{"$f":"IF(Süt!$B12=\"\",\"\",IF(Süt!$C12<=0,\"\",IF(AnimalType <> \"Buzağı\",CA10 * $AA41 * CB10,CA10 * $AA41)))","v":""},{"$f":"IF(Süt!$B12=\"\",\"\",IF(Süt!$C12<=0,\"\",CC10*$AA41))","v":""},{"$f":"IF(Süt!$B12=\"\",\"\",IF(Süt!$C12<=0,\"\",IF(AnimalType <> \"Buzağı\",CC10 * $AA41 * CD10,CC10 * $AA41)))","v":""},{"$f":"IF(Süt!$B12=\"\",\"\",IF(Süt!$C12<=0,\"\",CE10*$AA41))","v":""},{"$f":"IF(Süt!$B12=\"\",\"\",IF(Süt!$C12<=0,\"\",IF(AnimalType <> \"Buzağı\",CE10 * $AA41 * CF10,CE10 * $AA41)))","v":""},{"$f":"IF(Süt!$B12=\"\",\"\",IF(Süt!$C12<=0,\"\",CG10*$AA41))","v":""},{"$f":"IF(Süt!$B12=\"\",\"\",IF(Süt!$C12<=0,\"\",IF(AnimalType <> \"Buzağı\",CG10 * $AA41 * CH10,CG10 * $AA41)))","v":""},{"$f":"IF(Süt!$B12=\"\",\"\",IF(Süt!$C12<=0,\"\",CI10*$AA41))","v":""},{"$f":"IF(Süt!$B12=\"\",\"\",IF(Süt!$C12<=0,\"\",IF(AnimalType <> \"Buzağı\",CI10 * $AA41 * CJ10,CI10 * $AA41)))","v":""},{"$f":"IF(Süt!$B12=\"\",\"\",IF(Süt!$C12<=0,\"\",CK10*$AA41))","v":""},{"$f":"IF(Süt!$B12=\"\",\"\",IF(Süt!$C12<=0,\"\",IF(AnimalType <> \"Buzağı\",CK10 * $AA41 * CL10,CK10 * $AA41)))","v":""},{"$f":"IF(Süt!$B12=\"\",\"\",IF(Süt!$C12<=0,\"\",CM10*$AA41))","v":""},{"$f":"IF(Süt!$B12=\"\",\"\",IF(Süt!$C12<=0,\"\",IF(AnimalType <> \"Buzağı\",CM10 * $AA41 * CN10,CM10 * $AA41)))","v":""},null,null,{"$f":"IF(Süt!$B12=\"\",\"\",IF(Süt!$C12<=0,\"\",CQ10*$AA41))","v":""},{"$f":"IF(Süt!$B12=\"\",\"\",IF(Süt!$C12<=0,\"\",CR10*$AA41))","v":""},{"$f":"IF(Süt!$B12=\"\",\"\",IF(Süt!$C12<=0,\"\",CS10*$AA41))","v":""},-23,0.75600000000000045,1.0260000000000007,{"$f":"CONCATENATE(\"ER(\",CS_9-2,\")\")","v":"ER(3)"},{"$f":"(9.4*0.037683*(CS_9-2)*(0.6575+(CS_9-2)*0.0685)*(SBW*0.851) /(0.6575+CS_9*0.0685))+(5.55*(0.200886-(0.0066762*(CS_9-2)))*(0.6575+(CS_9-2)*0.0685)*(SBW*0.851) /(0.6575+CS_9*0.0685))","v":946.98558358385912},{"$f":"(9.4*0.037683*1*(0.6575+1*0.0685)*(SBW*0.851) /(0.6575+1*0.0685))+(5.55*(0.200886-(0.0066762*1))*(0.6575+1*0.0685)*(SBW*0.851) /(0.6575+1*0.0685))","v":760.47128732016006},null,null,null,null,null,null,null,null,null,null,"Yem Grupları"]
[null,{"$f":"Süt!B6","v":"Buğday Samanı"},{"$f":"ROUND((Süt!C6/Süt!$C$4)*100,2)","v":1.79},{"$f":"ROUND(Süt!C6,2)","v":0.71},{"$f":"ROUND(C$34*Süt!C6,2)","v":14.17},{"$f":"IF(ISERROR(D42/$C$35)=TRUE,\"\",D42/$C$35)","v":0.35499999999999998},{"$f":"IF(ISERROR(ROUND(F42*$C$34,2))=TRUE,\"\",ROUND(F42*$C$34,2))","v":7.1},null,null,null,null,null,null,null,{"$f":"IF(Süt!B13=\"\",\"\",IF(Süt!C13<=0,\"\",Süt!C13))","v":""},"",{"$f":"IF(Süt!$B13=\"\",\"\",IF(Süt!$C13<=0,\"\",IF(MID(AN11,1,9)=\"Calf Feed\",0,(AK42/100)*AA42)))","v":""},{"$f":"IF(Süt!$B13=\"\",\"\",IF(Süt!$C13<=0,\"\",(R11/100)*(AA42*1000)))","v":""},{"$f":"IF(Süt!$B13=\"\",\"\",IF(Süt!$C13<=0,\"\",IF(MID(AN11,1,9)=\"Calf Feed\",0,AK42*Discount)))","v":""},{"$f":"IF(Süt!$B13=\"\",\"\",IF(Süt!$C13<=0,\"\",(S42/100)*(AA42*1000)))","v":""},{"$f":"IF(Süt!$B13=\"\",\"\",IF(Süt!$C13<=0,\"\",Discount*AL42))","v":""},{"$f":"IF(Süt!$B13=\"\",\"\",IF(Süt!$C13<=0,\"\",IF(AP42<0,0,AP42)*AA42))","v":""},null,null,{"$f":"IF(Süt!$B13=\"\",\"\",IF(Süt!$C13<=0,\"\",IF(AR42<0,0,AR42)*AA42))","v":""},{"$f":"IF(Süt!$B13=\"\",\"\",IF(Süt!$C13<=0,\"\",IF(AS42<0,0,AS42)*AA42))","v":""},{"$f":"IF(Süt!$B13=\"\",\"\",IF(Süt!$C13<=0,\"\",$O42*AA11/100))","v":""},{"$f":"IF(Süt!$B13=\"\",\"\",IF(Süt!$C13<=0,\"\",(AB11/ 100) * (AA42 * 1000)))","v":""},{"$f":"IF(Süt!$B13=\"\",\"\",IF(Süt!$C13<=0,\"\",IF(MID(AN11,1,9)<>\"Calf Feed\",IF(AB11 > 0,IF(S11=\"Forage\", EXP((-1.2 * (AE11 / AB11))) * AB11,IF(AN11 = \"Animal Protein\",(AC11 * AB11),(1 - (0.4 * (AE11 / AB11))) * AB11)),0),0)))","v":""},{"$f":"IF(Süt!$B13=\"\",\"\",IF(Süt!$C13<=0,\"\",IF(MID(AN11,1,9)<>\"Calf Feed\",0.98 * (100 - AH11 - AB11 - AF11 - AL11 + AD11) * T11,0)))","v":""},{"$f":"IF(Süt!$B13=\"\",\"\",IF(Süt!$C13<=0,\"\",IF(MID(AN11,1,9)<>\"Calf Feed\",((100 - AH11 - AB11 - AF11 - AL11 + AD11) /100)*AA42,0)))","v":""},{"$f":"IF(Süt!$B13=\"\",\"\",IF(Süt!$C13<=0,\"\",IF(MID(AN11,1,9)=\"Calf Feed\",0,(AF11/100)*AA42)))","v":""},{"$f":"IF(Süt!$B13=\"\",\"\",IF(Süt!$C13<=0,\"\",IF(AN11 = \"Fat and Oil\",IF(S11 = \"Fatty acids\",(AF11 * AG11)*AA42,(10 + ((AF11 - 10) * AG11))*AA42),(AF11 - 1)*AA42)))","v":""},{"$f":"IF(Süt!$B13=\"\",\"\",IF(Süt!$C13<=0,\"\",AH11/100*$AA42))","v":""},{"$f":"IF(Süt!$B13=\"\",\"\",IF(Süt!$C13<=0,\"\",IF(MID(AN11,1,9)<>\"Calf Feed\",IF(AH11 >AD11,AI11*AH11,0),0)))","v":""},{"$f":"IF(Süt!$B13=\"\",\"\",IF(Süt!$C13<=0,\"\",AJ11/100*$AA42))","v":""},{"$f":"IF(Süt!$B13=\"\",\"\",IF(Süt!$C13<=0,\"\",IF(MID(AN11,1,9)<>\"Calf Feed\",IF(AN11=\"Fat and Oil\",IF(S11=\"Fatty acids\",AF11*AG11*2.25,10+(((AF11-10)*AG11*2.25))),IF(AN11=\"Animal Protein\",(AC11*AB11)+((AF11-1)*2.25)+((0.98*(100-AB11-AL11-AF11))-7),IF(AI42>0,AD42+AC42+AO42+AI42-7,IF(AB11>0,((0.98*T11)*(100-AB11-AF11-AL11))+(AB11*(1-(0.4*AE11/AB11)))+((2.25*(AF11-1)-7)),((0.98*T11)*(100-AF11-AL11))+(2.25*(AF11-1)-7))))),AA42)))","v":""},{"$f":"IF(Süt!$B13=\"\",\"\",IF(Süt!$C13<=0,\"\",IF(MID(AN11,1,9)<>\"Calf Feed\",IF(AN11=\"Fat and Oil\",IF(S11=\"Fatty acids\",AF11*AG11*0.094,((AF11-10)*AG11*0.094)+0.43),IF(AN11=\"Animal Protein\",(AD42*0.042)+(AC42*0.056)+(0.094*(AO42/2.25))-0.3,IF(AI42>0,(AD42*0.042)+(AI42*0.042)+(AC42*0.056)+(0.094*(AO42/2.25))-0.3,IF(AB11>0,(0.98*T11*(0.042*(100-AB11-AF11-AL11))+(AB11*(0.056*(1-(0.4*AE11/AB11)))))+(0.094*(AF11-1))-0.3,(0.98*T11)*(0.042*(100-AF11-AL11))+(0.094*(AF11-1))-0.3)))),U11)))","v":""},0,0,{"$f":"IF(Süt!$B13=\"\",\"\",IF(Süt!$C13<=0,\"\",IF(MID(AN11,1,9)<>\"Calf Feed\",IF(AF11 <1,0,(AF11-1)*2.25),0)))","v":""},{"$f":"IF(Süt!$B13=\"\",\"\",IF(Süt!$C13<=0,\"\",IF(AN11 <> \"Fat and Oil\",IF(AF11 >= 3,IF(AnimalType <> \"Damızlık Düve\",(1.01 * U42) - 0.45 + (0.0046 * (AF11 - 3)),0.82 * AL42),IF(AND(AnimalType <> \"Buzağı\",AnimalType <> \"Damızlık Düve\")=TRUE,(1.01 * U42) - 0.45,0.82 * AL42)),U42)))","v":""},{"$f":"IF(Süt!$B13=\"\",\"\",IF(Süt!$C13<=0,\"\",IF(IF(AN11 <> \"Fat and Oil\",IF(AF11 >= 3,(0.703 * AP42) - 0.19 + ((((0.097 * AP42) + 0.19) / 97) * (AF11 - 3)),(0.703 * AP42) - 0.19),0.8*U42)<0,0,IF(AN11 <> \"Fat and Oil\",IF(AF11 >= 3,(0.703 * AP42) - 0.19 + ((((0.097 * AP42) + 0.19) / 97) * (AF11 - 3)),(0.703 * AP42) - 0.19   ),0.8*U42))))","v":""},{"$f":"IF(Süt!$B13=\"\",\"\",IF(Süt!$C13<=0,\"\",IF(MID(AN11,1,9)=\"Calf Feed\",0.75*AA42*V42,IF(IF(AN11 <> \"Fat and Oil\", ((1.37 * 0.82 * AL42) - (0.138 * (0.82 * AL42) ^ 2)+ (0.0105 * (0.82 * AL42) ^ 3) - 1.12),0.8 * U42)<0,0,IF(AN11 <> \"Fat and Oil\", ((1.37 * 0.82 * AL42) - (0.138 * (0.82 * AL42) ^ 2)+ (0.0105 * (0.82 * AL42) ^ 3) - 1.12),0.8 * U42)))))","v":""},{"$f":"IF(Süt!$B13=\"\",\"\",IF(Süt!$C13<=0,\"\",IF(MID(AN11,1,9)=\"Calf Feed\",0.57*AA42*V42,IF(IF(AN11 <> \"Fat and Oil\",((1.42 * 0.82 * AL42) - (0.174 * (0.82 * AL42)^2)+ (0.0122 * (0.82 * AL42)^3) - 1.65),0.55 * U42)<0,0,IF(AN11 <> \"Fat and Oil\",((1.42 * 0.82 * AL42) - (0.174 * (0.82 * AL42)^2)+ (0.0122 * (0.82 * AL42)^3) - 1.65),0.55 * U42)))))","v":""},{"$f":"IF(Süt!$B13=\"\",\"\",IF(Süt!$C13<=0,\"\",IF((AT11+AN42)>0,((AT11/(AT11+AN42))*((((AR11/100)*(AB11/100))*AA42)))+(((AQ11/100)*(AB11/100))*AA42),0)))","v":""},{"$f":"IF(Süt!$B13=\"\",\"\",IF(Süt!$C13<=0,\"\",IF(ISERROR(AB42/1000 - E88)=TRUE,0,AB42/1000 - E88)))","v":""},{"$f":"IF(Süt!$B13=\"\",\"\",IF(Süt!$C13<=0,\"\",IF((AT11+AN42)>0,   IF(BW_DMI<2,  C88,  C88+(BW_DMI-2)*((D88-C88)/2) ),0)))","v":""},{"$f":"IF(Süt!$B13=\"\",\"\",IF(Süt!$C13<=0,\"\",E88*(AW11/100)))","v":""},{"$f":"IF(Süt!$B13=\"\",\"\",IF(Süt!$C13<=0,\"\",IF(AND($AA42 > 0, $AB11 > 0, $AB42 > 0),((($AA42 / TotalDMFed) * ($AB11 / 100) * (($AV42 * 1000) / $AB42)* (AX11 / 100) * TotalDMFed) * 1000),0)))","v":""},{"$f":"IF(Süt!$B13=\"\",\"\",IF(Süt!$C13<=0,\"\",IF(AND($AA42 > 0, $AB11 > 0, $AB42 > 0),((($AA42 / TotalDMFed) * ($AB11 / 100) * (($AV42 * 1000) / $AB42)* (AY11 / 100) * TotalDMFed) * 1000),0)))","v":""},{"$f":"IF(Süt!$B13=\"\",\"\",IF(Süt!$C13<=0,\"\",IF(AND($AA42 > 0, $AB11 > 0, $AB42 > 0),((($AA42 / TotalDMFed) * ($AB11 / 100) * (($AV42 * 1000) / $AB42)* (AZ11 / 100) * TotalDMFed) * 1000),0)))","v":""},{"$f":"IF(Süt!$B13=\"\",\"\",IF(Süt!$C13<=0,\"\",IF(AND($AA42 > 0, $AB11 > 0, $AB42 > 0),((($AA42 / TotalDMFed) * ($AB11 / 100) * (($AV42 * 1000) / $AB42)* (BA11 / 100) * TotalDMFed) * 1000),0)))","v":""},{"$f":"IF(Süt!$B13=\"\",\"\",IF(Süt!$C13<=0,\"\",IF(AND($AA42 > 0, $AB11 > 0, $AB42 > 0),((($AA42 / TotalDMFed) * ($AB11 / 100) * (($AV42 * 1000) / $AB42)* (BB11 / 100) * TotalDMFed) * 1000),0)))","v":""},{"$f":"IF(Süt!$B13=\"\",\"\",IF(Süt!$C13<=0,\"\",IF(AND($AA42 > 0, $AB11 > 0, $AB42 > 0),((($AA42 / TotalDMFed) * ($AB11 / 100) * (($AV42 * 1000) / $AB42)* (BC11 / 100) * TotalDMFed) * 1000),0)))","v":""},{"$f":"IF(Süt!$B13=\"\",\"\",IF(Süt!$C13<=0,\"\",IF(AND($AA42 > 0, $AB11 > 0, $AB42 > 0),((($AA42 / TotalDMFed) * ($AB11 / 100) * (($AV42 * 1000) / $AB42)* (BD11 / 100) * TotalDMFed) * 1000),0)))","v":""},{"$f":"IF(Süt!$B13=\"\",\"\",IF(Süt!$C13<=0,\"\",IF(AND($AA42 > 0, $AB11 > 0, $AB42 > 0),((($AA42 / TotalDMFed) * ($AB11 / 100) * (($AV42 * 1000) / $AB42)* (BE11 / 100) * TotalDMFed) * 1000),0)))","v":""},{"$f":"IF(Süt!$B13=\"\",\"\",IF(Süt!$C13<=0,\"\",IF(AND($AA42 > 0, $AB11 > 0, $AB42 > 0),((($AA42 / TotalDMFed) * ($AB11 / 100) * (($AV42 * 1000) / $AB42)* (BF11 / 100) * TotalDMFed) * 1000),0)))","v":""},{"$f":"IF(Süt!$B13=\"\",\"\",IF(Süt!$C13<=0,\"\",IF(AND($AA42 > 0, $AB11 > 0, $AB42 > 0),((($AA42 / TotalDMFed) * ($AB11 / 100) * (($AV42 * 1000) / $AB42)* (BG11 / 100) * TotalDMFed) * 1000),0)))","v":""},{"$f":"IF(Süt!$B13=\"\",\"\",IF(Süt!$C13<=0,\"\",IF(AND($AA42 > 0, $AB11 > 0, $AB42 > 0),((($AA42 / TotalDMFed) * ($AB11 / 100) * (($AV42 * 1000) / $AB42)* (BH11 / 100) * TotalDMFed) * 1000),0)))","v":""},{"$f":"IF(Süt!$B13=\"\",\"\",IF(Süt!$C13<=0,\"\",IF(AnimalType=\"Buzağı\",IF(P11=\"BUZAĞI BAŞLANGIÇ YEMİ\",AA42,0),0)))","v":""},{"$f":"IF(Süt!$B13=\"\",\"\",IF(Süt!$C13<=0,\"\",IF(AnimalType=\"Buzağı\",IF(AN11=\"Calf Feed-Milk\",AA42,0),0)))","v":""},{"$f":"IF(Süt!$B13=\"\",\"\",IF(Süt!$C13<=0,\"\",IF(AnimalType=\"Buzağı\",IF(P11=\"BUZAĞI BAŞLANGIÇ YEMİ\",0,AA42),0)))","v":""},{"$f":"IF(Süt!$B13=\"\",\"\",IF(Süt!$C13<=0,\"\",IF(S11=\"Forage\",AH42,0)))","v":""},{"$f":"IF(Süt!$B13=\"\",\"\",IF(Süt!$C13<=0,\"\",BM11/100*$AA42))","v":""},{"$f":"IF(Süt!$B13=\"\",\"\",IF(Süt!$C13<=0,\"\",IF(AnimalType <> \"Buzağı\",((BM11 / 100) * $AA42) * BN11,((BM11 / 100) * $AA42))))","v":""},{"$f":"IF(Süt!$B13=\"\",\"\",IF(Süt!$C13<=0,\"\",BO11/100*$AA42))","v":""},{"$f":"IF(Süt!$B13=\"\",\"\",IF(Süt!$C13<=0,\"\",IF(AnimalType <> \"Buzağı\",((BO11 / 100) * $AA42) * BP11,((BO11 / 100) * $AA42))))","v":""},{"$f":"IF(Süt!$B13=\"\",\"\",IF(Süt!$C13<=0,\"\",BQ11/100*$AA42))","v":""},{"$f":"IF(Süt!$B13=\"\",\"\",IF(Süt!$C13<=0,\"\",IF(AnimalType <> \"Buzağı\",((BQ11 / 100) * $AA42) * BR11,((BQ11 / 100) * $AA42))))","v":""},{"$f":"IF(Süt!$B13=\"\",\"\",IF(Süt!$C13<=0,\"\",BS11/100*$AA42))","v":""},{"$f":"IF(Süt!$B13=\"\",\"\",IF(Süt!$C13<=0,\"\",IF(AnimalType <> \"Buzağı\",((BS11 / 100) * $AA42) * BT11,((BS11 / 100) * $AA42))))","v":""},{"$f":"IF(Süt!$B13=\"\",\"\",IF(Süt!$C13<=0,\"\",BU11/100*$AA42))","v":""},{"$f":"IF(Süt!$B13=\"\",\"\",IF(Süt!$C13<=0,\"\",IF(AnimalType <> \"Buzağı\",((BU11 / 100) * $AA42) * BV11,((BU11 / 100) * $AA42))))","v":""},{"$f":"IF(Süt!$B13=\"\",\"\",IF(Süt!$C13<=0,\"\",BW11/100*$AA42))","v":""},{"$f":"IF(Süt!$B13=\"\",\"\",IF(Süt!$C13<=0,\"\",IF(AnimalType <> \"Buzağı\",((BW11 / 100) * $AA42) * BX11,((BW11 / 100) * $AA42))))","v":""},{"$f":"IF(Süt!$B13=\"\",\"\",IF(Süt!$C13<=0,\"\",BY11/100*$AA42))","v":""},{"$f":"IF(Süt!$B13=\"\",\"\",IF(Süt!$C13<=0,\"\",IF(AnimalType <> \"Buzağı\",((BY11 / 100) * $AA42) * BZ11,((BY11 / 100) * $AA42))))","v":""},{"$f":"IF(Süt!$B13=\"\",\"\",IF(Süt!$C13<=0,\"\",CA11*$AA42))","v":""},{"$f":"IF(Süt!$B13=\"\",\"\",IF(Süt!$C13<=0,\"\",IF(AnimalType <> \"Buzağı\",CA11 * $AA42 * CB11,CA11 * $AA42)))","v":""},{"$f":"IF(Süt!$B13=\"\",\"\",IF(Süt!$C13<=0,\"\",CC11*$AA42))","v":""},{"$f":"IF(Süt!$B13=\"\",\"\",IF(Süt!$C13<=0,\"\",IF(AnimalType <> \"Buzağı\",CC11 * $AA42 * CD11,CC11 * $AA42)))","v":""},{"$f":"IF(Süt!$B13=\"\",\"\",IF(Süt!$C13<=0,\"\",CE11*$AA42))","v":""},{"$f":"IF(Süt!$B13=\"\",\"\",IF(Süt!$C13<=0,\"\",IF(AnimalType <> \"Buzağı\",CE11 * $AA42 * CF11,CE11 * $AA42)))","v":""},{"$f":"IF(Süt!$B13=\"\",\"\",IF(Süt!$C13<=0,\"\",CG11*$AA42))","v":""},{"$f":"IF(Süt!$B13=\"\",\"\",IF(Süt!$C13<=0,\"\",IF(AnimalType <> \"Buzağı\",CG11 * $AA42 * CH11,CG11 * $AA42)))","v":""},{"$f":"IF(Süt!$B13=\"\",\"\",IF(Süt!$C13<=0,\"\",CI11*$AA42))","v":""},{"$f":"IF(Süt!$B13=\"\",\"\",IF(Süt!$C13<=0,\"\",IF(AnimalType <> \"Buzağı\",CI11 * $AA42 * CJ11,CI11 * $AA42)))","v":""},{"$f":"IF(Süt!$B13=\"\",\"\",IF(Süt!$C13<=0,\"\",CK11*$AA42))","v":""},{"$f":"IF(Süt!$B13=\"\",\"\",IF(Süt!$C13<=0,\"\",IF(AnimalType <> \"Buzağı\",CK11 * $AA42 * CL11,CK11 * $AA42)))","v":""},{"$f":"IF(Süt!$B13=\"\",\"\",IF(Süt!$C13<=0,\"\",CM11*$AA42))","v":""},{"$f":"IF(Süt!$B13=\"\",\"\",IF(Süt!$C13<=0,\"\",IF(AnimalType <> \"Buzağı\",CM11 * $AA42 * CN11,CM11 * $AA42)))","v":""},null,null,{"$f":"IF(Süt!$B13=\"\",\"\",IF(Süt!$C13<=0,\"\",CQ11*$AA42))","v":""},{"$f":"IF(Süt!$B13=\"\",\"\",IF(Süt!$C13<=0,\"\",CR11*$AA42))","v":""},{"$f":"IF(Süt!$B13=\"\",\"\",IF(Süt!$C13<=0,\"\",CS11*$AA42))","v":""},-24,0.78300000000000047,1.0530000000000006,{"$f":"CONCATENATE(\"ER(\",CS_9+2,\")\")","v":"ER(7)"},{"$f":"(9.4*0.037683*(CS_9+2)*(0.6575+(CS_9+2)*0.0685)*(SBW*0.851) /(0.6575+CS_9*0.0685))+(5.55*(0.200886-(0.0066762*(CS_9+2)))*(0.6575+(CS_9+2)*0.0685)*(SBW*0.851) /(0.6575+CS_9*0.0685))","v":2013.6405818628593},{"$f":"(9.4*0.037683*9*(0.6575+9*0.0685)*(SBW*0.851) /(0.6575+9*0.0685))+(5.55*(0.200886-(0.0066762*9))*(0.6575+9*0.0685)*(SBW*0.851) /(0.6575+9*0.0685))","v":2107.8588313598402},null,null,null,null,null,null,null,null,null,null,"Sulu Kaba Yemler"]
[null,{"$f":"Süt!B7","v":"Yonca Kuru Otu, 4.kalite, %15-17 HP, %44-48 NDF"},{"$f":"ROUND((Süt!C7/Süt!$C$4)*100,2)","v":17.670000000000002},{"$f":"ROUND(Süt!C7,2)","v":7},{"$f":"ROUND(C$34*Süt!C7,2)","v":140},3.5,70,null,null,null,null,null,null,null,{"$f":"IF(Süt!B14=\"\",\"\",IF(Süt!C14<=0,\"\",Süt!C14))","v":""},"",{"$f":"IF(Süt!$B14=\"\",\"\",IF(Süt!$C14<=0,\"\",IF(MID(AN12,1,9)=\"Calf Feed\",0,(AK43/100)*AA43)))","v":""},{"$f":"IF(Süt!$B14=\"\",\"\",IF(Süt!$C14<=0,\"\",(R12/100)*(AA43*1000)))","v":""},{"$f":"IF(Süt!$B14=\"\",\"\",IF(Süt!$C14<=0,\"\",IF(MID(AN12,1,9)=\"Calf Feed\",0,AK43*Discount)))","v":""},{"$f":"IF(Süt!$B14=\"\",\"\",IF(Süt!$C14<=0,\"\",(S43/100)*(AA43*1000)))","v":""},{"$f":"IF(Süt!$B14=\"\",\"\",IF(Süt!$C14<=0,\"\",Discount*AL43))","v":""},{"$f":"IF(Süt!$B14=\"\",\"\",IF(Süt!$C14<=0,\"\",IF(AP43<0,0,AP43)*AA43))","v":""},null,null,{"$f":"IF(Süt!$B14=\"\",\"\",IF(Süt!$C14<=0,\"\",IF(AR43<0,0,AR43)*AA43))","v":""},{"$f":"IF(Süt!$B14=\"\",\"\",IF(Süt!$C14<=0,\"\",IF(AS43<0,0,AS43)*AA43))","v":""},{"$f":"IF(Süt!$B14=\"\",\"\",IF(Süt!$C14<=0,\"\",$O43*AA12/100))","v":""},{"$f":"IF(Süt!$B14=\"\",\"\",IF(Süt!$C14<=0,\"\",(AB12/ 100) * (AA43 * 1000)))","v":""},{"$f":"IF(Süt!$B14=\"\",\"\",IF(Süt!$C14<=0,\"\",IF(MID(AN12,1,9)<>\"Calf Feed\",IF(AB12 > 0,IF(S12=\"Forage\", EXP((-1.2 * (AE12 / AB12))) * AB12,IF(AN12 = \"Animal Protein\",(AC12 * AB12),(1 - (0.4 * (AE12 / AB12))) * AB12)),0),0)))","v":""},{"$f":"IF(Süt!$B14=\"\",\"\",IF(Süt!$C14<=0,\"\",IF(MID(AN12,1,9)<>\"Calf Feed\",0.98 * (100 - AH12 - AB12 - AF12 - AL12 + AD12) * T12,0)))","v":""},{"$f":"IF(Süt!$B14=\"\",\"\",IF(Süt!$C14<=0,\"\",IF(MID(AN12,1,9)<>\"Calf Feed\",((100 - AH12 - AB12 - AF12 - AL12 + AD12) /100)*AA43,0)))","v":""},{"$f":"IF(Süt!$B14=\"\",\"\",IF(Süt!$C14<=0,\"\",IF(MID(AN12,1,9)=\"Calf Feed\",0,(AF12/100)*AA43)))","v":""},{"$f":"IF(Süt!$B14=\"\",\"\",IF(Süt!$C14<=0,\"\",IF(AN12 = \"Fat and Oil\",IF(S12 = \"Fatty acids\",(AF12 * AG12)*AA43,(10 + ((AF12 - 10) * AG12))*AA43),(AF12 - 1)*AA43)))","v":""},{"$f":"IF(Süt!$B14=\"\",\"\",IF(Süt!$C14<=0,\"\",AH12/100*$AA43))","v":""},{"$f":"IF(Süt!$B14=\"\",\"\",IF(Süt!$C14<=0,\"\",IF(MID(AN12,1,9)<>\"Calf Feed\",IF(AH12 >AD12,AI12*AH12,0),0)))","v":""},{"$f":"IF(Süt!$B14=\"\",\"\",IF(Süt!$C14<=0,\"\",AJ12/100*$AA43))","v":""},{"$f":"IF(Süt!$B14=\"\",\"\",IF(Süt!$C14<=0,\"\",IF(MID(AN12,1,9)<>\"Calf Feed\",IF(AN12=\"Fat and Oil\",IF(S12=\"Fatty acids\",AF12*AG12*2.25,10+(((AF12-10)*AG12*2.25))),IF(AN12=\"Animal Protein\",(AC12*AB12)+((AF12-1)*2.25)+((0.98*(100-AB12-AL12-AF12))-7),IF(AI43>0,AD43+AC43+AO43+AI43-7,IF(AB12>0,((0.98*T12)*(100-AB12-AF12-AL12))+(AB12*(1-(0.4*AE12/AB12)))+((2.25*(AF12-1)-7)),((0.98*T12)*(100-AF12-AL12))+(2.25*(AF12-1)-7))))),AA43)))","v":""},{"$f":"IF(Süt!$B14=\"\",\"\",IF(Süt!$C14<=0,\"\",IF(MID(AN12,1,9)<>\"Calf Feed\",IF(AN12=\"Fat and Oil\",IF(S12=\"Fatty acids\",AF12*AG12*0.094,((AF12-10)*AG12*0.094)+0.43),IF(AN12=\"Animal Protein\",(AD43*0.042)+(AC43*0.056)+(0.094*(AO43/2.25))-0.3,IF(AI43>0,(AD43*0.042)+(AI43*0.042)+(AC43*0.056)+(0.094*(AO43/2.25))-0.3,IF(AB12>0,(0.98*T12*(0.042*(100-AB12-AF12-AL12))+(AB12*(0.056*(1-(0.4*AE12/AB12)))))+(0.094*(AF12-1))-0.3,(0.98*T12)*(0.042*(100-AF12-AL12))+(0.094*(AF12-1))-0.3)))),U12)))","v":""},0,0,{"$f":"IF(Süt!$B14=\"\",\"\",IF(Süt!$C14<=0,\"\",IF(MID(AN12,1,9)<>\"Calf Feed\",IF(AF12 <1,0,(AF12-1)*2.25),0)))","v":""},{"$f":"IF(Süt!$B14=\"\",\"\",IF(Süt!$C14<=0,\"\",IF(AN12 <> \"Fat and Oil\",IF(AF12 >= 3,IF(AnimalType <> \"Damızlık Düve\",(1.01 * U43) - 0.45 + (0.0046 * (AF12 - 3)),0.82 * AL43),IF(AND(AnimalType <> \"Buzağı\",AnimalType <> \"Damızlık Düve\")=TRUE,(1.01 * U43) - 0.45,0.82 * AL43)),U43)))","v":""},{"$f":"IF(Süt!$B14=\"\",\"\",IF(Süt!$C14<=0,\"\",IF(IF(AN12 <> \"Fat and Oil\",IF(AF12 >= 3,(0.703 * AP43) - 0.19 + ((((0.097 * AP43) + 0.19) / 97) * (AF12 - 3)),(0.703 * AP43) - 0.19),0.8*U43)<0,0,IF(AN12 <> \"Fat and Oil\",IF(AF12 >= 3,(0.703 * AP43) - 0.19 + ((((0.097 * AP43) + 0.19) / 97) * (AF12 - 3)),(0.703 * AP43) - 0.19   ),0.8*U43))))","v":""},{"$f":"IF(Süt!$B14=\"\",\"\",IF(Süt!$C14<=0,\"\",IF(MID(AN12,1,9)=\"Calf Feed\",0.75*AA43*V43,IF(IF(AN12 <> \"Fat and Oil\", ((1.37 * 0.82 * AL43) - (0.138 * (0.82 * AL43) ^ 2)+ (0.0105 * (0.82 * AL43) ^ 3) - 1.12),0.8 * U43)<0,0,IF(AN12 <> \"Fat and Oil\", ((1.37 * 0.82 * AL43) - (0.138 * (0.82 * AL43) ^ 2)+ (0.0105 * (0.82 * AL43) ^ 3) - 1.12),0.8 * U43)))))","v":""},{"$f":"IF(Süt!$B14=\"\",\"\",IF(Süt!$C14<=0,\"\",IF(MID(AN12,1,9)=\"Calf Feed\",0.57*AA43*V43,IF(IF(AN12 <> \"Fat and Oil\",((1.42 * 0.82 * AL43) - (0.174 * (0.82 * AL43)^2)+ (0.0122 * (0.82 * AL43)^3) - 1.65),0.55 * U43)<0,0,IF(AN12 <> \"Fat and Oil\",((1.42 * 0.82 * AL43) - (0.174 * (0.82 * AL43)^2)+ (0.0122 * (0.82 * AL43)^3) - 1.65),0.55 * U43)))))","v":""},{"$f":"IF(Süt!$B14=\"\",\"\",IF(Süt!$C14<=0,\"\",IF((AT12+AN43)>0,((AT12/(AT12+AN43))*((((AR12/100)*(AB12/100))*AA43)))+(((AQ12/100)*(AB12/100))*AA43),0)))","v":""},{"$f":"IF(Süt!$B14=\"\",\"\",IF(Süt!$C14<=0,\"\",IF(ISERROR(AB43/1000 - E89)=TRUE,0,AB43/1000 - E89)))","v":""},{"$f":"IF(Süt!$B14=\"\",\"\",IF(Süt!$C14<=0,\"\",IF((AT12+AN43)>0,   IF(BW_DMI<2,  C89,  C89+(BW_DMI-2)*((D89-C89)/2) ),0)))","v":""},{"$f":"IF(Süt!$B14=\"\",\"\",IF(Süt!$C14<=0,\"\",E89*(AW12/100)))","v":""},{"$f":"IF(Süt!$B14=\"\",\"\",IF(Süt!$C14<=0,\"\",IF(AND($AA43 > 0, $AB12 > 0, $AB43 > 0),((($AA43 / TotalDMFed) * ($AB12 / 100) * (($AV43 * 1000) / $AB43)* (AX12 / 100) * TotalDMFed) * 1000),0)))","v":""},{"$f":"IF(Süt!$B14=\"\",\"\",IF(Süt!$C14<=0,\"\",IF(AND($AA43 > 0, $AB12 > 0, $AB43 > 0),((($AA43 / TotalDMFed) * ($AB12 / 100) * (($AV43 * 1000) / $AB43)* (AY12 / 100) * TotalDMFed) * 1000),0)))","v":""},{"$f":"IF(Süt!$B14=\"\",\"\",IF(Süt!$C14<=0,\"\",IF(AND($AA43 > 0, $AB12 > 0, $AB43 > 0),((($AA43 / TotalDMFed) * ($AB12 / 100) * (($AV43 * 1000) / $AB43)* (AZ12 / 100) * TotalDMFed) * 1000),0)))","v":""},{"$f":"IF(Süt!$B14=\"\",\"\",IF(Süt!$C14<=0,\"\",IF(AND($AA43 > 0, $AB12 > 0, $AB43 > 0),((($AA43 / TotalDMFed) * ($AB12 / 100) * (($AV43 * 1000) / $AB43)* (BA12 / 100) * TotalDMFed) * 1000),0)))","v":""},{"$f":"IF(Süt!$B14=\"\",\"\",IF(Süt!$C14<=0,\"\",IF(AND($AA43 > 0, $AB12 > 0, $AB43 > 0),((($AA43 / TotalDMFed) * ($AB12 / 100) * (($AV43 * 1000) / $AB43)* (BB12 / 100) * TotalDMFed) * 1000),0)))","v":""},{"$f":"IF(Süt!$B14=\"\",\"\",IF(Süt!$C14<=0,\"\",IF(AND($AA43 > 0, $AB12 > 0, $AB43 > 0),((($AA43 / TotalDMFed) * ($AB12 / 100) * (($AV43 * 1000) / $AB43)* (BC12 / 100) * TotalDMFed) * 1000),0)))","v":""},{"$f":"IF(Süt!$B14=\"\",\"\",IF(Süt!$C14<=0,\"\",IF(AND($AA43 > 0, $AB12 > 0, $AB43 > 0),((($AA43 / TotalDMFed) * ($AB12 / 100) * (($AV43 * 1000) / $AB43)* (BD12 / 100) * TotalDMFed) * 1000),0)))","v":""},{"$f":"IF(Süt!$B14=\"\",\"\",IF(Süt!$C14<=0,\"\",IF(AND($AA43 > 0, $AB12 > 0, $AB43 > 0),((($AA43 / TotalDMFed) * ($AB12 / 100) * (($AV43 * 1000) / $AB43)* (BE12 / 100) * TotalDMFed) * 1000),0)))","v":""},{"$f":"IF(Süt!$B14=\"\",\"\",IF(Süt!$C14<=0,\"\",IF(AND($AA43 > 0, $AB12 > 0, $AB43 > 0),((($AA43 / TotalDMFed) * ($AB12 / 100) * (($AV43 * 1000) / $AB43)* (BF12 / 100) * TotalDMFed) * 1000),0)))","v":""},{"$f":"IF(Süt!$B14=\"\",\"\",IF(Süt!$C14<=0,\"\",IF(AND($AA43 > 0, $AB12 > 0, $AB43 > 0),((($AA43 / TotalDMFed) * ($AB12 / 100) * (($AV43 * 1000) / $AB43)* (BG12 / 100) * TotalDMFed) * 1000),0)))","v":""},{"$f":"IF(Süt!$B14=\"\",\"\",IF(Süt!$C14<=0,\"\",IF(AND($AA43 > 0, $AB12 > 0, $AB43 > 0),((($AA43 / TotalDMFed) * ($AB12 / 100) * (($AV43 * 1000) / $AB43)* (BH12 / 100) * TotalDMFed) * 1000),0)))","v":""},{"$f":"IF(Süt!$B14=\"\",\"\",IF(Süt!$C14<=0,\"\",IF(AnimalType=\"Buzağı\",IF(P12=\"BUZAĞI BAŞLANGIÇ YEMİ\",AA43,0),0)))","v":""},{"$f":"IF(Süt!$B14=\"\",\"\",IF(Süt!$C14<=0,\"\",IF(AnimalType=\"Buzağı\",IF(AN12=\"Calf Feed-Milk\",AA43,0),0)))","v":""},{"$f":"IF(Süt!$B14=\"\",\"\",IF(Süt!$C14<=0,\"\",IF(AnimalType=\"Buzağı\",IF(P12=\"BUZAĞI BAŞLANGIÇ YEMİ\",0,AA43),0)))","v":""},{"$f":"IF(Süt!$B14=\"\",\"\",IF(Süt!$C14<=0,\"\",IF(S12=\"Forage\",AH43,0)))","v":""},{"$f":"IF(Süt!$B14=\"\",\"\",IF(Süt!$C14<=0,\"\",BM12/100*$AA43))","v":""},{"$f":"IF(Süt!$B14=\"\",\"\",IF(Süt!$C14<=0,\"\",IF(AnimalType <> \"Buzağı\",((BM12 / 100) * $AA43) * BN12,((BM12 / 100) * $AA43))))","v":""},{"$f":"IF(Süt!$B14=\"\",\"\",IF(Süt!$C14<=0,\"\",BO12/100*$AA43))","v":""},{"$f":"IF(Süt!$B14=\"\",\"\",IF(Süt!$C14<=0,\"\",IF(AnimalType <> \"Buzağı\",((BO12 / 100) * $AA43) * BP12,((BO12 / 100) * $AA43))))","v":""},{"$f":"IF(Süt!$B14=\"\",\"\",IF(Süt!$C14<=0,\"\",BQ12/100*$AA43))","v":""},{"$f":"IF(Süt!$B14=\"\",\"\",IF(Süt!$C14<=0,\"\",IF(AnimalType <> \"Buzağı\",((BQ12 / 100) * $AA43) * BR12,((BQ12 / 100) * $AA43))))","v":""},{"$f":"IF(Süt!$B14=\"\",\"\",IF(Süt!$C14<=0,\"\",BS12/100*$AA43))","v":""},{"$f":"IF(Süt!$B14=\"\",\"\",IF(Süt!$C14<=0,\"\",IF(AnimalType <> \"Buzağı\",((BS12 / 100) * $AA43) * BT12,((BS12 / 100) * $AA43))))","v":""},{"$f":"IF(Süt!$B14=\"\",\"\",IF(Süt!$C14<=0,\"\",BU12/100*$AA43))","v":""},{"$f":"IF(Süt!$B14=\"\",\"\",IF(Süt!$C14<=0,\"\",IF(AnimalType <> \"Buzağı\",((BU12 / 100) * $AA43) * BV12,((BU12 / 100) * $AA43))))","v":""},{"$f":"IF(Süt!$B14=\"\",\"\",IF(Süt!$C14<=0,\"\",BW12/100*$AA43))","v":""},{"$f":"IF(Süt!$B14=\"\",\"\",IF(Süt!$C14<=0,\"\",IF(AnimalType <> \"Buzağı\",((BW12 / 100) * $AA43) * BX12,((BW12 / 100) * $AA43))))","v":""},{"$f":"IF(Süt!$B14=\"\",\"\",IF(Süt!$C14<=0,\"\",BY12/100*$AA43))","v":""},{"$f":"IF(Süt!$B14=\"\",\"\",IF(Süt!$C14<=0,\"\",IF(AnimalType <> \"Buzağı\",((BY12 / 100) * $AA43) * BZ12,((BY12 / 100) * $AA43))))","v":""},{"$f":"IF(Süt!$B14=\"\",\"\",IF(Süt!$C14<=0,\"\",CA12*$AA43))","v":""},{"$f":"IF(Süt!$B14=\"\",\"\",IF(Süt!$C14<=0,\"\",IF(AnimalType <> \"Buzağı\",CA12 * $AA43 * CB12,CA12 * $AA43)))","v":""},{"$f":"IF(Süt!$B14=\"\",\"\",IF(Süt!$C14<=0,\"\",CC12*$AA43))","v":""},{"$f":"IF(Süt!$B14=\"\",\"\",IF(Süt!$C14<=0,\"\",IF(AnimalType <> \"Buzağı\",CC12 * $AA43 * CD12,CC12 * $AA43)))","v":""},{"$f":"IF(Süt!$B14=\"\",\"\",IF(Süt!$C14<=0,\"\",CE12*$AA43))","v":""},{"$f":"IF(Süt!$B14=\"\",\"\",IF(Süt!$C14<=0,\"\",IF(AnimalType <> \"Buzağı\",CE12 * $AA43 * CF12,CE12 * $AA43)))","v":""},{"$f":"IF(Süt!$B14=\"\",\"\",IF(Süt!$C14<=0,\"\",CG12*$AA43))","v":""},{"$f":"IF(Süt!$B14=\"\",\"\",IF(Süt!$C14<=0,\"\",IF(AnimalType <> \"Buzağı\",CG12 * $AA43 * CH12,CG12 * $AA43)))","v":""},{"$f":"IF(Süt!$B14=\"\",\"\",IF(Süt!$C14<=0,\"\",CI12*$AA43))","v":""},{"$f":"IF(Süt!$B14=\"\",\"\",IF(Süt!$C14<=0,\"\",IF(AnimalType <> \"Buzağı\",CI12 * $AA43 * CJ12,CI12 * $AA43)))","v":""},{"$f":"IF(Süt!$B14=\"\",\"\",IF(Süt!$C14<=0,\"\",CK12*$AA43))","v":""},{"$f":"IF(Süt!$B14=\"\",\"\",IF(Süt!$C14<=0,\"\",IF(AnimalType <> \"Buzağı\",CK12 * $AA43 * CL12,CK12 * $AA43)))","v":""},{"$f":"IF(Süt!$B14=\"\",\"\",IF(Süt!$C14<=0,\"\",CM12*$AA43))","v":""},{"$f":"IF(Süt!$B14=\"\",\"\",IF(Süt!$C14<=0,\"\",IF(AnimalType <> \"Buzağı\",CM12 * $AA43 * CN12,CM12 * $AA43)))","v":""},null,null,{"$f":"IF(Süt!$B14=\"\",\"\",IF(Süt!$C14<=0,\"\",CQ12*$AA43))","v":""},{"$f":"IF(Süt!$B14=\"\",\"\",IF(Süt!$C14<=0,\"\",CR12*$AA43))","v":""},{"$f":"IF(Süt!$B14=\"\",\"\",IF(Süt!$C14<=0,\"\",CS12*$AA43))","v":""},-25,0.8100000000000005,1.08,"Lose1CS",{"$f":"IF(CS_9>=3,ER_CS-CX41,1000000)","v":487.17947575614107},"Mcal, 1 CS kaybetmek için gerekli enerji",null,null,null,null,null,null,null,null,null,null,"Kuru Kaba Yemler"]
[null,{"$f":"Süt!B8","v":"Arpa, Ezme "},{"$f":"ROUND((Süt!C8/Süt!$C$4)*100,2)","v":12.62},{"$f":"ROUND(Süt!C8,2)","v":5},{"$f":"ROUND(C$34*Süt!C8,2)","v":100},2.5,50,null,null,null,null,null,null,null,{"$f":"IF(Süt!B15=\"\",\"\",IF(Süt!C15<=0,\"\",Süt!C15))","v":""},"",{"$f":"IF(Süt!$B15=\"\",\"\",IF(Süt!$C15<=0,\"\",IF(MID(AN13,1,9)=\"Calf Feed\",0,(AK44/100)*AA44)))","v":""},{"$f":"IF(Süt!$B15=\"\",\"\",IF(Süt!$C15<=0,\"\",(R13/100)*(AA44*1000)))","v":""},{"$f":"IF(Süt!$B15=\"\",\"\",IF(Süt!$C15<=0,\"\",IF(MID(AN13,1,9)=\"Calf Feed\",0,AK44*Discount)))","v":""},{"$f":"IF(Süt!$B15=\"\",\"\",IF(Süt!$C15<=0,\"\",(S44/100)*(AA44*1000)))","v":""},{"$f":"IF(Süt!$B15=\"\",\"\",IF(Süt!$C15<=0,\"\",Discount*AL44))","v":""},{"$f":"IF(Süt!$B15=\"\",\"\",IF(Süt!$C15<=0,\"\",IF(AP44<0,0,AP44)*AA44))","v":""},null,null,{"$f":"IF(Süt!$B15=\"\",\"\",IF(Süt!$C15<=0,\"\",IF(AR44<0,0,AR44)*AA44))","v":""},{"$f":"IF(Süt!$B15=\"\",\"\",IF(Süt!$C15<=0,\"\",IF(AS44<0,0,AS44)*AA44))","v":""},{"$f":"IF(Süt!$B15=\"\",\"\",IF(Süt!$C15<=0,\"\",$O44*AA13/100))","v":""},{"$f":"IF(Süt!$B15=\"\",\"\",IF(Süt!$C15<=0,\"\",(AB13/ 100) * (AA44 * 1000)))","v":""},{"$f":"IF(Süt!$B15=\"\",\"\",IF(Süt!$C15<=0,\"\",IF(MID(AN13,1,9)<>\"Calf Feed\",IF(AB13 > 0,IF(S13=\"Forage\", EXP((-1.2 * (AE13 / AB13))) * AB13,IF(AN13 = \"Animal Protein\",(AC13 * AB13),(1 - (0.4 * (AE13 / AB13))) * AB13)),0),0)))","v":""},{"$f":"IF(Süt!$B15=\"\",\"\",IF(Süt!$C15<=0,\"\",IF(MID(AN13,1,9)<>\"Calf Feed\",0.98 * (100 - AH13 - AB13 - AF13 - AL13 + AD13) * T13,0)))","v":""},{"$f":"IF(Süt!$B15=\"\",\"\",IF(Süt!$C15<=0,\"\",IF(MID(AN13,1,9)<>\"Calf Feed\",((100 - AH13 - AB13 - AF13 - AL13 + AD13) /100)*AA44,0)))","v":""},{"$f":"IF(Süt!$B15=\"\",\"\",IF(Süt!$C15<=0,\"\",IF(MID(AN13,1,9)=\"Calf Feed\",0,(AF13/100)*AA44)))","v":""},{"$f":"IF(Süt!$B15=\"\",\"\",IF(Süt!$C15<=0,\"\",IF(AN13 = \"Fat and Oil\",IF(S13 = \"Fatty acids\",(AF13 * AG13)*AA44,(10 + ((AF13 - 10) * AG13))*AA44),(AF13 - 1)*AA44)))","v":""},{"$f":"IF(Süt!$B15=\"\",\"\",IF(Süt!$C15<=0,\"\",AH13/100*$AA44))","v":""},{"$f":"IF(Süt!$B15=\"\",\"\",IF(Süt!$C15<=0,\"\",IF(MID(AN13,1,9)<>\"Calf Feed\",IF(AH13 >AD13,AI13*AH13,0),0)))","v":""},{"$f":"IF(Süt!$B15=\"\",\"\",IF(Süt!$C15<=0,\"\",AJ13/100*$AA44))","v":""},{"$f":"IF(Süt!$B15=\"\",\"\",IF(Süt!$C15<=0,\"\",IF(MID(AN13,1,9)<>\"Calf Feed\",IF(AN13=\"Fat and Oil\",IF(S13=\"Fatty acids\",AF13*AG13*2.25,10+(((AF13-10)*AG13*2.25))),IF(AN13=\"Animal Protein\",(AC13*AB13)+((AF13-1)*2.25)+((0.98*(100-AB13-AL13-AF13))-7),IF(AI44>0,AD44+AC44+AO44+AI44-7,IF(AB13>0,((0.98*T13)*(100-AB13-AF13-AL13))+(AB13*(1-(0.4*AE13/AB13)))+((2.25*(AF13-1)-7)),((0.98*T13)*(100-AF13-AL13))+(2.25*(AF13-1)-7))))),AA44)))","v":""},{"$f":"IF(Süt!$B15=\"\",\"\",IF(Süt!$C15<=0,\"\",IF(MID(AN13,1,9)<>\"Calf Feed\",IF(AN13=\"Fat and Oil\",IF(S13=\"Fatty acids\",AF13*AG13*0.094,((AF13-10)*AG13*0.094)+0.43),IF(AN13=\"Animal Protein\",(AD44*0.042)+(AC44*0.056)+(0.094*(AO44/2.25))-0.3,IF(AI44>0,(AD44*0.042)+(AI44*0.042)+(AC44*0.056)+(0.094*(AO44/2.25))-0.3,IF(AB13>0,(0.98*T13*(0.042*(100-AB13-AF13-AL13))+(AB13*(0.056*(1-(0.4*AE13/AB13)))))+(0.094*(AF13-1))-0.3,(0.98*T13)*(0.042*(100-AF13-AL13))+(0.094*(AF13-1))-0.3)))),U13)))","v":""},0,0,{"$f":"IF(Süt!$B15=\"\",\"\",IF(Süt!$C15<=0,\"\",IF(MID(AN13,1,9)<>\"Calf Feed\",IF(AF13 <1,0,(AF13-1)*2.25),0)))","v":""},{"$f":"IF(Süt!$B15=\"\",\"\",IF(Süt!$C15<=0,\"\",IF(AN13 <> \"Fat and Oil\",IF(AF13 >= 3,IF(AnimalType <> \"Damızlık Düve\",(1.01 * U44) - 0.45 + (0.0046 * (AF13 - 3)),0.82 * AL44),IF(AND(AnimalType <> \"Buzağı\",AnimalType <> \"Damızlık Düve\")=TRUE,(1.01 * U44) - 0.45,0.82 * AL44)),U44)))","v":""},{"$f":"IF(Süt!$B15=\"\",\"\",IF(Süt!$C15<=0,\"\",IF(IF(AN13 <> \"Fat and Oil\",IF(AF13 >= 3,(0.703 * AP44) - 0.19 + ((((0.097 * AP44) + 0.19) / 97) * (AF13 - 3)),(0.703 * AP44) - 0.19),0.8*U44)<0,0,IF(AN13 <> \"Fat and Oil\",IF(AF13 >= 3,(0.703 * AP44) - 0.19 + ((((0.097 * AP44) + 0.19) / 97) * (AF13 - 3)),(0.703 * AP44) - 0.19   ),0.8*U44))))","v":""},{"$f":"IF(Süt!$B15=\"\",\"\",IF(Süt!$C15<=0,\"\",IF(MID(AN13,1,9)=\"Calf Feed\",0.75*AA44*V44,IF(IF(AN13 <> \"Fat and Oil\", ((1.37 * 0.82 * AL44) - (0.138 * (0.82 * AL44) ^ 2)+ (0.0105 * (0.82 * AL44) ^ 3) - 1.12),0.8 * U44)<0,0,IF(AN13 <> \"Fat and Oil\", ((1.37 * 0.82 * AL44) - (0.138 * (0.82 * AL44) ^ 2)+ (0.0105 * (0.82 * AL44) ^ 3) - 1.12),0.8 * U44)))))","v":""},{"$f":"IF(Süt!$B15=\"\",\"\",IF(Süt!$C15<=0,\"\",IF(MID(AN13,1,9)=\"Calf Feed\",0.57*AA44*V44,IF(IF(AN13 <> \"Fat and Oil\",((1.42 * 0.82 * AL44) - (0.174 * (0.82 * AL44)^2)+ (0.0122 * (0.82 * AL44)^3) - 1.65),0.55 * U44)<0,0,IF(AN13 <> \"Fat and Oil\",((1.42 * 0.82 * AL44) - (0.174 * (0.82 * AL44)^2)+ (0.0122 * (0.82 * AL44)^3) - 1.65),0.55 * U44)))))","v":""},{"$f":"IF(Süt!$B15=\"\",\"\",IF(Süt!$C15<=0,\"\",IF((AT13+AN44)>0,((AT13/(AT13+AN44))*((((AR13/100)*(AB13/100))*AA44)))+(((AQ13/100)*(AB13/100))*AA44),0)))","v":""},{"$f":"IF(Süt!$B15=\"\",\"\",IF(Süt!$C15<=0,\"\",IF(ISERROR(AB44/1000 - E90)=TRUE,0,AB44/1000 - E90)))","v":""},{"$f":"IF(Süt!$B15=\"\",\"\",IF(Süt!$C15<=0,\"\",IF((AT13+AN44)>0,   IF(BW_DMI<2,  C90,  C90+(BW_DMI-2)*((D90-C90)/2) ),0)))","v":""},{"$f":"IF(Süt!$B15=\"\",\"\",IF(Süt!$C15<=0,\"\",E90*(AW13/100)))","v":""},{"$f":"IF(Süt!$B15=\"\",\"\",IF(Süt!$C15<=0,\"\",IF(AND($AA44 > 0, $AB13 > 0, $AB44 > 0),((($AA44 / TotalDMFed) * ($AB13 / 100) * (($AV44 * 1000) / $AB44)* (AX13 / 100) * TotalDMFed) * 1000),0)))","v":""},{"$f":"IF(Süt!$B15=\"\",\"\",IF(Süt!$C15<=0,\"\",IF(AND($AA44 > 0, $AB13 > 0, $AB44 > 0),((($AA44 / TotalDMFed) * ($AB13 / 100) * (($AV44 * 1000) / $AB44)* (AY13 / 100) * TotalDMFed) * 1000),0)))","v":""},{"$f":"IF(Süt!$B15=\"\",\"\",IF(Süt!$C15<=0,\"\",IF(AND($AA44 > 0, $AB13 > 0, $AB44 > 0),((($AA44 / TotalDMFed) * ($AB13 / 100) * (($AV44 * 1000) / $AB44)* (AZ13 / 100) * TotalDMFed) * 1000),0)))","v":""},{"$f":"IF(Süt!$B15=\"\",\"\",IF(Süt!$C15<=0,\"\",IF(AND($AA44 > 0, $AB13 > 0, $AB44 > 0),((($AA44 / TotalDMFed) * ($AB13 / 100) * (($AV44 * 1000) / $AB44)* (BA13 / 100) * TotalDMFed) * 1000),0)))","v":""},{"$f":"IF(Süt!$B15=\"\",\"\",IF(Süt!$C15<=0,\"\",IF(AND($AA44 > 0, $AB13 > 0, $AB44 > 0),((($AA44 / TotalDMFed) * ($AB13 / 100) * (($AV44 * 1000) / $AB44)* (BB13 / 100) * TotalDMFed) * 1000),0)))","v":""},{"$f":"IF(Süt!$B15=\"\",\"\",IF(Süt!$C15<=0,\"\",IF(AND($AA44 > 0, $AB13 > 0, $AB44 > 0),((($AA44 / TotalDMFed) * ($AB13 / 100) * (($AV44 * 1000) / $AB44)* (BC13 / 100) * TotalDMFed) * 1000),0)))","v":""},{"$f":"IF(Süt!$B15=\"\",\"\",IF(Süt!$C15<=0,\"\",IF(AND($AA44 > 0, $AB13 > 0, $AB44 > 0),((($AA44 / TotalDMFed) * ($AB13 / 100) * (($AV44 * 1000) / $AB44)* (BD13 / 100) * TotalDMFed) * 1000),0)))","v":""},{"$f":"IF(Süt!$B15=\"\",\"\",IF(Süt!$C15<=0,\"\",IF(AND($AA44 > 0, $AB13 > 0, $AB44 > 0),((($AA44 / TotalDMFed) * ($AB13 / 100) * (($AV44 * 1000) / $AB44)* (BE13 / 100) * TotalDMFed) * 1000),0)))","v":""},{"$f":"IF(Süt!$B15=\"\",\"\",IF(Süt!$C15<=0,\"\",IF(AND($AA44 > 0, $AB13 > 0, $AB44 > 0),((($AA44 / TotalDMFed) * ($AB13 / 100) * (($AV44 * 1000) / $AB44)* (BF13 / 100) * TotalDMFed) * 1000),0)))","v":""},{"$f":"IF(Süt!$B15=\"\",\"\",IF(Süt!$C15<=0,\"\",IF(AND($AA44 > 0, $AB13 > 0, $AB44 > 0),((($AA44 / TotalDMFed) * ($AB13 / 100) * (($AV44 * 1000) / $AB44)* (BG13 / 100) * TotalDMFed) * 1000),0)))","v":""},{"$f":"IF(Süt!$B15=\"\",\"\",IF(Süt!$C15<=0,\"\",IF(AND($AA44 > 0, $AB13 > 0, $AB44 > 0),((($AA44 / TotalDMFed) * ($AB13 / 100) * (($AV44 * 1000) / $AB44)* (BH13 / 100) * TotalDMFed) * 1000),0)))","v":""},{"$f":"IF(Süt!$B15=\"\",\"\",IF(Süt!$C15<=0,\"\",IF(AnimalType=\"Buzağı\",IF(P13=\"BUZAĞI BAŞLANGIÇ YEMİ\",AA44,0),0)))","v":""},{"$f":"IF(Süt!$B15=\"\",\"\",IF(Süt!$C15<=0,\"\",IF(AnimalType=\"Buzağı\",IF(AN13=\"Calf Feed-Milk\",AA44,0),0)))","v":""},{"$f":"IF(Süt!$B15=\"\",\"\",IF(Süt!$C15<=0,\"\",IF(AnimalType=\"Buzağı\",IF(P13=\"BUZAĞI BAŞLANGIÇ YEMİ\",0,AA44),0)))","v":""},{"$f":"IF(Süt!$B15=\"\",\"\",IF(Süt!$C15<=0,\"\",IF(S13=\"Forage\",AH44,0)))","v":""},{"$f":"IF(Süt!$B15=\"\",\"\",IF(Süt!$C15<=0,\"\",BM13/100*$AA44))","v":""},{"$f":"IF(Süt!$B15=\"\",\"\",IF(Süt!$C15<=0,\"\",IF(AnimalType <> \"Buzağı\",((BM13 / 100) * $AA44) * BN13,((BM13 / 100) * $AA44))))","v":""},{"$f":"IF(Süt!$B15=\"\",\"\",IF(Süt!$C15<=0,\"\",BO13/100*$AA44))","v":""},{"$f":"IF(Süt!$B15=\"\",\"\",IF(Süt!$C15<=0,\"\",IF(AnimalType <> \"Buzağı\",((BO13 / 100) * $AA44) * BP13,((BO13 / 100) * $AA44))))","v":""},{"$f":"IF(Süt!$B15=\"\",\"\",IF(Süt!$C15<=0,\"\",BQ13/100*$AA44))","v":""},{"$f":"IF(Süt!$B15=\"\",\"\",IF(Süt!$C15<=0,\"\",IF(AnimalType <> \"Buzağı\",((BQ13 / 100) * $AA44) * BR13,((BQ13 / 100) * $AA44))))","v":""},{"$f":"IF(Süt!$B15=\"\",\"\",IF(Süt!$C15<=0,\"\",BS13/100*$AA44))","v":""},{"$f":"IF(Süt!$B15=\"\",\"\",IF(Süt!$C15<=0,\"\",IF(AnimalType <> \"Buzağı\",((BS13 / 100) * $AA44) * BT13,((BS13 / 100) * $AA44))))","v":""},{"$f":"IF(Süt!$B15=\"\",\"\",IF(Süt!$C15<=0,\"\",BU13/100*$AA44))","v":""},{"$f":"IF(Süt!$B15=\"\",\"\",IF(Süt!$C15<=0,\"\",IF(AnimalType <> \"Buzağı\",((BU13 / 100) * $AA44) * BV13,((BU13 / 100) * $AA44))))","v":""},{"$f":"IF(Süt!$B15=\"\",\"\",IF(Süt!$C15<=0,\"\",BW13/100*$AA44))","v":""},{"$f":"IF(Süt!$B15=\"\",\"\",IF(Süt!$C15<=0,\"\",IF(AnimalType <> \"Buzağı\",((BW13 / 100) * $AA44) * BX13,((BW13 / 100) * $AA44))))","v":""},{"$f":"IF(Süt!$B15=\"\",\"\",IF(Süt!$C15<=0,\"\",BY13/100*$AA44))","v":""},{"$f":"IF(Süt!$B15=\"\",\"\",IF(Süt!$C15<=0,\"\",IF(AnimalType <> \"Buzağı\",((BY13 / 100) * $AA44) * BZ13,((BY13 / 100) * $AA44))))","v":""},{"$f":"IF(Süt!$B15=\"\",\"\",IF(Süt!$C15<=0,\"\",CA13*$AA44))","v":""},{"$f":"IF(Süt!$B15=\"\",\"\",IF(Süt!$C15<=0,\"\",IF(AnimalType <> \"Buzağı\",CA13 * $AA44 * CB13,CA13 * $AA44)))","v":""},{"$f":"IF(Süt!$B15=\"\",\"\",IF(Süt!$C15<=0,\"\",CC13*$AA44))","v":""},{"$f":"IF(Süt!$B15=\"\",\"\",IF(Süt!$C15<=0,\"\",IF(AnimalType <> \"Buzağı\",CC13 * $AA44 * CD13,CC13 * $AA44)))","v":""},{"$f":"IF(Süt!$B15=\"\",\"\",IF(Süt!$C15<=0,\"\",CE13*$AA44))","v":""},{"$f":"IF(Süt!$B15=\"\",\"\",IF(Süt!$C15<=0,\"\",IF(AnimalType <> \"Buzağı\",CE13 * $AA44 * CF13,CE13 * $AA44)))","v":""},{"$f":"IF(Süt!$B15=\"\",\"\",IF(Süt!$C15<=0,\"\",CG13*$AA44))","v":""},{"$f":"IF(Süt!$B15=\"\",\"\",IF(Süt!$C15<=0,\"\",IF(AnimalType <> \"Buzağı\",CG13 * $AA44 * CH13,CG13 * $AA44)))","v":""},{"$f":"IF(Süt!$B15=\"\",\"\",IF(Süt!$C15<=0,\"\",CI13*$AA44))","v":""},{"$f":"IF(Süt!$B15=\"\",\"\",IF(Süt!$C15<=0,\"\",IF(AnimalType <> \"Buzağı\",CI13 * $AA44 * CJ13,CI13 * $AA44)))","v":""},{"$f":"IF(Süt!$B15=\"\",\"\",IF(Süt!$C15<=0,\"\",CK13*$AA44))","v":""},{"$f":"IF(Süt!$B15=\"\",\"\",IF(Süt!$C15<=0,\"\",IF(AnimalType <> \"Buzağı\",CK13 * $AA44 * CL13,CK13 * $AA44)))","v":""},{"$f":"IF(Süt!$B15=\"\",\"\",IF(Süt!$C15<=0,\"\",CM13*$AA44))","v":""},{"$f":"IF(Süt!$B15=\"\",\"\",IF(Süt!$C15<=0,\"\",IF(AnimalType <> \"Buzağı\",CM13 * $AA44 * CN13,CM13 * $AA44)))","v":""},null,null,{"$f":"IF(Süt!$B15=\"\",\"\",IF(Süt!$C15<=0,\"\",CQ13*$AA44))","v":""},{"$f":"IF(Süt!$B15=\"\",\"\",IF(Süt!$C15<=0,\"\",CR13*$AA44))","v":""},{"$f":"IF(Süt!$B15=\"\",\"\",IF(Süt!$C15<=0,\"\",CS13*$AA44))","v":""},-26,0.83700000000000052,1.1070000000000004,"Gain1CS",{"$f":"IF(CS_9<=7,CX42-ER_CS,1000000)","v":579.47552252285914},"Mcal, 1 CS kazanmak için gerekli enerji",null,null,null,null,null,null,null,null,null,null,"Enerji Kaynakları"]
[null,{"$f":"Süt!B9","v":"Mısır, Pul Haline Getirilmiş"},{"$f":"ROUND((Süt!C9/Süt!$C$4)*100,2)","v":0},{"$f":"ROUND(Süt!C9,2)","v":0},{"$f":"ROUND(C$34*Süt!C9,2)","v":0},0,0,null,null,null,null,null,null,null,{"$f":"IF(Süt!B16=\"\",\"\",IF(Süt!C16<=0,\"\",Süt!C16))","v":""},"",{"$f":"IF(Süt!$B16=\"\",\"\",IF(Süt!$C16<=0,\"\",IF(MID(AN14,1,9)=\"Calf Feed\",0,(AK45/100)*AA45)))","v":""},{"$f":"IF(Süt!$B16=\"\",\"\",IF(Süt!$C16<=0,\"\",(R14/100)*(AA45*1000)))","v":""},{"$f":"IF(Süt!$B16=\"\",\"\",IF(Süt!$C16<=0,\"\",IF(MID(AN14,1,9)=\"Calf Feed\",0,AK45*Discount)))","v":""},{"$f":"IF(Süt!$B16=\"\",\"\",IF(Süt!$C16<=0,\"\",(S45/100)*(AA45*1000)))","v":""},{"$f":"IF(Süt!$B16=\"\",\"\",IF(Süt!$C16<=0,\"\",Discount*AL45))","v":""},{"$f":"IF(Süt!$B16=\"\",\"\",IF(Süt!$C16<=0,\"\",IF(AP45<0,0,AP45)*AA45))","v":""},null,null,{"$f":"IF(Süt!$B16=\"\",\"\",IF(Süt!$C16<=0,\"\",IF(AR45<0,0,AR45)*AA45))","v":""},{"$f":"IF(Süt!$B16=\"\",\"\",IF(Süt!$C16<=0,\"\",IF(AS45<0,0,AS45)*AA45))","v":""},{"$f":"IF(Süt!$B16=\"\",\"\",IF(Süt!$C16<=0,\"\",$O45*AA14/100))","v":""},{"$f":"IF(Süt!$B16=\"\",\"\",IF(Süt!$C16<=0,\"\",(AB14/ 100) * (AA45 * 1000)))","v":""},{"$f":"IF(Süt!$B16=\"\",\"\",IF(Süt!$C16<=0,\"\",IF(MID(AN14,1,9)<>\"Calf Feed\",IF(AB14 > 0,IF(S14=\"Forage\", EXP((-1.2 * (AE14 / AB14))) * AB14,IF(AN14 = \"Animal Protein\",(AC14 * AB14),(1 - (0.4 * (AE14 / AB14))) * AB14)),0),0)))","v":""},{"$f":"IF(Süt!$B16=\"\",\"\",IF(Süt!$C16<=0,\"\",IF(MID(AN14,1,9)<>\"Calf Feed\",0.98 * (100 - AH14 - AB14 - AF14 - AL14 + AD14) * T14,0)))","v":""},{"$f":"IF(Süt!$B16=\"\",\"\",IF(Süt!$C16<=0,\"\",IF(MID(AN14,1,9)<>\"Calf Feed\",((100 - AH14 - AB14 - AF14 - AL14 + AD14) /100)*AA45,0)))","v":""},{"$f":"IF(Süt!$B16=\"\",\"\",IF(Süt!$C16<=0,\"\",IF(MID(AN14,1,9)=\"Calf Feed\",0,(AF14/100)*AA45)))","v":""},{"$f":"IF(Süt!$B16=\"\",\"\",IF(Süt!$C16<=0,\"\",IF(AN14 = \"Fat and Oil\",IF(S14 = \"Fatty acids\",(AF14 * AG14)*AA45,(10 + ((AF14 - 10) * AG14))*AA45),(AF14 - 1)*AA45)))","v":""},{"$f":"IF(Süt!$B16=\"\",\"\",IF(Süt!$C16<=0,\"\",AH14/100*$AA45))","v":""},{"$f":"IF(Süt!$B16=\"\",\"\",IF(Süt!$C16<=0,\"\",IF(MID(AN14,1,9)<>\"Calf Feed\",IF(AH14 >AD14,AI14*AH14,0),0)))","v":""},{"$f":"IF(Süt!$B16=\"\",\"\",IF(Süt!$C16<=0,\"\",AJ14/100*$AA45))","v":""},{"$f":"IF(Süt!$B16=\"\",\"\",IF(Süt!$C16<=0,\"\",IF(MID(AN14,1,9)<>\"Calf Feed\",IF(AN14=\"Fat and Oil\",IF(S14=\"Fatty acids\",AF14*AG14*2.25,10+(((AF14-10)*AG14*2.25))),IF(AN14=\"Animal Protein\",(AC14*AB14)+((AF14-1)*2.25)+((0.98*(100-AB14-AL14-AF14))-7),IF(AI45>0,AD45+AC45+AO45+AI45-7,IF(AB14>0,((0.98*T14)*(100-AB14-AF14-AL14))+(AB14*(1-(0.4*AE14/AB14)))+((2.25*(AF14-1)-7)),((0.98*T14)*(100-AF14-AL14))+(2.25*(AF14-1)-7))))),AA45)))","v":""},{"$f":"IF(Süt!$B16=\"\",\"\",IF(Süt!$C16<=0,\"\",IF(MID(AN14,1,9)<>\"Calf Feed\",IF(AN14=\"Fat and Oil\",IF(S14=\"Fatty acids\",AF14*AG14*0.094,((AF14-10)*AG14*0.094)+0.43),IF(AN14=\"Animal Protein\",(AD45*0.042)+(AC45*0.056)+(0.094*(AO45/2.25))-0.3,IF(AI45>0,(AD45*0.042)+(AI45*0.042)+(AC45*0.056)+(0.094*(AO45/2.25))-0.3,IF(AB14>0,(0.98*T14*(0.042*(100-AB14-AF14-AL14))+(AB14*(0.056*(1-(0.4*AE14/AB14)))))+(0.094*(AF14-1))-0.3,(0.98*T14)*(0.042*(100-AF14-AL14))+(0.094*(AF14-1))-0.3)))),U14)))","v":""},0,0,{"$f":"IF(Süt!$B16=\"\",\"\",IF(Süt!$C16<=0,\"\",IF(MID(AN14,1,9)<>\"Calf Feed\",IF(AF14 <1,0,(AF14-1)*2.25),0)))","v":""},{"$f":"IF(Süt!$B16=\"\",\"\",IF(Süt!$C16<=0,\"\",IF(AN14 <> \"Fat and Oil\",IF(AF14 >= 3,IF(AnimalType <> \"Damızlık Düve\",(1.01 * U45) - 0.45 + (0.0046 * (AF14 - 3)),0.82 * AL45),IF(AND(AnimalType <> \"Buzağı\",AnimalType <> \"Damızlık Düve\")=TRUE,(1.01 * U45) - 0.45,0.82 * AL45)),U45)))","v":""},{"$f":"IF(Süt!$B16=\"\",\"\",IF(Süt!$C16<=0,\"\",IF(IF(AN14 <> \"Fat and Oil\",IF(AF14 >= 3,(0.703 * AP45) - 0.19 + ((((0.097 * AP45) + 0.19) / 97) * (AF14 - 3)),(0.703 * AP45) - 0.19),0.8*U45)<0,0,IF(AN14 <> \"Fat and Oil\",IF(AF14 >= 3,(0.703 * AP45) - 0.19 + ((((0.097 * AP45) + 0.19) / 97) * (AF14 - 3)),(0.703 * AP45) - 0.19   ),0.8*U45))))","v":""},{"$f":"IF(Süt!$B16=\"\",\"\",IF(Süt!$C16<=0,\"\",IF(MID(AN14,1,9)=\"Calf Feed\",0.75*AA45*V45,IF(IF(AN14 <> \"Fat and Oil\", ((1.37 * 0.82 * AL45) - (0.138 * (0.82 * AL45) ^ 2)+ (0.0105 * (0.82 * AL45) ^ 3) - 1.12),0.8 * U45)<0,0,IF(AN14 <> \"Fat and Oil\", ((1.37 * 0.82 * AL45) - (0.138 * (0.82 * AL45) ^ 2)+ (0.0105 * (0.82 * AL45) ^ 3) - 1.12),0.8 * U45)))))","v":""},{"$f":"IF(Süt!$B16=\"\",\"\",IF(Süt!$C16<=0,\"\",IF(MID(AN14,1,9)=\"Calf Feed\",0.57*AA45*V45,IF(IF(AN14 <> \"Fat and Oil\",((1.42 * 0.82 * AL45) - (0.174 * (0.82 * AL45)^2)+ (0.0122 * (0.82 * AL45)^3) - 1.65),0.55 * U45)<0,0,IF(AN14 <> \"Fat and Oil\",((1.42 * 0.82 * AL45) - (0.174 * (0.82 * AL45)^2)+ (0.0122 * (0.82 * AL45)^3) - 1.65),0.55 * U45)))))","v":""},{"$f":"IF(Süt!$B16=\"\",\"\",IF(Süt!$C16<=0,\"\",IF((AT14+AN45)>0,((AT14/(AT14+AN45))*((((AR14/100)*(AB14/100))*AA45)))+(((AQ14/100)*(AB14/100))*AA45),0)))","v":""},{"$f":"IF(Süt!$B16=\"\",\"\",IF(Süt!$C16<=0,\"\",IF(ISERROR(AB45/1000 - E91)=TRUE,0,AB45/1000 - E91)))","v":""},{"$f":"IF(Süt!$B16=\"\",\"\",IF(Süt!$C16<=0,\"\",IF((AT14+AN45)>0,   IF(BW_DMI<2,  C91,  C91+(BW_DMI-2)*((D91-C91)/2) ),0)))","v":""},{"$f":"IF(Süt!$B16=\"\",\"\",IF(Süt!$C16<=0,\"\",E91*(AW14/100)))","v":""},{"$f":"IF(Süt!$B16=\"\",\"\",IF(Süt!$C16<=0,\"\",IF(AND($AA45 > 0, $AB14 > 0, $AB45 > 0),((($AA45 / TotalDMFed) * ($AB14 / 100) * (($AV45 * 1000) / $AB45)* (AX14 / 100) * TotalDMFed) * 1000),0)))","v":""},{"$f":"IF(Süt!$B16=\"\",\"\",IF(Süt!$C16<=0,\"\",IF(AND($AA45 > 0, $AB14 > 0, $AB45 > 0),((($AA45 / TotalDMFed) * ($AB14 / 100) * (($AV45 * 1000) / $AB45)* (AY14 / 100) * TotalDMFed) * 1000),0)))","v":""},{"$f":"IF(Süt!$B16=\"\",\"\",IF(Süt!$C16<=0,\"\",IF(AND($AA45 > 0, $AB14 > 0, $AB45 > 0),((($AA45 / TotalDMFed) * ($AB14 / 100) * (($AV45 * 1000) / $AB45)* (AZ14 / 100) * TotalDMFed) * 1000),0)))","v":""},{"$f":"IF(Süt!$B16=\"\",\"\",IF(Süt!$C16<=0,\"\",IF(AND($AA45 > 0, $AB14 > 0, $AB45 > 0),((($AA45 / TotalDMFed) * ($AB14 / 100) * (($AV45 * 1000) / $AB45)* (BA14 / 100) * TotalDMFed) * 1000),0)))","v":""},{"$f":"IF(Süt!$B16=\"\",\"\",IF(Süt!$C16<=0,\"\",IF(AND($AA45 > 0, $AB14 > 0, $AB45 > 0),((($AA45 / TotalDMFed) * ($AB14 / 100) * (($AV45 * 1000) / $AB45)* (BB14 / 100) * TotalDMFed) * 1000),0)))","v":""},{"$f":"IF(Süt!$B16=\"\",\"\",IF(Süt!$C16<=0,\"\",IF(AND($AA45 > 0, $AB14 > 0, $AB45 > 0),((($AA45 / TotalDMFed) * ($AB14 / 100) * (($AV45 * 1000) / $AB45)* (BC14 / 100) * TotalDMFed) * 1000),0)))","v":""},{"$f":"IF(Süt!$B16=\"\",\"\",IF(Süt!$C16<=0,\"\",IF(AND($AA45 > 0, $AB14 > 0, $AB45 > 0),((($AA45 / TotalDMFed) * ($AB14 / 100) * (($AV45 * 1000) / $AB45)* (BD14 / 100) * TotalDMFed) * 1000),0)))","v":""},{"$f":"IF(Süt!$B16=\"\",\"\",IF(Süt!$C16<=0,\"\",IF(AND($AA45 > 0, $AB14 > 0, $AB45 > 0),((($AA45 / TotalDMFed) * ($AB14 / 100) * (($AV45 * 1000) / $AB45)* (BE14 / 100) * TotalDMFed) * 1000),0)))","v":""},{"$f":"IF(Süt!$B16=\"\",\"\",IF(Süt!$C16<=0,\"\",IF(AND($AA45 > 0, $AB14 > 0, $AB45 > 0),((($AA45 / TotalDMFed) * ($AB14 / 100) * (($AV45 * 1000) / $AB45)* (BF14 / 100) * TotalDMFed) * 1000),0)))","v":""},{"$f":"IF(Süt!$B16=\"\",\"\",IF(Süt!$C16<=0,\"\",IF(AND($AA45 > 0, $AB14 > 0, $AB45 > 0),((($AA45 / TotalDMFed) * ($AB14 / 100) * (($AV45 * 1000) / $AB45)* (BG14 / 100) * TotalDMFed) * 1000),0)))","v":""},{"$f":"IF(Süt!$B16=\"\",\"\",IF(Süt!$C16<=0,\"\",IF(AND($AA45 > 0, $AB14 > 0, $AB45 > 0),((($AA45 / TotalDMFed) * ($AB14 / 100) * (($AV45 * 1000) / $AB45)* (BH14 / 100) * TotalDMFed) * 1000),0)))","v":""},{"$f":"IF(Süt!$B16=\"\",\"\",IF(Süt!$C16<=0,\"\",IF(AnimalType=\"Buzağı\",IF(P14=\"BUZAĞI BAŞLANGIÇ YEMİ\",AA45,0),0)))","v":""},{"$f":"IF(Süt!$B16=\"\",\"\",IF(Süt!$C16<=0,\"\",IF(AnimalType=\"Buzağı\",IF(AN14=\"Calf Feed-Milk\",AA45,0),0)))","v":""},{"$f":"IF(Süt!$B16=\"\",\"\",IF(Süt!$C16<=0,\"\",IF(AnimalType=\"Buzağı\",IF(P14=\"BUZAĞI BAŞLANGIÇ YEMİ\",0,AA45),0)))","v":""},{"$f":"IF(Süt!$B16=\"\",\"\",IF(Süt!$C16<=0,\"\",IF(S14=\"Forage\",AH45,0)))","v":""},{"$f":"IF(Süt!$B16=\"\",\"\",IF(Süt!$C16<=0,\"\",BM14/100*$AA45))","v":""},{"$f":"IF(Süt!$B16=\"\",\"\",IF(Süt!$C16<=0,\"\",IF(AnimalType <> \"Buzağı\",((BM14 / 100) * $AA45) * BN14,((BM14 / 100) * $AA45))))","v":""},{"$f":"IF(Süt!$B16=\"\",\"\",IF(Süt!$C16<=0,\"\",BO14/100*$AA45))","v":""},{"$f":"IF(Süt!$B16=\"\",\"\",IF(Süt!$C16<=0,\"\",IF(AnimalType <> \"Buzağı\",((BO14 / 100) * $AA45) * BP14,((BO14 / 100) * $AA45))))","v":""},{"$f":"IF(Süt!$B16=\"\",\"\",IF(Süt!$C16<=0,\"\",BQ14/100*$AA45))","v":""},{"$f":"IF(Süt!$B16=\"\",\"\",IF(Süt!$C16<=0,\"\",IF(AnimalType <> \"Buzağı\",((BQ14 / 100) * $AA45) * BR14,((BQ14 / 100) * $AA45))))","v":""},{"$f":"IF(Süt!$B16=\"\",\"\",IF(Süt!$C16<=0,\"\",BS14/100*$AA45))","v":""},{"$f":"IF(Süt!$B16=\"\",\"\",IF(Süt!$C16<=0,\"\",IF(AnimalType <> \"Buzağı\",((BS14 / 100) * $AA45) * BT14,((BS14 / 100) * $AA45))))","v":""},{"$f":"IF(Süt!$B16=\"\",\"\",IF(Süt!$C16<=0,\"\",BU14/100*$AA45))","v":""},{"$f":"IF(Süt!$B16=\"\",\"\",IF(Süt!$C16<=0,\"\",IF(AnimalType <> \"Buzağı\",((BU14 / 100) * $AA45) * BV14,((BU14 / 100) * $AA45))))","v":""},{"$f":"IF(Süt!$B16=\"\",\"\",IF(Süt!$C16<=0,\"\",BW14/100*$AA45))","v":""},{"$f":"IF(Süt!$B16=\"\",\"\",IF(Süt!$C16<=0,\"\",IF(AnimalType <> \"Buzağı\",((BW14 / 100) * $AA45) * BX14,((BW14 / 100) * $AA45))))","v":""},{"$f":"IF(Süt!$B16=\"\",\"\",IF(Süt!$C16<=0,\"\",BY14/100*$AA45))","v":""},{"$f":"IF(Süt!$B16=\"\",\"\",IF(Süt!$C16<=0,\"\",IF(AnimalType <> \"Buzağı\",((BY14 / 100) * $AA45) * BZ14,((BY14 / 100) * $AA45))))","v":""},{"$f":"IF(Süt!$B16=\"\",\"\",IF(Süt!$C16<=0,\"\",CA14*$AA45))","v":""},{"$f":"IF(Süt!$B16=\"\",\"\",IF(Süt!$C16<=0,\"\",IF(AnimalType <> \"Buzağı\",CA14 * $AA45 * CB14,CA14 * $AA45)))","v":""},{"$f":"IF(Süt!$B16=\"\",\"\",IF(Süt!$C16<=0,\"\",CC14*$AA45))","v":""},{"$f":"IF(Süt!$B16=\"\",\"\",IF(Süt!$C16<=0,\"\",IF(AnimalType <> \"Buzağı\",CC14 * $AA45 * CD14,CC14 * $AA45)))","v":""},{"$f":"IF(Süt!$B16=\"\",\"\",IF(Süt!$C16<=0,\"\",CE14*$AA45))","v":""},{"$f":"IF(Süt!$B16=\"\",\"\",IF(Süt!$C16<=0,\"\",IF(AnimalType <> \"Buzağı\",CE14 * $AA45 * CF14,CE14 * $AA45)))","v":""},{"$f":"IF(Süt!$B16=\"\",\"\",IF(Süt!$C16<=0,\"\",CG14*$AA45))","v":""},{"$f":"IF(Süt!$B16=\"\",\"\",IF(Süt!$C16<=0,\"\",IF(AnimalType <> \"Buzağı\",CG14 * $AA45 * CH14,CG14 * $AA45)))","v":""},{"$f":"IF(Süt!$B16=\"\",\"\",IF(Süt!$C16<=0,\"\",CI14*$AA45))","v":""},{"$f":"IF(Süt!$B16=\"\",\"\",IF(Süt!$C16<=0,\"\",IF(AnimalType <> \"Buzağı\",CI14 * $AA45 * CJ14,CI14 * $AA45)))","v":""},{"$f":"IF(Süt!$B16=\"\",\"\",IF(Süt!$C16<=0,\"\",CK14*$AA45))","v":""},{"$f":"IF(Süt!$B16=\"\",\"\",IF(Süt!$C16<=0,\"\",IF(AnimalType <> \"Buzağı\",CK14 * $AA45 * CL14,CK14 * $AA45)))","v":""},{"$f":"IF(Süt!$B16=\"\",\"\",IF(Süt!$C16<=0,\"\",CM14*$AA45))","v":""},{"$f":"IF(Süt!$B16=\"\",\"\",IF(Süt!$C16<=0,\"\",IF(AnimalType <> \"Buzağı\",CM14 * $AA45 * CN14,CM14 * $AA45)))","v":""},null,null,{"$f":"IF(Süt!$B16=\"\",\"\",IF(Süt!$C16<=0,\"\",CQ14*$AA45))","v":""},{"$f":"IF(Süt!$B16=\"\",\"\",IF(Süt!$C16<=0,\"\",CR14*$AA45))","v":""},{"$f":"IF(Süt!$B16=\"\",\"\",IF(Süt!$C16<=0,\"\",CS14*$AA45))","v":""},-27,0.86400000000000055,1.1340000000000003,"NElSub",{"$f":"IF(CS_9>=3, 0.82 * Lose1CS, 0.82 * (ER_CS - CY41))","v":399.48717012003567},"amount of retained energy that will be substituted for dietary NEl in order to lose one condition score (Mcal)",null,null,null,null,null,null,null,null,null,null,"Protein Kaynakları"]
[null,{"$f":"Süt!B10","v":"Pamuk Tohumu Küspesi, Pres, %25 HP"},{"$f":"ROUND((Süt!C10/Süt!$C$4)*100,2)","v":0},{"$f":"ROUND(Süt!C10,2)","v":0},{"$f":"ROUND(C$34*Süt!C10,2)","v":0},0,0,null,null,null,null,null,null,null,{"$f":"IF(Süt!B17=\"\",\"\",IF(Süt!C17<=0,\"\",Süt!C17))","v":""},"",{"$f":"IF(Süt!$B17=\"\",\"\",IF(Süt!$C17<=0,\"\",IF(MID(AN15,1,9)=\"Calf Feed\",0,(AK46/100)*AA46)))","v":""},{"$f":"IF(Süt!$B17=\"\",\"\",IF(Süt!$C17<=0,\"\",(R15/100)*(AA46*1000)))","v":""},{"$f":"IF(Süt!$B17=\"\",\"\",IF(Süt!$C17<=0,\"\",IF(MID(AN15,1,9)=\"Calf Feed\",0,AK46*Discount)))","v":""},{"$f":"IF(Süt!$B17=\"\",\"\",IF(Süt!$C17<=0,\"\",(S46/100)*(AA46*1000)))","v":""},{"$f":"IF(Süt!$B17=\"\",\"\",IF(Süt!$C17<=0,\"\",Discount*AL46))","v":""},{"$f":"IF(Süt!$B17=\"\",\"\",IF(Süt!$C17<=0,\"\",IF(AP46<0,0,AP46)*AA46))","v":""},null,null,{"$f":"IF(Süt!$B17=\"\",\"\",IF(Süt!$C17<=0,\"\",IF(AR46<0,0,AR46)*AA46))","v":""},{"$f":"IF(Süt!$B17=\"\",\"\",IF(Süt!$C17<=0,\"\",IF(AS46<0,0,AS46)*AA46))","v":""},{"$f":"IF(Süt!$B17=\"\",\"\",IF(Süt!$C17<=0,\"\",$O46*AA15/100))","v":""},{"$f":"IF(Süt!$B17=\"\",\"\",IF(Süt!$C17<=0,\"\",(AB15/ 100) * (AA46 * 1000)))","v":""},{"$f":"IF(Süt!$B17=\"\",\"\",IF(Süt!$C17<=0,\"\",IF(MID(AN15,1,9)<>\"Calf Feed\",IF(AB15 > 0,IF(S15=\"Forage\", EXP((-1.2 * (AE15 / AB15))) * AB15,IF(AN15 = \"Animal Protein\",(AC15 * AB15),(1 - (0.4 * (AE15 / AB15))) * AB15)),0),0)))","v":""},{"$f":"IF(Süt!$B17=\"\",\"\",IF(Süt!$C17<=0,\"\",IF(MID(AN15,1,9)<>\"Calf Feed\",0.98 * (100 - AH15 - AB15 - AF15 - AL15 + AD15) * T15,0)))","v":""},{"$f":"IF(Süt!$B17=\"\",\"\",IF(Süt!$C17<=0,\"\",IF(MID(AN15,1,9)<>\"Calf Feed\",((100 - AH15 - AB15 - AF15 - AL15 + AD15) /100)*AA46,0)))","v":""},{"$f":"IF(Süt!$B17=\"\",\"\",IF(Süt!$C17<=0,\"\",IF(MID(AN15,1,9)=\"Calf Feed\",0,(AF15/100)*AA46)))","v":""},{"$f":"IF(Süt!$B17=\"\",\"\",IF(Süt!$C17<=0,\"\",IF(AN15 = \"Fat and Oil\",IF(S15 = \"Fatty acids\",(AF15 * AG15)*AA46,(10 + ((AF15 - 10) * AG15))*AA46),(AF15 - 1)*AA46)))","v":""},{"$f":"IF(Süt!$B17=\"\",\"\",IF(Süt!$C17<=0,\"\",AH15/100*$AA46))","v":""},{"$f":"IF(Süt!$B17=\"\",\"\",IF(Süt!$C17<=0,\"\",IF(MID(AN15,1,9)<>\"Calf Feed\",IF(AH15 >AD15,AI15*AH15,0),0)))","v":""},{"$f":"IF(Süt!$B17=\"\",\"\",IF(Süt!$C17<=0,\"\",AJ15/100*$AA46))","v":""},{"$f":"IF(Süt!$B17=\"\",\"\",IF(Süt!$C17<=0,\"\",IF(MID(AN15,1,9)<>\"Calf Feed\",IF(AN15=\"Fat and Oil\",IF(S15=\"Fatty acids\",AF15*AG15*2.25,10+(((AF15-10)*AG15*2.25))),IF(AN15=\"Animal Protein\",(AC15*AB15)+((AF15-1)*2.25)+((0.98*(100-AB15-AL15-AF15))-7),IF(AI46>0,AD46+AC46+AO46+AI46-7,IF(AB15>0,((0.98*T15)*(100-AB15-AF15-AL15))+(AB15*(1-(0.4*AE15/AB15)))+((2.25*(AF15-1)-7)),((0.98*T15)*(100-AF15-AL15))+(2.25*(AF15-1)-7))))),AA46)))","v":""},{"$f":"IF(Süt!$B17=\"\",\"\",IF(Süt!$C17<=0,\"\",IF(MID(AN15,1,9)<>\"Calf Feed\",IF(AN15=\"Fat and Oil\",IF(S15=\"Fatty acids\",AF15*AG15*0.094,((AF15-10)*AG15*0.094)+0.43),IF(AN15=\"Animal Protein\",(AD46*0.042)+(AC46*0.056)+(0.094*(AO46/2.25))-0.3,IF(AI46>0,(AD46*0.042)+(AI46*0.042)+(AC46*0.056)+(0.094*(AO46/2.25))-0.3,IF(AB15>0,(0.98*T15*(0.042*(100-AB15-AF15-AL15))+(AB15*(0.056*(1-(0.4*AE15/AB15)))))+(0.094*(AF15-1))-0.3,(0.98*T15)*(0.042*(100-AF15-AL15))+(0.094*(AF15-1))-0.3)))),U15)))","v":""},0,0,{"$f":"IF(Süt!$B17=\"\",\"\",IF(Süt!$C17<=0,\"\",IF(MID(AN15,1,9)<>\"Calf Feed\",IF(AF15 <1,0,(AF15-1)*2.25),0)))","v":""},{"$f":"IF(Süt!$B17=\"\",\"\",IF(Süt!$C17<=0,\"\",IF(AN15 <> \"Fat and Oil\",IF(AF15 >= 3,IF(AnimalType <> \"Damızlık Düve\",(1.01 * U46) - 0.45 + (0.0046 * (AF15 - 3)),0.82 * AL46),IF(AND(AnimalType <> \"Buzağı\",AnimalType <> \"Damızlık Düve\")=TRUE,(1.01 * U46) - 0.45,0.82 * AL46)),U46)))","v":""},{"$f":"IF(Süt!$B17=\"\",\"\",IF(Süt!$C17<=0,\"\",IF(IF(AN15 <> \"Fat and Oil\",IF(AF15 >= 3,(0.703 * AP46) - 0.19 + ((((0.097 * AP46) + 0.19) / 97) * (AF15 - 3)),(0.703 * AP46) - 0.19),0.8*U46)<0,0,IF(AN15 <> \"Fat and Oil\",IF(AF15 >= 3,(0.703 * AP46) - 0.19 + ((((0.097 * AP46) + 0.19) / 97) * (AF15 - 3)),(0.703 * AP46) - 0.19   ),0.8*U46))))","v":""},{"$f":"IF(Süt!$B17=\"\",\"\",IF(Süt!$C17<=0,\"\",IF(MID(AN15,1,9)=\"Calf Feed\",0.75*AA46*V46,IF(IF(AN15 <> \"Fat and Oil\", ((1.37 * 0.82 * AL46) - (0.138 * (0.82 * AL46) ^ 2)+ (0.0105 * (0.82 * AL46) ^ 3) - 1.12),0.8 * U46)<0,0,IF(AN15 <> \"Fat and Oil\", ((1.37 * 0.82 * AL46) - (0.138 * (0.82 * AL46) ^ 2)+ (0.0105 * (0.82 * AL46) ^ 3) - 1.12),0.8 * U46)))))","v":""},{"$f":"IF(Süt!$B17=\"\",\"\",IF(Süt!$C17<=0,\"\",IF(MID(AN15,1,9)=\"Calf Feed\",0.57*AA46*V46,IF(IF(AN15 <> \"Fat and Oil\",((1.42 * 0.82 * AL46) - (0.174 * (0.82 * AL46)^2)+ (0.0122 * (0.82 * AL46)^3) - 1.65),0.55 * U46)<0,0,IF(AN15 <> \"Fat and Oil\",((1.42 * 0.82 * AL46) - (0.174 * (0.82 * AL46)^2)+ (0.0122 * (0.82 * AL46)^3) - 1.65),0.55 * U46)))))","v":""},{"$f":"IF(Süt!$B17=\"\",\"\",IF(Süt!$C17<=0,\"\",IF((AT15+AN46)>0,((AT15/(AT15+AN46))*((((AR15/100)*(AB15/100))*AA46)))+(((AQ15/100)*(AB15/100))*AA46),0)))","v":""},{"$f":"IF(Süt!$B17=\"\",\"\",IF(Süt!$C17<=0,\"\",IF(ISERROR(AB46/1000 - E92)=TRUE,0,AB46/1000 - E92)))","v":""},{"$f":"IF(Süt!$B17=\"\",\"\",IF(Süt!$C17<=0,\"\",IF((AT15+AN46)>0,   IF(BW_DMI<2,  C92,  C92+(BW_DMI-2)*((D92-C92)/2) ),0)))","v":""},{"$f":"IF(Süt!$B17=\"\",\"\",IF(Süt!$C17<=0,\"\",E92*(AW15/100)))","v":""},{"$f":"IF(Süt!$B17=\"\",\"\",IF(Süt!$C17<=0,\"\",IF(AND($AA46 > 0, $AB15 > 0, $AB46 > 0),((($AA46 / TotalDMFed) * ($AB15 / 100) * (($AV46 * 1000) / $AB46)* (AX15 / 100) * TotalDMFed) * 1000),0)))","v":""},{"$f":"IF(Süt!$B17=\"\",\"\",IF(Süt!$C17<=0,\"\",IF(AND($AA46 > 0, $AB15 > 0, $AB46 > 0),((($AA46 / TotalDMFed) * ($AB15 / 100) * (($AV46 * 1000) / $AB46)* (AY15 / 100) * TotalDMFed) * 1000),0)))","v":""},{"$f":"IF(Süt!$B17=\"\",\"\",IF(Süt!$C17<=0,\"\",IF(AND($AA46 > 0, $AB15 > 0, $AB46 > 0),((($AA46 / TotalDMFed) * ($AB15 / 100) * (($AV46 * 1000) / $AB46)* (AZ15 / 100) * TotalDMFed) * 1000),0)))","v":""},{"$f":"IF(Süt!$B17=\"\",\"\",IF(Süt!$C17<=0,\"\",IF(AND($AA46 > 0, $AB15 > 0, $AB46 > 0),((($AA46 / TotalDMFed) * ($AB15 / 100) * (($AV46 * 1000) / $AB46)* (BA15 / 100) * TotalDMFed) * 1000),0)))","v":""},{"$f":"IF(Süt!$B17=\"\",\"\",IF(Süt!$C17<=0,\"\",IF(AND($AA46 > 0, $AB15 > 0, $AB46 > 0),((($AA46 / TotalDMFed) * ($AB15 / 100) * (($AV46 * 1000) / $AB46)* (BB15 / 100) * TotalDMFed) * 1000),0)))","v":""},{"$f":"IF(Süt!$B17=\"\",\"\",IF(Süt!$C17<=0,\"\",IF(AND($AA46 > 0, $AB15 > 0, $AB46 > 0),((($AA46 / TotalDMFed) * ($AB15 / 100) * (($AV46 * 1000) / $AB46)* (BC15 / 100) * TotalDMFed) * 1000),0)))","v":""},{"$f":"IF(Süt!$B17=\"\",\"\",IF(Süt!$C17<=0,\"\",IF(AND($AA46 > 0, $AB15 > 0, $AB46 > 0),((($AA46 / TotalDMFed) * ($AB15 / 100) * (($AV46 * 1000) / $AB46)* (BD15 / 100) * TotalDMFed) * 1000),0)))","v":""},{"$f":"IF(Süt!$B17=\"\",\"\",IF(Süt!$C17<=0,\"\",IF(AND($AA46 > 0, $AB15 > 0, $AB46 > 0),((($AA46 / TotalDMFed) * ($AB15 / 100) * (($AV46 * 1000) / $AB46)* (BE15 / 100) * TotalDMFed) * 1000),0)))","v":""},{"$f":"IF(Süt!$B17=\"\",\"\",IF(Süt!$C17<=0,\"\",IF(AND($AA46 > 0, $AB15 > 0, $AB46 > 0),((($AA46 / TotalDMFed) * ($AB15 / 100) * (($AV46 * 1000) / $AB46)* (BF15 / 100) * TotalDMFed) * 1000),0)))","v":""},{"$f":"IF(Süt!$B17=\"\",\"\",IF(Süt!$C17<=0,\"\",IF(AND($AA46 > 0, $AB15 > 0, $AB46 > 0),((($AA46 / TotalDMFed) * ($AB15 / 100) * (($AV46 * 1000) / $AB46)* (BG15 / 100) * TotalDMFed) * 1000),0)))","v":""},{"$f":"IF(Süt!$B17=\"\",\"\",IF(Süt!$C17<=0,\"\",IF(AND($AA46 > 0, $AB15 > 0, $AB46 > 0),((($AA46 / TotalDMFed) * ($AB15 / 100) * (($AV46 * 1000) / $AB46)* (BH15 / 100) * TotalDMFed) * 1000),0)))","v":""},{"$f":"IF(Süt!$B17=\"\",\"\",IF(Süt!$C17<=0,\"\",IF(AnimalType=\"Buzağı\",IF(P15=\"BUZAĞI BAŞLANGIÇ YEMİ\",AA46,0),0)))","v":""},{"$f":"IF(Süt!$B17=\"\",\"\",IF(Süt!$C17<=0,\"\",IF(AnimalType=\"Buzağı\",IF(AN15=\"Calf Feed-Milk\",AA46,0),0)))","v":""},{"$f":"IF(Süt!$B17=\"\",\"\",IF(Süt!$C17<=0,\"\",IF(AnimalType=\"Buzağı\",IF(P15=\"BUZAĞI BAŞLANGIÇ YEMİ\",0,AA46),0)))","v":""},{"$f":"IF(Süt!$B17=\"\",\"\",IF(Süt!$C17<=0,\"\",IF(S15=\"Forage\",AH46,0)))","v":""},{"$f":"IF(Süt!$B17=\"\",\"\",IF(Süt!$C17<=0,\"\",BM15/100*$AA46))","v":""},{"$f":"IF(Süt!$B17=\"\",\"\",IF(Süt!$C17<=0,\"\",IF(AnimalType <> \"Buzağı\",((BM15 / 100) * $AA46) * BN15,((BM15 / 100) * $AA46))))","v":""},{"$f":"IF(Süt!$B17=\"\",\"\",IF(Süt!$C17<=0,\"\",BO15/100*$AA46))","v":""},{"$f":"IF(Süt!$B17=\"\",\"\",IF(Süt!$C17<=0,\"\",IF(AnimalType <> \"Buzağı\",((BO15 / 100) * $AA46) * BP15,((BO15 / 100) * $AA46))))","v":""},{"$f":"IF(Süt!$B17=\"\",\"\",IF(Süt!$C17<=0,\"\",BQ15/100*$AA46))","v":""},{"$f":"IF(Süt!$B17=\"\",\"\",IF(Süt!$C17<=0,\"\",IF(AnimalType <> \"Buzağı\",((BQ15 / 100) * $AA46) * BR15,((BQ15 / 100) * $AA46))))","v":""},{"$f":"IF(Süt!$B17=\"\",\"\",IF(Süt!$C17<=0,\"\",BS15/100*$AA46))","v":""},{"$f":"IF(Süt!$B17=\"\",\"\",IF(Süt!$C17<=0,\"\",IF(AnimalType <> \"Buzağı\",((BS15 / 100) * $AA46) * BT15,((BS15 / 100) * $AA46))))","v":""},{"$f":"IF(Süt!$B17=\"\",\"\",IF(Süt!$C17<=0,\"\",BU15/100*$AA46))","v":""},{"$f":"IF(Süt!$B17=\"\",\"\",IF(Süt!$C17<=0,\"\",IF(AnimalType <> \"Buzağı\",((BU15 / 100) * $AA46) * BV15,((BU15 / 100) * $AA46))))","v":""},{"$f":"IF(Süt!$B17=\"\",\"\",IF(Süt!$C17<=0,\"\",BW15/100*$AA46))","v":""},{"$f":"IF(Süt!$B17=\"\",\"\",IF(Süt!$C17<=0,\"\",IF(AnimalType <> \"Buzağı\",((BW15 / 100) * $AA46) * BX15,((BW15 / 100) * $AA46))))","v":""},{"$f":"IF(Süt!$B17=\"\",\"\",IF(Süt!$C17<=0,\"\",BY15/100*$AA46))","v":""},{"$f":"IF(Süt!$B17=\"\",\"\",IF(Süt!$C17<=0,\"\",IF(AnimalType <> \"Buzağı\",((BY15 / 100) * $AA46) * BZ15,((BY15 / 100) * $AA46))))","v":""},{"$f":"IF(Süt!$B17=\"\",\"\",IF(Süt!$C17<=0,\"\",CA15*$AA46))","v":""},{"$f":"IF(Süt!$B17=\"\",\"\",IF(Süt!$C17<=0,\"\",IF(AnimalType <> \"Buzağı\",CA15 * $AA46 * CB15,CA15 * $AA46)))","v":""},{"$f":"IF(Süt!$B17=\"\",\"\",IF(Süt!$C17<=0,\"\",CC15*$AA46))","v":""},{"$f":"IF(Süt!$B17=\"\",\"\",IF(Süt!$C17<=0,\"\",IF(AnimalType <> \"Buzağı\",CC15 * $AA46 * CD15,CC15 * $AA46)))","v":""},{"$f":"IF(Süt!$B17=\"\",\"\",IF(Süt!$C17<=0,\"\",CE15*$AA46))","v":""},{"$f":"IF(Süt!$B17=\"\",\"\",IF(Süt!$C17<=0,\"\",IF(AnimalType <> \"Buzağı\",CE15 * $AA46 * CF15,CE15 * $AA46)))","v":""},{"$f":"IF(Süt!$B17=\"\",\"\",IF(Süt!$C17<=0,\"\",CG15*$AA46))","v":""},{"$f":"IF(Süt!$B17=\"\",\"\",IF(Süt!$C17<=0,\"\",IF(AnimalType <> \"Buzağı\",CG15 * $AA46 * CH15,CG15 * $AA46)))","v":""},{"$f":"IF(Süt!$B17=\"\",\"\",IF(Süt!$C17<=0,\"\",CI15*$AA46))","v":""},{"$f":"IF(Süt!$B17=\"\",\"\",IF(Süt!$C17<=0,\"\",IF(AnimalType <> \"Buzağı\",CI15 * $AA46 * CJ15,CI15 * $AA46)))","v":""},{"$f":"IF(Süt!$B17=\"\",\"\",IF(Süt!$C17<=0,\"\",CK15*$AA46))","v":""},{"$f":"IF(Süt!$B17=\"\",\"\",IF(Süt!$C17<=0,\"\",IF(AnimalType <> \"Buzağı\",CK15 * $AA46 * CL15,CK15 * $AA46)))","v":""},{"$f":"IF(Süt!$B17=\"\",\"\",IF(Süt!$C17<=0,\"\",CM15*$AA46))","v":""},{"$f":"IF(Süt!$B17=\"\",\"\",IF(Süt!$C17<=0,\"\",IF(AnimalType <> \"Buzağı\",CM15 * $AA46 * CN15,CM15 * $AA46)))","v":""},null,null,{"$f":"IF(Süt!$B17=\"\",\"\",IF(Süt!$C17<=0,\"\",CQ15*$AA46))","v":""},{"$f":"IF(Süt!$B17=\"\",\"\",IF(Süt!$C17<=0,\"\",CR15*$AA46))","v":""},{"$f":"IF(Süt!$B17=\"\",\"\",IF(Süt!$C17<=0,\"\",CS15*$AA46))","v":""},-28,0.89100000000000057,1.1610000000000003,"NElReq",{"$f":"IF(CS_9<=7,(0.644/0.75)*Gain1CS,(0.644/0.75)*(CY42-ER_CS))","v":497.57631533962837},"amount of energy dietary NEl will supply in order to gain one condition score (Mcal)",null,null,null,null,null,null,null,null,null,null,"Yan Ürünler"]
[null,{"$f":"Süt!B11","v":"Soya Küspesi, Solvent, %44"},{"$f":"ROUND((Süt!C11/Süt!$C$4)*100,2)","v":4.43},{"$f":"ROUND(Süt!C11,2)","v":1.75},{"$f":"ROUND(C$34*Süt!C11,2)","v":35.07},0.875,17.5,null,null,null,null,null,null,null,{"$f":"IF(Süt!B18=\"\",\"\",IF(Süt!C18<=0,\"\",Süt!C18))","v":""},"",{"$f":"IF(Süt!$B18=\"\",\"\",IF(Süt!$C18<=0,\"\",IF(MID(AN16,1,9)=\"Calf Feed\",0,(AK47/100)*AA47)))","v":""},{"$f":"IF(Süt!$B18=\"\",\"\",IF(Süt!$C18<=0,\"\",(R16/100)*(AA47*1000)))","v":""},{"$f":"IF(Süt!$B18=\"\",\"\",IF(Süt!$C18<=0,\"\",IF(MID(AN16,1,9)=\"Calf Feed\",0,AK47*Discount)))","v":""},{"$f":"IF(Süt!$B18=\"\",\"\",IF(Süt!$C18<=0,\"\",(S47/100)*(AA47*1000)))","v":""},{"$f":"IF(Süt!$B18=\"\",\"\",IF(Süt!$C18<=0,\"\",Discount*AL47))","v":""},{"$f":"IF(Süt!$B18=\"\",\"\",IF(Süt!$C18<=0,\"\",IF(AP47<0,0,AP47)*AA47))","v":""},null,null,{"$f":"IF(Süt!$B18=\"\",\"\",IF(Süt!$C18<=0,\"\",IF(AR47<0,0,AR47)*AA47))","v":""},{"$f":"IF(Süt!$B18=\"\",\"\",IF(Süt!$C18<=0,\"\",IF(AS47<0,0,AS47)*AA47))","v":""},{"$f":"IF(Süt!$B18=\"\",\"\",IF(Süt!$C18<=0,\"\",$O47*AA16/100))","v":""},{"$f":"IF(Süt!$B18=\"\",\"\",IF(Süt!$C18<=0,\"\",(AB16/ 100) * (AA47 * 1000)))","v":""},{"$f":"IF(Süt!$B18=\"\",\"\",IF(Süt!$C18<=0,\"\",IF(MID(AN16,1,9)<>\"Calf Feed\",IF(AB16 > 0,IF(S16=\"Forage\", EXP((-1.2 * (AE16 / AB16))) * AB16,IF(AN16 = \"Animal Protein\",(AC16 * AB16),(1 - (0.4 * (AE16 / AB16))) * AB16)),0),0)))","v":""},{"$f":"IF(Süt!$B18=\"\",\"\",IF(Süt!$C18<=0,\"\",IF(MID(AN16,1,9)<>\"Calf Feed\",0.98 * (100 - AH16 - AB16 - AF16 - AL16 + AD16) * T16,0)))","v":""},{"$f":"IF(Süt!$B18=\"\",\"\",IF(Süt!$C18<=0,\"\",IF(MID(AN16,1,9)<>\"Calf Feed\",((100 - AH16 - AB16 - AF16 - AL16 + AD16) /100)*AA47,0)))","v":""},{"$f":"IF(Süt!$B18=\"\",\"\",IF(Süt!$C18<=0,\"\",IF(MID(AN16,1,9)=\"Calf Feed\",0,(AF16/100)*AA47)))","v":""},{"$f":"IF(Süt!$B18=\"\",\"\",IF(Süt!$C18<=0,\"\",IF(AN16 = \"Fat and Oil\",IF(S16 = \"Fatty acids\",(AF16 * AG16)*AA47,(10 + ((AF16 - 10) * AG16))*AA47),(AF16 - 1)*AA47)))","v":""},{"$f":"IF(Süt!$B18=\"\",\"\",IF(Süt!$C18<=0,\"\",AH16/100*$AA47))","v":""},{"$f":"IF(Süt!$B18=\"\",\"\",IF(Süt!$C18<=0,\"\",IF(MID(AN16,1,9)<>\"Calf Feed\",IF(AH16 >AD16,AI16*AH16,0),0)))","v":""},{"$f":"IF(Süt!$B18=\"\",\"\",IF(Süt!$C18<=0,\"\",AJ16/100*$AA47))","v":""},{"$f":"IF(Süt!$B18=\"\",\"\",IF(Süt!$C18<=0,\"\",IF(MID(AN16,1,9)<>\"Calf Feed\",IF(AN16=\"Fat and Oil\",IF(S16=\"Fatty acids\",AF16*AG16*2.25,10+(((AF16-10)*AG16*2.25))),IF(AN16=\"Animal Protein\",(AC16*AB16)+((AF16-1)*2.25)+((0.98*(100-AB16-AL16-AF16))-7),IF(AI47>0,AD47+AC47+AO47+AI47-7,IF(AB16>0,((0.98*T16)*(100-AB16-AF16-AL16))+(AB16*(1-(0.4*AE16/AB16)))+((2.25*(AF16-1)-7)),((0.98*T16)*(100-AF16-AL16))+(2.25*(AF16-1)-7))))),AA47)))","v":""},{"$f":"IF(Süt!$B18=\"\",\"\",IF(Süt!$C18<=0,\"\",IF(MID(AN16,1,9)<>\"Calf Feed\",IF(AN16=\"Fat and Oil\",IF(S16=\"Fatty acids\",AF16*AG16*0.094,((AF16-10)*AG16*0.094)+0.43),IF(AN16=\"Animal Protein\",(AD47*0.042)+(AC47*0.056)+(0.094*(AO47/2.25))-0.3,IF(AI47>0,(AD47*0.042)+(AI47*0.042)+(AC47*0.056)+(0.094*(AO47/2.25))-0.3,IF(AB16>0,(0.98*T16*(0.042*(100-AB16-AF16-AL16))+(AB16*(0.056*(1-(0.4*AE16/AB16)))))+(0.094*(AF16-1))-0.3,(0.98*T16)*(0.042*(100-AF16-AL16))+(0.094*(AF16-1))-0.3)))),U16)))","v":""},0,0,{"$f":"IF(Süt!$B18=\"\",\"\",IF(Süt!$C18<=0,\"\",IF(MID(AN16,1,9)<>\"Calf Feed\",IF(AF16 <1,0,(AF16-1)*2.25),0)))","v":""},{"$f":"IF(Süt!$B18=\"\",\"\",IF(Süt!$C18<=0,\"\",IF(AN16 <> \"Fat and Oil\",IF(AF16 >= 3,IF(AnimalType <> \"Damızlık Düve\",(1.01 * U47) - 0.45 + (0.0046 * (AF16 - 3)),0.82 * AL47),IF(AND(AnimalType <> \"Buzağı\",AnimalType <> \"Damızlık Düve\")=TRUE,(1.01 * U47) - 0.45,0.82 * AL47)),U47)))","v":""},{"$f":"IF(Süt!$B18=\"\",\"\",IF(Süt!$C18<=0,\"\",IF(IF(AN16 <> \"Fat and Oil\",IF(AF16 >= 3,(0.703 * AP47) - 0.19 + ((((0.097 * AP47) + 0.19) / 97) * (AF16 - 3)),(0.703 * AP47) - 0.19),0.8*U47)<0,0,IF(AN16 <> \"Fat and Oil\",IF(AF16 >= 3,(0.703 * AP47) - 0.19 + ((((0.097 * AP47) + 0.19) / 97) * (AF16 - 3)),(0.703 * AP47) - 0.19   ),0.8*U47))))","v":""},{"$f":"IF(Süt!$B18=\"\",\"\",IF(Süt!$C18<=0,\"\",IF(MID(AN16,1,9)=\"Calf Feed\",0.75*AA47*V47,IF(IF(AN16 <> \"Fat and Oil\", ((1.37 * 0.82 * AL47) - (0.138 * (0.82 * AL47) ^ 2)+ (0.0105 * (0.82 * AL47) ^ 3) - 1.12),0.8 * U47)<0,0,IF(AN16 <> \"Fat and Oil\", ((1.37 * 0.82 * AL47) - (0.138 * (0.82 * AL47) ^ 2)+ (0.0105 * (0.82 * AL47) ^ 3) - 1.12),0.8 * U47)))))","v":""},{"$f":"IF(Süt!$B18=\"\",\"\",IF(Süt!$C18<=0,\"\",IF(MID(AN16,1,9)=\"Calf Feed\",0.57*AA47*V47,IF(IF(AN16 <> \"Fat and Oil\",((1.42 * 0.82 * AL47) - (0.174 * (0.82 * AL47)^2)+ (0.0122 * (0.82 * AL47)^3) - 1.65),0.55 * U47)<0,0,IF(AN16 <> \"Fat and Oil\",((1.42 * 0.82 * AL47) - (0.174 * (0.82 * AL47)^2)+ (0.0122 * (0.82 * AL47)^3) - 1.65),0.55 * U47)))))","v":""},{"$f":"IF(Süt!$B18=\"\",\"\",IF(Süt!$C18<=0,\"\",IF((AT16+AN47)>0,((AT16/(AT16+AN47))*((((AR16/100)*(AB16/100))*AA47)))+(((AQ16/100)*(AB16/100))*AA47),0)))","v":""},{"$f":"IF(Süt!$B18=\"\",\"\",IF(Süt!$C18<=0,\"\",IF(ISERROR(AB47/1000 - E93)=TRUE,0,AB47/1000 - E93)))","v":""},{"$f":"IF(Süt!$B18=\"\",\"\",IF(Süt!$C18<=0,\"\",IF((AT16+AN47)>0,   IF(BW_DMI<2,  C93,  C93+(BW_DMI-2)*((D93-C93)/2) ),0)))","v":""},{"$f":"IF(Süt!$B18=\"\",\"\",IF(Süt!$C18<=0,\"\",E93*(AW16/100)))","v":""},{"$f":"IF(Süt!$B18=\"\",\"\",IF(Süt!$C18<=0,\"\",IF(AND($AA47 > 0, $AB16 > 0, $AB47 > 0),((($AA47 / TotalDMFed) * ($AB16 / 100) * (($AV47 * 1000) / $AB47)* (AX16 / 100) * TotalDMFed) * 1000),0)))","v":""},{"$f":"IF(Süt!$B18=\"\",\"\",IF(Süt!$C18<=0,\"\",IF(AND($AA47 > 0, $AB16 > 0, $AB47 > 0),((($AA47 / TotalDMFed) * ($AB16 / 100) * (($AV47 * 1000) / $AB47)* (AY16 / 100) * TotalDMFed) * 1000),0)))","v":""},{"$f":"IF(Süt!$B18=\"\",\"\",IF(Süt!$C18<=0,\"\",IF(AND($AA47 > 0, $AB16 > 0, $AB47 > 0),((($AA47 / TotalDMFed) * ($AB16 / 100) * (($AV47 * 1000) / $AB47)* (AZ16 / 100) * TotalDMFed) * 1000),0)))","v":""},{"$f":"IF(Süt!$B18=\"\",\"\",IF(Süt!$C18<=0,\"\",IF(AND($AA47 > 0, $AB16 > 0, $AB47 > 0),((($AA47 / TotalDMFed) * ($AB16 / 100) * (($AV47 * 1000) / $AB47)* (BA16 / 100) * TotalDMFed) * 1000),0)))","v":""},{"$f":"IF(Süt!$B18=\"\",\"\",IF(Süt!$C18<=0,\"\",IF(AND($AA47 > 0, $AB16 > 0, $AB47 > 0),((($AA47 / TotalDMFed) * ($AB16 / 100) * (($AV47 * 1000) / $AB47)* (BB16 / 100) * TotalDMFed) * 1000),0)))","v":""},{"$f":"IF(Süt!$B18=\"\",\"\",IF(Süt!$C18<=0,\"\",IF(AND($AA47 > 0, $AB16 > 0, $AB47 > 0),((($AA47 / TotalDMFed) * ($AB16 / 100) * (($AV47 * 1000) / $AB47)* (BC16 / 100) * TotalDMFed) * 1000),0)))","v":""},{"$f":"IF(Süt!$B18=\"\",\"\",IF(Süt!$C18<=0,\"\",IF(AND($AA47 > 0, $AB16 > 0, $AB47 > 0),((($AA47 / TotalDMFed) * ($AB16 / 100) * (($AV47 * 1000) / $AB47)* (BD16 / 100) * TotalDMFed) * 1000),0)))","v":""},{"$f":"IF(Süt!$B18=\"\",\"\",IF(Süt!$C18<=0,\"\",IF(AND($AA47 > 0, $AB16 > 0, $AB47 > 0),((($AA47 / TotalDMFed) * ($AB16 / 100) * (($AV47 * 1000) / $AB47)* (BE16 / 100) * TotalDMFed) * 1000),0)))","v":""},{"$f":"IF(Süt!$B18=\"\",\"\",IF(Süt!$C18<=0,\"\",IF(AND($AA47 > 0, $AB16 > 0, $AB47 > 0),((($AA47 / TotalDMFed) * ($AB16 / 100) * (($AV47 * 1000) / $AB47)* (BF16 / 100) * TotalDMFed) * 1000),0)))","v":""},{"$f":"IF(Süt!$B18=\"\",\"\",IF(Süt!$C18<=0,\"\",IF(AND($AA47 > 0, $AB16 > 0, $AB47 > 0),((($AA47 / TotalDMFed) * ($AB16 / 100) * (($AV47 * 1000) / $AB47)* (BG16 / 100) * TotalDMFed) * 1000),0)))","v":""},{"$f":"IF(Süt!$B18=\"\",\"\",IF(Süt!$C18<=0,\"\",IF(AND($AA47 > 0, $AB16 > 0, $AB47 > 0),((($AA47 / TotalDMFed) * ($AB16 / 100) * (($AV47 * 1000) / $AB47)* (BH16 / 100) * TotalDMFed) * 1000),0)))","v":""},{"$f":"IF(Süt!$B18=\"\",\"\",IF(Süt!$C18<=0,\"\",IF(AnimalType=\"Buzağı\",IF(P16=\"BUZAĞI BAŞLANGIÇ YEMİ\",AA47,0),0)))","v":""},{"$f":"IF(Süt!$B18=\"\",\"\",IF(Süt!$C18<=0,\"\",IF(AnimalType=\"Buzağı\",IF(AN16=\"Calf Feed-Milk\",AA47,0),0)))","v":""},{"$f":"IF(Süt!$B18=\"\",\"\",IF(Süt!$C18<=0,\"\",IF(AnimalType=\"Buzağı\",IF(P16=\"BUZAĞI BAŞLANGIÇ YEMİ\",0,AA47),0)))","v":""},{"$f":"IF(Süt!$B18=\"\",\"\",IF(Süt!$C18<=0,\"\",IF(S16=\"Forage\",AH47,0)))","v":""},{"$f":"IF(Süt!$B18=\"\",\"\",IF(Süt!$C18<=0,\"\",BM16/100*$AA47))","v":""},{"$f":"IF(Süt!$B18=\"\",\"\",IF(Süt!$C18<=0,\"\",IF(AnimalType <> \"Buzağı\",((BM16 / 100) * $AA47) * BN16,((BM16 / 100) * $AA47))))","v":""},{"$f":"IF(Süt!$B18=\"\",\"\",IF(Süt!$C18<=0,\"\",BO16/100*$AA47))","v":""},{"$f":"IF(Süt!$B18=\"\",\"\",IF(Süt!$C18<=0,\"\",IF(AnimalType <> \"Buzağı\",((BO16 / 100) * $AA47) * BP16,((BO16 / 100) * $AA47))))","v":""},{"$f":"IF(Süt!$B18=\"\",\"\",IF(Süt!$C18<=0,\"\",BQ16/100*$AA47))","v":""},{"$f":"IF(Süt!$B18=\"\",\"\",IF(Süt!$C18<=0,\"\",IF(AnimalType <> \"Buzağı\",((BQ16 / 100) * $AA47) * BR16,((BQ16 / 100) * $AA47))))","v":""},{"$f":"IF(Süt!$B18=\"\",\"\",IF(Süt!$C18<=0,\"\",BS16/100*$AA47))","v":""},{"$f":"IF(Süt!$B18=\"\",\"\",IF(Süt!$C18<=0,\"\",IF(AnimalType <> \"Buzağı\",((BS16 / 100) * $AA47) * BT16,((BS16 / 100) * $AA47))))","v":""},{"$f":"IF(Süt!$B18=\"\",\"\",IF(Süt!$C18<=0,\"\",BU16/100*$AA47))","v":""},{"$f":"IF(Süt!$B18=\"\",\"\",IF(Süt!$C18<=0,\"\",IF(AnimalType <> \"Buzağı\",((BU16 / 100) * $AA47) * BV16,((BU16 / 100) * $AA47))))","v":""},{"$f":"IF(Süt!$B18=\"\",\"\",IF(Süt!$C18<=0,\"\",BW16/100*$AA47))","v":""},{"$f":"IF(Süt!$B18=\"\",\"\",IF(Süt!$C18<=0,\"\",IF(AnimalType <> \"Buzağı\",((BW16 / 100) * $AA47) * BX16,((BW16 / 100) * $AA47))))","v":""},{"$f":"IF(Süt!$B18=\"\",\"\",IF(Süt!$C18<=0,\"\",BY16/100*$AA47))","v":""},{"$f":"IF(Süt!$B18=\"\",\"\",IF(Süt!$C18<=0,\"\",IF(AnimalType <> \"Buzağı\",((BY16 / 100) * $AA47) * BZ16,((BY16 / 100) * $AA47))))","v":""},{"$f":"IF(Süt!$B18=\"\",\"\",IF(Süt!$C18<=0,\"\",CA16*$AA47))","v":""},{"$f":"IF(Süt!$B18=\"\",\"\",IF(Süt!$C18<=0,\"\",IF(AnimalType <> \"Buzağı\",CA16 * $AA47 * CB16,CA16 * $AA47)))","v":""},{"$f":"IF(Süt!$B18=\"\",\"\",IF(Süt!$C18<=0,\"\",CC16*$AA47))","v":""},{"$f":"IF(Süt!$B18=\"\",\"\",IF(Süt!$C18<=0,\"\",IF(AnimalType <> \"Buzağı\",CC16 * $AA47 * CD16,CC16 * $AA47)))","v":""},{"$f":"IF(Süt!$B18=\"\",\"\",IF(Süt!$C18<=0,\"\",CE16*$AA47))","v":""},{"$f":"IF(Süt!$B18=\"\",\"\",IF(Süt!$C18<=0,\"\",IF(AnimalType <> \"Buzağı\",CE16 * $AA47 * CF16,CE16 * $AA47)))","v":""},{"$f":"IF(Süt!$B18=\"\",\"\",IF(Süt!$C18<=0,\"\",CG16*$AA47))","v":""},{"$f":"IF(Süt!$B18=\"\",\"\",IF(Süt!$C18<=0,\"\",IF(AnimalType <> \"Buzağı\",CG16 * $AA47 * CH16,CG16 * $AA47)))","v":""},{"$f":"IF(Süt!$B18=\"\",\"\",IF(Süt!$C18<=0,\"\",CI16*$AA47))","v":""},{"$f":"IF(Süt!$B18=\"\",\"\",IF(Süt!$C18<=0,\"\",IF(AnimalType <> \"Buzağı\",CI16 * $AA47 * CJ16,CI16 * $AA47)))","v":""},{"$f":"IF(Süt!$B18=\"\",\"\",IF(Süt!$C18<=0,\"\",CK16*$AA47))","v":""},{"$f":"IF(Süt!$B18=\"\",\"\",IF(Süt!$C18<=0,\"\",IF(AnimalType <> \"Buzağı\",CK16 * $AA47 * CL16,CK16 * $AA47)))","v":""},{"$f":"IF(Süt!$B18=\"\",\"\",IF(Süt!$C18<=0,\"\",CM16*$AA47))","v":""},{"$f":"IF(Süt!$B18=\"\",\"\",IF(Süt!$C18<=0,\"\",IF(AnimalType <> \"Buzağı\",CM16 * $AA47 * CN16,CM16 * $AA47)))","v":""},null,null,{"$f":"IF(Süt!$B18=\"\",\"\",IF(Süt!$C18<=0,\"\",CQ16*$AA47))","v":""},{"$f":"IF(Süt!$B18=\"\",\"\",IF(Süt!$C18<=0,\"\",CR16*$AA47))","v":""},{"$f":"IF(Süt!$B18=\"\",\"\",IF(Süt!$C18<=0,\"\",CS16*$AA47))","v":""},-29,0.91800000000000059,1.1880000000000002,"deltaER",{"$f":"IF(EnergyBal>0,NElReq,NElSub)","v":497.57631533962837},"change in ER needed to move up or down one condition score (Mcal)",null,null,null,null,null,null,null,null,null,null,"Karma Yemler"]
[null,{"$f":"Süt!B12","v":"Buğday Kepeği, Razmol"},{"$f":"ROUND((Süt!C12/Süt!$C$4)*100,2)","v":0},{"$f":"ROUND(Süt!C12,2)","v":0},{"$f":"ROUND(C$34*Süt!C12,2)","v":0},0,0,null,null,null,null,null,null,null,{"$f":"IF(Süt!B19=\"\",\"\",IF(Süt!C19<=0,\"\",Süt!C19))","v":""},"",{"$f":"IF(Süt!$B19=\"\",\"\",IF(Süt!$C19<=0,\"\",IF(MID(AN17,1,9)=\"Calf Feed\",0,(AK48/100)*AA48)))","v":""},{"$f":"IF(Süt!$B19=\"\",\"\",IF(Süt!$C19<=0,\"\",(R17/100)*(AA48*1000)))","v":""},{"$f":"IF(Süt!$B19=\"\",\"\",IF(Süt!$C19<=0,\"\",IF(MID(AN17,1,9)=\"Calf Feed\",0,AK48*Discount)))","v":""},{"$f":"IF(Süt!$B19=\"\",\"\",IF(Süt!$C19<=0,\"\",(S48/100)*(AA48*1000)))","v":""},{"$f":"IF(Süt!$B19=\"\",\"\",IF(Süt!$C19<=0,\"\",Discount*AL48))","v":""},{"$f":"IF(Süt!$B19=\"\",\"\",IF(Süt!$C19<=0,\"\",IF(AP48<0,0,AP48)*AA48))","v":""},null,null,{"$f":"IF(Süt!$B19=\"\",\"\",IF(Süt!$C19<=0,\"\",IF(AR48<0,0,AR48)*AA48))","v":""},{"$f":"IF(Süt!$B19=\"\",\"\",IF(Süt!$C19<=0,\"\",IF(AS48<0,0,AS48)*AA48))","v":""},{"$f":"IF(Süt!$B19=\"\",\"\",IF(Süt!$C19<=0,\"\",$O48*AA17/100))","v":""},{"$f":"IF(Süt!$B19=\"\",\"\",IF(Süt!$C19<=0,\"\",(AB17/ 100) * (AA48 * 1000)))","v":""},{"$f":"IF(Süt!$B19=\"\",\"\",IF(Süt!$C19<=0,\"\",IF(MID(AN17,1,9)<>\"Calf Feed\",IF(AB17 > 0,IF(S17=\"Forage\", EXP((-1.2 * (AE17 / AB17))) * AB17,IF(AN17 = \"Animal Protein\",(AC17 * AB17),(1 - (0.4 * (AE17 / AB17))) * AB17)),0),0)))","v":""},{"$f":"IF(Süt!$B19=\"\",\"\",IF(Süt!$C19<=0,\"\",IF(MID(AN17,1,9)<>\"Calf Feed\",0.98 * (100 - AH17 - AB17 - AF17 - AL17 + AD17) * T17,0)))","v":""},{"$f":"IF(Süt!$B19=\"\",\"\",IF(Süt!$C19<=0,\"\",IF(MID(AN17,1,9)<>\"Calf Feed\",((100 - AH17 - AB17 - AF17 - AL17 + AD17) /100)*AA48,0)))","v":""},{"$f":"IF(Süt!$B19=\"\",\"\",IF(Süt!$C19<=0,\"\",IF(MID(AN17,1,9)=\"Calf Feed\",0,(AF17/100)*AA48)))","v":""},{"$f":"IF(Süt!$B19=\"\",\"\",IF(Süt!$C19<=0,\"\",IF(AN17 = \"Fat and Oil\",IF(S17 = \"Fatty acids\",(AF17 * AG17)*AA48,(10 + ((AF17 - 10) * AG17))*AA48),(AF17 - 1)*AA48)))","v":""},{"$f":"IF(Süt!$B19=\"\",\"\",IF(Süt!$C19<=0,\"\",AH17/100*$AA48))","v":""},{"$f":"IF(Süt!$B19=\"\",\"\",IF(Süt!$C19<=0,\"\",IF(MID(AN17,1,9)<>\"Calf Feed\",IF(AH17 >AD17,AI17*AH17,0),0)))","v":""},{"$f":"IF(Süt!$B19=\"\",\"\",IF(Süt!$C19<=0,\"\",AJ17/100*$AA48))","v":""},{"$f":"IF(Süt!$B19=\"\",\"\",IF(Süt!$C19<=0,\"\",IF(MID(AN17,1,9)<>\"Calf Feed\",IF(AN17=\"Fat and Oil\",IF(S17=\"Fatty acids\",AF17*AG17*2.25,10+(((AF17-10)*AG17*2.25))),IF(AN17=\"Animal Protein\",(AC17*AB17)+((AF17-1)*2.25)+((0.98*(100-AB17-AL17-AF17))-7),IF(AI48>0,AD48+AC48+AO48+AI48-7,IF(AB17>0,((0.98*T17)*(100-AB17-AF17-AL17))+(AB17*(1-(0.4*AE17/AB17)))+((2.25*(AF17-1)-7)),((0.98*T17)*(100-AF17-AL17))+(2.25*(AF17-1)-7))))),AA48)))","v":""},{"$f":"IF(Süt!$B19=\"\",\"\",IF(Süt!$C19<=0,\"\",IF(MID(AN17,1,9)<>\"Calf Feed\",IF(AN17=\"Fat and Oil\",IF(S17=\"Fatty acids\",AF17*AG17*0.094,((AF17-10)*AG17*0.094)+0.43),IF(AN17=\"Animal Protein\",(AD48*0.042)+(AC48*0.056)+(0.094*(AO48/2.25))-0.3,IF(AI48>0,(AD48*0.042)+(AI48*0.042)+(AC48*0.056)+(0.094*(AO48/2.25))-0.3,IF(AB17>0,(0.98*T17*(0.042*(100-AB17-AF17-AL17))+(AB17*(0.056*(1-(0.4*AE17/AB17)))))+(0.094*(AF17-1))-0.3,(0.98*T17)*(0.042*(100-AF17-AL17))+(0.094*(AF17-1))-0.3)))),U17)))","v":""},0,0,{"$f":"IF(Süt!$B19=\"\",\"\",IF(Süt!$C19<=0,\"\",IF(MID(AN17,1,9)<>\"Calf Feed\",IF(AF17 <1,0,(AF17-1)*2.25),0)))","v":""},{"$f":"IF(Süt!$B19=\"\",\"\",IF(Süt!$C19<=0,\"\",IF(AN17 <> \"Fat and Oil\",IF(AF17 >= 3,IF(AnimalType <> \"Damızlık Düve\",(1.01 * U48) - 0.45 + (0.0046 * (AF17 - 3)),0.82 * AL48),IF(AND(AnimalType <> \"Buzağı\",AnimalType <> \"Damızlık Düve\")=TRUE,(1.01 * U48) - 0.45,0.82 * AL48)),U48)))","v":""},{"$f":"IF(Süt!$B19=\"\",\"\",IF(Süt!$C19<=0,\"\",IF(IF(AN17 <> \"Fat and Oil\",IF(AF17 >= 3,(0.703 * AP48) - 0.19 + ((((0.097 * AP48) + 0.19) / 97) * (AF17 - 3)),(0.703 * AP48) - 0.19),0.8*U48)<0,0,IF(AN17 <> \"Fat and Oil\",IF(AF17 >= 3,(0.703 * AP48) - 0.19 + ((((0.097 * AP48) + 0.19) / 97) * (AF17 - 3)),(0.703 * AP48) - 0.19   ),0.8*U48))))","v":""},{"$f":"IF(Süt!$B19=\"\",\"\",IF(Süt!$C19<=0,\"\",IF(MID(AN17,1,9)=\"Calf Feed\",0.75*AA48*V48,IF(IF(AN17 <> \"Fat and Oil\", ((1.37 * 0.82 * AL48) - (0.138 * (0.82 * AL48) ^ 2)+ (0.0105 * (0.82 * AL48) ^ 3) - 1.12),0.8 * U48)<0,0,IF(AN17 <> \"Fat and Oil\", ((1.37 * 0.82 * AL48) - (0.138 * (0.82 * AL48) ^ 2)+ (0.0105 * (0.82 * AL48) ^ 3) - 1.12),0.8 * U48)))))","v":""},{"$f":"IF(Süt!$B19=\"\",\"\",IF(Süt!$C19<=0,\"\",IF(MID(AN17,1,9)=\"Calf Feed\",0.57*AA48*V48,IF(IF(AN17 <> \"Fat and Oil\",((1.42 * 0.82 * AL48) - (0.174 * (0.82 * AL48)^2)+ (0.0122 * (0.82 * AL48)^3) - 1.65),0.55 * U48)<0,0,IF(AN17 <> \"Fat and Oil\",((1.42 * 0.82 * AL48) - (0.174 * (0.82 * AL48)^2)+ (0.0122 * (0.82 * AL48)^3) - 1.65),0.55 * U48)))))","v":""},{"$f":"IF(Süt!$B19=\"\",\"\",IF(Süt!$C19<=0,\"\",IF((AT17+AN48)>0,((AT17/(AT17+AN48))*((((AR17/100)*(AB17/100))*AA48)))+(((AQ17/100)*(AB17/100))*AA48),0)))","v":""},{"$f":"IF(Süt!$B19=\"\",\"\",IF(Süt!$C19<=0,\"\",IF(ISERROR(AB48/1000 - E94)=TRUE,0,AB48/1000 - E94)))","v":""},{"$f":"IF(Süt!$B19=\"\",\"\",IF(Süt!$C19<=0,\"\",IF((AT17+AN48)>0,   IF(BW_DMI<2,  C94,  C94+(BW_DMI-2)*((D94-C94)/2) ),0)))","v":""},{"$f":"IF(Süt!$B19=\"\",\"\",IF(Süt!$C19<=0,\"\",E94*(AW17/100)))","v":""},{"$f":"IF(Süt!$B19=\"\",\"\",IF(Süt!$C19<=0,\"\",IF(AND($AA48 > 0, $AB17 > 0, $AB48 > 0),((($AA48 / TotalDMFed) * ($AB17 / 100) * (($AV48 * 1000) / $AB48)* (AX17 / 100) * TotalDMFed) * 1000),0)))","v":""},{"$f":"IF(Süt!$B19=\"\",\"\",IF(Süt!$C19<=0,\"\",IF(AND($AA48 > 0, $AB17 > 0, $AB48 > 0),((($AA48 / TotalDMFed) * ($AB17 / 100) * (($AV48 * 1000) / $AB48)* (AY17 / 100) * TotalDMFed) * 1000),0)))","v":""},{"$f":"IF(Süt!$B19=\"\",\"\",IF(Süt!$C19<=0,\"\",IF(AND($AA48 > 0, $AB17 > 0, $AB48 > 0),((($AA48 / TotalDMFed) * ($AB17 / 100) * (($AV48 * 1000) / $AB48)* (AZ17 / 100) * TotalDMFed) * 1000),0)))","v":""},{"$f":"IF(Süt!$B19=\"\",\"\",IF(Süt!$C19<=0,\"\",IF(AND($AA48 > 0, $AB17 > 0, $AB48 > 0),((($AA48 / TotalDMFed) * ($AB17 / 100) * (($AV48 * 1000) / $AB48)* (BA17 / 100) * TotalDMFed) * 1000),0)))","v":""},{"$f":"IF(Süt!$B19=\"\",\"\",IF(Süt!$C19<=0,\"\",IF(AND($AA48 > 0, $AB17 > 0, $AB48 > 0),((($AA48 / TotalDMFed) * ($AB17 / 100) * (($AV48 * 1000) / $AB48)* (BB17 / 100) * TotalDMFed) * 1000),0)))","v":""},{"$f":"IF(Süt!$B19=\"\",\"\",IF(Süt!$C19<=0,\"\",IF(AND($AA48 > 0, $AB17 > 0, $AB48 > 0),((($AA48 / TotalDMFed) * ($AB17 / 100) * (($AV48 * 1000) / $AB48)* (BC17 / 100) * TotalDMFed) * 1000),0)))","v":""},{"$f":"IF(Süt!$B19=\"\",\"\",IF(Süt!$C19<=0,\"\",IF(AND($AA48 > 0, $AB17 > 0, $AB48 > 0),((($AA48 / TotalDMFed) * ($AB17 / 100) * (($AV48 * 1000) / $AB48)* (BD17 / 100) * TotalDMFed) * 1000),0)))","v":""},{"$f":"IF(Süt!$B19=\"\",\"\",IF(Süt!$C19<=0,\"\",IF(AND($AA48 > 0, $AB17 > 0, $AB48 > 0),((($AA48 / TotalDMFed) * ($AB17 / 100) * (($AV48 * 1000) / $AB48)* (BE17 / 100) * TotalDMFed) * 1000),0)))","v":""},{"$f":"IF(Süt!$B19=\"\",\"\",IF(Süt!$C19<=0,\"\",IF(AND($AA48 > 0, $AB17 > 0, $AB48 > 0),((($AA48 / TotalDMFed) * ($AB17 / 100) * (($AV48 * 1000) / $AB48)* (BF17 / 100) * TotalDMFed) * 1000),0)))","v":""},{"$f":"IF(Süt!$B19=\"\",\"\",IF(Süt!$C19<=0,\"\",IF(AND($AA48 > 0, $AB17 > 0, $AB48 > 0),((($AA48 / TotalDMFed) * ($AB17 / 100) * (($AV48 * 1000) / $AB48)* (BG17 / 100) * TotalDMFed) * 1000),0)))","v":""},{"$f":"IF(Süt!$B19=\"\",\"\",IF(Süt!$C19<=0,\"\",IF(AND($AA48 > 0, $AB17 > 0, $AB48 > 0),((($AA48 / TotalDMFed) * ($AB17 / 100) * (($AV48 * 1000) / $AB48)* (BH17 / 100) * TotalDMFed) * 1000),0)))","v":""},{"$f":"IF(Süt!$B19=\"\",\"\",IF(Süt!$C19<=0,\"\",IF(AnimalType=\"Buzağı\",IF(P17=\"BUZAĞI BAŞLANGIÇ YEMİ\",AA48,0),0)))","v":""},{"$f":"IF(Süt!$B19=\"\",\"\",IF(Süt!$C19<=0,\"\",IF(AnimalType=\"Buzağı\",IF(AN17=\"Calf Feed-Milk\",AA48,0),0)))","v":""},{"$f":"IF(Süt!$B19=\"\",\"\",IF(Süt!$C19<=0,\"\",IF(AnimalType=\"Buzağı\",IF(P17=\"BUZAĞI BAŞLANGIÇ YEMİ\",0,AA48),0)))","v":""},{"$f":"IF(Süt!$B19=\"\",\"\",IF(Süt!$C19<=0,\"\",IF(S17=\"Forage\",AH48,0)))","v":""},{"$f":"IF(Süt!$B19=\"\",\"\",IF(Süt!$C19<=0,\"\",BM17/100*$AA48))","v":""},{"$f":"IF(Süt!$B19=\"\",\"\",IF(Süt!$C19<=0,\"\",IF(AnimalType <> \"Buzağı\",((BM17 / 100) * $AA48) * BN17,((BM17 / 100) * $AA48))))","v":""},{"$f":"IF(Süt!$B19=\"\",\"\",IF(Süt!$C19<=0,\"\",BO17/100*$AA48))","v":""},{"$f":"IF(Süt!$B19=\"\",\"\",IF(Süt!$C19<=0,\"\",IF(AnimalType <> \"Buzağı\",((BO17 / 100) * $AA48) * BP17,((BO17 / 100) * $AA48))))","v":""},{"$f":"IF(Süt!$B19=\"\",\"\",IF(Süt!$C19<=0,\"\",BQ17/100*$AA48))","v":""},{"$f":"IF(Süt!$B19=\"\",\"\",IF(Süt!$C19<=0,\"\",IF(AnimalType <> \"Buzağı\",((BQ17 / 100) * $AA48) * BR17,((BQ17 / 100) * $AA48))))","v":""},{"$f":"IF(Süt!$B19=\"\",\"\",IF(Süt!$C19<=0,\"\",BS17/100*$AA48))","v":""},{"$f":"IF(Süt!$B19=\"\",\"\",IF(Süt!$C19<=0,\"\",IF(AnimalType <> \"Buzağı\",((BS17 / 100) * $AA48) * BT17,((BS17 / 100) * $AA48))))","v":""},{"$f":"IF(Süt!$B19=\"\",\"\",IF(Süt!$C19<=0,\"\",BU17/100*$AA48))","v":""},{"$f":"IF(Süt!$B19=\"\",\"\",IF(Süt!$C19<=0,\"\",IF(AnimalType <> \"Buzağı\",((BU17 / 100) * $AA48) * BV17,((BU17 / 100) * $AA48))))","v":""},{"$f":"IF(Süt!$B19=\"\",\"\",IF(Süt!$C19<=0,\"\",BW17/100*$AA48))","v":""},{"$f":"IF(Süt!$B19=\"\",\"\",IF(Süt!$C19<=0,\"\",IF(AnimalType <> \"Buzağı\",((BW17 / 100) * $AA48) * BX17,((BW17 / 100) * $AA48))))","v":""},{"$f":"IF(Süt!$B19=\"\",\"\",IF(Süt!$C19<=0,\"\",BY17/100*$AA48))","v":""},{"$f":"IF(Süt!$B19=\"\",\"\",IF(Süt!$C19<=0,\"\",IF(AnimalType <> \"Buzağı\",((BY17 / 100) * $AA48) * BZ17,((BY17 / 100) * $AA48))))","v":""},{"$f":"IF(Süt!$B19=\"\",\"\",IF(Süt!$C19<=0,\"\",CA17*$AA48))","v":""},{"$f":"IF(Süt!$B19=\"\",\"\",IF(Süt!$C19<=0,\"\",IF(AnimalType <> \"Buzağı\",CA17 * $AA48 * CB17,CA17 * $AA48)))","v":""},{"$f":"IF(Süt!$B19=\"\",\"\",IF(Süt!$C19<=0,\"\",CC17*$AA48))","v":""},{"$f":"IF(Süt!$B19=\"\",\"\",IF(Süt!$C19<=0,\"\",IF(AnimalType <> \"Buzağı\",CC17 * $AA48 * CD17,CC17 * $AA48)))","v":""},{"$f":"IF(Süt!$B19=\"\",\"\",IF(Süt!$C19<=0,\"\",CE17*$AA48))","v":""},{"$f":"IF(Süt!$B19=\"\",\"\",IF(Süt!$C19<=0,\"\",IF(AnimalType <> \"Buzağı\",CE17 * $AA48 * CF17,CE17 * $AA48)))","v":""},{"$f":"IF(Süt!$B19=\"\",\"\",IF(Süt!$C19<=0,\"\",CG17*$AA48))","v":""},{"$f":"IF(Süt!$B19=\"\",\"\",IF(Süt!$C19<=0,\"\",IF(AnimalType <> \"Buzağı\",CG17 * $AA48 * CH17,CG17 * $AA48)))","v":""},{"$f":"IF(Süt!$B19=\"\",\"\",IF(Süt!$C19<=0,\"\",CI17*$AA48))","v":""},{"$f":"IF(Süt!$B19=\"\",\"\",IF(Süt!$C19<=0,\"\",IF(AnimalType <> \"Buzağı\",CI17 * $AA48 * CJ17,CI17 * $AA48)))","v":""},{"$f":"IF(Süt!$B19=\"\",\"\",IF(Süt!$C19<=0,\"\",CK17*$AA48))","v":""},{"$f":"IF(Süt!$B19=\"\",\"\",IF(Süt!$C19<=0,\"\",IF(AnimalType <> \"Buzağı\",CK17 * $AA48 * CL17,CK17 * $AA48)))","v":""},{"$f":"IF(Süt!$B19=\"\",\"\",IF(Süt!$C19<=0,\"\",CM17*$AA48))","v":""},{"$f":"IF(Süt!$B19=\"\",\"\",IF(Süt!$C19<=0,\"\",IF(AnimalType <> \"Buzağı\",CM17 * $AA48 * CN17,CM17 * $AA48)))","v":""},null,null,{"$f":"IF(Süt!$B19=\"\",\"\",IF(Süt!$C19<=0,\"\",CQ17*$AA48))","v":""},{"$f":"IF(Süt!$B19=\"\",\"\",IF(Süt!$C19<=0,\"\",CR17*$AA48))","v":""},{"$f":"IF(Süt!$B19=\"\",\"\",IF(Süt!$C19<=0,\"\",CS17*$AA48))","v":""},-30,0.94500000000000062,1.2150000000000001,"DaysToChange",{"$f":"IF(AnimalType=\"Damızlık Düve\",0,deltaER/EnergyBal)","v":538.95412018345621},"number of days needed to move up or down one condition score",null,null,null,null,null,null,null,null,null,null,"Vitamin-Mineral Kaynakları"]
[null,{"$f":"Süt!B13","v":"Şeker Pancarı Posası,Yaş, Ambalajlı"},{"$f":"ROUND((Süt!C13/Süt!$C$4)*100,2)","v":0},{"$f":"ROUND(Süt!C13,2)","v":0},{"$f":"ROUND(C$34*Süt!C13,2)","v":0},0,0,null,null,null,null,null,null,null,{"$f":"IF(Süt!B20=\"\",\"\",IF(Süt!C20<=0,\"\",Süt!C20))","v":""},"",{"$f":"IF(Süt!$B20=\"\",\"\",IF(Süt!$C20<=0,\"\",IF(MID(AN18,1,9)=\"Calf Feed\",0,(AK49/100)*AA49)))","v":""},{"$f":"IF(Süt!$B20=\"\",\"\",IF(Süt!$C20<=0,\"\",(R18/100)*(AA49*1000)))","v":""},{"$f":"IF(Süt!$B20=\"\",\"\",IF(Süt!$C20<=0,\"\",IF(MID(AN18,1,9)=\"Calf Feed\",0,AK49*Discount)))","v":""},{"$f":"IF(Süt!$B20=\"\",\"\",IF(Süt!$C20<=0,\"\",(S49/100)*(AA49*1000)))","v":""},{"$f":"IF(Süt!$B20=\"\",\"\",IF(Süt!$C20<=0,\"\",Discount*AL49))","v":""},{"$f":"IF(Süt!$B20=\"\",\"\",IF(Süt!$C20<=0,\"\",IF(AP49<0,0,AP49)*AA49))","v":""},null,null,{"$f":"IF(Süt!$B20=\"\",\"\",IF(Süt!$C20<=0,\"\",IF(AR49<0,0,AR49)*AA49))","v":""},{"$f":"IF(Süt!$B20=\"\",\"\",IF(Süt!$C20<=0,\"\",IF(AS49<0,0,AS49)*AA49))","v":""},{"$f":"IF(Süt!$B20=\"\",\"\",IF(Süt!$C20<=0,\"\",$O49*AA18/100))","v":""},{"$f":"IF(Süt!$B20=\"\",\"\",IF(Süt!$C20<=0,\"\",(AB18/ 100) * (AA49 * 1000)))","v":""},{"$f":"IF(Süt!$B20=\"\",\"\",IF(Süt!$C20<=0,\"\",IF(MID(AN18,1,9)<>\"Calf Feed\",IF(AB18 > 0,IF(S18=\"Forage\", EXP((-1.2 * (AE18 / AB18))) * AB18,IF(AN18 = \"Animal Protein\",(AC18 * AB18),(1 - (0.4 * (AE18 / AB18))) * AB18)),0),0)))","v":""},{"$f":"IF(Süt!$B20=\"\",\"\",IF(Süt!$C20<=0,\"\",IF(MID(AN18,1,9)<>\"Calf Feed\",0.98 * (100 - AH18 - AB18 - AF18 - AL18 + AD18) * T18,0)))","v":""},{"$f":"IF(Süt!$B20=\"\",\"\",IF(Süt!$C20<=0,\"\",IF(MID(AN18,1,9)<>\"Calf Feed\",((100 - AH18 - AB18 - AF18 - AL18 + AD18) /100)*AA49,0)))","v":""},{"$f":"IF(Süt!$B20=\"\",\"\",IF(Süt!$C20<=0,\"\",IF(MID(AN18,1,9)=\"Calf Feed\",0,(AF18/100)*AA49)))","v":""},{"$f":"IF(Süt!$B20=\"\",\"\",IF(Süt!$C20<=0,\"\",IF(AN18 = \"Fat and Oil\",IF(S18 = \"Fatty acids\",(AF18 * AG18)*AA49,(10 + ((AF18 - 10) * AG18))*AA49),(AF18 - 1)*AA49)))","v":""},{"$f":"IF(Süt!$B20=\"\",\"\",IF(Süt!$C20<=0,\"\",AH18/100*$AA49))","v":""},{"$f":"IF(Süt!$B20=\"\",\"\",IF(Süt!$C20<=0,\"\",IF(MID(AN18,1,9)<>\"Calf Feed\",IF(AH18 >AD18,AI18*AH18,0),0)))","v":""},{"$f":"IF(Süt!$B20=\"\",\"\",IF(Süt!$C20<=0,\"\",AJ18/100*$AA49))","v":""},{"$f":"IF(Süt!$B20=\"\",\"\",IF(Süt!$C20<=0,\"\",IF(MID(AN18,1,9)<>\"Calf Feed\",IF(AN18=\"Fat and Oil\",IF(S18=\"Fatty acids\",AF18*AG18*2.25,10+(((AF18-10)*AG18*2.25))),IF(AN18=\"Animal Protein\",(AC18*AB18)+((AF18-1)*2.25)+((0.98*(100-AB18-AL18-AF18))-7),IF(AI49>0,AD49+AC49+AO49+AI49-7,IF(AB18>0,((0.98*T18)*(100-AB18-AF18-AL18))+(AB18*(1-(0.4*AE18/AB18)))+((2.25*(AF18-1)-7)),((0.98*T18)*(100-AF18-AL18))+(2.25*(AF18-1)-7))))),AA49)))","v":""},{"$f":"IF(Süt!$B20=\"\",\"\",IF(Süt!$C20<=0,\"\",IF(MID(AN18,1,9)<>\"Calf Feed\",IF(AN18=\"Fat and Oil\",IF(S18=\"Fatty acids\",AF18*AG18*0.094,((AF18-10)*AG18*0.094)+0.43),IF(AN18=\"Animal Protein\",(AD49*0.042)+(AC49*0.056)+(0.094*(AO49/2.25))-0.3,IF(AI49>0,(AD49*0.042)+(AI49*0.042)+(AC49*0.056)+(0.094*(AO49/2.25))-0.3,IF(AB18>0,(0.98*T18*(0.042*(100-AB18-AF18-AL18))+(AB18*(0.056*(1-(0.4*AE18/AB18)))))+(0.094*(AF18-1))-0.3,(0.98*T18)*(0.042*(100-AF18-AL18))+(0.094*(AF18-1))-0.3)))),U18)))","v":""},0,0,{"$f":"IF(Süt!$B20=\"\",\"\",IF(Süt!$C20<=0,\"\",IF(MID(AN18,1,9)<>\"Calf Feed\",IF(AF18 <1,0,(AF18-1)*2.25),0)))","v":""},{"$f":"IF(Süt!$B20=\"\",\"\",IF(Süt!$C20<=0,\"\",IF(AN18 <> \"Fat and Oil\",IF(AF18 >= 3,IF(AnimalType <> \"Damızlık Düve\",(1.01 * U49) - 0.45 + (0.0046 * (AF18 - 3)),0.82 * AL49),IF(AND(AnimalType <> \"Buzağı\",AnimalType <> \"Damızlık Düve\")=TRUE,(1.01 * U49) - 0.45,0.82 * AL49)),U49)))","v":""},{"$f":"IF(Süt!$B20=\"\",\"\",IF(Süt!$C20<=0,\"\",IF(IF(AN18 <> \"Fat and Oil\",IF(AF18 >= 3,(0.703 * AP49) - 0.19 + ((((0.097 * AP49) + 0.19) / 97) * (AF18 - 3)),(0.703 * AP49) - 0.19),0.8*U49)<0,0,IF(AN18 <> \"Fat and Oil\",IF(AF18 >= 3,(0.703 * AP49) - 0.19 + ((((0.097 * AP49) + 0.19) / 97) * (AF18 - 3)),(0.703 * AP49) - 0.19   ),0.8*U49))))","v":""},{"$f":"IF(Süt!$B20=\"\",\"\",IF(Süt!$C20<=0,\"\",IF(MID(AN18,1,9)=\"Calf Feed\",0.75*AA49*V49,IF(IF(AN18 <> \"Fat and Oil\", ((1.37 * 0.82 * AL49) - (0.138 * (0.82 * AL49) ^ 2)+ (0.0105 * (0.82 * AL49) ^ 3) - 1.12),0.8 * U49)<0,0,IF(AN18 <> \"Fat and Oil\", ((1.37 * 0.82 * AL49) - (0.138 * (0.82 * AL49) ^ 2)+ (0.0105 * (0.82 * AL49) ^ 3) - 1.12),0.8 * U49)))))","v":""},{"$f":"IF(Süt!$B20=\"\",\"\",IF(Süt!$C20<=0,\"\",IF(MID(AN18,1,9)=\"Calf Feed\",0.57*AA49*V49,IF(IF(AN18 <> \"Fat and Oil\",((1.42 * 0.82 * AL49) - (0.174 * (0.82 * AL49)^2)+ (0.0122 * (0.82 * AL49)^3) - 1.65),0.55 * U49)<0,0,IF(AN18 <> \"Fat and Oil\",((1.42 * 0.82 * AL49) - (0.174 * (0.82 * AL49)^2)+ (0.0122 * (0.82 * AL49)^3) - 1.65),0.55 * U49)))))","v":""},{"$f":"IF(Süt!$B20=\"\",\"\",IF(Süt!$C20<=0,\"\",IF((AT18+AN49)>0,((AT18/(AT18+AN49))*((((AR18/100)*(AB18/100))*AA49)))+(((AQ18/100)*(AB18/100))*AA49),0)))","v":""},{"$f":"IF(Süt!$B20=\"\",\"\",IF(Süt!$C20<=0,\"\",IF(ISERROR(AB49/1000 - E95)=TRUE,0,AB49/1000 - E95)))","v":""},{"$f":"IF(Süt!$B20=\"\",\"\",IF(Süt!$C20<=0,\"\",IF((AT18+AN49)>0,   IF(BW_DMI<2,  C95,  C95+(BW_DMI-2)*((D95-C95)/2) ),0)))","v":""},{"$f":"IF(Süt!$B20=\"\",\"\",IF(Süt!$C20<=0,\"\",E95*(AW18/100)))","v":""},{"$f":"IF(Süt!$B20=\"\",\"\",IF(Süt!$C20<=0,\"\",IF(AND($AA49 > 0, $AB18 > 0, $AB49 > 0),((($AA49 / TotalDMFed) * ($AB18 / 100) * (($AV49 * 1000) / $AB49)* (AX18 / 100) * TotalDMFed) * 1000),0)))","v":""},{"$f":"IF(Süt!$B20=\"\",\"\",IF(Süt!$C20<=0,\"\",IF(AND($AA49 > 0, $AB18 > 0, $AB49 > 0),((($AA49 / TotalDMFed) * ($AB18 / 100) * (($AV49 * 1000) / $AB49)* (AY18 / 100) * TotalDMFed) * 1000),0)))","v":""},{"$f":"IF(Süt!$B20=\"\",\"\",IF(Süt!$C20<=0,\"\",IF(AND($AA49 > 0, $AB18 > 0, $AB49 > 0),((($AA49 / TotalDMFed) * ($AB18 / 100) * (($AV49 * 1000) / $AB49)* (AZ18 / 100) * TotalDMFed) * 1000),0)))","v":""},{"$f":"IF(Süt!$B20=\"\",\"\",IF(Süt!$C20<=0,\"\",IF(AND($AA49 > 0, $AB18 > 0, $AB49 > 0),((($AA49 / TotalDMFed) * ($AB18 / 100) * (($AV49 * 1000) / $AB49)* (BA18 / 100) * TotalDMFed) * 1000),0)))","v":""},{"$f":"IF(Süt!$B20=\"\",\"\",IF(Süt!$C20<=0,\"\",IF(AND($AA49 > 0, $AB18 > 0, $AB49 > 0),((($AA49 / TotalDMFed) * ($AB18 / 100) * (($AV49 * 1000) / $AB49)* (BB18 / 100) * TotalDMFed) * 1000),0)))","v":""},{"$f":"IF(Süt!$B20=\"\",\"\",IF(Süt!$C20<=0,\"\",IF(AND($AA49 > 0, $AB18 > 0, $AB49 > 0),((($AA49 / TotalDMFed) * ($AB18 / 100) * (($AV49 * 1000) / $AB49)* (BC18 / 100) * TotalDMFed) * 1000),0)))","v":""},{"$f":"IF(Süt!$B20=\"\",\"\",IF(Süt!$C20<=0,\"\",IF(AND($AA49 > 0, $AB18 > 0, $AB49 > 0),((($AA49 / TotalDMFed) * ($AB18 / 100) * (($AV49 * 1000) / $AB49)* (BD18 / 100) * TotalDMFed) * 1000),0)))","v":""},{"$f":"IF(Süt!$B20=\"\",\"\",IF(Süt!$C20<=0,\"\",IF(AND($AA49 > 0, $AB18 > 0, $AB49 > 0),((($AA49 / TotalDMFed) * ($AB18 / 100) * (($AV49 * 1000) / $AB49)* (BE18 / 100) * TotalDMFed) * 1000),0)))","v":""},{"$f":"IF(Süt!$B20=\"\",\"\",IF(Süt!$C20<=0,\"\",IF(AND($AA49 > 0, $AB18 > 0, $AB49 > 0),((($AA49 / TotalDMFed) * ($AB18 / 100) * (($AV49 * 1000) / $AB49)* (BF18 / 100) * TotalDMFed) * 1000),0)))","v":""},{"$f":"IF(Süt!$B20=\"\",\"\",IF(Süt!$C20<=0,\"\",IF(AND($AA49 > 0, $AB18 > 0, $AB49 > 0),((($AA49 / TotalDMFed) * ($AB18 / 100) * (($AV49 * 1000) / $AB49)* (BG18 / 100) * TotalDMFed) * 1000),0)))","v":""},{"$f":"IF(Süt!$B20=\"\",\"\",IF(Süt!$C20<=0,\"\",IF(AND($AA49 > 0, $AB18 > 0, $AB49 > 0),((($AA49 / TotalDMFed) * ($AB18 / 100) * (($AV49 * 1000) / $AB49)* (BH18 / 100) * TotalDMFed) * 1000),0)))","v":""},{"$f":"IF(Süt!$B20=\"\",\"\",IF(Süt!$C20<=0,\"\",IF(AnimalType=\"Buzağı\",IF(P18=\"BUZAĞI BAŞLANGIÇ YEMİ\",AA49,0),0)))","v":""},{"$f":"IF(Süt!$B20=\"\",\"\",IF(Süt!$C20<=0,\"\",IF(AnimalType=\"Buzağı\",IF(AN18=\"Calf Feed-Milk\",AA49,0),0)))","v":""},{"$f":"IF(Süt!$B20=\"\",\"\",IF(Süt!$C20<=0,\"\",IF(AnimalType=\"Buzağı\",IF(P18=\"BUZAĞI BAŞLANGIÇ YEMİ\",0,AA49),0)))","v":""},{"$f":"IF(Süt!$B20=\"\",\"\",IF(Süt!$C20<=0,\"\",IF(S18=\"Forage\",AH49,0)))","v":""},{"$f":"IF(Süt!$B20=\"\",\"\",IF(Süt!$C20<=0,\"\",BM18/100*$AA49))","v":""},{"$f":"IF(Süt!$B20=\"\",\"\",IF(Süt!$C20<=0,\"\",IF(AnimalType <> \"Buzağı\",((BM18 / 100) * $AA49) * BN18,((BM18 / 100) * $AA49))))","v":""},{"$f":"IF(Süt!$B20=\"\",\"\",IF(Süt!$C20<=0,\"\",BO18/100*$AA49))","v":""},{"$f":"IF(Süt!$B20=\"\",\"\",IF(Süt!$C20<=0,\"\",IF(AnimalType <> \"Buzağı\",((BO18 / 100) * $AA49) * BP18,((BO18 / 100) * $AA49))))","v":""},{"$f":"IF(Süt!$B20=\"\",\"\",IF(Süt!$C20<=0,\"\",BQ18/100*$AA49))","v":""},{"$f":"IF(Süt!$B20=\"\",\"\",IF(Süt!$C20<=0,\"\",IF(AnimalType <> \"Buzağı\",((BQ18 / 100) * $AA49) * BR18,((BQ18 / 100) * $AA49))))","v":""},{"$f":"IF(Süt!$B20=\"\",\"\",IF(Süt!$C20<=0,\"\",BS18/100*$AA49))","v":""},{"$f":"IF(Süt!$B20=\"\",\"\",IF(Süt!$C20<=0,\"\",IF(AnimalType <> \"Buzağı\",((BS18 / 100) * $AA49) * BT18,((BS18 / 100) * $AA49))))","v":""},{"$f":"IF(Süt!$B20=\"\",\"\",IF(Süt!$C20<=0,\"\",BU18/100*$AA49))","v":""},{"$f":"IF(Süt!$B20=\"\",\"\",IF(Süt!$C20<=0,\"\",IF(AnimalType <> \"Buzağı\",((BU18 / 100) * $AA49) * BV18,((BU18 / 100) * $AA49))))","v":""},{"$f":"IF(Süt!$B20=\"\",\"\",IF(Süt!$C20<=0,\"\",BW18/100*$AA49))","v":""},{"$f":"IF(Süt!$B20=\"\",\"\",IF(Süt!$C20<=0,\"\",IF(AnimalType <> \"Buzağı\",((BW18 / 100) * $AA49) * BX18,((BW18 / 100) * $AA49))))","v":""},{"$f":"IF(Süt!$B20=\"\",\"\",IF(Süt!$C20<=0,\"\",BY18/100*$AA49))","v":""},{"$f":"IF(Süt!$B20=\"\",\"\",IF(Süt!$C20<=0,\"\",IF(AnimalType <> \"Buzağı\",((BY18 / 100) * $AA49) * BZ18,((BY18 / 100) * $AA49))))","v":""},{"$f":"IF(Süt!$B20=\"\",\"\",IF(Süt!$C20<=0,\"\",CA18*$AA49))","v":""},{"$f":"IF(Süt!$B20=\"\",\"\",IF(Süt!$C20<=0,\"\",IF(AnimalType <> \"Buzağı\",CA18 * $AA49 * CB18,CA18 * $AA49)))","v":""},{"$f":"IF(Süt!$B20=\"\",\"\",IF(Süt!$C20<=0,\"\",CC18*$AA49))","v":""},{"$f":"IF(Süt!$B20=\"\",\"\",IF(Süt!$C20<=0,\"\",IF(AnimalType <> \"Buzağı\",CC18 * $AA49 * CD18,CC18 * $AA49)))","v":""},{"$f":"IF(Süt!$B20=\"\",\"\",IF(Süt!$C20<=0,\"\",CE18*$AA49))","v":""},{"$f":"IF(Süt!$B20=\"\",\"\",IF(Süt!$C20<=0,\"\",IF(AnimalType <> \"Buzağı\",CE18 * $AA49 * CF18,CE18 * $AA49)))","v":""},{"$f":"IF(Süt!$B20=\"\",\"\",IF(Süt!$C20<=0,\"\",CG18*$AA49))","v":""},{"$f":"IF(Süt!$B20=\"\",\"\",IF(Süt!$C20<=0,\"\",IF(AnimalType <> \"Buzağı\",CG18 * $AA49 * CH18,CG18 * $AA49)))","v":""},{"$f":"IF(Süt!$B20=\"\",\"\",IF(Süt!$C20<=0,\"\",CI18*$AA49))","v":""},{"$f":"IF(Süt!$B20=\"\",\"\",IF(Süt!$C20<=0,\"\",IF(AnimalType <> \"Buzağı\",CI18 * $AA49 * CJ18,CI18 * $AA49)))","v":""},{"$f":"IF(Süt!$B20=\"\",\"\",IF(Süt!$C20<=0,\"\",CK18*$AA49))","v":""},{"$f":"IF(Süt!$B20=\"\",\"\",IF(Süt!$C20<=0,\"\",IF(AnimalType <> \"Buzağı\",CK18 * $AA49 * CL18,CK18 * $AA49)))","v":""},{"$f":"IF(Süt!$B20=\"\",\"\",IF(Süt!$C20<=0,\"\",CM18*$AA49))","v":""},{"$f":"IF(Süt!$B20=\"\",\"\",IF(Süt!$C20<=0,\"\",IF(AnimalType <> \"Buzağı\",CM18 * $AA49 * CN18,CM18 * $AA49)))","v":""},null,null,{"$f":"IF(Süt!$B20=\"\",\"\",IF(Süt!$C20<=0,\"\",CQ18*$AA49))","v":""},{"$f":"IF(Süt!$B20=\"\",\"\",IF(Süt!$C20<=0,\"\",CR18*$AA49))","v":""},{"$f":"IF(Süt!$B20=\"\",\"\",IF(Süt!$C20<=0,\"\",CS18*$AA49))","v":""},-31,0.97200000000000064,1.242,"Enerji ve Protein sağlama"]
[null,{"$f":"Süt!B14","v":0},{"$f":"ROUND((Süt!C14/Süt!$C$4)*100,2)","v":0},{"$f":"ROUND(Süt!C14,2)","v":0},{"$f":"ROUND(C$34*Süt!C14,2)","v":0},0,0,null,null,null,null,null,null,null,{"$f":"IF(Süt!B21=\"\",\"\",IF(Süt!C21<=0,\"\",Süt!C21))","v":""},"",{"$f":"IF(Süt!$B21=\"\",\"\",IF(Süt!$C21<=0,\"\",IF(MID(AN19,1,9)=\"Calf Feed\",0,(AK50/100)*AA50)))","v":""},{"$f":"IF(Süt!$B21=\"\",\"\",IF(Süt!$C21<=0,\"\",(R19/100)*(AA50*1000)))","v":""},{"$f":"IF(Süt!$B21=\"\",\"\",IF(Süt!$C21<=0,\"\",IF(MID(AN19,1,9)=\"Calf Feed\",0,AK50*Discount)))","v":""},{"$f":"IF(Süt!$B21=\"\",\"\",IF(Süt!$C21<=0,\"\",(S50/100)*(AA50*1000)))","v":""},{"$f":"IF(Süt!$B21=\"\",\"\",IF(Süt!$C21<=0,\"\",Discount*AL50))","v":""},{"$f":"IF(Süt!$B21=\"\",\"\",IF(Süt!$C21<=0,\"\",IF(AP50<0,0,AP50)*AA50))","v":""},null,null,{"$f":"IF(Süt!$B21=\"\",\"\",IF(Süt!$C21<=0,\"\",IF(AR50<0,0,AR50)*AA50))","v":""},{"$f":"IF(Süt!$B21=\"\",\"\",IF(Süt!$C21<=0,\"\",IF(AS50<0,0,AS50)*AA50))","v":""},{"$f":"IF(Süt!$B21=\"\",\"\",IF(Süt!$C21<=0,\"\",$O50*AA19/100))","v":""},{"$f":"IF(Süt!$B21=\"\",\"\",IF(Süt!$C21<=0,\"\",(AB19/ 100) * (AA50 * 1000)))","v":""},{"$f":"IF(Süt!$B21=\"\",\"\",IF(Süt!$C21<=0,\"\",IF(MID(AN19,1,9)<>\"Calf Feed\",IF(AB19 > 0,IF(S19=\"Forage\", EXP((-1.2 * (AE19 / AB19))) * AB19,IF(AN19 = \"Animal Protein\",(AC19 * AB19),(1 - (0.4 * (AE19 / AB19))) * AB19)),0),0)))","v":""},{"$f":"IF(Süt!$B21=\"\",\"\",IF(Süt!$C21<=0,\"\",IF(MID(AN19,1,9)<>\"Calf Feed\",0.98 * (100 - AH19 - AB19 - AF19 - AL19 + AD19) * T19,0)))","v":""},{"$f":"IF(Süt!$B21=\"\",\"\",IF(Süt!$C21<=0,\"\",IF(MID(AN19,1,9)<>\"Calf Feed\",((100 - AH19 - AB19 - AF19 - AL19 + AD19) /100)*AA50,0)))","v":""},{"$f":"IF(Süt!$B21=\"\",\"\",IF(Süt!$C21<=0,\"\",IF(MID(AN19,1,9)=\"Calf Feed\",0,(AF19/100)*AA50)))","v":""},{"$f":"IF(Süt!$B21=\"\",\"\",IF(Süt!$C21<=0,\"\",IF(AN19 = \"Fat and Oil\",IF(S19 = \"Fatty acids\",(AF19 * AG19)*AA50,(10 + ((AF19 - 10) * AG19))*AA50),(AF19 - 1)*AA50)))","v":""},{"$f":"IF(Süt!$B21=\"\",\"\",IF(Süt!$C21<=0,\"\",AH19/100*$AA50))","v":""},{"$f":"IF(Süt!$B21=\"\",\"\",IF(Süt!$C21<=0,\"\",IF(MID(AN19,1,9)<>\"Calf Feed\",IF(AH19 >AD19,AI19*AH19,0),0)))","v":""},{"$f":"IF(Süt!$B21=\"\",\"\",IF(Süt!$C21<=0,\"\",AJ19/100*$AA50))","v":""},{"$f":"IF(Süt!$B21=\"\",\"\",IF(Süt!$C21<=0,\"\",IF(MID(AN19,1,9)<>\"Calf Feed\",IF(AN19=\"Fat and Oil\",IF(S19=\"Fatty acids\",AF19*AG19*2.25,10+(((AF19-10)*AG19*2.25))),IF(AN19=\"Animal Protein\",(AC19*AB19)+((AF19-1)*2.25)+((0.98*(100-AB19-AL19-AF19))-7),IF(AI50>0,AD50+AC50+AO50+AI50-7,IF(AB19>0,((0.98*T19)*(100-AB19-AF19-AL19))+(AB19*(1-(0.4*AE19/AB19)))+((2.25*(AF19-1)-7)),((0.98*T19)*(100-AF19-AL19))+(2.25*(AF19-1)-7))))),AA50)))","v":""},{"$f":"IF(Süt!$B21=\"\",\"\",IF(Süt!$C21<=0,\"\",IF(MID(AN19,1,9)<>\"Calf Feed\",IF(AN19=\"Fat and Oil\",IF(S19=\"Fatty acids\",AF19*AG19*0.094,((AF19-10)*AG19*0.094)+0.43),IF(AN19=\"Animal Protein\",(AD50*0.042)+(AC50*0.056)+(0.094*(AO50/2.25))-0.3,IF(AI50>0,(AD50*0.042)+(AI50*0.042)+(AC50*0.056)+(0.094*(AO50/2.25))-0.3,IF(AB19>0,(0.98*T19*(0.042*(100-AB19-AF19-AL19))+(AB19*(0.056*(1-(0.4*AE19/AB19)))))+(0.094*(AF19-1))-0.3,(0.98*T19)*(0.042*(100-AF19-AL19))+(0.094*(AF19-1))-0.3)))),U19)))","v":""},0,0,{"$f":"IF(Süt!$B21=\"\",\"\",IF(Süt!$C21<=0,\"\",IF(MID(AN19,1,9)<>\"Calf Feed\",IF(AF19 <1,0,(AF19-1)*2.25),0)))","v":""},{"$f":"IF(Süt!$B21=\"\",\"\",IF(Süt!$C21<=0,\"\",IF(AN19 <> \"Fat and Oil\",IF(AF19 >= 3,IF(AnimalType <> \"Damızlık Düve\",(1.01 * U50) - 0.45 + (0.0046 * (AF19 - 3)),0.82 * AL50),IF(AND(AnimalType <> \"Buzağı\",AnimalType <> \"Damızlık Düve\")=TRUE,(1.01 * U50) - 0.45,0.82 * AL50)),U50)))","v":""},{"$f":"IF(Süt!$B21=\"\",\"\",IF(Süt!$C21<=0,\"\",IF(IF(AN19 <> \"Fat and Oil\",IF(AF19 >= 3,(0.703 * AP50) - 0.19 + ((((0.097 * AP50) + 0.19) / 97) * (AF19 - 3)),(0.703 * AP50) - 0.19),0.8*U50)<0,0,IF(AN19 <> \"Fat and Oil\",IF(AF19 >= 3,(0.703 * AP50) - 0.19 + ((((0.097 * AP50) + 0.19) / 97) * (AF19 - 3)),(0.703 * AP50) - 0.19   ),0.8*U50))))","v":""},{"$f":"IF(Süt!$B21=\"\",\"\",IF(Süt!$C21<=0,\"\",IF(MID(AN19,1,9)=\"Calf Feed\",0.75*AA50*V50,IF(IF(AN19 <> \"Fat and Oil\", ((1.37 * 0.82 * AL50) - (0.138 * (0.82 * AL50) ^ 2)+ (0.0105 * (0.82 * AL50) ^ 3) - 1.12),0.8 * U50)<0,0,IF(AN19 <> \"Fat and Oil\", ((1.37 * 0.82 * AL50) - (0.138 * (0.82 * AL50) ^ 2)+ (0.0105 * (0.82 * AL50) ^ 3) - 1.12),0.8 * U50)))))","v":""},{"$f":"IF(Süt!$B21=\"\",\"\",IF(Süt!$C21<=0,\"\",IF(MID(AN19,1,9)=\"Calf Feed\",0.57*AA50*V50,IF(IF(AN19 <> \"Fat and Oil\",((1.42 * 0.82 * AL50) - (0.174 * (0.82 * AL50)^2)+ (0.0122 * (0.82 * AL50)^3) - 1.65),0.55 * U50)<0,0,IF(AN19 <> \"Fat and Oil\",((1.42 * 0.82 * AL50) - (0.174 * (0.82 * AL50)^2)+ (0.0122 * (0.82 * AL50)^3) - 1.65),0.55 * U50)))))","v":""},{"$f":"IF(Süt!$B21=\"\",\"\",IF(Süt!$C21<=0,\"\",IF((AT19+AN50)>0,((AT19/(AT19+AN50))*((((AR19/100)*(AB19/100))*AA50)))+(((AQ19/100)*(AB19/100))*AA50),0)))","v":""},{"$f":"IF(Süt!$B21=\"\",\"\",IF(Süt!$C21<=0,\"\",IF(ISERROR(AB50/1000 - E96)=TRUE,0,AB50/1000 - E96)))","v":""},{"$f":"IF(Süt!$B21=\"\",\"\",IF(Süt!$C21<=0,\"\",IF((AT19+AN50)>0,   IF(BW_DMI<2,  C96,  C96+(BW_DMI-2)*((D96-C96)/2) ),0)))","v":""},{"$f":"IF(Süt!$B21=\"\",\"\",IF(Süt!$C21<=0,\"\",E96*(AW19/100)))","v":""},{"$f":"IF(Süt!$B21=\"\",\"\",IF(Süt!$C21<=0,\"\",IF(AND($AA50 > 0, $AB19 > 0, $AB50 > 0),((($AA50 / TotalDMFed) * ($AB19 / 100) * (($AV50 * 1000) / $AB50)* (AX19 / 100) * TotalDMFed) * 1000),0)))","v":""},{"$f":"IF(Süt!$B21=\"\",\"\",IF(Süt!$C21<=0,\"\",IF(AND($AA50 > 0, $AB19 > 0, $AB50 > 0),((($AA50 / TotalDMFed) * ($AB19 / 100) * (($AV50 * 1000) / $AB50)* (AY19 / 100) * TotalDMFed) * 1000),0)))","v":""},{"$f":"IF(Süt!$B21=\"\",\"\",IF(Süt!$C21<=0,\"\",IF(AND($AA50 > 0, $AB19 > 0, $AB50 > 0),((($AA50 / TotalDMFed) * ($AB19 / 100) * (($AV50 * 1000) / $AB50)* (AZ19 / 100) * TotalDMFed) * 1000),0)))","v":""},{"$f":"IF(Süt!$B21=\"\",\"\",IF(Süt!$C21<=0,\"\",IF(AND($AA50 > 0, $AB19 > 0, $AB50 > 0),((($AA50 / TotalDMFed) * ($AB19 / 100) * (($AV50 * 1000) / $AB50)* (BA19 / 100) * TotalDMFed) * 1000),0)))","v":""},{"$f":"IF(Süt!$B21=\"\",\"\",IF(Süt!$C21<=0,\"\",IF(AND($AA50 > 0, $AB19 > 0, $AB50 > 0),((($AA50 / TotalDMFed) * ($AB19 / 100) * (($AV50 * 1000) / $AB50)* (BB19 / 100) * TotalDMFed) * 1000),0)))","v":""},{"$f":"IF(Süt!$B21=\"\",\"\",IF(Süt!$C21<=0,\"\",IF(AND($AA50 > 0, $AB19 > 0, $AB50 > 0),((($AA50 / TotalDMFed) * ($AB19 / 100) * (($AV50 * 1000) / $AB50)* (BC19 / 100) * TotalDMFed) * 1000),0)))","v":""},{"$f":"IF(Süt!$B21=\"\",\"\",IF(Süt!$C21<=0,\"\",IF(AND($AA50 > 0, $AB19 > 0, $AB50 > 0),((($AA50 / TotalDMFed) * ($AB19 / 100) * (($AV50 * 1000) / $AB50)* (BD19 / 100) * TotalDMFed) * 1000),0)))","v":""},{"$f":"IF(Süt!$B21=\"\",\"\",IF(Süt!$C21<=0,\"\",IF(AND($AA50 > 0, $AB19 > 0, $AB50 > 0),((($AA50 / TotalDMFed) * ($AB19 / 100) * (($AV50 * 1000) / $AB50)* (BE19 / 100) * TotalDMFed) * 1000),0)))","v":""},{"$f":"IF(Süt!$B21=\"\",\"\",IF(Süt!$C21<=0,\"\",IF(AND($AA50 > 0, $AB19 > 0, $AB50 > 0),((($AA50 / TotalDMFed) * ($AB19 / 100) * (($AV50 * 1000) / $AB50)* (BF19 / 100) * TotalDMFed) * 1000),0)))","v":""},{"$f":"IF(Süt!$B21=\"\",\"\",IF(Süt!$C21<=0,\"\",IF(AND($AA50 > 0, $AB19 > 0, $AB50 > 0),((($AA50 / TotalDMFed) * ($AB19 / 100) * (($AV50 * 1000) / $AB50)* (BG19 / 100) * TotalDMFed) * 1000),0)))","v":""},{"$f":"IF(Süt!$B21=\"\",\"\",IF(Süt!$C21<=0,\"\",IF(AND($AA50 > 0, $AB19 > 0, $AB50 > 0),((($AA50 / TotalDMFed) * ($AB19 / 100) * (($AV50 * 1000) / $AB50)* (BH19 / 100) * TotalDMFed) * 1000),0)))","v":""},{"$f":"IF(Süt!$B21=\"\",\"\",IF(Süt!$C21<=0,\"\",IF(AnimalType=\"Buzağı\",IF(P19=\"BUZAĞI BAŞLANGIÇ YEMİ\",AA50,0),0)))","v":""},{"$f":"IF(Süt!$B21=\"\",\"\",IF(Süt!$C21<=0,\"\",IF(AnimalType=\"Buzağı\",IF(AN19=\"Calf Feed-Milk\",AA50,0),0)))","v":""},{"$f":"IF(Süt!$B21=\"\",\"\",IF(Süt!$C21<=0,\"\",IF(AnimalType=\"Buzağı\",IF(P19=\"BUZAĞI BAŞLANGIÇ YEMİ\",0,AA50),0)))","v":""},{"$f":"IF(Süt!$B21=\"\",\"\",IF(Süt!$C21<=0,\"\",IF(S19=\"Forage\",AH50,0)))","v":""},{"$f":"IF(Süt!$B21=\"\",\"\",IF(Süt!$C21<=0,\"\",BM19/100*$AA50))","v":""},{"$f":"IF(Süt!$B21=\"\",\"\",IF(Süt!$C21<=0,\"\",IF(AnimalType <> \"Buzağı\",((BM19 / 100) * $AA50) * BN19,((BM19 / 100) * $AA50))))","v":""},{"$f":"IF(Süt!$B21=\"\",\"\",IF(Süt!$C21<=0,\"\",BO19/100*$AA50))","v":""},{"$f":"IF(Süt!$B21=\"\",\"\",IF(Süt!$C21<=0,\"\",IF(AnimalType <> \"Buzağı\",((BO19 / 100) * $AA50) * BP19,((BO19 / 100) * $AA50))))","v":""},{"$f":"IF(Süt!$B21=\"\",\"\",IF(Süt!$C21<=0,\"\",BQ19/100*$AA50))","v":""},{"$f":"IF(Süt!$B21=\"\",\"\",IF(Süt!$C21<=0,\"\",IF(AnimalType <> \"Buzağı\",((BQ19 / 100) * $AA50) * BR19,((BQ19 / 100) * $AA50))))","v":""},{"$f":"IF(Süt!$B21=\"\",\"\",IF(Süt!$C21<=0,\"\",BS19/100*$AA50))","v":""},{"$f":"IF(Süt!$B21=\"\",\"\",IF(Süt!$C21<=0,\"\",IF(AnimalType <> \"Buzağı\",((BS19 / 100) * $AA50) * BT19,((BS19 / 100) * $AA50))))","v":""},{"$f":"IF(Süt!$B21=\"\",\"\",IF(Süt!$C21<=0,\"\",BU19/100*$AA50))","v":""},{"$f":"IF(Süt!$B21=\"\",\"\",IF(Süt!$C21<=0,\"\",IF(AnimalType <> \"Buzağı\",((BU19 / 100) * $AA50) * BV19,((BU19 / 100) * $AA50))))","v":""},{"$f":"IF(Süt!$B21=\"\",\"\",IF(Süt!$C21<=0,\"\",BW19/100*$AA50))","v":""},{"$f":"IF(Süt!$B21=\"\",\"\",IF(Süt!$C21<=0,\"\",IF(AnimalType <> \"Buzağı\",((BW19 / 100) * $AA50) * BX19,((BW19 / 100) * $AA50))))","v":""},{"$f":"IF(Süt!$B21=\"\",\"\",IF(Süt!$C21<=0,\"\",BY19/100*$AA50))","v":""},{"$f":"IF(Süt!$B21=\"\",\"\",IF(Süt!$C21<=0,\"\",IF(AnimalType <> \"Buzağı\",((BY19 / 100) * $AA50) * BZ19,((BY19 / 100) * $AA50))))","v":""},{"$f":"IF(Süt!$B21=\"\",\"\",IF(Süt!$C21<=0,\"\",CA19*$AA50))","v":""},{"$f":"IF(Süt!$B21=\"\",\"\",IF(Süt!$C21<=0,\"\",IF(AnimalType <> \"Buzağı\",CA19 * $AA50 * CB19,CA19 * $AA50)))","v":""},{"$f":"IF(Süt!$B21=\"\",\"\",IF(Süt!$C21<=0,\"\",CC19*$AA50))","v":""},{"$f":"IF(Süt!$B21=\"\",\"\",IF(Süt!$C21<=0,\"\",IF(AnimalType <> \"Buzağı\",CC19 * $AA50 * CD19,CC19 * $AA50)))","v":""},{"$f":"IF(Süt!$B21=\"\",\"\",IF(Süt!$C21<=0,\"\",CE19*$AA50))","v":""},{"$f":"IF(Süt!$B21=\"\",\"\",IF(Süt!$C21<=0,\"\",IF(AnimalType <> \"Buzağı\",CE19 * $AA50 * CF19,CE19 * $AA50)))","v":""},{"$f":"IF(Süt!$B21=\"\",\"\",IF(Süt!$C21<=0,\"\",CG19*$AA50))","v":""},{"$f":"IF(Süt!$B21=\"\",\"\",IF(Süt!$C21<=0,\"\",IF(AnimalType <> \"Buzağı\",CG19 * $AA50 * CH19,CG19 * $AA50)))","v":""},{"$f":"IF(Süt!$B21=\"\",\"\",IF(Süt!$C21<=0,\"\",CI19*$AA50))","v":""},{"$f":"IF(Süt!$B21=\"\",\"\",IF(Süt!$C21<=0,\"\",IF(AnimalType <> \"Buzağı\",CI19 * $AA50 * CJ19,CI19 * $AA50)))","v":""},{"$f":"IF(Süt!$B21=\"\",\"\",IF(Süt!$C21<=0,\"\",CK19*$AA50))","v":""},{"$f":"IF(Süt!$B21=\"\",\"\",IF(Süt!$C21<=0,\"\",IF(AnimalType <> \"Buzağı\",CK19 * $AA50 * CL19,CK19 * $AA50)))","v":""},{"$f":"IF(Süt!$B21=\"\",\"\",IF(Süt!$C21<=0,\"\",CM19*$AA50))","v":""},{"$f":"IF(Süt!$B21=\"\",\"\",IF(Süt!$C21<=0,\"\",IF(AnimalType <> \"Buzağı\",CM19 * $AA50 * CN19,CM19 * $AA50)))","v":""},null,null,{"$f":"IF(Süt!$B21=\"\",\"\",IF(Süt!$C21<=0,\"\",CQ19*$AA50))","v":""},{"$f":"IF(Süt!$B21=\"\",\"\",IF(Süt!$C21<=0,\"\",CR19*$AA50))","v":""},{"$f":"IF(Süt!$B21=\"\",\"\",IF(Süt!$C21<=0,\"\",CS19*$AA50))","v":""},-32,0.99900000000000067,1.2689999999999999,"PercentConc",{"$f":"(ConcSum/TotalDMFed)*100","v":29.649130289006504}]
[null,{"$f":"Süt!B15","v":0},{"$f":"ROUND((Süt!C15/Süt!$C$4)*100,2)","v":0},{"$f":"ROUND(Süt!C15,2)","v":0},{"$f":"ROUND(C$34*Süt!C15,2)","v":0},0,0,null,null,null,null,null,null,null,{"$f":"IF(Süt!B22=\"\",\"\",IF(Süt!C22<=0,\"\",Süt!C22))","v":""},"",{"$f":"IF(Süt!$B22=\"\",\"\",IF(Süt!$C22<=0,\"\",IF(MID(AN20,1,9)=\"Calf Feed\",0,(AK51/100)*AA51)))","v":""},{"$f":"IF(Süt!$B22=\"\",\"\",IF(Süt!$C22<=0,\"\",(R20/100)*(AA51*1000)))","v":""},{"$f":"IF(Süt!$B22=\"\",\"\",IF(Süt!$C22<=0,\"\",IF(MID(AN20,1,9)=\"Calf Feed\",0,AK51*Discount)))","v":""},{"$f":"IF(Süt!$B22=\"\",\"\",IF(Süt!$C22<=0,\"\",(S51/100)*(AA51*1000)))","v":""},{"$f":"IF(Süt!$B22=\"\",\"\",IF(Süt!$C22<=0,\"\",Discount*AL51))","v":""},{"$f":"IF(Süt!$B22=\"\",\"\",IF(Süt!$C22<=0,\"\",IF(AP51<0,0,AP51)*AA51))","v":""},null,null,{"$f":"IF(Süt!$B22=\"\",\"\",IF(Süt!$C22<=0,\"\",IF(AR51<0,0,AR51)*AA51))","v":""},{"$f":"IF(Süt!$B22=\"\",\"\",IF(Süt!$C22<=0,\"\",IF(AS51<0,0,AS51)*AA51))","v":""},{"$f":"IF(Süt!$B22=\"\",\"\",IF(Süt!$C22<=0,\"\",$O51*AA20/100))","v":""},{"$f":"IF(Süt!$B22=\"\",\"\",IF(Süt!$C22<=0,\"\",(AB20/ 100) * (AA51 * 1000)))","v":""},{"$f":"IF(Süt!$B22=\"\",\"\",IF(Süt!$C22<=0,\"\",IF(MID(AN20,1,9)<>\"Calf Feed\",IF(AB20 > 0,IF(S20=\"Forage\", EXP((-1.2 * (AE20 / AB20))) * AB20,IF(AN20 = \"Animal Protein\",(AC20 * AB20),(1 - (0.4 * (AE20 / AB20))) * AB20)),0),0)))","v":""},{"$f":"IF(Süt!$B22=\"\",\"\",IF(Süt!$C22<=0,\"\",IF(MID(AN20,1,9)<>\"Calf Feed\",0.98 * (100 - AH20 - AB20 - AF20 - AL20 + AD20) * T20,0)))","v":""},{"$f":"IF(Süt!$B22=\"\",\"\",IF(Süt!$C22<=0,\"\",IF(MID(AN20,1,9)<>\"Calf Feed\",((100 - AH20 - AB20 - AF20 - AL20 + AD20) /100)*AA51,0)))","v":""},{"$f":"IF(Süt!$B22=\"\",\"\",IF(Süt!$C22<=0,\"\",IF(MID(AN20,1,9)=\"Calf Feed\",0,(AF20/100)*AA51)))","v":""},{"$f":"IF(Süt!$B22=\"\",\"\",IF(Süt!$C22<=0,\"\",IF(AN20 = \"Fat and Oil\",IF(S20 = \"Fatty acids\",(AF20 * AG20)*AA51,(10 + ((AF20 - 10) * AG20))*AA51),(AF20 - 1)*AA51)))","v":""},{"$f":"IF(Süt!$B22=\"\",\"\",IF(Süt!$C22<=0,\"\",AH20/100*$AA51))","v":""},{"$f":"IF(Süt!$B22=\"\",\"\",IF(Süt!$C22<=0,\"\",IF(MID(AN20,1,9)<>\"Calf Feed\",IF(AH20 >AD20,AI20*AH20,0),0)))","v":""},{"$f":"IF(Süt!$B22=\"\",\"\",IF(Süt!$C22<=0,\"\",AJ20/100*$AA51))","v":""},{"$f":"IF(Süt!$B22=\"\",\"\",IF(Süt!$C22<=0,\"\",IF(MID(AN20,1,9)<>\"Calf Feed\",IF(AN20=\"Fat and Oil\",IF(S20=\"Fatty acids\",AF20*AG20*2.25,10+(((AF20-10)*AG20*2.25))),IF(AN20=\"Animal Protein\",(AC20*AB20)+((AF20-1)*2.25)+((0.98*(100-AB20-AL20-AF20))-7),IF(AI51>0,AD51+AC51+AO51+AI51-7,IF(AB20>0,((0.98*T20)*(100-AB20-AF20-AL20))+(AB20*(1-(0.4*AE20/AB20)))+((2.25*(AF20-1)-7)),((0.98*T20)*(100-AF20-AL20))+(2.25*(AF20-1)-7))))),AA51)))","v":""},{"$f":"IF(Süt!$B22=\"\",\"\",IF(Süt!$C22<=0,\"\",IF(MID(AN20,1,9)<>\"Calf Feed\",IF(AN20=\"Fat and Oil\",IF(S20=\"Fatty acids\",AF20*AG20*0.094,((AF20-10)*AG20*0.094)+0.43),IF(AN20=\"Animal Protein\",(AD51*0.042)+(AC51*0.056)+(0.094*(AO51/2.25))-0.3,IF(AI51>0,(AD51*0.042)+(AI51*0.042)+(AC51*0.056)+(0.094*(AO51/2.25))-0.3,IF(AB20>0,(0.98*T20*(0.042*(100-AB20-AF20-AL20))+(AB20*(0.056*(1-(0.4*AE20/AB20)))))+(0.094*(AF20-1))-0.3,(0.98*T20)*(0.042*(100-AF20-AL20))+(0.094*(AF20-1))-0.3)))),U20)))","v":""},{"$f":"IF(AM20=\"Conc\",AA51,0)","v":0},{"$f":"IF(ISERROR(IF(AM20=\"Conc\",2.904 + (1.375 * BW_DMI) - (0.02 * PercentConc),IF(AM20=\"Dry\",3.362 + (0.479 * BW_DMI) - (0.017 * AH20) - (0.007 * PercentConc),IF(AM20=\"Wet\",3.054 + (0.614 * BW_DMI),0)))<0)=TRUE,0,IF(AM20=\"Conc\",2.904 + (1.375 * BW_DMI) - (0.02 * PercentConc),IF(AM20=\"Dry\",3.362 + (0.479 * BW_DMI) - (0.017 * AH20) - (0.007 * PercentConc),IF(AM20=\"Wet\",3.054 + (0.614 * BW_DMI),0))))","v":0},{"$f":"IF(Süt!$B22=\"\",\"\",IF(Süt!$C22<=0,\"\",IF(MID(AN20,1,9)<>\"Calf Feed\",IF(AF20 <1,0,(AF20-1)*2.25),0)))","v":""},{"$f":"IF(Süt!$B22=\"\",\"\",IF(Süt!$C22<=0,\"\",IF(AN20 <> \"Fat and Oil\",IF(AF20 >= 3,IF(AnimalType <> \"Damızlık Düve\",(1.01 * U51) - 0.45 + (0.0046 * (AF20 - 3)),0.82 * AL51),IF(AND(AnimalType <> \"Buzağı\",AnimalType <> \"Damızlık Düve\")=TRUE,(1.01 * U51) - 0.45,0.82 * AL51)),U51)))","v":""},{"$f":"IF(Süt!$B22=\"\",\"\",IF(Süt!$C22<=0,\"\",IF(IF(AN20 <> \"Fat and Oil\",IF(AF20 >= 3,(0.703 * AP51) - 0.19 + ((((0.097 * AP51) + 0.19) / 97) * (AF20 - 3)),(0.703 * AP51) - 0.19),0.8*U51)<0,0,IF(AN20 <> \"Fat and Oil\",IF(AF20 >= 3,(0.703 * AP51) - 0.19 + ((((0.097 * AP51) + 0.19) / 97) * (AF20 - 3)),(0.703 * AP51) - 0.19   ),0.8*U51))))","v":""},{"$f":"IF(Süt!$B22=\"\",\"\",IF(Süt!$C22<=0,\"\",IF(MID(AN20,1,9)=\"Calf Feed\",0.75*AA51*V51,IF(IF(AN20 <> \"Fat and Oil\", ((1.37 * 0.82 * AL51) - (0.138 * (0.82 * AL51) ^ 2)+ (0.0105 * (0.82 * AL51) ^ 3) - 1.12),0.8 * U51)<0,0,IF(AN20 <> \"Fat and Oil\", ((1.37 * 0.82 * AL51) - (0.138 * (0.82 * AL51) ^ 2)+ (0.0105 * (0.82 * AL51) ^ 3) - 1.12),0.8 * U51)))))","v":""},{"$f":"IF(Süt!$B22=\"\",\"\",IF(Süt!$C22<=0,\"\",IF(MID(AN20,1,9)=\"Calf Feed\",0.57*AA51*V51,IF(IF(AN20 <> \"Fat and Oil\",((1.42 * 0.82 * AL51) - (0.174 * (0.82 * AL51)^2)+ (0.0122 * (0.82 * AL51)^3) - 1.65),0.55 * U51)<0,0,IF(AN20 <> \"Fat and Oil\",((1.42 * 0.82 * AL51) - (0.174 * (0.82 * AL51)^2)+ (0.0122 * (0.82 * AL51)^3) - 1.65),0.55 * U51)))))","v":""},{"$f":"IF(Süt!$B22=\"\",\"\",IF(Süt!$C22<=0,\"\",IF((AT20+AN51)>0,((AT20/(AT20+AN51))*((((AR20/100)*(AB20/100))*AA51)))+(((AQ20/100)*(AB20/100))*AA51),0)))","v":""},{"$f":"IF(Süt!$B22=\"\",\"\",IF(Süt!$C22<=0,\"\",IF(ISERROR(AB51/1000 - E97)=TRUE,0,AB51/1000 - E97)))","v":""},{"$f":"IF(Süt!$B22=\"\",\"\",IF(Süt!$C22<=0,\"\",IF((AT20+AN51)>0,   IF(BW_DMI<2,  C97,  C97+(BW_DMI-2)*((D97-C97)/2) ),0)))","v":""},{"$f":"IF(Süt!$B22=\"\",\"\",IF(Süt!$C22<=0,\"\",E97*(AW20/100)))","v":""},{"$f":"IF(Süt!$B22=\"\",\"\",IF(Süt!$C22<=0,\"\",IF(AND($AA51 > 0, $AB20 > 0, $AB51 > 0),((($AA51 / TotalDMFed) * ($AB20 / 100) * (($AV51 * 1000) / $AB51)* (AX20 / 100) * TotalDMFed) * 1000),0)))","v":""},{"$f":"IF(Süt!$B22=\"\",\"\",IF(Süt!$C22<=0,\"\",IF(AND($AA51 > 0, $AB20 > 0, $AB51 > 0),((($AA51 / TotalDMFed) * ($AB20 / 100) * (($AV51 * 1000) / $AB51)* (AY20 / 100) * TotalDMFed) * 1000),0)))","v":""},{"$f":"IF(Süt!$B22=\"\",\"\",IF(Süt!$C22<=0,\"\",IF(AND($AA51 > 0, $AB20 > 0, $AB51 > 0),((($AA51 / TotalDMFed) * ($AB20 / 100) * (($AV51 * 1000) / $AB51)* (AZ20 / 100) * TotalDMFed) * 1000),0)))","v":""},{"$f":"IF(Süt!$B22=\"\",\"\",IF(Süt!$C22<=0,\"\",IF(AND($AA51 > 0, $AB20 > 0, $AB51 > 0),((($AA51 / TotalDMFed) * ($AB20 / 100) * (($AV51 * 1000) / $AB51)* (BA20 / 100) * TotalDMFed) * 1000),0)))","v":""},{"$f":"IF(Süt!$B22=\"\",\"\",IF(Süt!$C22<=0,\"\",IF(AND($AA51 > 0, $AB20 > 0, $AB51 > 0),((($AA51 / TotalDMFed) * ($AB20 / 100) * (($AV51 * 1000) / $AB51)* (BB20 / 100) * TotalDMFed) * 1000),0)))","v":""},{"$f":"IF(Süt!$B22=\"\",\"\",IF(Süt!$C22<=0,\"\",IF(AND($AA51 > 0, $AB20 > 0, $AB51 > 0),((($AA51 / TotalDMFed) * ($AB20 / 100) * (($AV51 * 1000) / $AB51)* (BC20 / 100) * TotalDMFed) * 1000),0)))","v":""},{"$f":"IF(Süt!$B22=\"\",\"\",IF(Süt!$C22<=0,\"\",IF(AND($AA51 > 0, $AB20 > 0, $AB51 > 0),((($AA51 / TotalDMFed) * ($AB20 / 100) * (($AV51 * 1000) / $AB51)* (BD20 / 100) * TotalDMFed) * 1000),0)))","v":""},{"$f":"IF(Süt!$B22=\"\",\"\",IF(Süt!$C22<=0,\"\",IF(AND($AA51 > 0, $AB20 > 0, $AB51 > 0),((($AA51 / TotalDMFed) * ($AB20 / 100) * (($AV51 * 1000) / $AB51)* (BE20 / 100) * TotalDMFed) * 1000),0)))","v":""},{"$f":"IF(Süt!$B22=\"\",\"\",IF(Süt!$C22<=0,\"\",IF(AND($AA51 > 0, $AB20 > 0, $AB51 > 0),((($AA51 / TotalDMFed) * ($AB20 / 100) * (($AV51 * 1000) / $AB51)* (BF20 / 100) * TotalDMFed) * 1000),0)))","v":""},{"$f":"IF(Süt!$B22=\"\",\"\",IF(Süt!$C22<=0,\"\",IF(AND($AA51 > 0, $AB20 > 0, $AB51 > 0),((($AA51 / TotalDMFed) * ($AB20 / 100) * (($AV51 * 1000) / $AB51)* (BG20 / 100) * TotalDMFed) * 1000),0)))","v":""},{"$f":"IF(Süt!$B22=\"\",\"\",IF(Süt!$C22<=0,\"\",IF(AND($AA51 > 0, $AB20 > 0, $AB51 > 0),((($AA51 / TotalDMFed) * ($AB20 / 100) * (($AV51 * 1000) / $AB51)* (BH20 / 100) * TotalDMFed) * 1000),0)))","v":""},{"$f":"IF(Süt!$B22=\"\",\"\",IF(Süt!$C22<=0,\"\",IF(AnimalType=\"Buzağı\",IF(P20=\"BUZAĞI BAŞLANGIÇ YEMİ\",AA51,0),0)))","v":""},{"$f":"IF(Süt!$B22=\"\",\"\",IF(Süt!$C22<=0,\"\",IF(AnimalType=\"Buzağı\",IF(AN20=\"Calf Feed-Milk\",AA51,0),0)))","v":""},{"$f":"IF(Süt!$B22=\"\",\"\",IF(Süt!$C22<=0,\"\",IF(AnimalType=\"Buzağı\",IF(P20=\"BUZAĞI BAŞLANGIÇ YEMİ\",0,AA51),0)))","v":""},{"$f":"IF(Süt!$B22=\"\",\"\",IF(Süt!$C22<=0,\"\",IF(S20=\"Forage\",AH51,0)))","v":""},{"$f":"IF(Süt!$B22=\"\",\"\",IF(Süt!$C22<=0,\"\",BM20/100*$AA51))","v":""},{"$f":"IF(Süt!$B22=\"\",\"\",IF(Süt!$C22<=0,\"\",IF(AnimalType <> \"Buzağı\",((BM20 / 100) * $AA51) * BN20,((BM20 / 100) * $AA51))))","v":""},{"$f":"IF(Süt!$B22=\"\",\"\",IF(Süt!$C22<=0,\"\",BO20/100*$AA51))","v":""},{"$f":"IF(Süt!$B22=\"\",\"\",IF(Süt!$C22<=0,\"\",IF(AnimalType <> \"Buzağı\",((BO20 / 100) * $AA51) * BP20,((BO20 / 100) * $AA51))))","v":""},{"$f":"IF(Süt!$B22=\"\",\"\",IF(Süt!$C22<=0,\"\",BQ20/100*$AA51))","v":""},{"$f":"IF(Süt!$B22=\"\",\"\",IF(Süt!$C22<=0,\"\",IF(AnimalType <> \"Buzağı\",((BQ20 / 100) * $AA51) * BR20,((BQ20 / 100) * $AA51))))","v":""},{"$f":"IF(Süt!$B22=\"\",\"\",IF(Süt!$C22<=0,\"\",BS20/100*$AA51))","v":""},{"$f":"IF(Süt!$B22=\"\",\"\",IF(Süt!$C22<=0,\"\",IF(AnimalType <> \"Buzağı\",((BS20 / 100) * $AA51) * BT20,((BS20 / 100) * $AA51))))","v":""},{"$f":"IF(Süt!$B22=\"\",\"\",IF(Süt!$C22<=0,\"\",BU20/100*$AA51))","v":""},{"$f":"IF(Süt!$B22=\"\",\"\",IF(Süt!$C22<=0,\"\",IF(AnimalType <> \"Buzağı\",((BU20 / 100) * $AA51) * BV20,((BU20 / 100) * $AA51))))","v":""},{"$f":"IF(Süt!$B22=\"\",\"\",IF(Süt!$C22<=0,\"\",BW20/100*$AA51))","v":""},{"$f":"IF(Süt!$B22=\"\",\"\",IF(Süt!$C22<=0,\"\",IF(AnimalType <> \"Buzağı\",((BW20 / 100) * $AA51) * BX20,((BW20 / 100) * $AA51))))","v":""},{"$f":"IF(Süt!$B22=\"\",\"\",IF(Süt!$C22<=0,\"\",BY20/100*$AA51))","v":""},{"$f":"IF(Süt!$B22=\"\",\"\",IF(Süt!$C22<=0,\"\",IF(AnimalType <> \"Buzağı\",((BY20 / 100) * $AA51) * BZ20,((BY20 / 100) * $AA51))))","v":""},{"$f":"IF(Süt!$B22=\"\",\"\",IF(Süt!$C22<=0,\"\",CA20*$AA51))","v":""},{"$f":"IF(Süt!$B22=\"\",\"\",IF(Süt!$C22<=0,\"\",IF(AnimalType <> \"Buzağı\",CA20 * $AA51 * CB20,CA20 * $AA51)))","v":""},{"$f":"IF(Süt!$B22=\"\",\"\",IF(Süt!$C22<=0,\"\",CC20*$AA51))","v":""},{"$f":"IF(Süt!$B22=\"\",\"\",IF(Süt!$C22<=0,\"\",IF(AnimalType <> \"Buzağı\",CC20 * $AA51 * CD20,CC20 * $AA51)))","v":""},{"$f":"IF(Süt!$B22=\"\",\"\",IF(Süt!$C22<=0,\"\",CE20*$AA51))","v":""},{"$f":"IF(Süt!$B22=\"\",\"\",IF(Süt!$C22<=0,\"\",IF(AnimalType <> \"Buzağı\",CE20 * $AA51 * CF20,CE20 * $AA51)))","v":""},{"$f":"IF(Süt!$B22=\"\",\"\",IF(Süt!$C22<=0,\"\",CG20*$AA51))","v":""},{"$f":"IF(Süt!$B22=\"\",\"\",IF(Süt!$C22<=0,\"\",IF(AnimalType <> \"Buzağı\",CG20 * $AA51 * CH20,CG20 * $AA51)))","v":""},{"$f":"IF(Süt!$B22=\"\",\"\",IF(Süt!$C22<=0,\"\",CI20*$AA51))","v":""},{"$f":"IF(Süt!$B22=\"\",\"\",IF(Süt!$C22<=0,\"\",IF(AnimalType <> \"Buzağı\",CI20 * $AA51 * CJ20,CI20 * $AA51)))","v":""},{"$f":"IF(Süt!$B22=\"\",\"\",IF(Süt!$C22<=0,\"\",CK20*$AA51))","v":""},{"$f":"IF(Süt!$B22=\"\",\"\",IF(Süt!$C22<=0,\"\",IF(AnimalType <> \"Buzağı\",CK20 * $AA51 * CL20,CK20 * $AA51)))","v":""},{"$f":"IF(Süt!$B22=\"\",\"\",IF(Süt!$C22<=0,\"\",CM20*$AA51))","v":""},{"$f":"IF(Süt!$B22=\"\",\"\",IF(Süt!$C22<=0,\"\",IF(AnimalType <> \"Buzağı\",CM20 * $AA51 * CN20,CM20 * $AA51)))","v":""},null,null,{"$f":"IF(Süt!$B22=\"\",\"\",IF(Süt!$C22<=0,\"\",CQ20*$AA51))","v":""},{"$f":"IF(Süt!$B22=\"\",\"\",IF(Süt!$C22<=0,\"\",CR20*$AA51))","v":""},{"$f":"IF(Süt!$B22=\"\",\"\",IF(Süt!$C22<=0,\"\",CS20*$AA51))","v":""},-33,1.0260000000000007,1.2959999999999998,"DMI_Total",{"$f":"TotalDMFed","v":21.138159154151602},"total dry matter intake (kg/day)"]
[null,{"$f":"Süt!B16","v":0},{"$f":"ROUND((Süt!C16/Süt!$C$4)*100,2)","v":0},{"$f":"ROUND(Süt!C16,2)","v":0},{"$f":"ROUND(C$34*Süt!C16,2)","v":0},0,0,null,null,null,null,null,null,null,{"$f":"IF(Süt!B23=\"\",\"\",IF(Süt!C23<=0,\"\",Süt!C23))","v":0.04},{"$f":"P21","v":"Mermer tozu"},{"$f":"IF(Süt!$B23=\"\",\"\",IF(Süt!$C23<=0,\"\",IF(MID(AN21,1,9)=\"Calf Feed\",0,(AK52/100)*AA52)))","v":0},null,null,null,{"$f":"IF(Süt!$B23=\"\",\"\",IF(Süt!$C23<=0,\"\",Discount*AL52))","v":0},{"$f":"IF(Süt!$B23=\"\",\"\",IF(Süt!$C23<=0,\"\",IF(AP52<0,0,AP52)*AA52))","v":0},null,null,{"$f":"IF(Süt!$B23=\"\",\"\",IF(Süt!$C23<=0,\"\",IF(AR52<0,0,AR52)*AA52))","v":0},{"$f":"IF(Süt!$B23=\"\",\"\",IF(Süt!$C23<=0,\"\",IF(AS52<0,0,AS52)*AA52))","v":0},{"$f":"IF(Süt!$B23=\"\",\"\",IF(Süt!$C23<=0,\"\",$O52*AA21/100))","v":0.04},{"$f":"IF(Süt!$B23=\"\",\"\",IF(Süt!$C23<=0,\"\",(AB21/ 100) * (AA52 * 1000)))","v":0},{"$f":"IF(Süt!$B23=\"\",\"\",IF(Süt!$C23<=0,\"\",IF(MID(AN21,1,9)<>\"Calf Feed\",IF(AB21 > 0,IF(S21=\"Forage\", EXP((-1.2 * (AE21 / AB21))) * AB21,IF(AN21 = \"Animal Protein\",(AC21 * AB21),(1 - (0.4 * (AE21 / AB21))) * AB21)),0),0)))","v":0},{"$f":"IF(Süt!$B23=\"\",\"\",IF(Süt!$C23<=0,\"\",IF(MID(AN21,1,9)<>\"Calf Feed\",0.98 * (100 - AH21 - AB21 - AF21 - AL21 + AD21) * T21,0)))","v":0},{"$f":"IF(Süt!$B23=\"\",\"\",IF(Süt!$C23<=0,\"\",IF(MID(AN21,1,9)<>\"Calf Feed\",((100 - AH21 - AB21 - AF21 - AL21 + AD21) /100)*AA52,0)))","v":0},{"$f":"IF(Süt!$B23=\"\",\"\",IF(Süt!$C23<=0,\"\",IF(MID(AN21,1,9)=\"Calf Feed\",0,(AF21/100)*AA52)))","v":0},null,{"$f":"IF(Süt!$B23=\"\",\"\",IF(Süt!$C23<=0,\"\",AH21/100*$AA52))","v":0},{"$f":"IF(Süt!$B23=\"\",\"\",IF(Süt!$C23<=0,\"\",IF(MID(AN21,1,9)<>\"Calf Feed\",IF(AH21 >AD21,AI21*AH21,0),0)))","v":0},{"$f":"IF(Süt!$B23=\"\",\"\",IF(Süt!$C23<=0,\"\",AJ21/100*$AA52))","v":0},null,{"$f":"IF(Süt!$B23=\"\",\"\",IF(Süt!$C23<=0,\"\",IF(MID(AN21,1,9)<>\"Calf Feed\",IF(AN21=\"Fat and Oil\",IF(S21=\"Fatty acids\",AF21*AG21*0.094,((AF21-10)*AG21*0.094)+0.43),IF(AN21=\"Animal Protein\",(AD52*0.042)+(AC52*0.056)+(0.094*(AO52/2.25))-0.3,IF(AI52>0,(AD52*0.042)+(AI52*0.042)+(AC52*0.056)+(0.094*(AO52/2.25))-0.3,IF(AB21>0,(0.98*T21*(0.042*(100-AB21-AF21-AL21))+(AB21*(0.056*(1-(0.4*AE21/AB21)))))+(0.094*(AF21-1))-0.3,(0.98*T21)*(0.042*(100-AF21-AL21))+(0.094*(AF21-1))-0.3)))),U21)))","v":0},0.04,6.7825510614442468,{"$f":"IF(Süt!$B23=\"\",\"\",IF(Süt!$C23<=0,\"\",IF(MID(AN21,1,9)<>\"Calf Feed\",IF(AF21 <1,0,(AF21-1)*2.25),0)))","v":0},{"$f":"IF(Süt!$B23=\"\",\"\",IF(Süt!$C23<=0,\"\",IF(AN21 <> \"Fat and Oil\",IF(AF21 >= 3,IF(AnimalType <> \"Damızlık Düve\",(1.01 * U52) - 0.45 + (0.0046 * (AF21 - 3)),0.82 * AL52),IF(AND(AnimalType <> \"Buzağı\",AnimalType <> \"Damızlık Düve\")=TRUE,(1.01 * U52) - 0.45,0.82 * AL52)),U52)))","v":-0.45},{"$f":"IF(Süt!$B23=\"\",\"\",IF(Süt!$C23<=0,\"\",IF(IF(AN21 <> \"Fat and Oil\",IF(AF21 >= 3,(0.703 * AP52) - 0.19 + ((((0.097 * AP52) + 0.19) / 97) * (AF21 - 3)),(0.703 * AP52) - 0.19),0.8*U52)<0,0,IF(AN21 <> \"Fat and Oil\",IF(AF21 >= 3,(0.703 * AP52) - 0.19 + ((((0.097 * AP52) + 0.19) / 97) * (AF21 - 3)),(0.703 * AP52) - 0.19   ),0.8*U52))))","v":0},{"$f":"IF(Süt!$B23=\"\",\"\",IF(Süt!$C23<=0,\"\",IF(MID(AN21,1,9)=\"Calf Feed\",0.75*AA52*V52,IF(IF(AN21 <> \"Fat and Oil\", ((1.37 * 0.82 * AL52) - (0.138 * (0.82 * AL52) ^ 2)+ (0.0105 * (0.82 * AL52) ^ 3) - 1.12),0.8 * U52)<0,0,IF(AN21 <> \"Fat and Oil\", ((1.37 * 0.82 * AL52) - (0.138 * (0.82 * AL52) ^ 2)+ (0.0105 * (0.82 * AL52) ^ 3) - 1.12),0.8 * U52)))))","v":0},{"$f":"IF(Süt!$B23=\"\",\"\",IF(Süt!$C23<=0,\"\",IF(MID(AN21,1,9)=\"Calf Feed\",0.57*AA52*V52,IF(IF(AN21 <> \"Fat and Oil\",((1.42 * 0.82 * AL52) - (0.174 * (0.82 * AL52)^2)+ (0.0122 * (0.82 * AL52)^3) - 1.65),0.55 * U52)<0,0,IF(AN21 <> \"Fat and Oil\",((1.42 * 0.82 * AL52) - (0.174 * (0.82 * AL52)^2)+ (0.0122 * (0.82 * AL52)^3) - 1.65),0.55 * U52)))))","v":0},{"$f":"IF(Süt!$B23=\"\",\"\",IF(Süt!$C23<=0,\"\",IF((AT21+AN52)>0,((AT21/(AT21+AN52))*((((AR21/100)*(AB21/100))*AA52)))+(((AQ21/100)*(AB21/100))*AA52),0)))","v":0},{"$f":"IF(Süt!$B23=\"\",\"\",IF(Süt!$C23<=0,\"\",IF(ISERROR(AB52/1000 - E98)=TRUE,0,AB52/1000 - E98)))","v":0},{"$f":"IF(Süt!$B23=\"\",\"\",IF(Süt!$C23<=0,\"\",IF((AT21+AN52)>0,   IF(BW_DMI<2,  C98,  C98+(BW_DMI-2)*((D98-C98)/2) ),0)))","v":0},{"$f":"IF(Süt!$B23=\"\",\"\",IF(Süt!$C23<=0,\"\",E98*(AW21/100)))","v":0},{"$f":"IF(Süt!$B23=\"\",\"\",IF(Süt!$C23<=0,\"\",IF(AND($AA52 > 0, $AB21 > 0, $AB52 > 0),((($AA52 / TotalDMFed) * ($AB21 / 100) * (($AV52 * 1000) / $AB52)* (AX21 / 100) * TotalDMFed) * 1000),0)))","v":0},{"$f":"IF(Süt!$B23=\"\",\"\",IF(Süt!$C23<=0,\"\",IF(AND($AA52 > 0, $AB21 > 0, $AB52 > 0),((($AA52 / TotalDMFed) * ($AB21 / 100) * (($AV52 * 1000) / $AB52)* (AY21 / 100) * TotalDMFed) * 1000),0)))","v":0},{"$f":"IF(Süt!$B23=\"\",\"\",IF(Süt!$C23<=0,\"\",IF(AND($AA52 > 0, $AB21 > 0, $AB52 > 0),((($AA52 / TotalDMFed) * ($AB21 / 100) * (($AV52 * 1000) / $AB52)* (AZ21 / 100) * TotalDMFed) * 1000),0)))","v":0},{"$f":"IF(Süt!$B23=\"\",\"\",IF(Süt!$C23<=0,\"\",IF(AND($AA52 > 0, $AB21 > 0, $AB52 > 0),((($AA52 / TotalDMFed) * ($AB21 / 100) * (($AV52 * 1000) / $AB52)* (BA21 / 100) * TotalDMFed) * 1000),0)))","v":0},{"$f":"IF(Süt!$B23=\"\",\"\",IF(Süt!$C23<=0,\"\",IF(AND($AA52 > 0, $AB21 > 0, $AB52 > 0),((($AA52 / TotalDMFed) * ($AB21 / 100) * (($AV52 * 1000) / $AB52)* (BB21 / 100) * TotalDMFed) * 1000),0)))","v":0},{"$f":"IF(Süt!$B23=\"\",\"\",IF(Süt!$C23<=0,\"\",IF(AND($AA52 > 0, $AB21 > 0, $AB52 > 0),((($AA52 / TotalDMFed) * ($AB21 / 100) * (($AV52 * 1000) / $AB52)* (BC21 / 100) * TotalDMFed) * 1000),0)))","v":0},{"$f":"IF(Süt!$B23=\"\",\"\",IF(Süt!$C23<=0,\"\",IF(AND($AA52 > 0, $AB21 > 0, $AB52 > 0),((($AA52 / TotalDMFed) * ($AB21 / 100) * (($AV52 * 1000) / $AB52)* (BD21 / 100) * TotalDMFed) * 1000),0)))","v":0},{"$f":"IF(Süt!$B23=\"\",\"\",IF(Süt!$C23<=0,\"\",IF(AND($AA52 > 0, $AB21 > 0, $AB52 > 0),((($AA52 / TotalDMFed) * ($AB21 / 100) * (($AV52 * 1000) / $AB52)* (BE21 / 100) * TotalDMFed) * 1000),0)))","v":0},{"$f":"IF(Süt!$B23=\"\",\"\",IF(Süt!$C23<=0,\"\",IF(AND($AA52 > 0, $AB21 > 0, $AB52 > 0),((($AA52 / TotalDMFed) * ($AB21 / 100) * (($AV52 * 1000) / $AB52)* (BF21 / 100) * TotalDMFed) * 1000),0)))","v":0},{"$f":"IF(Süt!$B23=\"\",\"\",IF(Süt!$C23<=0,\"\",IF(AND($AA52 > 0, $AB21 > 0, $AB52 > 0),((($AA52 / TotalDMFed) * ($AB21 / 100) * (($AV52 * 1000) / $AB52)* (BG21 / 100) * TotalDMFed) * 1000),0)))","v":0},{"$f":"IF(Süt!$B23=\"\",\"\",IF(Süt!$C23<=0,\"\",IF(AND($AA52 > 0, $AB21 > 0, $AB52 > 0),((($AA52 / TotalDMFed) * ($AB21 / 100) * (($AV52 * 1000) / $AB52)* (BH21 / 100) * TotalDMFed) * 1000),0)))","v":0},{"$f":"IF(Süt!$B23=\"\",\"\",IF(Süt!$C23<=0,\"\",IF(AnimalType=\"Buzağı\",IF(P21=\"BUZAĞI BAŞLANGIÇ YEMİ\",AA52,0),0)))","v":0},{"$f":"IF(Süt!$B23=\"\",\"\",IF(Süt!$C23<=0,\"\",IF(AnimalType=\"Buzağı\",IF(AN21=\"Calf Feed-Milk\",AA52,0),0)))","v":0},{"$f":"IF(Süt!$B23=\"\",\"\",IF(Süt!$C23<=0,\"\",IF(AnimalType=\"Buzağı\",IF(P21=\"BUZAĞI BAŞLANGIÇ YEMİ\",0,AA52),0)))","v":0},{"$f":"IF(Süt!$B23=\"\",\"\",IF(Süt!$C23<=0,\"\",IF(S21=\"Forage\",AH52,0)))","v":0},{"$f":"IF(Süt!$B23=\"\",\"\",IF(Süt!$C23<=0,\"\",BM21/100*$AA52))","v":1.4800000000000001E-2},{"$f":"IF(Süt!$B23=\"\",\"\",IF(Süt!$C23<=0,\"\",IF(AnimalType <> \"Buzağı\",((BM21 / 100) * $AA52) * BN21,((BM21 / 100) * $AA52))))","v":8.8800000000000007E-3},{"$f":"IF(Süt!$B23=\"\",\"\",IF(Süt!$C23<=0,\"\",BO21/100*$AA52))","v":0},{"$f":"IF(Süt!$B23=\"\",\"\",IF(Süt!$C23<=0,\"\",IF(AnimalType <> \"Buzağı\",((BO21 / 100) * $AA52) * BP21,((BO21 / 100) * $AA52))))","v":0},{"$f":"IF(Süt!$B23=\"\",\"\",IF(Süt!$C23<=0,\"\",BQ21/100*$AA52))","v":0},{"$f":"IF(Süt!$B23=\"\",\"\",IF(Süt!$C23<=0,\"\",IF(AnimalType <> \"Buzağı\",((BQ21 / 100) * $AA52) * BR21,((BQ21 / 100) * $AA52))))","v":0},{"$f":"IF(Süt!$B23=\"\",\"\",IF(Süt!$C23<=0,\"\",BS21/100*$AA52))","v":0},{"$f":"IF(Süt!$B23=\"\",\"\",IF(Süt!$C23<=0,\"\",IF(AnimalType <> \"Buzağı\",((BS21 / 100) * $AA52) * BT21,((BS21 / 100) * $AA52))))","v":0},{"$f":"IF(Süt!$B23=\"\",\"\",IF(Süt!$C23<=0,\"\",BU21/100*$AA52))","v":0},{"$f":"IF(Süt!$B23=\"\",\"\",IF(Süt!$C23<=0,\"\",IF(AnimalType <> \"Buzağı\",((BU21 / 100) * $AA52) * BV21,((BU21 / 100) * $AA52))))","v":0},{"$f":"IF(Süt!$B23=\"\",\"\",IF(Süt!$C23<=0,\"\",BW21/100*$AA52))","v":0},{"$f":"IF(Süt!$B23=\"\",\"\",IF(Süt!$C23<=0,\"\",IF(AnimalType <> \"Buzağı\",((BW21 / 100) * $AA52) * BX21,((BW21 / 100) * $AA52))))","v":0},{"$f":"IF(Süt!$B23=\"\",\"\",IF(Süt!$C23<=0,\"\",BY21/100*$AA52))","v":0},{"$f":"IF(Süt!$B23=\"\",\"\",IF(Süt!$C23<=0,\"\",IF(AnimalType <> \"Buzağı\",((BY21 / 100) * $AA52) * BZ21,((BY21 / 100) * $AA52))))","v":0},{"$f":"IF(Süt!$B23=\"\",\"\",IF(Süt!$C23<=0,\"\",CA21*$AA52))","v":0},{"$f":"IF(Süt!$B23=\"\",\"\",IF(Süt!$C23<=0,\"\",IF(AnimalType <> \"Buzağı\",CA21 * $AA52 * CB21,CA21 * $AA52)))","v":0},{"$f":"IF(Süt!$B23=\"\",\"\",IF(Süt!$C23<=0,\"\",CC21*$AA52))","v":0},{"$f":"IF(Süt!$B23=\"\",\"\",IF(Süt!$C23<=0,\"\",IF(AnimalType <> \"Buzağı\",CC21 * $AA52 * CD21,CC21 * $AA52)))","v":0},{"$f":"IF(Süt!$B23=\"\",\"\",IF(Süt!$C23<=0,\"\",CE21*$AA52))","v":0},{"$f":"IF(Süt!$B23=\"\",\"\",IF(Süt!$C23<=0,\"\",IF(AnimalType <> \"Buzağı\",CE21 * $AA52 * CF21,CE21 * $AA52)))","v":0},{"$f":"IF(Süt!$B23=\"\",\"\",IF(Süt!$C23<=0,\"\",CG21*$AA52))","v":0},{"$f":"IF(Süt!$B23=\"\",\"\",IF(Süt!$C23<=0,\"\",IF(AnimalType <> \"Buzağı\",CG21 * $AA52 * CH21,CG21 * $AA52)))","v":0},{"$f":"IF(Süt!$B23=\"\",\"\",IF(Süt!$C23<=0,\"\",CI21*$AA52))","v":0},{"$f":"IF(Süt!$B23=\"\",\"\",IF(Süt!$C23<=0,\"\",IF(AnimalType <> \"Buzağı\",CI21 * $AA52 * CJ21,CI21 * $AA52)))","v":0},{"$f":"IF(Süt!$B23=\"\",\"\",IF(Süt!$C23<=0,\"\",CK21*$AA52))","v":0},{"$f":"IF(Süt!$B23=\"\",\"\",IF(Süt!$C23<=0,\"\",IF(AnimalType <> \"Buzağı\",CK21 * $AA52 * CL21,CK21 * $AA52)))","v":0},{"$f":"IF(Süt!$B23=\"\",\"\",IF(Süt!$C23<=0,\"\",CM21*$AA52))","v":0},{"$f":"IF(Süt!$B23=\"\",\"\",IF(Süt!$C23<=0,\"\",IF(AnimalType <> \"Buzağı\",CM21 * $AA52 * CN21,CM21 * $AA52)))","v":0},null,null,{"$f":"IF(Süt!$B23=\"\",\"\",IF(Süt!$C23<=0,\"\",CQ21*$AA52))","v":0},{"$f":"IF(Süt!$B23=\"\",\"\",IF(Süt!$C23<=0,\"\",CR21*$AA52))","v":0},{"$f":"IF(Süt!$B23=\"\",\"\",IF(Süt!$C23<=0,\"\",CS21*$AA52))","v":0},-34,1.0530000000000006,1.3229999999999997,"TotalDMFed",{"$f":"TotalRegDMFed","v":21.138159154151602},"total 1X-TDN intake (g/day)",null,null,null,null,null,null,null,null,null,null,"IRKLAR"]
[null,{"$f":"Süt!B17","v":0},{"$f":"ROUND((Süt!C17/Süt!$C$4)*100,2)","v":0},{"$f":"ROUND(Süt!C17,2)","v":0},{"$f":"ROUND(C$34*Süt!C17,2)","v":0},0,0,null,null,null,null,null,null,null,{"$f":"IF(Süt!B24=\"\",\"\",IF(Süt!C24<=0,\"\",Süt!C24))","v":9.5000000000000001E-2},"Tuz",{"$f":"IF(Süt!$B24=\"\",\"\",IF(Süt!$C24<=0,\"\",IF(MID(AN22,1,9)=\"Calf Feed\",0,(AK53/100)*AA53)))","v":0},null,null,null,{"$f":"IF(Süt!$B24=\"\",\"\",IF(Süt!$C24<=0,\"\",Discount*AL53))","v":0},{"$f":"IF(Süt!$B24=\"\",\"\",IF(Süt!$C24<=0,\"\",IF(AP53<0,0,AP53)*AA53))","v":0},null,null,{"$f":"IF(Süt!$B24=\"\",\"\",IF(Süt!$C24<=0,\"\",IF(AR53<0,0,AR53)*AA53))","v":0},{"$f":"IF(Süt!$B24=\"\",\"\",IF(Süt!$C24<=0,\"\",IF(AS53<0,0,AS53)*AA53))","v":0},{"$f":"IF(Süt!$B24=\"\",\"\",IF(Süt!$C24<=0,\"\",$O53*AA22/100))","v":9.5000000000000001E-2},{"$f":"IF(Süt!$B24=\"\",\"\",IF(Süt!$C24<=0,\"\",(AB22/ 100) * (AA53 * 1000)))","v":0},{"$f":"IF(Süt!$B24=\"\",\"\",IF(Süt!$C24<=0,\"\",IF(MID(AN22,1,9)<>\"Calf Feed\",IF(AB22 > 0,IF(S22=\"Forage\", EXP((-1.2 * (AE22 / AB22))) * AB22,IF(AN22 = \"Animal Protein\",(AC22 * AB22),(1 - (0.4 * (AE22 / AB22))) * AB22)),0),0)))","v":0},{"$f":"IF(Süt!$B24=\"\",\"\",IF(Süt!$C24<=0,\"\",IF(MID(AN22,1,9)<>\"Calf Feed\",0.98 * (100 - AH22 - AB22 - AF22 - AL22 + AD22) * T22,0)))","v":0},{"$f":"IF(Süt!$B24=\"\",\"\",IF(Süt!$C24<=0,\"\",IF(MID(AN22,1,9)<>\"Calf Feed\",((100 - AH22 - AB22 - AF22 - AL22 + AD22) /100)*AA53,0)))","v":0},{"$f":"IF(Süt!$B24=\"\",\"\",IF(Süt!$C24<=0,\"\",IF(MID(AN22,1,9)=\"Calf Feed\",0,(AF22/100)*AA53)))","v":0},null,{"$f":"IF(Süt!$B24=\"\",\"\",IF(Süt!$C24<=0,\"\",AH22/100*$AA53))","v":0},{"$f":"IF(Süt!$B24=\"\",\"\",IF(Süt!$C24<=0,\"\",IF(MID(AN22,1,9)<>\"Calf Feed\",IF(AH22 >AD22,AI22*AH22,0),0)))","v":0},{"$f":"IF(Süt!$B24=\"\",\"\",IF(Süt!$C24<=0,\"\",AJ22/100*$AA53))","v":0},null,{"$f":"IF(Süt!$B24=\"\",\"\",IF(Süt!$C24<=0,\"\",IF(MID(AN22,1,9)<>\"Calf Feed\",IF(AN22=\"Fat and Oil\",IF(S22=\"Fatty acids\",AF22*AG22*0.094,((AF22-10)*AG22*0.094)+0.43),IF(AN22=\"Animal Protein\",(AD53*0.042)+(AC53*0.056)+(0.094*(AO53/2.25))-0.3,IF(AI53>0,(AD53*0.042)+(AI53*0.042)+(AC53*0.056)+(0.094*(AO53/2.25))-0.3,IF(AB22>0,(0.98*T22*(0.042*(100-AB22-AF22-AL22))+(AB22*(0.056*(1-(0.4*AE22/AB22)))))+(0.094*(AF22-1))-0.3,(0.98*T22)*(0.042*(100-AF22-AL22))+(0.094*(AF22-1))-0.3)))),U22)))","v":0},9.5000000000000001E-2,6.7825510614442468,{"$f":"IF(Süt!$B24=\"\",\"\",IF(Süt!$C24<=0,\"\",IF(MID(AN22,1,9)<>\"Calf Feed\",IF(AF22 <1,0,(AF22-1)*2.25),0)))","v":0},{"$f":"IF(Süt!$B24=\"\",\"\",IF(Süt!$C24<=0,\"\",IF(AN22 <> \"Fat and Oil\",IF(AF22 >= 3,IF(AnimalType <> \"Damızlık Düve\",(1.01 * U53) - 0.45 + (0.0046 * (AF22 - 3)),0.82 * AL53),IF(AND(AnimalType <> \"Buzağı\",AnimalType <> \"Damızlık Düve\")=TRUE,(1.01 * U53) - 0.45,0.82 * AL53)),U53)))","v":-0.45},{"$f":"IF(Süt!$B24=\"\",\"\",IF(Süt!$C24<=0,\"\",IF(IF(AN22 <> \"Fat and Oil\",IF(AF22 >= 3,(0.703 * AP53) - 0.19 + ((((0.097 * AP53) + 0.19) / 97) * (AF22 - 3)),(0.703 * AP53) - 0.19),0.8*U53)<0,0,IF(AN22 <> \"Fat and Oil\",IF(AF22 >= 3,(0.703 * AP53) - 0.19 + ((((0.097 * AP53) + 0.19) / 97) * (AF22 - 3)),(0.703 * AP53) - 0.19   ),0.8*U53))))","v":0},{"$f":"IF(Süt!$B24=\"\",\"\",IF(Süt!$C24<=0,\"\",IF(MID(AN22,1,9)=\"Calf Feed\",0.75*AA53*V53,IF(IF(AN22 <> \"Fat and Oil\", ((1.37 * 0.82 * AL53) - (0.138 * (0.82 * AL53) ^ 2)+ (0.0105 * (0.82 * AL53) ^ 3) - 1.12),0.8 * U53)<0,0,IF(AN22 <> \"Fat and Oil\", ((1.37 * 0.82 * AL53) - (0.138 * (0.82 * AL53) ^ 2)+ (0.0105 * (0.82 * AL53) ^ 3) - 1.12),0.8 * U53)))))","v":0},{"$f":"IF(Süt!$B24=\"\",\"\",IF(Süt!$C24<=0,\"\",IF(MID(AN22,1,9)=\"Calf Feed\",0.57*AA53*V53,IF(IF(AN22 <> \"Fat and Oil\",((1.42 * 0.82 * AL53) - (0.174 * (0.82 * AL53)^2)+ (0.0122 * (0.82 * AL53)^3) - 1.65),0.55 * U53)<0,0,IF(AN22 <> \"Fat and Oil\",((1.42 * 0.82 * AL53) - (0.174 * (0.82 * AL53)^2)+ (0.0122 * (0.82 * AL53)^3) - 1.65),0.55 * U53)))))","v":0},{"$f":"IF(Süt!$B24=\"\",\"\",IF(Süt!$C24<=0,\"\",IF((AT22+AN53)>0,((AT22/(AT22+AN53))*((((AR22/100)*(AB22/100))*AA53)))+(((AQ22/100)*(AB22/100))*AA53),0)))","v":0},{"$f":"IF(Süt!$B24=\"\",\"\",IF(Süt!$C24<=0,\"\",IF(ISERROR(AB53/1000 - E99)=TRUE,0,AB53/1000 - E99)))","v":0},{"$f":"IF(Süt!$B24=\"\",\"\",IF(Süt!$C24<=0,\"\",IF((AT22+AN53)>0,   IF(BW_DMI<2,  C99,  C99+(BW_DMI-2)*((D99-C99)/2) ),0)))","v":0},{"$f":"IF(Süt!$B24=\"\",\"\",IF(Süt!$C24<=0,\"\",E99*(AW22/100)))","v":0},{"$f":"IF(Süt!$B24=\"\",\"\",IF(Süt!$C24<=0,\"\",IF(AND($AA53 > 0, $AB22 > 0, $AB53 > 0),((($AA53 / TotalDMFed) * ($AB22 / 100) * (($AV53 * 1000) / $AB53)* (AX22 / 100) * TotalDMFed) * 1000),0)))","v":0},{"$f":"IF(Süt!$B24=\"\",\"\",IF(Süt!$C24<=0,\"\",IF(AND($AA53 > 0, $AB22 > 0, $AB53 > 0),((($AA53 / TotalDMFed) * ($AB22 / 100) * (($AV53 * 1000) / $AB53)* (AY22 / 100) * TotalDMFed) * 1000),0)))","v":0},{"$f":"IF(Süt!$B24=\"\",\"\",IF(Süt!$C24<=0,\"\",IF(AND($AA53 > 0, $AB22 > 0, $AB53 > 0),((($AA53 / TotalDMFed) * ($AB22 / 100) * (($AV53 * 1000) / $AB53)* (AZ22 / 100) * TotalDMFed) * 1000),0)))","v":0},{"$f":"IF(Süt!$B24=\"\",\"\",IF(Süt!$C24<=0,\"\",IF(AND($AA53 > 0, $AB22 > 0, $AB53 > 0),((($AA53 / TotalDMFed) * ($AB22 / 100) * (($AV53 * 1000) / $AB53)* (BA22 / 100) * TotalDMFed) * 1000),0)))","v":0},{"$f":"IF(Süt!$B24=\"\",\"\",IF(Süt!$C24<=0,\"\",IF(AND($AA53 > 0, $AB22 > 0, $AB53 > 0),((($AA53 / TotalDMFed) * ($AB22 / 100) * (($AV53 * 1000) / $AB53)* (BB22 / 100) * TotalDMFed) * 1000),0)))","v":0},{"$f":"IF(Süt!$B24=\"\",\"\",IF(Süt!$C24<=0,\"\",IF(AND($AA53 > 0, $AB22 > 0, $AB53 > 0),((($AA53 / TotalDMFed) * ($AB22 / 100) * (($AV53 * 1000) / $AB53)* (BC22 / 100) * TotalDMFed) * 1000),0)))","v":0},{"$f":"IF(Süt!$B24=\"\",\"\",IF(Süt!$C24<=0,\"\",IF(AND($AA53 > 0, $AB22 > 0, $AB53 > 0),((($AA53 / TotalDMFed) * ($AB22 / 100) * (($AV53 * 1000) / $AB53)* (BD22 / 100) * TotalDMFed) * 1000),0)))","v":0},{"$f":"IF(Süt!$B24=\"\",\"\",IF(Süt!$C24<=0,\"\",IF(AND($AA53 > 0, $AB22 > 0, $AB53 > 0),((($AA53 / TotalDMFed) * ($AB22 / 100) * (($AV53 * 1000) / $AB53)* (BE22 / 100) * TotalDMFed) * 1000),0)))","v":0},{"$f":"IF(Süt!$B24=\"\",\"\",IF(Süt!$C24<=0,\"\",IF(AND($AA53 > 0, $AB22 > 0, $AB53 > 0),((($AA53 / TotalDMFed) * ($AB22 / 100) * (($AV53 * 1000) / $AB53)* (BF22 / 100) * TotalDMFed) * 1000),0)))","v":0},{"$f":"IF(Süt!$B24=\"\",\"\",IF(Süt!$C24<=0,\"\",IF(AND($AA53 > 0, $AB22 > 0, $AB53 > 0),((($AA53 / TotalDMFed) * ($AB22 / 100) * (($AV53 * 1000) / $AB53)* (BG22 / 100) * TotalDMFed) * 1000),0)))","v":0},{"$f":"IF(Süt!$B24=\"\",\"\",IF(Süt!$C24<=0,\"\",IF(AND($AA53 > 0, $AB22 > 0, $AB53 > 0),((($AA53 / TotalDMFed) * ($AB22 / 100) * (($AV53 * 1000) / $AB53)* (BH22 / 100) * TotalDMFed) * 1000),0)))","v":0},{"$f":"IF(Süt!$B24=\"\",\"\",IF(Süt!$C24<=0,\"\",IF(AnimalType=\"Buzağı\",IF(P22=\"BUZAĞI BAŞLANGIÇ YEMİ\",AA53,0),0)))","v":0},{"$f":"IF(Süt!$B24=\"\",\"\",IF(Süt!$C24<=0,\"\",IF(AnimalType=\"Buzağı\",IF(AN22=\"Calf Feed-Milk\",AA53,0),0)))","v":0},{"$f":"IF(Süt!$B24=\"\",\"\",IF(Süt!$C24<=0,\"\",IF(AnimalType=\"Buzağı\",IF(P22=\"BUZAĞI BAŞLANGIÇ YEMİ\",0,AA53),0)))","v":0},{"$f":"IF(Süt!$B24=\"\",\"\",IF(Süt!$C24<=0,\"\",IF(S22=\"Forage\",AH53,0)))","v":0},{"$f":"IF(Süt!$B24=\"\",\"\",IF(Süt!$C24<=0,\"\",BM22/100*$AA53))","v":0},{"$f":"IF(Süt!$B24=\"\",\"\",IF(Süt!$C24<=0,\"\",IF(AnimalType <> \"Buzağı\",((BM22 / 100) * $AA53) * BN22,((BM22 / 100) * $AA53))))","v":0},{"$f":"IF(Süt!$B24=\"\",\"\",IF(Süt!$C24<=0,\"\",BO22/100*$AA53))","v":0},{"$f":"IF(Süt!$B24=\"\",\"\",IF(Süt!$C24<=0,\"\",IF(AnimalType <> \"Buzağı\",((BO22 / 100) * $AA53) * BP22,((BO22 / 100) * $AA53))))","v":0},{"$f":"IF(Süt!$B24=\"\",\"\",IF(Süt!$C24<=0,\"\",BQ22/100*$AA53))","v":0},{"$f":"IF(Süt!$B24=\"\",\"\",IF(Süt!$C24<=0,\"\",IF(AnimalType <> \"Buzağı\",((BQ22 / 100) * $AA53) * BR22,((BQ22 / 100) * $AA53))))","v":0},{"$f":"IF(Süt!$B24=\"\",\"\",IF(Süt!$C24<=0,\"\",BS22/100*$AA53))","v":0},{"$f":"IF(Süt!$B24=\"\",\"\",IF(Süt!$C24<=0,\"\",IF(AnimalType <> \"Buzağı\",((BS22 / 100) * $AA53) * BT22,((BS22 / 100) * $AA53))))","v":0},{"$f":"IF(Süt!$B24=\"\",\"\",IF(Süt!$C24<=0,\"\",BU22/100*$AA53))","v":3.7373000000000003E-2},{"$f":"IF(Süt!$B24=\"\",\"\",IF(Süt!$C24<=0,\"\",IF(AnimalType <> \"Buzağı\",((BU22 / 100) * $AA53) * BV22,((BU22 / 100) * $AA53))))","v":3.3635700000000004E-2},{"$f":"IF(Süt!$B24=\"\",\"\",IF(Süt!$C24<=0,\"\",BW22/100*$AA53))","v":5.7626999999999991E-2},{"$f":"IF(Süt!$B24=\"\",\"\",IF(Süt!$C24<=0,\"\",IF(AnimalType <> \"Buzağı\",((BW22 / 100) * $AA53) * BX22,((BW22 / 100) * $AA53))))","v":5.1864299999999995E-2},{"$f":"IF(Süt!$B24=\"\",\"\",IF(Süt!$C24<=0,\"\",BY22/100*$AA53))","v":0},{"$f":"IF(Süt!$B24=\"\",\"\",IF(Süt!$C24<=0,\"\",IF(AnimalType <> \"Buzağı\",((BY22 / 100) * $AA53) * BZ22,((BY22 / 100) * $AA53))))","v":0},{"$f":"IF(Süt!$B24=\"\",\"\",IF(Süt!$C24<=0,\"\",CA22*$AA53))","v":0},{"$f":"IF(Süt!$B24=\"\",\"\",IF(Süt!$C24<=0,\"\",IF(AnimalType <> \"Buzağı\",CA22 * $AA53 * CB22,CA22 * $AA53)))","v":0},{"$f":"IF(Süt!$B24=\"\",\"\",IF(Süt!$C24<=0,\"\",CC22*$AA53))","v":0},{"$f":"IF(Süt!$B24=\"\",\"\",IF(Süt!$C24<=0,\"\",IF(AnimalType <> \"Buzağı\",CC22 * $AA53 * CD22,CC22 * $AA53)))","v":0},{"$f":"IF(Süt!$B24=\"\",\"\",IF(Süt!$C24<=0,\"\",CE22*$AA53))","v":0},{"$f":"IF(Süt!$B24=\"\",\"\",IF(Süt!$C24<=0,\"\",IF(AnimalType <> \"Buzağı\",CE22 * $AA53 * CF22,CE22 * $AA53)))","v":0},{"$f":"IF(Süt!$B24=\"\",\"\",IF(Süt!$C24<=0,\"\",CG22*$AA53))","v":0},{"$f":"IF(Süt!$B24=\"\",\"\",IF(Süt!$C24<=0,\"\",IF(AnimalType <> \"Buzağı\",CG22 * $AA53 * CH22,CG22 * $AA53)))","v":0},{"$f":"IF(Süt!$B24=\"\",\"\",IF(Süt!$C24<=0,\"\",CI22*$AA53))","v":0},{"$f":"IF(Süt!$B24=\"\",\"\",IF(Süt!$C24<=0,\"\",IF(AnimalType <> \"Buzağı\",CI22 * $AA53 * CJ22,CI22 * $AA53)))","v":0},{"$f":"IF(Süt!$B24=\"\",\"\",IF(Süt!$C24<=0,\"\",CK22*$AA53))","v":0},{"$f":"IF(Süt!$B24=\"\",\"\",IF(Süt!$C24<=0,\"\",IF(AnimalType <> \"Buzağı\",CK22 * $AA53 * CL22,CK22 * $AA53)))","v":0},{"$f":"IF(Süt!$B24=\"\",\"\",IF(Süt!$C24<=0,\"\",CM22*$AA53))","v":0},{"$f":"IF(Süt!$B24=\"\",\"\",IF(Süt!$C24<=0,\"\",IF(AnimalType <> \"Buzağı\",CM22 * $AA53 * CN22,CM22 * $AA53)))","v":0},null,null,{"$f":"IF(Süt!$B24=\"\",\"\",IF(Süt!$C24<=0,\"\",CQ22*$AA53))","v":0},{"$f":"IF(Süt!$B24=\"\",\"\",IF(Süt!$C24<=0,\"\",CR22*$AA53))","v":0},{"$f":"IF(Süt!$B24=\"\",\"\",IF(Süt!$C24<=0,\"\",CS22*$AA53))","v":0},-35,1.08,1.35,"DMI_to_DMIMaint",{"$f":"IF(AnimalType <> \"Buzağı\",IF(AnimalType = \"Damızlık Düve\",TotalTDN / (0.035 * (SBW ^ 0.75)),TotalTDN / (0.035 * (BW ^ 0.75))),TotalTDN / (0.035 * (CalfBW ^ 0.75)))","v":3.0991347090003138},null,null,null,null,null,null,null,null,null,null,null,"Ayrşayr"]
[null,{"$f":"Süt!B18","v":0},{"$f":"ROUND((Süt!C18/Süt!$C$4)*100,2)","v":0},{"$f":"ROUND(Süt!C18,2)","v":0},{"$f":"ROUND(C$34*Süt!C18,2)","v":0},0,0,null,null,null,null,null,null,null,{"$f":"IF(Süt!B25=\"\",\"\",IF(Süt!C25<=0,\"\",Süt!C25))","v":0.02},"Vit-Min. Kar. (Kavimix  VM 902), 1 kg/ton",{"$f":"IF(Süt!$B25=\"\",\"\",IF(Süt!$C25<=0,\"\",IF(MID(AN23,1,9)=\"Calf Feed\",0,(AK54/100)*AA54)))","v":0},null,null,null,{"$f":"IF(Süt!$B25=\"\",\"\",IF(Süt!$C25<=0,\"\",Discount*AL54))","v":0},{"$f":"IF(Süt!$B25=\"\",\"\",IF(Süt!$C25<=0,\"\",IF(AP54<0,0,AP54)*AA54))","v":0},null,null,{"$f":"IF(Süt!$B25=\"\",\"\",IF(Süt!$C25<=0,\"\",IF(AR54<0,0,AR54)*AA54))","v":0},{"$f":"IF(Süt!$B25=\"\",\"\",IF(Süt!$C25<=0,\"\",IF(AS54<0,0,AS54)*AA54))","v":0},{"$f":"IF(Süt!$B25=\"\",\"\",IF(Süt!$C25<=0,\"\",$O54*AA23/100))","v":0.02},{"$f":"IF(Süt!$B25=\"\",\"\",IF(Süt!$C25<=0,\"\",(AB23/ 100) * (AA54 * 1000)))","v":0},{"$f":"IF(Süt!$B25=\"\",\"\",IF(Süt!$C25<=0,\"\",IF(MID(AN23,1,9)<>\"Calf Feed\",IF(AB23 > 0,IF(S23=\"Forage\", EXP((-1.2 * (AE23 / AB23))) * AB23,IF(AN23 = \"Animal Protein\",(AC23 * AB23),(1 - (0.4 * (AE23 / AB23))) * AB23)),0),0)))","v":0},{"$f":"IF(Süt!$B25=\"\",\"\",IF(Süt!$C25<=0,\"\",IF(MID(AN23,1,9)<>\"Calf Feed\",0.98 * (100 - AH23 - AB23 - AF23 - AL23 + AD23) * T23,0)))","v":0},{"$f":"IF(Süt!$B25=\"\",\"\",IF(Süt!$C25<=0,\"\",IF(MID(AN23,1,9)<>\"Calf Feed\",((100 - AH23 - AB23 - AF23 - AL23 + AD23) /100)*AA54,0)))","v":0},{"$f":"IF(Süt!$B25=\"\",\"\",IF(Süt!$C25<=0,\"\",IF(MID(AN23,1,9)=\"Calf Feed\",0,(AF23/100)*AA54)))","v":0},null,{"$f":"IF(Süt!$B25=\"\",\"\",IF(Süt!$C25<=0,\"\",AH23/100*$AA54))","v":0},{"$f":"IF(Süt!$B25=\"\",\"\",IF(Süt!$C25<=0,\"\",IF(MID(AN23,1,9)<>\"Calf Feed\",IF(AH23 >AD23,AI23*AH23,0),0)))","v":0},{"$f":"IF(Süt!$B25=\"\",\"\",IF(Süt!$C25<=0,\"\",AJ23/100*$AA54))","v":0},null,{"$f":"IF(Süt!$B25=\"\",\"\",IF(Süt!$C25<=0,\"\",IF(MID(AN23,1,9)<>\"Calf Feed\",IF(AN23=\"Fat and Oil\",IF(S23=\"Fatty acids\",AF23*AG23*0.094,((AF23-10)*AG23*0.094)+0.43),IF(AN23=\"Animal Protein\",(AD54*0.042)+(AC54*0.056)+(0.094*(AO54/2.25))-0.3,IF(AI54>0,(AD54*0.042)+(AI54*0.042)+(AC54*0.056)+(0.094*(AO54/2.25))-0.3,IF(AB23>0,(0.98*T23*(0.042*(100-AB23-AF23-AL23))+(AB23*(0.056*(1-(0.4*AE23/AB23)))))+(0.094*(AF23-1))-0.3,(0.98*T23)*(0.042*(100-AF23-AL23))+(0.094*(AF23-1))-0.3)))),U23)))","v":0},{"$f":"IF(AM23=\"Conc\",AA54,0)","v":0.02},{"$f":"IF(ISERROR(IF(AM23=\"Conc\",2.904 + (1.375 * BW_DMI) - (0.02 * PercentConc),IF(AM23=\"Dry\",3.362 + (0.479 * BW_DMI) - (0.017 * AH23) - (0.007 * PercentConc),IF(AM23=\"Wet\",3.054 + (0.614 * BW_DMI),0)))<0)=TRUE,0,IF(AM23=\"Conc\",2.904 + (1.375 * BW_DMI) - (0.02 * PercentConc),IF(AM23=\"Dry\",3.362 + (0.479 * BW_DMI) - (0.017 * AH23) - (0.007 * PercentConc),IF(AM23=\"Wet\",3.054 + (0.614 * BW_DMI),0))))","v":6.7825510614442468},{"$f":"IF(Süt!$B25=\"\",\"\",IF(Süt!$C25<=0,\"\",IF(MID(AN23,1,9)<>\"Calf Feed\",IF(AF23 <1,0,(AF23-1)*2.25),0)))","v":0},{"$f":"IF(Süt!$B25=\"\",\"\",IF(Süt!$C25<=0,\"\",IF(AN23 <> \"Fat and Oil\",IF(AF23 >= 3,IF(AnimalType <> \"Damızlık Düve\",(1.01 * U54) - 0.45 + (0.0046 * (AF23 - 3)),0.82 * AL54),IF(AND(AnimalType <> \"Buzağı\",AnimalType <> \"Damızlık Düve\")=TRUE,(1.01 * U54) - 0.45,0.82 * AL54)),U54)))","v":-0.45},{"$f":"IF(Süt!$B25=\"\",\"\",IF(Süt!$C25<=0,\"\",IF(IF(AN23 <> \"Fat and Oil\",IF(AF23 >= 3,(0.703 * AP54) - 0.19 + ((((0.097 * AP54) + 0.19) / 97) * (AF23 - 3)),(0.703 * AP54) - 0.19),0.8*U54)<0,0,IF(AN23 <> \"Fat and Oil\",IF(AF23 >= 3,(0.703 * AP54) - 0.19 + ((((0.097 * AP54) + 0.19) / 97) * (AF23 - 3)),(0.703 * AP54) - 0.19   ),0.8*U54))))","v":0},{"$f":"IF(Süt!$B25=\"\",\"\",IF(Süt!$C25<=0,\"\",IF(MID(AN23,1,9)=\"Calf Feed\",0.75*AA54*V54,IF(IF(AN23 <> \"Fat and Oil\", ((1.37 * 0.82 * AL54) - (0.138 * (0.82 * AL54) ^ 2)+ (0.0105 * (0.82 * AL54) ^ 3) - 1.12),0.8 * U54)<0,0,IF(AN23 <> \"Fat and Oil\", ((1.37 * 0.82 * AL54) - (0.138 * (0.82 * AL54) ^ 2)+ (0.0105 * (0.82 * AL54) ^ 3) - 1.12),0.8 * U54)))))","v":0},{"$f":"IF(Süt!$B25=\"\",\"\",IF(Süt!$C25<=0,\"\",IF(MID(AN23,1,9)=\"Calf Feed\",0.57*AA54*V54,IF(IF(AN23 <> \"Fat and Oil\",((1.42 * 0.82 * AL54) - (0.174 * (0.82 * AL54)^2)+ (0.0122 * (0.82 * AL54)^3) - 1.65),0.55 * U54)<0,0,IF(AN23 <> \"Fat and Oil\",((1.42 * 0.82 * AL54) - (0.174 * (0.82 * AL54)^2)+ (0.0122 * (0.82 * AL54)^3) - 1.65),0.55 * U54)))))","v":0},{"$f":"IF(Süt!$B25=\"\",\"\",IF(Süt!$C25<=0,\"\",IF((AT23+AN54)>0,((AT23/(AT23+AN54))*((((AR23/100)*(AB23/100))*AA54)))+(((AQ23/100)*(AB23/100))*AA54),0)))","v":0},{"$f":"IF(Süt!$B25=\"\",\"\",IF(Süt!$C25<=0,\"\",IF(ISERROR(AB54/1000 - E100)=TRUE,0,AB54/1000 - E100)))","v":0},{"$f":"IF(Süt!$B25=\"\",\"\",IF(Süt!$C25<=0,\"\",IF((AT23+AN54)>0,   IF(BW_DMI<2,  C100,  C100+(BW_DMI-2)*((D100-C100)/2) ),0)))","v":0},{"$f":"IF(Süt!$B25=\"\",\"\",IF(Süt!$C25<=0,\"\",E100*(AW23/100)))","v":0},{"$f":"IF(Süt!$B25=\"\",\"\",IF(Süt!$C25<=0,\"\",IF(AND($AA54 > 0, $AB23 > 0, $AB54 > 0),((($AA54 / TotalDMFed) * ($AB23 / 100) * (($AV54 * 1000) / $AB54)* (AX23 / 100) * TotalDMFed) * 1000),0)))","v":0},{"$f":"IF(Süt!$B25=\"\",\"\",IF(Süt!$C25<=0,\"\",IF(AND($AA54 > 0, $AB23 > 0, $AB54 > 0),((($AA54 / TotalDMFed) * ($AB23 / 100) * (($AV54 * 1000) / $AB54)* (AY23 / 100) * TotalDMFed) * 1000),0)))","v":0},{"$f":"IF(Süt!$B25=\"\",\"\",IF(Süt!$C25<=0,\"\",IF(AND($AA54 > 0, $AB23 > 0, $AB54 > 0),((($AA54 / TotalDMFed) * ($AB23 / 100) * (($AV54 * 1000) / $AB54)* (AZ23 / 100) * TotalDMFed) * 1000),0)))","v":0},{"$f":"IF(Süt!$B25=\"\",\"\",IF(Süt!$C25<=0,\"\",IF(AND($AA54 > 0, $AB23 > 0, $AB54 > 0),((($AA54 / TotalDMFed) * ($AB23 / 100) * (($AV54 * 1000) / $AB54)* (BA23 / 100) * TotalDMFed) * 1000),0)))","v":0},{"$f":"IF(Süt!$B25=\"\",\"\",IF(Süt!$C25<=0,\"\",IF(AND($AA54 > 0, $AB23 > 0, $AB54 > 0),((($AA54 / TotalDMFed) * ($AB23 / 100) * (($AV54 * 1000) / $AB54)* (BB23 / 100) * TotalDMFed) * 1000),0)))","v":0},{"$f":"IF(Süt!$B25=\"\",\"\",IF(Süt!$C25<=0,\"\",IF(AND($AA54 > 0, $AB23 > 0, $AB54 > 0),((($AA54 / TotalDMFed) * ($AB23 / 100) * (($AV54 * 1000) / $AB54)* (BC23 / 100) * TotalDMFed) * 1000),0)))","v":0},{"$f":"IF(Süt!$B25=\"\",\"\",IF(Süt!$C25<=0,\"\",IF(AND($AA54 > 0, $AB23 > 0, $AB54 > 0),((($AA54 / TotalDMFed) * ($AB23 / 100) * (($AV54 * 1000) / $AB54)* (BD23 / 100) * TotalDMFed) * 1000),0)))","v":0},{"$f":"IF(Süt!$B25=\"\",\"\",IF(Süt!$C25<=0,\"\",IF(AND($AA54 > 0, $AB23 > 0, $AB54 > 0),((($AA54 / TotalDMFed) * ($AB23 / 100) * (($AV54 * 1000) / $AB54)* (BE23 / 100) * TotalDMFed) * 1000),0)))","v":0},{"$f":"IF(Süt!$B25=\"\",\"\",IF(Süt!$C25<=0,\"\",IF(AND($AA54 > 0, $AB23 > 0, $AB54 > 0),((($AA54 / TotalDMFed) * ($AB23 / 100) * (($AV54 * 1000) / $AB54)* (BF23 / 100) * TotalDMFed) * 1000),0)))","v":0},{"$f":"IF(Süt!$B25=\"\",\"\",IF(Süt!$C25<=0,\"\",IF(AND($AA54 > 0, $AB23 > 0, $AB54 > 0),((($AA54 / TotalDMFed) * ($AB23 / 100) * (($AV54 * 1000) / $AB54)* (BG23 / 100) * TotalDMFed) * 1000),0)))","v":0},{"$f":"IF(Süt!$B25=\"\",\"\",IF(Süt!$C25<=0,\"\",IF(AND($AA54 > 0, $AB23 > 0, $AB54 > 0),((($AA54 / TotalDMFed) * ($AB23 / 100) * (($AV54 * 1000) / $AB54)* (BH23 / 100) * TotalDMFed) * 1000),0)))","v":0},{"$f":"IF(Süt!$B25=\"\",\"\",IF(Süt!$C25<=0,\"\",IF(AnimalType=\"Buzağı\",IF(P23=\"BUZAĞI BAŞLANGIÇ YEMİ\",AA54,0),0)))","v":0},{"$f":"IF(Süt!$B25=\"\",\"\",IF(Süt!$C25<=0,\"\",IF(AnimalType=\"Buzağı\",IF(AN23=\"Calf Feed-Milk\",AA54,0),0)))","v":0},{"$f":"IF(Süt!$B25=\"\",\"\",IF(Süt!$C25<=0,\"\",IF(AnimalType=\"Buzağı\",IF(P23=\"BUZAĞI BAŞLANGIÇ YEMİ\",0,AA54),0)))","v":0},{"$f":"IF(Süt!$B25=\"\",\"\",IF(Süt!$C25<=0,\"\",IF(S23=\"Forage\",AH54,0)))","v":0},{"$f":"IF(Süt!$B25=\"\",\"\",IF(Süt!$C25<=0,\"\",BM23/100*$AA54))","v":0},{"$f":"IF(Süt!$B25=\"\",\"\",IF(Süt!$C25<=0,\"\",IF(AnimalType <> \"Buzağı\",((BM23 / 100) * $AA54) * BN23,((BM23 / 100) * $AA54))))","v":0},{"$f":"IF(Süt!$B25=\"\",\"\",IF(Süt!$C25<=0,\"\",BO23/100*$AA54))","v":0},{"$f":"IF(Süt!$B25=\"\",\"\",IF(Süt!$C25<=0,\"\",IF(AnimalType <> \"Buzağı\",((BO23 / 100) * $AA54) * BP23,((BO23 / 100) * $AA54))))","v":0},{"$f":"IF(Süt!$B25=\"\",\"\",IF(Süt!$C25<=0,\"\",BQ23/100*$AA54))","v":0},{"$f":"IF(Süt!$B25=\"\",\"\",IF(Süt!$C25<=0,\"\",IF(AnimalType <> \"Buzağı\",((BQ23 / 100) * $AA54) * BR23,((BQ23 / 100) * $AA54))))","v":0},{"$f":"IF(Süt!$B25=\"\",\"\",IF(Süt!$C25<=0,\"\",BS23/100*$AA54))","v":0},{"$f":"IF(Süt!$B25=\"\",\"\",IF(Süt!$C25<=0,\"\",IF(AnimalType <> \"Buzağı\",((BS23 / 100) * $AA54) * BT23,((BS23 / 100) * $AA54))))","v":0},{"$f":"IF(Süt!$B25=\"\",\"\",IF(Süt!$C25<=0,\"\",BU23/100*$AA54))","v":0},{"$f":"IF(Süt!$B25=\"\",\"\",IF(Süt!$C25<=0,\"\",IF(AnimalType <> \"Buzağı\",((BU23 / 100) * $AA54) * BV23,((BU23 / 100) * $AA54))))","v":0},{"$f":"IF(Süt!$B25=\"\",\"\",IF(Süt!$C25<=0,\"\",BW23/100*$AA54))","v":0},{"$f":"IF(Süt!$B25=\"\",\"\",IF(Süt!$C25<=0,\"\",IF(AnimalType <> \"Buzağı\",((BW23 / 100) * $AA54) * BX23,((BW23 / 100) * $AA54))))","v":0},{"$f":"IF(Süt!$B25=\"\",\"\",IF(Süt!$C25<=0,\"\",BY23/100*$AA54))","v":0},{"$f":"IF(Süt!$B25=\"\",\"\",IF(Süt!$C25<=0,\"\",IF(AnimalType <> \"Buzağı\",((BY23 / 100) * $AA54) * BZ23,((BY23 / 100) * $AA54))))","v":0},{"$f":"IF(Süt!$B25=\"\",\"\",IF(Süt!$C25<=0,\"\",CA23*$AA54))","v":3},{"$f":"IF(Süt!$B25=\"\",\"\",IF(Süt!$C25<=0,\"\",IF(AnimalType <> \"Buzağı\",CA23 * $AA54 * CB23,CA23 * $AA54)))","v":3},{"$f":"IF(Süt!$B25=\"\",\"\",IF(Süt!$C25<=0,\"\",CC23*$AA54))","v":200},{"$f":"IF(Süt!$B25=\"\",\"\",IF(Süt!$C25<=0,\"\",IF(AnimalType <> \"Buzağı\",CC23 * $AA54 * CD23,CC23 * $AA54)))","v":8},{"$f":"IF(Süt!$B25=\"\",\"\",IF(Süt!$C25<=0,\"\",CE23*$AA54))","v":16},{"$f":"IF(Süt!$B25=\"\",\"\",IF(Süt!$C25<=0,\"\",IF(AnimalType <> \"Buzağı\",CE23 * $AA54 * CF23,CE23 * $AA54)))","v":13.6},{"$f":"IF(Süt!$B25=\"\",\"\",IF(Süt!$C25<=0,\"\",CG23*$AA54))","v":1000},{"$f":"IF(Süt!$B25=\"\",\"\",IF(Süt!$C25<=0,\"\",IF(AnimalType <> \"Buzağı\",CG23 * $AA54 * CH23,CG23 * $AA54)))","v":100},{"$f":"IF(Süt!$B25=\"\",\"\",IF(Süt!$C25<=0,\"\",CI23*$AA54))","v":1000},{"$f":"IF(Süt!$B25=\"\",\"\",IF(Süt!$C25<=0,\"\",IF(AnimalType <> \"Buzağı\",CI23 * $AA54 * CJ23,CI23 * $AA54)))","v":10},{"$f":"IF(Süt!$B25=\"\",\"\",IF(Süt!$C25<=0,\"\",CK23*$AA54))","v":3},{"$f":"IF(Süt!$B25=\"\",\"\",IF(Süt!$C25<=0,\"\",IF(AnimalType <> \"Buzağı\",CK23 * $AA54 * CL23,CK23 * $AA54)))","v":3},{"$f":"IF(Süt!$B25=\"\",\"\",IF(Süt!$C25<=0,\"\",CM23*$AA54))","v":1000},{"$f":"IF(Süt!$B25=\"\",\"\",IF(Süt!$C25<=0,\"\",IF(AnimalType <> \"Buzağı\",CM23 * $AA54 * CN23,CM23 * $AA54)))","v":150},null,null,{"$f":"IF(Süt!$B25=\"\",\"\",IF(Süt!$C25<=0,\"\",CQ23*$AA54))","v":300},{"$f":"IF(Süt!$B25=\"\",\"\",IF(Süt!$C25<=0,\"\",CR23*$AA54))","v":60},{"$f":"IF(Süt!$B25=\"\",\"\",IF(Süt!$C25<=0,\"\",CS23*$AA54))","v":600},null,null,null,"DiscountVariable",{"$f":" IF(((0.18 * TDNConc) - 10.3) * (DMI_to_DMIMaint - 1)<0,0,((0.18 * TDNConc) - 10.3) * (DMI_to_DMIMaint - 1))","v":3.3386013504213978},"Discount için faktör",null,null,null,null,null,null,null,null,null,null,"Montafon"]
[null,{"$f":"Süt!B19","v":0},{"$f":"ROUND((Süt!C19/Süt!$C$4)*100,2)","v":0},{"$f":"ROUND(Süt!C19,2)","v":0},{"$f":"ROUND(C$34*Süt!C19,2)","v":0},0,0,null,null,null,null,null,null,null,{"$f":"IF(Süt!B26=\"\",\"\",IF(Süt!C26<=0,\"\",Süt!C26))","v":""},"",{"$f":"IF(Süt!$B26=\"\",\"\",IF(Süt!$C26<=0,\"\",IF(MID(AN24,1,9)=\"Calf Feed\",0,(AK55/100)*AA55)))","v":""},null,null,null,{"$f":"IF(Süt!$B26=\"\",\"\",IF(Süt!$C26<=0,\"\",Discount*AL55))","v":""},{"$f":"IF(Süt!$B26=\"\",\"\",IF(Süt!$C26<=0,\"\",IF(AP55<0,0,AP55)*AA55))","v":""},null,null,{"$f":"IF(Süt!$B26=\"\",\"\",IF(Süt!$C26<=0,\"\",IF(AR55<0,0,AR55)*AA55))","v":""},{"$f":"IF(Süt!$B26=\"\",\"\",IF(Süt!$C26<=0,\"\",IF(AS55<0,0,AS55)*AA55))","v":""},{"$f":"IF(Süt!$B26=\"\",\"\",IF(Süt!$C26<=0,\"\",$O55*AA24/100))","v":""},{"$f":"IF(Süt!$B26=\"\",\"\",IF(Süt!$C26<=0,\"\",(AB24/ 100) * (AA55 * 1000)))","v":""},{"$f":"IF(Süt!$B26=\"\",\"\",IF(Süt!$C26<=0,\"\",IF(MID(AN24,1,9)<>\"Calf Feed\",IF(AB24 > 0,IF(S24=\"Forage\", EXP((-1.2 * (AE24 / AB24))) * AB24,IF(AN24 = \"Animal Protein\",(AC24 * AB24),(1 - (0.4 * (AE24 / AB24))) * AB24)),0),0)))","v":""},{"$f":"IF(Süt!$B26=\"\",\"\",IF(Süt!$C26<=0,\"\",IF(MID(AN24,1,9)<>\"Calf Feed\",0.98 * (100 - AH24 - AB24 - AF24 - AL24 + AD24) * T24,0)))","v":""},{"$f":"IF(Süt!$B26=\"\",\"\",IF(Süt!$C26<=0,\"\",IF(MID(AN24,1,9)<>\"Calf Feed\",((100 - AH24 - AB24 - AF24 - AL24 + AD24) /100)*AA55,0)))","v":""},{"$f":"IF(Süt!$B26=\"\",\"\",IF(Süt!$C26<=0,\"\",IF(MID(AN24,1,9)=\"Calf Feed\",0,(AF24/100)*AA55)))","v":""},null,{"$f":"IF(Süt!$B26=\"\",\"\",IF(Süt!$C26<=0,\"\",AH24/100*$AA55))","v":""},{"$f":"IF(Süt!$B26=\"\",\"\",IF(Süt!$C26<=0,\"\",IF(MID(AN24,1,9)<>\"Calf Feed\",IF(AH24 >AD24,AI24*AH24,0),0)))","v":""},{"$f":"IF(Süt!$B26=\"\",\"\",IF(Süt!$C26<=0,\"\",AJ24/100*$AA55))","v":""},null,{"$f":"IF(Süt!$B26=\"\",\"\",IF(Süt!$C26<=0,\"\",IF(MID(AN24,1,9)<>\"Calf Feed\",IF(AN24=\"Fat and Oil\",IF(S24=\"Fatty acids\",AF24*AG24*0.094,((AF24-10)*AG24*0.094)+0.43),IF(AN24=\"Animal Protein\",(AD55*0.042)+(AC55*0.056)+(0.094*(AO55/2.25))-0.3,IF(AI55>0,(AD55*0.042)+(AI55*0.042)+(AC55*0.056)+(0.094*(AO55/2.25))-0.3,IF(AB24>0,(0.98*T24*(0.042*(100-AB24-AF24-AL24))+(AB24*(0.056*(1-(0.4*AE24/AB24)))))+(0.094*(AF24-1))-0.3,(0.98*T24)*(0.042*(100-AF24-AL24))+(0.094*(AF24-1))-0.3)))),U24)))","v":""},0,0,{"$f":"IF(Süt!$B26=\"\",\"\",IF(Süt!$C26<=0,\"\",IF(MID(AN24,1,9)<>\"Calf Feed\",IF(AF24 <1,0,(AF24-1)*2.25),0)))","v":""},{"$f":"IF(Süt!$B26=\"\",\"\",IF(Süt!$C26<=0,\"\",IF(AN24 <> \"Fat and Oil\",IF(AF24 >= 3,IF(AnimalType <> \"Damızlık Düve\",(1.01 * U55) - 0.45 + (0.0046 * (AF24 - 3)),0.82 * AL55),IF(AND(AnimalType <> \"Buzağı\",AnimalType <> \"Damızlık Düve\")=TRUE,(1.01 * U55) - 0.45,0.82 * AL55)),U55)))","v":""},{"$f":"IF(Süt!$B26=\"\",\"\",IF(Süt!$C26<=0,\"\",IF(IF(AN24 <> \"Fat and Oil\",IF(AF24 >= 3,(0.703 * AP55) - 0.19 + ((((0.097 * AP55) + 0.19) / 97) * (AF24 - 3)),(0.703 * AP55) - 0.19),0.8*U55)<0,0,IF(AN24 <> \"Fat and Oil\",IF(AF24 >= 3,(0.703 * AP55) - 0.19 + ((((0.097 * AP55) + 0.19) / 97) * (AF24 - 3)),(0.703 * AP55) - 0.19   ),0.8*U55))))","v":""},{"$f":"IF(Süt!$B26=\"\",\"\",IF(Süt!$C26<=0,\"\",IF(MID(AN24,1,9)=\"Calf Feed\",0.75*AA55*V55,IF(IF(AN24 <> \"Fat and Oil\", ((1.37 * 0.82 * AL55) - (0.138 * (0.82 * AL55) ^ 2)+ (0.0105 * (0.82 * AL55) ^ 3) - 1.12),0.8 * U55)<0,0,IF(AN24 <> \"Fat and Oil\", ((1.37 * 0.82 * AL55) - (0.138 * (0.82 * AL55) ^ 2)+ (0.0105 * (0.82 * AL55) ^ 3) - 1.12),0.8 * U55)))))","v":""},{"$f":"IF(Süt!$B26=\"\",\"\",IF(Süt!$C26<=0,\"\",IF(MID(AN24,1,9)=\"Calf Feed\",0.57*AA55*V55,IF(IF(AN24 <> \"Fat and Oil\",((1.42 * 0.82 * AL55) - (0.174 * (0.82 * AL55)^2)+ (0.0122 * (0.82 * AL55)^3) - 1.65),0.55 * U55)<0,0,IF(AN24 <> \"Fat and Oil\",((1.42 * 0.82 * AL55) - (0.174 * (0.82 * AL55)^2)+ (0.0122 * (0.82 * AL55)^3) - 1.65),0.55 * U55)))))","v":""},{"$f":"IF(Süt!$B26=\"\",\"\",IF(Süt!$C26<=0,\"\",IF((AT24+AN55)>0,((AT24/(AT24+AN55))*((((AR24/100)*(AB24/100))*AA55)))+(((AQ24/100)*(AB24/100))*AA55),0)))","v":""},{"$f":"IF(Süt!$B26=\"\",\"\",IF(Süt!$C26<=0,\"\",IF(ISERROR(AB55/1000 - E101)=TRUE,0,AB55/1000 - E101)))","v":""},{"$f":"IF(Süt!$B26=\"\",\"\",IF(Süt!$C26<=0,\"\",IF((AT24+AN55)>0,   IF(BW_DMI<2,  C101,  C101+(BW_DMI-2)*((D101-C101)/2) ),0)))","v":""},{"$f":"IF(Süt!$B26=\"\",\"\",IF(Süt!$C26<=0,\"\",E101*(AW24/100)))","v":""},{"$f":"IF(Süt!$B26=\"\",\"\",IF(Süt!$C26<=0,\"\",IF(AND($AA55 > 0, $AB24 > 0, $AB55 > 0),((($AA55 / TotalDMFed) * ($AB24 / 100) * (($AV55 * 1000) / $AB55)* (AX24 / 100) * TotalDMFed) * 1000),0)))","v":""},{"$f":"IF(Süt!$B26=\"\",\"\",IF(Süt!$C26<=0,\"\",IF(AND($AA55 > 0, $AB24 > 0, $AB55 > 0),((($AA55 / TotalDMFed) * ($AB24 / 100) * (($AV55 * 1000) / $AB55)* (AY24 / 100) * TotalDMFed) * 1000),0)))","v":""},{"$f":"IF(Süt!$B26=\"\",\"\",IF(Süt!$C26<=0,\"\",IF(AND($AA55 > 0, $AB24 > 0, $AB55 > 0),((($AA55 / TotalDMFed) * ($AB24 / 100) * (($AV55 * 1000) / $AB55)* (AZ24 / 100) * TotalDMFed) * 1000),0)))","v":""},{"$f":"IF(Süt!$B26=\"\",\"\",IF(Süt!$C26<=0,\"\",IF(AND($AA55 > 0, $AB24 > 0, $AB55 > 0),((($AA55 / TotalDMFed) * ($AB24 / 100) * (($AV55 * 1000) / $AB55)* (BA24 / 100) * TotalDMFed) * 1000),0)))","v":""},{"$f":"IF(Süt!$B26=\"\",\"\",IF(Süt!$C26<=0,\"\",IF(AND($AA55 > 0, $AB24 > 0, $AB55 > 0),((($AA55 / TotalDMFed) * ($AB24 / 100) * (($AV55 * 1000) / $AB55)* (BB24 / 100) * TotalDMFed) * 1000),0)))","v":""},{"$f":"IF(Süt!$B26=\"\",\"\",IF(Süt!$C26<=0,\"\",IF(AND($AA55 > 0, $AB24 > 0, $AB55 > 0),((($AA55 / TotalDMFed) * ($AB24 / 100) * (($AV55 * 1000) / $AB55)* (BC24 / 100) * TotalDMFed) * 1000),0)))","v":""},{"$f":"IF(Süt!$B26=\"\",\"\",IF(Süt!$C26<=0,\"\",IF(AND($AA55 > 0, $AB24 > 0, $AB55 > 0),((($AA55 / TotalDMFed) * ($AB24 / 100) * (($AV55 * 1000) / $AB55)* (BD24 / 100) * TotalDMFed) * 1000),0)))","v":""},{"$f":"IF(Süt!$B26=\"\",\"\",IF(Süt!$C26<=0,\"\",IF(AND($AA55 > 0, $AB24 > 0, $AB55 > 0),((($AA55 / TotalDMFed) * ($AB24 / 100) * (($AV55 * 1000) / $AB55)* (BE24 / 100) * TotalDMFed) * 1000),0)))","v":""},{"$f":"IF(Süt!$B26=\"\",\"\",IF(Süt!$C26<=0,\"\",IF(AND($AA55 > 0, $AB24 > 0, $AB55 > 0),((($AA55 / TotalDMFed) * ($AB24 / 100) * (($AV55 * 1000) / $AB55)* (BF24 / 100) * TotalDMFed) * 1000),0)))","v":""},{"$f":"IF(Süt!$B26=\"\",\"\",IF(Süt!$C26<=0,\"\",IF(AND($AA55 > 0, $AB24 > 0, $AB55 > 0),((($AA55 / TotalDMFed) * ($AB24 / 100) * (($AV55 * 1000) / $AB55)* (BG24 / 100) * TotalDMFed) * 1000),0)))","v":""},{"$f":"IF(Süt!$B26=\"\",\"\",IF(Süt!$C26<=0,\"\",IF(AND($AA55 > 0, $AB24 > 0, $AB55 > 0),((($AA55 / TotalDMFed) * ($AB24 / 100) * (($AV55 * 1000) / $AB55)* (BH24 / 100) * TotalDMFed) * 1000),0)))","v":""},{"$f":"IF(Süt!$B26=\"\",\"\",IF(Süt!$C26<=0,\"\",IF(AnimalType=\"Buzağı\",IF(P24=\"BUZAĞI BAŞLANGIÇ YEMİ\",AA55,0),0)))","v":""},{"$f":"IF(Süt!$B26=\"\",\"\",IF(Süt!$C26<=0,\"\",IF(AnimalType=\"Buzağı\",IF(AN24=\"Calf Feed-Milk\",AA55,0),0)))","v":""},{"$f":"IF(Süt!$B26=\"\",\"\",IF(Süt!$C26<=0,\"\",IF(AnimalType=\"Buzağı\",IF(P24=\"BUZAĞI BAŞLANGIÇ YEMİ\",0,AA55),0)))","v":""},{"$f":"IF(Süt!$B26=\"\",\"\",IF(Süt!$C26<=0,\"\",IF(S24=\"Forage\",AH55,0)))","v":""},{"$f":"IF(Süt!$B26=\"\",\"\",IF(Süt!$C26<=0,\"\",BM24/100*$AA55))","v":""},{"$f":"IF(Süt!$B26=\"\",\"\",IF(Süt!$C26<=0,\"\",IF(AnimalType <> \"Buzağı\",((BM24 / 100) * $AA55) * BN24,((BM24 / 100) * $AA55))))","v":""},{"$f":"IF(Süt!$B26=\"\",\"\",IF(Süt!$C26<=0,\"\",BO24/100*$AA55))","v":""},{"$f":"IF(Süt!$B26=\"\",\"\",IF(Süt!$C26<=0,\"\",IF(AnimalType <> \"Buzağı\",((BO24 / 100) * $AA55) * BP24,((BO24 / 100) * $AA55))))","v":""},{"$f":"IF(Süt!$B26=\"\",\"\",IF(Süt!$C26<=0,\"\",BQ24/100*$AA55))","v":""},{"$f":"IF(Süt!$B26=\"\",\"\",IF(Süt!$C26<=0,\"\",IF(AnimalType <> \"Buzağı\",((BQ24 / 100) * $AA55) * BR24,((BQ24 / 100) * $AA55))))","v":""},{"$f":"IF(Süt!$B26=\"\",\"\",IF(Süt!$C26<=0,\"\",BS24/100*$AA55))","v":""},{"$f":"IF(Süt!$B26=\"\",\"\",IF(Süt!$C26<=0,\"\",IF(AnimalType <> \"Buzağı\",((BS24 / 100) * $AA55) * BT24,((BS24 / 100) * $AA55))))","v":""},{"$f":"IF(Süt!$B26=\"\",\"\",IF(Süt!$C26<=0,\"\",BU24/100*$AA55))","v":""},{"$f":"IF(Süt!$B26=\"\",\"\",IF(Süt!$C26<=0,\"\",IF(AnimalType <> \"Buzağı\",((BU24 / 100) * $AA55) * BV24,((BU24 / 100) * $AA55))))","v":""},{"$f":"IF(Süt!$B26=\"\",\"\",IF(Süt!$C26<=0,\"\",BW24/100*$AA55))","v":""},{"$f":"IF(Süt!$B26=\"\",\"\",IF(Süt!$C26<=0,\"\",IF(AnimalType <> \"Buzağı\",((BW24 / 100) * $AA55) * BX24,((BW24 / 100) * $AA55))))","v":""},{"$f":"IF(Süt!$B26=\"\",\"\",IF(Süt!$C26<=0,\"\",BY24/100*$AA55))","v":""},{"$f":"IF(Süt!$B26=\"\",\"\",IF(Süt!$C26<=0,\"\",IF(AnimalType <> \"Buzağı\",((BY24 / 100) * $AA55) * BZ24,((BY24 / 100) * $AA55))))","v":""},{"$f":"IF(Süt!$B26=\"\",\"\",IF(Süt!$C26<=0,\"\",CA24*$AA55))","v":""},{"$f":"IF(Süt!$B26=\"\",\"\",IF(Süt!$C26<=0,\"\",IF(AnimalType <> \"Buzağı\",CA24 * $AA55 * CB24,CA24 * $AA55)))","v":""},{"$f":"IF(Süt!$B26=\"\",\"\",IF(Süt!$C26<=0,\"\",CC24*$AA55))","v":""},{"$f":"IF(Süt!$B26=\"\",\"\",IF(Süt!$C26<=0,\"\",IF(AnimalType <> \"Buzağı\",CC24 * $AA55 * CD24,CC24 * $AA55)))","v":""},{"$f":"IF(Süt!$B26=\"\",\"\",IF(Süt!$C26<=0,\"\",CE24*$AA55))","v":""},{"$f":"IF(Süt!$B26=\"\",\"\",IF(Süt!$C26<=0,\"\",IF(AnimalType <> \"Buzağı\",CE24 * $AA55 * CF24,CE24 * $AA55)))","v":""},{"$f":"IF(Süt!$B26=\"\",\"\",IF(Süt!$C26<=0,\"\",CG24*$AA55))","v":""},{"$f":"IF(Süt!$B26=\"\",\"\",IF(Süt!$C26<=0,\"\",IF(AnimalType <> \"Buzağı\",CG24 * $AA55 * CH24,CG24 * $AA55)))","v":""},{"$f":"IF(Süt!$B26=\"\",\"\",IF(Süt!$C26<=0,\"\",CI24*$AA55))","v":""},{"$f":"IF(Süt!$B26=\"\",\"\",IF(Süt!$C26<=0,\"\",IF(AnimalType <> \"Buzağı\",CI24 * $AA55 * CJ24,CI24 * $AA55)))","v":""},{"$f":"IF(Süt!$B26=\"\",\"\",IF(Süt!$C26<=0,\"\",CK24*$AA55))","v":""},{"$f":"IF(Süt!$B26=\"\",\"\",IF(Süt!$C26<=0,\"\",IF(AnimalType <> \"Buzağı\",CK24 * $AA55 * CL24,CK24 * $AA55)))","v":""},{"$f":"IF(Süt!$B26=\"\",\"\",IF(Süt!$C26<=0,\"\",CM24*$AA55))","v":""},{"$f":"IF(Süt!$B26=\"\",\"\",IF(Süt!$C26<=0,\"\",IF(AnimalType <> \"Buzağı\",CM24 * $AA55 * CN24,CM24 * $AA55)))","v":""},null,null,{"$f":"IF(Süt!$B26=\"\",\"\",IF(Süt!$C26<=0,\"\",CQ24*$AA55))","v":""},{"$f":"IF(Süt!$B26=\"\",\"\",IF(Süt!$C26<=0,\"\",CR24*$AA55))","v":""},{"$f":"IF(Süt!$B26=\"\",\"\",IF(Süt!$C26<=0,\"\",CS24*$AA55))","v":""},"Sıcaklık stresi için katsayı tablosu",null,null,"TDNConc",{"$f":"IF(TotalRegDMFed > 0,(TotalTDN / TotalRegDMFed) * 100,0)","v":66.058141708757717},{"$f":"IF(TotalRegDMFed > 0,IF((Fat_Total / TotalRegDMFed) > 0.03,Adj_TDN / ((100 - (TotalFat - 3)) / 100),(TotalTDN / TotalRegDMFed) * 100),(TotalTDN / TotalRegDMFed) * 100)","v":66.058141708757717},null,null,null,null,null,null,null,null,null,null,"Gernzey"]
[null,{"$f":"Süt!B20","v":0},{"$f":"ROUND((Süt!C20/Süt!$C$4)*100,2)","v":0},{"$f":"ROUND(Süt!C20,2)","v":0},{"$f":"ROUND(C$34*Süt!C20,2)","v":0},0,0,null,null,null,null,null,null,null,{"$f":"IF(Süt!B27=\"\",\"\",IF(Süt!C27<=0,\"\",Süt!C27))","v":""},"",{"$f":"IF(Süt!$B27=\"\",\"\",IF(Süt!$C27<=0,\"\",IF(MID(AN25,1,9)=\"Calf Feed\",0,(AK56/100)*AA56)))","v":""},null,null,null,{"$f":"IF(Süt!$B27=\"\",\"\",IF(Süt!$C27<=0,\"\",Discount*AL56))","v":""},{"$f":"IF(Süt!$B27=\"\",\"\",IF(Süt!$C27<=0,\"\",IF(AP56<0,0,AP56)*AA56))","v":""},null,null,{"$f":"IF(Süt!$B27=\"\",\"\",IF(Süt!$C27<=0,\"\",IF(AR56<0,0,AR56)*AA56))","v":""},{"$f":"IF(Süt!$B27=\"\",\"\",IF(Süt!$C27<=0,\"\",IF(AS56<0,0,AS56)*AA56))","v":""},{"$f":"IF(Süt!$B27=\"\",\"\",IF(Süt!$C27<=0,\"\",$O56*AA25/100))","v":""},{"$f":"IF(Süt!$B27=\"\",\"\",IF(Süt!$C27<=0,\"\",(AB25/ 100) * (AA56 * 1000)))","v":""},{"$f":"IF(Süt!$B27=\"\",\"\",IF(Süt!$C27<=0,\"\",IF(MID(AN25,1,9)<>\"Calf Feed\",IF(AB25 > 0,IF(S25=\"Forage\", EXP((-1.2 * (AE25 / AB25))) * AB25,IF(AN25 = \"Animal Protein\",(AC25 * AB25),(1 - (0.4 * (AE25 / AB25))) * AB25)),0),0)))","v":""},{"$f":"IF(Süt!$B27=\"\",\"\",IF(Süt!$C27<=0,\"\",IF(MID(AN25,1,9)<>\"Calf Feed\",0.98 * (100 - AH25 - AB25 - AF25 - AL25 + AD25) * T25,0)))","v":""},{"$f":"IF(Süt!$B27=\"\",\"\",IF(Süt!$C27<=0,\"\",IF(MID(AN25,1,9)<>\"Calf Feed\",((100 - AH25 - AB25 - AF25 - AL25 + AD25) /100)*AA56,0)))","v":""},{"$f":"IF(Süt!$B27=\"\",\"\",IF(Süt!$C27<=0,\"\",IF(MID(AN25,1,9)=\"Calf Feed\",0,(AF25/100)*AA56)))","v":""},null,{"$f":"IF(Süt!$B27=\"\",\"\",IF(Süt!$C27<=0,\"\",AH25/100*$AA56))","v":""},{"$f":"IF(Süt!$B27=\"\",\"\",IF(Süt!$C27<=0,\"\",IF(MID(AN25,1,9)<>\"Calf Feed\",IF(AH25 >AD25,AI25*AH25,0),0)))","v":""},{"$f":"IF(Süt!$B27=\"\",\"\",IF(Süt!$C27<=0,\"\",AJ25/100*$AA56))","v":""},null,{"$f":"IF(Süt!$B27=\"\",\"\",IF(Süt!$C27<=0,\"\",IF(MID(AN25,1,9)<>\"Calf Feed\",IF(AN25=\"Fat and Oil\",IF(S25=\"Fatty acids\",AF25*AG25*0.094,((AF25-10)*AG25*0.094)+0.43),IF(AN25=\"Animal Protein\",(AD56*0.042)+(AC56*0.056)+(0.094*(AO56/2.25))-0.3,IF(AI56>0,(AD56*0.042)+(AI56*0.042)+(AC56*0.056)+(0.094*(AO56/2.25))-0.3,IF(AB25>0,(0.98*T25*(0.042*(100-AB25-AF25-AL25))+(AB25*(0.056*(1-(0.4*AE25/AB25)))))+(0.094*(AF25-1))-0.3,(0.98*T25)*(0.042*(100-AF25-AL25))+(0.094*(AF25-1))-0.3)))),U25)))","v":""},0,0,{"$f":"IF(Süt!$B27=\"\",\"\",IF(Süt!$C27<=0,\"\",IF(MID(AN25,1,9)<>\"Calf Feed\",IF(AF25 <1,0,(AF25-1)*2.25),0)))","v":""},{"$f":"IF(Süt!$B27=\"\",\"\",IF(Süt!$C27<=0,\"\",IF(AN25 <> \"Fat and Oil\",IF(AF25 >= 3,IF(AnimalType <> \"Damızlık Düve\",(1.01 * U56) - 0.45 + (0.0046 * (AF25 - 3)),0.82 * AL56),IF(AND(AnimalType <> \"Buzağı\",AnimalType <> \"Damızlık Düve\")=TRUE,(1.01 * U56) - 0.45,0.82 * AL56)),U56)))","v":""},{"$f":"IF(Süt!$B27=\"\",\"\",IF(Süt!$C27<=0,\"\",IF(IF(AN25 <> \"Fat and Oil\",IF(AF25 >= 3,(0.703 * AP56) - 0.19 + ((((0.097 * AP56) + 0.19) / 97) * (AF25 - 3)),(0.703 * AP56) - 0.19),0.8*U56)<0,0,IF(AN25 <> \"Fat and Oil\",IF(AF25 >= 3,(0.703 * AP56) - 0.19 + ((((0.097 * AP56) + 0.19) / 97) * (AF25 - 3)),(0.703 * AP56) - 0.19   ),0.8*U56))))","v":""},{"$f":"IF(Süt!$B27=\"\",\"\",IF(Süt!$C27<=0,\"\",IF(MID(AN25,1,9)=\"Calf Feed\",0.75*AA56*V56,IF(IF(AN25 <> \"Fat and Oil\", ((1.37 * 0.82 * AL56) - (0.138 * (0.82 * AL56) ^ 2)+ (0.0105 * (0.82 * AL56) ^ 3) - 1.12),0.8 * U56)<0,0,IF(AN25 <> \"Fat and Oil\", ((1.37 * 0.82 * AL56) - (0.138 * (0.82 * AL56) ^ 2)+ (0.0105 * (0.82 * AL56) ^ 3) - 1.12),0.8 * U56)))))","v":""},{"$f":"IF(Süt!$B27=\"\",\"\",IF(Süt!$C27<=0,\"\",IF(MID(AN25,1,9)=\"Calf Feed\",0.57*AA56*V56,IF(IF(AN25 <> \"Fat and Oil\",((1.42 * 0.82 * AL56) - (0.174 * (0.82 * AL56)^2)+ (0.0122 * (0.82 * AL56)^3) - 1.65),0.55 * U56)<0,0,IF(AN25 <> \"Fat and Oil\",((1.42 * 0.82 * AL56) - (0.174 * (0.82 * AL56)^2)+ (0.0122 * (0.82 * AL56)^3) - 1.65),0.55 * U56)))))","v":""},{"$f":"IF(Süt!$B27=\"\",\"\",IF(Süt!$C27<=0,\"\",IF((AT25+AN56)>0,((AT25/(AT25+AN56))*((((AR25/100)*(AB25/100))*AA56)))+(((AQ25/100)*(AB25/100))*AA56),0)))","v":""},{"$f":"IF(Süt!$B27=\"\",\"\",IF(Süt!$C27<=0,\"\",IF(ISERROR(AB56/1000 - E102)=TRUE,0,AB56/1000 - E102)))","v":""},{"$f":"IF(Süt!$B27=\"\",\"\",IF(Süt!$C27<=0,\"\",IF((AT25+AN56)>0,   IF(BW_DMI<2,  C102,  C102+(BW_DMI-2)*((D102-C102)/2) ),0)))","v":""},{"$f":"IF(Süt!$B27=\"\",\"\",IF(Süt!$C27<=0,\"\",E102*(AW25/100)))","v":""},{"$f":"IF(Süt!$B27=\"\",\"\",IF(Süt!$C27<=0,\"\",IF(AND($AA56 > 0, $AB25 > 0, $AB56 > 0),((($AA56 / TotalDMFed) * ($AB25 / 100) * (($AV56 * 1000) / $AB56)* (AX25 / 100) * TotalDMFed) * 1000),0)))","v":""},{"$f":"IF(Süt!$B27=\"\",\"\",IF(Süt!$C27<=0,\"\",IF(AND($AA56 > 0, $AB25 > 0, $AB56 > 0),((($AA56 / TotalDMFed) * ($AB25 / 100) * (($AV56 * 1000) / $AB56)* (AY25 / 100) * TotalDMFed) * 1000),0)))","v":""},{"$f":"IF(Süt!$B27=\"\",\"\",IF(Süt!$C27<=0,\"\",IF(AND($AA56 > 0, $AB25 > 0, $AB56 > 0),((($AA56 / TotalDMFed) * ($AB25 / 100) * (($AV56 * 1000) / $AB56)* (AZ25 / 100) * TotalDMFed) * 1000),0)))","v":""},{"$f":"IF(Süt!$B27=\"\",\"\",IF(Süt!$C27<=0,\"\",IF(AND($AA56 > 0, $AB25 > 0, $AB56 > 0),((($AA56 / TotalDMFed) * ($AB25 / 100) * (($AV56 * 1000) / $AB56)* (BA25 / 100) * TotalDMFed) * 1000),0)))","v":""},{"$f":"IF(Süt!$B27=\"\",\"\",IF(Süt!$C27<=0,\"\",IF(AND($AA56 > 0, $AB25 > 0, $AB56 > 0),((($AA56 / TotalDMFed) * ($AB25 / 100) * (($AV56 * 1000) / $AB56)* (BB25 / 100) * TotalDMFed) * 1000),0)))","v":""},{"$f":"IF(Süt!$B27=\"\",\"\",IF(Süt!$C27<=0,\"\",IF(AND($AA56 > 0, $AB25 > 0, $AB56 > 0),((($AA56 / TotalDMFed) * ($AB25 / 100) * (($AV56 * 1000) / $AB56)* (BC25 / 100) * TotalDMFed) * 1000),0)))","v":""},{"$f":"IF(Süt!$B27=\"\",\"\",IF(Süt!$C27<=0,\"\",IF(AND($AA56 > 0, $AB25 > 0, $AB56 > 0),((($AA56 / TotalDMFed) * ($AB25 / 100) * (($AV56 * 1000) / $AB56)* (BD25 / 100) * TotalDMFed) * 1000),0)))","v":""},{"$f":"IF(Süt!$B27=\"\",\"\",IF(Süt!$C27<=0,\"\",IF(AND($AA56 > 0, $AB25 > 0, $AB56 > 0),((($AA56 / TotalDMFed) * ($AB25 / 100) * (($AV56 * 1000) / $AB56)* (BE25 / 100) * TotalDMFed) * 1000),0)))","v":""},{"$f":"IF(Süt!$B27=\"\",\"\",IF(Süt!$C27<=0,\"\",IF(AND($AA56 > 0, $AB25 > 0, $AB56 > 0),((($AA56 / TotalDMFed) * ($AB25 / 100) * (($AV56 * 1000) / $AB56)* (BF25 / 100) * TotalDMFed) * 1000),0)))","v":""},{"$f":"IF(Süt!$B27=\"\",\"\",IF(Süt!$C27<=0,\"\",IF(AND($AA56 > 0, $AB25 > 0, $AB56 > 0),((($AA56 / TotalDMFed) * ($AB25 / 100) * (($AV56 * 1000) / $AB56)* (BG25 / 100) * TotalDMFed) * 1000),0)))","v":""},{"$f":"IF(Süt!$B27=\"\",\"\",IF(Süt!$C27<=0,\"\",IF(AND($AA56 > 0, $AB25 > 0, $AB56 > 0),((($AA56 / TotalDMFed) * ($AB25 / 100) * (($AV56 * 1000) / $AB56)* (BH25 / 100) * TotalDMFed) * 1000),0)))","v":""},{"$f":"IF(Süt!$B27=\"\",\"\",IF(Süt!$C27<=0,\"\",IF(AnimalType=\"Buzağı\",IF(P25=\"BUZAĞI BAŞLANGIÇ YEMİ\",AA56,0),0)))","v":""},{"$f":"IF(Süt!$B27=\"\",\"\",IF(Süt!$C27<=0,\"\",IF(AnimalType=\"Buzağı\",IF(AN25=\"Calf Feed-Milk\",AA56,0),0)))","v":""},{"$f":"IF(Süt!$B27=\"\",\"\",IF(Süt!$C27<=0,\"\",IF(AnimalType=\"Buzağı\",IF(P25=\"BUZAĞI BAŞLANGIÇ YEMİ\",0,AA56),0)))","v":""},{"$f":"IF(Süt!$B27=\"\",\"\",IF(Süt!$C27<=0,\"\",IF(S25=\"Forage\",AH56,0)))","v":""},{"$f":"IF(Süt!$B27=\"\",\"\",IF(Süt!$C27<=0,\"\",BM25/100*$AA56))","v":""},{"$f":"IF(Süt!$B27=\"\",\"\",IF(Süt!$C27<=0,\"\",IF(AnimalType <> \"Buzağı\",((BM25 / 100) * $AA56) * BN25,((BM25 / 100) * $AA56))))","v":""},{"$f":"IF(Süt!$B27=\"\",\"\",IF(Süt!$C27<=0,\"\",BO25/100*$AA56))","v":""},{"$f":"IF(Süt!$B27=\"\",\"\",IF(Süt!$C27<=0,\"\",IF(AnimalType <> \"Buzağı\",((BO25 / 100) * $AA56) * BP25,((BO25 / 100) * $AA56))))","v":""},{"$f":"IF(Süt!$B27=\"\",\"\",IF(Süt!$C27<=0,\"\",BQ25/100*$AA56))","v":""},{"$f":"IF(Süt!$B27=\"\",\"\",IF(Süt!$C27<=0,\"\",IF(AnimalType <> \"Buzağı\",((BQ25 / 100) * $AA56) * BR25,((BQ25 / 100) * $AA56))))","v":""},{"$f":"IF(Süt!$B27=\"\",\"\",IF(Süt!$C27<=0,\"\",BS25/100*$AA56))","v":""},{"$f":"IF(Süt!$B27=\"\",\"\",IF(Süt!$C27<=0,\"\",IF(AnimalType <> \"Buzağı\",((BS25 / 100) * $AA56) * BT25,((BS25 / 100) * $AA56))))","v":""},{"$f":"IF(Süt!$B27=\"\",\"\",IF(Süt!$C27<=0,\"\",BU25/100*$AA56))","v":""},{"$f":"IF(Süt!$B27=\"\",\"\",IF(Süt!$C27<=0,\"\",IF(AnimalType <> \"Buzağı\",((BU25 / 100) * $AA56) * BV25,((BU25 / 100) * $AA56))))","v":""},{"$f":"IF(Süt!$B27=\"\",\"\",IF(Süt!$C27<=0,\"\",BW25/100*$AA56))","v":""},{"$f":"IF(Süt!$B27=\"\",\"\",IF(Süt!$C27<=0,\"\",IF(AnimalType <> \"Buzağı\",((BW25 / 100) * $AA56) * BX25,((BW25 / 100) * $AA56))))","v":""},{"$f":"IF(Süt!$B27=\"\",\"\",IF(Süt!$C27<=0,\"\",BY25/100*$AA56))","v":""},{"$f":"IF(Süt!$B27=\"\",\"\",IF(Süt!$C27<=0,\"\",IF(AnimalType <> \"Buzağı\",((BY25 / 100) * $AA56) * BZ25,((BY25 / 100) * $AA56))))","v":""},{"$f":"IF(Süt!$B27=\"\",\"\",IF(Süt!$C27<=0,\"\",CA25*$AA56))","v":""},{"$f":"IF(Süt!$B27=\"\",\"\",IF(Süt!$C27<=0,\"\",IF(AnimalType <> \"Buzağı\",CA25 * $AA56 * CB25,CA25 * $AA56)))","v":""},{"$f":"IF(Süt!$B27=\"\",\"\",IF(Süt!$C27<=0,\"\",CC25*$AA56))","v":""},{"$f":"IF(Süt!$B27=\"\",\"\",IF(Süt!$C27<=0,\"\",IF(AnimalType <> \"Buzağı\",CC25 * $AA56 * CD25,CC25 * $AA56)))","v":""},{"$f":"IF(Süt!$B27=\"\",\"\",IF(Süt!$C27<=0,\"\",CE25*$AA56))","v":""},{"$f":"IF(Süt!$B27=\"\",\"\",IF(Süt!$C27<=0,\"\",IF(AnimalType <> \"Buzağı\",CE25 * $AA56 * CF25,CE25 * $AA56)))","v":""},{"$f":"IF(Süt!$B27=\"\",\"\",IF(Süt!$C27<=0,\"\",CG25*$AA56))","v":""},{"$f":"IF(Süt!$B27=\"\",\"\",IF(Süt!$C27<=0,\"\",IF(AnimalType <> \"Buzağı\",CG25 * $AA56 * CH25,CG25 * $AA56)))","v":""},{"$f":"IF(Süt!$B27=\"\",\"\",IF(Süt!$C27<=0,\"\",CI25*$AA56))","v":""},{"$f":"IF(Süt!$B27=\"\",\"\",IF(Süt!$C27<=0,\"\",IF(AnimalType <> \"Buzağı\",CI25 * $AA56 * CJ25,CI25 * $AA56)))","v":""},{"$f":"IF(Süt!$B27=\"\",\"\",IF(Süt!$C27<=0,\"\",CK25*$AA56))","v":""},{"$f":"IF(Süt!$B27=\"\",\"\",IF(Süt!$C27<=0,\"\",IF(AnimalType <> \"Buzağı\",CK25 * $AA56 * CL25,CK25 * $AA56)))","v":""},{"$f":"IF(Süt!$B27=\"\",\"\",IF(Süt!$C27<=0,\"\",CM25*$AA56))","v":""},{"$f":"IF(Süt!$B27=\"\",\"\",IF(Süt!$C27<=0,\"\",IF(AnimalType <> \"Buzağı\",CM25 * $AA56 * CN25,CM25 * $AA56)))","v":""},null,null,{"$f":"IF(Süt!$B27=\"\",\"\",IF(Süt!$C27<=0,\"\",CQ25*$AA56))","v":""},{"$f":"IF(Süt!$B27=\"\",\"\",IF(Süt!$C27<=0,\"\",CR25*$AA56))","v":""},{"$f":"IF(Süt!$B27=\"\",\"\",IF(Süt!$C27<=0,\"\",CS25*$AA56))","v":""},"°C","TempFact",{"$f":"IF(IF(TDNConc < 60,1,IF(AND(TDNConc > 60,(TDNConc - DiscountVariable) < 60)=TRUE,60 / TDNConc,IF(TDNConc > 0,(TDNConc - DiscountVariable) / TDNConc,1)))<0,1,IF(TDNConc < 60,1,IF(AND(TDNConc > 60,(TDNConc - DiscountVariable) < 60)=TRUE,60 / TDNConc,IF(TDNConc > 0,(TDNConc - DiscountVariable) / TDNConc,1))))","v":0.94945965381313802},"Discount",{"$f":"IF(TDNConc < 60,   1,     IF(AND(TDNConc > 60,(TDNConc - DiscountVariable) < 60)=TRUE,    (60 / TDNConc)+(1-(60 / TDNConc))*0.33,      IF(TDNConc > 0,   ((TDNConc - DiscountVariable) / TDNConc)+((1-(TDNConc - DiscountVariable) / TDNConc)*0.33),      1)  )  )","v":0.96613796805480245},"discounts energy value to adjust for intake (modifikasyon*0,33)",null,null,null,null,null,null,null,null,null,null,"Sütçü Şorthorn"]
[null,{"$f":"Süt!B21","v":0},{"$f":"ROUND((Süt!C21/Süt!$C$4)*100,2)","v":0},{"$f":"ROUND(Süt!C21,2)","v":0},{"$f":"ROUND(C$34*Süt!C21,2)","v":0},0,0,null,null,null,null,null,null,null,{"$f":"IF(Süt!B28=\"\",\"\",IF(Süt!C28<=0,\"\",Süt!C28))","v":""},"",{"$f":"IF(Süt!$B28=\"\",\"\",IF(Süt!$C28<=0,\"\",IF(MID(AN26,1,9)=\"Calf Feed\",0,(AK57/100)*AA57)))","v":""},null,null,null,{"$f":"IF(Süt!$B28=\"\",\"\",IF(Süt!$C28<=0,\"\",Discount*AL57))","v":""},{"$f":"IF(Süt!$B28=\"\",\"\",IF(Süt!$C28<=0,\"\",IF(AP57<0,0,AP57)*AA57))","v":""},null,null,{"$f":"IF(Süt!$B28=\"\",\"\",IF(Süt!$C28<=0,\"\",IF(AR57<0,0,AR57)*AA57))","v":""},{"$f":"IF(Süt!$B28=\"\",\"\",IF(Süt!$C28<=0,\"\",IF(AS57<0,0,AS57)*AA57))","v":""},{"$f":"IF(Süt!$B28=\"\",\"\",IF(Süt!$C28<=0,\"\",$O57*AA26/100))","v":""},{"$f":"IF(Süt!$B28=\"\",\"\",IF(Süt!$C28<=0,\"\",(AB26/ 100) * (AA57 * 1000)))","v":""},{"$f":"IF(Süt!$B28=\"\",\"\",IF(Süt!$C28<=0,\"\",IF(MID(AN26,1,9)<>\"Calf Feed\",IF(AB26 > 0,IF(S26=\"Forage\", EXP((-1.2 * (AE26 / AB26))) * AB26,IF(AN26 = \"Animal Protein\",(AC26 * AB26),(1 - (0.4 * (AE26 / AB26))) * AB26)),0),0)))","v":""},{"$f":"IF(Süt!$B28=\"\",\"\",IF(Süt!$C28<=0,\"\",IF(MID(AN26,1,9)<>\"Calf Feed\",0.98 * (100 - AH26 - AB26 - AF26 - AL26 + AD26) * T26,0)))","v":""},{"$f":"IF(Süt!$B28=\"\",\"\",IF(Süt!$C28<=0,\"\",IF(MID(AN26,1,9)<>\"Calf Feed\",((100 - AH26 - AB26 - AF26 - AL26 + AD26) /100)*AA57,0)))","v":""},{"$f":"IF(Süt!$B28=\"\",\"\",IF(Süt!$C28<=0,\"\",IF(MID(AN26,1,9)=\"Calf Feed\",0,(AF26/100)*AA57)))","v":""},null,{"$f":"IF(Süt!$B28=\"\",\"\",IF(Süt!$C28<=0,\"\",AH26/100*$AA57))","v":""},{"$f":"IF(Süt!$B28=\"\",\"\",IF(Süt!$C28<=0,\"\",IF(MID(AN26,1,9)<>\"Calf Feed\",IF(AH26 >AD26,AI26*AH26,0),0)))","v":""},{"$f":"IF(Süt!$B28=\"\",\"\",IF(Süt!$C28<=0,\"\",AJ26/100*$AA57))","v":""},null,{"$f":"IF(Süt!$B28=\"\",\"\",IF(Süt!$C28<=0,\"\",IF(MID(AN26,1,9)<>\"Calf Feed\",IF(AN26=\"Fat and Oil\",IF(S26=\"Fatty acids\",AF26*AG26*0.094,((AF26-10)*AG26*0.094)+0.43),IF(AN26=\"Animal Protein\",(AD57*0.042)+(AC57*0.056)+(0.094*(AO57/2.25))-0.3,IF(AI57>0,(AD57*0.042)+(AI57*0.042)+(AC57*0.056)+(0.094*(AO57/2.25))-0.3,IF(AB26>0,(0.98*T26*(0.042*(100-AB26-AF26-AL26))+(AB26*(0.056*(1-(0.4*AE26/AB26)))))+(0.094*(AF26-1))-0.3,(0.98*T26)*(0.042*(100-AF26-AL26))+(0.094*(AF26-1))-0.3)))),U26)))","v":""},0,0,{"$f":"IF(Süt!$B28=\"\",\"\",IF(Süt!$C28<=0,\"\",IF(MID(AN26,1,9)<>\"Calf Feed\",IF(AF26 <1,0,(AF26-1)*2.25),0)))","v":""},{"$f":"IF(Süt!$B28=\"\",\"\",IF(Süt!$C28<=0,\"\",IF(AN26 <> \"Fat and Oil\",IF(AF26 >= 3,IF(AnimalType <> \"Damızlık Düve\",(1.01 * U57) - 0.45 + (0.0046 * (AF26 - 3)),0.82 * AL57),IF(AND(AnimalType <> \"Buzağı\",AnimalType <> \"Damızlık Düve\")=TRUE,(1.01 * U57) - 0.45,0.82 * AL57)),U57)))","v":""},{"$f":"IF(Süt!$B28=\"\",\"\",IF(Süt!$C28<=0,\"\",IF(IF(AN26 <> \"Fat and Oil\",IF(AF26 >= 3,(0.703 * AP57) - 0.19 + ((((0.097 * AP57) + 0.19) / 97) * (AF26 - 3)),(0.703 * AP57) - 0.19),0.8*U57)<0,0,IF(AN26 <> \"Fat and Oil\",IF(AF26 >= 3,(0.703 * AP57) - 0.19 + ((((0.097 * AP57) + 0.19) / 97) * (AF26 - 3)),(0.703 * AP57) - 0.19   ),0.8*U57))))","v":""},{"$f":"IF(Süt!$B28=\"\",\"\",IF(Süt!$C28<=0,\"\",IF(MID(AN26,1,9)=\"Calf Feed\",0.75*AA57*V57,IF(IF(AN26 <> \"Fat and Oil\", ((1.37 * 0.82 * AL57) - (0.138 * (0.82 * AL57) ^ 2)+ (0.0105 * (0.82 * AL57) ^ 3) - 1.12),0.8 * U57)<0,0,IF(AN26 <> \"Fat and Oil\", ((1.37 * 0.82 * AL57) - (0.138 * (0.82 * AL57) ^ 2)+ (0.0105 * (0.82 * AL57) ^ 3) - 1.12),0.8 * U57)))))","v":""},{"$f":"IF(Süt!$B28=\"\",\"\",IF(Süt!$C28<=0,\"\",IF(MID(AN26,1,9)=\"Calf Feed\",0.57*AA57*V57,IF(IF(AN26 <> \"Fat and Oil\",((1.42 * 0.82 * AL57) - (0.174 * (0.82 * AL57)^2)+ (0.0122 * (0.82 * AL57)^3) - 1.65),0.55 * U57)<0,0,IF(AN26 <> \"Fat and Oil\",((1.42 * 0.82 * AL57) - (0.174 * (0.82 * AL57)^2)+ (0.0122 * (0.82 * AL57)^3) - 1.65),0.55 * U57)))))","v":""},{"$f":"IF(Süt!$B28=\"\",\"\",IF(Süt!$C28<=0,\"\",IF((AT26+AN57)>0,((AT26/(AT26+AN57))*((((AR26/100)*(AB26/100))*AA57)))+(((AQ26/100)*(AB26/100))*AA57),0)))","v":""},{"$f":"IF(Süt!$B28=\"\",\"\",IF(Süt!$C28<=0,\"\",IF(ISERROR(AB57/1000 - E103)=TRUE,0,AB57/1000 - E103)))","v":""},{"$f":"IF(Süt!$B28=\"\",\"\",IF(Süt!$C28<=0,\"\",IF((AT26+AN57)>0,   IF(BW_DMI<2,  C103,  C103+(BW_DMI-2)*((D103-C103)/2) ),0)))","v":""},{"$f":"IF(Süt!$B28=\"\",\"\",IF(Süt!$C28<=0,\"\",E103*(AW26/100)))","v":""},{"$f":"IF(Süt!$B28=\"\",\"\",IF(Süt!$C28<=0,\"\",IF(AND($AA57 > 0, $AB26 > 0, $AB57 > 0),((($AA57 / TotalDMFed) * ($AB26 / 100) * (($AV57 * 1000) / $AB57)* (AX26 / 100) * TotalDMFed) * 1000),0)))","v":""},{"$f":"IF(Süt!$B28=\"\",\"\",IF(Süt!$C28<=0,\"\",IF(AND($AA57 > 0, $AB26 > 0, $AB57 > 0),((($AA57 / TotalDMFed) * ($AB26 / 100) * (($AV57 * 1000) / $AB57)* (AY26 / 100) * TotalDMFed) * 1000),0)))","v":""},{"$f":"IF(Süt!$B28=\"\",\"\",IF(Süt!$C28<=0,\"\",IF(AND($AA57 > 0, $AB26 > 0, $AB57 > 0),((($AA57 / TotalDMFed) * ($AB26 / 100) * (($AV57 * 1000) / $AB57)* (AZ26 / 100) * TotalDMFed) * 1000),0)))","v":""},{"$f":"IF(Süt!$B28=\"\",\"\",IF(Süt!$C28<=0,\"\",IF(AND($AA57 > 0, $AB26 > 0, $AB57 > 0),((($AA57 / TotalDMFed) * ($AB26 / 100) * (($AV57 * 1000) / $AB57)* (BA26 / 100) * TotalDMFed) * 1000),0)))","v":""},{"$f":"IF(Süt!$B28=\"\",\"\",IF(Süt!$C28<=0,\"\",IF(AND($AA57 > 0, $AB26 > 0, $AB57 > 0),((($AA57 / TotalDMFed) * ($AB26 / 100) * (($AV57 * 1000) / $AB57)* (BB26 / 100) * TotalDMFed) * 1000),0)))","v":""},{"$f":"IF(Süt!$B28=\"\",\"\",IF(Süt!$C28<=0,\"\",IF(AND($AA57 > 0, $AB26 > 0, $AB57 > 0),((($AA57 / TotalDMFed) * ($AB26 / 100) * (($AV57 * 1000) / $AB57)* (BC26 / 100) * TotalDMFed) * 1000),0)))","v":""},{"$f":"IF(Süt!$B28=\"\",\"\",IF(Süt!$C28<=0,\"\",IF(AND($AA57 > 0, $AB26 > 0, $AB57 > 0),((($AA57 / TotalDMFed) * ($AB26 / 100) * (($AV57 * 1000) / $AB57)* (BD26 / 100) * TotalDMFed) * 1000),0)))","v":""},{"$f":"IF(Süt!$B28=\"\",\"\",IF(Süt!$C28<=0,\"\",IF(AND($AA57 > 0, $AB26 > 0, $AB57 > 0),((($AA57 / TotalDMFed) * ($AB26 / 100) * (($AV57 * 1000) / $AB57)* (BE26 / 100) * TotalDMFed) * 1000),0)))","v":""},{"$f":"IF(Süt!$B28=\"\",\"\",IF(Süt!$C28<=0,\"\",IF(AND($AA57 > 0, $AB26 > 0, $AB57 > 0),((($AA57 / TotalDMFed) * ($AB26 / 100) * (($AV57 * 1000) / $AB57)* (BF26 / 100) * TotalDMFed) * 1000),0)))","v":""},{"$f":"IF(Süt!$B28=\"\",\"\",IF(Süt!$C28<=0,\"\",IF(AND($AA57 > 0, $AB26 > 0, $AB57 > 0),((($AA57 / TotalDMFed) * ($AB26 / 100) * (($AV57 * 1000) / $AB57)* (BG26 / 100) * TotalDMFed) * 1000),0)))","v":""},{"$f":"IF(Süt!$B28=\"\",\"\",IF(Süt!$C28<=0,\"\",IF(AND($AA57 > 0, $AB26 > 0, $AB57 > 0),((($AA57 / TotalDMFed) * ($AB26 / 100) * (($AV57 * 1000) / $AB57)* (BH26 / 100) * TotalDMFed) * 1000),0)))","v":""},{"$f":"IF(Süt!$B28=\"\",\"\",IF(Süt!$C28<=0,\"\",IF(AnimalType=\"Buzağı\",IF(P26=\"BUZAĞI BAŞLANGIÇ YEMİ\",AA57,0),0)))","v":""},{"$f":"IF(Süt!$B28=\"\",\"\",IF(Süt!$C28<=0,\"\",IF(AnimalType=\"Buzağı\",IF(AN26=\"Calf Feed-Milk\",AA57,0),0)))","v":""},{"$f":"IF(Süt!$B28=\"\",\"\",IF(Süt!$C28<=0,\"\",IF(AnimalType=\"Buzağı\",IF(P26=\"BUZAĞI BAŞLANGIÇ YEMİ\",0,AA57),0)))","v":""},{"$f":"IF(Süt!$B28=\"\",\"\",IF(Süt!$C28<=0,\"\",IF(S26=\"Forage\",AH57,0)))","v":""},{"$f":"IF(Süt!$B28=\"\",\"\",IF(Süt!$C28<=0,\"\",BM26/100*$AA57))","v":""},{"$f":"IF(Süt!$B28=\"\",\"\",IF(Süt!$C28<=0,\"\",IF(AnimalType <> \"Buzağı\",((BM26 / 100) * $AA57) * BN26,((BM26 / 100) * $AA57))))","v":""},{"$f":"IF(Süt!$B28=\"\",\"\",IF(Süt!$C28<=0,\"\",BO26/100*$AA57))","v":""},{"$f":"IF(Süt!$B28=\"\",\"\",IF(Süt!$C28<=0,\"\",IF(AnimalType <> \"Buzağı\",((BO26 / 100) * $AA57) * BP26,((BO26 / 100) * $AA57))))","v":""},{"$f":"IF(Süt!$B28=\"\",\"\",IF(Süt!$C28<=0,\"\",BQ26/100*$AA57))","v":""},{"$f":"IF(Süt!$B28=\"\",\"\",IF(Süt!$C28<=0,\"\",IF(AnimalType <> \"Buzağı\",((BQ26 / 100) * $AA57) * BR26,((BQ26 / 100) * $AA57))))","v":""},{"$f":"IF(Süt!$B28=\"\",\"\",IF(Süt!$C28<=0,\"\",BS26/100*$AA57))","v":""},{"$f":"IF(Süt!$B28=\"\",\"\",IF(Süt!$C28<=0,\"\",IF(AnimalType <> \"Buzağı\",((BS26 / 100) * $AA57) * BT26,((BS26 / 100) * $AA57))))","v":""},{"$f":"IF(Süt!$B28=\"\",\"\",IF(Süt!$C28<=0,\"\",BU26/100*$AA57))","v":""},{"$f":"IF(Süt!$B28=\"\",\"\",IF(Süt!$C28<=0,\"\",IF(AnimalType <> \"Buzağı\",((BU26 / 100) * $AA57) * BV26,((BU26 / 100) * $AA57))))","v":""},{"$f":"IF(Süt!$B28=\"\",\"\",IF(Süt!$C28<=0,\"\",BW26/100*$AA57))","v":""},{"$f":"IF(Süt!$B28=\"\",\"\",IF(Süt!$C28<=0,\"\",IF(AnimalType <> \"Buzağı\",((BW26 / 100) * $AA57) * BX26,((BW26 / 100) * $AA57))))","v":""},{"$f":"IF(Süt!$B28=\"\",\"\",IF(Süt!$C28<=0,\"\",BY26/100*$AA57))","v":""},{"$f":"IF(Süt!$B28=\"\",\"\",IF(Süt!$C28<=0,\"\",IF(AnimalType <> \"Buzağı\",((BY26 / 100) * $AA57) * BZ26,((BY26 / 100) * $AA57))))","v":""},{"$f":"IF(Süt!$B28=\"\",\"\",IF(Süt!$C28<=0,\"\",CA26*$AA57))","v":""},{"$f":"IF(Süt!$B28=\"\",\"\",IF(Süt!$C28<=0,\"\",IF(AnimalType <> \"Buzağı\",CA26 * $AA57 * CB26,CA26 * $AA57)))","v":""},{"$f":"IF(Süt!$B28=\"\",\"\",IF(Süt!$C28<=0,\"\",CC26*$AA57))","v":""},{"$f":"IF(Süt!$B28=\"\",\"\",IF(Süt!$C28<=0,\"\",IF(AnimalType <> \"Buzağı\",CC26 * $AA57 * CD26,CC26 * $AA57)))","v":""},{"$f":"IF(Süt!$B28=\"\",\"\",IF(Süt!$C28<=0,\"\",CE26*$AA57))","v":""},{"$f":"IF(Süt!$B28=\"\",\"\",IF(Süt!$C28<=0,\"\",IF(AnimalType <> \"Buzağı\",CE26 * $AA57 * CF26,CE26 * $AA57)))","v":""},{"$f":"IF(Süt!$B28=\"\",\"\",IF(Süt!$C28<=0,\"\",CG26*$AA57))","v":""},{"$f":"IF(Süt!$B28=\"\",\"\",IF(Süt!$C28<=0,\"\",IF(AnimalType <> \"Buzağı\",CG26 * $AA57 * CH26,CG26 * $AA57)))","v":""},{"$f":"IF(Süt!$B28=\"\",\"\",IF(Süt!$C28<=0,\"\",CI26*$AA57))","v":""},{"$f":"IF(Süt!$B28=\"\",\"\",IF(Süt!$C28<=0,\"\",IF(AnimalType <> \"Buzağı\",CI26 * $AA57 * CJ26,CI26 * $AA57)))","v":""},{"$f":"IF(Süt!$B28=\"\",\"\",IF(Süt!$C28<=0,\"\",CK26*$AA57))","v":""},{"$f":"IF(Süt!$B28=\"\",\"\",IF(Süt!$C28<=0,\"\",IF(AnimalType <> \"Buzağı\",CK26 * $AA57 * CL26,CK26 * $AA57)))","v":""},{"$f":"IF(Süt!$B28=\"\",\"\",IF(Süt!$C28<=0,\"\",CM26*$AA57))","v":""},{"$f":"IF(Süt!$B28=\"\",\"\",IF(Süt!$C28<=0,\"\",IF(AnimalType <> \"Buzağı\",CM26 * $AA57 * CN26,CM26 * $AA57)))","v":""},null,null,{"$f":"IF(Süt!$B28=\"\",\"\",IF(Süt!$C28<=0,\"\",CQ26*$AA57))","v":""},{"$f":"IF(Süt!$B28=\"\",\"\",IF(Süt!$C28<=0,\"\",CR26*$AA57))","v":""},{"$f":"IF(Süt!$B28=\"\",\"\",IF(Süt!$C28<=0,\"\",CS26*$AA57))","v":""},-15,1.151,null,"TotalFat",{"$f":"IF(TotalRegDMFed > 0,(Fat_Total / TotalRegDMFed) * 100,0)","v":2.6859933417622073},"% DM",null,null,null,null,null,null,null,null,null,null,"Siyah Alaca"]
[null,{"$f":"Süt!B22","v":0},{"$f":"ROUND((Süt!C22/Süt!$C$4)*100,2)","v":0},{"$f":"ROUND(Süt!C22,2)","v":0},{"$f":"ROUND(C$34*Süt!C22,2)","v":0},0,0,null,null,null,null,null,null,null,{"$f":"IF(Süt!B29=\"\",\"\",IF(Süt!C29<=0,\"\",Süt!C29))","v":""},"",{"$f":"IF(Süt!$B29=\"\",\"\",IF(Süt!$C29<=0,\"\",IF(MID(AN27,1,9)=\"Calf Feed\",0,(AK58/100)*AA58)))","v":""},null,null,null,{"$f":"IF(Süt!$B29=\"\",\"\",IF(Süt!$C29<=0,\"\",Discount*AL58))","v":""},{"$f":"IF(Süt!$B29=\"\",\"\",IF(Süt!$C29<=0,\"\",IF(AP58<0,0,AP58)*AA58))","v":""},null,null,{"$f":"IF(Süt!$B29=\"\",\"\",IF(Süt!$C29<=0,\"\",IF(AR58<0,0,AR58)*AA58))","v":""},{"$f":"IF(Süt!$B29=\"\",\"\",IF(Süt!$C29<=0,\"\",IF(AS58<0,0,AS58)*AA58))","v":""},{"$f":"IF(Süt!$B29=\"\",\"\",IF(Süt!$C29<=0,\"\",$O58*AA27/100))","v":""},{"$f":"IF(Süt!$B29=\"\",\"\",IF(Süt!$C29<=0,\"\",(AB27/ 100) * (AA58 * 1000)))","v":""},{"$f":"IF(Süt!$B29=\"\",\"\",IF(Süt!$C29<=0,\"\",IF(MID(AN27,1,9)<>\"Calf Feed\",IF(AB27 > 0,IF(S27=\"Forage\", EXP((-1.2 * (AE27 / AB27))) * AB27,IF(AN27 = \"Animal Protein\",(AC27 * AB27),(1 - (0.4 * (AE27 / AB27))) * AB27)),0),0)))","v":""},{"$f":"IF(Süt!$B29=\"\",\"\",IF(Süt!$C29<=0,\"\",IF(MID(AN27,1,9)<>\"Calf Feed\",0.98 * (100 - AH27 - AB27 - AF27 - AL27 + AD27) * T27,0)))","v":""},{"$f":"IF(Süt!$B29=\"\",\"\",IF(Süt!$C29<=0,\"\",IF(MID(AN27,1,9)<>\"Calf Feed\",((100 - AH27 - AB27 - AF27 - AL27 + AD27) /100)*AA58,0)))","v":""},{"$f":"IF(Süt!$B29=\"\",\"\",IF(Süt!$C29<=0,\"\",IF(MID(AN27,1,9)=\"Calf Feed\",0,(AF27/100)*AA58)))","v":""},null,{"$f":"IF(Süt!$B29=\"\",\"\",IF(Süt!$C29<=0,\"\",AH27/100*$AA58))","v":""},{"$f":"IF(Süt!$B29=\"\",\"\",IF(Süt!$C29<=0,\"\",IF(MID(AN27,1,9)<>\"Calf Feed\",IF(AH27 >AD27,AI27*AH27,0),0)))","v":""},{"$f":"IF(Süt!$B29=\"\",\"\",IF(Süt!$C29<=0,\"\",AJ27/100*$AA58))","v":""},null,{"$f":"IF(Süt!$B29=\"\",\"\",IF(Süt!$C29<=0,\"\",IF(MID(AN27,1,9)<>\"Calf Feed\",IF(AN27=\"Fat and Oil\",IF(S27=\"Fatty acids\",AF27*AG27*0.094,((AF27-10)*AG27*0.094)+0.43),IF(AN27=\"Animal Protein\",(AD58*0.042)+(AC58*0.056)+(0.094*(AO58/2.25))-0.3,IF(AI58>0,(AD58*0.042)+(AI58*0.042)+(AC58*0.056)+(0.094*(AO58/2.25))-0.3,IF(AB27>0,(0.98*T27*(0.042*(100-AB27-AF27-AL27))+(AB27*(0.056*(1-(0.4*AE27/AB27)))))+(0.094*(AF27-1))-0.3,(0.98*T27)*(0.042*(100-AF27-AL27))+(0.094*(AF27-1))-0.3)))),U27)))","v":""},0,0,{"$f":"IF(Süt!$B29=\"\",\"\",IF(Süt!$C29<=0,\"\",IF(MID(AN27,1,9)<>\"Calf Feed\",IF(AF27 <1,0,(AF27-1)*2.25),0)))","v":""},{"$f":"IF(Süt!$B29=\"\",\"\",IF(Süt!$C29<=0,\"\",IF(AN27 <> \"Fat and Oil\",IF(AF27 >= 3,IF(AnimalType <> \"Damızlık Düve\",(1.01 * U58) - 0.45 + (0.0046 * (AF27 - 3)),0.82 * AL58),IF(AND(AnimalType <> \"Buzağı\",AnimalType <> \"Damızlık Düve\")=TRUE,(1.01 * U58) - 0.45,0.82 * AL58)),U58)))","v":""},{"$f":"IF(Süt!$B29=\"\",\"\",IF(Süt!$C29<=0,\"\",IF(IF(AN27 <> \"Fat and Oil\",IF(AF27 >= 3,(0.703 * AP58) - 0.19 + ((((0.097 * AP58) + 0.19) / 97) * (AF27 - 3)),(0.703 * AP58) - 0.19),0.8*U58)<0,0,IF(AN27 <> \"Fat and Oil\",IF(AF27 >= 3,(0.703 * AP58) - 0.19 + ((((0.097 * AP58) + 0.19) / 97) * (AF27 - 3)),(0.703 * AP58) - 0.19   ),0.8*U58))))","v":""},{"$f":"IF(Süt!$B29=\"\",\"\",IF(Süt!$C29<=0,\"\",IF(MID(AN27,1,9)=\"Calf Feed\",0.75*AA58*V58,IF(IF(AN27 <> \"Fat and Oil\", ((1.37 * 0.82 * AL58) - (0.138 * (0.82 * AL58) ^ 2)+ (0.0105 * (0.82 * AL58) ^ 3) - 1.12),0.8 * U58)<0,0,IF(AN27 <> \"Fat and Oil\", ((1.37 * 0.82 * AL58) - (0.138 * (0.82 * AL58) ^ 2)+ (0.0105 * (0.82 * AL58) ^ 3) - 1.12),0.8 * U58)))))","v":""},{"$f":"IF(Süt!$B29=\"\",\"\",IF(Süt!$C29<=0,\"\",IF(MID(AN27,1,9)=\"Calf Feed\",0.57*AA58*V58,IF(IF(AN27 <> \"Fat and Oil\",((1.42 * 0.82 * AL58) - (0.174 * (0.82 * AL58)^2)+ (0.0122 * (0.82 * AL58)^3) - 1.65),0.55 * U58)<0,0,IF(AN27 <> \"Fat and Oil\",((1.42 * 0.82 * AL58) - (0.174 * (0.82 * AL58)^2)+ (0.0122 * (0.82 * AL58)^3) - 1.65),0.55 * U58)))))","v":""},{"$f":"IF(Süt!$B29=\"\",\"\",IF(Süt!$C29<=0,\"\",IF((AT27+AN58)>0,((AT27/(AT27+AN58))*((((AR27/100)*(AB27/100))*AA58)))+(((AQ27/100)*(AB27/100))*AA58),0)))","v":""},{"$f":"IF(Süt!$B29=\"\",\"\",IF(Süt!$C29<=0,\"\",IF(ISERROR(AB58/1000 - E104)=TRUE,0,AB58/1000 - E104)))","v":""},{"$f":"IF(Süt!$B29=\"\",\"\",IF(Süt!$C29<=0,\"\",IF((AT27+AN58)>0,   IF(BW_DMI<2,  C104,  C104+(BW_DMI-2)*((D104-C104)/2) ),0)))","v":""},{"$f":"IF(Süt!$B29=\"\",\"\",IF(Süt!$C29<=0,\"\",E104*(AW27/100)))","v":""},{"$f":"IF(Süt!$B29=\"\",\"\",IF(Süt!$C29<=0,\"\",IF(AND($AA58 > 0, $AB27 > 0, $AB58 > 0),((($AA58 / TotalDMFed) * ($AB27 / 100) * (($AV58 * 1000) / $AB58)* (AX27 / 100) * TotalDMFed) * 1000),0)))","v":""},{"$f":"IF(Süt!$B29=\"\",\"\",IF(Süt!$C29<=0,\"\",IF(AND($AA58 > 0, $AB27 > 0, $AB58 > 0),((($AA58 / TotalDMFed) * ($AB27 / 100) * (($AV58 * 1000) / $AB58)* (AY27 / 100) * TotalDMFed) * 1000),0)))","v":""},{"$f":"IF(Süt!$B29=\"\",\"\",IF(Süt!$C29<=0,\"\",IF(AND($AA58 > 0, $AB27 > 0, $AB58 > 0),((($AA58 / TotalDMFed) * ($AB27 / 100) * (($AV58 * 1000) / $AB58)* (AZ27 / 100) * TotalDMFed) * 1000),0)))","v":""},{"$f":"IF(Süt!$B29=\"\",\"\",IF(Süt!$C29<=0,\"\",IF(AND($AA58 > 0, $AB27 > 0, $AB58 > 0),((($AA58 / TotalDMFed) * ($AB27 / 100) * (($AV58 * 1000) / $AB58)* (BA27 / 100) * TotalDMFed) * 1000),0)))","v":""},{"$f":"IF(Süt!$B29=\"\",\"\",IF(Süt!$C29<=0,\"\",IF(AND($AA58 > 0, $AB27 > 0, $AB58 > 0),((($AA58 / TotalDMFed) * ($AB27 / 100) * (($AV58 * 1000) / $AB58)* (BB27 / 100) * TotalDMFed) * 1000),0)))","v":""},{"$f":"IF(Süt!$B29=\"\",\"\",IF(Süt!$C29<=0,\"\",IF(AND($AA58 > 0, $AB27 > 0, $AB58 > 0),((($AA58 / TotalDMFed) * ($AB27 / 100) * (($AV58 * 1000) / $AB58)* (BC27 / 100) * TotalDMFed) * 1000),0)))","v":""},{"$f":"IF(Süt!$B29=\"\",\"\",IF(Süt!$C29<=0,\"\",IF(AND($AA58 > 0, $AB27 > 0, $AB58 > 0),((($AA58 / TotalDMFed) * ($AB27 / 100) * (($AV58 * 1000) / $AB58)* (BD27 / 100) * TotalDMFed) * 1000),0)))","v":""},{"$f":"IF(Süt!$B29=\"\",\"\",IF(Süt!$C29<=0,\"\",IF(AND($AA58 > 0, $AB27 > 0, $AB58 > 0),((($AA58 / TotalDMFed) * ($AB27 / 100) * (($AV58 * 1000) / $AB58)* (BE27 / 100) * TotalDMFed) * 1000),0)))","v":""},{"$f":"IF(Süt!$B29=\"\",\"\",IF(Süt!$C29<=0,\"\",IF(AND($AA58 > 0, $AB27 > 0, $AB58 > 0),((($AA58 / TotalDMFed) * ($AB27 / 100) * (($AV58 * 1000) / $AB58)* (BF27 / 100) * TotalDMFed) * 1000),0)))","v":""},{"$f":"IF(Süt!$B29=\"\",\"\",IF(Süt!$C29<=0,\"\",IF(AND($AA58 > 0, $AB27 > 0, $AB58 > 0),((($AA58 / TotalDMFed) * ($AB27 / 100) * (($AV58 * 1000) / $AB58)* (BG27 / 100) * TotalDMFed) * 1000),0)))","v":""},{"$f":"IF(Süt!$B29=\"\",\"\",IF(Süt!$C29<=0,\"\",IF(AND($AA58 > 0, $AB27 > 0, $AB58 > 0),((($AA58 / TotalDMFed) * ($AB27 / 100) * (($AV58 * 1000) / $AB58)* (BH27 / 100) * TotalDMFed) * 1000),0)))","v":""},{"$f":"IF(Süt!$B29=\"\",\"\",IF(Süt!$C29<=0,\"\",IF(AnimalType=\"Buzağı\",IF(P27=\"BUZAĞI BAŞLANGIÇ YEMİ\",AA58,0),0)))","v":""},{"$f":"IF(Süt!$B29=\"\",\"\",IF(Süt!$C29<=0,\"\",IF(AnimalType=\"Buzağı\",IF(AN27=\"Calf Feed-Milk\",AA58,0),0)))","v":""},{"$f":"IF(Süt!$B29=\"\",\"\",IF(Süt!$C29<=0,\"\",IF(AnimalType=\"Buzağı\",IF(P27=\"BUZAĞI BAŞLANGIÇ YEMİ\",0,AA58),0)))","v":""},{"$f":"IF(Süt!$B29=\"\",\"\",IF(Süt!$C29<=0,\"\",IF(S27=\"Forage\",AH58,0)))","v":""},{"$f":"IF(Süt!$B29=\"\",\"\",IF(Süt!$C29<=0,\"\",BM27/100*$AA58))","v":""},{"$f":"IF(Süt!$B29=\"\",\"\",IF(Süt!$C29<=0,\"\",IF(AnimalType <> \"Buzağı\",((BM27 / 100) * $AA58) * BN27,((BM27 / 100) * $AA58))))","v":""},{"$f":"IF(Süt!$B29=\"\",\"\",IF(Süt!$C29<=0,\"\",BO27/100*$AA58))","v":""},{"$f":"IF(Süt!$B29=\"\",\"\",IF(Süt!$C29<=0,\"\",IF(AnimalType <> \"Buzağı\",((BO27 / 100) * $AA58) * BP27,((BO27 / 100) * $AA58))))","v":""},{"$f":"IF(Süt!$B29=\"\",\"\",IF(Süt!$C29<=0,\"\",BQ27/100*$AA58))","v":""},{"$f":"IF(Süt!$B29=\"\",\"\",IF(Süt!$C29<=0,\"\",IF(AnimalType <> \"Buzağı\",((BQ27 / 100) * $AA58) * BR27,((BQ27 / 100) * $AA58))))","v":""},{"$f":"IF(Süt!$B29=\"\",\"\",IF(Süt!$C29<=0,\"\",BS27/100*$AA58))","v":""},{"$f":"IF(Süt!$B29=\"\",\"\",IF(Süt!$C29<=0,\"\",IF(AnimalType <> \"Buzağı\",((BS27 / 100) * $AA58) * BT27,((BS27 / 100) * $AA58))))","v":""},{"$f":"IF(Süt!$B29=\"\",\"\",IF(Süt!$C29<=0,\"\",BU27/100*$AA58))","v":""},{"$f":"IF(Süt!$B29=\"\",\"\",IF(Süt!$C29<=0,\"\",IF(AnimalType <> \"Buzağı\",((BU27 / 100) * $AA58) * BV27,((BU27 / 100) * $AA58))))","v":""},{"$f":"IF(Süt!$B29=\"\",\"\",IF(Süt!$C29<=0,\"\",BW27/100*$AA58))","v":""},{"$f":"IF(Süt!$B29=\"\",\"\",IF(Süt!$C29<=0,\"\",IF(AnimalType <> \"Buzağı\",((BW27 / 100) * $AA58) * BX27,((BW27 / 100) * $AA58))))","v":""},{"$f":"IF(Süt!$B29=\"\",\"\",IF(Süt!$C29<=0,\"\",BY27/100*$AA58))","v":""},{"$f":"IF(Süt!$B29=\"\",\"\",IF(Süt!$C29<=0,\"\",IF(AnimalType <> \"Buzağı\",((BY27 / 100) * $AA58) * BZ27,((BY27 / 100) * $AA58))))","v":""},{"$f":"IF(Süt!$B29=\"\",\"\",IF(Süt!$C29<=0,\"\",CA27*$AA58))","v":""},{"$f":"IF(Süt!$B29=\"\",\"\",IF(Süt!$C29<=0,\"\",IF(AnimalType <> \"Buzağı\",CA27 * $AA58 * CB27,CA27 * $AA58)))","v":""},{"$f":"IF(Süt!$B29=\"\",\"\",IF(Süt!$C29<=0,\"\",CC27*$AA58))","v":""},{"$f":"IF(Süt!$B29=\"\",\"\",IF(Süt!$C29<=0,\"\",IF(AnimalType <> \"Buzağı\",CC27 * $AA58 * CD27,CC27 * $AA58)))","v":""},{"$f":"IF(Süt!$B29=\"\",\"\",IF(Süt!$C29<=0,\"\",CE27*$AA58))","v":""},{"$f":"IF(Süt!$B29=\"\",\"\",IF(Süt!$C29<=0,\"\",IF(AnimalType <> \"Buzağı\",CE27 * $AA58 * CF27,CE27 * $AA58)))","v":""},{"$f":"IF(Süt!$B29=\"\",\"\",IF(Süt!$C29<=0,\"\",CG27*$AA58))","v":""},{"$f":"IF(Süt!$B29=\"\",\"\",IF(Süt!$C29<=0,\"\",IF(AnimalType <> \"Buzağı\",CG27 * $AA58 * CH27,CG27 * $AA58)))","v":""},{"$f":"IF(Süt!$B29=\"\",\"\",IF(Süt!$C29<=0,\"\",CI27*$AA58))","v":""},{"$f":"IF(Süt!$B29=\"\",\"\",IF(Süt!$C29<=0,\"\",IF(AnimalType <> \"Buzağı\",CI27 * $AA58 * CJ27,CI27 * $AA58)))","v":""},{"$f":"IF(Süt!$B29=\"\",\"\",IF(Süt!$C29<=0,\"\",CK27*$AA58))","v":""},{"$f":"IF(Süt!$B29=\"\",\"\",IF(Süt!$C29<=0,\"\",IF(AnimalType <> \"Buzağı\",CK27 * $AA58 * CL27,CK27 * $AA58)))","v":""},{"$f":"IF(Süt!$B29=\"\",\"\",IF(Süt!$C29<=0,\"\",CM27*$AA58))","v":""},{"$f":"IF(Süt!$B29=\"\",\"\",IF(Süt!$C29<=0,\"\",IF(AnimalType <> \"Buzağı\",CM27 * $AA58 * CN27,CM27 * $AA58)))","v":""},null,null,{"$f":"IF(Süt!$B29=\"\",\"\",IF(Süt!$C29<=0,\"\",CQ27*$AA58))","v":""},{"$f":"IF(Süt!$B29=\"\",\"\",IF(Süt!$C29<=0,\"\",CR27*$AA58))","v":""},{"$f":"IF(Süt!$B29=\"\",\"\",IF(Süt!$C29<=0,\"\",CS27*$AA58))","v":""},{"$f":"CT57+1","v":-14},1.1420000000000001,null,"Adj_TDN",{"$f":"IF(TotalRegDMFed > 0,IF((Fat_Total / TotalRegDMFed) > 0.03,IF(TotalFat > 0,TDNConc - (((TotalFat) - 3) * (TotalDigestibleFat / TotalFat) * 2.25),0),0),0)","v":0},null,null,null,null,null,null,null,null,null,null,null,"Jersey"]
[null,{"$f":"Süt!B23","v":"Mermer tozu"},{"$f":"ROUND((Süt!C23/Süt!$C$4)*100,2)","v":0.1},{"$f":"ROUND(Süt!C23,2)","v":0.04},{"$f":"ROUND(C$34*Süt!C23,2)","v":0.8},0.02,0.4,null,null,null,null,null,null,null,{"$f":"IF(Süt!B30=\"\",\"\",IF(Süt!C30<=0,\"\",Süt!C30))","v":""},"",{"$f":"IF(Süt!$B30=\"\",\"\",IF(Süt!$C30<=0,\"\",IF(MID(AN28,1,9)=\"Calf Feed\",0,(AK59/100)*AA59)))","v":""},null,null,null,{"$f":"IF(Süt!$B30=\"\",\"\",IF(Süt!$C30<=0,\"\",Discount*AL59))","v":""},{"$f":"IF(Süt!$B30=\"\",\"\",IF(Süt!$C30<=0,\"\",IF(AP59<0,0,AP59)*AA59))","v":""},null,null,{"$f":"IF(Süt!$B30=\"\",\"\",IF(Süt!$C30<=0,\"\",IF(AR59<0,0,AR59)*AA59))","v":""},{"$f":"IF(Süt!$B30=\"\",\"\",IF(Süt!$C30<=0,\"\",IF(AS59<0,0,AS59)*AA59))","v":""},{"$f":"IF(Süt!$B30=\"\",\"\",IF(Süt!$C30<=0,\"\",$O59*AA28/100))","v":""},{"$f":"IF(Süt!$B30=\"\",\"\",IF(Süt!$C30<=0,\"\",(AB28/ 100) * (AA59 * 1000)))","v":""},{"$f":"IF(Süt!$B30=\"\",\"\",IF(Süt!$C30<=0,\"\",IF(MID(AN28,1,9)<>\"Calf Feed\",IF(AB28 > 0,IF(S28=\"Forage\", EXP((-1.2 * (AE28 / AB28))) * AB28,IF(AN28 = \"Animal Protein\",(AC28 * AB28),(1 - (0.4 * (AE28 / AB28))) * AB28)),0),0)))","v":""},{"$f":"IF(Süt!$B30=\"\",\"\",IF(Süt!$C30<=0,\"\",IF(MID(AN28,1,9)<>\"Calf Feed\",0.98 * (100 - AH28 - AB28 - AF28 - AL28 + AD28) * T28,0)))","v":""},{"$f":"IF(Süt!$B30=\"\",\"\",IF(Süt!$C30<=0,\"\",IF(MID(AN28,1,9)<>\"Calf Feed\",((100 - AH28 - AB28 - AF28 - AL28 + AD28) /100)*AA59,0)))","v":""},{"$f":"IF(Süt!$B30=\"\",\"\",IF(Süt!$C30<=0,\"\",IF(MID(AN28,1,9)=\"Calf Feed\",0,(AF28/100)*AA59)))","v":""},null,{"$f":"IF(Süt!$B30=\"\",\"\",IF(Süt!$C30<=0,\"\",AH28/100*$AA59))","v":""},{"$f":"IF(Süt!$B30=\"\",\"\",IF(Süt!$C30<=0,\"\",IF(MID(AN28,1,9)<>\"Calf Feed\",IF(AH28 >AD28,AI28*AH28,0),0)))","v":""},{"$f":"IF(Süt!$B30=\"\",\"\",IF(Süt!$C30<=0,\"\",AJ28/100*$AA59))","v":""},null,{"$f":"IF(Süt!$B30=\"\",\"\",IF(Süt!$C30<=0,\"\",IF(MID(AN28,1,9)<>\"Calf Feed\",IF(AN28=\"Fat and Oil\",IF(S28=\"Fatty acids\",AF28*AG28*0.094,((AF28-10)*AG28*0.094)+0.43),IF(AN28=\"Animal Protein\",(AD59*0.042)+(AC59*0.056)+(0.094*(AO59/2.25))-0.3,IF(AI59>0,(AD59*0.042)+(AI59*0.042)+(AC59*0.056)+(0.094*(AO59/2.25))-0.3,IF(AB28>0,(0.98*T28*(0.042*(100-AB28-AF28-AL28))+(AB28*(0.056*(1-(0.4*AE28/AB28)))))+(0.094*(AF28-1))-0.3,(0.98*T28)*(0.042*(100-AF28-AL28))+(0.094*(AF28-1))-0.3)))),U28)))","v":""},0,0,{"$f":"IF(Süt!$B30=\"\",\"\",IF(Süt!$C30<=0,\"\",IF(MID(AN28,1,9)<>\"Calf Feed\",IF(AF28 <1,0,(AF28-1)*2.25),0)))","v":""},{"$f":"IF(Süt!$B30=\"\",\"\",IF(Süt!$C30<=0,\"\",IF(AN28 <> \"Fat and Oil\",IF(AF28 >= 3,IF(AnimalType <> \"Damızlık Düve\",(1.01 * U59) - 0.45 + (0.0046 * (AF28 - 3)),0.82 * AL59),IF(AND(AnimalType <> \"Buzağı\",AnimalType <> \"Damızlık Düve\")=TRUE,(1.01 * U59) - 0.45,0.82 * AL59)),U59)))","v":""},{"$f":"IF(Süt!$B30=\"\",\"\",IF(Süt!$C30<=0,\"\",IF(IF(AN28 <> \"Fat and Oil\",IF(AF28 >= 3,(0.703 * AP59) - 0.19 + ((((0.097 * AP59) + 0.19) / 97) * (AF28 - 3)),(0.703 * AP59) - 0.19),0.8*U59)<0,0,IF(AN28 <> \"Fat and Oil\",IF(AF28 >= 3,(0.703 * AP59) - 0.19 + ((((0.097 * AP59) + 0.19) / 97) * (AF28 - 3)),(0.703 * AP59) - 0.19   ),0.8*U59))))","v":""},{"$f":"IF(Süt!$B30=\"\",\"\",IF(Süt!$C30<=0,\"\",IF(MID(AN28,1,9)=\"Calf Feed\",0.75*AA59*V59,IF(IF(AN28 <> \"Fat and Oil\", ((1.37 * 0.82 * AL59) - (0.138 * (0.82 * AL59) ^ 2)+ (0.0105 * (0.82 * AL59) ^ 3) - 1.12),0.8 * U59)<0,0,IF(AN28 <> \"Fat and Oil\", ((1.37 * 0.82 * AL59) - (0.138 * (0.82 * AL59) ^ 2)+ (0.0105 * (0.82 * AL59) ^ 3) - 1.12),0.8 * U59)))))","v":""},{"$f":"IF(Süt!$B30=\"\",\"\",IF(Süt!$C30<=0,\"\",IF(MID(AN28,1,9)=\"Calf Feed\",0.57*AA59*V59,IF(IF(AN28 <> \"Fat and Oil\",((1.42 * 0.82 * AL59) - (0.174 * (0.82 * AL59)^2)+ (0.0122 * (0.82 * AL59)^3) - 1.65),0.55 * U59)<0,0,IF(AN28 <> \"Fat and Oil\",((1.42 * 0.82 * AL59) - (0.174 * (0.82 * AL59)^2)+ (0.0122 * (0.82 * AL59)^3) - 1.65),0.55 * U59)))))","v":""},{"$f":"IF(Süt!$B30=\"\",\"\",IF(Süt!$C30<=0,\"\",IF((AT28+AN59)>0,((AT28/(AT28+AN59))*((((AR28/100)*(AB28/100))*AA59)))+(((AQ28/100)*(AB28/100))*AA59),0)))","v":""},{"$f":"IF(Süt!$B30=\"\",\"\",IF(Süt!$C30<=0,\"\",IF(ISERROR(AB59/1000 - E105)=TRUE,0,AB59/1000 - E105)))","v":""},{"$f":"IF(Süt!$B30=\"\",\"\",IF(Süt!$C30<=0,\"\",IF((AT28+AN59)>0,   IF(BW_DMI<2,  C105,  C105+(BW_DMI-2)*((D105-C105)/2) ),0)))","v":""},{"$f":"IF(Süt!$B30=\"\",\"\",IF(Süt!$C30<=0,\"\",E105*(AW28/100)))","v":""},{"$f":"IF(Süt!$B30=\"\",\"\",IF(Süt!$C30<=0,\"\",IF(AND($AA59 > 0, $AB28 > 0, $AB59 > 0),((($AA59 / TotalDMFed) * ($AB28 / 100) * (($AV59 * 1000) / $AB59)* (AX28 / 100) * TotalDMFed) * 1000),0)))","v":""},{"$f":"IF(Süt!$B30=\"\",\"\",IF(Süt!$C30<=0,\"\",IF(AND($AA59 > 0, $AB28 > 0, $AB59 > 0),((($AA59 / TotalDMFed) * ($AB28 / 100) * (($AV59 * 1000) / $AB59)* (AY28 / 100) * TotalDMFed) * 1000),0)))","v":""},{"$f":"IF(Süt!$B30=\"\",\"\",IF(Süt!$C30<=0,\"\",IF(AND($AA59 > 0, $AB28 > 0, $AB59 > 0),((($AA59 / TotalDMFed) * ($AB28 / 100) * (($AV59 * 1000) / $AB59)* (AZ28 / 100) * TotalDMFed) * 1000),0)))","v":""},{"$f":"IF(Süt!$B30=\"\",\"\",IF(Süt!$C30<=0,\"\",IF(AND($AA59 > 0, $AB28 > 0, $AB59 > 0),((($AA59 / TotalDMFed) * ($AB28 / 100) * (($AV59 * 1000) / $AB59)* (BA28 / 100) * TotalDMFed) * 1000),0)))","v":""},{"$f":"IF(Süt!$B30=\"\",\"\",IF(Süt!$C30<=0,\"\",IF(AND($AA59 > 0, $AB28 > 0, $AB59 > 0),((($AA59 / TotalDMFed) * ($AB28 / 100) * (($AV59 * 1000) / $AB59)* (BB28 / 100) * TotalDMFed) * 1000),0)))","v":""},{"$f":"IF(Süt!$B30=\"\",\"\",IF(Süt!$C30<=0,\"\",IF(AND($AA59 > 0, $AB28 > 0, $AB59 > 0),((($AA59 / TotalDMFed) * ($AB28 / 100) * (($AV59 * 1000) / $AB59)* (BC28 / 100) * TotalDMFed) * 1000),0)))","v":""},{"$f":"IF(Süt!$B30=\"\",\"\",IF(Süt!$C30<=0,\"\",IF(AND($AA59 > 0, $AB28 > 0, $AB59 > 0),((($AA59 / TotalDMFed) * ($AB28 / 100) * (($AV59 * 1000) / $AB59)* (BD28 / 100) * TotalDMFed) * 1000),0)))","v":""},{"$f":"IF(Süt!$B30=\"\",\"\",IF(Süt!$C30<=0,\"\",IF(AND($AA59 > 0, $AB28 > 0, $AB59 > 0),((($AA59 / TotalDMFed) * ($AB28 / 100) * (($AV59 * 1000) / $AB59)* (BE28 / 100) * TotalDMFed) * 1000),0)))","v":""},{"$f":"IF(Süt!$B30=\"\",\"\",IF(Süt!$C30<=0,\"\",IF(AND($AA59 > 0, $AB28 > 0, $AB59 > 0),((($AA59 / TotalDMFed) * ($AB28 / 100) * (($AV59 * 1000) / $AB59)* (BF28 / 100) * TotalDMFed) * 1000),0)))","v":""},{"$f":"IF(Süt!$B30=\"\",\"\",IF(Süt!$C30<=0,\"\",IF(AND($AA59 > 0, $AB28 > 0, $AB59 > 0),((($AA59 / TotalDMFed) * ($AB28 / 100) * (($AV59 * 1000) / $AB59)* (BG28 / 100) * TotalDMFed) * 1000),0)))","v":""},{"$f":"IF(Süt!$B30=\"\",\"\",IF(Süt!$C30<=0,\"\",IF(AND($AA59 > 0, $AB28 > 0, $AB59 > 0),((($AA59 / TotalDMFed) * ($AB28 / 100) * (($AV59 * 1000) / $AB59)* (BH28 / 100) * TotalDMFed) * 1000),0)))","v":""},{"$f":"IF(Süt!$B30=\"\",\"\",IF(Süt!$C30<=0,\"\",IF(AnimalType=\"Buzağı\",IF(P28=\"BUZAĞI BAŞLANGIÇ YEMİ\",AA59,0),0)))","v":""},{"$f":"IF(Süt!$B30=\"\",\"\",IF(Süt!$C30<=0,\"\",IF(AnimalType=\"Buzağı\",IF(AN28=\"Calf Feed-Milk\",AA59,0),0)))","v":""},{"$f":"IF(Süt!$B30=\"\",\"\",IF(Süt!$C30<=0,\"\",IF(AnimalType=\"Buzağı\",IF(P28=\"BUZAĞI BAŞLANGIÇ YEMİ\",0,AA59),0)))","v":""},{"$f":"IF(Süt!$B30=\"\",\"\",IF(Süt!$C30<=0,\"\",IF(S28=\"Forage\",AH59,0)))","v":""},{"$f":"IF(Süt!$B30=\"\",\"\",IF(Süt!$C30<=0,\"\",BM28/100*$AA59))","v":""},{"$f":"IF(Süt!$B30=\"\",\"\",IF(Süt!$C30<=0,\"\",IF(AnimalType <> \"Buzağı\",((BM28 / 100) * $AA59) * BN28,((BM28 / 100) * $AA59))))","v":""},{"$f":"IF(Süt!$B30=\"\",\"\",IF(Süt!$C30<=0,\"\",BO28/100*$AA59))","v":""},{"$f":"IF(Süt!$B30=\"\",\"\",IF(Süt!$C30<=0,\"\",IF(AnimalType <> \"Buzağı\",((BO28 / 100) * $AA59) * BP28,((BO28 / 100) * $AA59))))","v":""},{"$f":"IF(Süt!$B30=\"\",\"\",IF(Süt!$C30<=0,\"\",BQ28/100*$AA59))","v":""},{"$f":"IF(Süt!$B30=\"\",\"\",IF(Süt!$C30<=0,\"\",IF(AnimalType <> \"Buzağı\",((BQ28 / 100) * $AA59) * BR28,((BQ28 / 100) * $AA59))))","v":""},{"$f":"IF(Süt!$B30=\"\",\"\",IF(Süt!$C30<=0,\"\",BS28/100*$AA59))","v":""},{"$f":"IF(Süt!$B30=\"\",\"\",IF(Süt!$C30<=0,\"\",IF(AnimalType <> \"Buzağı\",((BS28 / 100) * $AA59) * BT28,((BS28 / 100) * $AA59))))","v":""},{"$f":"IF(Süt!$B30=\"\",\"\",IF(Süt!$C30<=0,\"\",BU28/100*$AA59))","v":""},{"$f":"IF(Süt!$B30=\"\",\"\",IF(Süt!$C30<=0,\"\",IF(AnimalType <> \"Buzağı\",((BU28 / 100) * $AA59) * BV28,((BU28 / 100) * $AA59))))","v":""},{"$f":"IF(Süt!$B30=\"\",\"\",IF(Süt!$C30<=0,\"\",BW28/100*$AA59))","v":""},{"$f":"IF(Süt!$B30=\"\",\"\",IF(Süt!$C30<=0,\"\",IF(AnimalType <> \"Buzağı\",((BW28 / 100) * $AA59) * BX28,((BW28 / 100) * $AA59))))","v":""},{"$f":"IF(Süt!$B30=\"\",\"\",IF(Süt!$C30<=0,\"\",BY28/100*$AA59))","v":""},{"$f":"IF(Süt!$B30=\"\",\"\",IF(Süt!$C30<=0,\"\",IF(AnimalType <> \"Buzağı\",((BY28 / 100) * $AA59) * BZ28,((BY28 / 100) * $AA59))))","v":""},{"$f":"IF(Süt!$B30=\"\",\"\",IF(Süt!$C30<=0,\"\",CA28*$AA59))","v":""},{"$f":"IF(Süt!$B30=\"\",\"\",IF(Süt!$C30<=0,\"\",IF(AnimalType <> \"Buzağı\",CA28 * $AA59 * CB28,CA28 * $AA59)))","v":""},{"$f":"IF(Süt!$B30=\"\",\"\",IF(Süt!$C30<=0,\"\",CC28*$AA59))","v":""},{"$f":"IF(Süt!$B30=\"\",\"\",IF(Süt!$C30<=0,\"\",IF(AnimalType <> \"Buzağı\",CC28 * $AA59 * CD28,CC28 * $AA59)))","v":""},{"$f":"IF(Süt!$B30=\"\",\"\",IF(Süt!$C30<=0,\"\",CE28*$AA59))","v":""},{"$f":"IF(Süt!$B30=\"\",\"\",IF(Süt!$C30<=0,\"\",IF(AnimalType <> \"Buzağı\",CE28 * $AA59 * CF28,CE28 * $AA59)))","v":""},{"$f":"IF(Süt!$B30=\"\",\"\",IF(Süt!$C30<=0,\"\",CG28*$AA59))","v":""},{"$f":"IF(Süt!$B30=\"\",\"\",IF(Süt!$C30<=0,\"\",IF(AnimalType <> \"Buzağı\",CG28 * $AA59 * CH28,CG28 * $AA59)))","v":""},{"$f":"IF(Süt!$B30=\"\",\"\",IF(Süt!$C30<=0,\"\",CI28*$AA59))","v":""},{"$f":"IF(Süt!$B30=\"\",\"\",IF(Süt!$C30<=0,\"\",IF(AnimalType <> \"Buzağı\",CI28 * $AA59 * CJ28,CI28 * $AA59)))","v":""},{"$f":"IF(Süt!$B30=\"\",\"\",IF(Süt!$C30<=0,\"\",CK28*$AA59))","v":""},{"$f":"IF(Süt!$B30=\"\",\"\",IF(Süt!$C30<=0,\"\",IF(AnimalType <> \"Buzağı\",CK28 * $AA59 * CL28,CK28 * $AA59)))","v":""},{"$f":"IF(Süt!$B30=\"\",\"\",IF(Süt!$C30<=0,\"\",CM28*$AA59))","v":""},{"$f":"IF(Süt!$B30=\"\",\"\",IF(Süt!$C30<=0,\"\",IF(AnimalType <> \"Buzağı\",CM28 * $AA59 * CN28,CM28 * $AA59)))","v":""},null,null,{"$f":"IF(Süt!$B30=\"\",\"\",IF(Süt!$C30<=0,\"\",CQ28*$AA59))","v":""},{"$f":"IF(Süt!$B30=\"\",\"\",IF(Süt!$C30<=0,\"\",CR28*$AA59))","v":""},{"$f":"IF(Süt!$B30=\"\",\"\",IF(Süt!$C30<=0,\"\",CS28*$AA59))","v":""},-13,1.1330000000000002,null,"MCP_Total",{"$f":"IF(IF(0.13*TDN_Act_Total>(0.85*(RDP_Total*1000)),(0.85*(RDP_Total*1000)),0.13*TDN_Act_Total)<0,0,IF(0.13*TDN_Act_Total>(0.85*(RDP_Total*1000)),(0.85*(RDP_Total*1000)),0.13*TDN_Act_Total))","v":1752.3491332842852},"total MCP synthesis (g/day)",null,null,null,null,null,null,null,null,null,null,"Simental"]
[null,{"$f":"Süt!B24","v":"Tuz"},{"$f":"ROUND((Süt!C24/Süt!$C$4)*100,2)","v":0.24},{"$f":"ROUND(Süt!C24,2)","v":0.1},{"$f":"ROUND(C$34*Süt!C24,2)","v":1.9},0.05,1,null,null,null,null,null,null,null,{"$f":"IF(Süt!B31=\"\",\"\",IF(Süt!C31<=0,\"\",Süt!C31))","v":""},"",{"$f":"IF(Süt!$B31=\"\",\"\",IF(Süt!$C31<=0,\"\",IF(MID(AN29,1,9)=\"Calf Feed\",0,(AK60/100)*AA60)))","v":""},null,null,null,{"$f":"IF(Süt!$B31=\"\",\"\",IF(Süt!$C31<=0,\"\",Discount*AL60))","v":""},{"$f":"IF(Süt!$B31=\"\",\"\",IF(Süt!$C31<=0,\"\",IF(AP60<0,0,AP60)*AA60))","v":""},null,null,{"$f":"IF(Süt!$B31=\"\",\"\",IF(Süt!$C31<=0,\"\",IF(AR60<0,0,AR60)*AA60))","v":""},{"$f":"IF(Süt!$B31=\"\",\"\",IF(Süt!$C31<=0,\"\",IF(AS60<0,0,AS60)*AA60))","v":""},{"$f":"IF(Süt!$B31=\"\",\"\",IF(Süt!$C31<=0,\"\",$O60*AA29/100))","v":""},{"$f":"IF(Süt!$B31=\"\",\"\",IF(Süt!$C31<=0,\"\",(AB29/ 100) * (AA60 * 1000)))","v":""},{"$f":"IF(Süt!$B31=\"\",\"\",IF(Süt!$C31<=0,\"\",IF(MID(AN29,1,9)<>\"Calf Feed\",IF(AB29 > 0,IF(S29=\"Forage\", EXP((-1.2 * (AE29 / AB29))) * AB29,IF(AN29 = \"Animal Protein\",(AC29 * AB29),(1 - (0.4 * (AE29 / AB29))) * AB29)),0),0)))","v":""},{"$f":"IF(Süt!$B31=\"\",\"\",IF(Süt!$C31<=0,\"\",IF(MID(AN29,1,9)<>\"Calf Feed\",0.98 * (100 - AH29 - AB29 - AF29 - AL29 + AD29) * T29,0)))","v":""},{"$f":"IF(Süt!$B31=\"\",\"\",IF(Süt!$C31<=0,\"\",IF(MID(AN29,1,9)<>\"Calf Feed\",((100 - AH29 - AB29 - AF29 - AL29 + AD29) /100)*AA60,0)))","v":""},{"$f":"IF(Süt!$B31=\"\",\"\",IF(Süt!$C31<=0,\"\",IF(MID(AN29,1,9)=\"Calf Feed\",0,(AF29/100)*AA60)))","v":""},null,{"$f":"IF(Süt!$B31=\"\",\"\",IF(Süt!$C31<=0,\"\",AH29/100*$AA60))","v":""},{"$f":"IF(Süt!$B31=\"\",\"\",IF(Süt!$C31<=0,\"\",IF(MID(AN29,1,9)<>\"Calf Feed\",IF(AH29 >AD29,AI29*AH29,0),0)))","v":""},{"$f":"IF(Süt!$B31=\"\",\"\",IF(Süt!$C31<=0,\"\",AJ29/100*$AA60))","v":""},null,{"$f":"IF(Süt!$B31=\"\",\"\",IF(Süt!$C31<=0,\"\",IF(MID(AN29,1,9)<>\"Calf Feed\",IF(AN29=\"Fat and Oil\",IF(S29=\"Fatty acids\",AF29*AG29*0.094,((AF29-10)*AG29*0.094)+0.43),IF(AN29=\"Animal Protein\",(AD60*0.042)+(AC60*0.056)+(0.094*(AO60/2.25))-0.3,IF(AI60>0,(AD60*0.042)+(AI60*0.042)+(AC60*0.056)+(0.094*(AO60/2.25))-0.3,IF(AB29>0,(0.98*T29*(0.042*(100-AB29-AF29-AL29))+(AB29*(0.056*(1-(0.4*AE29/AB29)))))+(0.094*(AF29-1))-0.3,(0.98*T29)*(0.042*(100-AF29-AL29))+(0.094*(AF29-1))-0.3)))),U29)))","v":""},0,0,{"$f":"IF(Süt!$B31=\"\",\"\",IF(Süt!$C31<=0,\"\",IF(MID(AN29,1,9)<>\"Calf Feed\",IF(AF29 <1,0,(AF29-1)*2.25),0)))","v":""},{"$f":"IF(Süt!$B31=\"\",\"\",IF(Süt!$C31<=0,\"\",IF(AN29 <> \"Fat and Oil\",IF(AF29 >= 3,IF(AnimalType <> \"Damızlık Düve\",(1.01 * U60) - 0.45 + (0.0046 * (AF29 - 3)),0.82 * AL60),IF(AND(AnimalType <> \"Buzağı\",AnimalType <> \"Damızlık Düve\")=TRUE,(1.01 * U60) - 0.45,0.82 * AL60)),U60)))","v":""},{"$f":"IF(Süt!$B31=\"\",\"\",IF(Süt!$C31<=0,\"\",IF(IF(AN29 <> \"Fat and Oil\",IF(AF29 >= 3,(0.703 * AP60) - 0.19 + ((((0.097 * AP60) + 0.19) / 97) * (AF29 - 3)),(0.703 * AP60) - 0.19),0.8*U60)<0,0,IF(AN29 <> \"Fat and Oil\",IF(AF29 >= 3,(0.703 * AP60) - 0.19 + ((((0.097 * AP60) + 0.19) / 97) * (AF29 - 3)),(0.703 * AP60) - 0.19   ),0.8*U60))))","v":""},{"$f":"IF(Süt!$B31=\"\",\"\",IF(Süt!$C31<=0,\"\",IF(MID(AN29,1,9)=\"Calf Feed\",0.75*AA60*V60,IF(IF(AN29 <> \"Fat and Oil\", ((1.37 * 0.82 * AL60) - (0.138 * (0.82 * AL60) ^ 2)+ (0.0105 * (0.82 * AL60) ^ 3) - 1.12),0.8 * U60)<0,0,IF(AN29 <> \"Fat and Oil\", ((1.37 * 0.82 * AL60) - (0.138 * (0.82 * AL60) ^ 2)+ (0.0105 * (0.82 * AL60) ^ 3) - 1.12),0.8 * U60)))))","v":""},{"$f":"IF(Süt!$B31=\"\",\"\",IF(Süt!$C31<=0,\"\",IF(MID(AN29,1,9)=\"Calf Feed\",0.57*AA60*V60,IF(IF(AN29 <> \"Fat and Oil\",((1.42 * 0.82 * AL60) - (0.174 * (0.82 * AL60)^2)+ (0.0122 * (0.82 * AL60)^3) - 1.65),0.55 * U60)<0,0,IF(AN29 <> \"Fat and Oil\",((1.42 * 0.82 * AL60) - (0.174 * (0.82 * AL60)^2)+ (0.0122 * (0.82 * AL60)^3) - 1.65),0.55 * U60)))))","v":""},{"$f":"IF(Süt!$B31=\"\",\"\",IF(Süt!$C31<=0,\"\",IF((AT29+AN60)>0,((AT29/(AT29+AN60))*((((AR29/100)*(AB29/100))*AA60)))+(((AQ29/100)*(AB29/100))*AA60),0)))","v":""},{"$f":"IF(Süt!$B31=\"\",\"\",IF(Süt!$C31<=0,\"\",IF(ISERROR(AB60/1000 - E106)=TRUE,0,AB60/1000 - E106)))","v":""},{"$f":"IF(Süt!$B31=\"\",\"\",IF(Süt!$C31<=0,\"\",IF((AT29+AN60)>0,   IF(BW_DMI<2,  C106,  C106+(BW_DMI-2)*((D106-C106)/2) ),0)))","v":""},{"$f":"IF(Süt!$B31=\"\",\"\",IF(Süt!$C31<=0,\"\",E106*(AW29/100)))","v":""},{"$f":"IF(Süt!$B31=\"\",\"\",IF(Süt!$C31<=0,\"\",IF(AND($AA60 > 0, $AB29 > 0, $AB60 > 0),((($AA60 / TotalDMFed) * ($AB29 / 100) * (($AV60 * 1000) / $AB60)* (AX29 / 100) * TotalDMFed) * 1000),0)))","v":""},{"$f":"IF(Süt!$B31=\"\",\"\",IF(Süt!$C31<=0,\"\",IF(AND($AA60 > 0, $AB29 > 0, $AB60 > 0),((($AA60 / TotalDMFed) * ($AB29 / 100) * (($AV60 * 1000) / $AB60)* (AY29 / 100) * TotalDMFed) * 1000),0)))","v":""},{"$f":"IF(Süt!$B31=\"\",\"\",IF(Süt!$C31<=0,\"\",IF(AND($AA60 > 0, $AB29 > 0, $AB60 > 0),((($AA60 / TotalDMFed) * ($AB29 / 100) * (($AV60 * 1000) / $AB60)* (AZ29 / 100) * TotalDMFed) * 1000),0)))","v":""},{"$f":"IF(Süt!$B31=\"\",\"\",IF(Süt!$C31<=0,\"\",IF(AND($AA60 > 0, $AB29 > 0, $AB60 > 0),((($AA60 / TotalDMFed) * ($AB29 / 100) * (($AV60 * 1000) / $AB60)* (BA29 / 100) * TotalDMFed) * 1000),0)))","v":""},{"$f":"IF(Süt!$B31=\"\",\"\",IF(Süt!$C31<=0,\"\",IF(AND($AA60 > 0, $AB29 > 0, $AB60 > 0),((($AA60 / TotalDMFed) * ($AB29 / 100) * (($AV60 * 1000) / $AB60)* (BB29 / 100) * TotalDMFed) * 1000),0)))","v":""},{"$f":"IF(Süt!$B31=\"\",\"\",IF(Süt!$C31<=0,\"\",IF(AND($AA60 > 0, $AB29 > 0, $AB60 > 0),((($AA60 / TotalDMFed) * ($AB29 / 100) * (($AV60 * 1000) / $AB60)* (BC29 / 100) * TotalDMFed) * 1000),0)))","v":""},{"$f":"IF(Süt!$B31=\"\",\"\",IF(Süt!$C31<=0,\"\",IF(AND($AA60 > 0, $AB29 > 0, $AB60 > 0),((($AA60 / TotalDMFed) * ($AB29 / 100) * (($AV60 * 1000) / $AB60)* (BD29 / 100) * TotalDMFed) * 1000),0)))","v":""},{"$f":"IF(Süt!$B31=\"\",\"\",IF(Süt!$C31<=0,\"\",IF(AND($AA60 > 0, $AB29 > 0, $AB60 > 0),((($AA60 / TotalDMFed) * ($AB29 / 100) * (($AV60 * 1000) / $AB60)* (BE29 / 100) * TotalDMFed) * 1000),0)))","v":""},{"$f":"IF(Süt!$B31=\"\",\"\",IF(Süt!$C31<=0,\"\",IF(AND($AA60 > 0, $AB29 > 0, $AB60 > 0),((($AA60 / TotalDMFed) * ($AB29 / 100) * (($AV60 * 1000) / $AB60)* (BF29 / 100) * TotalDMFed) * 1000),0)))","v":""},{"$f":"IF(Süt!$B31=\"\",\"\",IF(Süt!$C31<=0,\"\",IF(AND($AA60 > 0, $AB29 > 0, $AB60 > 0),((($AA60 / TotalDMFed) * ($AB29 / 100) * (($AV60 * 1000) / $AB60)* (BG29 / 100) * TotalDMFed) * 1000),0)))","v":""},{"$f":"IF(Süt!$B31=\"\",\"\",IF(Süt!$C31<=0,\"\",IF(AND($AA60 > 0, $AB29 > 0, $AB60 > 0),((($AA60 / TotalDMFed) * ($AB29 / 100) * (($AV60 * 1000) / $AB60)* (BH29 / 100) * TotalDMFed) * 1000),0)))","v":""},{"$f":"IF(Süt!$B31=\"\",\"\",IF(Süt!$C31<=0,\"\",IF(AnimalType=\"Buzağı\",IF(P29=\"BUZAĞI BAŞLANGIÇ YEMİ\",AA60,0),0)))","v":""},{"$f":"IF(Süt!$B31=\"\",\"\",IF(Süt!$C31<=0,\"\",IF(AnimalType=\"Buzağı\",IF(AN29=\"Calf Feed-Milk\",AA60,0),0)))","v":""},{"$f":"IF(Süt!$B31=\"\",\"\",IF(Süt!$C31<=0,\"\",IF(AnimalType=\"Buzağı\",IF(P29=\"BUZAĞI BAŞLANGIÇ YEMİ\",0,AA60),0)))","v":""},{"$f":"IF(Süt!$B31=\"\",\"\",IF(Süt!$C31<=0,\"\",IF(S29=\"Forage\",AH60,0)))","v":""},{"$f":"IF(Süt!$B31=\"\",\"\",IF(Süt!$C31<=0,\"\",BM29/100*$AA60))","v":""},{"$f":"IF(Süt!$B31=\"\",\"\",IF(Süt!$C31<=0,\"\",IF(AnimalType <> \"Buzağı\",((BM29 / 100) * $AA60) * BN29,((BM29 / 100) * $AA60))))","v":""},{"$f":"IF(Süt!$B31=\"\",\"\",IF(Süt!$C31<=0,\"\",BO29/100*$AA60))","v":""},{"$f":"IF(Süt!$B31=\"\",\"\",IF(Süt!$C31<=0,\"\",IF(AnimalType <> \"Buzağı\",((BO29 / 100) * $AA60) * BP29,((BO29 / 100) * $AA60))))","v":""},{"$f":"IF(Süt!$B31=\"\",\"\",IF(Süt!$C31<=0,\"\",BQ29/100*$AA60))","v":""},{"$f":"IF(Süt!$B31=\"\",\"\",IF(Süt!$C31<=0,\"\",IF(AnimalType <> \"Buzağı\",((BQ29 / 100) * $AA60) * BR29,((BQ29 / 100) * $AA60))))","v":""},{"$f":"IF(Süt!$B31=\"\",\"\",IF(Süt!$C31<=0,\"\",BS29/100*$AA60))","v":""},{"$f":"IF(Süt!$B31=\"\",\"\",IF(Süt!$C31<=0,\"\",IF(AnimalType <> \"Buzağı\",((BS29 / 100) * $AA60) * BT29,((BS29 / 100) * $AA60))))","v":""},{"$f":"IF(Süt!$B31=\"\",\"\",IF(Süt!$C31<=0,\"\",BU29/100*$AA60))","v":""},{"$f":"IF(Süt!$B31=\"\",\"\",IF(Süt!$C31<=0,\"\",IF(AnimalType <> \"Buzağı\",((BU29 / 100) * $AA60) * BV29,((BU29 / 100) * $AA60))))","v":""},{"$f":"IF(Süt!$B31=\"\",\"\",IF(Süt!$C31<=0,\"\",BW29/100*$AA60))","v":""},{"$f":"IF(Süt!$B31=\"\",\"\",IF(Süt!$C31<=0,\"\",IF(AnimalType <> \"Buzağı\",((BW29 / 100) * $AA60) * BX29,((BW29 / 100) * $AA60))))","v":""},{"$f":"IF(Süt!$B31=\"\",\"\",IF(Süt!$C31<=0,\"\",BY29/100*$AA60))","v":""},{"$f":"IF(Süt!$B31=\"\",\"\",IF(Süt!$C31<=0,\"\",IF(AnimalType <> \"Buzağı\",((BY29 / 100) * $AA60) * BZ29,((BY29 / 100) * $AA60))))","v":""},{"$f":"IF(Süt!$B31=\"\",\"\",IF(Süt!$C31<=0,\"\",CA29*$AA60))","v":""},{"$f":"IF(Süt!$B31=\"\",\"\",IF(Süt!$C31<=0,\"\",IF(AnimalType <> \"Buzağı\",CA29 * $AA60 * CB29,CA29 * $AA60)))","v":""},{"$f":"IF(Süt!$B31=\"\",\"\",IF(Süt!$C31<=0,\"\",CC29*$AA60))","v":""},{"$f":"IF(Süt!$B31=\"\",\"\",IF(Süt!$C31<=0,\"\",IF(AnimalType <> \"Buzağı\",CC29 * $AA60 * CD29,CC29 * $AA60)))","v":""},{"$f":"IF(Süt!$B31=\"\",\"\",IF(Süt!$C31<=0,\"\",CE29*$AA60))","v":""},{"$f":"IF(Süt!$B31=\"\",\"\",IF(Süt!$C31<=0,\"\",IF(AnimalType <> \"Buzağı\",CE29 * $AA60 * CF29,CE29 * $AA60)))","v":""},{"$f":"IF(Süt!$B31=\"\",\"\",IF(Süt!$C31<=0,\"\",CG29*$AA60))","v":""},{"$f":"IF(Süt!$B31=\"\",\"\",IF(Süt!$C31<=0,\"\",IF(AnimalType <> \"Buzağı\",CG29 * $AA60 * CH29,CG29 * $AA60)))","v":""},{"$f":"IF(Süt!$B31=\"\",\"\",IF(Süt!$C31<=0,\"\",CI29*$AA60))","v":""},{"$f":"IF(Süt!$B31=\"\",\"\",IF(Süt!$C31<=0,\"\",IF(AnimalType <> \"Buzağı\",CI29 * $AA60 * CJ29,CI29 * $AA60)))","v":""},{"$f":"IF(Süt!$B31=\"\",\"\",IF(Süt!$C31<=0,\"\",CK29*$AA60))","v":""},{"$f":"IF(Süt!$B31=\"\",\"\",IF(Süt!$C31<=0,\"\",IF(AnimalType <> \"Buzağı\",CK29 * $AA60 * CL29,CK29 * $AA60)))","v":""},{"$f":"IF(Süt!$B31=\"\",\"\",IF(Süt!$C31<=0,\"\",CM29*$AA60))","v":""},{"$f":"IF(Süt!$B31=\"\",\"\",IF(Süt!$C31<=0,\"\",IF(AnimalType <> \"Buzağı\",CM29 * $AA60 * CN29,CM29 * $AA60)))","v":""},null,null,{"$f":"IF(Süt!$B31=\"\",\"\",IF(Süt!$C31<=0,\"\",CQ29*$AA60))","v":""},{"$f":"IF(Süt!$B31=\"\",\"\",IF(Süt!$C31<=0,\"\",CR29*$AA60))","v":""},{"$f":"IF(Süt!$B31=\"\",\"\",IF(Süt!$C31<=0,\"\",CS29*$AA60))","v":""},-12,1.1240000000000003,null,"DietTDN",{"$f":" (TDN_Total / 1000) / TotalDMFed","v":0.63548160964958189},"fraction of TDN in the diet",null,null,null,null,null,null,null,null,null,null,"Yerli Kara"]
[null,{"$f":"Süt!B25","v":"Vit-Min. Kar. (Kavimix  VM 902), 1 kg/ton"},{"$f":"ROUND((Süt!C25/Süt!$C$4)*100,2)","v":0.05},{"$f":"ROUND(Süt!C25,2)","v":0.02},{"$f":"ROUND(C$34*Süt!C25,2)","v":0.4},0.01,0.2,null,null,null,null,null,null,null,null,null,null,null,null,null,null,null,null,null,null,null,null,null,null,null,null,null,null,null,null,null,null,null,null,null,null,null,null,null,null,null,null,null,null,null,null,null,null,null,null,null,null,null,null,null,null,null,null,null,null,null,null,null,null,null,null,null,null,null,null,null,null,null,null,null,null,null,null,null,null,null,null,null,null,null,null,null,null,null,null,null,null,-11,1.115,null,"NEgOverMEng",{"$f":"IF(MEng_Total > 0,NEg_Total / MEng_Total,0)","v":0.38598508283809663},"NEg_Total/MEng_Total",null,null,null,null,null,null,null,null,null,null,"Boz Irk"]
[null,{"$f":"Süt!B26","v":0},{"$f":"ROUND((Süt!C26/Süt!$C$4)*100,2)","v":0},{"$f":"ROUND(Süt!C26,2)","v":0},{"$f":"ROUND(C$34*Süt!C26,2)","v":0},0,0,null,null,null,null,null,null,null,null,null,"Sütçü sığır ırklarına ait standart değerler",null,null,null,null,null,null,null,"TotalNEm","TotalNEg","TotalME","TotalCP","TotalDCP","Fat",null,null,null,null,null,null,null,null,null,null,null,null,null,null,null,null,null,"DietRUPDigest",null,"Dig_TArg","Dig_THis","Dig_TIle","Dig_TLeu","Dig_TLys","Dig_TMet","Dig_TCys","Dig_TPhe","Dig_TThr","Dig_TTrp","Dig_TVal",null,"MilkDMI","MilkME","TotalMilkADP","TotalMilkCP","StarterDMI","StarterME","TotalStarterADP","TotalStarterCP","CalfKm","CalfKG","NonMineralFeeds",null,null,null,null,null,null,null,null,null,null,null,null,null,null,null,null,null,null,null,null,null,null,null,null,null,-10,1.1060000000000005,null,"NElOverMEng",{"$f":"IF(MEng_Total > 0,NEl_Total / MEng_Total,0)","v":0.56607925977819484},"NEl_Total/MEng_Total",null,null,null,null,null,null,null,null,null,null,"Doğu Anadolu Kırmızısı"]
[null,{"$f":"Süt!B27","v":0},{"$f":"ROUND((Süt!C27/Süt!$C$4)*100,2)","v":0},{"$f":"ROUND(Süt!C27,2)","v":0},{"$f":"ROUND(C$34*Süt!C27,2)","v":0},0,0,null,null,null,null,null,null,null,null,{"$f":"IF(Breed=\"\",\"Siyah Alaca\",IF(ISERROR(VLOOKUP(Breed,P65:P75,1,FALSE))=TRUE,\"Siyah Alaca\",Breed))","v":"Siyah Alaca"},{"$f":"VLOOKUP(P63,P64:X75,2,FALSE)","v":682},{"$f":"ROUND(VLOOKUP(P63,P64:X75,3,FALSE),0)","v":43},{"$f":"VLOOKUP(P63,P64:X75,4,FALSE)","v":24},{"$f":"VLOOKUP(P63,P64:X75,5,FALSE)","v":12},{"$f":"VLOOKUP(P63,P64:X75,6,FALSE)","v":281},{"$f":"VLOOKUP(P63,P64:X75,7,FALSE)","v":900},{"$f":"VLOOKUP(P63,P64:X75,8,FALSE)","v":4000},{"$f":"VLOOKUP(P63,P64:X75,9,FALSE)","v":3.5},{"$f":"SUM(Y64:Y90)","v":0},0,0,2.9519874628648841,2.2139905971486638,0,null,null,null,null,null,null,null,null,null,null,null,null,null,null,null,null,null,{"$f":"IF(RUP_Total>0,TotalDigestedRUP / RUP_Total,0)","v":0.76003508373879114},null,{"$f":"SUM(AX64:AX90)","v":35.260308986086642},15.117491097437814,27.107684442370996,51.152092145623882,32.204488174184341,10.367391168413704,10.570360644453416,32.199647841109474,26.176473510026916,8.0526322267617196,39.402666237231415,null,{"$f":"SUM(BJ64:BJ90)","v":0},0,0,0,21.138159154151602,0,2.2139905971486638,2951.987462864884,228.15900051751098,173.40084039330836,51.42978305623808,null,null,"Kondisyon skora göre yapılan hesaplamalar",null,null,"% yağ","yağ","% prot","prot","DepoEnerji",null,"Aminoasit hesaplama tablosu",null,null,null,null,null,null,null,null,null,null,null,null,null,-9,1.0970000000000006,null,"NEmOverMEng",{"$f":"IF(MEng_Total > 0,NEm_Total / MEng_Total,0)","v":0.63061619810383884},"NEm_Total/MEng_Total",null,null,null,null,null,null,null,null,null,null,"Güney Anadolu Kırmızısı"]
[null,{"$f":"Süt!B28","v":0},{"$f":"ROUND((Süt!C28/Süt!$C$4)*100,2)","v":0},{"$f":"ROUND(Süt!C28,2)","v":0},{"$f":"ROUND(C$34*Süt!C28,2)","v":0},0,0,null,null,null,null,null,null,null,null,"IRKLAR","MW","CBW","IBY","BA","GS","GCAA","Süt Ver","Süt Yağ",{"$f":"IF(Süt!$B5=\"\",\"\",IF(Süt!$C5<=0,\"\",IF(MID(AN3,1,9)=\"Calf Feed\",$AA34*Y3,0)))","v":0},{"$f":"IF(Süt!$B5=\"\",\"\",IF(Süt!$C5<=0,\"\",IF(MID(AN3,1,9)=\"Calf Feed\",$AA34*Z3,0)))","v":0},{"$f":"IF(Süt!$B5=\"\",\"\",IF(Süt!$C5<=0,\"\",IF(MID($AN3,1,9)=\"Calf Feed\",$AA34*V34,0)))","v":0},{"$f":"IF(Süt!$B5=\"\",\"\",IF(Süt!$C5<=0,\"\",IF(MID($AN3,1,9)=\"Calf Feed\",$AA34*(AB3/100),AB34/1000)))","v":0.56340000000000012},{"$f":"IF(Süt!$B5=\"\",\"\",IF(Süt!$C5<=0,\"\",IF(MID(AN3,1,9)=\"Calf Feed\",AA34*(AB3/100),AB34/1000*0.75)))","v":0.42255000000000009},{"$f":"IF(Süt!$B5=\"\",\"\",IF(Süt!$C5<=0,\"\",IF(MID($AN3,1,9)=\"Calf Feed\",$AA34*(AF3/100),0)))","v":0},null,null,null,null,null,null,null,null,null,null,null,null,null,null,null,null,null,null,null,{"$f":"IF(Süt!$B5=\"\",\"\",IF(Süt!$C5<=0,\"\",IF(ISERROR(((($AA34 / TotalDMFed) * ($AB3 / 100) * (($AV34 * 1000) / $AB34) * ($AW3 / 100) * (AX3 / 100) * TotalDMFed) * 1000))=TRUE,0,((($AA34 / TotalDMFed) * ($AB3 / 100) * (($AV34 * 1000) / $AB34) * ($AW3 / 100) * (AX3 / 100) * TotalDMFed) * 1000))))","v":2.3050288858644561},{"$f":"IF(Süt!$B5=\"\",\"\",IF(Süt!$C5<=0,\"\",IF(ISERROR(((($AA34 / TotalDMFed) * ($AB3 / 100) * (($AV34 * 1000) / $AB34) * ($AW3 / 100) * (AY3 / 100) * TotalDMFed) * 1000))=TRUE,0,((($AA34 / TotalDMFed) * ($AB3 / 100) * (($AV34 * 1000) / $AB34) * ($AW3 / 100) * (AY3 / 100) * TotalDMFed) * 1000))))","v":2.094417109491054},{"$f":"IF(Süt!$B5=\"\",\"\",IF(Süt!$C5<=0,\"\",IF(ISERROR(((($AA34 / TotalDMFed) * ($AB3 / 100) * (($AV34 * 1000) / $AB34) * ($AW3 / 100) * (AZ3 / 100) * TotalDMFed) * 1000))=TRUE,0,((($AA34 / TotalDMFed) * ($AB3 / 100) * (($AV34 * 1000) / $AB34) * ($AW3 / 100) * (AZ3 / 100) * TotalDMFed) * 1000))))","v":3.9080185171509054},{"$f":"IF(Süt!$B5=\"\",\"\",IF(Süt!$C5<=0,\"\",IF(ISERROR(((($AA34 / TotalDMFed) * ($AB3 / 100) * (($AV34 * 1000) / $AB34) * ($AW3 / 100) * (BA3 / 100) * TotalDMFed) * 1000))=TRUE,0,((($AA34 / TotalDMFed) * ($AB3 / 100) * (($AV34 * 1000) / $AB34) * ($AW3 / 100) * (BA3 / 100) * TotalDMFed) * 1000))))","v":10.050861994708468},{"$f":"IF(Süt!$B5=\"\",\"\",IF(Süt!$C5<=0,\"\",IF(ISERROR(((($AA34 / TotalDMFed) * ($AB3 / 100) * (($AV34 * 1000) / $AB34) * ($AW3 / 100) * (BB3 / 100) * TotalDMFed) * 1000))=TRUE,0,((($AA34 / TotalDMFed) * ($AB3 / 100) * (($AV34 * 1000) / $AB34) * ($AW3 / 100) * (BB3 / 100) * TotalDMFed) * 1000))))","v":2.9368642149846624},{"$f":"IF(Süt!$B5=\"\",\"\",IF(Süt!$C5<=0,\"\",IF(ISERROR(((($AA34 / TotalDMFed) * ($AB3 / 100) * (($AV34 * 1000) / $AB34) * ($AW3 / 100) * (BC3 / 100) * TotalDMFed) * 1000))=TRUE,0,((($AA34 / TotalDMFed) * ($AB3 / 100) * (($AV34 * 1000) / $AB34) * ($AW3 / 100) * (BC3 / 100) * TotalDMFed) * 1000))))","v":1.790200099173918},{"$f":"IF(Süt!$B5=\"\",\"\",IF(Süt!$C5<=0,\"\",IF(ISERROR(((($AA34 / TotalDMFed) * ($AB3 / 100) * (($AV34 * 1000) / $AB34) * ($AW3 / 100) * (BD3 / 100) * TotalDMFed) * 1000))=TRUE,0,((($AA34 / TotalDMFed) * ($AB3 / 100) * (($AV34 * 1000) / $AB34) * ($AW3 / 100) * (BD3 / 100) * TotalDMFed) * 1000))))","v":1.5678876685575491},{"$f":"IF(Süt!$B5=\"\",\"\",IF(Süt!$C5<=0,\"\",IF(ISERROR(((($AA34 / TotalDMFed) * ($AB3 / 100) * (($AV34 * 1000) / $AB34) * ($AW3 / 100) * (BE3 / 100) * TotalDMFed) * 1000))=TRUE,0,((($AA34 / TotalDMFed) * ($AB3 / 100) * (($AV34 * 1000) / $AB34) * ($AW3 / 100) * (BE3 / 100) * TotalDMFed) * 1000))))","v":4.4813505750562781},{"$f":"IF(Süt!$B5=\"\",\"\",IF(Süt!$C5<=0,\"\",IF(ISERROR(((($AA34 / TotalDMFed) * ($AB3 / 100) * (($AV34 * 1000) / $AB34) * ($AW3 / 100) * (BF3 / 100) * TotalDMFed) * 1000))=TRUE,0,((($AA34 / TotalDMFed) * ($AB3 / 100) * (($AV34 * 1000) / $AB34) * ($AW3 / 100) * (BF3 / 100) * TotalDMFed) * 1000))))","v":3.7325087035064035},{"$f":"IF(Süt!$B5=\"\",\"\",IF(Süt!$C5<=0,\"\",IF(ISERROR(((($AA34 / TotalDMFed) * ($AB3 / 100) * (($AV34 * 1000) / $AB34) * ($AW3 / 100) * (BG3 / 100) * TotalDMFed) * 1000))=TRUE,0,((($AA34 / TotalDMFed) * ($AB3 / 100) * (($AV34 * 1000) / $AB34) * ($AW3 / 100) * (BG3 / 100) * TotalDMFed) * 1000))))","v":0.51482878669053855},{"$f":"IF(Süt!$B5=\"\",\"\",IF(Süt!$C5<=0,\"\",IF(ISERROR(((($AA34 / TotalDMFed) * ($AB3 / 100) * (($AV34 * 1000) / $AB34) * ($AW3 / 100) * (BH3 / 100) * TotalDMFed) * 1000))=TRUE,0,((($AA34 / TotalDMFed) * ($AB3 / 100) * (($AV34 * 1000) / $AB34) * ($AW3 / 100) * (BH3 / 100) * TotalDMFed) * 1000))))","v":5.2301924466061518},null,{"$f":"IF(Süt!$B5=\"\",\"\",IF(Süt!$C5<=0,\"\",IF(AND(AnimalType=\"Buzağı\",MID(AN3,1,9)=\"Calf Feed\")=TRUE,IF(AN3=\"Calf Feed-Milk\",AA34,0),0)))","v":0},{"$f":"IF(Süt!$B5=\"\",\"\",IF(Süt!$C5<=0,\"\",IF(AND(AnimalType=\"Buzağı\",MID(AN3,1,9)=\"Calf Feed\")=TRUE,IF(AN3=\"Calf Feed-Milk\",AA34*V34,0),0)))","v":0},{"$f":"IF(Süt!$B5=\"\",\"\",IF(Süt!$C5<=0,\"\",IF(AND(AnimalType=\"Buzağı\",MID(AN3,1,9)=\"Calf Feed\")=TRUE,IF(AN3=\"Calf Feed-Milk\",AC64,0),0)))","v":0},{"$f":"IF(Süt!$B5=\"\",\"\",IF(Süt!$C5<=0,\"\",IF(AND(AnimalType=\"Buzağı\",MID(AN3,1,9)=\"Calf Feed\")=TRUE,IF(AN3=\"Calf Feed-Milk\",AB64,0),0)))","v":0},{"$f":"IF(Süt!$B5=\"\",\"\",IF(Süt!$C5<=0,\"\",IF(AND(AnimalType=\"Buzağı\",MID(AN3,1,9)=\"Calf Feed\")=TRUE,IF(AN3=\"Calf Feed-Milk\",0,AA34),AA34)))","v":7.8250000000000002},{"$f":"IF(Süt!$B5=\"\",\"\",IF(Süt!$C5<=0,\"\",IF(AND(AnimalType=\"Buzağı\",MID(AN3,1,9)=\"Calf Feed\")=TRUE,IF(AN3=\"Calf Feed-Milk\",0,AA34*V34),0)))","v":0},{"$f":"IF(Süt!$B5=\"\",\"\",IF(Süt!$C5<=0,\"\",IF(AND(AnimalType=\"Buzağı\",MID(AN3,1,9)=\"Calf Feed\")=TRUE,IF(AN3=\"Calf Feed-Milk\",0,AC64),AC64)))","v":0.42255000000000009},{"$f":"IF(Süt!$B5=\"\",\"\",IF(Süt!$C5<=0,\"\",IF(AND(AnimalType=\"Buzağı\",MID(AN3,1,9)=\"Calf Feed\")=TRUE,IF(AN3=\"Calf Feed-Milk\",0,AB64),AB34)))","v":563.40000000000009},{"$f":"IF(Süt!$B5=\"\",\"\",IF(Süt!$C5<=0,\"\",IF(AND(AnimalType=\"Buzağı\",MID(AN3,1,9)=\"Calf Feed\")=TRUE,IF(V34<>0,0.86*(AA34*V34),0),0.75*(AA34*V34))))","v":105.91085689474177},{"$f":"IF(Süt!$B5=\"\",\"\",IF(Süt!$C5<=0,\"\",IF(AND(AnimalType=\"Buzağı\",MID(AN3,1,9)=\"Calf Feed\")=TRUE,IF(V34<>0,0.69*(AA34*V34),0),0.57*(AA34*V34))))","v":80.492251240003739},{"$f":"IF(Süt!$B5=\"\",\"\",IF(Süt!$C5<=0,\"\",IF(AND(AnimalType=\"Buzağı\",MID(AN3,1,9)=\"Calf Feed\")=TRUE,IF(V34<>0,V34,0),V34)))","v":18.046578384620535},null,null,"CS","Faktör","EBW","AF","TF","AP","TP","ER",null,null,"T(aa)","Dig_T(aa)","Total(aa)","TotalRUP(aa)Flow","(aa)_Flow","TotalMCPEnd(aa)Flow","dTotalRUP(aa)","x_1","dTotalMCPEnd(aa)","Dig_(aa)_Flow","(aa)PctMP",null,null,-8,1.0880000000000007,null,"EndCP",{"$f":" 11.8 * TotalDMFed","v":249.4302780189889},"endogenous crude protein (g/day)"]
[null,{"$f":"Süt!B29","v":0},{"$f":"ROUND((Süt!C29/Süt!$C$4)*100,2)","v":0},{"$f":"ROUND(Süt!C29,2)","v":0},{"$f":"ROUND(C$34*Süt!C29,2)","v":0},0,0,null,null,null,null,null,null,null,null,"Ayrşayr",545,34.198749999999997,30,12,278,900,4000,3.9,{"$f":"IF(Süt!$B6=\"\",\"\",IF(Süt!$C6<=0,\"\",IF(MID(AN4,1,9)=\"Calf Feed\",$AA35*Y4,0)))","v":0},{"$f":"IF(Süt!$B6=\"\",\"\",IF(Süt!$C6<=0,\"\",IF(MID(AN4,1,9)=\"Calf Feed\",$AA35*Z4,0)))","v":0},{"$f":"IF(Süt!$B6=\"\",\"\",IF(Süt!$C6<=0,\"\",IF(MID($AN4,1,9)=\"Calf Feed\",$AA35*V35,0)))","v":0},{"$f":"IF(Süt!$B6=\"\",\"\",IF(Süt!$C6<=0,\"\",IF(MID($AN4,1,9)=\"Calf Feed\",$AA35*(AB4/100),AB35/1000)))","v":3.1534982680302644E-2},{"$f":"IF(Süt!$B6=\"\",\"\",IF(Süt!$C6<=0,\"\",IF(MID(AN4,1,9)=\"Calf Feed\",AA35*(AB4/100),AB35/1000*0.75)))","v":2.3651237010226984E-2},{"$f":"IF(Süt!$B6=\"\",\"\",IF(Süt!$C6<=0,\"\",IF(MID($AN4,1,9)=\"Calf Feed\",$AA35*(AF4/100),0)))","v":0},null,null,null,null,null,null,null,null,null,null,null,null,null,null,null,null,null,null,null,{"$f":"IF(Süt!$B6=\"\",\"\",IF(Süt!$C6<=0,\"\",IF(ISERROR(((($AA35 / TotalDMFed) * ($AB4 / 100) * (($AV35 * 1000) / $AB35) * ($AW4 / 100) * (AX4 / 100) * TotalDMFed) * 1000))=TRUE,0,((($AA35 / TotalDMFed) * ($AB4 / 100) * (($AV35 * 1000) / $AB35) * ($AW4 / 100) * (AX4 / 100) * TotalDMFed) * 1000))))","v":0.17176403453344441},{"$f":"IF(Süt!$B6=\"\",\"\",IF(Süt!$C6<=0,\"\",IF(ISERROR(((($AA35 / TotalDMFed) * ($AB4 / 100) * (($AV35 * 1000) / $AB35) * ($AW4 / 100) * (AY4 / 100) * TotalDMFed) * 1000))=TRUE,0,((($AA35 / TotalDMFed) * ($AB4 / 100) * (($AV35 * 1000) / $AB35) * ($AW4 / 100) * (AY4 / 100) * TotalDMFed) * 1000))))","v":0.26082686725448967},{"$f":"IF(Süt!$B6=\"\",\"\",IF(Süt!$C6<=0,\"\",IF(ISERROR(((($AA35 / TotalDMFed) * ($AB4 / 100) * (($AV35 * 1000) / $AB35) * ($AW4 / 100) * (AZ4 / 100) * TotalDMFed) * 1000))=TRUE,0,((($AA35 / TotalDMFed) * ($AB4 / 100) * (($AV35 * 1000) / $AB35) * ($AW4 / 100) * (AZ4 / 100) * TotalDMFed) * 1000))))","v":0.28309257543475097},{"$f":"IF(Süt!$B6=\"\",\"\",IF(Süt!$C6<=0,\"\",IF(ISERROR(((($AA35 / TotalDMFed) * ($AB4 / 100) * (($AV35 * 1000) / $AB35) * ($AW4 / 100) * (BA4 / 100) * TotalDMFed) * 1000))=TRUE,0,((($AA35 / TotalDMFed) * ($AB4 / 100) * (($AV35 * 1000) / $AB35) * ($AW4 / 100) * (BA4 / 100) * TotalDMFed) * 1000))))","v":0.51688251132749485},{"$f":"IF(Süt!$B6=\"\",\"\",IF(Süt!$C6<=0,\"\",IF(ISERROR(((($AA35 / TotalDMFed) * ($AB4 / 100) * (($AV35 * 1000) / $AB35) * ($AW4 / 100) * (BB4 / 100) * TotalDMFed) * 1000))=TRUE,0,((($AA35 / TotalDMFed) * ($AB4 / 100) * (($AV35 * 1000) / $AB35) * ($AW4 / 100) * (BB4 / 100) * TotalDMFed) * 1000))))","v":0.51688251132749485},{"$f":"IF(Süt!$B6=\"\",\"\",IF(Süt!$C6<=0,\"\",IF(ISERROR(((($AA35 / TotalDMFed) * ($AB4 / 100) * (($AV35 * 1000) / $AB35) * ($AW4 / 100) * (BC4 / 100) * TotalDMFed) * 1000))=TRUE,0,((($AA35 / TotalDMFed) * ($AB4 / 100) * (($AV35 * 1000) / $AB35) * ($AW4 / 100) * (BC4 / 100) * TotalDMFed) * 1000))))","v":0.18925851953222114},{"$f":"IF(Süt!$B6=\"\",\"\",IF(Süt!$C6<=0,\"\",IF(ISERROR(((($AA35 / TotalDMFed) * ($AB4 / 100) * (($AV35 * 1000) / $AB35) * ($AW4 / 100) * (BD4 / 100) * TotalDMFed) * 1000))=TRUE,0,((($AA35 / TotalDMFed) * ($AB4 / 100) * (($AV35 * 1000) / $AB35) * ($AW4 / 100) * (BD4 / 100) * TotalDMFed) * 1000))))","v":0.17017362680628292},{"$f":"IF(Süt!$B6=\"\",\"\",IF(Süt!$C6<=0,\"\",IF(ISERROR(((($AA35 / TotalDMFed) * ($AB4 / 100) * (($AV35 * 1000) / $AB35) * ($AW4 / 100) * (BE4 / 100) * TotalDMFed) * 1000))=TRUE,0,((($AA35 / TotalDMFed) * ($AB4 / 100) * (($AV35 * 1000) / $AB35) * ($AW4 / 100) * (BE4 / 100) * TotalDMFed) * 1000))))","v":0.33080480724959666},{"$f":"IF(Süt!$B6=\"\",\"\",IF(Süt!$C6<=0,\"\",IF(ISERROR(((($AA35 / TotalDMFed) * ($AB4 / 100) * (($AV35 * 1000) / $AB35) * ($AW4 / 100) * (BF4 / 100) * TotalDMFed) * 1000))=TRUE,0,((($AA35 / TotalDMFed) * ($AB4 / 100) * (($AV35 * 1000) / $AB35) * ($AW4 / 100) * (BF4 / 100) * TotalDMFed) * 1000))))","v":0.51688251132749485},{"$f":"IF(Süt!$B6=\"\",\"\",IF(Süt!$C6<=0,\"\",IF(ISERROR(((($AA35 / TotalDMFed) * ($AB4 / 100) * (($AV35 * 1000) / $AB35) * ($AW4 / 100) * (BG4 / 100) * TotalDMFed) * 1000))=TRUE,0,((($AA35 / TotalDMFed) * ($AB4 / 100) * (($AV35 * 1000) / $AB35) * ($AW4 / 100) * (BG4 / 100) * TotalDMFed) * 1000))))","v":0.22583789725693615},{"$f":"IF(Süt!$B6=\"\",\"\",IF(Süt!$C6<=0,\"\",IF(ISERROR(((($AA35 / TotalDMFed) * ($AB4 / 100) * (($AV35 * 1000) / $AB35) * ($AW4 / 100) * (BH4 / 100) * TotalDMFed) * 1000))=TRUE,0,((($AA35 / TotalDMFed) * ($AB4 / 100) * (($AV35 * 1000) / $AB35) * ($AW4 / 100) * (BH4 / 100) * TotalDMFed) * 1000))))","v":0.42463886315212646},null,{"$f":"IF(Süt!$B6=\"\",\"\",IF(Süt!$C6<=0,\"\",IF(AND(AnimalType=\"Buzağı\",MID(AN4,1,9)=\"Calf Feed\")=TRUE,IF(AN4=\"Calf Feed-Milk\",AA35,0),0)))","v":0},{"$f":"IF(Süt!$B6=\"\",\"\",IF(Süt!$C6<=0,\"\",IF(AND(AnimalType=\"Buzağı\",MID(AN4,1,9)=\"Calf Feed\")=TRUE,IF(AN4=\"Calf Feed-Milk\",AA35*V35,0),0)))","v":0},{"$f":"IF(Süt!$B6=\"\",\"\",IF(Süt!$C6<=0,\"\",IF(AND(AnimalType=\"Buzağı\",MID(AN4,1,9)=\"Calf Feed\")=TRUE,IF(AN4=\"Calf Feed-Milk\",AC65,0),0)))","v":0},{"$f":"IF(Süt!$B6=\"\",\"\",IF(Süt!$C6<=0,\"\",IF(AND(AnimalType=\"Buzağı\",MID(AN4,1,9)=\"Calf Feed\")=TRUE,IF(AN4=\"Calf Feed-Milk\",AB65,0),0)))","v":0},{"$f":"IF(Süt!$B6=\"\",\"\",IF(Süt!$C6<=0,\"\",IF(AND(AnimalType=\"Buzağı\",MID(AN4,1,9)=\"Calf Feed\")=TRUE,IF(AN4=\"Calf Feed-Milk\",0,AA35),AA35)))","v":0.65697880583963841},{"$f":"IF(Süt!$B6=\"\",\"\",IF(Süt!$C6<=0,\"\",IF(AND(AnimalType=\"Buzağı\",MID(AN4,1,9)=\"Calf Feed\")=TRUE,IF(AN4=\"Calf Feed-Milk\",0,AA35*V35),0)))","v":0},{"$f":"IF(Süt!$B6=\"\",\"\",IF(Süt!$C6<=0,\"\",IF(AND(AnimalType=\"Buzağı\",MID(AN4,1,9)=\"Calf Feed\")=TRUE,IF(AN4=\"Calf Feed-Milk\",0,AC65),AC65)))","v":2.3651237010226984E-2},{"$f":"IF(Süt!$B6=\"\",\"\",IF(Süt!$C6<=0,\"\",IF(AND(AnimalType=\"Buzağı\",MID(AN4,1,9)=\"Calf Feed\")=TRUE,IF(AN4=\"Calf Feed-Milk\",0,AB65),AB35)))","v":31.534982680302644},{"$f":"IF(Süt!$B6=\"\",\"\",IF(Süt!$C6<=0,\"\",IF(AND(AnimalType=\"Buzağı\",MID(AN4,1,9)=\"Calf Feed\")=TRUE,IF(V35<>0,0.86*(AA35*V35),0),0.75*(AA35*V35))))","v":0.49841580991206275},{"$f":"IF(Süt!$B6=\"\",\"\",IF(Süt!$C6<=0,\"\",IF(AND(AnimalType=\"Buzağı\",MID(AN4,1,9)=\"Calf Feed\")=TRUE,IF(V35<>0,0.69*(AA35*V35),0),0.57*(AA35*V35))))","v":0.37879601553316766},{"$f":"IF(Süt!$B6=\"\",\"\",IF(Süt!$C6<=0,\"\",IF(AND(AnimalType=\"Buzağı\",MID(AN4,1,9)=\"Calf Feed\")=TRUE,IF(V35<>0,V35,0),V35)))","v":1.0115309768125067},null,null,"CS_1",0.72599999999999998,{"$f":"BX65*CS5EBW","v":385.52342399999998},{"$f":"1*0.037683","v":3.7683000000000001E-2},{"$f":"BY65*BZ65","v":14.527679186592},{"$f":"0.200886-(0.0066762*1)","v":0.19420980000000002},{"$f":"CB65*BY65","v":74.872427070355201},{"$f":"(9.4*CA65)+(5.55*CC65)","v":552.10215459443612},null,"Arg",{"$f":"TArg","v":44.481637504122183},{"$f":"Dig_TArg","v":35.260308986086642},{"$f":" 7.31 + (0.251 * CN65)","v":10.423238483580114},{"$f":"CG65*0.863","v":38.387653166057447},{"$f":"CG65/100*CG$76","v":159.52283689682852},{"$f":"CK65-CJ65","v":121.13518373077108},{"$f":"IF(CG65 > 0, CJ65 * (CH65 / CG65),0)","v":30.429646654992776},{"$f":"IF(EAATotalBeforeMP > 0,((TArg / EAATotalBeforeMP) * 100),0)","v":12.403340572032331},{"$f":"0.8 * CL65","v":96.908146984616863},{"$f":"CM65+CO65","v":127.33779363960964},{"$f":"IF((MPBact + (MPFeed * 1000) + MPEndo) > 0,100 * (CP65 / (MPBact + (MPFeed * 1000) + MPEndo)),0)","v":6.7090124757739567},null,null,-7,1.0790000000000008,null,"MPEndo",{"$f":"CX64*0.4","v":99.772111207595572},"endogenous metabolizable protein (g/day)",null,null,null,null,null,null,null,null,null,null,"Kaba Yemler"]
[null,{"$f":"Süt!B30","v":0},{"$f":"ROUND((Süt!C30/Süt!$C$4)*100,2)","v":0},{"$f":"ROUND(Süt!C30,2)","v":0},{"$f":"ROUND(C$34*Süt!C30,2)","v":0},0,0,null,null,null,null,null,null,null,null,"Boz Irk",350,18.824999999999999,48,12,280,700,800,4,{"$f":"IF(Süt!$B7=\"\",\"\",IF(Süt!$C7<=0,\"\",IF(MID(AN5,1,9)=\"Calf Feed\",$AA36*Y5,0)))","v":0},{"$f":"IF(Süt!$B7=\"\",\"\",IF(Süt!$C7<=0,\"\",IF(MID(AN5,1,9)=\"Calf Feed\",$AA36*Z5,0)))","v":0},{"$f":"IF(Süt!$B7=\"\",\"\",IF(Süt!$C7<=0,\"\",IF(MID($AN5,1,9)=\"Calf Feed\",$AA36*V36,0)))","v":0},{"$f":"IF(Süt!$B7=\"\",\"\",IF(Süt!$C7<=0,\"\",IF(MID($AN5,1,9)=\"Calf Feed\",$AA36*(AB5/100),AB36/1000)))","v":1.0273351199999998},{"$f":"IF(Süt!$B7=\"\",\"\",IF(Süt!$C7<=0,\"\",IF(MID(AN5,1,9)=\"Calf Feed\",AA36*(AB5/100),AB36/1000*0.75)))","v":0.77050133999999981},{"$f":"IF(Süt!$B7=\"\",\"\",IF(Süt!$C7<=0,\"\",IF(MID($AN5,1,9)=\"Calf Feed\",$AA36*(AF5/100),0)))","v":0},null,null,null,null,null,null,null,null,null,null,null,null,null,null,null,null,"Buzağı",null,null,{"$f":"IF(Süt!$B7=\"\",\"\",IF(Süt!$C7<=0,\"\",IF(ISERROR(((($AA36 / TotalDMFed) * ($AB5 / 100) * (($AV36 * 1000) / $AB36) * ($AW5 / 100) * (AX5 / 100) * TotalDMFed) * 1000))=TRUE,0,((($AA36 / TotalDMFed) * ($AB5 / 100) * (($AV36 * 1000) / $AB36) * ($AW5 / 100) * (AX5 / 100) * TotalDMFed) * 1000))))","v":11.375150944484236},{"$f":"IF(Süt!$B7=\"\",\"\",IF(Süt!$C7<=0,\"\",IF(ISERROR(((($AA36 / TotalDMFed) * ($AB5 / 100) * (($AV36 * 1000) / $AB36) * ($AW5 / 100) * (AY5 / 100) * TotalDMFed) * 1000))=TRUE,0,((($AA36 / TotalDMFed) * ($AB5 / 100) * (($AV36 * 1000) / $AB36) * ($AW5 / 100) * (AY5 / 100) * TotalDMFed) * 1000))))","v":4.3154755528685342},{"$f":"IF(Süt!$B7=\"\",\"\",IF(Süt!$C7<=0,\"\",IF(ISERROR(((($AA36 / TotalDMFed) * ($AB5 / 100) * (($AV36 * 1000) / $AB36) * ($AW5 / 100) * (AZ5 / 100) * TotalDMFed) * 1000))=TRUE,0,((($AA36 / TotalDMFed) * ($AB5 / 100) * (($AV36 * 1000) / $AB36) * ($AW5 / 100) * (AZ5 / 100) * TotalDMFed) * 1000))))","v":9.3391317092847235},{"$f":"IF(Süt!$B7=\"\",\"\",IF(Süt!$C7<=0,\"\",IF(ISERROR(((($AA36 / TotalDMFed) * ($AB5 / 100) * (($AV36 * 1000) / $AB36) * ($AW5 / 100) * (BA5 / 100) * TotalDMFed) * 1000))=TRUE,0,((($AA36 / TotalDMFed) * ($AB5 / 100) * (($AV36 * 1000) / $AB36) * ($AW5 / 100) * (BA5 / 100) * TotalDMFed) * 1000))))","v":16.266023237735244},{"$f":"IF(Süt!$B7=\"\",\"\",IF(Süt!$C7<=0,\"\",IF(ISERROR(((($AA36 / TotalDMFed) * ($AB5 / 100) * (($AV36 * 1000) / $AB36) * ($AW5 / 100) * (BB5 / 100) * TotalDMFed) * 1000))=TRUE,0,((($AA36 / TotalDMFed) * ($AB5 / 100) * (($AV36 * 1000) / $AB36) * ($AW5 / 100) * (BB5 / 100) * TotalDMFed) * 1000))))","v":11.242367081319053},{"$f":"IF(Süt!$B7=\"\",\"\",IF(Süt!$C7<=0,\"\",IF(ISERROR(((($AA36 / TotalDMFed) * ($AB5 / 100) * (($AV36 * 1000) / $AB36) * ($AW5 / 100) * (BC5 / 100) * TotalDMFed) * 1000))=TRUE,0,((($AA36 / TotalDMFed) * ($AB5 / 100) * (($AV36 * 1000) / $AB36) * ($AW5 / 100) * (BC5 / 100) * TotalDMFed) * 1000))))","v":3.4523804422948272},{"$f":"IF(Süt!$B7=\"\",\"\",IF(Süt!$C7<=0,\"\",IF(ISERROR(((($AA36 / TotalDMFed) * ($AB5 / 100) * (($AV36 * 1000) / $AB36) * ($AW5 / 100) * (BD5 / 100) * TotalDMFed) * 1000))=TRUE,0,((($AA36 / TotalDMFed) * ($AB5 / 100) * (($AV36 * 1000) / $AB36) * ($AW5 / 100) * (BD5 / 100) * TotalDMFed) * 1000))))","v":3.1425514282427272},{"$f":"IF(Süt!$B7=\"\",\"\",IF(Süt!$C7<=0,\"\",IF(ISERROR(((($AA36 / TotalDMFed) * ($AB5 / 100) * (($AV36 * 1000) / $AB36) * ($AW5 / 100) * (BE5 / 100) * TotalDMFed) * 1000))=TRUE,0,((($AA36 / TotalDMFed) * ($AB5 / 100) * (($AV36 * 1000) / $AB36) * ($AW5 / 100) * (BE5 / 100) * TotalDMFed) * 1000))))","v":10.578447765493127},{"$f":"IF(Süt!$B7=\"\",\"\",IF(Süt!$C7<=0,\"\",IF(ISERROR(((($AA36 / TotalDMFed) * ($AB5 / 100) * (($AV36 * 1000) / $AB36) * ($AW5 / 100) * (BF5 / 100) * TotalDMFed) * 1000))=TRUE,0,((($AA36 / TotalDMFed) * ($AB5 / 100) * (($AV36 * 1000) / $AB36) * ($AW5 / 100) * (BF5 / 100) * TotalDMFed) * 1000))))","v":9.6710913671976897},{"$f":"IF(Süt!$B7=\"\",\"\",IF(Süt!$C7<=0,\"\",IF(ISERROR(((($AA36 / TotalDMFed) * ($AB5 / 100) * (($AV36 * 1000) / $AB36) * ($AW5 / 100) * (BG5 / 100) * TotalDMFed) * 1000))=TRUE,0,((($AA36 / TotalDMFed) * ($AB5 / 100) * (($AV36 * 1000) / $AB36) * ($AW5 / 100) * (BG5 / 100) * TotalDMFed) * 1000))))","v":3.3195965791296413},{"$f":"IF(Süt!$B7=\"\",\"\",IF(Süt!$C7<=0,\"\",IF(ISERROR(((($AA36 / TotalDMFed) * ($AB5 / 100) * (($AV36 * 1000) / $AB36) * ($AW5 / 100) * (BH5 / 100) * TotalDMFed) * 1000))=TRUE,0,((($AA36 / TotalDMFed) * ($AB5 / 100) * (($AV36 * 1000) / $AB36) * ($AW5 / 100) * (BH5 / 100) * TotalDMFed) * 1000))))","v":11.574326739232019},null,{"$f":"IF(Süt!$B7=\"\",\"\",IF(Süt!$C7<=0,\"\",IF(AND(AnimalType=\"Buzağı\",MID(AN5,1,9)=\"Calf Feed\")=TRUE,IF(AN5=\"Calf Feed-Milk\",AA36,0),0)))","v":0},{"$f":"IF(Süt!$B7=\"\",\"\",IF(Süt!$C7<=0,\"\",IF(AND(AnimalType=\"Buzağı\",MID(AN5,1,9)=\"Calf Feed\")=TRUE,IF(AN5=\"Calf Feed-Milk\",AA36*V36,0),0)))","v":0},{"$f":"IF(Süt!$B7=\"\",\"\",IF(Süt!$C7<=0,\"\",IF(AND(AnimalType=\"Buzağı\",MID(AN5,1,9)=\"Calf Feed\")=TRUE,IF(AN5=\"Calf Feed-Milk\",AC66,0),0)))","v":0},{"$f":"IF(Süt!$B7=\"\",\"\",IF(Süt!$C7<=0,\"\",IF(AND(AnimalType=\"Buzağı\",MID(AN5,1,9)=\"Calf Feed\")=TRUE,IF(AN5=\"Calf Feed-Milk\",AB66,0),0)))","v":0},{"$f":"IF(Süt!$B7=\"\",\"\",IF(Süt!$C7<=0,\"\",IF(AND(AnimalType=\"Buzağı\",MID(AN5,1,9)=\"Calf Feed\")=TRUE,IF(AN5=\"Calf Feed-Milk\",0,AA36),AA36)))","v":6.3888999999999996},{"$f":"IF(Süt!$B7=\"\",\"\",IF(Süt!$C7<=0,\"\",IF(AND(AnimalType=\"Buzağı\",MID(AN5,1,9)=\"Calf Feed\")=TRUE,IF(AN5=\"Calf Feed-Milk\",0,AA36*V36),0)))","v":0},{"$f":"IF(Süt!$B7=\"\",\"\",IF(Süt!$C7<=0,\"\",IF(AND(AnimalType=\"Buzağı\",MID(AN5,1,9)=\"Calf Feed\")=TRUE,IF(AN5=\"Calf Feed-Milk\",0,AC66),AC66)))","v":0.77050133999999981},{"$f":"IF(Süt!$B7=\"\",\"\",IF(Süt!$C7<=0,\"\",IF(AND(AnimalType=\"Buzağı\",MID(AN5,1,9)=\"Calf Feed\")=TRUE,IF(AN5=\"Calf Feed-Milk\",0,AB66),AB36)))","v":1027.3351199999997},{"$f":"IF(Süt!$B7=\"\",\"\",IF(Süt!$C7<=0,\"\",IF(AND(AnimalType=\"Buzağı\",MID(AN5,1,9)=\"Calf Feed\")=TRUE,IF(V36<>0,0.86*(AA36*V36),0),0.75*(AA36*V36))))","v":69.172899693168262},{"$f":"IF(Süt!$B7=\"\",\"\",IF(Süt!$C7<=0,\"\",IF(AND(AnimalType=\"Buzağı\",MID(AN5,1,9)=\"Calf Feed\")=TRUE,IF(V36<>0,0.69*(AA36*V36),0),0.57*(AA36*V36))))","v":52.571403766807876},{"$f":"IF(Süt!$B7=\"\",\"\",IF(Süt!$C7<=0,\"\",IF(AND(AnimalType=\"Buzağı\",MID(AN5,1,9)=\"Calf Feed\")=TRUE,IF(V36<>0,V36,0),V36)))","v":14.43605830803806},null,null,"CS_2",0.79400000000000004,421.63305600000001,{"$f":"BZ65+0.037683","v":7.5366000000000002E-2},31.776796898496002,{"$f":"0.200886-(0.0066762*2)","v":0.18753360000000002},79.070364870681615,737.54241587814533,null,"His",{"$f":"THis","v":19.367194101554823},{"$f":"Dig_THis","v":15.117491097437814},{"$f":"2.07 + (0.393 * CN66) + (0.0122 * CG77)","v":4.5679457718285814},16.713888509641812,69.45584558403992,52.741957074398108,13.046394817088833,{"$f":"IF(EAATotalBeforeMP > 0,((THis / EAATotalBeforeMP) * 100),0)","v":5.4003835705009458},42.193565659518491,55.239960476607322,2.9104131099342245,null,null,-6,1.07,null,"MPEndoReq",{"$f":"CX65/0.67","v":148.91359881730682},"MPEndo requirement (g/day)",null,null,null,null,null,null,null,null,null,null,"Baklagil Kuru Otu"]
[null,{"$f":"Süt!B31","v":0},{"$f":"ROUND((Süt!C31/Süt!$C$4)*100,2)","v":0},{"$f":"ROUND(Süt!C31,2)","v":0},{"$f":"ROUND(C$34*Süt!C31,2)","v":0},0,0,null,null,null,null,null,null,null,null,"Doğu Anadolu Kırmızısı",300,17,33,12,280,700,1000,4,{"$f":"IF(Süt!$B8=\"\",\"\",IF(Süt!$C8<=0,\"\",IF(MID(AN6,1,9)=\"Calf Feed\",$AA37*Y6,0)))","v":0},{"$f":"IF(Süt!$B8=\"\",\"\",IF(Süt!$C8<=0,\"\",IF(MID(AN6,1,9)=\"Calf Feed\",$AA37*Z6,0)))","v":0},{"$f":"IF(Süt!$B8=\"\",\"\",IF(Süt!$C8<=0,\"\",IF(MID($AN6,1,9)=\"Calf Feed\",$AA37*V37,0)))","v":0},{"$f":"IF(Süt!$B8=\"\",\"\",IF(Süt!$C8<=0,\"\",IF(MID($AN6,1,9)=\"Calf Feed\",$AA37*(AB6/100),AB37/1000)))","v":0.56420000000000003},{"$f":"IF(Süt!$B8=\"\",\"\",IF(Süt!$C8<=0,\"\",IF(MID(AN6,1,9)=\"Calf Feed\",AA37*(AB6/100),AB37/1000*0.75)))","v":0.42315000000000003},{"$f":"IF(Süt!$B8=\"\",\"\",IF(Süt!$C8<=0,\"\",IF(MID($AN6,1,9)=\"Calf Feed\",$AA37*(AF6/100),0)))","v":0},"Mineraller için hesaplanan değerler ",null,null,null,null,null,null,null,null,null,null,null,null,null,null,null,"RDreq katsayıları",null,null,{"$f":"IF(Süt!$B8=\"\",\"\",IF(Süt!$C8<=0,\"\",IF(ISERROR(((($AA37 / TotalDMFed) * ($AB6 / 100) * (($AV37 * 1000) / $AB37) * ($AW6 / 100) * (AX6 / 100) * TotalDMFed) * 1000))=TRUE,0,((($AA37 / TotalDMFed) * ($AB6 / 100) * (($AV37 * 1000) / $AB37) * ($AW6 / 100) * (AX6 / 100) * TotalDMFed) * 1000))))","v":5.2532452486455359},{"$f":"IF(Süt!$B8=\"\",\"\",IF(Süt!$C8<=0,\"\",IF(ISERROR(((($AA37 / TotalDMFed) * ($AB6 / 100) * (($AV37 * 1000) / $AB37) * ($AW6 / 100) * (AY6 / 100) * TotalDMFed) * 1000))=TRUE,0,((($AA37 / TotalDMFed) * ($AB6 / 100) * (($AV37 * 1000) / $AB37) * ($AW6 / 100) * (AY6 / 100) * TotalDMFed) * 1000))))","v":2.3831290082612884},{"$f":"IF(Süt!$B8=\"\",\"\",IF(Süt!$C8<=0,\"\",IF(ISERROR(((($AA37 / TotalDMFed) * ($AB6 / 100) * (($AV37 * 1000) / $AB37) * ($AW6 / 100) * (AZ6 / 100) * TotalDMFed) * 1000))=TRUE,0,((($AA37 / TotalDMFed) * ($AB6 / 100) * (($AV37 * 1000) / $AB37) * ($AW6 / 100) * (AZ6 / 100) * TotalDMFed) * 1000))))","v":3.5954163733333346},{"$f":"IF(Süt!$B8=\"\",\"\",IF(Süt!$C8<=0,\"\",IF(ISERROR(((($AA37 / TotalDMFed) * ($AB6 / 100) * (($AV37 * 1000) / $AB37) * ($AW6 / 100) * (BA6 / 100) * TotalDMFed) * 1000))=TRUE,0,((($AA37 / TotalDMFed) * ($AB6 / 100) * (($AV37 * 1000) / $AB37) * ($AW6 / 100) * (BA6 / 100) * TotalDMFed) * 1000))))","v":7.2219170380787734},{"$f":"IF(Süt!$B8=\"\",\"\",IF(Süt!$C8<=0,\"\",IF(ISERROR(((($AA37 / TotalDMFed) * ($AB6 / 100) * (($AV37 * 1000) / $AB37) * ($AW6 / 100) * (BB6 / 100) * TotalDMFed) * 1000))=TRUE,0,((($AA37 / TotalDMFed) * ($AB6 / 100) * (($AV37 * 1000) / $AB37) * ($AW6 / 100) * (BB6 / 100) * TotalDMFed) * 1000))))","v":3.7611992608645544},{"$f":"IF(Süt!$B8=\"\",\"\",IF(Süt!$C8<=0,\"\",IF(ISERROR(((($AA37 / TotalDMFed) * ($AB6 / 100) * (($AV37 * 1000) / $AB37) * ($AW6 / 100) * (BC6 / 100) * TotalDMFed) * 1000))=TRUE,0,((($AA37 / TotalDMFed) * ($AB6 / 100) * (($AV37 * 1000) / $AB37) * ($AW6 / 100) * (BC6 / 100) * TotalDMFed) * 1000))))","v":1.761443180019213},{"$f":"IF(Süt!$B8=\"\",\"\",IF(Süt!$C8<=0,\"\",IF(ISERROR(((($AA37 / TotalDMFed) * ($AB6 / 100) * (($AV37 * 1000) / $AB37) * ($AW6 / 100) * (BD6 / 100) * TotalDMFed) * 1000))=TRUE,0,((($AA37 / TotalDMFed) * ($AB6 / 100) * (($AV37 * 1000) / $AB37) * ($AW6 / 100) * (BD6 / 100) * TotalDMFed) * 1000))))","v":2.3624061473198852},{"$f":"IF(Süt!$B8=\"\",\"\",IF(Süt!$C8<=0,\"\",IF(ISERROR(((($AA37 / TotalDMFed) * ($AB6 / 100) * (($AV37 * 1000) / $AB37) * ($AW6 / 100) * (BE6 / 100) * TotalDMFed) * 1000))=TRUE,0,((($AA37 / TotalDMFed) * ($AB6 / 100) * (($AV37 * 1000) / $AB37) * ($AW6 / 100) * (BE6 / 100) * TotalDMFed) * 1000))))","v":5.2946909705283405},{"$f":"IF(Süt!$B8=\"\",\"\",IF(Süt!$C8<=0,\"\",IF(ISERROR(((($AA37 / TotalDMFed) * ($AB6 / 100) * (($AV37 * 1000) / $AB37) * ($AW6 / 100) * (BF6 / 100) * TotalDMFed) * 1000))=TRUE,0,((($AA37 / TotalDMFed) * ($AB6 / 100) * (($AV37 * 1000) / $AB37) * ($AW6 / 100) * (BF6 / 100) * TotalDMFed) * 1000))))","v":3.5436092209798282},{"$f":"IF(Süt!$B8=\"\",\"\",IF(Süt!$C8<=0,\"\",IF(ISERROR(((($AA37 / TotalDMFed) * ($AB6 / 100) * (($AV37 * 1000) / $AB37) * ($AW6 / 100) * (BG6 / 100) * TotalDMFed) * 1000))=TRUE,0,((($AA37 / TotalDMFed) * ($AB6 / 100) * (($AV37 * 1000) / $AB37) * ($AW6 / 100) * (BG6 / 100) * TotalDMFed) * 1000))))","v":1.2122873650720465},{"$f":"IF(Süt!$B8=\"\",\"\",IF(Süt!$C8<=0,\"\",IF(ISERROR(((($AA37 / TotalDMFed) * ($AB6 / 100) * (($AV37 * 1000) / $AB37) * ($AW6 / 100) * (BH6 / 100) * TotalDMFed) * 1000))=TRUE,0,((($AA37 / TotalDMFed) * ($AB6 / 100) * (($AV37 * 1000) / $AB37) * ($AW6 / 100) * (BH6 / 100) * TotalDMFed) * 1000))))","v":5.0771009306436135},null,{"$f":"IF(Süt!$B8=\"\",\"\",IF(Süt!$C8<=0,\"\",IF(AND(AnimalType=\"Buzağı\",MID(AN6,1,9)=\"Calf Feed\")=TRUE,IF(AN6=\"Calf Feed-Milk\",AA37,0),0)))","v":0},{"$f":"IF(Süt!$B8=\"\",\"\",IF(Süt!$C8<=0,\"\",IF(AND(AnimalType=\"Buzağı\",MID(AN6,1,9)=\"Calf Feed\")=TRUE,IF(AN6=\"Calf Feed-Milk\",AA37*V37,0),0)))","v":0},{"$f":"IF(Süt!$B8=\"\",\"\",IF(Süt!$C8<=0,\"\",IF(AND(AnimalType=\"Buzağı\",MID(AN6,1,9)=\"Calf Feed\")=TRUE,IF(AN6=\"Calf Feed-Milk\",AC67,0),0)))","v":0},{"$f":"IF(Süt!$B8=\"\",\"\",IF(Süt!$C8<=0,\"\",IF(AND(AnimalType=\"Buzağı\",MID(AN6,1,9)=\"Calf Feed\")=TRUE,IF(AN6=\"Calf Feed-Milk\",AB67,0),0)))","v":0},{"$f":"IF(Süt!$B8=\"\",\"\",IF(Süt!$C8<=0,\"\",IF(AND(AnimalType=\"Buzağı\",MID(AN6,1,9)=\"Calf Feed\")=TRUE,IF(AN6=\"Calf Feed-Milk\",0,AA37),AA37)))","v":4.55},{"$f":"IF(Süt!$B8=\"\",\"\",IF(Süt!$C8<=0,\"\",IF(AND(AnimalType=\"Buzağı\",MID(AN6,1,9)=\"Calf Feed\")=TRUE,IF(AN6=\"Calf Feed-Milk\",0,AA37*V37),0)))","v":0},{"$f":"IF(Süt!$B8=\"\",\"\",IF(Süt!$C8<=0,\"\",IF(AND(AnimalType=\"Buzağı\",MID(AN6,1,9)=\"Calf Feed\")=TRUE,IF(AN6=\"Calf Feed-Milk\",0,AC67),AC67)))","v":0.42315000000000003},{"$f":"IF(Süt!$B8=\"\",\"\",IF(Süt!$C8<=0,\"\",IF(AND(AnimalType=\"Buzağı\",MID(AN6,1,9)=\"Calf Feed\")=TRUE,IF(AN6=\"Calf Feed-Milk\",0,AB67),AB37)))","v":564.20000000000005},{"$f":"IF(Süt!$B8=\"\",\"\",IF(Süt!$C8<=0,\"\",IF(AND(AnimalType=\"Buzağı\",MID(AN6,1,9)=\"Calf Feed\")=TRUE,IF(V37<>0,0.86*(AA37*V37),0),0.75*(AA37*V37))))","v":48.065001974526496},{"$f":"IF(Süt!$B8=\"\",\"\",IF(Süt!$C8<=0,\"\",IF(AND(AnimalType=\"Buzağı\",MID(AN6,1,9)=\"Calf Feed\")=TRUE,IF(V37<>0,0.69*(AA37*V37),0),0.57*(AA37*V37))))","v":36.529401500640134},{"$f":"IF(Süt!$B8=\"\",\"\",IF(Süt!$C8<=0,\"\",IF(AND(AnimalType=\"Buzağı\",MID(AN6,1,9)=\"Calf Feed\")=TRUE,IF(V37<>0,V37,0),V37)))","v":14.084982263597508},null,null,"CS_3",0.86299999999999999,458.27371199999999,0.11304900000000001,51.807384867888004,{"$f":"0.200886-(0.0066762*3)","v":0.1808574},82.882192040668798,946.98558358385912,null,"Ile",{"$f":"TIle","v":35.343014151380643},{"$f":"Dig_TIle","v":27.107684442370996},{"$f":" 7.59 + (0.391 * CN67) - (0.0123 * CG77)","v":11.064674428347118},30.501021212641493,126.74933294419552,96.248311731554026,23.393931673766168,{"$f":"IF(EAATotalBeforeMP > 0,((TIle / EAATotalBeforeMP) * 100),0)","v":9.8551102423130832},76.998649385243226,100.39258105900939,5.289357224974979,null,null,-5,1.07,null,"TotalMEConc",{"$f":" IF(TotalRegDMFed > 0,MEng_Total / TotalRegDMFed,0)","v":2.4330303637692645},null,null,null,null,null,null,null,null,null,null,null,"Mısır Silajı"]
[null,"TOPLAM",{"$f":"ROUND(SUM(C41:C67),0)","v":100},{"$f":"ROUND(SUM(D41:D67),2)","v":39.619999999999997},{"$f":"ROUND(SUM(E41:E67),2)","v":792.34},{"$f":"ROUND(SUM(F41:F67),2)","v":19.809999999999999},{"$f":"ROUND(SUM(G41:G67),2)","v":396.2},null,null,null,null,null,null,null,null,"Gernzey",450,30,30,12,283,900,3500,4.5,{"$f":"IF(Süt!$B9=\"\",\"\",IF(Süt!$C9<=0,\"\",IF(MID(AN7,1,9)=\"Calf Feed\",$AA38*Y7,0)))","v":0},{"$f":"IF(Süt!$B9=\"\",\"\",IF(Süt!$C9<=0,\"\",IF(MID(AN7,1,9)=\"Calf Feed\",$AA38*Z7,0)))","v":0},{"$f":"IF(Süt!$B9=\"\",\"\",IF(Süt!$C9<=0,\"\",IF(MID($AN7,1,9)=\"Calf Feed\",$AA38*V38,0)))","v":0},{"$f":"IF(Süt!$B9=\"\",\"\",IF(Süt!$C9<=0,\"\",IF(MID($AN7,1,9)=\"Calf Feed\",$AA38*(AB7/100),AB38/1000)))","v":1.7345016227535504E-9},{"$f":"IF(Süt!$B9=\"\",\"\",IF(Süt!$C9<=0,\"\",IF(MID(AN7,1,9)=\"Calf Feed\",AA38*(AB7/100),AB38/1000*0.75)))","v":1.3008762170651628E-9},{"$f":"IF(Süt!$B9=\"\",\"\",IF(Süt!$C9<=0,\"\",IF(MID($AN7,1,9)=\"Calf Feed\",$AA38*(AF7/100),0)))","v":0},null,"Units","Fecal","Urine","Sweat","Misc","Maint","Fetal","Milk","Growth","Total","Supplied","Absorbable","Balance","RD","RDReq","m","n","o",{"$f":"IF(Süt!$B9=\"\",\"\",IF(Süt!$C9<=0,\"\",IF(ISERROR(((($AA38 / TotalDMFed) * ($AB7 / 100) * (($AV38 * 1000) / $AB38) * ($AW7 / 100) * (AX7 / 100) * TotalDMFed) * 1000))=TRUE,0,((($AA38 / TotalDMFed) * ($AB7 / 100) * (($AV38 * 1000) / $AB38) * ($AW7 / 100) * (AX7 / 100) * TotalDMFed) * 1000))))","v":5.2026755763603297E-8},{"$f":"IF(Süt!$B9=\"\",\"\",IF(Süt!$C9<=0,\"\",IF(ISERROR(((($AA38 / TotalDMFed) * ($AB7 / 100) * (($AV38 * 1000) / $AB38) * ($AW7 / 100) * (AY7 / 100) * TotalDMFed) * 1000))=TRUE,0,((($AA38 / TotalDMFed) * ($AB7 / 100) * (($AV38 * 1000) / $AB38) * ($AW7 / 100) * (AY7 / 100) * TotalDMFed) * 1000))))","v":3.4427853179720577E-8},{"$f":"IF(Süt!$B9=\"\",\"\",IF(Süt!$C9<=0,\"\",IF(ISERROR(((($AA38 / TotalDMFed) * ($AB7 / 100) * (($AV38 * 1000) / $AB38) * ($AW7 / 100) * (AZ7 / 100) * TotalDMFed) * 1000))=TRUE,0,((($AA38 / TotalDMFed) * ($AB7 / 100) * (($AV38 * 1000) / $AB38) * ($AW7 / 100) * (AZ7 / 100) * TotalDMFed) * 1000))))","v":3.6737709143855177E-8},{"$f":"IF(Süt!$B9=\"\",\"\",IF(Süt!$C9<=0,\"\",IF(ISERROR(((($AA38 / TotalDMFed) * ($AB7 / 100) * (($AV38 * 1000) / $AB38) * ($AW7 / 100) * (BA7 / 100) * TotalDMFed) * 1000))=TRUE,0,((($AA38 / TotalDMFed) * ($AB7 / 100) * (($AV38 * 1000) / $AB38) * ($AW7 / 100) * (BA7 / 100) * TotalDMFed) * 1000))))","v":1.1956254442925323E-7},{"$f":"IF(Süt!$B9=\"\",\"\",IF(Süt!$C9<=0,\"\",IF(ISERROR(((($AA38 / TotalDMFed) * ($AB7 / 100) * (($AV38 * 1000) / $AB38) * ($AW7 / 100) * (BB7 / 100) * TotalDMFed) * 1000))=TRUE,0,((($AA38 / TotalDMFed) * ($AB7 / 100) * (($AV38 * 1000) / $AB38) * ($AW7 / 100) * (BB7 / 100) * TotalDMFed) * 1000))))","v":3.3547908050526429E-8},{"$f":"IF(Süt!$B9=\"\",\"\",IF(Süt!$C9<=0,\"\",IF(ISERROR(((($AA38 / TotalDMFed) * ($AB7 / 100) * (($AV38 * 1000) / $AB38) * ($AW7 / 100) * (BC7 / 100) * TotalDMFed) * 1000))=TRUE,0,((($AA38 / TotalDMFed) * ($AB7 / 100) * (($AV38 * 1000) / $AB38) * ($AW7 / 100) * (BC7 / 100) * TotalDMFed) * 1000))))","v":2.243860079445047E-8},{"$f":"IF(Süt!$B9=\"\",\"\",IF(Süt!$C9<=0,\"\",IF(ISERROR(((($AA38 / TotalDMFed) * ($AB7 / 100) * (($AV38 * 1000) / $AB38) * ($AW7 / 100) * (BD7 / 100) * TotalDMFed) * 1000))=TRUE,0,((($AA38 / TotalDMFed) * ($AB7 / 100) * (($AV38 * 1000) / $AB38) * ($AW7 / 100) * (BD7 / 100) * TotalDMFed) * 1000))))","v":2.4418477335137275E-8},{"$f":"IF(Süt!$B9=\"\",\"\",IF(Süt!$C9<=0,\"\",IF(ISERROR(((($AA38 / TotalDMFed) * ($AB7 / 100) * (($AV38 * 1000) / $AB38) * ($AW7 / 100) * (BE7 / 100) * TotalDMFed) * 1000))=TRUE,0,((($AA38 / TotalDMFed) * ($AB7 / 100) * (($AV38 * 1000) / $AB38) * ($AW7 / 100) * (BE7 / 100) * TotalDMFed) * 1000))))","v":5.0816831210961358E-8},{"$f":"IF(Süt!$B9=\"\",\"\",IF(Süt!$C9<=0,\"\",IF(ISERROR(((($AA38 / TotalDMFed) * ($AB7 / 100) * (($AV38 * 1000) / $AB38) * ($AW7 / 100) * (BF7 / 100) * TotalDMFed) * 1000))=TRUE,0,((($AA38 / TotalDMFed) * ($AB7 / 100) * (($AV38 * 1000) / $AB38) * ($AW7 / 100) * (BF7 / 100) * TotalDMFed) * 1000))))","v":4.0257489660631722E-8},{"$f":"IF(Süt!$B9=\"\",\"\",IF(Süt!$C9<=0,\"\",IF(ISERROR(((($AA38 / TotalDMFed) * ($AB7 / 100) * (($AV38 * 1000) / $AB38) * ($AW7 / 100) * (BG7 / 100) * TotalDMFed) * 1000))=TRUE,0,((($AA38 / TotalDMFed) * ($AB7 / 100) * (($AV38 * 1000) / $AB38) * ($AW7 / 100) * (BG7 / 100) * TotalDMFed) * 1000))))","v":7.9195061627472235E-9},{"$f":"IF(Süt!$B9=\"\",\"\",IF(Süt!$C9<=0,\"\",IF(ISERROR(((($AA38 / TotalDMFed) * ($AB7 / 100) * (($AV38 * 1000) / $AB38) * ($AW7 / 100) * (BH7 / 100) * TotalDMFed) * 1000))=TRUE,0,((($AA38 / TotalDMFed) * ($AB7 / 100) * (($AV38 * 1000) / $AB38) * ($AW7 / 100) * (BH7 / 100) * TotalDMFed) * 1000))))","v":5.2246742045901829E-8},null,{"$f":"IF(Süt!$B9=\"\",\"\",IF(Süt!$C9<=0,\"\",IF(AND(AnimalType=\"Buzağı\",MID(AN7,1,9)=\"Calf Feed\")=TRUE,IF(AN7=\"Calf Feed-Milk\",AA38,0),0)))","v":0},{"$f":"IF(Süt!$B9=\"\",\"\",IF(Süt!$C9<=0,\"\",IF(AND(AnimalType=\"Buzağı\",MID(AN7,1,9)=\"Calf Feed\")=TRUE,IF(AN7=\"Calf Feed-Milk\",AA38*V38,0),0)))","v":0},{"$f":"IF(Süt!$B9=\"\",\"\",IF(Süt!$C9<=0,\"\",IF(AND(AnimalType=\"Buzağı\",MID(AN7,1,9)=\"Calf Feed\")=TRUE,IF(AN7=\"Calf Feed-Milk\",AC68,0),0)))","v":0},{"$f":"IF(Süt!$B9=\"\",\"\",IF(Süt!$C9<=0,\"\",IF(AND(AnimalType=\"Buzağı\",MID(AN7,1,9)=\"Calf Feed\")=TRUE,IF(AN7=\"Calf Feed-Milk\",AB68,0),0)))","v":0},{"$f":"IF(Süt!$B9=\"\",\"\",IF(Süt!$C9<=0,\"\",IF(AND(AnimalType=\"Buzağı\",MID(AN7,1,9)=\"Calf Feed\")=TRUE,IF(AN7=\"Calf Feed-Milk\",0,AA38),AA38)))","v":1.8452144922910111E-8},{"$f":"IF(Süt!$B9=\"\",\"\",IF(Süt!$C9<=0,\"\",IF(AND(AnimalType=\"Buzağı\",MID(AN7,1,9)=\"Calf Feed\")=TRUE,IF(AN7=\"Calf Feed-Milk\",0,AA38*V38),0)))","v":0},{"$f":"IF(Süt!$B9=\"\",\"\",IF(Süt!$C9<=0,\"\",IF(AND(AnimalType=\"Buzağı\",MID(AN7,1,9)=\"Calf Feed\")=TRUE,IF(AN7=\"Calf Feed-Milk\",0,AC68),AC68)))","v":1.3008762170651628E-9},{"$f":"IF(Süt!$B9=\"\",\"\",IF(Süt!$C9<=0,\"\",IF(AND(AnimalType=\"Buzağı\",MID(AN7,1,9)=\"Calf Feed\")=TRUE,IF(AN7=\"Calf Feed-Milk\",0,AB68),AB38)))","v":1.7345016227535504E-6},{"$f":"IF(Süt!$B9=\"\",\"\",IF(Süt!$C9<=0,\"\",IF(AND(AnimalType=\"Buzağı\",MID(AN7,1,9)=\"Calf Feed\")=TRUE,IF(V38<>0,0.86*(AA38*V38),0),0.75*(AA38*V38))))","v":8.7663326700704458E-16},{"$f":"IF(Süt!$B9=\"\",\"\",IF(Süt!$C9<=0,\"\",IF(AND(AnimalType=\"Buzağı\",MID(AN7,1,9)=\"Calf Feed\")=TRUE,IF(V38<>0,0.69*(AA38*V38),0),0.57*(AA38*V38))))","v":6.6624128292535382E-16},{"$f":"IF(Süt!$B9=\"\",\"\",IF(Süt!$C9<=0,\"\",IF(AND(AnimalType=\"Buzağı\",MID(AN7,1,9)=\"Calf Feed\")=TRUE,IF(V38<>0,V38,0),V38)))","v":6.3344633422977305E-8},null,null,"CS_4",0.93100000000000005,494.38334400000002,0.150732,74.519390207808001,{"$f":"0.200886-(0.0066762*4)","v":0.17418120000000001},86.112284117932802,1178.4054448079223,null,"Leu",{"$f":"TLeu","v":67.20387589631423},{"$f":"Dig_TLeu","v":51.152092145623882},{"$f":" 8.53 + (0.41 * CN68) + (0.0746 * CG77)","v":18.509764062303663},57.996944898519182,241.0107526380734,183.01380773955421,44.144255521673408,{"$f":"IF(EAATotalBeforeMP > 0,((TLeu / EAATotalBeforeMP) * 100),0)","v":18.739250784671164},146.41104619164338,190.55530171331679,10.03973651481458,null,null,-4,1.0680000000000001,null,"TotalNElConc",{"$f":" IF(TotalRegDMFed > 0,NEl_Total / TotalRegDMFed,0)","v":1.3772880273403774}]
[null,null,8,null,5,6,7,null,null,null,null,null,null,null,null,"Güney Anadolu Kırmızısı",450,25.1,36,12,280,900,2000,3,{"$f":"IF(Süt!$B10=\"\",\"\",IF(Süt!$C10<=0,\"\",IF(MID(AN8,1,9)=\"Calf Feed\",$AA39*Y8,0)))","v":0},{"$f":"IF(Süt!$B10=\"\",\"\",IF(Süt!$C10<=0,\"\",IF(MID(AN8,1,9)=\"Calf Feed\",$AA39*Z8,0)))","v":0},{"$f":"IF(Süt!$B10=\"\",\"\",IF(Süt!$C10<=0,\"\",IF(MID($AN8,1,9)=\"Calf Feed\",$AA39*V39,0)))","v":0},{"$f":"IF(Süt!$B10=\"\",\"\",IF(Süt!$C10<=0,\"\",IF(MID($AN8,1,9)=\"Calf Feed\",$AA39*(AB8/100),AB39/1000)))","v":4.1028963089855418E-9},{"$f":"IF(Süt!$B10=\"\",\"\",IF(Süt!$C10<=0,\"\",IF(MID(AN8,1,9)=\"Calf Feed\",AA39*(AB8/100),AB39/1000*0.75)))","v":3.0771722317391562E-9},{"$f":"IF(Süt!$B10=\"\",\"\",IF(Süt!$C10<=0,\"\",IF(MID($AN8,1,9)=\"Calf Feed\",$AA39*(AF8/100),0)))","v":0},"Ca","g/gün",{"$f":"IF(AnimalType<>\"Buzağı\",IF(DaysInMilk>0,3.1*BW/100,1.54*BW/100),0)","v":20.149999999999999},{"$f":"IF(AnimalType<>\"Buzağı\",0.08*BW/100,0)","v":0.52},{"$f":"IF(AnimalType<>\"Buzağı\",0,0)","v":0},0,{"$f":"Ca Fecal+Ca Urine+Ca Misc+Ca Sweat","v":20.669999999999998},{"$f":"IF(AnimalType<>\"Buzağı\",IF(DaysPreg>190,0.02456*EXP((0.05581-(0.00007*DaysPreg))*DaysPreg)-0.02456*EXP((0.05581-(0.00007*(DaysPreg-1)))*(DaysPreg-1)),0),0)","v":0},{"$f":"IF(AnimalType<>\"Buzağı\",IF(DaysInMilk=0,0,IF(OR(Breed=\"Sütçü Şorthorn\",Breed=\"Siyah Alaca\")=TRUE,1.22*MilkProd,IF(Breed=\"Jersey\",1.45*MilkProd,1.37*MilkProd))),0)","v":30.5},{"$f":"IF(AnimalType<>\"Buzağı\",IF(OR(Age<(FirstCalf+CalfInt),LactNum<=1)=TRUE,IF(AND(BW>0,WG>0)=TRUE,(9.83 * (MW ^ 0.22) * (BW ^ -0.22)) * (WG / 0.96),0),0),0)","v":0},{"$f":"IF(AnimalType<>\"Buzağı\",Ca Maint+Ca Fetal+Ca Milk+Ca Growth,IF(StarterDMI=0,10*TotalDMFed,7*TotalDMFed))","v":51.17},{"$f":"BM31*1000","v":123.75366559519188},{"$f":"BN31*1000","v":50.832836067684262},{"$f":"AQ69-AO69","v":-0.3371639323157396},{"$f":"IF(TotalDMFed > 0,AP69/TotalDMFed,0)","v":5.8545147991700244},{"$f":"IF(AnimalType = \"Buzağı\",IF(TotalDMFed>0,((MilkFeeds * AU69) + (CalfStarter * AV69) + (RegFeeds * AW69)) / TotalDMFed,0),0)","v":0},1,0.7,0.6,{"$f":"IF(Süt!$B10=\"\",\"\",IF(Süt!$C10<=0,\"\",IF(ISERROR(((($AA39 / TotalDMFed) * ($AB8 / 100) * (($AV39 * 1000) / $AB39) * ($AW8 / 100) * (AX8 / 100) * TotalDMFed) * 1000))=TRUE,0,((($AA39 / TotalDMFed) * ($AB8 / 100) * (($AV39 * 1000) / $AB39) * ($AW8 / 100) * (AX8 / 100) * TotalDMFed) * 1000))))","v":1.4361530504491858E-7},{"$f":"IF(Süt!$B10=\"\",\"\",IF(Süt!$C10<=0,\"\",IF(ISERROR(((($AA39 / TotalDMFed) * ($AB8 / 100) * (($AV39 * 1000) / $AB39) * ($AW8 / 100) * (AY8 / 100) * TotalDMFed) * 1000))=TRUE,0,((($AA39 / TotalDMFed) * ($AB8 / 100) * (($AV39 * 1000) / $AB39) * ($AW8 / 100) * (AY8 / 100) * TotalDMFed) * 1000))))","v":4.4774183337533434E-8},{"$f":"IF(Süt!$B10=\"\",\"\",IF(Süt!$C10<=0,\"\",IF(ISERROR(((($AA39 / TotalDMFed) * ($AB8 / 100) * (($AV39 * 1000) / $AB39) * ($AW8 / 100) * (AZ8 / 100) * TotalDMFed) * 1000))=TRUE,0,((($AA39 / TotalDMFed) * ($AB8 / 100) * (($AV39 * 1000) / $AB39) * ($AW8 / 100) * (AZ8 / 100) * TotalDMFed) * 1000))))","v":6.4204489314198889E-8},{"$f":"IF(Süt!$B10=\"\",\"\",IF(Süt!$C10<=0,\"\",IF(ISERROR(((($AA39 / TotalDMFed) * ($AB8 / 100) * (($AV39 * 1000) / $AB39) * ($AW8 / 100) * (BA8 / 100) * TotalDMFed) * 1000))=TRUE,0,((($AA39 / TotalDMFed) * ($AB8 / 100) * (($AV39 * 1000) / $AB39) * ($AW8 / 100) * (BA8 / 100) * TotalDMFed) * 1000))))","v":1.0644428491564552E-7},{"$f":"IF(Süt!$B10=\"\",\"\",IF(Süt!$C10<=0,\"\",IF(ISERROR(((($AA39 / TotalDMFed) * ($AB8 / 100) * (($AV39 * 1000) / $AB39) * ($AW8 / 100) * (BB8 / 100) * TotalDMFed) * 1000))=TRUE,0,((($AA39 / TotalDMFed) * ($AB8 / 100) * (($AV39 * 1000) / $AB39) * ($AW8 / 100) * (BB8 / 100) * TotalDMFed) * 1000))))","v":6.2514897490141039E-8},{"$f":"IF(Süt!$B10=\"\",\"\",IF(Süt!$C10<=0,\"\",IF(ISERROR(((($AA39 / TotalDMFed) * ($AB8 / 100) * (($AV39 * 1000) / $AB39) * ($AW8 / 100) * (BC8 / 100) * TotalDMFed) * 1000))=TRUE,0,((($AA39 / TotalDMFed) * ($AB8 / 100) * (($AV39 * 1000) / $AB39) * ($AW8 / 100) * (BC8 / 100) * TotalDMFed) * 1000))))","v":2.534387736086798E-8},{"$f":"IF(Süt!$B10=\"\",\"\",IF(Süt!$C10<=0,\"\",IF(ISERROR(((($AA39 / TotalDMFed) * ($AB8 / 100) * (($AV39 * 1000) / $AB39) * ($AW8 / 100) * (BD8 / 100) * TotalDMFed) * 1000))=TRUE,0,((($AA39 / TotalDMFed) * ($AB8 / 100) * (($AV39 * 1000) / $AB39) * ($AW8 / 100) * (BD8 / 100) * TotalDMFed) * 1000))))","v":2.7033469184925846E-8},{"$f":"IF(Süt!$B10=\"\",\"\",IF(Süt!$C10<=0,\"\",IF(ISERROR(((($AA39 / TotalDMFed) * ($AB8 / 100) * (($AV39 * 1000) / $AB39) * ($AW8 / 100) * (BE8 / 100) * TotalDMFed) * 1000))=TRUE,0,((($AA39 / TotalDMFed) * ($AB8 / 100) * (($AV39 * 1000) / $AB39) * ($AW8 / 100) * (BE8 / 100) * TotalDMFed) * 1000))))","v":8.1100407554777542E-8},{"$f":"IF(Süt!$B10=\"\",\"\",IF(Süt!$C10<=0,\"\",IF(ISERROR(((($AA39 / TotalDMFed) * ($AB8 / 100) * (($AV39 * 1000) / $AB39) * ($AW8 / 100) * (BF8 / 100) * TotalDMFed) * 1000))=TRUE,0,((($AA39 / TotalDMFed) * ($AB8 / 100) * (($AV39 * 1000) / $AB39) * ($AW8 / 100) * (BF8 / 100) * TotalDMFed) * 1000))))","v":5.2377346545793823E-8},{"$f":"IF(Süt!$B10=\"\",\"\",IF(Süt!$C10<=0,\"\",IF(ISERROR(((($AA39 / TotalDMFed) * ($AB8 / 100) * (($AV39 * 1000) / $AB39) * ($AW8 / 100) * (BG8 / 100) * TotalDMFed) * 1000))=TRUE,0,((($AA39 / TotalDMFed) * ($AB8 / 100) * (($AV39 * 1000) / $AB39) * ($AW8 / 100) * (BG8 / 100) * TotalDMFed) * 1000))))","v":2.0275101888694386E-8},{"$f":"IF(Süt!$B10=\"\",\"\",IF(Süt!$C10<=0,\"\",IF(ISERROR(((($AA39 / TotalDMFed) * ($AB8 / 100) * (($AV39 * 1000) / $AB39) * ($AW8 / 100) * (BH8 / 100) * TotalDMFed) * 1000))=TRUE,0,((($AA39 / TotalDMFed) * ($AB8 / 100) * (($AV39 * 1000) / $AB39) * ($AW8 / 100) * (BH8 / 100) * TotalDMFed) * 1000))))","v":6.7583672962314614E-8},null,{"$f":"IF(Süt!$B10=\"\",\"\",IF(Süt!$C10<=0,\"\",IF(AND(AnimalType=\"Buzağı\",MID(AN8,1,9)=\"Calf Feed\")=TRUE,IF(AN8=\"Calf Feed-Milk\",AA39,0),0)))","v":0},{"$f":"IF(Süt!$B10=\"\",\"\",IF(Süt!$C10<=0,\"\",IF(AND(AnimalType=\"Buzağı\",MID(AN8,1,9)=\"Calf Feed\")=TRUE,IF(AN8=\"Calf Feed-Milk\",AA39*V39,0),0)))","v":0},{"$f":"IF(Süt!$B10=\"\",\"\",IF(Süt!$C10<=0,\"\",IF(AND(AnimalType=\"Buzağı\",MID(AN8,1,9)=\"Calf Feed\")=TRUE,IF(AN8=\"Calf Feed-Milk\",AC69,0),0)))","v":0},{"$f":"IF(Süt!$B10=\"\",\"\",IF(Süt!$C10<=0,\"\",IF(AND(AnimalType=\"Buzağı\",MID(AN8,1,9)=\"Calf Feed\")=TRUE,IF(AN8=\"Calf Feed-Milk\",AB69,0),0)))","v":0},{"$f":"IF(Süt!$B10=\"\",\"\",IF(Süt!$C10<=0,\"\",IF(AND(AnimalType=\"Buzağı\",MID(AN8,1,9)=\"Calf Feed\")=TRUE,IF(AN8=\"Calf Feed-Milk\",0,AA39),AA39)))","v":1.4865566336904137E-8},{"$f":"IF(Süt!$B10=\"\",\"\",IF(Süt!$C10<=0,\"\",IF(AND(AnimalType=\"Buzağı\",MID(AN8,1,9)=\"Calf Feed\")=TRUE,IF(AN8=\"Calf Feed-Milk\",0,AA39*V39),0)))","v":0},{"$f":"IF(Süt!$B10=\"\",\"\",IF(Süt!$C10<=0,\"\",IF(AND(AnimalType=\"Buzağı\",MID(AN8,1,9)=\"Calf Feed\")=TRUE,IF(AN8=\"Calf Feed-Milk\",0,AC69),AC69)))","v":3.0771722317391562E-9},{"$f":"IF(Süt!$B10=\"\",\"\",IF(Süt!$C10<=0,\"\",IF(AND(AnimalType=\"Buzağı\",MID(AN8,1,9)=\"Calf Feed\")=TRUE,IF(AN8=\"Calf Feed-Milk\",0,AB69),AB39)))","v":4.1028963089855422E-6},{"$f":"IF(Süt!$B10=\"\",\"\",IF(Süt!$C10<=0,\"\",IF(AND(AnimalType=\"Buzağı\",MID(AN8,1,9)=\"Calf Feed\")=TRUE,IF(V39<>0,0.86*(AA39*V39),0),0.75*(AA39*V39))))","v":2.5748810531268352E-16},{"$f":"IF(Süt!$B10=\"\",\"\",IF(Süt!$C10<=0,\"\",IF(AND(AnimalType=\"Buzağı\",MID(AN8,1,9)=\"Calf Feed\")=TRUE,IF(V39<>0,0.69*(AA39*V39),0),0.57*(AA39*V39))))","v":1.9569096003763944E-16},{"$f":"IF(Süt!$B10=\"\",\"\",IF(Süt!$C10<=0,\"\",IF(AND(AnimalType=\"Buzağı\",MID(AN8,1,9)=\"Calf Feed\")=TRUE,IF(V39<>0,V39,0),V39)))","v":2.3094812936790073E-8},null,null,"CS_5",1,531.024,0.188415,100.05288696,{"$f":"0.200886-(0.0066762*5)","v":0.16750500000000001},88.949175120000007,1434.16505934,null,"Lys",{"$f":"TLys","v":41.399846941687159},{"$f":"Dig_TLys","v":32.204488174184341},{"$f":" 13.66 + (0.3276 * CN69) - (0.07497 * CG77)","v":15.133754945814914},35.728067910676018,148.47072638952201,112.742658478846,27.792473294321088,{"$f":"IF(EAATotalBeforeMP > 0,((TLys / EAATotalBeforeMP) * 100),0)","v":11.544008495644306},90.194126783076797,117.98660007739788,6.2163286269410296,null,null,-3,1.0660000000000001,null,"TotalNEgConc",{"$f":" IF(TotalRegDMFed > 0,NEg_Total / TotalRegDMFed,0)","v":0.93911342650708396},null,null,null,null,null,null,null,null,null,null,null,"TSBM Sınıfları"]
[null,null,null,null,null,null,null,null,null,null,null,null,null,null,null,"Jersey",454,20,24,12,282,700,3000,5.2,{"$f":"IF(Süt!$B11=\"\",\"\",IF(Süt!$C11<=0,\"\",IF(MID(AN9,1,9)=\"Calf Feed\",$AA40*Y9,0)))","v":0},{"$f":"IF(Süt!$B11=\"\",\"\",IF(Süt!$C11<=0,\"\",IF(MID(AN9,1,9)=\"Calf Feed\",$AA40*Z9,0)))","v":0},{"$f":"IF(Süt!$B11=\"\",\"\",IF(Süt!$C11<=0,\"\",IF(MID($AN9,1,9)=\"Calf Feed\",$AA40*V40,0)))","v":0},{"$f":"IF(Süt!$B11=\"\",\"\",IF(Süt!$C11<=0,\"\",IF(MID($AN9,1,9)=\"Calf Feed\",$AA40*(AB9/100),AB40/1000)))","v":0.76551735434718426},{"$f":"IF(Süt!$B11=\"\",\"\",IF(Süt!$C11<=0,\"\",IF(MID(AN9,1,9)=\"Calf Feed\",AA40*(AB9/100),AB40/1000*0.75)))","v":0.57413801576038814},{"$f":"IF(Süt!$B11=\"\",\"\",IF(Süt!$C11<=0,\"\",IF(MID($AN9,1,9)=\"Calf Feed\",$AA40*(AF9/100),0)))","v":0},"P","g/gün",{"$f":"IF(AnimalType<>\"Buzağı\",IF(OR(AnimalType=\"Sağmal İnek\",AnimalType=\"Kurudaki İnek\")=TRUE,TotalDMFed,0.8*TotalDMFed),0)","v":21.138159154151602},{"$f":"IF(AnimalType<>\"Buzağı\",0.002*BW,0)","v":1.3},0,0,{"$f":"AG70+AH70+AJ70+AI70","v":22.438159154151602},{"$f":"IF(AnimalType<>\"Buzağı\",IF(DaysPreg>190,0.02743 * EXP(((0.05527 - (0.000075 * DaysPreg)) * DaysPreg))- 0.02743 * EXP(((0.05527 - (0.000075 * (DaysPreg - 1))) * (DaysPreg - 1))),0),0)","v":0},{"$f":"IF(AnimalType<>\"Buzağı\",IF(DaysInMilk=0,0,0.9*MilkProd),0)","v":22.5},{"$f":"IF(AnimalType<>\"Buzağı\",IF(OR(Age<(FirstCalf+CalfInt),LactNum<=1)=TRUE,IF(AND(BW>0,WG>0)=TRUE,(1.2 + (4.635 * (MW ^ 0.22) * (BW ^ -0.22))) * (WG / 0.96),0),0),0)","v":0},{"$f":"IF(AnimalType<>\"Buzağı\",AK70+AL70+AM70+AN70,IF(StarterDMI=0,(7.5*TotalDMFed)/0.9,(4.5*TotalDMFed)/0.78))","v":44.938159154151606},{"$f":"BO31*1000","v":65.17252924631093},{"$f":"BP31*1000","v":44.661350144067278},-0.27680901008432812,3.0831695783457489,0,0.7,0.45,0.4,{"$f":"IF(Süt!$B11=\"\",\"\",IF(Süt!$C11<=0,\"\",IF(ISERROR(((($AA40 / TotalDMFed) * ($AB9 / 100) * (($AV40 * 1000) / $AB40) * ($AW9 / 100) * (AX9 / 100) * TotalDMFed) * 1000))=TRUE,0,((($AA40 / TotalDMFed) * ($AB9 / 100) * (($AV40 * 1000) / $AB40) * ($AW9 / 100) * (AX9 / 100) * TotalDMFed) * 1000))))","v":16.155119676916911},{"$f":"IF(Süt!$B11=\"\",\"\",IF(Süt!$C11<=0,\"\",IF(ISERROR(((($AA40 / TotalDMFed) * ($AB9 / 100) * (($AV40 * 1000) / $AB40) * ($AW9 / 100) * (AY9 / 100) * TotalDMFed) * 1000))=TRUE,0,((($AA40 / TotalDMFed) * ($AB9 / 100) * (($AV40 * 1000) / $AB40) * ($AW9 / 100) * (AY9 / 100) * TotalDMFed) * 1000))))","v":6.0636424803604116},{"$f":"IF(Süt!$B11=\"\",\"\",IF(Süt!$C11<=0,\"\",IF(ISERROR(((($AA40 / TotalDMFed) * ($AB9 / 100) * (($AV40 * 1000) / $AB40) * ($AW9 / 100) * (AZ9 / 100) * TotalDMFed) * 1000))=TRUE,0,((($AA40 / TotalDMFed) * ($AB9 / 100) * (($AV40 * 1000) / $AB40) * ($AW9 / 100) * (AZ9 / 100) * TotalDMFed) * 1000))))","v":9.9820251662250801},{"$f":"IF(Süt!$B11=\"\",\"\",IF(Süt!$C11<=0,\"\",IF(ISERROR(((($AA40 / TotalDMFed) * ($AB9 / 100) * (($AV40 * 1000) / $AB40) * ($AW9 / 100) * (BA9 / 100) * TotalDMFed) * 1000))=TRUE,0,((($AA40 / TotalDMFed) * ($AB9 / 100) * (($AV40 * 1000) / $AB40) * ($AW9 / 100) * (BA9 / 100) * TotalDMFed) * 1000))))","v":17.096407137767084},{"$f":"IF(Süt!$B11=\"\",\"\",IF(Süt!$C11<=0,\"\",IF(ISERROR(((($AA40 / TotalDMFed) * ($AB9 / 100) * (($AV40 * 1000) / $AB40) * ($AW9 / 100) * (BB9 / 100) * TotalDMFed) * 1000))=TRUE,0,((($AA40 / TotalDMFed) * ($AB9 / 100) * (($AV40 * 1000) / $AB40) * ($AW9 / 100) * (BB9 / 100) * TotalDMFed) * 1000))))","v":13.747175009625773},{"$f":"IF(Süt!$B11=\"\",\"\",IF(Süt!$C11<=0,\"\",IF(ISERROR(((($AA40 / TotalDMFed) * ($AB9 / 100) * (($AV40 * 1000) / $AB40) * ($AW9 / 100) * (BC9 / 100) * TotalDMFed) * 1000))=TRUE,0,((($AA40 / TotalDMFed) * ($AB9 / 100) * (($AV40 * 1000) / $AB40) * ($AW9 / 100) * (BC9 / 100) * TotalDMFed) * 1000))))","v":3.1741088796110457},{"$f":"IF(Süt!$B11=\"\",\"\",IF(Süt!$C11<=0,\"\",IF(ISERROR(((($AA40 / TotalDMFed) * ($AB9 / 100) * (($AV40 * 1000) / $AB40) * ($AW9 / 100) * (BD9 / 100) * TotalDMFed) * 1000))=TRUE,0,((($AA40 / TotalDMFed) * ($AB9 / 100) * (($AV40 * 1000) / $AB40) * ($AW9 / 100) * (BD9 / 100) * TotalDMFed) * 1000))))","v":3.327341722075027},{"$f":"IF(Süt!$B11=\"\",\"\",IF(Süt!$C11<=0,\"\",IF(ISERROR(((($AA40 / TotalDMFed) * ($AB9 / 100) * (($AV40 * 1000) / $AB40) * ($AW9 / 100) * (BE9 / 100) * TotalDMFed) * 1000))=TRUE,0,((($AA40 / TotalDMFed) * ($AB9 / 100) * (($AV40 * 1000) / $AB40) * ($AW9 / 100) * (BE9 / 100) * TotalDMFed) * 1000))))","v":11.514353590864896},{"$f":"IF(Süt!$B11=\"\",\"\",IF(Süt!$C11<=0,\"\",IF(ISERROR(((($AA40 / TotalDMFed) * ($AB9 / 100) * (($AV40 * 1000) / $AB40) * ($AW9 / 100) * (BF9 / 100) * TotalDMFed) * 1000))=TRUE,0,((($AA40 / TotalDMFed) * ($AB9 / 100) * (($AV40 * 1000) / $AB40) * ($AW9 / 100) * (BF9 / 100) * TotalDMFed) * 1000))))","v":8.7123816143806643},{"$f":"IF(Süt!$B11=\"\",\"\",IF(Süt!$C11<=0,\"\",IF(ISERROR(((($AA40 / TotalDMFed) * ($AB9 / 100) * (($AV40 * 1000) / $AB40) * ($AW9 / 100) * (BG9 / 100) * TotalDMFed) * 1000))=TRUE,0,((($AA40 / TotalDMFed) * ($AB9 / 100) * (($AV40 * 1000) / $AB40) * ($AW9 / 100) * (BG9 / 100) * TotalDMFed) * 1000))))","v":2.7800815704179502},{"$f":"IF(Süt!$B11=\"\",\"\",IF(Süt!$C11<=0,\"\",IF(ISERROR(((($AA40 / TotalDMFed) * ($AB9 / 100) * (($AV40 * 1000) / $AB40) * ($AW9 / 100) * (BH9 / 100) * TotalDMFed) * 1000))=TRUE,0,((($AA40 / TotalDMFed) * ($AB9 / 100) * (($AV40 * 1000) / $AB40) * ($AW9 / 100) * (BH9 / 100) * TotalDMFed) * 1000))))","v":17.096407137767084},null,{"$f":"IF(Süt!$B11=\"\",\"\",IF(Süt!$C11<=0,\"\",IF(AND(AnimalType=\"Buzağı\",MID(AN9,1,9)=\"Calf Feed\")=TRUE,IF(AN9=\"Calf Feed-Milk\",AA40,0),0)))","v":0},{"$f":"IF(Süt!$B11=\"\",\"\",IF(Süt!$C11<=0,\"\",IF(AND(AnimalType=\"Buzağı\",MID(AN9,1,9)=\"Calf Feed\")=TRUE,IF(AN9=\"Calf Feed-Milk\",AA40*V40,0),0)))","v":0},{"$f":"IF(Süt!$B11=\"\",\"\",IF(Süt!$C11<=0,\"\",IF(AND(AnimalType=\"Buzağı\",MID(AN9,1,9)=\"Calf Feed\")=TRUE,IF(AN9=\"Calf Feed-Milk\",AC70,0),0)))","v":0},{"$f":"IF(Süt!$B11=\"\",\"\",IF(Süt!$C11<=0,\"\",IF(AND(AnimalType=\"Buzağı\",MID(AN9,1,9)=\"Calf Feed\")=TRUE,IF(AN9=\"Calf Feed-Milk\",AB70,0),0)))","v":0},{"$f":"IF(Süt!$B11=\"\",\"\",IF(Süt!$C11<=0,\"\",IF(AND(AnimalType=\"Buzağı\",MID(AN9,1,9)=\"Calf Feed\")=TRUE,IF(AN9=\"Calf Feed-Milk\",0,AA40),AA40)))","v":1.5622803149942535},{"$f":"IF(Süt!$B11=\"\",\"\",IF(Süt!$C11<=0,\"\",IF(AND(AnimalType=\"Buzağı\",MID(AN9,1,9)=\"Calf Feed\")=TRUE,IF(AN9=\"Calf Feed-Milk\",0,AA40*V40),0)))","v":0},{"$f":"IF(Süt!$B11=\"\",\"\",IF(Süt!$C11<=0,\"\",IF(AND(AnimalType=\"Buzağı\",MID(AN9,1,9)=\"Calf Feed\")=TRUE,IF(AN9=\"Calf Feed-Milk\",0,AC70),AC70)))","v":0.57413801576038814},{"$f":"IF(Süt!$B11=\"\",\"\",IF(Süt!$C11<=0,\"\",IF(AND(AnimalType=\"Buzağı\",MID(AN9,1,9)=\"Calf Feed\")=TRUE,IF(AN9=\"Calf Feed-Milk\",0,AB70),AB40)))","v":765.51735434718421},{"$f":"IF(Süt!$B11=\"\",\"\",IF(Süt!$C11<=0,\"\",IF(AND(AnimalType=\"Buzağı\",MID(AN9,1,9)=\"Calf Feed\")=TRUE,IF(V40<>0,0.86*(AA40*V40),0),0.75*(AA40*V40))))","v":4.5118261451623969},{"$f":"IF(Süt!$B11=\"\",\"\",IF(Süt!$C11<=0,\"\",IF(AND(AnimalType=\"Buzağı\",MID(AN9,1,9)=\"Calf Feed\")=TRUE,IF(V40<>0,0.69*(AA40*V40),0),0.57*(AA40*V40))))","v":3.4289878703234211},{"$f":"IF(Süt!$B11=\"\",\"\",IF(Süt!$C11<=0,\"\",IF(AND(AnimalType=\"Buzağı\",MID(AN9,1,9)=\"Calf Feed\")=TRUE,IF(V40<>0,V40,0),V40)))","v":3.850633036730025},null,null,"CS_6",1.069,567.66465599999992,0.22609799999999999,128.34784339228798,{"$f":"0.200886-(0.0066762*6)","v":0.16082879999999999},91.296825426892781,1713.1671090067621,null,"Met",{"$f":"TMet","v":13.659603753367049},{"$f":"Dig_TMet","v":10.367391168413704},{"$f":" 2.9 + (0.391 * CN70) - (0.00742 * CG77)","v":4.1608320021821612},11.788238039155763,48.986927278064925,37.198689238909161,8.9470585783410268,{"$f":"IF(EAATotalBeforeMP > 0,((TMet / EAATotalBeforeMP) * 100),0)","v":3.8088687138894501},29.758951391127329,38.706009969468354,2.0392932557598411,null,null,-2,1.0640000000000001,null,"TotalNEmConc",{"$f":" IF(TotalRegDMFed > 0,NEm_Total / TotalRegDMFed,0)","v":1.5343083578713737},null,null,null,null,null,null,null,null,null,null,null,"Forage"]
[null,null,null,null,null,null,null,null,null,null,null,null,null,null,null,"Montafon",650,37.65,27,12,290,900,3500,3.7,{"$f":"IF(Süt!$B12=\"\",\"\",IF(Süt!$C12<=0,\"\",IF(MID(AN10,1,9)=\"Calf Feed\",$AA41*Y10,0)))","v":""},{"$f":"IF(Süt!$B12=\"\",\"\",IF(Süt!$C12<=0,\"\",IF(MID(AN10,1,9)=\"Calf Feed\",$AA41*Z10,0)))","v":""},{"$f":"IF(Süt!$B12=\"\",\"\",IF(Süt!$C12<=0,\"\",IF(MID($AN10,1,9)=\"Calf Feed\",$AA41*V41,0)))","v":""},{"$f":"IF(Süt!$B12=\"\",\"\",IF(Süt!$C12<=0,\"\",IF(MID($AN10,1,9)=\"Calf Feed\",$AA41*(AB10/100),AB41/1000)))","v":""},{"$f":"IF(Süt!$B12=\"\",\"\",IF(Süt!$C12<=0,\"\",IF(MID(AN10,1,9)=\"Calf Feed\",AA41*(AB10/100),AB41/1000*0.75)))","v":""},{"$f":"IF(Süt!$B12=\"\",\"\",IF(Süt!$C12<=0,\"\",IF(MID($AN10,1,9)=\"Calf Feed\",$AA41*(AF10/100),0)))","v":""},"Mg","g/gün",{"$f":"IF(AnimalType<>\"Buzağı\",0.003*BW,0)","v":1.95},{"$f":"IF(AnimalType<>\"Buzağı\",0,0)","v":0},0,0,1.95,{"$f":"IF(AnimalType<>\"Buzağı\",IF(DaysPreg>190,0.33,0),0)","v":0},{"$f":"IF(AnimalType<>\"Buzağı\",IF(DaysInMilk=0,0,0.15*MilkProd),0)","v":3.75},{"$f":"IF(AnimalType<>\"Buzağı\",IF(OR(Age<(FirstCalf+CalfInt),LactNum<=1)=TRUE,0.45 * (WG / 0.96),0),)","v":0},{"$f":"IF(AnimalType<>\"Buzağı\",AK71+AL71+AM71+AN71,IF(StarterDMI=0,0.7*TotalDMFed,1*TotalDMFed))","v":5.7},{"$f":"BQ31*1000","v":42.685369418966765},{"$f":"BR31*1000","v":6.8296591070346837},1.1296591070346835,2.0193513118943103,0,7.0000000000000007E-2,0.1,0.1,{"$f":"IF(Süt!$B12=\"\",\"\",IF(Süt!$C12<=0,\"\",IF(ISERROR(((($AA41 / TotalDMFed) * ($AB10 / 100) * (($AV41 * 1000) / $AB41) * ($AW10 / 100) * (AX10 / 100) * TotalDMFed) * 1000))=TRUE,0,((($AA41 / TotalDMFed) * ($AB10 / 100) * (($AV41 * 1000) / $AB41) * ($AW10 / 100) * (AX10 / 100) * TotalDMFed) * 1000))))","v":""},{"$f":"IF(Süt!$B12=\"\",\"\",IF(Süt!$C12<=0,\"\",IF(ISERROR(((($AA41 / TotalDMFed) * ($AB10 / 100) * (($AV41 * 1000) / $AB41) * ($AW10 / 100) * (AY10 / 100) * TotalDMFed) * 1000))=TRUE,0,((($AA41 / TotalDMFed) * ($AB10 / 100) * (($AV41 * 1000) / $AB41) * ($AW10 / 100) * (AY10 / 100) * TotalDMFed) * 1000))))","v":""},{"$f":"IF(Süt!$B12=\"\",\"\",IF(Süt!$C12<=0,\"\",IF(ISERROR(((($AA41 / TotalDMFed) * ($AB10 / 100) * (($AV41 * 1000) / $AB41) * ($AW10 / 100) * (AZ10 / 100) * TotalDMFed) * 1000))=TRUE,0,((($AA41 / TotalDMFed) * ($AB10 / 100) * (($AV41 * 1000) / $AB41) * ($AW10 / 100) * (AZ10 / 100) * TotalDMFed) * 1000))))","v":""},{"$f":"IF(Süt!$B12=\"\",\"\",IF(Süt!$C12<=0,\"\",IF(ISERROR(((($AA41 / TotalDMFed) * ($AB10 / 100) * (($AV41 * 1000) / $AB41) * ($AW10 / 100) * (BA10 / 100) * TotalDMFed) * 1000))=TRUE,0,((($AA41 / TotalDMFed) * ($AB10 / 100) * (($AV41 * 1000) / $AB41) * ($AW10 / 100) * (BA10 / 100) * TotalDMFed) * 1000))))","v":""},{"$f":"IF(Süt!$B12=\"\",\"\",IF(Süt!$C12<=0,\"\",IF(ISERROR(((($AA41 / TotalDMFed) * ($AB10 / 100) * (($AV41 * 1000) / $AB41) * ($AW10 / 100) * (BB10 / 100) * TotalDMFed) * 1000))=TRUE,0,((($AA41 / TotalDMFed) * ($AB10 / 100) * (($AV41 * 1000) / $AB41) * ($AW10 / 100) * (BB10 / 100) * TotalDMFed) * 1000))))","v":""},{"$f":"IF(Süt!$B12=\"\",\"\",IF(Süt!$C12<=0,\"\",IF(ISERROR(((($AA41 / TotalDMFed) * ($AB10 / 100) * (($AV41 * 1000) / $AB41) * ($AW10 / 100) * (BC10 / 100) * TotalDMFed) * 1000))=TRUE,0,((($AA41 / TotalDMFed) * ($AB10 / 100) * (($AV41 * 1000) / $AB41) * ($AW10 / 100) * (BC10 / 100) * TotalDMFed) * 1000))))","v":""},{"$f":"IF(Süt!$B12=\"\",\"\",IF(Süt!$C12<=0,\"\",IF(ISERROR(((($AA41 / TotalDMFed) * ($AB10 / 100) * (($AV41 * 1000) / $AB41) * ($AW10 / 100) * (BD10 / 100) * TotalDMFed) * 1000))=TRUE,0,((($AA41 / TotalDMFed) * ($AB10 / 100) * (($AV41 * 1000) / $AB41) * ($AW10 / 100) * (BD10 / 100) * TotalDMFed) * 1000))))","v":""},{"$f":"IF(Süt!$B12=\"\",\"\",IF(Süt!$C12<=0,\"\",IF(ISERROR(((($AA41 / TotalDMFed) * ($AB10 / 100) * (($AV41 * 1000) / $AB41) * ($AW10 / 100) * (BE10 / 100) * TotalDMFed) * 1000))=TRUE,0,((($AA41 / TotalDMFed) * ($AB10 / 100) * (($AV41 * 1000) / $AB41) * ($AW10 / 100) * (BE10 / 100) * TotalDMFed) * 1000))))","v":""},{"$f":"IF(Süt!$B12=\"\",\"\",IF(Süt!$C12<=0,\"\",IF(ISERROR(((($AA41 / TotalDMFed) * ($AB10 / 100) * (($AV41 * 1000) / $AB41) * ($AW10 / 100) * (BF10 / 100) * TotalDMFed) * 1000))=TRUE,0,((($AA41 / TotalDMFed) * ($AB10 / 100) * (($AV41 * 1000) / $AB41) * ($AW10 / 100) * (BF10 / 100) * TotalDMFed) * 1000))))","v":""},{"$f":"IF(Süt!$B12=\"\",\"\",IF(Süt!$C12<=0,\"\",IF(ISERROR(((($AA41 / TotalDMFed) * ($AB10 / 100) * (($AV41 * 1000) / $AB41) * ($AW10 / 100) * (BG10 / 100) * TotalDMFed) * 1000))=TRUE,0,((($AA41 / TotalDMFed) * ($AB10 / 100) * (($AV41 * 1000) / $AB41) * ($AW10 / 100) * (BG10 / 100) * TotalDMFed) * 1000))))","v":""},{"$f":"IF(Süt!$B12=\"\",\"\",IF(Süt!$C12<=0,\"\",IF(ISERROR(((($AA41 / TotalDMFed) * ($AB10 / 100) * (($AV41 * 1000) / $AB41) * ($AW10 / 100) * (BH10 / 100) * TotalDMFed) * 1000))=TRUE,0,((($AA41 / TotalDMFed) * ($AB10 / 100) * (($AV41 * 1000) / $AB41) * ($AW10 / 100) * (BH10 / 100) * TotalDMFed) * 1000))))","v":""},null,{"$f":"IF(Süt!$B12=\"\",\"\",IF(Süt!$C12<=0,\"\",IF(AND(AnimalType=\"Buzağı\",MID(AN10,1,9)=\"Calf Feed\")=TRUE,IF(AN10=\"Calf Feed-Milk\",AA41,0),0)))","v":""},{"$f":"IF(Süt!$B12=\"\",\"\",IF(Süt!$C12<=0,\"\",IF(AND(AnimalType=\"Buzağı\",MID(AN10,1,9)=\"Calf Feed\")=TRUE,IF(AN10=\"Calf Feed-Milk\",AA41*V41,0),0)))","v":""},{"$f":"IF(Süt!$B12=\"\",\"\",IF(Süt!$C12<=0,\"\",IF(AND(AnimalType=\"Buzağı\",MID(AN10,1,9)=\"Calf Feed\")=TRUE,IF(AN10=\"Calf Feed-Milk\",AC71,0),0)))","v":""},{"$f":"IF(Süt!$B12=\"\",\"\",IF(Süt!$C12<=0,\"\",IF(AND(AnimalType=\"Buzağı\",MID(AN10,1,9)=\"Calf Feed\")=TRUE,IF(AN10=\"Calf Feed-Milk\",AB71,0),0)))","v":""},{"$f":"IF(Süt!$B12=\"\",\"\",IF(Süt!$C12<=0,\"\",IF(AND(AnimalType=\"Buzağı\",MID(AN10,1,9)=\"Calf Feed\")=TRUE,IF(AN10=\"Calf Feed-Milk\",0,AA41),AA41)))","v":""},{"$f":"IF(Süt!$B12=\"\",\"\",IF(Süt!$C12<=0,\"\",IF(AND(AnimalType=\"Buzağı\",MID(AN10,1,9)=\"Calf Feed\")=TRUE,IF(AN10=\"Calf Feed-Milk\",0,AA41*V41),0)))","v":""},{"$f":"IF(Süt!$B12=\"\",\"\",IF(Süt!$C12<=0,\"\",IF(AND(AnimalType=\"Buzağı\",MID(AN10,1,9)=\"Calf Feed\")=TRUE,IF(AN10=\"Calf Feed-Milk\",0,AC71),AC71)))","v":""},{"$f":"IF(Süt!$B12=\"\",\"\",IF(Süt!$C12<=0,\"\",IF(AND(AnimalType=\"Buzağı\",MID(AN10,1,9)=\"Calf Feed\")=TRUE,IF(AN10=\"Calf Feed-Milk\",0,AB71),AB41)))","v":""},{"$f":"IF(Süt!$B12=\"\",\"\",IF(Süt!$C12<=0,\"\",IF(AND(AnimalType=\"Buzağı\",MID(AN10,1,9)=\"Calf Feed\")=TRUE,IF(V41<>0,0.86*(AA41*V41),0),0.75*(AA41*V41))))","v":""},{"$f":"IF(Süt!$B12=\"\",\"\",IF(Süt!$C12<=0,\"\",IF(AND(AnimalType=\"Buzağı\",MID(AN10,1,9)=\"Calf Feed\")=TRUE,IF(V41<>0,0.69*(AA41*V41),0),0.57*(AA41*V41))))","v":""},{"$f":"IF(Süt!$B12=\"\",\"\",IF(Süt!$C12<=0,\"\",IF(AND(AnimalType=\"Buzağı\",MID(AN10,1,9)=\"Calf Feed\")=TRUE,IF(V41<>0,V41,0),V41)))","v":""},null,null,"CS_7",1.137,603.77428799999996,0.26378099999999999,159.26418546292797,{"$f":"0.200886-(0.0066762*7)","v":0.1541526},93.073376308348799,2013.6405818628587,null,"Cys",{"$f":"TCys","v":13.703495113086296},{"$f":"Dig_TCys","v":10.570360644453416},null,null,null,null,null,{"$f":"IF(EAATotalBeforeMP > 0,((TCys / EAATotalBeforeMP) * 100),0)","v":3.8211074603321133},null,null,null,null,null,-1,1.0620000000000001,null,"NElkatsayı",{"$f":"((NEl3X+NEl4X)/2)/   ((NEMaintNS)*HeatStr)+NEmact","v":2.7162987307654545},"Tüketilen NEl miktarının yaşama payı NEl e oranı (modifikasyon)",null,null,null,null,null,null,null,null,null,null,"Conc"]
[null,null,null,null,null,null,null,null,null,null,null,null,null,null,null,"Simental",720,40,27,12,286.39999999999998,1000,4000,4,{"$f":"IF(Süt!$B13=\"\",\"\",IF(Süt!$C13<=0,\"\",IF(MID(AN11,1,9)=\"Calf Feed\",$AA42*Y11,0)))","v":""},{"$f":"IF(Süt!$B13=\"\",\"\",IF(Süt!$C13<=0,\"\",IF(MID(AN11,1,9)=\"Calf Feed\",$AA42*Z11,0)))","v":""},{"$f":"IF(Süt!$B13=\"\",\"\",IF(Süt!$C13<=0,\"\",IF(MID($AN11,1,9)=\"Calf Feed\",$AA42*V42,0)))","v":""},{"$f":"IF(Süt!$B13=\"\",\"\",IF(Süt!$C13<=0,\"\",IF(MID($AN11,1,9)=\"Calf Feed\",$AA42*(AB11/100),AB42/1000)))","v":""},{"$f":"IF(Süt!$B13=\"\",\"\",IF(Süt!$C13<=0,\"\",IF(MID(AN11,1,9)=\"Calf Feed\",AA42*(AB11/100),AB42/1000*0.75)))","v":""},{"$f":"IF(Süt!$B13=\"\",\"\",IF(Süt!$C13<=0,\"\",IF(MID($AN11,1,9)=\"Calf Feed\",$AA42*(AF11/100),0)))","v":""},"Cl","g/gün",{"$f":"IF(AnimalType<>\"Buzağı\",2.25 * (BW / 100),0)","v":14.625},{"$f":"IF(AnimalType<>\"Buzağı\",0,0)","v":0},0,0,14.625,{"$f":"IF(AnimalType<>\"Buzağı\",IF(DaysPreg>190,1,0),0)","v":0},{"$f":"IF(AnimalType<>\"Buzağı\",1.15*MilkProd,0)","v":28.749999999999996},{"$f":"IF(AnimalType<>\"Buzağı\",IF(OR(Age<(FirstCalf+CalfInt),LactNum<=1)=TRUE,1 * (WG / 0.96),0),0)","v":0},{"$f":"IF(AnimalType<>\"Buzağı\",AK72+AL72+AM72+AN72,2*TotalDMFed)","v":43.375},{"$f":"BW31*1000","v":92.2073372711845},{"$f":"BX31*1000","v":82.986603544066057},39.611603544066057,4.3621271180122934,0,0.25,0.2,0.2,{"$f":"IF(Süt!$B13=\"\",\"\",IF(Süt!$C13<=0,\"\",IF(ISERROR(((($AA42 / TotalDMFed) * ($AB11 / 100) * (($AV42 * 1000) / $AB42) * ($AW11 / 100) * (AX11 / 100) * TotalDMFed) * 1000))=TRUE,0,((($AA42 / TotalDMFed) * ($AB11 / 100) * (($AV42 * 1000) / $AB42) * ($AW11 / 100) * (AX11 / 100) * TotalDMFed) * 1000))))","v":""},{"$f":"IF(Süt!$B13=\"\",\"\",IF(Süt!$C13<=0,\"\",IF(ISERROR(((($AA42 / TotalDMFed) * ($AB11 / 100) * (($AV42 * 1000) / $AB42) * ($AW11 / 100) * (AY11 / 100) * TotalDMFed) * 1000))=TRUE,0,((($AA42 / TotalDMFed) * ($AB11 / 100) * (($AV42 * 1000) / $AB42) * ($AW11 / 100) * (AY11 / 100) * TotalDMFed) * 1000))))","v":""},{"$f":"IF(Süt!$B13=\"\",\"\",IF(Süt!$C13<=0,\"\",IF(ISERROR(((($AA42 / TotalDMFed) * ($AB11 / 100) * (($AV42 * 1000) / $AB42) * ($AW11 / 100) * (AZ11 / 100) * TotalDMFed) * 1000))=TRUE,0,((($AA42 / TotalDMFed) * ($AB11 / 100) * (($AV42 * 1000) / $AB42) * ($AW11 / 100) * (AZ11 / 100) * TotalDMFed) * 1000))))","v":""},{"$f":"IF(Süt!$B13=\"\",\"\",IF(Süt!$C13<=0,\"\",IF(ISERROR(((($AA42 / TotalDMFed) * ($AB11 / 100) * (($AV42 * 1000) / $AB42) * ($AW11 / 100) * (BA11 / 100) * TotalDMFed) * 1000))=TRUE,0,((($AA42 / TotalDMFed) * ($AB11 / 100) * (($AV42 * 1000) / $AB42) * ($AW11 / 100) * (BA11 / 100) * TotalDMFed) * 1000))))","v":""},{"$f":"IF(Süt!$B13=\"\",\"\",IF(Süt!$C13<=0,\"\",IF(ISERROR(((($AA42 / TotalDMFed) * ($AB11 / 100) * (($AV42 * 1000) / $AB42) * ($AW11 / 100) * (BB11 / 100) * TotalDMFed) * 1000))=TRUE,0,((($AA42 / TotalDMFed) * ($AB11 / 100) * (($AV42 * 1000) / $AB42) * ($AW11 / 100) * (BB11 / 100) * TotalDMFed) * 1000))))","v":""},{"$f":"IF(Süt!$B13=\"\",\"\",IF(Süt!$C13<=0,\"\",IF(ISERROR(((($AA42 / TotalDMFed) * ($AB11 / 100) * (($AV42 * 1000) / $AB42) * ($AW11 / 100) * (BC11 / 100) * TotalDMFed) * 1000))=TRUE,0,((($AA42 / TotalDMFed) * ($AB11 / 100) * (($AV42 * 1000) / $AB42) * ($AW11 / 100) * (BC11 / 100) * TotalDMFed) * 1000))))","v":""},{"$f":"IF(Süt!$B13=\"\",\"\",IF(Süt!$C13<=0,\"\",IF(ISERROR(((($AA42 / TotalDMFed) * ($AB11 / 100) * (($AV42 * 1000) / $AB42) * ($AW11 / 100) * (BD11 / 100) * TotalDMFed) * 1000))=TRUE,0,((($AA42 / TotalDMFed) * ($AB11 / 100) * (($AV42 * 1000) / $AB42) * ($AW11 / 100) * (BD11 / 100) * TotalDMFed) * 1000))))","v":""},{"$f":"IF(Süt!$B13=\"\",\"\",IF(Süt!$C13<=0,\"\",IF(ISERROR(((($AA42 / TotalDMFed) * ($AB11 / 100) * (($AV42 * 1000) / $AB42) * ($AW11 / 100) * (BE11 / 100) * TotalDMFed) * 1000))=TRUE,0,((($AA42 / TotalDMFed) * ($AB11 / 100) * (($AV42 * 1000) / $AB42) * ($AW11 / 100) * (BE11 / 100) * TotalDMFed) * 1000))))","v":""},{"$f":"IF(Süt!$B13=\"\",\"\",IF(Süt!$C13<=0,\"\",IF(ISERROR(((($AA42 / TotalDMFed) * ($AB11 / 100) * (($AV42 * 1000) / $AB42) * ($AW11 / 100) * (BF11 / 100) * TotalDMFed) * 1000))=TRUE,0,((($AA42 / TotalDMFed) * ($AB11 / 100) * (($AV42 * 1000) / $AB42) * ($AW11 / 100) * (BF11 / 100) * TotalDMFed) * 1000))))","v":""},{"$f":"IF(Süt!$B13=\"\",\"\",IF(Süt!$C13<=0,\"\",IF(ISERROR(((($AA42 / TotalDMFed) * ($AB11 / 100) * (($AV42 * 1000) / $AB42) * ($AW11 / 100) * (BG11 / 100) * TotalDMFed) * 1000))=TRUE,0,((($AA42 / TotalDMFed) * ($AB11 / 100) * (($AV42 * 1000) / $AB42) * ($AW11 / 100) * (BG11 / 100) * TotalDMFed) * 1000))))","v":""},{"$f":"IF(Süt!$B13=\"\",\"\",IF(Süt!$C13<=0,\"\",IF(ISERROR(((($AA42 / TotalDMFed) * ($AB11 / 100) * (($AV42 * 1000) / $AB42) * ($AW11 / 100) * (BH11 / 100) * TotalDMFed) * 1000))=TRUE,0,((($AA42 / TotalDMFed) * ($AB11 / 100) * (($AV42 * 1000) / $AB42) * ($AW11 / 100) * (BH11 / 100) * TotalDMFed) * 1000))))","v":""},null,{"$f":"IF(Süt!$B13=\"\",\"\",IF(Süt!$C13<=0,\"\",IF(AND(AnimalType=\"Buzağı\",MID(AN11,1,9)=\"Calf Feed\")=TRUE,IF(AN11=\"Calf Feed-Milk\",AA42,0),0)))","v":""},{"$f":"IF(Süt!$B13=\"\",\"\",IF(Süt!$C13<=0,\"\",IF(AND(AnimalType=\"Buzağı\",MID(AN11,1,9)=\"Calf Feed\")=TRUE,IF(AN11=\"Calf Feed-Milk\",AA42*V42,0),0)))","v":""},{"$f":"IF(Süt!$B13=\"\",\"\",IF(Süt!$C13<=0,\"\",IF(AND(AnimalType=\"Buzağı\",MID(AN11,1,9)=\"Calf Feed\")=TRUE,IF(AN11=\"Calf Feed-Milk\",AC72,0),0)))","v":""},{"$f":"IF(Süt!$B13=\"\",\"\",IF(Süt!$C13<=0,\"\",IF(AND(AnimalType=\"Buzağı\",MID(AN11,1,9)=\"Calf Feed\")=TRUE,IF(AN11=\"Calf Feed-Milk\",AB72,0),0)))","v":""},{"$f":"IF(Süt!$B13=\"\",\"\",IF(Süt!$C13<=0,\"\",IF(AND(AnimalType=\"Buzağı\",MID(AN11,1,9)=\"Calf Feed\")=TRUE,IF(AN11=\"Calf Feed-Milk\",0,AA42),AA42)))","v":""},{"$f":"IF(Süt!$B13=\"\",\"\",IF(Süt!$C13<=0,\"\",IF(AND(AnimalType=\"Buzağı\",MID(AN11,1,9)=\"Calf Feed\")=TRUE,IF(AN11=\"Calf Feed-Milk\",0,AA42*V42),0)))","v":""},{"$f":"IF(Süt!$B13=\"\",\"\",IF(Süt!$C13<=0,\"\",IF(AND(AnimalType=\"Buzağı\",MID(AN11,1,9)=\"Calf Feed\")=TRUE,IF(AN11=\"Calf Feed-Milk\",0,AC72),AC72)))","v":""},{"$f":"IF(Süt!$B13=\"\",\"\",IF(Süt!$C13<=0,\"\",IF(AND(AnimalType=\"Buzağı\",MID(AN11,1,9)=\"Calf Feed\")=TRUE,IF(AN11=\"Calf Feed-Milk\",0,AB72),AB42)))","v":""},{"$f":"IF(Süt!$B13=\"\",\"\",IF(Süt!$C13<=0,\"\",IF(AND(AnimalType=\"Buzağı\",MID(AN11,1,9)=\"Calf Feed\")=TRUE,IF(V42<>0,0.86*(AA42*V42),0),0.75*(AA42*V42))))","v":""},{"$f":"IF(Süt!$B13=\"\",\"\",IF(Süt!$C13<=0,\"\",IF(AND(AnimalType=\"Buzağı\",MID(AN11,1,9)=\"Calf Feed\")=TRUE,IF(V42<>0,0.69*(AA42*V42),0),0.57*(AA42*V42))))","v":""},{"$f":"IF(Süt!$B13=\"\",\"\",IF(Süt!$C13<=0,\"\",IF(AND(AnimalType=\"Buzağı\",MID(AN11,1,9)=\"Calf Feed\")=TRUE,IF(V42<>0,V42,0),V42)))","v":""},null,null,"CS_8",1.206,640.41494399999999,0.30146400000000001,193.06205067801599,{"$f":"0.200886-(0.0066762*8)","v":0.14747640000000001},94.446090447321609,2338.9590783559852,null,"Phe",{"$f":"TPhe","v":41.790701750197059},{"$f":"Dig_TPhe","v":32.199647841109474},{"$f":" 7.32 + (0.244 * CN72) + (0.029 * CG77)","v":11.056138674001661},{"$f":"CG72*0.863","v":36.065375610420062},{"$f":"CG72/100*CG$76","v":149.87243440583521},{"$f":"CK72-CJ72","v":113.80705879541514},{"$f":"IF(CG72 > 0, CJ72 * (CH72 / CG72),0)","v":27.788296086877477},{"$f":"IF(EAATotalBeforeMP > 0,((TPhe / EAATotalBeforeMP) * 100),0)","v":11.652995160168865},{"$f":"0.8 * CL72","v":91.045647036332127},{"$f":"CM72+CO72","v":118.83394312320961},{"$f":"IF((MPBact + (MPFeed * 1000) + MPEndo) > 0,100 * (CP72 / (MPBact + (MPFeed * 1000) + MPEndo)),0)","v":6.2609723646965332},null,null,0,1.06,null,null,null,null,null,null,null,null,null,null,null,null,null,null,"Animal"]
[null,null,null,null,null,null,null,null,null,null,null,null,null,null,null,"Siyah Alaca",682,42.795499999999997,24,12,281,900,4000,3.5,{"$f":"IF(Süt!$B14=\"\",\"\",IF(Süt!$C14<=0,\"\",IF(MID(AN12,1,9)=\"Calf Feed\",$AA43*Y12,0)))","v":""},{"$f":"IF(Süt!$B14=\"\",\"\",IF(Süt!$C14<=0,\"\",IF(MID(AN12,1,9)=\"Calf Feed\",$AA43*Z12,0)))","v":""},{"$f":"IF(Süt!$B14=\"\",\"\",IF(Süt!$C14<=0,\"\",IF(MID($AN12,1,9)=\"Calf Feed\",$AA43*V43,0)))","v":""},{"$f":"IF(Süt!$B14=\"\",\"\",IF(Süt!$C14<=0,\"\",IF(MID($AN12,1,9)=\"Calf Feed\",$AA43*(AB12/100),AB43/1000)))","v":""},{"$f":"IF(Süt!$B14=\"\",\"\",IF(Süt!$C14<=0,\"\",IF(MID(AN12,1,9)=\"Calf Feed\",AA43*(AB12/100),AB43/1000*0.75)))","v":""},{"$f":"IF(Süt!$B14=\"\",\"\",IF(Süt!$C14<=0,\"\",IF(MID($AN12,1,9)=\"Calf Feed\",$AA43*(AF12/100),0)))","v":""},"K","g/gün",{"$f":"IF(AnimalType<>\"Buzağı\",IF(AnimalType=\"Sağmal İnek\",6.1*TotalDMFed,2.6*TotalDMFed),0)","v":128.94277084032475},{"$f":"IF(AnimalType<>\"Buzağı\",0.038*BW,0)","v":24.7},{"$f":"IF(Temp<25,0,IF(Temp<30,0.04*(BW/100),0.4*(BW/100)))","v":0},{"$f":"IF(AnimalType<>\"Buzağı\",0,0)","v":0},153.64277084032474,{"$f":"IF(AnimalType<>\"Buzağı\",IF(DaysPreg>190,1.027,0),0)","v":0},{"$f":"IF(AnimalType<>\"Buzağı\",1.5*MilkProd,0)","v":37.5},{"$f":"IF(AnimalType<>\"Buzağı\",IF(OR(Age<(FirstCalf+CalfInt),LactNum<=1)=TRUE,1.6 * (WG / 0.96),0),0)","v":0},{"$f":"IF(AnimalType<>\"Buzağı\",AK73+AL73+AM73+AN73,6.5*TotalDMFed)","v":191.14277084032474},{"$f":"BS31*1000","v":263.91263478386935},{"$f":"BT31*1000","v":237.5213713054824},46.37860046515766,12.485128570528152,0,0.65,0.65,0.65,{"$f":"IF(Süt!$B14=\"\",\"\",IF(Süt!$C14<=0,\"\",IF(ISERROR(((($AA43 / TotalDMFed) * ($AB12 / 100) * (($AV43 * 1000) / $AB43) * ($AW12 / 100) * (AX12 / 100) * TotalDMFed) * 1000))=TRUE,0,((($AA43 / TotalDMFed) * ($AB12 / 100) * (($AV43 * 1000) / $AB43) * ($AW12 / 100) * (AX12 / 100) * TotalDMFed) * 1000))))","v":""},{"$f":"IF(Süt!$B14=\"\",\"\",IF(Süt!$C14<=0,\"\",IF(ISERROR(((($AA43 / TotalDMFed) * ($AB12 / 100) * (($AV43 * 1000) / $AB43) * ($AW12 / 100) * (AY12 / 100) * TotalDMFed) * 1000))=TRUE,0,((($AA43 / TotalDMFed) * ($AB12 / 100) * (($AV43 * 1000) / $AB43) * ($AW12 / 100) * (AY12 / 100) * TotalDMFed) * 1000))))","v":""},{"$f":"IF(Süt!$B14=\"\",\"\",IF(Süt!$C14<=0,\"\",IF(ISERROR(((($AA43 / TotalDMFed) * ($AB12 / 100) * (($AV43 * 1000) / $AB43) * ($AW12 / 100) * (AZ12 / 100) * TotalDMFed) * 1000))=TRUE,0,((($AA43 / TotalDMFed) * ($AB12 / 100) * (($AV43 * 1000) / $AB43) * ($AW12 / 100) * (AZ12 / 100) * TotalDMFed) * 1000))))","v":""},{"$f":"IF(Süt!$B14=\"\",\"\",IF(Süt!$C14<=0,\"\",IF(ISERROR(((($AA43 / TotalDMFed) * ($AB12 / 100) * (($AV43 * 1000) / $AB43) * ($AW12 / 100) * (BA12 / 100) * TotalDMFed) * 1000))=TRUE,0,((($AA43 / TotalDMFed) * ($AB12 / 100) * (($AV43 * 1000) / $AB43) * ($AW12 / 100) * (BA12 / 100) * TotalDMFed) * 1000))))","v":""},{"$f":"IF(Süt!$B14=\"\",\"\",IF(Süt!$C14<=0,\"\",IF(ISERROR(((($AA43 / TotalDMFed) * ($AB12 / 100) * (($AV43 * 1000) / $AB43) * ($AW12 / 100) * (BB12 / 100) * TotalDMFed) * 1000))=TRUE,0,((($AA43 / TotalDMFed) * ($AB12 / 100) * (($AV43 * 1000) / $AB43) * ($AW12 / 100) * (BB12 / 100) * TotalDMFed) * 1000))))","v":""},{"$f":"IF(Süt!$B14=\"\",\"\",IF(Süt!$C14<=0,\"\",IF(ISERROR(((($AA43 / TotalDMFed) * ($AB12 / 100) * (($AV43 * 1000) / $AB43) * ($AW12 / 100) * (BC12 / 100) * TotalDMFed) * 1000))=TRUE,0,((($AA43 / TotalDMFed) * ($AB12 / 100) * (($AV43 * 1000) / $AB43) * ($AW12 / 100) * (BC12 / 100) * TotalDMFed) * 1000))))","v":""},{"$f":"IF(Süt!$B14=\"\",\"\",IF(Süt!$C14<=0,\"\",IF(ISERROR(((($AA43 / TotalDMFed) * ($AB12 / 100) * (($AV43 * 1000) / $AB43) * ($AW12 / 100) * (BD12 / 100) * TotalDMFed) * 1000))=TRUE,0,((($AA43 / TotalDMFed) * ($AB12 / 100) * (($AV43 * 1000) / $AB43) * ($AW12 / 100) * (BD12 / 100) * TotalDMFed) * 1000))))","v":""},{"$f":"IF(Süt!$B14=\"\",\"\",IF(Süt!$C14<=0,\"\",IF(ISERROR(((($AA43 / TotalDMFed) * ($AB12 / 100) * (($AV43 * 1000) / $AB43) * ($AW12 / 100) * (BE12 / 100) * TotalDMFed) * 1000))=TRUE,0,((($AA43 / TotalDMFed) * ($AB12 / 100) * (($AV43 * 1000) / $AB43) * ($AW12 / 100) * (BE12 / 100) * TotalDMFed) * 1000))))","v":""},{"$f":"IF(Süt!$B14=\"\",\"\",IF(Süt!$C14<=0,\"\",IF(ISERROR(((($AA43 / TotalDMFed) * ($AB12 / 100) * (($AV43 * 1000) / $AB43) * ($AW12 / 100) * (BF12 / 100) * TotalDMFed) * 1000))=TRUE,0,((($AA43 / TotalDMFed) * ($AB12 / 100) * (($AV43 * 1000) / $AB43) * ($AW12 / 100) * (BF12 / 100) * TotalDMFed) * 1000))))","v":""},{"$f":"IF(Süt!$B14=\"\",\"\",IF(Süt!$C14<=0,\"\",IF(ISERROR(((($AA43 / TotalDMFed) * ($AB12 / 100) * (($AV43 * 1000) / $AB43) * ($AW12 / 100) * (BG12 / 100) * TotalDMFed) * 1000))=TRUE,0,((($AA43 / TotalDMFed) * ($AB12 / 100) * (($AV43 * 1000) / $AB43) * ($AW12 / 100) * (BG12 / 100) * TotalDMFed) * 1000))))","v":""},{"$f":"IF(Süt!$B14=\"\",\"\",IF(Süt!$C14<=0,\"\",IF(ISERROR(((($AA43 / TotalDMFed) * ($AB12 / 100) * (($AV43 * 1000) / $AB43) * ($AW12 / 100) * (BH12 / 100) * TotalDMFed) * 1000))=TRUE,0,((($AA43 / TotalDMFed) * ($AB12 / 100) * (($AV43 * 1000) / $AB43) * ($AW12 / 100) * (BH12 / 100) * TotalDMFed) * 1000))))","v":""},null,{"$f":"IF(Süt!$B14=\"\",\"\",IF(Süt!$C14<=0,\"\",IF(AND(AnimalType=\"Buzağı\",MID(AN12,1,9)=\"Calf Feed\")=TRUE,IF(AN12=\"Calf Feed-Milk\",AA43,0),0)))","v":""},{"$f":"IF(Süt!$B14=\"\",\"\",IF(Süt!$C14<=0,\"\",IF(AND(AnimalType=\"Buzağı\",MID(AN12,1,9)=\"Calf Feed\")=TRUE,IF(AN12=\"Calf Feed-Milk\",AA43*V43,0),0)))","v":""},{"$f":"IF(Süt!$B14=\"\",\"\",IF(Süt!$C14<=0,\"\",IF(AND(AnimalType=\"Buzağı\",MID(AN12,1,9)=\"Calf Feed\")=TRUE,IF(AN12=\"Calf Feed-Milk\",AC73,0),0)))","v":""},{"$f":"IF(Süt!$B14=\"\",\"\",IF(Süt!$C14<=0,\"\",IF(AND(AnimalType=\"Buzağı\",MID(AN12,1,9)=\"Calf Feed\")=TRUE,IF(AN12=\"Calf Feed-Milk\",AB73,0),0)))","v":""},{"$f":"IF(Süt!$B14=\"\",\"\",IF(Süt!$C14<=0,\"\",IF(AND(AnimalType=\"Buzağı\",MID(AN12,1,9)=\"Calf Feed\")=TRUE,IF(AN12=\"Calf Feed-Milk\",0,AA43),AA43)))","v":""},{"$f":"IF(Süt!$B14=\"\",\"\",IF(Süt!$C14<=0,\"\",IF(AND(AnimalType=\"Buzağı\",MID(AN12,1,9)=\"Calf Feed\")=TRUE,IF(AN12=\"Calf Feed-Milk\",0,AA43*V43),0)))","v":""},{"$f":"IF(Süt!$B14=\"\",\"\",IF(Süt!$C14<=0,\"\",IF(AND(AnimalType=\"Buzağı\",MID(AN12,1,9)=\"Calf Feed\")=TRUE,IF(AN12=\"Calf Feed-Milk\",0,AC73),AC73)))","v":""},{"$f":"IF(Süt!$B14=\"\",\"\",IF(Süt!$C14<=0,\"\",IF(AND(AnimalType=\"Buzağı\",MID(AN12,1,9)=\"Calf Feed\")=TRUE,IF(AN12=\"Calf Feed-Milk\",0,AB73),AB43)))","v":""},{"$f":"IF(Süt!$B14=\"\",\"\",IF(Süt!$C14<=0,\"\",IF(AND(AnimalType=\"Buzağı\",MID(AN12,1,9)=\"Calf Feed\")=TRUE,IF(V43<>0,0.86*(AA43*V43),0),0.75*(AA43*V43))))","v":""},{"$f":"IF(Süt!$B14=\"\",\"\",IF(Süt!$C14<=0,\"\",IF(AND(AnimalType=\"Buzağı\",MID(AN12,1,9)=\"Calf Feed\")=TRUE,IF(V43<>0,0.69*(AA43*V43),0),0.57*(AA43*V43))))","v":""},{"$f":"IF(Süt!$B14=\"\",\"\",IF(Süt!$C14<=0,\"\",IF(AND(AnimalType=\"Buzağı\",MID(AN12,1,9)=\"Calf Feed\")=TRUE,IF(V43<>0,V43,0),V43)))","v":""},null,null,"CS_9",1.274,676.52457600000002,0.33914700000000003,229.44128037667204,{"$f":"0.200886-(0.0066762*9)","v":0.14080020000000001},95.254795605715216,2685.4121511524368,null,"Thr",{"$f":"TThr","v":34.521019263665877},{"$f":"Dig_TThr","v":26.176473510026916},{"$f":" 7.55 + (0.45 * CN73) - (0.0212 * CG77)","v":11.22898333443016},{"$f":"CG73*0.863","v":29.791639624543652},{"$f":"CG73/100*CG$76","v":123.80144334838651},{"$f":"CK73-CJ73","v":94.009803723842865},{"$f":"IF(CG73 > 0, CJ73 * (CH73 / CG73),0)","v":22.59029663915323},{"$f":"IF(EAATotalBeforeMP > 0,((TThr / EAATotalBeforeMP) * 100),0)","v":9.6259036952328216},{"$f":"0.8 * CL73","v":75.2078429790743},{"$f":"CM73+CO73","v":97.798139618227538},{"$f":"IF((MPBact + (MPFeed * 1000) + MPEndo) > 0,100 * (CP73 / (MPBact + (MPFeed * 1000) + MPEndo)),0)","v":5.1526645786178955},null,null,1,1.0580000000000001,null,"Yaşama Payı ihtiyaçları",null,null,null,null,null,null,null,null,null,null,null,null,"Fatty acids"]
[null,null,null,null,null,null,"ConSum",{"$f":"ConcSum","v":6.2672803483119637},null,15.097,null,null,null,null,null,"Sütçü Şorthorn",568,35.642000000000003,24,12,283,900,4000,3.7,{"$f":"IF(Süt!$B15=\"\",\"\",IF(Süt!$C15<=0,\"\",IF(MID(AN13,1,9)=\"Calf Feed\",$AA44*Y13,0)))","v":""},{"$f":"IF(Süt!$B15=\"\",\"\",IF(Süt!$C15<=0,\"\",IF(MID(AN13,1,9)=\"Calf Feed\",$AA44*Z13,0)))","v":""},{"$f":"IF(Süt!$B15=\"\",\"\",IF(Süt!$C15<=0,\"\",IF(MID($AN13,1,9)=\"Calf Feed\",$AA44*V44,0)))","v":""},{"$f":"IF(Süt!$B15=\"\",\"\",IF(Süt!$C15<=0,\"\",IF(MID($AN13,1,9)=\"Calf Feed\",$AA44*(AB13/100),AB44/1000)))","v":""},{"$f":"IF(Süt!$B15=\"\",\"\",IF(Süt!$C15<=0,\"\",IF(MID(AN13,1,9)=\"Calf Feed\",AA44*(AB13/100),AB44/1000*0.75)))","v":""},{"$f":"IF(Süt!$B15=\"\",\"\",IF(Süt!$C15<=0,\"\",IF(MID($AN13,1,9)=\"Calf Feed\",$AA44*(AF13/100),0)))","v":""},"Na","g/gün",{"$f":"IF(AnimalType<>\"Buzağı\",IF(AnimalType=\"Sağmal İnek\",0.038*BW,0.015*BW),0)","v":24.7},{"$f":"IF(AnimalType<>\"Buzağı\",0,0)","v":0},{"$f":"IF(AnimalType<>\"Buzağı\",IF(Temp<25,0,IF(Temp<30,0.1*(BW/100),0.5*(BW/100))),0)","v":0},{"$f":"IF(AnimalType<>\"Buzağı\",0,0)","v":0},24.7,{"$f":"IF(AnimalType<>\"Buzağı\",IF(DaysPreg>190,1.39,0),0)","v":0},{"$f":"IF(AnimalType<>\"Buzağı\",0.63*MilkProd,0)","v":15.75},{"$f":"IF(AnimalType<>\"Buzağı\",IF(OR(Age<(FirstCalf+CalfInt),LactNum<=1)=TRUE,1.4 * (WG / 0.96),0),0)","v":0},{"$f":"IF(AnimalType<>\"Buzağı\",AK74+AL74+AM74+AN74,IF(StarterDMI=0,1*TotalDMFed,1.5*TotalDMFed))","v":40.450000000000003},{"$f":"BU31*1000","v":44.951016704128492},{"$f":"BV31*1000","v":40.455915033715634},5.9150337156310684E-3,2.1265341213641098,0,0.4,0.15,0.14000000000000001,{"$f":"IF(Süt!$B15=\"\",\"\",IF(Süt!$C15<=0,\"\",IF(ISERROR(((($AA44 / TotalDMFed) * ($AB13 / 100) * (($AV44 * 1000) / $AB44) * ($AW13 / 100) * (AX13 / 100) * TotalDMFed) * 1000))=TRUE,0,((($AA44 / TotalDMFed) * ($AB13 / 100) * (($AV44 * 1000) / $AB44) * ($AW13 / 100) * (AX13 / 100) * TotalDMFed) * 1000))))","v":""},{"$f":"IF(Süt!$B15=\"\",\"\",IF(Süt!$C15<=0,\"\",IF(ISERROR(((($AA44 / TotalDMFed) * ($AB13 / 100) * (($AV44 * 1000) / $AB44) * ($AW13 / 100) * (AY13 / 100) * TotalDMFed) * 1000))=TRUE,0,((($AA44 / TotalDMFed) * ($AB13 / 100) * (($AV44 * 1000) / $AB44) * ($AW13 / 100) * (AY13 / 100) * TotalDMFed) * 1000))))","v":""},{"$f":"IF(Süt!$B15=\"\",\"\",IF(Süt!$C15<=0,\"\",IF(ISERROR(((($AA44 / TotalDMFed) * ($AB13 / 100) * (($AV44 * 1000) / $AB44) * ($AW13 / 100) * (AZ13 / 100) * TotalDMFed) * 1000))=TRUE,0,((($AA44 / TotalDMFed) * ($AB13 / 100) * (($AV44 * 1000) / $AB44) * ($AW13 / 100) * (AZ13 / 100) * TotalDMFed) * 1000))))","v":""},{"$f":"IF(Süt!$B15=\"\",\"\",IF(Süt!$C15<=0,\"\",IF(ISERROR(((($AA44 / TotalDMFed) * ($AB13 / 100) * (($AV44 * 1000) / $AB44) * ($AW13 / 100) * (BA13 / 100) * TotalDMFed) * 1000))=TRUE,0,((($AA44 / TotalDMFed) * ($AB13 / 100) * (($AV44 * 1000) / $AB44) * ($AW13 / 100) * (BA13 / 100) * TotalDMFed) * 1000))))","v":""},{"$f":"IF(Süt!$B15=\"\",\"\",IF(Süt!$C15<=0,\"\",IF(ISERROR(((($AA44 / TotalDMFed) * ($AB13 / 100) * (($AV44 * 1000) / $AB44) * ($AW13 / 100) * (BB13 / 100) * TotalDMFed) * 1000))=TRUE,0,((($AA44 / TotalDMFed) * ($AB13 / 100) * (($AV44 * 1000) / $AB44) * ($AW13 / 100) * (BB13 / 100) * TotalDMFed) * 1000))))","v":""},{"$f":"IF(Süt!$B15=\"\",\"\",IF(Süt!$C15<=0,\"\",IF(ISERROR(((($AA44 / TotalDMFed) * ($AB13 / 100) * (($AV44 * 1000) / $AB44) * ($AW13 / 100) * (BC13 / 100) * TotalDMFed) * 1000))=TRUE,0,((($AA44 / TotalDMFed) * ($AB13 / 100) * (($AV44 * 1000) / $AB44) * ($AW13 / 100) * (BC13 / 100) * TotalDMFed) * 1000))))","v":""},{"$f":"IF(Süt!$B15=\"\",\"\",IF(Süt!$C15<=0,\"\",IF(ISERROR(((($AA44 / TotalDMFed) * ($AB13 / 100) * (($AV44 * 1000) / $AB44) * ($AW13 / 100) * (BD13 / 100) * TotalDMFed) * 1000))=TRUE,0,((($AA44 / TotalDMFed) * ($AB13 / 100) * (($AV44 * 1000) / $AB44) * ($AW13 / 100) * (BD13 / 100) * TotalDMFed) * 1000))))","v":""},{"$f":"IF(Süt!$B15=\"\",\"\",IF(Süt!$C15<=0,\"\",IF(ISERROR(((($AA44 / TotalDMFed) * ($AB13 / 100) * (($AV44 * 1000) / $AB44) * ($AW13 / 100) * (BE13 / 100) * TotalDMFed) * 1000))=TRUE,0,((($AA44 / TotalDMFed) * ($AB13 / 100) * (($AV44 * 1000) / $AB44) * ($AW13 / 100) * (BE13 / 100) * TotalDMFed) * 1000))))","v":""},{"$f":"IF(Süt!$B15=\"\",\"\",IF(Süt!$C15<=0,\"\",IF(ISERROR(((($AA44 / TotalDMFed) * ($AB13 / 100) * (($AV44 * 1000) / $AB44) * ($AW13 / 100) * (BF13 / 100) * TotalDMFed) * 1000))=TRUE,0,((($AA44 / TotalDMFed) * ($AB13 / 100) * (($AV44 * 1000) / $AB44) * ($AW13 / 100) * (BF13 / 100) * TotalDMFed) * 1000))))","v":""},{"$f":"IF(Süt!$B15=\"\",\"\",IF(Süt!$C15<=0,\"\",IF(ISERROR(((($AA44 / TotalDMFed) * ($AB13 / 100) * (($AV44 * 1000) / $AB44) * ($AW13 / 100) * (BG13 / 100) * TotalDMFed) * 1000))=TRUE,0,((($AA44 / TotalDMFed) * ($AB13 / 100) * (($AV44 * 1000) / $AB44) * ($AW13 / 100) * (BG13 / 100) * TotalDMFed) * 1000))))","v":""},{"$f":"IF(Süt!$B15=\"\",\"\",IF(Süt!$C15<=0,\"\",IF(ISERROR(((($AA44 / TotalDMFed) * ($AB13 / 100) * (($AV44 * 1000) / $AB44) * ($AW13 / 100) * (BH13 / 100) * TotalDMFed) * 1000))=TRUE,0,((($AA44 / TotalDMFed) * ($AB13 / 100) * (($AV44 * 1000) / $AB44) * ($AW13 / 100) * (BH13 / 100) * TotalDMFed) * 1000))))","v":""},null,{"$f":"IF(Süt!$B15=\"\",\"\",IF(Süt!$C15<=0,\"\",IF(AND(AnimalType=\"Buzağı\",MID(AN13,1,9)=\"Calf Feed\")=TRUE,IF(AN13=\"Calf Feed-Milk\",AA44,0),0)))","v":""},{"$f":"IF(Süt!$B15=\"\",\"\",IF(Süt!$C15<=0,\"\",IF(AND(AnimalType=\"Buzağı\",MID(AN13,1,9)=\"Calf Feed\")=TRUE,IF(AN13=\"Calf Feed-Milk\",AA44*V44,0),0)))","v":""},{"$f":"IF(Süt!$B15=\"\",\"\",IF(Süt!$C15<=0,\"\",IF(AND(AnimalType=\"Buzağı\",MID(AN13,1,9)=\"Calf Feed\")=TRUE,IF(AN13=\"Calf Feed-Milk\",AC74,0),0)))","v":""},{"$f":"IF(Süt!$B15=\"\",\"\",IF(Süt!$C15<=0,\"\",IF(AND(AnimalType=\"Buzağı\",MID(AN13,1,9)=\"Calf Feed\")=TRUE,IF(AN13=\"Calf Feed-Milk\",AB74,0),0)))","v":""},{"$f":"IF(Süt!$B15=\"\",\"\",IF(Süt!$C15<=0,\"\",IF(AND(AnimalType=\"Buzağı\",MID(AN13,1,9)=\"Calf Feed\")=TRUE,IF(AN13=\"Calf Feed-Milk\",0,AA44),AA44)))","v":""},{"$f":"IF(Süt!$B15=\"\",\"\",IF(Süt!$C15<=0,\"\",IF(AND(AnimalType=\"Buzağı\",MID(AN13,1,9)=\"Calf Feed\")=TRUE,IF(AN13=\"Calf Feed-Milk\",0,AA44*V44),0)))","v":""},{"$f":"IF(Süt!$B15=\"\",\"\",IF(Süt!$C15<=0,\"\",IF(AND(AnimalType=\"Buzağı\",MID(AN13,1,9)=\"Calf Feed\")=TRUE,IF(AN13=\"Calf Feed-Milk\",0,AC74),AC74)))","v":""},{"$f":"IF(Süt!$B15=\"\",\"\",IF(Süt!$C15<=0,\"\",IF(AND(AnimalType=\"Buzağı\",MID(AN13,1,9)=\"Calf Feed\")=TRUE,IF(AN13=\"Calf Feed-Milk\",0,AB74),AB44)))","v":""},{"$f":"IF(Süt!$B15=\"\",\"\",IF(Süt!$C15<=0,\"\",IF(AND(AnimalType=\"Buzağı\",MID(AN13,1,9)=\"Calf Feed\")=TRUE,IF(V44<>0,0.86*(AA44*V44),0),0.75*(AA44*V44))))","v":""},{"$f":"IF(Süt!$B15=\"\",\"\",IF(Süt!$C15<=0,\"\",IF(AND(AnimalType=\"Buzağı\",MID(AN13,1,9)=\"Calf Feed\")=TRUE,IF(V44<>0,0.69*(AA44*V44),0),0.57*(AA44*V44))))","v":""},{"$f":"IF(Süt!$B15=\"\",\"\",IF(Süt!$C15<=0,\"\",IF(AND(AnimalType=\"Buzağı\",MID(AN13,1,9)=\"Calf Feed\")=TRUE,IF(V44<>0,V44,0),V44)))","v":""},null,null,"CS5EBW",{"$f":"(SBW*0.851) /CS_F_CS","v":531.024},null,null,null,null,null,null,null,"Trp",{"$f":"TTrp","v":10.560778607757353},{"$f":"Dig_TTrp","v":8.0526322267617196},null,null,null,null,null,{"$f":"IF(EAATotalBeforeMP > 0,((TTrp / EAATotalBeforeMP) * 100),0)","v":2.9447866833973664},null,null,null,null,null,2,1.056,null,"a_1",{"$f":"IF(OR(AnimalType=\"Sağmal İnek\",AnimalType=\"Kurudaki İnek\")=TRUE,0.08,0.086)","v":0.08},"thermal neutral maintenance requirement (Mcal/day/BW^0.75)",null,null,null,null,null,null,null,null,null,null,"Fat+Glicerol"]
[null,null,null,null,null,null,"PercentConc",{"$f":"PercentConc","v":29.649130289006504},null,48.315038243671395,null,null,null,null,null,"Yerli Kara",300,17,45,12,280,600,700,4,{"$f":"IF(Süt!$B16=\"\",\"\",IF(Süt!$C16<=0,\"\",IF(MID(AN14,1,9)=\"Calf Feed\",$AA45*Y14,0)))","v":""},{"$f":"IF(Süt!$B16=\"\",\"\",IF(Süt!$C16<=0,\"\",IF(MID(AN14,1,9)=\"Calf Feed\",$AA45*Z14,0)))","v":""},{"$f":"IF(Süt!$B16=\"\",\"\",IF(Süt!$C16<=0,\"\",IF(MID($AN14,1,9)=\"Calf Feed\",$AA45*V45,0)))","v":""},{"$f":"IF(Süt!$B16=\"\",\"\",IF(Süt!$C16<=0,\"\",IF(MID($AN14,1,9)=\"Calf Feed\",$AA45*(AB14/100),AB45/1000)))","v":""},{"$f":"IF(Süt!$B16=\"\",\"\",IF(Süt!$C16<=0,\"\",IF(MID(AN14,1,9)=\"Calf Feed\",AA45*(AB14/100),AB45/1000*0.75)))","v":""},{"$f":"IF(Süt!$B16=\"\",\"\",IF(Süt!$C16<=0,\"\",IF(MID($AN14,1,9)=\"Calf Feed\",$AA45*(AF14/100),0)))","v":""},"S","g/gün",{"$f":"IF(AnimalType<>\"Buzağı\",0,0)","v":0},0,{"$f":"IF(AnimalType<>\"Buzağı\",0,0)","v":0},{"$f":"IF(AnimalType<>\"Buzağı\",0,0)","v":0},0,{"$f":"IF(AnimalType<>\"Buzağı\",0,0)","v":0},{"$f":"IF(AnimalType<>\"Buzağı\",0,0)","v":0},{"$f":"IF(AnimalType<>\"Buzağı\",IF(OR(Age<(FirstCalf+CalfInt),LactNum<=1)=TRUE,0,0),0)","v":0},{"$f":"IF(AnimalType<>\"Buzağı\",2*TotalDMFed,IF(StarterDMI=0,2.9*TotalDMFed,2*TotalDMFed))","v":42.276318308303203},{"$f":"BY31*1000","v":43.490866208851898},{"$f":"BZ31*1000","v":43.490866208851898},1.2145479005486948,2.0574576003374521,0,0.28999999999999998,0.2,0.2,{"$f":"IF(Süt!$B16=\"\",\"\",IF(Süt!$C16<=0,\"\",IF(ISERROR(((($AA45 / TotalDMFed) * ($AB14 / 100) * (($AV45 * 1000) / $AB45) * ($AW14 / 100) * (AX14 / 100) * TotalDMFed) * 1000))=TRUE,0,((($AA45 / TotalDMFed) * ($AB14 / 100) * (($AV45 * 1000) / $AB45) * ($AW14 / 100) * (AX14 / 100) * TotalDMFed) * 1000))))","v":""},{"$f":"IF(Süt!$B16=\"\",\"\",IF(Süt!$C16<=0,\"\",IF(ISERROR(((($AA45 / TotalDMFed) * ($AB14 / 100) * (($AV45 * 1000) / $AB45) * ($AW14 / 100) * (AY14 / 100) * TotalDMFed) * 1000))=TRUE,0,((($AA45 / TotalDMFed) * ($AB14 / 100) * (($AV45 * 1000) / $AB45) * ($AW14 / 100) * (AY14 / 100) * TotalDMFed) * 1000))))","v":""},{"$f":"IF(Süt!$B16=\"\",\"\",IF(Süt!$C16<=0,\"\",IF(ISERROR(((($AA45 / TotalDMFed) * ($AB14 / 100) * (($AV45 * 1000) / $AB45) * ($AW14 / 100) * (AZ14 / 100) * TotalDMFed) * 1000))=TRUE,0,((($AA45 / TotalDMFed) * ($AB14 / 100) * (($AV45 * 1000) / $AB45) * ($AW14 / 100) * (AZ14 / 100) * TotalDMFed) * 1000))))","v":""},{"$f":"IF(Süt!$B16=\"\",\"\",IF(Süt!$C16<=0,\"\",IF(ISERROR(((($AA45 / TotalDMFed) * ($AB14 / 100) * (($AV45 * 1000) / $AB45) * ($AW14 / 100) * (BA14 / 100) * TotalDMFed) * 1000))=TRUE,0,((($AA45 / TotalDMFed) * ($AB14 / 100) * (($AV45 * 1000) / $AB45) * ($AW14 / 100) * (BA14 / 100) * TotalDMFed) * 1000))))","v":""},{"$f":"IF(Süt!$B16=\"\",\"\",IF(Süt!$C16<=0,\"\",IF(ISERROR(((($AA45 / TotalDMFed) * ($AB14 / 100) * (($AV45 * 1000) / $AB45) * ($AW14 / 100) * (BB14 / 100) * TotalDMFed) * 1000))=TRUE,0,((($AA45 / TotalDMFed) * ($AB14 / 100) * (($AV45 * 1000) / $AB45) * ($AW14 / 100) * (BB14 / 100) * TotalDMFed) * 1000))))","v":""},{"$f":"IF(Süt!$B16=\"\",\"\",IF(Süt!$C16<=0,\"\",IF(ISERROR(((($AA45 / TotalDMFed) * ($AB14 / 100) * (($AV45 * 1000) / $AB45) * ($AW14 / 100) * (BC14 / 100) * TotalDMFed) * 1000))=TRUE,0,((($AA45 / TotalDMFed) * ($AB14 / 100) * (($AV45 * 1000) / $AB45) * ($AW14 / 100) * (BC14 / 100) * TotalDMFed) * 1000))))","v":""},{"$f":"IF(Süt!$B16=\"\",\"\",IF(Süt!$C16<=0,\"\",IF(ISERROR(((($AA45 / TotalDMFed) * ($AB14 / 100) * (($AV45 * 1000) / $AB45) * ($AW14 / 100) * (BD14 / 100) * TotalDMFed) * 1000))=TRUE,0,((($AA45 / TotalDMFed) * ($AB14 / 100) * (($AV45 * 1000) / $AB45) * ($AW14 / 100) * (BD14 / 100) * TotalDMFed) * 1000))))","v":""},{"$f":"IF(Süt!$B16=\"\",\"\",IF(Süt!$C16<=0,\"\",IF(ISERROR(((($AA45 / TotalDMFed) * ($AB14 / 100) * (($AV45 * 1000) / $AB45) * ($AW14 / 100) * (BE14 / 100) * TotalDMFed) * 1000))=TRUE,0,((($AA45 / TotalDMFed) * ($AB14 / 100) * (($AV45 * 1000) / $AB45) * ($AW14 / 100) * (BE14 / 100) * TotalDMFed) * 1000))))","v":""},{"$f":"IF(Süt!$B16=\"\",\"\",IF(Süt!$C16<=0,\"\",IF(ISERROR(((($AA45 / TotalDMFed) * ($AB14 / 100) * (($AV45 * 1000) / $AB45) * ($AW14 / 100) * (BF14 / 100) * TotalDMFed) * 1000))=TRUE,0,((($AA45 / TotalDMFed) * ($AB14 / 100) * (($AV45 * 1000) / $AB45) * ($AW14 / 100) * (BF14 / 100) * TotalDMFed) * 1000))))","v":""},{"$f":"IF(Süt!$B16=\"\",\"\",IF(Süt!$C16<=0,\"\",IF(ISERROR(((($AA45 / TotalDMFed) * ($AB14 / 100) * (($AV45 * 1000) / $AB45) * ($AW14 / 100) * (BG14 / 100) * TotalDMFed) * 1000))=TRUE,0,((($AA45 / TotalDMFed) * ($AB14 / 100) * (($AV45 * 1000) / $AB45) * ($AW14 / 100) * (BG14 / 100) * TotalDMFed) * 1000))))","v":""},{"$f":"IF(Süt!$B16=\"\",\"\",IF(Süt!$C16<=0,\"\",IF(ISERROR(((($AA45 / TotalDMFed) * ($AB14 / 100) * (($AV45 * 1000) / $AB45) * ($AW14 / 100) * (BH14 / 100) * TotalDMFed) * 1000))=TRUE,0,((($AA45 / TotalDMFed) * ($AB14 / 100) * (($AV45 * 1000) / $AB45) * ($AW14 / 100) * (BH14 / 100) * TotalDMFed) * 1000))))","v":""},null,{"$f":"IF(Süt!$B16=\"\",\"\",IF(Süt!$C16<=0,\"\",IF(AND(AnimalType=\"Buzağı\",MID(AN14,1,9)=\"Calf Feed\")=TRUE,IF(AN14=\"Calf Feed-Milk\",AA45,0),0)))","v":""},{"$f":"IF(Süt!$B16=\"\",\"\",IF(Süt!$C16<=0,\"\",IF(AND(AnimalType=\"Buzağı\",MID(AN14,1,9)=\"Calf Feed\")=TRUE,IF(AN14=\"Calf Feed-Milk\",AA45*V45,0),0)))","v":""},{"$f":"IF(Süt!$B16=\"\",\"\",IF(Süt!$C16<=0,\"\",IF(AND(AnimalType=\"Buzağı\",MID(AN14,1,9)=\"Calf Feed\")=TRUE,IF(AN14=\"Calf Feed-Milk\",AC75,0),0)))","v":""},{"$f":"IF(Süt!$B16=\"\",\"\",IF(Süt!$C16<=0,\"\",IF(AND(AnimalType=\"Buzağı\",MID(AN14,1,9)=\"Calf Feed\")=TRUE,IF(AN14=\"Calf Feed-Milk\",AB75,0),0)))","v":""},{"$f":"IF(Süt!$B16=\"\",\"\",IF(Süt!$C16<=0,\"\",IF(AND(AnimalType=\"Buzağı\",MID(AN14,1,9)=\"Calf Feed\")=TRUE,IF(AN14=\"Calf Feed-Milk\",0,AA45),AA45)))","v":""},{"$f":"IF(Süt!$B16=\"\",\"\",IF(Süt!$C16<=0,\"\",IF(AND(AnimalType=\"Buzağı\",MID(AN14,1,9)=\"Calf Feed\")=TRUE,IF(AN14=\"Calf Feed-Milk\",0,AA45*V45),0)))","v":""},{"$f":"IF(Süt!$B16=\"\",\"\",IF(Süt!$C16<=0,\"\",IF(AND(AnimalType=\"Buzağı\",MID(AN14,1,9)=\"Calf Feed\")=TRUE,IF(AN14=\"Calf Feed-Milk\",0,AC75),AC75)))","v":""},{"$f":"IF(Süt!$B16=\"\",\"\",IF(Süt!$C16<=0,\"\",IF(AND(AnimalType=\"Buzağı\",MID(AN14,1,9)=\"Calf Feed\")=TRUE,IF(AN14=\"Calf Feed-Milk\",0,AB75),AB45)))","v":""},{"$f":"IF(Süt!$B16=\"\",\"\",IF(Süt!$C16<=0,\"\",IF(AND(AnimalType=\"Buzağı\",MID(AN14,1,9)=\"Calf Feed\")=TRUE,IF(V45<>0,0.86*(AA45*V45),0),0.75*(AA45*V45))))","v":""},{"$f":"IF(Süt!$B16=\"\",\"\",IF(Süt!$C16<=0,\"\",IF(AND(AnimalType=\"Buzağı\",MID(AN14,1,9)=\"Calf Feed\")=TRUE,IF(V45<>0,0.69*(AA45*V45),0),0.57*(AA45*V45))))","v":""},{"$f":"IF(Süt!$B16=\"\",\"\",IF(Süt!$C16<=0,\"\",IF(AND(AnimalType=\"Buzağı\",MID(AN14,1,9)=\"Calf Feed\")=TRUE,IF(V45<>0,V45,0),V45)))","v":""},null,null,{"$f":"CONCATENATE(\"CS_F(\",CS_9,\")\")","v":"CS_F(5)"},{"$f":"(0.6575+CS_9*0.0685)","v":1},null,null,null,null,null,null,null,"Val",{"$f":"TVal","v":50.298596862896893},{"$f":"Dig_TVal","v":39.402666237231415},{"$f":" 8.68 + (0.314 * CN75)","v":13.083960553794997},{"$f":"CG75*0.863","v":43.407689092680016},{"$f":"CG75/100*CG$76","v":180.38398120473099},{"$f":"CK75-CJ75","v":136.97629211205097},{"$f":"IF(CG75 > 0, CJ75 * (CH75 / CG75),0)","v":34.00450096273071},{"$f":"IF(EAATotalBeforeMP > 0,((TVal / EAATotalBeforeMP) * 100),0)","v":14.025352082149672},{"$f":"0.8 * CL75","v":109.58103368964078},{"$f":"CM75+CO75","v":143.58553465237148},{"$f":"IF((MPBact + (MPFeed * 1000) + MPEndo) > 0,100 * (CP75 / (MPBact + (MPFeed * 1000) + MPEndo)),0)","v":7.5650528864180426},null,null,3,1.054,null,"COMP",{"$f":"IF(AnimalType=\"Damızlık Düve\",0.8+((CS_9-1)*0.05),1)","v":1},"effect of previous plane of nutrition on NEMaint requirement"]
[null,null,{"$f":"B54+1","v":1},{"$f":"C76+1","v":2},{"$f":"D76+1","v":3},{"$f":"E76+1","v":4},"KabaYem%",{"$f":"100-PercentConc","v":70.350869710993493},null,51.684961756328605,null,null,null,null,null,null,null,null,null,null,null,null,null,null,{"$f":"IF(Süt!$B17=\"\",\"\",IF(Süt!$C17<=0,\"\",IF(MID(AN15,1,9)=\"Calf Feed\",$AA46*Y15,0)))","v":""},{"$f":"IF(Süt!$B17=\"\",\"\",IF(Süt!$C17<=0,\"\",IF(MID(AN15,1,9)=\"Calf Feed\",$AA46*Z15,0)))","v":""},{"$f":"IF(Süt!$B17=\"\",\"\",IF(Süt!$C17<=0,\"\",IF(MID($AN15,1,9)=\"Calf Feed\",$AA46*V46,0)))","v":""},{"$f":"IF(Süt!$B17=\"\",\"\",IF(Süt!$C17<=0,\"\",IF(MID($AN15,1,9)=\"Calf Feed\",$AA46*(AB15/100),AB46/1000)))","v":""},{"$f":"IF(Süt!$B17=\"\",\"\",IF(Süt!$C17<=0,\"\",IF(MID(AN15,1,9)=\"Calf Feed\",AA46*(AB15/100),AB46/1000*0.75)))","v":""},{"$f":"IF(Süt!$B17=\"\",\"\",IF(Süt!$C17<=0,\"\",IF(MID($AN15,1,9)=\"Calf Feed\",$AA46*(AF15/100),0)))","v":""},"Co","mg/gün",{"$f":"IF(AnimalType<>\"Buzağı\",0,0)","v":0},0,0,{"$f":"IF(AnimalType<>\"Buzağı\",0,0)","v":0},0,{"$f":"IF(AnimalType<>\"Buzağı\",0,0)","v":0},{"$f":"IF(AnimalType<>\"Buzağı\",0,0)","v":0},{"$f":"IF(AnimalType<>\"Buzağı\",IF(OR(Age<(FirstCalf+CalfInt),LactNum<=1)=TRUE,0,0),0)","v":0},{"$f":"IF(AnimalType<>\"Buzağı\",0.11*TotalDMFed,0.1*TotalDMFed)","v":2.3251975069566764},{"$f":"CA31","v":6.061947},{"$f":"CB31","v":6.061947},3.7367494930433236,0.28677743202673417,0,0.11,0.1,0.1,{"$f":"IF(Süt!$B17=\"\",\"\",IF(Süt!$C17<=0,\"\",IF(ISERROR(((($AA46 / TotalDMFed) * ($AB15 / 100) * (($AV46 * 1000) / $AB46) * ($AW15 / 100) * (AX15 / 100) * TotalDMFed) * 1000))=TRUE,0,((($AA46 / TotalDMFed) * ($AB15 / 100) * (($AV46 * 1000) / $AB46) * ($AW15 / 100) * (AX15 / 100) * TotalDMFed) * 1000))))","v":""},{"$f":"IF(Süt!$B17=\"\",\"\",IF(Süt!$C17<=0,\"\",IF(ISERROR(((($AA46 / TotalDMFed) * ($AB15 / 100) * (($AV46 * 1000) / $AB46) * ($AW15 / 100) * (AY15 / 100) * TotalDMFed) * 1000))=TRUE,0,((($AA46 / TotalDMFed) * ($AB15 / 100) * (($AV46 * 1000) / $AB46) * ($AW15 / 100) * (AY15 / 100) * TotalDMFed) * 1000))))","v":""},{"$f":"IF(Süt!$B17=\"\",\"\",IF(Süt!$C17<=0,\"\",IF(ISERROR(((($AA46 / TotalDMFed) * ($AB15 / 100) * (($AV46 * 1000) / $AB46) * ($AW15 / 100) * (AZ15 / 100) * TotalDMFed) * 1000))=TRUE,0,((($AA46 / TotalDMFed) * ($AB15 / 100) * (($AV46 * 1000) / $AB46) * ($AW15 / 100) * (AZ15 / 100) * TotalDMFed) * 1000))))","v":""},{"$f":"IF(Süt!$B17=\"\",\"\",IF(Süt!$C17<=0,\"\",IF(ISERROR(((($AA46 / TotalDMFed) * ($AB15 / 100) * (($AV46 * 1000) / $AB46) * ($AW15 / 100) * (BA15 / 100) * TotalDMFed) * 1000))=TRUE,0,((($AA46 / TotalDMFed) * ($AB15 / 100) * (($AV46 * 1000) / $AB46) * ($AW15 / 100) * (BA15 / 100) * TotalDMFed) * 1000))))","v":""},{"$f":"IF(Süt!$B17=\"\",\"\",IF(Süt!$C17<=0,\"\",IF(ISERROR(((($AA46 / TotalDMFed) * ($AB15 / 100) * (($AV46 * 1000) / $AB46) * ($AW15 / 100) * (BB15 / 100) * TotalDMFed) * 1000))=TRUE,0,((($AA46 / TotalDMFed) * ($AB15 / 100) * (($AV46 * 1000) / $AB46) * ($AW15 / 100) * (BB15 / 100) * TotalDMFed) * 1000))))","v":""},{"$f":"IF(Süt!$B17=\"\",\"\",IF(Süt!$C17<=0,\"\",IF(ISERROR(((($AA46 / TotalDMFed) * ($AB15 / 100) * (($AV46 * 1000) / $AB46) * ($AW15 / 100) * (BC15 / 100) * TotalDMFed) * 1000))=TRUE,0,((($AA46 / TotalDMFed) * ($AB15 / 100) * (($AV46 * 1000) / $AB46) * ($AW15 / 100) * (BC15 / 100) * TotalDMFed) * 1000))))","v":""},{"$f":"IF(Süt!$B17=\"\",\"\",IF(Süt!$C17<=0,\"\",IF(ISERROR(((($AA46 / TotalDMFed) * ($AB15 / 100) * (($AV46 * 1000) / $AB46) * ($AW15 / 100) * (BD15 / 100) * TotalDMFed) * 1000))=TRUE,0,((($AA46 / TotalDMFed) * ($AB15 / 100) * (($AV46 * 1000) / $AB46) * ($AW15 / 100) * (BD15 / 100) * TotalDMFed) * 1000))))","v":""},{"$f":"IF(Süt!$B17=\"\",\"\",IF(Süt!$C17<=0,\"\",IF(ISERROR(((($AA46 / TotalDMFed) * ($AB15 / 100) * (($AV46 * 1000) / $AB46) * ($AW15 / 100) * (BE15 / 100) * TotalDMFed) * 1000))=TRUE,0,((($AA46 / TotalDMFed) * ($AB15 / 100) * (($AV46 * 1000) / $AB46) * ($AW15 / 100) * (BE15 / 100) * TotalDMFed) * 1000))))","v":""},{"$f":"IF(Süt!$B17=\"\",\"\",IF(Süt!$C17<=0,\"\",IF(ISERROR(((($AA46 / TotalDMFed) * ($AB15 / 100) * (($AV46 * 1000) / $AB46) * ($AW15 / 100) * (BF15 / 100) * TotalDMFed) * 1000))=TRUE,0,((($AA46 / TotalDMFed) * ($AB15 / 100) * (($AV46 * 1000) / $AB46) * ($AW15 / 100) * (BF15 / 100) * TotalDMFed) * 1000))))","v":""},{"$f":"IF(Süt!$B17=\"\",\"\",IF(Süt!$C17<=0,\"\",IF(ISERROR(((($AA46 / TotalDMFed) * ($AB15 / 100) * (($AV46 * 1000) / $AB46) * ($AW15 / 100) * (BG15 / 100) * TotalDMFed) * 1000))=TRUE,0,((($AA46 / TotalDMFed) * ($AB15 / 100) * (($AV46 * 1000) / $AB46) * ($AW15 / 100) * (BG15 / 100) * TotalDMFed) * 1000))))","v":""},{"$f":"IF(Süt!$B17=\"\",\"\",IF(Süt!$C17<=0,\"\",IF(ISERROR(((($AA46 / TotalDMFed) * ($AB15 / 100) * (($AV46 * 1000) / $AB46) * ($AW15 / 100) * (BH15 / 100) * TotalDMFed) * 1000))=TRUE,0,((($AA46 / TotalDMFed) * ($AB15 / 100) * (($AV46 * 1000) / $AB46) * ($AW15 / 100) * (BH15 / 100) * TotalDMFed) * 1000))))","v":""},null,{"$f":"IF(Süt!$B17=\"\",\"\",IF(Süt!$C17<=0,\"\",IF(AND(AnimalType=\"Buzağı\",MID(AN15,1,9)=\"Calf Feed\")=TRUE,IF(AN15=\"Calf Feed-Milk\",AA46,0),0)))","v":""},{"$f":"IF(Süt!$B17=\"\",\"\",IF(Süt!$C17<=0,\"\",IF(AND(AnimalType=\"Buzağı\",MID(AN15,1,9)=\"Calf Feed\")=TRUE,IF(AN15=\"Calf Feed-Milk\",AA46*V46,0),0)))","v":""},{"$f":"IF(Süt!$B17=\"\",\"\",IF(Süt!$C17<=0,\"\",IF(AND(AnimalType=\"Buzağı\",MID(AN15,1,9)=\"Calf Feed\")=TRUE,IF(AN15=\"Calf Feed-Milk\",AC76,0),0)))","v":""},{"$f":"IF(Süt!$B17=\"\",\"\",IF(Süt!$C17<=0,\"\",IF(AND(AnimalType=\"Buzağı\",MID(AN15,1,9)=\"Calf Feed\")=TRUE,IF(AN15=\"Calf Feed-Milk\",AB76,0),0)))","v":""},{"$f":"IF(Süt!$B17=\"\",\"\",IF(Süt!$C17<=0,\"\",IF(AND(AnimalType=\"Buzağı\",MID(AN15,1,9)=\"Calf Feed\")=TRUE,IF(AN15=\"Calf Feed-Milk\",0,AA46),AA46)))","v":""},{"$f":"IF(Süt!$B17=\"\",\"\",IF(Süt!$C17<=0,\"\",IF(AND(AnimalType=\"Buzağı\",MID(AN15,1,9)=\"Calf Feed\")=TRUE,IF(AN15=\"Calf Feed-Milk\",0,AA46*V46),0)))","v":""},{"$f":"IF(Süt!$B17=\"\",\"\",IF(Süt!$C17<=0,\"\",IF(AND(AnimalType=\"Buzağı\",MID(AN15,1,9)=\"Calf Feed\")=TRUE,IF(AN15=\"Calf Feed-Milk\",0,AC76),AC76)))","v":""},{"$f":"IF(Süt!$B17=\"\",\"\",IF(Süt!$C17<=0,\"\",IF(AND(AnimalType=\"Buzağı\",MID(AN15,1,9)=\"Calf Feed\")=TRUE,IF(AN15=\"Calf Feed-Milk\",0,AB76),AB46)))","v":""},{"$f":"IF(Süt!$B17=\"\",\"\",IF(Süt!$C17<=0,\"\",IF(AND(AnimalType=\"Buzağı\",MID(AN15,1,9)=\"Calf Feed\")=TRUE,IF(V46<>0,0.86*(AA46*V46),0),0.75*(AA46*V46))))","v":""},{"$f":"IF(Süt!$B17=\"\",\"\",IF(Süt!$C17<=0,\"\",IF(AND(AnimalType=\"Buzağı\",MID(AN15,1,9)=\"Calf Feed\")=TRUE,IF(V46<>0,0.69*(AA46*V46),0),0.57*(AA46*V46))))","v":""},{"$f":"IF(Süt!$B17=\"\",\"\",IF(Süt!$C17<=0,\"\",IF(AND(AnimalType=\"Buzağı\",MID(AN15,1,9)=\"Calf Feed\")=TRUE,IF(V46<>0,V46,0),V46)))","v":""},null,null,"HedefCS",{"$f":"IF(AnimalType=\"Buzağı\",\"\",IF(AnimalType=\"Damızlık Düve\",IF(CS>2.75,IF(CS<3,CS,3),3),IF(AnimalType=\"Kurudaki İnek\",IF(CS>3.25,IF(CS<3.75,CS,3.5),3.5),IF(DaysInMilk<180,3,2.5))))","v":3},null,null,null,null,null,null,null,"TEAA",{"$f":"CG67+CG68+CG69+CG70+CG66+CG65+CG72+CG73+CG74+CG75","v":358.62626883294325},null,{"$f":" 30.9 + (0.863 * EAATotalBeforeMP) + (0.433 * MCP_Total)","v":1099.1616447149256},null,null,null,null,null,null,null,null,null,null,4,1.052,null,"a_2",{"$f":"IF(AnimalType=\"Damızlık Düve\",0.0007*(20-PrevTemp),0)","v":0},"maintenance adjustment for previous ambient temperature (Mcal/day/BW^0.75)",null,null,null,null,null,null,null,null,null,null,"Yem Tipleri"]
[null,null,{"$f":"SUM(C80:C106)","v":0.80887408510221093},{"$f":"SUM(D80:D106)","v":0.93910502402439655},{"$f":"SUM(E80:E106)","v":0.89040024723631417},{"$f":"SUM(F80:F106)","v":2.0615872156285708},null,null,null,null,null,null,null,null,null,null,null,null,null,null,null,null,null,null,{"$f":"IF(Süt!$B18=\"\",\"\",IF(Süt!$C18<=0,\"\",IF(MID(AN16,1,9)=\"Calf Feed\",$AA47*Y16,0)))","v":""},{"$f":"IF(Süt!$B18=\"\",\"\",IF(Süt!$C18<=0,\"\",IF(MID(AN16,1,9)=\"Calf Feed\",$AA47*Z16,0)))","v":""},{"$f":"IF(Süt!$B18=\"\",\"\",IF(Süt!$C18<=0,\"\",IF(MID($AN16,1,9)=\"Calf Feed\",$AA47*V47,0)))","v":""},{"$f":"IF(Süt!$B18=\"\",\"\",IF(Süt!$C18<=0,\"\",IF(MID($AN16,1,9)=\"Calf Feed\",$AA47*(AB16/100),AB47/1000)))","v":""},{"$f":"IF(Süt!$B18=\"\",\"\",IF(Süt!$C18<=0,\"\",IF(MID(AN16,1,9)=\"Calf Feed\",AA47*(AB16/100),AB47/1000*0.75)))","v":""},{"$f":"IF(Süt!$B18=\"\",\"\",IF(Süt!$C18<=0,\"\",IF(MID($AN16,1,9)=\"Calf Feed\",$AA47*(AF16/100),0)))","v":""},"Cu","mg/gün",{"$f":"IF(AnimalType<>\"Buzağı\",0.0071*BW,0)","v":4.6150000000000002},0,0,{"$f":"IF(AnimalType<>\"Buzağı\",0,0)","v":0},4.6150000000000002,{"$f":"IF(AnimalType<>\"Buzağı\",IF(DaysPreg=0,0,IF(DaysPreg<100,0.5,IF(DaysPreg<225,1.5,2))),0)","v":0.5},{"$f":"IF(AnimalType<>\"Buzağı\",IF(DaysInMilk=0,0,0.15*MilkProd),0)","v":3.75},{"$f":"IF(AnimalType<>\"Buzağı\",IF(OR(Age<(FirstCalf+CalfInt),LactNum<=1)=TRUE,1.15 * (WG / 0.96),0),0)","v":0},{"$f":"IF(AnimalType<>\"Buzağı\",AK77+AL77+AM77+AN77,10*TotalDMFed)","v":8.8650000000000002},{"$f":"CC31","v":375.81214996892351},{"$f":"CD31","v":15.03248599875694},6.1674859987569395,17.778849483925509,0,10,10,10,{"$f":"IF(Süt!$B18=\"\",\"\",IF(Süt!$C18<=0,\"\",IF(ISERROR(((($AA47 / TotalDMFed) * ($AB16 / 100) * (($AV47 * 1000) / $AB47) * ($AW16 / 100) * (AX16 / 100) * TotalDMFed) * 1000))=TRUE,0,((($AA47 / TotalDMFed) * ($AB16 / 100) * (($AV47 * 1000) / $AB47) * ($AW16 / 100) * (AX16 / 100) * TotalDMFed) * 1000))))","v":""},{"$f":"IF(Süt!$B18=\"\",\"\",IF(Süt!$C18<=0,\"\",IF(ISERROR(((($AA47 / TotalDMFed) * ($AB16 / 100) * (($AV47 * 1000) / $AB47) * ($AW16 / 100) * (AY16 / 100) * TotalDMFed) * 1000))=TRUE,0,((($AA47 / TotalDMFed) * ($AB16 / 100) * (($AV47 * 1000) / $AB47) * ($AW16 / 100) * (AY16 / 100) * TotalDMFed) * 1000))))","v":""},{"$f":"IF(Süt!$B18=\"\",\"\",IF(Süt!$C18<=0,\"\",IF(ISERROR(((($AA47 / TotalDMFed) * ($AB16 / 100) * (($AV47 * 1000) / $AB47) * ($AW16 / 100) * (AZ16 / 100) * TotalDMFed) * 1000))=TRUE,0,((($AA47 / TotalDMFed) * ($AB16 / 100) * (($AV47 * 1000) / $AB47) * ($AW16 / 100) * (AZ16 / 100) * TotalDMFed) * 1000))))","v":""},{"$f":"IF(Süt!$B18=\"\",\"\",IF(Süt!$C18<=0,\"\",IF(ISERROR(((($AA47 / TotalDMFed) * ($AB16 / 100) * (($AV47 * 1000) / $AB47) * ($AW16 / 100) * (BA16 / 100) * TotalDMFed) * 1000))=TRUE,0,((($AA47 / TotalDMFed) * ($AB16 / 100) * (($AV47 * 1000) / $AB47) * ($AW16 / 100) * (BA16 / 100) * TotalDMFed) * 1000))))","v":""},{"$f":"IF(Süt!$B18=\"\",\"\",IF(Süt!$C18<=0,\"\",IF(ISERROR(((($AA47 / TotalDMFed) * ($AB16 / 100) * (($AV47 * 1000) / $AB47) * ($AW16 / 100) * (BB16 / 100) * TotalDMFed) * 1000))=TRUE,0,((($AA47 / TotalDMFed) * ($AB16 / 100) * (($AV47 * 1000) / $AB47) * ($AW16 / 100) * (BB16 / 100) * TotalDMFed) * 1000))))","v":""},{"$f":"IF(Süt!$B18=\"\",\"\",IF(Süt!$C18<=0,\"\",IF(ISERROR(((($AA47 / TotalDMFed) * ($AB16 / 100) * (($AV47 * 1000) / $AB47) * ($AW16 / 100) * (BC16 / 100) * TotalDMFed) * 1000))=TRUE,0,((($AA47 / TotalDMFed) * ($AB16 / 100) * (($AV47 * 1000) / $AB47) * ($AW16 / 100) * (BC16 / 100) * TotalDMFed) * 1000))))","v":""},{"$f":"IF(Süt!$B18=\"\",\"\",IF(Süt!$C18<=0,\"\",IF(ISERROR(((($AA47 / TotalDMFed) * ($AB16 / 100) * (($AV47 * 1000) / $AB47) * ($AW16 / 100) * (BD16 / 100) * TotalDMFed) * 1000))=TRUE,0,((($AA47 / TotalDMFed) * ($AB16 / 100) * (($AV47 * 1000) / $AB47) * ($AW16 / 100) * (BD16 / 100) * TotalDMFed) * 1000))))","v":""},{"$f":"IF(Süt!$B18=\"\",\"\",IF(Süt!$C18<=0,\"\",IF(ISERROR(((($AA47 / TotalDMFed) * ($AB16 / 100) * (($AV47 * 1000) / $AB47) * ($AW16 / 100) * (BE16 / 100) * TotalDMFed) * 1000))=TRUE,0,((($AA47 / TotalDMFed) * ($AB16 / 100) * (($AV47 * 1000) / $AB47) * ($AW16 / 100) * (BE16 / 100) * TotalDMFed) * 1000))))","v":""},{"$f":"IF(Süt!$B18=\"\",\"\",IF(Süt!$C18<=0,\"\",IF(ISERROR(((($AA47 / TotalDMFed) * ($AB16 / 100) * (($AV47 * 1000) / $AB47) * ($AW16 / 100) * (BF16 / 100) * TotalDMFed) * 1000))=TRUE,0,((($AA47 / TotalDMFed) * ($AB16 / 100) * (($AV47 * 1000) / $AB47) * ($AW16 / 100) * (BF16 / 100) * TotalDMFed) * 1000))))","v":""},{"$f":"IF(Süt!$B18=\"\",\"\",IF(Süt!$C18<=0,\"\",IF(ISERROR(((($AA47 / TotalDMFed) * ($AB16 / 100) * (($AV47 * 1000) / $AB47) * ($AW16 / 100) * (BG16 / 100) * TotalDMFed) * 1000))=TRUE,0,((($AA47 / TotalDMFed) * ($AB16 / 100) * (($AV47 * 1000) / $AB47) * ($AW16 / 100) * (BG16 / 100) * TotalDMFed) * 1000))))","v":""},{"$f":"IF(Süt!$B18=\"\",\"\",IF(Süt!$C18<=0,\"\",IF(ISERROR(((($AA47 / TotalDMFed) * ($AB16 / 100) * (($AV47 * 1000) / $AB47) * ($AW16 / 100) * (BH16 / 100) * TotalDMFed) * 1000))=TRUE,0,((($AA47 / TotalDMFed) * ($AB16 / 100) * (($AV47 * 1000) / $AB47) * ($AW16 / 100) * (BH16 / 100) * TotalDMFed) * 1000))))","v":""},null,{"$f":"IF(Süt!$B18=\"\",\"\",IF(Süt!$C18<=0,\"\",IF(AND(AnimalType=\"Buzağı\",MID(AN16,1,9)=\"Calf Feed\")=TRUE,IF(AN16=\"Calf Feed-Milk\",AA47,0),0)))","v":""},{"$f":"IF(Süt!$B18=\"\",\"\",IF(Süt!$C18<=0,\"\",IF(AND(AnimalType=\"Buzağı\",MID(AN16,1,9)=\"Calf Feed\")=TRUE,IF(AN16=\"Calf Feed-Milk\",AA47*V47,0),0)))","v":""},{"$f":"IF(Süt!$B18=\"\",\"\",IF(Süt!$C18<=0,\"\",IF(AND(AnimalType=\"Buzağı\",MID(AN16,1,9)=\"Calf Feed\")=TRUE,IF(AN16=\"Calf Feed-Milk\",AC77,0),0)))","v":""},{"$f":"IF(Süt!$B18=\"\",\"\",IF(Süt!$C18<=0,\"\",IF(AND(AnimalType=\"Buzağı\",MID(AN16,1,9)=\"Calf Feed\")=TRUE,IF(AN16=\"Calf Feed-Milk\",AB77,0),0)))","v":""},{"$f":"IF(Süt!$B18=\"\",\"\",IF(Süt!$C18<=0,\"\",IF(AND(AnimalType=\"Buzağı\",MID(AN16,1,9)=\"Calf Feed\")=TRUE,IF(AN16=\"Calf Feed-Milk\",0,AA47),AA47)))","v":""},{"$f":"IF(Süt!$B18=\"\",\"\",IF(Süt!$C18<=0,\"\",IF(AND(AnimalType=\"Buzağı\",MID(AN16,1,9)=\"Calf Feed\")=TRUE,IF(AN16=\"Calf Feed-Milk\",0,AA47*V47),0)))","v":""},{"$f":"IF(Süt!$B18=\"\",\"\",IF(Süt!$C18<=0,\"\",IF(AND(AnimalType=\"Buzağı\",MID(AN16,1,9)=\"Calf Feed\")=TRUE,IF(AN16=\"Calf Feed-Milk\",0,AC77),AC77)))","v":""},{"$f":"IF(Süt!$B18=\"\",\"\",IF(Süt!$C18<=0,\"\",IF(AND(AnimalType=\"Buzağı\",MID(AN16,1,9)=\"Calf Feed\")=TRUE,IF(AN16=\"Calf Feed-Milk\",0,AB77),AB47)))","v":""},{"$f":"IF(Süt!$B18=\"\",\"\",IF(Süt!$C18<=0,\"\",IF(AND(AnimalType=\"Buzağı\",MID(AN16,1,9)=\"Calf Feed\")=TRUE,IF(V47<>0,0.86*(AA47*V47),0),0.75*(AA47*V47))))","v":""},{"$f":"IF(Süt!$B18=\"\",\"\",IF(Süt!$C18<=0,\"\",IF(AND(AnimalType=\"Buzağı\",MID(AN16,1,9)=\"Calf Feed\")=TRUE,IF(V47<>0,0.69*(AA47*V47),0),0.57*(AA47*V47))))","v":""},{"$f":"IF(Süt!$B18=\"\",\"\",IF(Süt!$C18<=0,\"\",IF(AND(AnimalType=\"Buzağı\",MID(AN16,1,9)=\"Calf Feed\")=TRUE,IF(V47<>0,V47,0),V47)))","v":""},null,null,"NE_CS",{"$f":"IF(CS<HedefCS,(HedefCS-CS)*Gain1CS,IF(CS>HedefCS,(HedefCS-CS)*Lose1CS,0))","v":0},null,null,null,null,null,null,null,"x_2",{"$f":"IF(((RUP_Total * 1000) + EndCP + MCP_Total) > 0, ((RUP_Total * 1000) / ((RUP_Total * 1000) + EndCP + MCP_Total)) * 100,0)","v":30.786477755877844},null,null,null,null,null,null,null,null,null,null,null,null,5,1.05,null,"Pasture",{"$f":"IF(DryMatterIntake<=TotalDMFed,0,IF(DryMatterIntake>0,(DryMatterIntake-TotalDMFed)/DryMatterIntake,0))","v":1.0695767743137095E-3},"percent of the predicted dry matter intake supplied by grazing",null,null,null,null,null,null,null,null,null,null,"Wet"]
[null,null,"RUP(2X)","RUP(4X)","RUP","RDP","KMkatsayı",{"$f":"BW_DMI","v":3.2520244852540925},null,4.5816715542521989,null,null,null,null,null,null,"Sağmal İnek",null,"Kurudaki İnek",null,"Damızlık Düve",null,null,null,{"$f":"IF(Süt!$B19=\"\",\"\",IF(Süt!$C19<=0,\"\",IF(MID(AN17,1,9)=\"Calf Feed\",$AA48*Y17,0)))","v":""},{"$f":"IF(Süt!$B19=\"\",\"\",IF(Süt!$C19<=0,\"\",IF(MID(AN17,1,9)=\"Calf Feed\",$AA48*Z17,0)))","v":""},{"$f":"IF(Süt!$B19=\"\",\"\",IF(Süt!$C19<=0,\"\",IF(MID($AN17,1,9)=\"Calf Feed\",$AA48*V48,0)))","v":""},{"$f":"IF(Süt!$B19=\"\",\"\",IF(Süt!$C19<=0,\"\",IF(MID($AN17,1,9)=\"Calf Feed\",$AA48*(AB17/100),AB48/1000)))","v":""},{"$f":"IF(Süt!$B19=\"\",\"\",IF(Süt!$C19<=0,\"\",IF(MID(AN17,1,9)=\"Calf Feed\",AA48*(AB17/100),AB48/1000*0.75)))","v":""},{"$f":"IF(Süt!$B19=\"\",\"\",IF(Süt!$C19<=0,\"\",IF(MID($AN17,1,9)=\"Calf Feed\",$AA48*(AF17/100),0)))","v":""},"I","mg/gün",{"$f":"IF(AnimalType<>\"Buzağı\",0,0)","v":0},0,0,{"$f":"IF(AnimalType<>\"Buzağı\",IF(DaysInMilk>0,0,0.6*(BW/100)),0)","v":0},0,{"$f":"IF(AnimalType<>\"Buzağı\",0,0)","v":0},{"$f":"IF(AnimalType<>\"Buzağı\",IF(DaysInMilk>0,1.5*(BW/100),0),0)","v":9.75},{"$f":"IF(AnimalType<>\"Buzağı\",IF(OR(Age<(FirstCalf+CalfInt),LactNum<=1)=TRUE,0,0),0)","v":0},{"$f":"IF(AnimalType<>\"Buzağı\",AK78+AL78+AM78+AN78,0.25*TotalDMFed)","v":9.75},{"$f":"CE31","v":16.830556999999999},{"$f":"CF31","v":14.30597345},4.5559734499999998,0.79621677920304734,0,0.5,0.25,0.25,{"$f":"IF(Süt!$B19=\"\",\"\",IF(Süt!$C19<=0,\"\",IF(ISERROR(((($AA48 / TotalDMFed) * ($AB17 / 100) * (($AV48 * 1000) / $AB48) * ($AW17 / 100) * (AX17 / 100) * TotalDMFed) * 1000))=TRUE,0,((($AA48 / TotalDMFed) * ($AB17 / 100) * (($AV48 * 1000) / $AB48) * ($AW17 / 100) * (AX17 / 100) * TotalDMFed) * 1000))))","v":""},{"$f":"IF(Süt!$B19=\"\",\"\",IF(Süt!$C19<=0,\"\",IF(ISERROR(((($AA48 / TotalDMFed) * ($AB17 / 100) * (($AV48 * 1000) / $AB48) * ($AW17 / 100) * (AY17 / 100) * TotalDMFed) * 1000))=TRUE,0,((($AA48 / TotalDMFed) * ($AB17 / 100) * (($AV48 * 1000) / $AB48) * ($AW17 / 100) * (AY17 / 100) * TotalDMFed) * 1000))))","v":""},{"$f":"IF(Süt!$B19=\"\",\"\",IF(Süt!$C19<=0,\"\",IF(ISERROR(((($AA48 / TotalDMFed) * ($AB17 / 100) * (($AV48 * 1000) / $AB48) * ($AW17 / 100) * (AZ17 / 100) * TotalDMFed) * 1000))=TRUE,0,((($AA48 / TotalDMFed) * ($AB17 / 100) * (($AV48 * 1000) / $AB48) * ($AW17 / 100) * (AZ17 / 100) * TotalDMFed) * 1000))))","v":""},{"$f":"IF(Süt!$B19=\"\",\"\",IF(Süt!$C19<=0,\"\",IF(ISERROR(((($AA48 / TotalDMFed) * ($AB17 / 100) * (($AV48 * 1000) / $AB48) * ($AW17 / 100) * (BA17 / 100) * TotalDMFed) * 1000))=TRUE,0,((($AA48 / TotalDMFed) * ($AB17 / 100) * (($AV48 * 1000) / $AB48) * ($AW17 / 100) * (BA17 / 100) * TotalDMFed) * 1000))))","v":""},{"$f":"IF(Süt!$B19=\"\",\"\",IF(Süt!$C19<=0,\"\",IF(ISERROR(((($AA48 / TotalDMFed) * ($AB17 / 100) * (($AV48 * 1000) / $AB48) * ($AW17 / 100) * (BB17 / 100) * TotalDMFed) * 1000))=TRUE,0,((($AA48 / TotalDMFed) * ($AB17 / 100) * (($AV48 * 1000) / $AB48) * ($AW17 / 100) * (BB17 / 100) * TotalDMFed) * 1000))))","v":""},{"$f":"IF(Süt!$B19=\"\",\"\",IF(Süt!$C19<=0,\"\",IF(ISERROR(((($AA48 / TotalDMFed) * ($AB17 / 100) * (($AV48 * 1000) / $AB48) * ($AW17 / 100) * (BC17 / 100) * TotalDMFed) * 1000))=TRUE,0,((($AA48 / TotalDMFed) * ($AB17 / 100) * (($AV48 * 1000) / $AB48) * ($AW17 / 100) * (BC17 / 100) * TotalDMFed) * 1000))))","v":""},{"$f":"IF(Süt!$B19=\"\",\"\",IF(Süt!$C19<=0,\"\",IF(ISERROR(((($AA48 / TotalDMFed) * ($AB17 / 100) * (($AV48 * 1000) / $AB48) * ($AW17 / 100) * (BD17 / 100) * TotalDMFed) * 1000))=TRUE,0,((($AA48 / TotalDMFed) * ($AB17 / 100) * (($AV48 * 1000) / $AB48) * ($AW17 / 100) * (BD17 / 100) * TotalDMFed) * 1000))))","v":""},{"$f":"IF(Süt!$B19=\"\",\"\",IF(Süt!$C19<=0,\"\",IF(ISERROR(((($AA48 / TotalDMFed) * ($AB17 / 100) * (($AV48 * 1000) / $AB48) * ($AW17 / 100) * (BE17 / 100) * TotalDMFed) * 1000))=TRUE,0,((($AA48 / TotalDMFed) * ($AB17 / 100) * (($AV48 * 1000) / $AB48) * ($AW17 / 100) * (BE17 / 100) * TotalDMFed) * 1000))))","v":""},{"$f":"IF(Süt!$B19=\"\",\"\",IF(Süt!$C19<=0,\"\",IF(ISERROR(((($AA48 / TotalDMFed) * ($AB17 / 100) * (($AV48 * 1000) / $AB48) * ($AW17 / 100) * (BF17 / 100) * TotalDMFed) * 1000))=TRUE,0,((($AA48 / TotalDMFed) * ($AB17 / 100) * (($AV48 * 1000) / $AB48) * ($AW17 / 100) * (BF17 / 100) * TotalDMFed) * 1000))))","v":""},{"$f":"IF(Süt!$B19=\"\",\"\",IF(Süt!$C19<=0,\"\",IF(ISERROR(((($AA48 / TotalDMFed) * ($AB17 / 100) * (($AV48 * 1000) / $AB48) * ($AW17 / 100) * (BG17 / 100) * TotalDMFed) * 1000))=TRUE,0,((($AA48 / TotalDMFed) * ($AB17 / 100) * (($AV48 * 1000) / $AB48) * ($AW17 / 100) * (BG17 / 100) * TotalDMFed) * 1000))))","v":""},{"$f":"IF(Süt!$B19=\"\",\"\",IF(Süt!$C19<=0,\"\",IF(ISERROR(((($AA48 / TotalDMFed) * ($AB17 / 100) * (($AV48 * 1000) / $AB48) * ($AW17 / 100) * (BH17 / 100) * TotalDMFed) * 1000))=TRUE,0,((($AA48 / TotalDMFed) * ($AB17 / 100) * (($AV48 * 1000) / $AB48) * ($AW17 / 100) * (BH17 / 100) * TotalDMFed) * 1000))))","v":""},null,{"$f":"IF(Süt!$B19=\"\",\"\",IF(Süt!$C19<=0,\"\",IF(AND(AnimalType=\"Buzağı\",MID(AN17,1,9)=\"Calf Feed\")=TRUE,IF(AN17=\"Calf Feed-Milk\",AA48,0),0)))","v":""},{"$f":"IF(Süt!$B19=\"\",\"\",IF(Süt!$C19<=0,\"\",IF(AND(AnimalType=\"Buzağı\",MID(AN17,1,9)=\"Calf Feed\")=TRUE,IF(AN17=\"Calf Feed-Milk\",AA48*V48,0),0)))","v":""},{"$f":"IF(Süt!$B19=\"\",\"\",IF(Süt!$C19<=0,\"\",IF(AND(AnimalType=\"Buzağı\",MID(AN17,1,9)=\"Calf Feed\")=TRUE,IF(AN17=\"Calf Feed-Milk\",AC78,0),0)))","v":""},{"$f":"IF(Süt!$B19=\"\",\"\",IF(Süt!$C19<=0,\"\",IF(AND(AnimalType=\"Buzağı\",MID(AN17,1,9)=\"Calf Feed\")=TRUE,IF(AN17=\"Calf Feed-Milk\",AB78,0),0)))","v":""},{"$f":"IF(Süt!$B19=\"\",\"\",IF(Süt!$C19<=0,\"\",IF(AND(AnimalType=\"Buzağı\",MID(AN17,1,9)=\"Calf Feed\")=TRUE,IF(AN17=\"Calf Feed-Milk\",0,AA48),AA48)))","v":""},{"$f":"IF(Süt!$B19=\"\",\"\",IF(Süt!$C19<=0,\"\",IF(AND(AnimalType=\"Buzağı\",MID(AN17,1,9)=\"Calf Feed\")=TRUE,IF(AN17=\"Calf Feed-Milk\",0,AA48*V48),0)))","v":""},{"$f":"IF(Süt!$B19=\"\",\"\",IF(Süt!$C19<=0,\"\",IF(AND(AnimalType=\"Buzağı\",MID(AN17,1,9)=\"Calf Feed\")=TRUE,IF(AN17=\"Calf Feed-Milk\",0,AC78),AC78)))","v":""},{"$f":"IF(Süt!$B19=\"\",\"\",IF(Süt!$C19<=0,\"\",IF(AND(AnimalType=\"Buzağı\",MID(AN17,1,9)=\"Calf Feed\")=TRUE,IF(AN17=\"Calf Feed-Milk\",0,AB78),AB48)))","v":""},{"$f":"IF(Süt!$B19=\"\",\"\",IF(Süt!$C19<=0,\"\",IF(AND(AnimalType=\"Buzağı\",MID(AN17,1,9)=\"Calf Feed\")=TRUE,IF(V48<>0,0.86*(AA48*V48),0),0.75*(AA48*V48))))","v":""},{"$f":"IF(Süt!$B19=\"\",\"\",IF(Süt!$C19<=0,\"\",IF(AND(AnimalType=\"Buzağı\",MID(AN17,1,9)=\"Calf Feed\")=TRUE,IF(V48<>0,0.69*(AA48*V48),0),0.57*(AA48*V48))))","v":""},{"$f":"IF(Süt!$B19=\"\",\"\",IF(Süt!$C19<=0,\"\",IF(AND(AnimalType=\"Buzağı\",MID(AN17,1,9)=\"Calf Feed\")=TRUE,IF(V48<>0,V48,0),V48)))","v":""},null,null,null,null,null,null,null,null,null,null,null,"MPBact",{"$f":" 0.64 * MCP_Total","v":1121.5034453019425},null,null,null,null,null,null,null,null,null,null,null,null,6,1.048,null,"NEmact",{"$f":"IF(Grazing=\"Otlamıyor\",0,IF(AND(AnimalType=\"Damızlık Düve\",Topography=\"Engebeli\")=TRUE,(((Distance/1000)*Trips)*(0.00045*BW))+((0.0009*BW)+(0.0016*BW)+(0.006*BW)),IF(AnimalType=\"Damızlık Düve\",(((Distance/1000)*Trips)*(0.00045*BW))+((0.0009*BW)+(0.0016*BW)),IF(Topography=\"Engebeli\",((((Distance/1000)*Trips)*(0.00045*BW))+(0.0012*BW)+(0.006*BW)),((((Distance/1000)*Trips)*(0.00045*BW))+(0.0012*BW))))))","v":0},"düve için meraya gidiş geliş ekledik",null,null,null,null,null,null,null,null,null,null,"Dry"]
[null,null,null,null,"modi","modi",null,null,null,null,null,null,null,null,null,"Min.Kaba yemNDF,%KM",15,19,null,null,null,null,null,null,{"$f":"IF(Süt!$B20=\"\",\"\",IF(Süt!$C20<=0,\"\",IF(MID(AN18,1,9)=\"Calf Feed\",$AA49*Y18,0)))","v":""},{"$f":"IF(Süt!$B20=\"\",\"\",IF(Süt!$C20<=0,\"\",IF(MID(AN18,1,9)=\"Calf Feed\",$AA49*Z18,0)))","v":""},{"$f":"IF(Süt!$B20=\"\",\"\",IF(Süt!$C20<=0,\"\",IF(MID($AN18,1,9)=\"Calf Feed\",$AA49*V49,0)))","v":""},{"$f":"IF(Süt!$B20=\"\",\"\",IF(Süt!$C20<=0,\"\",IF(MID($AN18,1,9)=\"Calf Feed\",$AA49*(AB18/100),AB49/1000)))","v":""},{"$f":"IF(Süt!$B20=\"\",\"\",IF(Süt!$C20<=0,\"\",IF(MID(AN18,1,9)=\"Calf Feed\",AA49*(AB18/100),AB49/1000*0.75)))","v":""},{"$f":"IF(Süt!$B20=\"\",\"\",IF(Süt!$C20<=0,\"\",IF(MID($AN18,1,9)=\"Calf Feed\",$AA49*(AF18/100),0)))","v":""},"Fe","mg/gün",{"$f":"IF(AnimalType<>\"Buzağı\",0,0)","v":0},0,0,{"$f":"IF(AnimalType<>\"Buzağı\",0,0)","v":0},0,{"$f":"IF(AnimalType<>\"Buzağı\",IF(DaysPreg>190,18,0),0)","v":0},{"$f":"IF(AnimalType<>\"Buzağı\",1*MilkProd,0)","v":25},{"$f":"IF(AnimalType<>\"Buzağı\",IF(OR(Age<(FirstCalf+CalfInt),LactNum<=1)=TRUE,34 * (WG / 0.96),0),0)","v":0},{"$f":"IF(AnimalType<>\"Buzağı\",AK79+AL79+AM79+AN79,IF(StarterDMI=0,100*TotalDMFed,50*TotalDMFed))","v":25},{"$f":"CG31","v":3556.5462155099831},{"$f":"CH31","v":355.65462155099829},330.65462155099829,168.25240975685747,0,100,50,50,{"$f":"IF(Süt!$B20=\"\",\"\",IF(Süt!$C20<=0,\"\",IF(ISERROR(((($AA49 / TotalDMFed) * ($AB18 / 100) * (($AV49 * 1000) / $AB49) * ($AW18 / 100) * (AX18 / 100) * TotalDMFed) * 1000))=TRUE,0,((($AA49 / TotalDMFed) * ($AB18 / 100) * (($AV49 * 1000) / $AB49) * ($AW18 / 100) * (AX18 / 100) * TotalDMFed) * 1000))))","v":""},{"$f":"IF(Süt!$B20=\"\",\"\",IF(Süt!$C20<=0,\"\",IF(ISERROR(((($AA49 / TotalDMFed) * ($AB18 / 100) * (($AV49 * 1000) / $AB49) * ($AW18 / 100) * (AY18 / 100) * TotalDMFed) * 1000))=TRUE,0,((($AA49 / TotalDMFed) * ($AB18 / 100) * (($AV49 * 1000) / $AB49) * ($AW18 / 100) * (AY18 / 100) * TotalDMFed) * 1000))))","v":""},{"$f":"IF(Süt!$B20=\"\",\"\",IF(Süt!$C20<=0,\"\",IF(ISERROR(((($AA49 / TotalDMFed) * ($AB18 / 100) * (($AV49 * 1000) / $AB49) * ($AW18 / 100) * (AZ18 / 100) * TotalDMFed) * 1000))=TRUE,0,((($AA49 / TotalDMFed) * ($AB18 / 100) * (($AV49 * 1000) / $AB49) * ($AW18 / 100) * (AZ18 / 100) * TotalDMFed) * 1000))))","v":""},{"$f":"IF(Süt!$B20=\"\",\"\",IF(Süt!$C20<=0,\"\",IF(ISERROR(((($AA49 / TotalDMFed) * ($AB18 / 100) * (($AV49 * 1000) / $AB49) * ($AW18 / 100) * (BA18 / 100) * TotalDMFed) * 1000))=TRUE,0,((($AA49 / TotalDMFed) * ($AB18 / 100) * (($AV49 * 1000) / $AB49) * ($AW18 / 100) * (BA18 / 100) * TotalDMFed) * 1000))))","v":""},{"$f":"IF(Süt!$B20=\"\",\"\",IF(Süt!$C20<=0,\"\",IF(ISERROR(((($AA49 / TotalDMFed) * ($AB18 / 100) * (($AV49 * 1000) / $AB49) * ($AW18 / 100) * (BB18 / 100) * TotalDMFed) * 1000))=TRUE,0,((($AA49 / TotalDMFed) * ($AB18 / 100) * (($AV49 * 1000) / $AB49) * ($AW18 / 100) * (BB18 / 100) * TotalDMFed) * 1000))))","v":""},{"$f":"IF(Süt!$B20=\"\",\"\",IF(Süt!$C20<=0,\"\",IF(ISERROR(((($AA49 / TotalDMFed) * ($AB18 / 100) * (($AV49 * 1000) / $AB49) * ($AW18 / 100) * (BC18 / 100) * TotalDMFed) * 1000))=TRUE,0,((($AA49 / TotalDMFed) * ($AB18 / 100) * (($AV49 * 1000) / $AB49) * ($AW18 / 100) * (BC18 / 100) * TotalDMFed) * 1000))))","v":""},{"$f":"IF(Süt!$B20=\"\",\"\",IF(Süt!$C20<=0,\"\",IF(ISERROR(((($AA49 / TotalDMFed) * ($AB18 / 100) * (($AV49 * 1000) / $AB49) * ($AW18 / 100) * (BD18 / 100) * TotalDMFed) * 1000))=TRUE,0,((($AA49 / TotalDMFed) * ($AB18 / 100) * (($AV49 * 1000) / $AB49) * ($AW18 / 100) * (BD18 / 100) * TotalDMFed) * 1000))))","v":""},{"$f":"IF(Süt!$B20=\"\",\"\",IF(Süt!$C20<=0,\"\",IF(ISERROR(((($AA49 / TotalDMFed) * ($AB18 / 100) * (($AV49 * 1000) / $AB49) * ($AW18 / 100) * (BE18 / 100) * TotalDMFed) * 1000))=TRUE,0,((($AA49 / TotalDMFed) * ($AB18 / 100) * (($AV49 * 1000) / $AB49) * ($AW18 / 100) * (BE18 / 100) * TotalDMFed) * 1000))))","v":""},{"$f":"IF(Süt!$B20=\"\",\"\",IF(Süt!$C20<=0,\"\",IF(ISERROR(((($AA49 / TotalDMFed) * ($AB18 / 100) * (($AV49 * 1000) / $AB49) * ($AW18 / 100) * (BF18 / 100) * TotalDMFed) * 1000))=TRUE,0,((($AA49 / TotalDMFed) * ($AB18 / 100) * (($AV49 * 1000) / $AB49) * ($AW18 / 100) * (BF18 / 100) * TotalDMFed) * 1000))))","v":""},{"$f":"IF(Süt!$B20=\"\",\"\",IF(Süt!$C20<=0,\"\",IF(ISERROR(((($AA49 / TotalDMFed) * ($AB18 / 100) * (($AV49 * 1000) / $AB49) * ($AW18 / 100) * (BG18 / 100) * TotalDMFed) * 1000))=TRUE,0,((($AA49 / TotalDMFed) * ($AB18 / 100) * (($AV49 * 1000) / $AB49) * ($AW18 / 100) * (BG18 / 100) * TotalDMFed) * 1000))))","v":""},{"$f":"IF(Süt!$B20=\"\",\"\",IF(Süt!$C20<=0,\"\",IF(ISERROR(((($AA49 / TotalDMFed) * ($AB18 / 100) * (($AV49 * 1000) / $AB49) * ($AW18 / 100) * (BH18 / 100) * TotalDMFed) * 1000))=TRUE,0,((($AA49 / TotalDMFed) * ($AB18 / 100) * (($AV49 * 1000) / $AB49) * ($AW18 / 100) * (BH18 / 100) * TotalDMFed) * 1000))))","v":""},null,{"$f":"IF(Süt!$B20=\"\",\"\",IF(Süt!$C20<=0,\"\",IF(AND(AnimalType=\"Buzağı\",MID(AN18,1,9)=\"Calf Feed\")=TRUE,IF(AN18=\"Calf Feed-Milk\",AA49,0),0)))","v":""},{"$f":"IF(Süt!$B20=\"\",\"\",IF(Süt!$C20<=0,\"\",IF(AND(AnimalType=\"Buzağı\",MID(AN18,1,9)=\"Calf Feed\")=TRUE,IF(AN18=\"Calf Feed-Milk\",AA49*V49,0),0)))","v":""},{"$f":"IF(Süt!$B20=\"\",\"\",IF(Süt!$C20<=0,\"\",IF(AND(AnimalType=\"Buzağı\",MID(AN18,1,9)=\"Calf Feed\")=TRUE,IF(AN18=\"Calf Feed-Milk\",AC79,0),0)))","v":""},{"$f":"IF(Süt!$B20=\"\",\"\",IF(Süt!$C20<=0,\"\",IF(AND(AnimalType=\"Buzağı\",MID(AN18,1,9)=\"Calf Feed\")=TRUE,IF(AN18=\"Calf Feed-Milk\",AB79,0),0)))","v":""},{"$f":"IF(Süt!$B20=\"\",\"\",IF(Süt!$C20<=0,\"\",IF(AND(AnimalType=\"Buzağı\",MID(AN18,1,9)=\"Calf Feed\")=TRUE,IF(AN18=\"Calf Feed-Milk\",0,AA49),AA49)))","v":""},{"$f":"IF(Süt!$B20=\"\",\"\",IF(Süt!$C20<=0,\"\",IF(AND(AnimalType=\"Buzağı\",MID(AN18,1,9)=\"Calf Feed\")=TRUE,IF(AN18=\"Calf Feed-Milk\",0,AA49*V49),0)))","v":""},{"$f":"IF(Süt!$B20=\"\",\"\",IF(Süt!$C20<=0,\"\",IF(AND(AnimalType=\"Buzağı\",MID(AN18,1,9)=\"Calf Feed\")=TRUE,IF(AN18=\"Calf Feed-Milk\",0,AC79),AC79)))","v":""},{"$f":"IF(Süt!$B20=\"\",\"\",IF(Süt!$C20<=0,\"\",IF(AND(AnimalType=\"Buzağı\",MID(AN18,1,9)=\"Calf Feed\")=TRUE,IF(AN18=\"Calf Feed-Milk\",0,AB79),AB49)))","v":""},{"$f":"IF(Süt!$B20=\"\",\"\",IF(Süt!$C20<=0,\"\",IF(AND(AnimalType=\"Buzağı\",MID(AN18,1,9)=\"Calf Feed\")=TRUE,IF(V49<>0,0.86*(AA49*V49),0),0.75*(AA49*V49))))","v":""},{"$f":"IF(Süt!$B20=\"\",\"\",IF(Süt!$C20<=0,\"\",IF(AND(AnimalType=\"Buzağı\",MID(AN18,1,9)=\"Calf Feed\")=TRUE,IF(V49<>0,0.69*(AA49*V49),0),0.57*(AA49*V49))))","v":""},{"$f":"IF(Süt!$B20=\"\",\"\",IF(Süt!$C20<=0,\"\",IF(AND(AnimalType=\"Buzağı\",MID(AN18,1,9)=\"Calf Feed\")=TRUE,IF(V49<>0,V49,0),V49)))","v":""},null,null,null,null,null,null,null,null,null,null,null,"MPFeed",{"$f":" TotalDigestedRUP","v":0.67673542646929241},null,null,null,null,null,null,null,null,null,null,null,null,7,1.046,null,"NEmact-eski",{"$f":"IF(Grazing=\"Otlamıyor\",0,IF(AND(AnimalType=\"Damızlık Düve\",Topography=\"Engebeli\")=TRUE,((0.0009*BW)+(0.0016*BW)+(0.006*BW)),IF(AnimalType=\"Damızlık Düve\",((0.0009*BW)+(0.0016*BW)),IF(Topography=\"Engebeli\",((((Distance/1000)*Trips)*(0.00045*BW))+(0.0012*BW)+(0.006*BW)),((((Distance/1000)*Trips)*(0.00045*BW))+(0.0012*BW))))))","v":0},"activity factor on the NEMaint requirement",null,null,null,null,null,null,null,null,null,null,"Conc"]
[null,null,{"$f":"IF(Süt!$B5=\"\",\"\",IF(Süt!$C5<=0,\"\",(AU3/ 100) * (AB3/100)*AA34))","v":0.16789320000000002},{"$f":"IF(Süt!$B5=\"\",\"\",IF(Süt!$C5<=0,\"\",(AV3/ 100) * (AB3/100)*AA34))","v":0.17578080000000001},{"$f":"IF(Süt!$B5=\"\",\"\",IF(Süt!$C5<=0,\"\",IF((AT3+AN34)>0,   IF(BW_DMI<2,  C80,  C80+(BW_DMI-2)*((D80-C80)/2) ),0)))","v":0.1728309341649451},{"$f":"IF(ISERROR(AB34/1000 - E80)=TRUE,0,AB34/1000 - E80)","v":0.39056906583505502},"KM tüketimine göre",{"$f":"IF(BW_DMI<2,E77,IF(BW_DMI<4, C77+(BW_DMI-2)*((D77-C77)/2),D77))","v":0.89040024723631428},null,1.9228841767515863,null,null,null,null,null,"Min.NDF,%KM",25,33,33,33,30,33,null,null,{"$f":"IF(Süt!$B21=\"\",\"\",IF(Süt!$C21<=0,\"\",IF(MID(AN19,1,9)=\"Calf Feed\",$AA50*Y19,0)))","v":""},{"$f":"IF(Süt!$B21=\"\",\"\",IF(Süt!$C21<=0,\"\",IF(MID(AN19,1,9)=\"Calf Feed\",$AA50*Z19,0)))","v":""},{"$f":"IF(Süt!$B21=\"\",\"\",IF(Süt!$C21<=0,\"\",IF(MID($AN19,1,9)=\"Calf Feed\",$AA50*V50,0)))","v":""},{"$f":"IF(Süt!$B21=\"\",\"\",IF(Süt!$C21<=0,\"\",IF(MID($AN19,1,9)=\"Calf Feed\",$AA50*(AB19/100),AB50/1000)))","v":""},{"$f":"IF(Süt!$B21=\"\",\"\",IF(Süt!$C21<=0,\"\",IF(MID(AN19,1,9)=\"Calf Feed\",AA50*(AB19/100),AB50/1000*0.75)))","v":""},{"$f":"IF(Süt!$B21=\"\",\"\",IF(Süt!$C21<=0,\"\",IF(MID($AN19,1,9)=\"Calf Feed\",$AA50*(AF19/100),0)))","v":""},"Mn","mg/gün",{"$f":"IF(AnimalType<>\"Buzağı\",0.002*BW,0)","v":1.3},0,0,{"$f":"IF(AnimalType<>\"Buzağı\",0,0)","v":0},1.3,{"$f":"IF(AnimalType<>\"Buzağı\",IF(DaysPreg>190,0.3,0),0)","v":0},{"$f":"IF(AnimalType<>\"Buzağı\",IF(DaysInMilk>0,0,0.03*MilkProd),0)","v":0},{"$f":"IF(AnimalType<>\"Buzağı\",IF(OR(Age<(FirstCalf+CalfInt),LactNum<=1)=TRUE,0.7 * (WG / 0.96),0),0)","v":0},{"$f":"IF(AnimalType<>\"Buzağı\",AK80+AL80+AM80+AN80,40*TotalDMFed)","v":1.3},{"$f":"CI31","v":1750.7478615312052},{"$f":"CJ31","v":17.507478615312053},16.207478615312052,82.824045782026047,0,40,40,40,{"$f":"IF(Süt!$B21=\"\",\"\",IF(Süt!$C21<=0,\"\",IF(ISERROR(((($AA50 / TotalDMFed) * ($AB19 / 100) * (($AV50 * 1000) / $AB50) * ($AW19 / 100) * (AX19 / 100) * TotalDMFed) * 1000))=TRUE,0,((($AA50 / TotalDMFed) * ($AB19 / 100) * (($AV50 * 1000) / $AB50) * ($AW19 / 100) * (AX19 / 100) * TotalDMFed) * 1000))))","v":""},{"$f":"IF(Süt!$B21=\"\",\"\",IF(Süt!$C21<=0,\"\",IF(ISERROR(((($AA50 / TotalDMFed) * ($AB19 / 100) * (($AV50 * 1000) / $AB50) * ($AW19 / 100) * (AY19 / 100) * TotalDMFed) * 1000))=TRUE,0,((($AA50 / TotalDMFed) * ($AB19 / 100) * (($AV50 * 1000) / $AB50) * ($AW19 / 100) * (AY19 / 100) * TotalDMFed) * 1000))))","v":""},{"$f":"IF(Süt!$B21=\"\",\"\",IF(Süt!$C21<=0,\"\",IF(ISERROR(((($AA50 / TotalDMFed) * ($AB19 / 100) * (($AV50 * 1000) / $AB50) * ($AW19 / 100) * (AZ19 / 100) * TotalDMFed) * 1000))=TRUE,0,((($AA50 / TotalDMFed) * ($AB19 / 100) * (($AV50 * 1000) / $AB50) * ($AW19 / 100) * (AZ19 / 100) * TotalDMFed) * 1000))))","v":""},{"$f":"IF(Süt!$B21=\"\",\"\",IF(Süt!$C21<=0,\"\",IF(ISERROR(((($AA50 / TotalDMFed) * ($AB19 / 100) * (($AV50 * 1000) / $AB50) * ($AW19 / 100) * (BA19 / 100) * TotalDMFed) * 1000))=TRUE,0,((($AA50 / TotalDMFed) * ($AB19 / 100) * (($AV50 * 1000) / $AB50) * ($AW19 / 100) * (BA19 / 100) * TotalDMFed) * 1000))))","v":""},{"$f":"IF(Süt!$B21=\"\",\"\",IF(Süt!$C21<=0,\"\",IF(ISERROR(((($AA50 / TotalDMFed) * ($AB19 / 100) * (($AV50 * 1000) / $AB50) * ($AW19 / 100) * (BB19 / 100) * TotalDMFed) * 1000))=TRUE,0,((($AA50 / TotalDMFed) * ($AB19 / 100) * (($AV50 * 1000) / $AB50) * ($AW19 / 100) * (BB19 / 100) * TotalDMFed) * 1000))))","v":""},{"$f":"IF(Süt!$B21=\"\",\"\",IF(Süt!$C21<=0,\"\",IF(ISERROR(((($AA50 / TotalDMFed) * ($AB19 / 100) * (($AV50 * 1000) / $AB50) * ($AW19 / 100) * (BC19 / 100) * TotalDMFed) * 1000))=TRUE,0,((($AA50 / TotalDMFed) * ($AB19 / 100) * (($AV50 * 1000) / $AB50) * ($AW19 / 100) * (BC19 / 100) * TotalDMFed) * 1000))))","v":""},{"$f":"IF(Süt!$B21=\"\",\"\",IF(Süt!$C21<=0,\"\",IF(ISERROR(((($AA50 / TotalDMFed) * ($AB19 / 100) * (($AV50 * 1000) / $AB50) * ($AW19 / 100) * (BD19 / 100) * TotalDMFed) * 1000))=TRUE,0,((($AA50 / TotalDMFed) * ($AB19 / 100) * (($AV50 * 1000) / $AB50) * ($AW19 / 100) * (BD19 / 100) * TotalDMFed) * 1000))))","v":""},{"$f":"IF(Süt!$B21=\"\",\"\",IF(Süt!$C21<=0,\"\",IF(ISERROR(((($AA50 / TotalDMFed) * ($AB19 / 100) * (($AV50 * 1000) / $AB50) * ($AW19 / 100) * (BE19 / 100) * TotalDMFed) * 1000))=TRUE,0,((($AA50 / TotalDMFed) * ($AB19 / 100) * (($AV50 * 1000) / $AB50) * ($AW19 / 100) * (BE19 / 100) * TotalDMFed) * 1000))))","v":""},{"$f":"IF(Süt!$B21=\"\",\"\",IF(Süt!$C21<=0,\"\",IF(ISERROR(((($AA50 / TotalDMFed) * ($AB19 / 100) * (($AV50 * 1000) / $AB50) * ($AW19 / 100) * (BF19 / 100) * TotalDMFed) * 1000))=TRUE,0,((($AA50 / TotalDMFed) * ($AB19 / 100) * (($AV50 * 1000) / $AB50) * ($AW19 / 100) * (BF19 / 100) * TotalDMFed) * 1000))))","v":""},{"$f":"IF(Süt!$B21=\"\",\"\",IF(Süt!$C21<=0,\"\",IF(ISERROR(((($AA50 / TotalDMFed) * ($AB19 / 100) * (($AV50 * 1000) / $AB50) * ($AW19 / 100) * (BG19 / 100) * TotalDMFed) * 1000))=TRUE,0,((($AA50 / TotalDMFed) * ($AB19 / 100) * (($AV50 * 1000) / $AB50) * ($AW19 / 100) * (BG19 / 100) * TotalDMFed) * 1000))))","v":""},{"$f":"IF(Süt!$B21=\"\",\"\",IF(Süt!$C21<=0,\"\",IF(ISERROR(((($AA50 / TotalDMFed) * ($AB19 / 100) * (($AV50 * 1000) / $AB50) * ($AW19 / 100) * (BH19 / 100) * TotalDMFed) * 1000))=TRUE,0,((($AA50 / TotalDMFed) * ($AB19 / 100) * (($AV50 * 1000) / $AB50) * ($AW19 / 100) * (BH19 / 100) * TotalDMFed) * 1000))))","v":""},null,{"$f":"IF(Süt!$B21=\"\",\"\",IF(Süt!$C21<=0,\"\",IF(AND(AnimalType=\"Buzağı\",MID(AN19,1,9)=\"Calf Feed\")=TRUE,IF(AN19=\"Calf Feed-Milk\",AA50,0),0)))","v":""},{"$f":"IF(Süt!$B21=\"\",\"\",IF(Süt!$C21<=0,\"\",IF(AND(AnimalType=\"Buzağı\",MID(AN19,1,9)=\"Calf Feed\")=TRUE,IF(AN19=\"Calf Feed-Milk\",AA50*V50,0),0)))","v":""},{"$f":"IF(Süt!$B21=\"\",\"\",IF(Süt!$C21<=0,\"\",IF(AND(AnimalType=\"Buzağı\",MID(AN19,1,9)=\"Calf Feed\")=TRUE,IF(AN19=\"Calf Feed-Milk\",AC80,0),0)))","v":""},{"$f":"IF(Süt!$B21=\"\",\"\",IF(Süt!$C21<=0,\"\",IF(AND(AnimalType=\"Buzağı\",MID(AN19,1,9)=\"Calf Feed\")=TRUE,IF(AN19=\"Calf Feed-Milk\",AB80,0),0)))","v":""},{"$f":"IF(Süt!$B21=\"\",\"\",IF(Süt!$C21<=0,\"\",IF(AND(AnimalType=\"Buzağı\",MID(AN19,1,9)=\"Calf Feed\")=TRUE,IF(AN19=\"Calf Feed-Milk\",0,AA50),AA50)))","v":""},{"$f":"IF(Süt!$B21=\"\",\"\",IF(Süt!$C21<=0,\"\",IF(AND(AnimalType=\"Buzağı\",MID(AN19,1,9)=\"Calf Feed\")=TRUE,IF(AN19=\"Calf Feed-Milk\",0,AA50*V50),0)))","v":""},{"$f":"IF(Süt!$B21=\"\",\"\",IF(Süt!$C21<=0,\"\",IF(AND(AnimalType=\"Buzağı\",MID(AN19,1,9)=\"Calf Feed\")=TRUE,IF(AN19=\"Calf Feed-Milk\",0,AC80),AC80)))","v":""},{"$f":"IF(Süt!$B21=\"\",\"\",IF(Süt!$C21<=0,\"\",IF(AND(AnimalType=\"Buzağı\",MID(AN19,1,9)=\"Calf Feed\")=TRUE,IF(AN19=\"Calf Feed-Milk\",0,AB80),AB50)))","v":""},{"$f":"IF(Süt!$B21=\"\",\"\",IF(Süt!$C21<=0,\"\",IF(AND(AnimalType=\"Buzağı\",MID(AN19,1,9)=\"Calf Feed\")=TRUE,IF(V50<>0,0.86*(AA50*V50),0),0.75*(AA50*V50))))","v":""},{"$f":"IF(Süt!$B21=\"\",\"\",IF(Süt!$C21<=0,\"\",IF(AND(AnimalType=\"Buzağı\",MID(AN19,1,9)=\"Calf Feed\")=TRUE,IF(V50<>0,0.69*(AA50*V50),0),0.57*(AA50*V50))))","v":""},{"$f":"IF(Süt!$B21=\"\",\"\",IF(Süt!$C21<=0,\"\",IF(AND(AnimalType=\"Buzağı\",MID(AN19,1,9)=\"Calf Feed\")=TRUE,IF(V50<>0,V50,0),V50)))","v":""},null,null,null,null,null,null,null,null,null,null,null,null,null,null,null,null,null,null,null,null,null,null,null,null,null,8,1.044,null,"NEMaintNS",{"$f":"IF(AnimalType=\"Damızlık Düve\",(((SBW-CW)^0.75)*((a_1*COMP)+a_2)),(((BW-CW)^0.75)*(a_1*COMP)))","v":10.298524451722679},"net energy requirement for maintenance without stress (Mcal/day)"]
[null,null,{"$f":"IF(Süt!$B6=\"\",\"\",IF(Süt!$C6<=0,\"\",(AU4/ 100) * (AB4/100)*AA35))","v":2.4092726767751222E-2},{"$f":"IF(Süt!$B6=\"\",\"\",IF(Süt!$C6<=0,\"\",(AV4/ 100) * (AB4/100)*AA35))","v":2.469189143867697E-2},{"$f":"IF(Süt!$B6=\"\",\"\",IF(Süt!$C6<=0,\"\",IF((AT4+AN35)>0,   IF(BW_DMI<2,  C81,  C81+(BW_DMI-2)*((D81-C81)/2) ),0)))","v":2.4467811187100345E-2},7.067171493202299E-3,"Kaba yem oranına göre",{"$f":"IF(H76<25,E77,IF(H76<50, C77+(H76-25)*((D77-C77)/25),D77))","v":0.93910502402439655},null,1.9228841767515863,null,null,null,null,null,"Min.ADF,%KM",17,21,21,21,20,21,null,null,{"$f":"IF(Süt!$B22=\"\",\"\",IF(Süt!$C22<=0,\"\",IF(MID(AN20,1,9)=\"Calf Feed\",$AA51*Y20,0)))","v":""},{"$f":"IF(Süt!$B22=\"\",\"\",IF(Süt!$C22<=0,\"\",IF(MID(AN20,1,9)=\"Calf Feed\",$AA51*Z20,0)))","v":""},{"$f":"IF(Süt!$B22=\"\",\"\",IF(Süt!$C22<=0,\"\",IF(MID($AN20,1,9)=\"Calf Feed\",$AA51*V51,0)))","v":""},{"$f":"IF(Süt!$B22=\"\",\"\",IF(Süt!$C22<=0,\"\",IF(MID($AN20,1,9)=\"Calf Feed\",$AA51*(AB20/100),AB51/1000)))","v":""},{"$f":"IF(Süt!$B22=\"\",\"\",IF(Süt!$C22<=0,\"\",IF(MID(AN20,1,9)=\"Calf Feed\",AA51*(AB20/100),AB51/1000*0.75)))","v":""},{"$f":"IF(Süt!$B22=\"\",\"\",IF(Süt!$C22<=0,\"\",IF(MID($AN20,1,9)=\"Calf Feed\",$AA51*(AF20/100),0)))","v":""},"Se","mg/gün",{"$f":"IF(AnimalType<>\"Buzağı\",0,0)","v":0},0,0,{"$f":"IF(AnimalType<>\"Buzağı\",0,0)","v":0},0,{"$f":"IF(AnimalType<>\"Buzağı\",0,0)","v":0},{"$f":"IF(AnimalType<>\"Buzağı\",0,0)","v":0},{"$f":"IF(AnimalType<>\"Buzağı\",IF(OR(Age<(FirstCalf+CalfInt),LactNum<=1)=TRUE,0,0),0)","v":0},{"$f":"0.3*TotalDMFed","v":6.3414477462454801},{"$f":"CK31","v":7.6554738707108685},{"$f":"CL31","v":7.6554738707108685},1.3140261244653884,0.36216369717356911,0,0.3,0.3,0.3,{"$f":"IF(Süt!$B22=\"\",\"\",IF(Süt!$C22<=0,\"\",IF(ISERROR(((($AA51 / TotalDMFed) * ($AB20 / 100) * (($AV51 * 1000) / $AB51) * ($AW20 / 100) * (AX20 / 100) * TotalDMFed) * 1000))=TRUE,0,((($AA51 / TotalDMFed) * ($AB20 / 100) * (($AV51 * 1000) / $AB51) * ($AW20 / 100) * (AX20 / 100) * TotalDMFed) * 1000))))","v":""},{"$f":"IF(Süt!$B22=\"\",\"\",IF(Süt!$C22<=0,\"\",IF(ISERROR(((($AA51 / TotalDMFed) * ($AB20 / 100) * (($AV51 * 1000) / $AB51) * ($AW20 / 100) * (AY20 / 100) * TotalDMFed) * 1000))=TRUE,0,((($AA51 / TotalDMFed) * ($AB20 / 100) * (($AV51 * 1000) / $AB51) * ($AW20 / 100) * (AY20 / 100) * TotalDMFed) * 1000))))","v":""},{"$f":"IF(Süt!$B22=\"\",\"\",IF(Süt!$C22<=0,\"\",IF(ISERROR(((($AA51 / TotalDMFed) * ($AB20 / 100) * (($AV51 * 1000) / $AB51) * ($AW20 / 100) * (AZ20 / 100) * TotalDMFed) * 1000))=TRUE,0,((($AA51 / TotalDMFed) * ($AB20 / 100) * (($AV51 * 1000) / $AB51) * ($AW20 / 100) * (AZ20 / 100) * TotalDMFed) * 1000))))","v":""},{"$f":"IF(Süt!$B22=\"\",\"\",IF(Süt!$C22<=0,\"\",IF(ISERROR(((($AA51 / TotalDMFed) * ($AB20 / 100) * (($AV51 * 1000) / $AB51) * ($AW20 / 100) * (BA20 / 100) * TotalDMFed) * 1000))=TRUE,0,((($AA51 / TotalDMFed) * ($AB20 / 100) * (($AV51 * 1000) / $AB51) * ($AW20 / 100) * (BA20 / 100) * TotalDMFed) * 1000))))","v":""},{"$f":"IF(Süt!$B22=\"\",\"\",IF(Süt!$C22<=0,\"\",IF(ISERROR(((($AA51 / TotalDMFed) * ($AB20 / 100) * (($AV51 * 1000) / $AB51) * ($AW20 / 100) * (BB20 / 100) * TotalDMFed) * 1000))=TRUE,0,((($AA51 / TotalDMFed) * ($AB20 / 100) * (($AV51 * 1000) / $AB51) * ($AW20 / 100) * (BB20 / 100) * TotalDMFed) * 1000))))","v":""},{"$f":"IF(Süt!$B22=\"\",\"\",IF(Süt!$C22<=0,\"\",IF(ISERROR(((($AA51 / TotalDMFed) * ($AB20 / 100) * (($AV51 * 1000) / $AB51) * ($AW20 / 100) * (BC20 / 100) * TotalDMFed) * 1000))=TRUE,0,((($AA51 / TotalDMFed) * ($AB20 / 100) * (($AV51 * 1000) / $AB51) * ($AW20 / 100) * (BC20 / 100) * TotalDMFed) * 1000))))","v":""},{"$f":"IF(Süt!$B22=\"\",\"\",IF(Süt!$C22<=0,\"\",IF(ISERROR(((($AA51 / TotalDMFed) * ($AB20 / 100) * (($AV51 * 1000) / $AB51) * ($AW20 / 100) * (BD20 / 100) * TotalDMFed) * 1000))=TRUE,0,((($AA51 / TotalDMFed) * ($AB20 / 100) * (($AV51 * 1000) / $AB51) * ($AW20 / 100) * (BD20 / 100) * TotalDMFed) * 1000))))","v":""},{"$f":"IF(Süt!$B22=\"\",\"\",IF(Süt!$C22<=0,\"\",IF(ISERROR(((($AA51 / TotalDMFed) * ($AB20 / 100) * (($AV51 * 1000) / $AB51) * ($AW20 / 100) * (BE20 / 100) * TotalDMFed) * 1000))=TRUE,0,((($AA51 / TotalDMFed) * ($AB20 / 100) * (($AV51 * 1000) / $AB51) * ($AW20 / 100) * (BE20 / 100) * TotalDMFed) * 1000))))","v":""},{"$f":"IF(Süt!$B22=\"\",\"\",IF(Süt!$C22<=0,\"\",IF(ISERROR(((($AA51 / TotalDMFed) * ($AB20 / 100) * (($AV51 * 1000) / $AB51) * ($AW20 / 100) * (BF20 / 100) * TotalDMFed) * 1000))=TRUE,0,((($AA51 / TotalDMFed) * ($AB20 / 100) * (($AV51 * 1000) / $AB51) * ($AW20 / 100) * (BF20 / 100) * TotalDMFed) * 1000))))","v":""},{"$f":"IF(Süt!$B22=\"\",\"\",IF(Süt!$C22<=0,\"\",IF(ISERROR(((($AA51 / TotalDMFed) * ($AB20 / 100) * (($AV51 * 1000) / $AB51) * ($AW20 / 100) * (BG20 / 100) * TotalDMFed) * 1000))=TRUE,0,((($AA51 / TotalDMFed) * ($AB20 / 100) * (($AV51 * 1000) / $AB51) * ($AW20 / 100) * (BG20 / 100) * TotalDMFed) * 1000))))","v":""},{"$f":"IF(Süt!$B22=\"\",\"\",IF(Süt!$C22<=0,\"\",IF(ISERROR(((($AA51 / TotalDMFed) * ($AB20 / 100) * (($AV51 * 1000) / $AB51) * ($AW20 / 100) * (BH20 / 100) * TotalDMFed) * 1000))=TRUE,0,((($AA51 / TotalDMFed) * ($AB20 / 100) * (($AV51 * 1000) / $AB51) * ($AW20 / 100) * (BH20 / 100) * TotalDMFed) * 1000))))","v":""},null,{"$f":"IF(Süt!$B22=\"\",\"\",IF(Süt!$C22<=0,\"\",IF(AND(AnimalType=\"Buzağı\",MID(AN20,1,9)=\"Calf Feed\")=TRUE,IF(AN20=\"Calf Feed-Milk\",AA51,0),0)))","v":""},{"$f":"IF(Süt!$B22=\"\",\"\",IF(Süt!$C22<=0,\"\",IF(AND(AnimalType=\"Buzağı\",MID(AN20,1,9)=\"Calf Feed\")=TRUE,IF(AN20=\"Calf Feed-Milk\",AA51*V51,0),0)))","v":""},{"$f":"IF(Süt!$B22=\"\",\"\",IF(Süt!$C22<=0,\"\",IF(AND(AnimalType=\"Buzağı\",MID(AN20,1,9)=\"Calf Feed\")=TRUE,IF(AN20=\"Calf Feed-Milk\",AC81,0),0)))","v":""},{"$f":"IF(Süt!$B22=\"\",\"\",IF(Süt!$C22<=0,\"\",IF(AND(AnimalType=\"Buzağı\",MID(AN20,1,9)=\"Calf Feed\")=TRUE,IF(AN20=\"Calf Feed-Milk\",AB81,0),0)))","v":""},{"$f":"IF(Süt!$B22=\"\",\"\",IF(Süt!$C22<=0,\"\",IF(AND(AnimalType=\"Buzağı\",MID(AN20,1,9)=\"Calf Feed\")=TRUE,IF(AN20=\"Calf Feed-Milk\",0,AA51),AA51)))","v":""},{"$f":"IF(Süt!$B22=\"\",\"\",IF(Süt!$C22<=0,\"\",IF(AND(AnimalType=\"Buzağı\",MID(AN20,1,9)=\"Calf Feed\")=TRUE,IF(AN20=\"Calf Feed-Milk\",0,AA51*V51),0)))","v":""},{"$f":"IF(Süt!$B22=\"\",\"\",IF(Süt!$C22<=0,\"\",IF(AND(AnimalType=\"Buzağı\",MID(AN20,1,9)=\"Calf Feed\")=TRUE,IF(AN20=\"Calf Feed-Milk\",0,AC81),AC81)))","v":""},{"$f":"IF(Süt!$B22=\"\",\"\",IF(Süt!$C22<=0,\"\",IF(AND(AnimalType=\"Buzağı\",MID(AN20,1,9)=\"Calf Feed\")=TRUE,IF(AN20=\"Calf Feed-Milk\",0,AB81),AB51)))","v":""},{"$f":"IF(Süt!$B22=\"\",\"\",IF(Süt!$C22<=0,\"\",IF(AND(AnimalType=\"Buzağı\",MID(AN20,1,9)=\"Calf Feed\")=TRUE,IF(V51<>0,0.86*(AA51*V51),0),0.75*(AA51*V51))))","v":""},{"$f":"IF(Süt!$B22=\"\",\"\",IF(Süt!$C22<=0,\"\",IF(AND(AnimalType=\"Buzağı\",MID(AN20,1,9)=\"Calf Feed\")=TRUE,IF(V51<>0,0.69*(AA51*V51),0),0.57*(AA51*V51))))","v":""},{"$f":"IF(Süt!$B22=\"\",\"\",IF(Süt!$C22<=0,\"\",IF(AND(AnimalType=\"Buzağı\",MID(AN20,1,9)=\"Calf Feed\")=TRUE,IF(V51<>0,V51,0),V51)))","v":""},null,null,"Farklı dönemlerde olması gereken kondisyon skorları",null,null,null,null,null,null,null,null,"EvalFactorler için hesaplanan değerler",null,null,null,null,null,null,null,null,null,null,null,null,null,9,1.042,null,"NEDietConc",{"$f":"IF(TotalDMFed>0,IF(AnimalType<>\"Damızlık Düve\",NEl_Total/TotalDMFed,NEm_Total/TotalDMFed),0)","v":1.3772880273403774},"concentration of net energy in diet (kg DM/day)",null,null,null,null,null,null,null,null,null,null,"Yem kategorileri"]
[null,null,{"$f":"IF(Süt!$B7=\"\",\"\",IF(Süt!$C7<=0,\"\",(AU5/ 100) * (AB5/100)*AA36))","v":0.32874723839999992},{"$f":"IF(Süt!$B7=\"\",\"\",IF(Süt!$C7<=0,\"\",(AV5/ 100) * (AB5/100)*AA36))","v":0.34004792471999995},{"$f":"IF(Süt!$B7=\"\",\"\",IF(Süt!$C7<=0,\"\",IF((AT5+AN36)>0,   IF(BW_DMI<2,  C82,  C82+(BW_DMI-2)*((D82-C82)/2) ),0)))","v":0.3358216063864079},0.69151351361359192,"KM tüketimine göre",{"$f":"IF(BW_DMI<2,  C77,  IF(BW_DMI<4, C77+(BW_DMI-2)*((D77-C77)/2),  D77  ))","v":0.89040024723631428},"Ben uydurdum",1.9228841767515863,null,null,null,null,null,"Max.NFC,%KM",44,36,42,42,34,38,null,null,{"$f":"IF(Süt!$B23=\"\",\"\",IF(Süt!$C23<=0,\"\",IF(MID(AN21,1,9)=\"Calf Feed\",$AA52*Y21,0)))","v":0},{"$f":"IF(Süt!$B23=\"\",\"\",IF(Süt!$C23<=0,\"\",IF(MID(AN21,1,9)=\"Calf Feed\",$AA52*Z21,0)))","v":0},{"$f":"IF(Süt!$B23=\"\",\"\",IF(Süt!$C23<=0,\"\",IF(MID($AN21,1,9)=\"Calf Feed\",$AA52*V52,0)))","v":0},{"$f":"IF(Süt!$B23=\"\",\"\",IF(Süt!$C23<=0,\"\",IF(MID($AN21,1,9)=\"Calf Feed\",$AA52*(AB21/100),AB52/1000)))","v":0},{"$f":"IF(Süt!$B23=\"\",\"\",IF(Süt!$C23<=0,\"\",IF(MID(AN21,1,9)=\"Calf Feed\",AA52*(AB21/100),AB52/1000*0.75)))","v":0},{"$f":"IF(Süt!$B23=\"\",\"\",IF(Süt!$C23<=0,\"\",IF(MID($AN21,1,9)=\"Calf Feed\",$AA52*(AF21/100),0)))","v":0},"Zn","mg/gün",{"$f":"IF(AnimalType<>\"Buzağı\",0.033*BW,0)","v":21.45},{"$f":"IF(AnimalType<>\"Buzağı\",0.012*BW,0)","v":7.8},0,{"$f":"IF(AnimalType<>\"Buzağı\",0,0)","v":0},29.25,{"$f":"IF(AnimalType<>\"Buzağı\",IF(DaysPreg>190,12,0),0)","v":0},{"$f":"IF(AnimalType<>\"Buzağı\",4*MilkProd,)","v":100},{"$f":"IF(AnimalType<>\"Buzağı\",IF(OR(Age<(FirstCalf+CalfInt),LactNum<=1)=TRUE,24 * (WG / 0.96),0),0)","v":0},{"$f":"IF(AnimalType<>\"Buzağı\",AK82+AL82+AM82+AN82,IF(StarterDMI=0,40*TotalDMFed,40*TotalDMFed))","v":129.25},{"$f":"CM31","v":1627.0119301490552},{"$f":"CN31","v":244.05178952235826},114.80178952235826,76.970369949622835,0,40,40,40,{"$f":"IF(Süt!$B23=\"\",\"\",IF(Süt!$C23<=0,\"\",IF(ISERROR(((($AA52 / TotalDMFed) * ($AB21 / 100) * (($AV52 * 1000) / $AB52) * ($AW21 / 100) * (AX21 / 100) * TotalDMFed) * 1000))=TRUE,0,((($AA52 / TotalDMFed) * ($AB21 / 100) * (($AV52 * 1000) / $AB52) * ($AW21 / 100) * (AX21 / 100) * TotalDMFed) * 1000))))","v":0},{"$f":"IF(Süt!$B23=\"\",\"\",IF(Süt!$C23<=0,\"\",IF(ISERROR(((($AA52 / TotalDMFed) * ($AB21 / 100) * (($AV52 * 1000) / $AB52) * ($AW21 / 100) * (AY21 / 100) * TotalDMFed) * 1000))=TRUE,0,((($AA52 / TotalDMFed) * ($AB21 / 100) * (($AV52 * 1000) / $AB52) * ($AW21 / 100) * (AY21 / 100) * TotalDMFed) * 1000))))","v":0},{"$f":"IF(Süt!$B23=\"\",\"\",IF(Süt!$C23<=0,\"\",IF(ISERROR(((($AA52 / TotalDMFed) * ($AB21 / 100) * (($AV52 * 1000) / $AB52) * ($AW21 / 100) * (AZ21 / 100) * TotalDMFed) * 1000))=TRUE,0,((($AA52 / TotalDMFed) * ($AB21 / 100) * (($AV52 * 1000) / $AB52) * ($AW21 / 100) * (AZ21 / 100) * TotalDMFed) * 1000))))","v":0},{"$f":"IF(Süt!$B23=\"\",\"\",IF(Süt!$C23<=0,\"\",IF(ISERROR(((($AA52 / TotalDMFed) * ($AB21 / 100) * (($AV52 * 1000) / $AB52) * ($AW21 / 100) * (BA21 / 100) * TotalDMFed) * 1000))=TRUE,0,((($AA52 / TotalDMFed) * ($AB21 / 100) * (($AV52 * 1000) / $AB52) * ($AW21 / 100) * (BA21 / 100) * TotalDMFed) * 1000))))","v":0},{"$f":"IF(Süt!$B23=\"\",\"\",IF(Süt!$C23<=0,\"\",IF(ISERROR(((($AA52 / TotalDMFed) * ($AB21 / 100) * (($AV52 * 1000) / $AB52) * ($AW21 / 100) * (BB21 / 100) * TotalDMFed) * 1000))=TRUE,0,((($AA52 / TotalDMFed) * ($AB21 / 100) * (($AV52 * 1000) / $AB52) * ($AW21 / 100) * (BB21 / 100) * TotalDMFed) * 1000))))","v":0},{"$f":"IF(Süt!$B23=\"\",\"\",IF(Süt!$C23<=0,\"\",IF(ISERROR(((($AA52 / TotalDMFed) * ($AB21 / 100) * (($AV52 * 1000) / $AB52) * ($AW21 / 100) * (BC21 / 100) * TotalDMFed) * 1000))=TRUE,0,((($AA52 / TotalDMFed) * ($AB21 / 100) * (($AV52 * 1000) / $AB52) * ($AW21 / 100) * (BC21 / 100) * TotalDMFed) * 1000))))","v":0},{"$f":"IF(Süt!$B23=\"\",\"\",IF(Süt!$C23<=0,\"\",IF(ISERROR(((($AA52 / TotalDMFed) * ($AB21 / 100) * (($AV52 * 1000) / $AB52) * ($AW21 / 100) * (BD21 / 100) * TotalDMFed) * 1000))=TRUE,0,((($AA52 / TotalDMFed) * ($AB21 / 100) * (($AV52 * 1000) / $AB52) * ($AW21 / 100) * (BD21 / 100) * TotalDMFed) * 1000))))","v":0},{"$f":"IF(Süt!$B23=\"\",\"\",IF(Süt!$C23<=0,\"\",IF(ISERROR(((($AA52 / TotalDMFed) * ($AB21 / 100) * (($AV52 * 1000) / $AB52) * ($AW21 / 100) * (BE21 / 100) * TotalDMFed) * 1000))=TRUE,0,((($AA52 / TotalDMFed) * ($AB21 / 100) * (($AV52 * 1000) / $AB52) * ($AW21 / 100) * (BE21 / 100) * TotalDMFed) * 1000))))","v":0},{"$f":"IF(Süt!$B23=\"\",\"\",IF(Süt!$C23<=0,\"\",IF(ISERROR(((($AA52 / TotalDMFed) * ($AB21 / 100) * (($AV52 * 1000) / $AB52) * ($AW21 / 100) * (BF21 / 100) * TotalDMFed) * 1000))=TRUE,0,((($AA52 / TotalDMFed) * ($AB21 / 100) * (($AV52 * 1000) / $AB52) * ($AW21 / 100) * (BF21 / 100) * TotalDMFed) * 1000))))","v":0},{"$f":"IF(Süt!$B23=\"\",\"\",IF(Süt!$C23<=0,\"\",IF(ISERROR(((($AA52 / TotalDMFed) * ($AB21 / 100) * (($AV52 * 1000) / $AB52) * ($AW21 / 100) * (BG21 / 100) * TotalDMFed) * 1000))=TRUE,0,((($AA52 / TotalDMFed) * ($AB21 / 100) * (($AV52 * 1000) / $AB52) * ($AW21 / 100) * (BG21 / 100) * TotalDMFed) * 1000))))","v":0},{"$f":"IF(Süt!$B23=\"\",\"\",IF(Süt!$C23<=0,\"\",IF(ISERROR(((($AA52 / TotalDMFed) * ($AB21 / 100) * (($AV52 * 1000) / $AB52) * ($AW21 / 100) * (BH21 / 100) * TotalDMFed) * 1000))=TRUE,0,((($AA52 / TotalDMFed) * ($AB21 / 100) * (($AV52 * 1000) / $AB52) * ($AW21 / 100) * (BH21 / 100) * TotalDMFed) * 1000))))","v":0},null,{"$f":"IF(Süt!$B23=\"\",\"\",IF(Süt!$C23<=0,\"\",IF(AND(AnimalType=\"Buzağı\",MID(AN21,1,9)=\"Calf Feed\")=TRUE,IF(AN21=\"Calf Feed-Milk\",AA52,0),0)))","v":0},{"$f":"IF(Süt!$B23=\"\",\"\",IF(Süt!$C23<=0,\"\",IF(AND(AnimalType=\"Buzağı\",MID(AN21,1,9)=\"Calf Feed\")=TRUE,IF(AN21=\"Calf Feed-Milk\",AA52*V52,0),0)))","v":0},{"$f":"IF(Süt!$B23=\"\",\"\",IF(Süt!$C23<=0,\"\",IF(AND(AnimalType=\"Buzağı\",MID(AN21,1,9)=\"Calf Feed\")=TRUE,IF(AN21=\"Calf Feed-Milk\",AC82,0),0)))","v":0},{"$f":"IF(Süt!$B23=\"\",\"\",IF(Süt!$C23<=0,\"\",IF(AND(AnimalType=\"Buzağı\",MID(AN21,1,9)=\"Calf Feed\")=TRUE,IF(AN21=\"Calf Feed-Milk\",AB82,0),0)))","v":0},{"$f":"IF(Süt!$B23=\"\",\"\",IF(Süt!$C23<=0,\"\",IF(AND(AnimalType=\"Buzağı\",MID(AN21,1,9)=\"Calf Feed\")=TRUE,IF(AN21=\"Calf Feed-Milk\",0,AA52),AA52)))","v":0.04},{"$f":"IF(Süt!$B23=\"\",\"\",IF(Süt!$C23<=0,\"\",IF(AND(AnimalType=\"Buzağı\",MID(AN21,1,9)=\"Calf Feed\")=TRUE,IF(AN21=\"Calf Feed-Milk\",0,AA52*V52),0)))","v":0},{"$f":"IF(Süt!$B23=\"\",\"\",IF(Süt!$C23<=0,\"\",IF(AND(AnimalType=\"Buzağı\",MID(AN21,1,9)=\"Calf Feed\")=TRUE,IF(AN21=\"Calf Feed-Milk\",0,AC82),AC82)))","v":0},{"$f":"IF(Süt!$B23=\"\",\"\",IF(Süt!$C23<=0,\"\",IF(AND(AnimalType=\"Buzağı\",MID(AN21,1,9)=\"Calf Feed\")=TRUE,IF(AN21=\"Calf Feed-Milk\",0,AB82),AB52)))","v":0},{"$f":"IF(Süt!$B23=\"\",\"\",IF(Süt!$C23<=0,\"\",IF(AND(AnimalType=\"Buzağı\",MID(AN21,1,9)=\"Calf Feed\")=TRUE,IF(V52<>0,0.86*(AA52*V52),0),0.75*(AA52*V52))))","v":0},{"$f":"IF(Süt!$B23=\"\",\"\",IF(Süt!$C23<=0,\"\",IF(AND(AnimalType=\"Buzağı\",MID(AN21,1,9)=\"Calf Feed\")=TRUE,IF(V52<>0,0.69*(AA52*V52),0),0.57*(AA52*V52))))","v":0},{"$f":"IF(Süt!$B23=\"\",\"\",IF(Süt!$C23<=0,\"\",IF(AND(AnimalType=\"Buzağı\",MID(AN21,1,9)=\"Calf Feed\")=TRUE,IF(V52<>0,V52,0),V52)))","v":0},null,null,null,"Alt sınır","Üst sınır",null,null,null,null,null,null,null,"Total","Maint","Preg","Lact","Gain","Reserves",null,null,null,null,null,null,null,10,1.04,null,"FeedMaint",{"$f":"IF(NEDietConc>0,NEMaintNS/NEDietConc,0)","v":7.4773934335359931},"feed required for maintenance (kg DM/day)",null,null,null,null,null,null,null,null,null,null,"Animal Protein"]
[null,null,{"$f":"IF(Süt!$B8=\"\",\"\",IF(Süt!$C8<=0,\"\",(AU6/ 100) * (AB6/100)*AA37))","v":0.10212020000000001},{"$f":"IF(Süt!$B8=\"\",\"\",IF(Süt!$C8<=0,\"\",(AV6/ 100) * (AB6/100)*AA37))","v":0.13371539999999998},{"$f":"IF(Süt!$B8=\"\",\"\",IF(Süt!$C8<=0,\"\",IF((AT6+AN37)>0,   IF(BW_DMI<2,  C83,  C83+(BW_DMI-2)*((D83-C83)/2) ),0)))","v":0.12189918200825005},0.44230081799174997,null,{"$f":"IF(BW_DMI<2,  C77,  C77+(BW_DMI-2)*((D77-C77)/2) )","v":0.89040024723631428},null,2.0306298345554765,null,null,null,null,null,null,null,null,null,null,null,null,null,null,{"$f":"IF(Süt!$B24=\"\",\"\",IF(Süt!$C24<=0,\"\",IF(MID(AN22,1,9)=\"Calf Feed\",$AA53*Y22,0)))","v":0},{"$f":"IF(Süt!$B24=\"\",\"\",IF(Süt!$C24<=0,\"\",IF(MID(AN22,1,9)=\"Calf Feed\",$AA53*Z22,0)))","v":0},{"$f":"IF(Süt!$B24=\"\",\"\",IF(Süt!$C24<=0,\"\",IF(MID($AN22,1,9)=\"Calf Feed\",$AA53*V53,0)))","v":0},{"$f":"IF(Süt!$B24=\"\",\"\",IF(Süt!$C24<=0,\"\",IF(MID($AN22,1,9)=\"Calf Feed\",$AA53*(AB22/100),AB53/1000)))","v":0},{"$f":"IF(Süt!$B24=\"\",\"\",IF(Süt!$C24<=0,\"\",IF(MID(AN22,1,9)=\"Calf Feed\",AA53*(AB22/100),AB53/1000*0.75)))","v":0},{"$f":"IF(Süt!$B24=\"\",\"\",IF(Süt!$C24<=0,\"\",IF(MID($AN22,1,9)=\"Calf Feed\",$AA53*(AF22/100),0)))","v":0},"Mo",null,null,null,null,null,null,null,null,null,null,null,null,null,null,null,null,null,null,{"$f":"IF(Süt!$B24=\"\",\"\",IF(Süt!$C24<=0,\"\",IF(ISERROR(((($AA53 / TotalDMFed) * ($AB22 / 100) * (($AV53 * 1000) / $AB53) * ($AW22 / 100) * (AX22 / 100) * TotalDMFed) * 1000))=TRUE,0,((($AA53 / TotalDMFed) * ($AB22 / 100) * (($AV53 * 1000) / $AB53) * ($AW22 / 100) * (AX22 / 100) * TotalDMFed) * 1000))))","v":0},{"$f":"IF(Süt!$B24=\"\",\"\",IF(Süt!$C24<=0,\"\",IF(ISERROR(((($AA53 / TotalDMFed) * ($AB22 / 100) * (($AV53 * 1000) / $AB53) * ($AW22 / 100) * (AY22 / 100) * TotalDMFed) * 1000))=TRUE,0,((($AA53 / TotalDMFed) * ($AB22 / 100) * (($AV53 * 1000) / $AB53) * ($AW22 / 100) * (AY22 / 100) * TotalDMFed) * 1000))))","v":0},{"$f":"IF(Süt!$B24=\"\",\"\",IF(Süt!$C24<=0,\"\",IF(ISERROR(((($AA53 / TotalDMFed) * ($AB22 / 100) * (($AV53 * 1000) / $AB53) * ($AW22 / 100) * (AZ22 / 100) * TotalDMFed) * 1000))=TRUE,0,((($AA53 / TotalDMFed) * ($AB22 / 100) * (($AV53 * 1000) / $AB53) * ($AW22 / 100) * (AZ22 / 100) * TotalDMFed) * 1000))))","v":0},{"$f":"IF(Süt!$B24=\"\",\"\",IF(Süt!$C24<=0,\"\",IF(ISERROR(((($AA53 / TotalDMFed) * ($AB22 / 100) * (($AV53 * 1000) / $AB53) * ($AW22 / 100) * (BA22 / 100) * TotalDMFed) * 1000))=TRUE,0,((($AA53 / TotalDMFed) * ($AB22 / 100) * (($AV53 * 1000) / $AB53) * ($AW22 / 100) * (BA22 / 100) * TotalDMFed) * 1000))))","v":0},{"$f":"IF(Süt!$B24=\"\",\"\",IF(Süt!$C24<=0,\"\",IF(ISERROR(((($AA53 / TotalDMFed) * ($AB22 / 100) * (($AV53 * 1000) / $AB53) * ($AW22 / 100) * (BB22 / 100) * TotalDMFed) * 1000))=TRUE,0,((($AA53 / TotalDMFed) * ($AB22 / 100) * (($AV53 * 1000) / $AB53) * ($AW22 / 100) * (BB22 / 100) * TotalDMFed) * 1000))))","v":0},{"$f":"IF(Süt!$B24=\"\",\"\",IF(Süt!$C24<=0,\"\",IF(ISERROR(((($AA53 / TotalDMFed) * ($AB22 / 100) * (($AV53 * 1000) / $AB53) * ($AW22 / 100) * (BC22 / 100) * TotalDMFed) * 1000))=TRUE,0,((($AA53 / TotalDMFed) * ($AB22 / 100) * (($AV53 * 1000) / $AB53) * ($AW22 / 100) * (BC22 / 100) * TotalDMFed) * 1000))))","v":0},{"$f":"IF(Süt!$B24=\"\",\"\",IF(Süt!$C24<=0,\"\",IF(ISERROR(((($AA53 / TotalDMFed) * ($AB22 / 100) * (($AV53 * 1000) / $AB53) * ($AW22 / 100) * (BD22 / 100) * TotalDMFed) * 1000))=TRUE,0,((($AA53 / TotalDMFed) * ($AB22 / 100) * (($AV53 * 1000) / $AB53) * ($AW22 / 100) * (BD22 / 100) * TotalDMFed) * 1000))))","v":0},{"$f":"IF(Süt!$B24=\"\",\"\",IF(Süt!$C24<=0,\"\",IF(ISERROR(((($AA53 / TotalDMFed) * ($AB22 / 100) * (($AV53 * 1000) / $AB53) * ($AW22 / 100) * (BE22 / 100) * TotalDMFed) * 1000))=TRUE,0,((($AA53 / TotalDMFed) * ($AB22 / 100) * (($AV53 * 1000) / $AB53) * ($AW22 / 100) * (BE22 / 100) * TotalDMFed) * 1000))))","v":0},{"$f":"IF(Süt!$B24=\"\",\"\",IF(Süt!$C24<=0,\"\",IF(ISERROR(((($AA53 / TotalDMFed) * ($AB22 / 100) * (($AV53 * 1000) / $AB53) * ($AW22 / 100) * (BF22 / 100) * TotalDMFed) * 1000))=TRUE,0,((($AA53 / TotalDMFed) * ($AB22 / 100) * (($AV53 * 1000) / $AB53) * ($AW22 / 100) * (BF22 / 100) * TotalDMFed) * 1000))))","v":0},{"$f":"IF(Süt!$B24=\"\",\"\",IF(Süt!$C24<=0,\"\",IF(ISERROR(((($AA53 / TotalDMFed) * ($AB22 / 100) * (($AV53 * 1000) / $AB53) * ($AW22 / 100) * (BG22 / 100) * TotalDMFed) * 1000))=TRUE,0,((($AA53 / TotalDMFed) * ($AB22 / 100) * (($AV53 * 1000) / $AB53) * ($AW22 / 100) * (BG22 / 100) * TotalDMFed) * 1000))))","v":0},{"$f":"IF(Süt!$B24=\"\",\"\",IF(Süt!$C24<=0,\"\",IF(ISERROR(((($AA53 / TotalDMFed) * ($AB22 / 100) * (($AV53 * 1000) / $AB53) * ($AW22 / 100) * (BH22 / 100) * TotalDMFed) * 1000))=TRUE,0,((($AA53 / TotalDMFed) * ($AB22 / 100) * (($AV53 * 1000) / $AB53) * ($AW22 / 100) * (BH22 / 100) * TotalDMFed) * 1000))))","v":0},null,{"$f":"IF(Süt!$B24=\"\",\"\",IF(Süt!$C24<=0,\"\",IF(AND(AnimalType=\"Buzağı\",MID(AN22,1,9)=\"Calf Feed\")=TRUE,IF(AN22=\"Calf Feed-Milk\",AA53,0),0)))","v":0},{"$f":"IF(Süt!$B24=\"\",\"\",IF(Süt!$C24<=0,\"\",IF(AND(AnimalType=\"Buzağı\",MID(AN22,1,9)=\"Calf Feed\")=TRUE,IF(AN22=\"Calf Feed-Milk\",AA53*V53,0),0)))","v":0},{"$f":"IF(Süt!$B24=\"\",\"\",IF(Süt!$C24<=0,\"\",IF(AND(AnimalType=\"Buzağı\",MID(AN22,1,9)=\"Calf Feed\")=TRUE,IF(AN22=\"Calf Feed-Milk\",AC83,0),0)))","v":0},{"$f":"IF(Süt!$B24=\"\",\"\",IF(Süt!$C24<=0,\"\",IF(AND(AnimalType=\"Buzağı\",MID(AN22,1,9)=\"Calf Feed\")=TRUE,IF(AN22=\"Calf Feed-Milk\",AB83,0),0)))","v":0},{"$f":"IF(Süt!$B24=\"\",\"\",IF(Süt!$C24<=0,\"\",IF(AND(AnimalType=\"Buzağı\",MID(AN22,1,9)=\"Calf Feed\")=TRUE,IF(AN22=\"Calf Feed-Milk\",0,AA53),AA53)))","v":9.5000000000000001E-2},{"$f":"IF(Süt!$B24=\"\",\"\",IF(Süt!$C24<=0,\"\",IF(AND(AnimalType=\"Buzağı\",MID(AN22,1,9)=\"Calf Feed\")=TRUE,IF(AN22=\"Calf Feed-Milk\",0,AA53*V53),0)))","v":0},{"$f":"IF(Süt!$B24=\"\",\"\",IF(Süt!$C24<=0,\"\",IF(AND(AnimalType=\"Buzağı\",MID(AN22,1,9)=\"Calf Feed\")=TRUE,IF(AN22=\"Calf Feed-Milk\",0,AC83),AC83)))","v":0},{"$f":"IF(Süt!$B24=\"\",\"\",IF(Süt!$C24<=0,\"\",IF(AND(AnimalType=\"Buzağı\",MID(AN22,1,9)=\"Calf Feed\")=TRUE,IF(AN22=\"Calf Feed-Milk\",0,AB83),AB53)))","v":0},{"$f":"IF(Süt!$B24=\"\",\"\",IF(Süt!$C24<=0,\"\",IF(AND(AnimalType=\"Buzağı\",MID(AN22,1,9)=\"Calf Feed\")=TRUE,IF(V53<>0,0.86*(AA53*V53),0),0.75*(AA53*V53))))","v":0},{"$f":"IF(Süt!$B24=\"\",\"\",IF(Süt!$C24<=0,\"\",IF(AND(AnimalType=\"Buzağı\",MID(AN22,1,9)=\"Calf Feed\")=TRUE,IF(V53<>0,0.69*(AA53*V53),0),0.57*(AA53*V53))))","v":0},{"$f":"IF(Süt!$B24=\"\",\"\",IF(Süt!$C24<=0,\"\",IF(AND(AnimalType=\"Buzağı\",MID(AN22,1,9)=\"Calf Feed\")=TRUE,IF(V53<>0,V53,0),V53)))","v":0},null,null,"Doğumda",3.25,3.75,null,null,null,null,null,null,"EvalFactor(1)",{"$f":"IF(AnimalType <> \"Damızlık Düve\",NEl_Total,MEng_Total)","v":29.113333523028398},{"$f":"CG83","v":29.113333523028398},{"$f":"CH85","v":18.814809071305717},{"$f":"CI85","v":18.814809071305717},{"$f":"CJ85","v":0.92322573797238405},{"$f":"CK85","v":0.92322573797238405},{"$f":"CONCATENATE(\"Mcal/gün, \",IF(AnimalType<>\"Damızlık Düve\",\"NE Supplied\",\"ME Supplied\"))","v":"Mcal/gün, NE Supplied"},null,null,null,null,null,null,11,1.038,null,"NEGrowthDietNS",{"$f":"IF(TotalDMFed>0,(TotalDMFed-FeedMaint)*(NEg_Total/TotalDMFed),0)","v":12.829008504597837},"net energy for growth, with no stress, available in the diet (Mcal/day)",null,null,null,null,null,null,null,null,null,null,"By-Product"]
[null,null,{"$f":"IF(Süt!$B9=\"\",\"\",IF(Süt!$C9<=0,\"\",(AU7/ 100) * (AB7/100)*AA38))","v":1.1048775336940116E-9},{"$f":"IF(Süt!$B9=\"\",\"\",IF(Süt!$C9<=0,\"\",(AV7/ 100) * (AB7/100)*AA38))","v":1.2922037089513951E-9},{"$f":"IF(Süt!$B9=\"\",\"\",IF(Süt!$C9<=0,\"\",IF((AT7+AN38)>0,   IF(BW_DMI<2,  C84,  C84+(BW_DMI-2)*((D84-C84)/2) ),0)))","v":1.2221460127696333E-9},5.1235560998391709E-10,null,{"$f":"CP_Total","v":2951.987462864884},null,6373.6575999999995,null,null,null,null,null,"Kaba yemden gelen minimum NDF","NDF,min","NFC, mak","ADF,min",null,null,null,null,null,{"$f":"IF(Süt!$B25=\"\",\"\",IF(Süt!$C25<=0,\"\",IF(MID(AN23,1,9)=\"Calf Feed\",$AA54*Y23,0)))","v":0},{"$f":"IF(Süt!$B25=\"\",\"\",IF(Süt!$C25<=0,\"\",IF(MID(AN23,1,9)=\"Calf Feed\",$AA54*Z23,0)))","v":0},{"$f":"IF(Süt!$B25=\"\",\"\",IF(Süt!$C25<=0,\"\",IF(MID($AN23,1,9)=\"Calf Feed\",$AA54*V54,0)))","v":0},{"$f":"IF(Süt!$B25=\"\",\"\",IF(Süt!$C25<=0,\"\",IF(MID($AN23,1,9)=\"Calf Feed\",$AA54*(AB23/100),AB54/1000)))","v":0},{"$f":"IF(Süt!$B25=\"\",\"\",IF(Süt!$C25<=0,\"\",IF(MID(AN23,1,9)=\"Calf Feed\",AA54*(AB23/100),AB54/1000*0.75)))","v":0},{"$f":"IF(Süt!$B25=\"\",\"\",IF(Süt!$C25<=0,\"\",IF(MID($AN23,1,9)=\"Calf Feed\",$AA54*(AF23/100),0)))","v":0},"VitA","1000 IU/kg",{"$f":"IF(AnimalType<>\"Buzağı\",0,0)","v":0},0,0,0,{"$f":"AG84+AH84+AJ84+AI84","v":0},{"$f":"IF(AnimalType<>\"Buzağı\",0,0)","v":0},0,0,{"$f":"IF(AnimalType<>\"Buzağı\",IF(AnimalType=\"Damızlık Düve\",IF(DaysPreg>259,0.11*BW,0.08*BW),0.11*BW),0.11*CalfBW)","v":71.5},{"$f":"CQ31","v":423.30577},{"$f":"CQ31","v":423.30577},351.80577,{"$f":"IF(TotalDMFed > 0,AP84/TotalDMFed,0)","v":20.025668598339671},{"$f":"IF(AnimalType = \"Buzağı\",IF(TotalDMFed>0,((MilkFeeds * AU84) + (CalfStarter * AV84) + (RegFeeds * AW84)) / TotalDMFed,0),0)","v":0},9,4,4,{"$f":"IF(Süt!$B25=\"\",\"\",IF(Süt!$C25<=0,\"\",IF(ISERROR(((($AA54 / TotalDMFed) * ($AB23 / 100) * (($AV54 * 1000) / $AB54) * ($AW23 / 100) * (AX23 / 100) * TotalDMFed) * 1000))=TRUE,0,((($AA54 / TotalDMFed) * ($AB23 / 100) * (($AV54 * 1000) / $AB54) * ($AW23 / 100) * (AX23 / 100) * TotalDMFed) * 1000))))","v":0},{"$f":"IF(Süt!$B25=\"\",\"\",IF(Süt!$C25<=0,\"\",IF(ISERROR(((($AA54 / TotalDMFed) * ($AB23 / 100) * (($AV54 * 1000) / $AB54) * ($AW23 / 100) * (AY23 / 100) * TotalDMFed) * 1000))=TRUE,0,((($AA54 / TotalDMFed) * ($AB23 / 100) * (($AV54 * 1000) / $AB54) * ($AW23 / 100) * (AY23 / 100) * TotalDMFed) * 1000))))","v":0},{"$f":"IF(Süt!$B25=\"\",\"\",IF(Süt!$C25<=0,\"\",IF(ISERROR(((($AA54 / TotalDMFed) * ($AB23 / 100) * (($AV54 * 1000) / $AB54) * ($AW23 / 100) * (AZ23 / 100) * TotalDMFed) * 1000))=TRUE,0,((($AA54 / TotalDMFed) * ($AB23 / 100) * (($AV54 * 1000) / $AB54) * ($AW23 / 100) * (AZ23 / 100) * TotalDMFed) * 1000))))","v":0},{"$f":"IF(Süt!$B25=\"\",\"\",IF(Süt!$C25<=0,\"\",IF(ISERROR(((($AA54 / TotalDMFed) * ($AB23 / 100) * (($AV54 * 1000) / $AB54) * ($AW23 / 100) * (BA23 / 100) * TotalDMFed) * 1000))=TRUE,0,((($AA54 / TotalDMFed) * ($AB23 / 100) * (($AV54 * 1000) / $AB54) * ($AW23 / 100) * (BA23 / 100) * TotalDMFed) * 1000))))","v":0},{"$f":"IF(Süt!$B25=\"\",\"\",IF(Süt!$C25<=0,\"\",IF(ISERROR(((($AA54 / TotalDMFed) * ($AB23 / 100) * (($AV54 * 1000) / $AB54) * ($AW23 / 100) * (BB23 / 100) * TotalDMFed) * 1000))=TRUE,0,((($AA54 / TotalDMFed) * ($AB23 / 100) * (($AV54 * 1000) / $AB54) * ($AW23 / 100) * (BB23 / 100) * TotalDMFed) * 1000))))","v":0},{"$f":"IF(Süt!$B25=\"\",\"\",IF(Süt!$C25<=0,\"\",IF(ISERROR(((($AA54 / TotalDMFed) * ($AB23 / 100) * (($AV54 * 1000) / $AB54) * ($AW23 / 100) * (BC23 / 100) * TotalDMFed) * 1000))=TRUE,0,((($AA54 / TotalDMFed) * ($AB23 / 100) * (($AV54 * 1000) / $AB54) * ($AW23 / 100) * (BC23 / 100) * TotalDMFed) * 1000))))","v":0},{"$f":"IF(Süt!$B25=\"\",\"\",IF(Süt!$C25<=0,\"\",IF(ISERROR(((($AA54 / TotalDMFed) * ($AB23 / 100) * (($AV54 * 1000) / $AB54) * ($AW23 / 100) * (BD23 / 100) * TotalDMFed) * 1000))=TRUE,0,((($AA54 / TotalDMFed) * ($AB23 / 100) * (($AV54 * 1000) / $AB54) * ($AW23 / 100) * (BD23 / 100) * TotalDMFed) * 1000))))","v":0},{"$f":"IF(Süt!$B25=\"\",\"\",IF(Süt!$C25<=0,\"\",IF(ISERROR(((($AA54 / TotalDMFed) * ($AB23 / 100) * (($AV54 * 1000) / $AB54) * ($AW23 / 100) * (BE23 / 100) * TotalDMFed) * 1000))=TRUE,0,((($AA54 / TotalDMFed) * ($AB23 / 100) * (($AV54 * 1000) / $AB54) * ($AW23 / 100) * (BE23 / 100) * TotalDMFed) * 1000))))","v":0},{"$f":"IF(Süt!$B25=\"\",\"\",IF(Süt!$C25<=0,\"\",IF(ISERROR(((($AA54 / TotalDMFed) * ($AB23 / 100) * (($AV54 * 1000) / $AB54) * ($AW23 / 100) * (BF23 / 100) * TotalDMFed) * 1000))=TRUE,0,((($AA54 / TotalDMFed) * ($AB23 / 100) * (($AV54 * 1000) / $AB54) * ($AW23 / 100) * (BF23 / 100) * TotalDMFed) * 1000))))","v":0},{"$f":"IF(Süt!$B25=\"\",\"\",IF(Süt!$C25<=0,\"\",IF(ISERROR(((($AA54 / TotalDMFed) * ($AB23 / 100) * (($AV54 * 1000) / $AB54) * ($AW23 / 100) * (BG23 / 100) * TotalDMFed) * 1000))=TRUE,0,((($AA54 / TotalDMFed) * ($AB23 / 100) * (($AV54 * 1000) / $AB54) * ($AW23 / 100) * (BG23 / 100) * TotalDMFed) * 1000))))","v":0},{"$f":"IF(Süt!$B25=\"\",\"\",IF(Süt!$C25<=0,\"\",IF(ISERROR(((($AA54 / TotalDMFed) * ($AB23 / 100) * (($AV54 * 1000) / $AB54) * ($AW23 / 100) * (BH23 / 100) * TotalDMFed) * 1000))=TRUE,0,((($AA54 / TotalDMFed) * ($AB23 / 100) * (($AV54 * 1000) / $AB54) * ($AW23 / 100) * (BH23 / 100) * TotalDMFed) * 1000))))","v":0},null,{"$f":"IF(Süt!$B25=\"\",\"\",IF(Süt!$C25<=0,\"\",IF(AND(AnimalType=\"Buzağı\",MID(AN23,1,9)=\"Calf Feed\")=TRUE,IF(AN23=\"Calf Feed-Milk\",AA54,0),0)))","v":0},{"$f":"IF(Süt!$B25=\"\",\"\",IF(Süt!$C25<=0,\"\",IF(AND(AnimalType=\"Buzağı\",MID(AN23,1,9)=\"Calf Feed\")=TRUE,IF(AN23=\"Calf Feed-Milk\",AA54*V54,0),0)))","v":0},{"$f":"IF(Süt!$B25=\"\",\"\",IF(Süt!$C25<=0,\"\",IF(AND(AnimalType=\"Buzağı\",MID(AN23,1,9)=\"Calf Feed\")=TRUE,IF(AN23=\"Calf Feed-Milk\",AC84,0),0)))","v":0},{"$f":"IF(Süt!$B25=\"\",\"\",IF(Süt!$C25<=0,\"\",IF(AND(AnimalType=\"Buzağı\",MID(AN23,1,9)=\"Calf Feed\")=TRUE,IF(AN23=\"Calf Feed-Milk\",AB84,0),0)))","v":0},{"$f":"IF(Süt!$B25=\"\",\"\",IF(Süt!$C25<=0,\"\",IF(AND(AnimalType=\"Buzağı\",MID(AN23,1,9)=\"Calf Feed\")=TRUE,IF(AN23=\"Calf Feed-Milk\",0,AA54),AA54)))","v":0.02},{"$f":"IF(Süt!$B25=\"\",\"\",IF(Süt!$C25<=0,\"\",IF(AND(AnimalType=\"Buzağı\",MID(AN23,1,9)=\"Calf Feed\")=TRUE,IF(AN23=\"Calf Feed-Milk\",0,AA54*V54),0)))","v":0},{"$f":"IF(Süt!$B25=\"\",\"\",IF(Süt!$C25<=0,\"\",IF(AND(AnimalType=\"Buzağı\",MID(AN23,1,9)=\"Calf Feed\")=TRUE,IF(AN23=\"Calf Feed-Milk\",0,AC84),AC84)))","v":0},{"$f":"IF(Süt!$B25=\"\",\"\",IF(Süt!$C25<=0,\"\",IF(AND(AnimalType=\"Buzağı\",MID(AN23,1,9)=\"Calf Feed\")=TRUE,IF(AN23=\"Calf Feed-Milk\",0,AB84),AB54)))","v":0},{"$f":"IF(Süt!$B25=\"\",\"\",IF(Süt!$C25<=0,\"\",IF(AND(AnimalType=\"Buzağı\",MID(AN23,1,9)=\"Calf Feed\")=TRUE,IF(V54<>0,0.86*(AA54*V54),0),0.75*(AA54*V54))))","v":0},{"$f":"IF(Süt!$B25=\"\",\"\",IF(Süt!$C25<=0,\"\",IF(AND(AnimalType=\"Buzağı\",MID(AN23,1,9)=\"Calf Feed\")=TRUE,IF(V54<>0,0.69*(AA54*V54),0),0.57*(AA54*V54))))","v":0},{"$f":"IF(Süt!$B25=\"\",\"\",IF(Süt!$C25<=0,\"\",IF(AND(AnimalType=\"Buzağı\",MID(AN23,1,9)=\"Calf Feed\")=TRUE,IF(V54<>0,V54,0),V54)))","v":0},null,null,"Laktasyon başı",2.75,3,null,null,null,null,null,null,"EvalFactor(2)",{"$f":"CH84+CI84+CJ84+CK84+CL84","v":28.190107785056014},{"$f":"IF(AnimalType <> \"Damızlık Düve\",NEMaint,IF(NEmOverMEng>0,NEMaint/NEmOverMEng,0))","v":10.298524451722679},{"$f":"IF(AnimalType <> \"Damızlık Düve\",NEPreg,MEPreg)","v":0},{"$f":"IF(AnimalType <> \"Damızlık Düve\",NELact,0)","v":17.891583333333333},{"$f":"IF(AnimalType = \"Damızlık Düve\",CK83,IF(EQEBG>0,NEGrowth,0))","v":0},{"$f":"NEReserves","v":0},{"$f":"CONCATENATE(\"Mcal/gün, \",IF(AnimalType<>\"Damızlık Düve\",\"NE Required\",\"ME Required\"))","v":"Mcal/gün, NE Required"},null,null,null,null,null,null,12,1.036,null,"NEFP",{"$f":"IF(AnimalType=\"Damızlık Düve\",NEGrowthDietNS,IF(TotalDMFed>0,(TotalDMFed-FeedMaint)*(NEl_Total/TotalDMFed)*0.65,0))","v":12.229625896348717},"net energy for production (Mcal/day)",null,null,null,null,null,null,null,null,null,null,"Calf Feed-Milk"]
[null,null,{"$f":"IF(Süt!$B10=\"\",\"\",IF(Süt!$C10<=0,\"\",(AU8/ 100) * (AB8/100)*AA39))","v":1.7232164497739277E-9},{"$f":"IF(Süt!$B10=\"\",\"\",IF(Süt!$C10<=0,\"\",(AV8/ 100) * (AB8/100)*AA39))","v":1.9693902283130602E-9},{"$f":"IF(Süt!$B10=\"\",\"\",IF(Süt!$C10<=0,\"\",IF((AT8+AN39)>0,   IF(BW_DMI<2,  C85,  C85+(BW_DMI-2)*((D85-C85)/2) ),0)))","v":1.8773242489531839E-9},2.2255720600323579E-9,null,{"$f":"H84-H83*1000","v":2061.5872156285695},null,4343.0277654445235,null,null,null,null,null,15,33,36,21,null,null,null,null,null,{"$f":"IF(Süt!$B26=\"\",\"\",IF(Süt!$C26<=0,\"\",IF(MID(AN24,1,9)=\"Calf Feed\",$AA55*Y24,0)))","v":""},{"$f":"IF(Süt!$B26=\"\",\"\",IF(Süt!$C26<=0,\"\",IF(MID(AN24,1,9)=\"Calf Feed\",$AA55*Z24,0)))","v":""},{"$f":"IF(Süt!$B26=\"\",\"\",IF(Süt!$C26<=0,\"\",IF(MID($AN24,1,9)=\"Calf Feed\",$AA55*V55,0)))","v":""},{"$f":"IF(Süt!$B26=\"\",\"\",IF(Süt!$C26<=0,\"\",IF(MID($AN24,1,9)=\"Calf Feed\",$AA55*(AB24/100),AB55/1000)))","v":""},{"$f":"IF(Süt!$B26=\"\",\"\",IF(Süt!$C26<=0,\"\",IF(MID(AN24,1,9)=\"Calf Feed\",AA55*(AB24/100),AB55/1000*0.75)))","v":""},{"$f":"IF(Süt!$B26=\"\",\"\",IF(Süt!$C26<=0,\"\",IF(MID($AN24,1,9)=\"Calf Feed\",$AA55*(AF24/100),0)))","v":""},"VitD","1000 IU/kg",0,0,0,0,{"$f":"AG85+AH85+AJ85+AI85","v":0},0,0,0,{"$f":"IF(AnimalType<>\"Buzağı\",0.03*BW,0.6*TotalDMFed)","v":19.5},{"$f":"CR31","v":66.388900000000007},{"$f":"CR31","v":66.388900000000007},46.888900000000007,{"$f":"IF(TotalDMFed > 0,AP85/TotalDMFed,0)","v":3.1407134138717567},{"$f":"IF(AnimalType = \"Buzağı\",IF(TotalDMFed>0,((MilkFeeds * AU85) + (CalfStarter * AV85) + (RegFeeds * AW85)) / TotalDMFed,0),0)","v":0},0.6,0.6,0.6,{"$f":"IF(Süt!$B26=\"\",\"\",IF(Süt!$C26<=0,\"\",IF(ISERROR(((($AA55 / TotalDMFed) * ($AB24 / 100) * (($AV55 * 1000) / $AB55) * ($AW24 / 100) * (AX24 / 100) * TotalDMFed) * 1000))=TRUE,0,((($AA55 / TotalDMFed) * ($AB24 / 100) * (($AV55 * 1000) / $AB55) * ($AW24 / 100) * (AX24 / 100) * TotalDMFed) * 1000))))","v":""},{"$f":"IF(Süt!$B26=\"\",\"\",IF(Süt!$C26<=0,\"\",IF(ISERROR(((($AA55 / TotalDMFed) * ($AB24 / 100) * (($AV55 * 1000) / $AB55) * ($AW24 / 100) * (AY24 / 100) * TotalDMFed) * 1000))=TRUE,0,((($AA55 / TotalDMFed) * ($AB24 / 100) * (($AV55 * 1000) / $AB55) * ($AW24 / 100) * (AY24 / 100) * TotalDMFed) * 1000))))","v":""},{"$f":"IF(Süt!$B26=\"\",\"\",IF(Süt!$C26<=0,\"\",IF(ISERROR(((($AA55 / TotalDMFed) * ($AB24 / 100) * (($AV55 * 1000) / $AB55) * ($AW24 / 100) * (AZ24 / 100) * TotalDMFed) * 1000))=TRUE,0,((($AA55 / TotalDMFed) * ($AB24 / 100) * (($AV55 * 1000) / $AB55) * ($AW24 / 100) * (AZ24 / 100) * TotalDMFed) * 1000))))","v":""},{"$f":"IF(Süt!$B26=\"\",\"\",IF(Süt!$C26<=0,\"\",IF(ISERROR(((($AA55 / TotalDMFed) * ($AB24 / 100) * (($AV55 * 1000) / $AB55) * ($AW24 / 100) * (BA24 / 100) * TotalDMFed) * 1000))=TRUE,0,((($AA55 / TotalDMFed) * ($AB24 / 100) * (($AV55 * 1000) / $AB55) * ($AW24 / 100) * (BA24 / 100) * TotalDMFed) * 1000))))","v":""},{"$f":"IF(Süt!$B26=\"\",\"\",IF(Süt!$C26<=0,\"\",IF(ISERROR(((($AA55 / TotalDMFed) * ($AB24 / 100) * (($AV55 * 1000) / $AB55) * ($AW24 / 100) * (BB24 / 100) * TotalDMFed) * 1000))=TRUE,0,((($AA55 / TotalDMFed) * ($AB24 / 100) * (($AV55 * 1000) / $AB55) * ($AW24 / 100) * (BB24 / 100) * TotalDMFed) * 1000))))","v":""},{"$f":"IF(Süt!$B26=\"\",\"\",IF(Süt!$C26<=0,\"\",IF(ISERROR(((($AA55 / TotalDMFed) * ($AB24 / 100) * (($AV55 * 1000) / $AB55) * ($AW24 / 100) * (BC24 / 100) * TotalDMFed) * 1000))=TRUE,0,((($AA55 / TotalDMFed) * ($AB24 / 100) * (($AV55 * 1000) / $AB55) * ($AW24 / 100) * (BC24 / 100) * TotalDMFed) * 1000))))","v":""},{"$f":"IF(Süt!$B26=\"\",\"\",IF(Süt!$C26<=0,\"\",IF(ISERROR(((($AA55 / TotalDMFed) * ($AB24 / 100) * (($AV55 * 1000) / $AB55) * ($AW24 / 100) * (BD24 / 100) * TotalDMFed) * 1000))=TRUE,0,((($AA55 / TotalDMFed) * ($AB24 / 100) * (($AV55 * 1000) / $AB55) * ($AW24 / 100) * (BD24 / 100) * TotalDMFed) * 1000))))","v":""},{"$f":"IF(Süt!$B26=\"\",\"\",IF(Süt!$C26<=0,\"\",IF(ISERROR(((($AA55 / TotalDMFed) * ($AB24 / 100) * (($AV55 * 1000) / $AB55) * ($AW24 / 100) * (BE24 / 100) * TotalDMFed) * 1000))=TRUE,0,((($AA55 / TotalDMFed) * ($AB24 / 100) * (($AV55 * 1000) / $AB55) * ($AW24 / 100) * (BE24 / 100) * TotalDMFed) * 1000))))","v":""},{"$f":"IF(Süt!$B26=\"\",\"\",IF(Süt!$C26<=0,\"\",IF(ISERROR(((($AA55 / TotalDMFed) * ($AB24 / 100) * (($AV55 * 1000) / $AB55) * ($AW24 / 100) * (BF24 / 100) * TotalDMFed) * 1000))=TRUE,0,((($AA55 / TotalDMFed) * ($AB24 / 100) * (($AV55 * 1000) / $AB55) * ($AW24 / 100) * (BF24 / 100) * TotalDMFed) * 1000))))","v":""},{"$f":"IF(Süt!$B26=\"\",\"\",IF(Süt!$C26<=0,\"\",IF(ISERROR(((($AA55 / TotalDMFed) * ($AB24 / 100) * (($AV55 * 1000) / $AB55) * ($AW24 / 100) * (BG24 / 100) * TotalDMFed) * 1000))=TRUE,0,((($AA55 / TotalDMFed) * ($AB24 / 100) * (($AV55 * 1000) / $AB55) * ($AW24 / 100) * (BG24 / 100) * TotalDMFed) * 1000))))","v":""},{"$f":"IF(Süt!$B26=\"\",\"\",IF(Süt!$C26<=0,\"\",IF(ISERROR(((($AA55 / TotalDMFed) * ($AB24 / 100) * (($AV55 * 1000) / $AB55) * ($AW24 / 100) * (BH24 / 100) * TotalDMFed) * 1000))=TRUE,0,((($AA55 / TotalDMFed) * ($AB24 / 100) * (($AV55 * 1000) / $AB55) * ($AW24 / 100) * (BH24 / 100) * TotalDMFed) * 1000))))","v":""},null,{"$f":"IF(Süt!$B26=\"\",\"\",IF(Süt!$C26<=0,\"\",IF(AND(AnimalType=\"Buzağı\",MID(AN24,1,9)=\"Calf Feed\")=TRUE,IF(AN24=\"Calf Feed-Milk\",AA55,0),0)))","v":""},{"$f":"IF(Süt!$B26=\"\",\"\",IF(Süt!$C26<=0,\"\",IF(AND(AnimalType=\"Buzağı\",MID(AN24,1,9)=\"Calf Feed\")=TRUE,IF(AN24=\"Calf Feed-Milk\",AA55*V55,0),0)))","v":""},{"$f":"IF(Süt!$B26=\"\",\"\",IF(Süt!$C26<=0,\"\",IF(AND(AnimalType=\"Buzağı\",MID(AN24,1,9)=\"Calf Feed\")=TRUE,IF(AN24=\"Calf Feed-Milk\",AC85,0),0)))","v":""},{"$f":"IF(Süt!$B26=\"\",\"\",IF(Süt!$C26<=0,\"\",IF(AND(AnimalType=\"Buzağı\",MID(AN24,1,9)=\"Calf Feed\")=TRUE,IF(AN24=\"Calf Feed-Milk\",AB85,0),0)))","v":""},{"$f":"IF(Süt!$B26=\"\",\"\",IF(Süt!$C26<=0,\"\",IF(AND(AnimalType=\"Buzağı\",MID(AN24,1,9)=\"Calf Feed\")=TRUE,IF(AN24=\"Calf Feed-Milk\",0,AA55),AA55)))","v":""},{"$f":"IF(Süt!$B26=\"\",\"\",IF(Süt!$C26<=0,\"\",IF(AND(AnimalType=\"Buzağı\",MID(AN24,1,9)=\"Calf Feed\")=TRUE,IF(AN24=\"Calf Feed-Milk\",0,AA55*V55),0)))","v":""},{"$f":"IF(Süt!$B26=\"\",\"\",IF(Süt!$C26<=0,\"\",IF(AND(AnimalType=\"Buzağı\",MID(AN24,1,9)=\"Calf Feed\")=TRUE,IF(AN24=\"Calf Feed-Milk\",0,AC85),AC85)))","v":""},{"$f":"IF(Süt!$B26=\"\",\"\",IF(Süt!$C26<=0,\"\",IF(AND(AnimalType=\"Buzağı\",MID(AN24,1,9)=\"Calf Feed\")=TRUE,IF(AN24=\"Calf Feed-Milk\",0,AB85),AB55)))","v":""},{"$f":"IF(Süt!$B26=\"\",\"\",IF(Süt!$C26<=0,\"\",IF(AND(AnimalType=\"Buzağı\",MID(AN24,1,9)=\"Calf Feed\")=TRUE,IF(V55<>0,0.86*(AA55*V55),0),0.75*(AA55*V55))))","v":""},{"$f":"IF(Süt!$B26=\"\",\"\",IF(Süt!$C26<=0,\"\",IF(AND(AnimalType=\"Buzağı\",MID(AN24,1,9)=\"Calf Feed\")=TRUE,IF(V55<>0,0.69*(AA55*V55),0),0.57*(AA55*V55))))","v":""},{"$f":"IF(Süt!$B26=\"\",\"\",IF(Süt!$C26<=0,\"\",IF(AND(AnimalType=\"Buzağı\",MID(AN24,1,9)=\"Calf Feed\")=TRUE,IF(V55<>0,V55,0),V55)))","v":""},null,null,"Laktasyon ortası",3,3,null,null,null,null,null,null,"EvalFactor(3)",{"$f":"CG83-CG84","v":0.92322573797238405},{"$f":"CH83-CH84","v":18.814809071305717},{"$f":"CI83-CI84","v":18.814809071305717},{"$f":"CJ83-CJ84","v":0.92322573797238405},{"$f":"CK83-CK84","v":0.92322573797238405},null,{"$f":"CONCATENATE(\"Mcal/gün, \",IF(AnimalType<>\"Damızlık Düve\",\"NE (Diet-Required)\",\"ME (Diet-Required)\"))","v":"Mcal/gün, NE (Diet-Required)"},null,null,null,null,null,null,13,1.034,null,"MEI",{"$f":"MEng_Total","v":51.42978305623808},"metabolizable energy intake (Mcal/day)",null,null,null,null,null,null,null,null,null,null,"Calf Feed-Starter"]
[null,null,{"$f":"IF(Süt!$B11=\"\",\"\",IF(Süt!$C11<=0,\"\",(AU9/ 100) * (AB9/100)*AA40))","v":0.18602071710636575},{"$f":"IF(Süt!$B11=\"\",\"\",IF(Süt!$C11<=0,\"\",(AV9/ 100) * (AB9/100)*AA40))","v":0.26486900460412577},{"$f":"IF(Süt!$B11=\"\",\"\",IF(Süt!$C11<=0,\"\",IF((AT9+AN40)>0,   IF(BW_DMI<2,  C86,  C86+(BW_DMI-2)*((D86-C86)/2) ),0)))","v":0.23538071039014058},0.53013664395704363,null,null,null,null,null,null,null,null,null,16,31,38,20,null,null,null,null,null,{"$f":"IF(Süt!$B27=\"\",\"\",IF(Süt!$C27<=0,\"\",IF(MID(AN25,1,9)=\"Calf Feed\",$AA56*Y25,0)))","v":""},{"$f":"IF(Süt!$B27=\"\",\"\",IF(Süt!$C27<=0,\"\",IF(MID(AN25,1,9)=\"Calf Feed\",$AA56*Z25,0)))","v":""},{"$f":"IF(Süt!$B27=\"\",\"\",IF(Süt!$C27<=0,\"\",IF(MID($AN25,1,9)=\"Calf Feed\",$AA56*V56,0)))","v":""},{"$f":"IF(Süt!$B27=\"\",\"\",IF(Süt!$C27<=0,\"\",IF(MID($AN25,1,9)=\"Calf Feed\",$AA56*(AB25/100),AB56/1000)))","v":""},{"$f":"IF(Süt!$B27=\"\",\"\",IF(Süt!$C27<=0,\"\",IF(MID(AN25,1,9)=\"Calf Feed\",AA56*(AB25/100),AB56/1000*0.75)))","v":""},{"$f":"IF(Süt!$B27=\"\",\"\",IF(Süt!$C27<=0,\"\",IF(MID($AN25,1,9)=\"Calf Feed\",$AA56*(AF25/100),0)))","v":""},"VitE","IU/kg",0,0,0,0,{"$f":"AG86+AH86+AJ86+AI86","v":0},0,0,0,{"$f":"IF(AnimalType<>\"Buzağı\",IF(Grazing=\"Otluyor\",IF(AnimalType=\"Kurudaki İnek\",0.5*BW,0.26*BW),IF(AnimalType=\"Kurudaki İnek\",1.6*BW,0.8*BW)),50*TotalDMFed)","v":520},{"$f":"CS31","v":600},{"$f":"CS31","v":600},80,{"$f":"IF(TotalDMFed > 0,AP86/TotalDMFed,0)","v":28.38468551705261},{"$f":"IF(AnimalType = \"Buzağı\",IF(TotalDMFed>0,((MilkFeeds * AU86) + (CalfStarter * AV86) + (RegFeeds * AW86)) / TotalDMFed,0),0)","v":0},50,25,25,{"$f":"IF(Süt!$B27=\"\",\"\",IF(Süt!$C27<=0,\"\",IF(ISERROR(((($AA56 / TotalDMFed) * ($AB25 / 100) * (($AV56 * 1000) / $AB56) * ($AW25 / 100) * (AX25 / 100) * TotalDMFed) * 1000))=TRUE,0,((($AA56 / TotalDMFed) * ($AB25 / 100) * (($AV56 * 1000) / $AB56) * ($AW25 / 100) * (AX25 / 100) * TotalDMFed) * 1000))))","v":""},{"$f":"IF(Süt!$B27=\"\",\"\",IF(Süt!$C27<=0,\"\",IF(ISERROR(((($AA56 / TotalDMFed) * ($AB25 / 100) * (($AV56 * 1000) / $AB56) * ($AW25 / 100) * (AY25 / 100) * TotalDMFed) * 1000))=TRUE,0,((($AA56 / TotalDMFed) * ($AB25 / 100) * (($AV56 * 1000) / $AB56) * ($AW25 / 100) * (AY25 / 100) * TotalDMFed) * 1000))))","v":""},{"$f":"IF(Süt!$B27=\"\",\"\",IF(Süt!$C27<=0,\"\",IF(ISERROR(((($AA56 / TotalDMFed) * ($AB25 / 100) * (($AV56 * 1000) / $AB56) * ($AW25 / 100) * (AZ25 / 100) * TotalDMFed) * 1000))=TRUE,0,((($AA56 / TotalDMFed) * ($AB25 / 100) * (($AV56 * 1000) / $AB56) * ($AW25 / 100) * (AZ25 / 100) * TotalDMFed) * 1000))))","v":""},{"$f":"IF(Süt!$B27=\"\",\"\",IF(Süt!$C27<=0,\"\",IF(ISERROR(((($AA56 / TotalDMFed) * ($AB25 / 100) * (($AV56 * 1000) / $AB56) * ($AW25 / 100) * (BA25 / 100) * TotalDMFed) * 1000))=TRUE,0,((($AA56 / TotalDMFed) * ($AB25 / 100) * (($AV56 * 1000) / $AB56) * ($AW25 / 100) * (BA25 / 100) * TotalDMFed) * 1000))))","v":""},{"$f":"IF(Süt!$B27=\"\",\"\",IF(Süt!$C27<=0,\"\",IF(ISERROR(((($AA56 / TotalDMFed) * ($AB25 / 100) * (($AV56 * 1000) / $AB56) * ($AW25 / 100) * (BB25 / 100) * TotalDMFed) * 1000))=TRUE,0,((($AA56 / TotalDMFed) * ($AB25 / 100) * (($AV56 * 1000) / $AB56) * ($AW25 / 100) * (BB25 / 100) * TotalDMFed) * 1000))))","v":""},{"$f":"IF(Süt!$B27=\"\",\"\",IF(Süt!$C27<=0,\"\",IF(ISERROR(((($AA56 / TotalDMFed) * ($AB25 / 100) * (($AV56 * 1000) / $AB56) * ($AW25 / 100) * (BC25 / 100) * TotalDMFed) * 1000))=TRUE,0,((($AA56 / TotalDMFed) * ($AB25 / 100) * (($AV56 * 1000) / $AB56) * ($AW25 / 100) * (BC25 / 100) * TotalDMFed) * 1000))))","v":""},{"$f":"IF(Süt!$B27=\"\",\"\",IF(Süt!$C27<=0,\"\",IF(ISERROR(((($AA56 / TotalDMFed) * ($AB25 / 100) * (($AV56 * 1000) / $AB56) * ($AW25 / 100) * (BD25 / 100) * TotalDMFed) * 1000))=TRUE,0,((($AA56 / TotalDMFed) * ($AB25 / 100) * (($AV56 * 1000) / $AB56) * ($AW25 / 100) * (BD25 / 100) * TotalDMFed) * 1000))))","v":""},{"$f":"IF(Süt!$B27=\"\",\"\",IF(Süt!$C27<=0,\"\",IF(ISERROR(((($AA56 / TotalDMFed) * ($AB25 / 100) * (($AV56 * 1000) / $AB56) * ($AW25 / 100) * (BE25 / 100) * TotalDMFed) * 1000))=TRUE,0,((($AA56 / TotalDMFed) * ($AB25 / 100) * (($AV56 * 1000) / $AB56) * ($AW25 / 100) * (BE25 / 100) * TotalDMFed) * 1000))))","v":""},{"$f":"IF(Süt!$B27=\"\",\"\",IF(Süt!$C27<=0,\"\",IF(ISERROR(((($AA56 / TotalDMFed) * ($AB25 / 100) * (($AV56 * 1000) / $AB56) * ($AW25 / 100) * (BF25 / 100) * TotalDMFed) * 1000))=TRUE,0,((($AA56 / TotalDMFed) * ($AB25 / 100) * (($AV56 * 1000) / $AB56) * ($AW25 / 100) * (BF25 / 100) * TotalDMFed) * 1000))))","v":""},{"$f":"IF(Süt!$B27=\"\",\"\",IF(Süt!$C27<=0,\"\",IF(ISERROR(((($AA56 / TotalDMFed) * ($AB25 / 100) * (($AV56 * 1000) / $AB56) * ($AW25 / 100) * (BG25 / 100) * TotalDMFed) * 1000))=TRUE,0,((($AA56 / TotalDMFed) * ($AB25 / 100) * (($AV56 * 1000) / $AB56) * ($AW25 / 100) * (BG25 / 100) * TotalDMFed) * 1000))))","v":""},{"$f":"IF(Süt!$B27=\"\",\"\",IF(Süt!$C27<=0,\"\",IF(ISERROR(((($AA56 / TotalDMFed) * ($AB25 / 100) * (($AV56 * 1000) / $AB56) * ($AW25 / 100) * (BH25 / 100) * TotalDMFed) * 1000))=TRUE,0,((($AA56 / TotalDMFed) * ($AB25 / 100) * (($AV56 * 1000) / $AB56) * ($AW25 / 100) * (BH25 / 100) * TotalDMFed) * 1000))))","v":""},null,{"$f":"IF(Süt!$B27=\"\",\"\",IF(Süt!$C27<=0,\"\",IF(AND(AnimalType=\"Buzağı\",MID(AN25,1,9)=\"Calf Feed\")=TRUE,IF(AN25=\"Calf Feed-Milk\",AA56,0),0)))","v":""},{"$f":"IF(Süt!$B27=\"\",\"\",IF(Süt!$C27<=0,\"\",IF(AND(AnimalType=\"Buzağı\",MID(AN25,1,9)=\"Calf Feed\")=TRUE,IF(AN25=\"Calf Feed-Milk\",AA56*V56,0),0)))","v":""},{"$f":"IF(Süt!$B27=\"\",\"\",IF(Süt!$C27<=0,\"\",IF(AND(AnimalType=\"Buzağı\",MID(AN25,1,9)=\"Calf Feed\")=TRUE,IF(AN25=\"Calf Feed-Milk\",AC86,0),0)))","v":""},{"$f":"IF(Süt!$B27=\"\",\"\",IF(Süt!$C27<=0,\"\",IF(AND(AnimalType=\"Buzağı\",MID(AN25,1,9)=\"Calf Feed\")=TRUE,IF(AN25=\"Calf Feed-Milk\",AB86,0),0)))","v":""},{"$f":"IF(Süt!$B27=\"\",\"\",IF(Süt!$C27<=0,\"\",IF(AND(AnimalType=\"Buzağı\",MID(AN25,1,9)=\"Calf Feed\")=TRUE,IF(AN25=\"Calf Feed-Milk\",0,AA56),AA56)))","v":""},{"$f":"IF(Süt!$B27=\"\",\"\",IF(Süt!$C27<=0,\"\",IF(AND(AnimalType=\"Buzağı\",MID(AN25,1,9)=\"Calf Feed\")=TRUE,IF(AN25=\"Calf Feed-Milk\",0,AA56*V56),0)))","v":""},{"$f":"IF(Süt!$B27=\"\",\"\",IF(Süt!$C27<=0,\"\",IF(AND(AnimalType=\"Buzağı\",MID(AN25,1,9)=\"Calf Feed\")=TRUE,IF(AN25=\"Calf Feed-Milk\",0,AC86),AC86)))","v":""},{"$f":"IF(Süt!$B27=\"\",\"\",IF(Süt!$C27<=0,\"\",IF(AND(AnimalType=\"Buzağı\",MID(AN25,1,9)=\"Calf Feed\")=TRUE,IF(AN25=\"Calf Feed-Milk\",0,AB86),AB56)))","v":""},{"$f":"IF(Süt!$B27=\"\",\"\",IF(Süt!$C27<=0,\"\",IF(AND(AnimalType=\"Buzağı\",MID(AN25,1,9)=\"Calf Feed\")=TRUE,IF(V56<>0,0.86*(AA56*V56),0),0.75*(AA56*V56))))","v":""},{"$f":"IF(Süt!$B27=\"\",\"\",IF(Süt!$C27<=0,\"\",IF(AND(AnimalType=\"Buzağı\",MID(AN25,1,9)=\"Calf Feed\")=TRUE,IF(V56<>0,0.69*(AA56*V56),0),0.57*(AA56*V56))))","v":""},{"$f":"IF(Süt!$B27=\"\",\"\",IF(Süt!$C27<=0,\"\",IF(AND(AnimalType=\"Buzağı\",MID(AN25,1,9)=\"Calf Feed\")=TRUE,IF(V56<>0,V56,0),V56)))","v":""},null,null,"Laktasyon sonu",2.5,2.5,null,null,null,null,null,null,"EvalFactor(4)",{"$f":" MPBact + MPFeed","v":1122.1801807284119},{"$f":"CG86","v":1122.1801807284119},{"$f":"CH88","v":360.1624669583955},{"$f":"CI88","v":360.1624669583955},{"$f":"CJ88","v":-796.55395095205222},{"$f":"CK88","v":-796.55395095205222},"g/gün, MP Diet",null,null,null,null,null,null,14,1.032,null,"SA",{"$f":"0.09*(SBW^0.67)","v":6.7145387502739053},"surface area (m^2)",null,null,null,null,null,null,null,null,null,null,"Calf Feed-Vit/Min"]
[null,null,{"$f":"IF(Süt!$B12=\"\",\"\",IF(Süt!$C12<=0,\"\",(AU10/ 100) * (AB10/100)*AA41))","v":""},{"$f":"IF(Süt!$B12=\"\",\"\",IF(Süt!$C12<=0,\"\",(AV10/ 100) * (AB10/100)*AA41))","v":""},{"$f":"IF(Süt!$B12=\"\",\"\",IF(Süt!$C12<=0,\"\",IF((AT10+AN41)>0,   IF(BW_DMI<2,  C87,  C87+(BW_DMI-2)*((D87-C87)/2) ),0)))","v":""},0,null,null,null,null,null,null,null,null,null,17,29,40,19,null,null,null,null,null,{"$f":"IF(Süt!$B28=\"\",\"\",IF(Süt!$C28<=0,\"\",IF(MID(AN26,1,9)=\"Calf Feed\",$AA57*Y26,0)))","v":""},{"$f":"IF(Süt!$B28=\"\",\"\",IF(Süt!$C28<=0,\"\",IF(MID(AN26,1,9)=\"Calf Feed\",$AA57*Z26,0)))","v":""},{"$f":"IF(Süt!$B28=\"\",\"\",IF(Süt!$C28<=0,\"\",IF(MID($AN26,1,9)=\"Calf Feed\",$AA57*V57,0)))","v":""},{"$f":"IF(Süt!$B28=\"\",\"\",IF(Süt!$C28<=0,\"\",IF(MID($AN26,1,9)=\"Calf Feed\",$AA57*(AB26/100),AB57/1000)))","v":""},{"$f":"IF(Süt!$B28=\"\",\"\",IF(Süt!$C28<=0,\"\",IF(MID(AN26,1,9)=\"Calf Feed\",AA57*(AB26/100),AB57/1000*0.75)))","v":""},{"$f":"IF(Süt!$B28=\"\",\"\",IF(Süt!$C28<=0,\"\",IF(MID($AN26,1,9)=\"Calf Feed\",$AA57*(AF26/100),0)))","v":""},null,null,null,null,null,null,null,null,null,null,null,null,null,null,null,null,null,null,null,{"$f":"IF(Süt!$B28=\"\",\"\",IF(Süt!$C28<=0,\"\",IF(ISERROR(((($AA57 / TotalDMFed) * ($AB26 / 100) * (($AV57 * 1000) / $AB57) * ($AW26 / 100) * (AX26 / 100) * TotalDMFed) * 1000))=TRUE,0,((($AA57 / TotalDMFed) * ($AB26 / 100) * (($AV57 * 1000) / $AB57) * ($AW26 / 100) * (AX26 / 100) * TotalDMFed) * 1000))))","v":""},{"$f":"IF(Süt!$B28=\"\",\"\",IF(Süt!$C28<=0,\"\",IF(ISERROR(((($AA57 / TotalDMFed) * ($AB26 / 100) * (($AV57 * 1000) / $AB57) * ($AW26 / 100) * (AY26 / 100) * TotalDMFed) * 1000))=TRUE,0,((($AA57 / TotalDMFed) * ($AB26 / 100) * (($AV57 * 1000) / $AB57) * ($AW26 / 100) * (AY26 / 100) * TotalDMFed) * 1000))))","v":""},{"$f":"IF(Süt!$B28=\"\",\"\",IF(Süt!$C28<=0,\"\",IF(ISERROR(((($AA57 / TotalDMFed) * ($AB26 / 100) * (($AV57 * 1000) / $AB57) * ($AW26 / 100) * (AZ26 / 100) * TotalDMFed) * 1000))=TRUE,0,((($AA57 / TotalDMFed) * ($AB26 / 100) * (($AV57 * 1000) / $AB57) * ($AW26 / 100) * (AZ26 / 100) * TotalDMFed) * 1000))))","v":""},{"$f":"IF(Süt!$B28=\"\",\"\",IF(Süt!$C28<=0,\"\",IF(ISERROR(((($AA57 / TotalDMFed) * ($AB26 / 100) * (($AV57 * 1000) / $AB57) * ($AW26 / 100) * (BA26 / 100) * TotalDMFed) * 1000))=TRUE,0,((($AA57 / TotalDMFed) * ($AB26 / 100) * (($AV57 * 1000) / $AB57) * ($AW26 / 100) * (BA26 / 100) * TotalDMFed) * 1000))))","v":""},{"$f":"IF(Süt!$B28=\"\",\"\",IF(Süt!$C28<=0,\"\",IF(ISERROR(((($AA57 / TotalDMFed) * ($AB26 / 100) * (($AV57 * 1000) / $AB57) * ($AW26 / 100) * (BB26 / 100) * TotalDMFed) * 1000))=TRUE,0,((($AA57 / TotalDMFed) * ($AB26 / 100) * (($AV57 * 1000) / $AB57) * ($AW26 / 100) * (BB26 / 100) * TotalDMFed) * 1000))))","v":""},{"$f":"IF(Süt!$B28=\"\",\"\",IF(Süt!$C28<=0,\"\",IF(ISERROR(((($AA57 / TotalDMFed) * ($AB26 / 100) * (($AV57 * 1000) / $AB57) * ($AW26 / 100) * (BC26 / 100) * TotalDMFed) * 1000))=TRUE,0,((($AA57 / TotalDMFed) * ($AB26 / 100) * (($AV57 * 1000) / $AB57) * ($AW26 / 100) * (BC26 / 100) * TotalDMFed) * 1000))))","v":""},{"$f":"IF(Süt!$B28=\"\",\"\",IF(Süt!$C28<=0,\"\",IF(ISERROR(((($AA57 / TotalDMFed) * ($AB26 / 100) * (($AV57 * 1000) / $AB57) * ($AW26 / 100) * (BD26 / 100) * TotalDMFed) * 1000))=TRUE,0,((($AA57 / TotalDMFed) * ($AB26 / 100) * (($AV57 * 1000) / $AB57) * ($AW26 / 100) * (BD26 / 100) * TotalDMFed) * 1000))))","v":""},{"$f":"IF(Süt!$B28=\"\",\"\",IF(Süt!$C28<=0,\"\",IF(ISERROR(((($AA57 / TotalDMFed) * ($AB26 / 100) * (($AV57 * 1000) / $AB57) * ($AW26 / 100) * (BE26 / 100) * TotalDMFed) * 1000))=TRUE,0,((($AA57 / TotalDMFed) * ($AB26 / 100) * (($AV57 * 1000) / $AB57) * ($AW26 / 100) * (BE26 / 100) * TotalDMFed) * 1000))))","v":""},{"$f":"IF(Süt!$B28=\"\",\"\",IF(Süt!$C28<=0,\"\",IF(ISERROR(((($AA57 / TotalDMFed) * ($AB26 / 100) * (($AV57 * 1000) / $AB57) * ($AW26 / 100) * (BF26 / 100) * TotalDMFed) * 1000))=TRUE,0,((($AA57 / TotalDMFed) * ($AB26 / 100) * (($AV57 * 1000) / $AB57) * ($AW26 / 100) * (BF26 / 100) * TotalDMFed) * 1000))))","v":""},{"$f":"IF(Süt!$B28=\"\",\"\",IF(Süt!$C28<=0,\"\",IF(ISERROR(((($AA57 / TotalDMFed) * ($AB26 / 100) * (($AV57 * 1000) / $AB57) * ($AW26 / 100) * (BG26 / 100) * TotalDMFed) * 1000))=TRUE,0,((($AA57 / TotalDMFed) * ($AB26 / 100) * (($AV57 * 1000) / $AB57) * ($AW26 / 100) * (BG26 / 100) * TotalDMFed) * 1000))))","v":""},{"$f":"IF(Süt!$B28=\"\",\"\",IF(Süt!$C28<=0,\"\",IF(ISERROR(((($AA57 / TotalDMFed) * ($AB26 / 100) * (($AV57 * 1000) / $AB57) * ($AW26 / 100) * (BH26 / 100) * TotalDMFed) * 1000))=TRUE,0,((($AA57 / TotalDMFed) * ($AB26 / 100) * (($AV57 * 1000) / $AB57) * ($AW26 / 100) * (BH26 / 100) * TotalDMFed) * 1000))))","v":""},null,{"$f":"IF(Süt!$B28=\"\",\"\",IF(Süt!$C28<=0,\"\",IF(AND(AnimalType=\"Buzağı\",MID(AN26,1,9)=\"Calf Feed\")=TRUE,IF(AN26=\"Calf Feed-Milk\",AA57,0),0)))","v":""},{"$f":"IF(Süt!$B28=\"\",\"\",IF(Süt!$C28<=0,\"\",IF(AND(AnimalType=\"Buzağı\",MID(AN26,1,9)=\"Calf Feed\")=TRUE,IF(AN26=\"Calf Feed-Milk\",AA57*V57,0),0)))","v":""},{"$f":"IF(Süt!$B28=\"\",\"\",IF(Süt!$C28<=0,\"\",IF(AND(AnimalType=\"Buzağı\",MID(AN26,1,9)=\"Calf Feed\")=TRUE,IF(AN26=\"Calf Feed-Milk\",AC87,0),0)))","v":""},{"$f":"IF(Süt!$B28=\"\",\"\",IF(Süt!$C28<=0,\"\",IF(AND(AnimalType=\"Buzağı\",MID(AN26,1,9)=\"Calf Feed\")=TRUE,IF(AN26=\"Calf Feed-Milk\",AB87,0),0)))","v":""},{"$f":"IF(Süt!$B28=\"\",\"\",IF(Süt!$C28<=0,\"\",IF(AND(AnimalType=\"Buzağı\",MID(AN26,1,9)=\"Calf Feed\")=TRUE,IF(AN26=\"Calf Feed-Milk\",0,AA57),AA57)))","v":""},{"$f":"IF(Süt!$B28=\"\",\"\",IF(Süt!$C28<=0,\"\",IF(AND(AnimalType=\"Buzağı\",MID(AN26,1,9)=\"Calf Feed\")=TRUE,IF(AN26=\"Calf Feed-Milk\",0,AA57*V57),0)))","v":""},{"$f":"IF(Süt!$B28=\"\",\"\",IF(Süt!$C28<=0,\"\",IF(AND(AnimalType=\"Buzağı\",MID(AN26,1,9)=\"Calf Feed\")=TRUE,IF(AN26=\"Calf Feed-Milk\",0,AC87),AC87)))","v":""},{"$f":"IF(Süt!$B28=\"\",\"\",IF(Süt!$C28<=0,\"\",IF(AND(AnimalType=\"Buzağı\",MID(AN26,1,9)=\"Calf Feed\")=TRUE,IF(AN26=\"Calf Feed-Milk\",0,AB87),AB57)))","v":""},{"$f":"IF(Süt!$B28=\"\",\"\",IF(Süt!$C28<=0,\"\",IF(AND(AnimalType=\"Buzağı\",MID(AN26,1,9)=\"Calf Feed\")=TRUE,IF(V57<>0,0.86*(AA57*V57),0),0.75*(AA57*V57))))","v":""},{"$f":"IF(Süt!$B28=\"\",\"\",IF(Süt!$C28<=0,\"\",IF(AND(AnimalType=\"Buzağı\",MID(AN26,1,9)=\"Calf Feed\")=TRUE,IF(V57<>0,0.69*(AA57*V57),0),0.57*(AA57*V57))))","v":""},{"$f":"IF(Süt!$B28=\"\",\"\",IF(Süt!$C28<=0,\"\",IF(AND(AnimalType=\"Buzağı\",MID(AN26,1,9)=\"Calf Feed\")=TRUE,IF(V57<>0,V57,0),V57)))","v":""},null,null,"Kuru dönem",3.25,3.75,null,null,null,null,null,null,"EvalFactor(5)",{"$f":"CH87+CI87+CJ87+CK87","v":1918.7341316804641},{"$f":" MPMaint","v":762.01771377001637},{"$f":"MPPreg","v":0},{"$f":"MPLact","v":1156.7164179104477},{"$f":"IF(Age>FirstCalf,IF(EQEBG>0,MPGrowth,0),IF(SWG>0,IF(EffMP_NPg>0,IF(WG>0,(((268-(29.4*(RE/WG)))*WG)/EffMP_NPg),0),0),0))","v":0},null,"g/gün, MP Required",null,null,null,null,null,null,15,1.03,null,"HP",{"$f":"IF(SA>0,(MEI-NEFP)/SA,0)","v":5.8381012632163714},"heat production (Mcal/m^2/day)",null,null,null,null,null,null,null,null,null,null,"Energy Source"]
[null,null,{"$f":"IF(Süt!$B13=\"\",\"\",IF(Süt!$C13<=0,\"\",(AU11/ 100) * (AB11/100)*AA42))","v":""},{"$f":"IF(Süt!$B13=\"\",\"\",IF(Süt!$C13<=0,\"\",(AV11/ 100) * (AB11/100)*AA42))","v":""},{"$f":"IF(Süt!$B13=\"\",\"\",IF(Süt!$C13<=0,\"\",IF((AT11+AN42)>0,   IF(BW_DMI<2,  C88,  C88+(BW_DMI-2)*((D88-C88)/2) ),0)))","v":""},0,null,null,null,null,null,null,null,null,null,18,27,42,18,null,null,null,null,null,{"$f":"IF(Süt!$B29=\"\",\"\",IF(Süt!$C29<=0,\"\",IF(MID(AN27,1,9)=\"Calf Feed\",$AA58*Y27,0)))","v":""},{"$f":"IF(Süt!$B29=\"\",\"\",IF(Süt!$C29<=0,\"\",IF(MID(AN27,1,9)=\"Calf Feed\",$AA58*Z27,0)))","v":""},{"$f":"IF(Süt!$B29=\"\",\"\",IF(Süt!$C29<=0,\"\",IF(MID($AN27,1,9)=\"Calf Feed\",$AA58*V58,0)))","v":""},{"$f":"IF(Süt!$B29=\"\",\"\",IF(Süt!$C29<=0,\"\",IF(MID($AN27,1,9)=\"Calf Feed\",$AA58*(AB27/100),AB58/1000)))","v":""},{"$f":"IF(Süt!$B29=\"\",\"\",IF(Süt!$C29<=0,\"\",IF(MID(AN27,1,9)=\"Calf Feed\",AA58*(AB27/100),AB58/1000*0.75)))","v":""},{"$f":"IF(Süt!$B29=\"\",\"\",IF(Süt!$C29<=0,\"\",IF(MID($AN27,1,9)=\"Calf Feed\",$AA58*(AF27/100),0)))","v":""},null,null,null,null,null,null,null,null,null,null,null,null,null,null,null,null,null,null,null,{"$f":"IF(Süt!$B29=\"\",\"\",IF(Süt!$C29<=0,\"\",IF(ISERROR(((($AA58 / TotalDMFed) * ($AB27 / 100) * (($AV58 * 1000) / $AB58) * ($AW27 / 100) * (AX27 / 100) * TotalDMFed) * 1000))=TRUE,0,((($AA58 / TotalDMFed) * ($AB27 / 100) * (($AV58 * 1000) / $AB58) * ($AW27 / 100) * (AX27 / 100) * TotalDMFed) * 1000))))","v":""},{"$f":"IF(Süt!$B29=\"\",\"\",IF(Süt!$C29<=0,\"\",IF(ISERROR(((($AA58 / TotalDMFed) * ($AB27 / 100) * (($AV58 * 1000) / $AB58) * ($AW27 / 100) * (AY27 / 100) * TotalDMFed) * 1000))=TRUE,0,((($AA58 / TotalDMFed) * ($AB27 / 100) * (($AV58 * 1000) / $AB58) * ($AW27 / 100) * (AY27 / 100) * TotalDMFed) * 1000))))","v":""},{"$f":"IF(Süt!$B29=\"\",\"\",IF(Süt!$C29<=0,\"\",IF(ISERROR(((($AA58 / TotalDMFed) * ($AB27 / 100) * (($AV58 * 1000) / $AB58) * ($AW27 / 100) * (AZ27 / 100) * TotalDMFed) * 1000))=TRUE,0,((($AA58 / TotalDMFed) * ($AB27 / 100) * (($AV58 * 1000) / $AB58) * ($AW27 / 100) * (AZ27 / 100) * TotalDMFed) * 1000))))","v":""},{"$f":"IF(Süt!$B29=\"\",\"\",IF(Süt!$C29<=0,\"\",IF(ISERROR(((($AA58 / TotalDMFed) * ($AB27 / 100) * (($AV58 * 1000) / $AB58) * ($AW27 / 100) * (BA27 / 100) * TotalDMFed) * 1000))=TRUE,0,((($AA58 / TotalDMFed) * ($AB27 / 100) * (($AV58 * 1000) / $AB58) * ($AW27 / 100) * (BA27 / 100) * TotalDMFed) * 1000))))","v":""},{"$f":"IF(Süt!$B29=\"\",\"\",IF(Süt!$C29<=0,\"\",IF(ISERROR(((($AA58 / TotalDMFed) * ($AB27 / 100) * (($AV58 * 1000) / $AB58) * ($AW27 / 100) * (BB27 / 100) * TotalDMFed) * 1000))=TRUE,0,((($AA58 / TotalDMFed) * ($AB27 / 100) * (($AV58 * 1000) / $AB58) * ($AW27 / 100) * (BB27 / 100) * TotalDMFed) * 1000))))","v":""},{"$f":"IF(Süt!$B29=\"\",\"\",IF(Süt!$C29<=0,\"\",IF(ISERROR(((($AA58 / TotalDMFed) * ($AB27 / 100) * (($AV58 * 1000) / $AB58) * ($AW27 / 100) * (BC27 / 100) * TotalDMFed) * 1000))=TRUE,0,((($AA58 / TotalDMFed) * ($AB27 / 100) * (($AV58 * 1000) / $AB58) * ($AW27 / 100) * (BC27 / 100) * TotalDMFed) * 1000))))","v":""},{"$f":"IF(Süt!$B29=\"\",\"\",IF(Süt!$C29<=0,\"\",IF(ISERROR(((($AA58 / TotalDMFed) * ($AB27 / 100) * (($AV58 * 1000) / $AB58) * ($AW27 / 100) * (BD27 / 100) * TotalDMFed) * 1000))=TRUE,0,((($AA58 / TotalDMFed) * ($AB27 / 100) * (($AV58 * 1000) / $AB58) * ($AW27 / 100) * (BD27 / 100) * TotalDMFed) * 1000))))","v":""},{"$f":"IF(Süt!$B29=\"\",\"\",IF(Süt!$C29<=0,\"\",IF(ISERROR(((($AA58 / TotalDMFed) * ($AB27 / 100) * (($AV58 * 1000) / $AB58) * ($AW27 / 100) * (BE27 / 100) * TotalDMFed) * 1000))=TRUE,0,((($AA58 / TotalDMFed) * ($AB27 / 100) * (($AV58 * 1000) / $AB58) * ($AW27 / 100) * (BE27 / 100) * TotalDMFed) * 1000))))","v":""},{"$f":"IF(Süt!$B29=\"\",\"\",IF(Süt!$C29<=0,\"\",IF(ISERROR(((($AA58 / TotalDMFed) * ($AB27 / 100) * (($AV58 * 1000) / $AB58) * ($AW27 / 100) * (BF27 / 100) * TotalDMFed) * 1000))=TRUE,0,((($AA58 / TotalDMFed) * ($AB27 / 100) * (($AV58 * 1000) / $AB58) * ($AW27 / 100) * (BF27 / 100) * TotalDMFed) * 1000))))","v":""},{"$f":"IF(Süt!$B29=\"\",\"\",IF(Süt!$C29<=0,\"\",IF(ISERROR(((($AA58 / TotalDMFed) * ($AB27 / 100) * (($AV58 * 1000) / $AB58) * ($AW27 / 100) * (BG27 / 100) * TotalDMFed) * 1000))=TRUE,0,((($AA58 / TotalDMFed) * ($AB27 / 100) * (($AV58 * 1000) / $AB58) * ($AW27 / 100) * (BG27 / 100) * TotalDMFed) * 1000))))","v":""},{"$f":"IF(Süt!$B29=\"\",\"\",IF(Süt!$C29<=0,\"\",IF(ISERROR(((($AA58 / TotalDMFed) * ($AB27 / 100) * (($AV58 * 1000) / $AB58) * ($AW27 / 100) * (BH27 / 100) * TotalDMFed) * 1000))=TRUE,0,((($AA58 / TotalDMFed) * ($AB27 / 100) * (($AV58 * 1000) / $AB58) * ($AW27 / 100) * (BH27 / 100) * TotalDMFed) * 1000))))","v":""},null,{"$f":"IF(Süt!$B29=\"\",\"\",IF(Süt!$C29<=0,\"\",IF(AND(AnimalType=\"Buzağı\",MID(AN27,1,9)=\"Calf Feed\")=TRUE,IF(AN27=\"Calf Feed-Milk\",AA58,0),0)))","v":""},{"$f":"IF(Süt!$B29=\"\",\"\",IF(Süt!$C29<=0,\"\",IF(AND(AnimalType=\"Buzağı\",MID(AN27,1,9)=\"Calf Feed\")=TRUE,IF(AN27=\"Calf Feed-Milk\",AA58*V58,0),0)))","v":""},{"$f":"IF(Süt!$B29=\"\",\"\",IF(Süt!$C29<=0,\"\",IF(AND(AnimalType=\"Buzağı\",MID(AN27,1,9)=\"Calf Feed\")=TRUE,IF(AN27=\"Calf Feed-Milk\",AC88,0),0)))","v":""},{"$f":"IF(Süt!$B29=\"\",\"\",IF(Süt!$C29<=0,\"\",IF(AND(AnimalType=\"Buzağı\",MID(AN27,1,9)=\"Calf Feed\")=TRUE,IF(AN27=\"Calf Feed-Milk\",AB88,0),0)))","v":""},{"$f":"IF(Süt!$B29=\"\",\"\",IF(Süt!$C29<=0,\"\",IF(AND(AnimalType=\"Buzağı\",MID(AN27,1,9)=\"Calf Feed\")=TRUE,IF(AN27=\"Calf Feed-Milk\",0,AA58),AA58)))","v":""},{"$f":"IF(Süt!$B29=\"\",\"\",IF(Süt!$C29<=0,\"\",IF(AND(AnimalType=\"Buzağı\",MID(AN27,1,9)=\"Calf Feed\")=TRUE,IF(AN27=\"Calf Feed-Milk\",0,AA58*V58),0)))","v":""},{"$f":"IF(Süt!$B29=\"\",\"\",IF(Süt!$C29<=0,\"\",IF(AND(AnimalType=\"Buzağı\",MID(AN27,1,9)=\"Calf Feed\")=TRUE,IF(AN27=\"Calf Feed-Milk\",0,AC88),AC88)))","v":""},{"$f":"IF(Süt!$B29=\"\",\"\",IF(Süt!$C29<=0,\"\",IF(AND(AnimalType=\"Buzağı\",MID(AN27,1,9)=\"Calf Feed\")=TRUE,IF(AN27=\"Calf Feed-Milk\",0,AB88),AB58)))","v":""},{"$f":"IF(Süt!$B29=\"\",\"\",IF(Süt!$C29<=0,\"\",IF(AND(AnimalType=\"Buzağı\",MID(AN27,1,9)=\"Calf Feed\")=TRUE,IF(V58<>0,0.86*(AA58*V58),0),0.75*(AA58*V58))))","v":""},{"$f":"IF(Süt!$B29=\"\",\"\",IF(Süt!$C29<=0,\"\",IF(AND(AnimalType=\"Buzağı\",MID(AN27,1,9)=\"Calf Feed\")=TRUE,IF(V58<>0,0.69*(AA58*V58),0),0.57*(AA58*V58))))","v":""},{"$f":"IF(Süt!$B29=\"\",\"\",IF(Süt!$C29<=0,\"\",IF(AND(AnimalType=\"Buzağı\",MID(AN27,1,9)=\"Calf Feed\")=TRUE,IF(V58<>0,V58,0),V58)))","v":""},null,null,"Düve",2.75,3.25,null,null,null,null,null,null,"EvalFactor(6)",{"$f":"CG86-CG87","v":-796.55395095205222},{"$f":"CH86-CH87","v":360.1624669583955},{"$f":"CI86-CI87","v":360.1624669583955},{"$f":"CJ86-CJ87","v":-796.55395095205222},{"$f":"CK86-CK87","v":-796.55395095205222},null,"g/gün, MP (Diet -Required)",null,null,null,null,null,null,16,1.0270000000000001,null,"T",{"$f":"Age*30.4","v":1550.3999999999999},"age in days",null,null,null,null,null,null,null,null,null,null,"Fat and Oil"]
[null,null,{"$f":"IF(Süt!$B14=\"\",\"\",IF(Süt!$C14<=0,\"\",(AU12/ 100) * (AB12/100)*AA43))","v":""},{"$f":"IF(Süt!$B14=\"\",\"\",IF(Süt!$C14<=0,\"\",(AV12/ 100) * (AB12/100)*AA43))","v":""},{"$f":"IF(Süt!$B14=\"\",\"\",IF(Süt!$C14<=0,\"\",IF((AT12+AN43)>0,   IF(BW_DMI<2,  C89,  C89+(BW_DMI-2)*((D89-C89)/2) ),0)))","v":""},0,null,null,null,null,null,null,null,null,null,19,25,44,17,null,null,null,null,null,{"$f":"IF(Süt!$B30=\"\",\"\",IF(Süt!$C30<=0,\"\",IF(MID(AN28,1,9)=\"Calf Feed\",$AA59*Y28,0)))","v":""},{"$f":"IF(Süt!$B30=\"\",\"\",IF(Süt!$C30<=0,\"\",IF(MID(AN28,1,9)=\"Calf Feed\",$AA59*Z28,0)))","v":""},{"$f":"IF(Süt!$B30=\"\",\"\",IF(Süt!$C30<=0,\"\",IF(MID($AN28,1,9)=\"Calf Feed\",$AA59*V59,0)))","v":""},{"$f":"IF(Süt!$B30=\"\",\"\",IF(Süt!$C30<=0,\"\",IF(MID($AN28,1,9)=\"Calf Feed\",$AA59*(AB28/100),AB59/1000)))","v":""},{"$f":"IF(Süt!$B30=\"\",\"\",IF(Süt!$C30<=0,\"\",IF(MID(AN28,1,9)=\"Calf Feed\",AA59*(AB28/100),AB59/1000*0.75)))","v":""},{"$f":"IF(Süt!$B30=\"\",\"\",IF(Süt!$C30<=0,\"\",IF(MID($AN28,1,9)=\"Calf Feed\",$AA59*(AF28/100),0)))","v":""},null,null,null,null,null,null,null,null,null,null,null,null,null,null,null,null,null,null,null,{"$f":"IF(Süt!$B30=\"\",\"\",IF(Süt!$C30<=0,\"\",IF(ISERROR(((($AA59 / TotalDMFed) * ($AB28 / 100) * (($AV59 * 1000) / $AB59) * ($AW28 / 100) * (AX28 / 100) * TotalDMFed) * 1000))=TRUE,0,((($AA59 / TotalDMFed) * ($AB28 / 100) * (($AV59 * 1000) / $AB59) * ($AW28 / 100) * (AX28 / 100) * TotalDMFed) * 1000))))","v":""},{"$f":"IF(Süt!$B30=\"\",\"\",IF(Süt!$C30<=0,\"\",IF(ISERROR(((($AA59 / TotalDMFed) * ($AB28 / 100) * (($AV59 * 1000) / $AB59) * ($AW28 / 100) * (AY28 / 100) * TotalDMFed) * 1000))=TRUE,0,((($AA59 / TotalDMFed) * ($AB28 / 100) * (($AV59 * 1000) / $AB59) * ($AW28 / 100) * (AY28 / 100) * TotalDMFed) * 1000))))","v":""},{"$f":"IF(Süt!$B30=\"\",\"\",IF(Süt!$C30<=0,\"\",IF(ISERROR(((($AA59 / TotalDMFed) * ($AB28 / 100) * (($AV59 * 1000) / $AB59) * ($AW28 / 100) * (AZ28 / 100) * TotalDMFed) * 1000))=TRUE,0,((($AA59 / TotalDMFed) * ($AB28 / 100) * (($AV59 * 1000) / $AB59) * ($AW28 / 100) * (AZ28 / 100) * TotalDMFed) * 1000))))","v":""},{"$f":"IF(Süt!$B30=\"\",\"\",IF(Süt!$C30<=0,\"\",IF(ISERROR(((($AA59 / TotalDMFed) * ($AB28 / 100) * (($AV59 * 1000) / $AB59) * ($AW28 / 100) * (BA28 / 100) * TotalDMFed) * 1000))=TRUE,0,((($AA59 / TotalDMFed) * ($AB28 / 100) * (($AV59 * 1000) / $AB59) * ($AW28 / 100) * (BA28 / 100) * TotalDMFed) * 1000))))","v":""},{"$f":"IF(Süt!$B30=\"\",\"\",IF(Süt!$C30<=0,\"\",IF(ISERROR(((($AA59 / TotalDMFed) * ($AB28 / 100) * (($AV59 * 1000) / $AB59) * ($AW28 / 100) * (BB28 / 100) * TotalDMFed) * 1000))=TRUE,0,((($AA59 / TotalDMFed) * ($AB28 / 100) * (($AV59 * 1000) / $AB59) * ($AW28 / 100) * (BB28 / 100) * TotalDMFed) * 1000))))","v":""},{"$f":"IF(Süt!$B30=\"\",\"\",IF(Süt!$C30<=0,\"\",IF(ISERROR(((($AA59 / TotalDMFed) * ($AB28 / 100) * (($AV59 * 1000) / $AB59) * ($AW28 / 100) * (BC28 / 100) * TotalDMFed) * 1000))=TRUE,0,((($AA59 / TotalDMFed) * ($AB28 / 100) * (($AV59 * 1000) / $AB59) * ($AW28 / 100) * (BC28 / 100) * TotalDMFed) * 1000))))","v":""},{"$f":"IF(Süt!$B30=\"\",\"\",IF(Süt!$C30<=0,\"\",IF(ISERROR(((($AA59 / TotalDMFed) * ($AB28 / 100) * (($AV59 * 1000) / $AB59) * ($AW28 / 100) * (BD28 / 100) * TotalDMFed) * 1000))=TRUE,0,((($AA59 / TotalDMFed) * ($AB28 / 100) * (($AV59 * 1000) / $AB59) * ($AW28 / 100) * (BD28 / 100) * TotalDMFed) * 1000))))","v":""},{"$f":"IF(Süt!$B30=\"\",\"\",IF(Süt!$C30<=0,\"\",IF(ISERROR(((($AA59 / TotalDMFed) * ($AB28 / 100) * (($AV59 * 1000) / $AB59) * ($AW28 / 100) * (BE28 / 100) * TotalDMFed) * 1000))=TRUE,0,((($AA59 / TotalDMFed) * ($AB28 / 100) * (($AV59 * 1000) / $AB59) * ($AW28 / 100) * (BE28 / 100) * TotalDMFed) * 1000))))","v":""},{"$f":"IF(Süt!$B30=\"\",\"\",IF(Süt!$C30<=0,\"\",IF(ISERROR(((($AA59 / TotalDMFed) * ($AB28 / 100) * (($AV59 * 1000) / $AB59) * ($AW28 / 100) * (BF28 / 100) * TotalDMFed) * 1000))=TRUE,0,((($AA59 / TotalDMFed) * ($AB28 / 100) * (($AV59 * 1000) / $AB59) * ($AW28 / 100) * (BF28 / 100) * TotalDMFed) * 1000))))","v":""},{"$f":"IF(Süt!$B30=\"\",\"\",IF(Süt!$C30<=0,\"\",IF(ISERROR(((($AA59 / TotalDMFed) * ($AB28 / 100) * (($AV59 * 1000) / $AB59) * ($AW28 / 100) * (BG28 / 100) * TotalDMFed) * 1000))=TRUE,0,((($AA59 / TotalDMFed) * ($AB28 / 100) * (($AV59 * 1000) / $AB59) * ($AW28 / 100) * (BG28 / 100) * TotalDMFed) * 1000))))","v":""},{"$f":"IF(Süt!$B30=\"\",\"\",IF(Süt!$C30<=0,\"\",IF(ISERROR(((($AA59 / TotalDMFed) * ($AB28 / 100) * (($AV59 * 1000) / $AB59) * ($AW28 / 100) * (BH28 / 100) * TotalDMFed) * 1000))=TRUE,0,((($AA59 / TotalDMFed) * ($AB28 / 100) * (($AV59 * 1000) / $AB59) * ($AW28 / 100) * (BH28 / 100) * TotalDMFed) * 1000))))","v":""},null,{"$f":"IF(Süt!$B30=\"\",\"\",IF(Süt!$C30<=0,\"\",IF(AND(AnimalType=\"Buzağı\",MID(AN28,1,9)=\"Calf Feed\")=TRUE,IF(AN28=\"Calf Feed-Milk\",AA59,0),0)))","v":""},{"$f":"IF(Süt!$B30=\"\",\"\",IF(Süt!$C30<=0,\"\",IF(AND(AnimalType=\"Buzağı\",MID(AN28,1,9)=\"Calf Feed\")=TRUE,IF(AN28=\"Calf Feed-Milk\",AA59*V59,0),0)))","v":""},{"$f":"IF(Süt!$B30=\"\",\"\",IF(Süt!$C30<=0,\"\",IF(AND(AnimalType=\"Buzağı\",MID(AN28,1,9)=\"Calf Feed\")=TRUE,IF(AN28=\"Calf Feed-Milk\",AC89,0),0)))","v":""},{"$f":"IF(Süt!$B30=\"\",\"\",IF(Süt!$C30<=0,\"\",IF(AND(AnimalType=\"Buzağı\",MID(AN28,1,9)=\"Calf Feed\")=TRUE,IF(AN28=\"Calf Feed-Milk\",AB89,0),0)))","v":""},{"$f":"IF(Süt!$B30=\"\",\"\",IF(Süt!$C30<=0,\"\",IF(AND(AnimalType=\"Buzağı\",MID(AN28,1,9)=\"Calf Feed\")=TRUE,IF(AN28=\"Calf Feed-Milk\",0,AA59),AA59)))","v":""},{"$f":"IF(Süt!$B30=\"\",\"\",IF(Süt!$C30<=0,\"\",IF(AND(AnimalType=\"Buzağı\",MID(AN28,1,9)=\"Calf Feed\")=TRUE,IF(AN28=\"Calf Feed-Milk\",0,AA59*V59),0)))","v":""},{"$f":"IF(Süt!$B30=\"\",\"\",IF(Süt!$C30<=0,\"\",IF(AND(AnimalType=\"Buzağı\",MID(AN28,1,9)=\"Calf Feed\")=TRUE,IF(AN28=\"Calf Feed-Milk\",0,AC89),AC89)))","v":""},{"$f":"IF(Süt!$B30=\"\",\"\",IF(Süt!$C30<=0,\"\",IF(AND(AnimalType=\"Buzağı\",MID(AN28,1,9)=\"Calf Feed\")=TRUE,IF(AN28=\"Calf Feed-Milk\",0,AB89),AB59)))","v":""},{"$f":"IF(Süt!$B30=\"\",\"\",IF(Süt!$C30<=0,\"\",IF(AND(AnimalType=\"Buzağı\",MID(AN28,1,9)=\"Calf Feed\")=TRUE,IF(V59<>0,0.86*(AA59*V59),0),0.75*(AA59*V59))))","v":""},{"$f":"IF(Süt!$B30=\"\",\"\",IF(Süt!$C30<=0,\"\",IF(AND(AnimalType=\"Buzağı\",MID(AN28,1,9)=\"Calf Feed\")=TRUE,IF(V59<>0,0.69*(AA59*V59),0),0.57*(AA59*V59))))","v":""},{"$f":"IF(Süt!$B30=\"\",\"\",IF(Süt!$C30<=0,\"\",IF(AND(AnimalType=\"Buzağı\",MID(AN28,1,9)=\"Calf Feed\")=TRUE,IF(V59<>0,V59,0),V59)))","v":""},null,null,null,null,null,null,null,null,null,null,null,null,null,null,null,null,null,null,null,null,null,null,null,null,null,17,1.0240000000000002,null,"Coat",{"$f":"IF(CoatCond=\"Temiz/Kuru\",1,IF(CoatCond=\"Biraz Çamurlu\",0.8,IF(CoatCond=\"Islak/Karışık\",0.5,0.2)))","v":0.8},"coat condition factor (dependent on CoatCond)",null,null,null,null,null,null,null,null,null,null,"Grain Crop Forage"]
[null,null,{"$f":"IF(Süt!$B15=\"\",\"\",IF(Süt!$C15<=0,\"\",(AU13/ 100) * (AB13/100)*AA44))","v":""},{"$f":"IF(Süt!$B15=\"\",\"\",IF(Süt!$C15<=0,\"\",(AV13/ 100) * (AB13/100)*AA44))","v":""},{"$f":"IF(Süt!$B15=\"\",\"\",IF(Süt!$C15<=0,\"\",IF((AT13+AN44)>0,   IF(BW_DMI<2,  C90,  C90+(BW_DMI-2)*((D90-C90)/2) ),0)))","v":""},0,null,null,null,null,null,null,null,null,null,{"$f":"IF(Süt!I20<15,15,IF(Süt!I20>19,19,Süt!I20))","v":19},{"$f":"-2*P90+63","v":25},{"$f":"2*P90+6","v":44},{"$f":"-P90+36","v":17},"Formüller regresyon denklemine dönüştürüldü.",null,null,null,null,{"$f":"IF(Süt!$B31=\"\",\"\",IF(Süt!$C31<=0,\"\",IF(MID(AN29,1,9)=\"Calf Feed\",$AA60*Y29,0)))","v":""},{"$f":"IF(Süt!$B31=\"\",\"\",IF(Süt!$C31<=0,\"\",IF(MID(AN29,1,9)=\"Calf Feed\",$AA60*Z29,0)))","v":""},{"$f":"IF(Süt!$B31=\"\",\"\",IF(Süt!$C31<=0,\"\",IF(MID($AN29,1,9)=\"Calf Feed\",$AA60*V60,0)))","v":""},{"$f":"IF(Süt!$B31=\"\",\"\",IF(Süt!$C31<=0,\"\",IF(MID($AN29,1,9)=\"Calf Feed\",$AA60*(AB29/100),AB60/1000)))","v":""},{"$f":"IF(Süt!$B31=\"\",\"\",IF(Süt!$C31<=0,\"\",IF(MID(AN29,1,9)=\"Calf Feed\",AA60*(AB29/100),AB60/1000*0.75)))","v":""},{"$f":"IF(Süt!$B31=\"\",\"\",IF(Süt!$C31<=0,\"\",IF(MID($AN29,1,9)=\"Calf Feed\",$AA60*(AF29/100),0)))","v":""},null,null,null,null,null,null,null,null,null,null,null,null,null,null,null,null,null,null,null,{"$f":"IF(Süt!$B31=\"\",\"\",IF(Süt!$C31<=0,\"\",IF(ISERROR(((($AA60 / TotalDMFed) * ($AB29 / 100) * (($AV60 * 1000) / $AB60) * ($AW29 / 100) * (AX29 / 100) * TotalDMFed) * 1000))=TRUE,0,((($AA60 / TotalDMFed) * ($AB29 / 100) * (($AV60 * 1000) / $AB60) * ($AW29 / 100) * (AX29 / 100) * TotalDMFed) * 1000))))","v":""},{"$f":"IF(Süt!$B31=\"\",\"\",IF(Süt!$C31<=0,\"\",IF(ISERROR(((($AA60 / TotalDMFed) * ($AB29 / 100) * (($AV60 * 1000) / $AB60) * ($AW29 / 100) * (AY29 / 100) * TotalDMFed) * 1000))=TRUE,0,((($AA60 / TotalDMFed) * ($AB29 / 100) * (($AV60 * 1000) / $AB60) * ($AW29 / 100) * (AY29 / 100) * TotalDMFed) * 1000))))","v":""},{"$f":"IF(Süt!$B31=\"\",\"\",IF(Süt!$C31<=0,\"\",IF(ISERROR(((($AA60 / TotalDMFed) * ($AB29 / 100) * (($AV60 * 1000) / $AB60) * ($AW29 / 100) * (AZ29 / 100) * TotalDMFed) * 1000))=TRUE,0,((($AA60 / TotalDMFed) * ($AB29 / 100) * (($AV60 * 1000) / $AB60) * ($AW29 / 100) * (AZ29 / 100) * TotalDMFed) * 1000))))","v":""},{"$f":"IF(Süt!$B31=\"\",\"\",IF(Süt!$C31<=0,\"\",IF(ISERROR(((($AA60 / TotalDMFed) * ($AB29 / 100) * (($AV60 * 1000) / $AB60) * ($AW29 / 100) * (BA29 / 100) * TotalDMFed) * 1000))=TRUE,0,((($AA60 / TotalDMFed) * ($AB29 / 100) * (($AV60 * 1000) / $AB60) * ($AW29 / 100) * (BA29 / 100) * TotalDMFed) * 1000))))","v":""},{"$f":"IF(Süt!$B31=\"\",\"\",IF(Süt!$C31<=0,\"\",IF(ISERROR(((($AA60 / TotalDMFed) * ($AB29 / 100) * (($AV60 * 1000) / $AB60) * ($AW29 / 100) * (BB29 / 100) * TotalDMFed) * 1000))=TRUE,0,((($AA60 / TotalDMFed) * ($AB29 / 100) * (($AV60 * 1000) / $AB60) * ($AW29 / 100) * (BB29 / 100) * TotalDMFed) * 1000))))","v":""},{"$f":"IF(Süt!$B31=\"\",\"\",IF(Süt!$C31<=0,\"\",IF(ISERROR(((($AA60 / TotalDMFed) * ($AB29 / 100) * (($AV60 * 1000) / $AB60) * ($AW29 / 100) * (BC29 / 100) * TotalDMFed) * 1000))=TRUE,0,((($AA60 / TotalDMFed) * ($AB29 / 100) * (($AV60 * 1000) / $AB60) * ($AW29 / 100) * (BC29 / 100) * TotalDMFed) * 1000))))","v":""},{"$f":"IF(Süt!$B31=\"\",\"\",IF(Süt!$C31<=0,\"\",IF(ISERROR(((($AA60 / TotalDMFed) * ($AB29 / 100) * (($AV60 * 1000) / $AB60) * ($AW29 / 100) * (BD29 / 100) * TotalDMFed) * 1000))=TRUE,0,((($AA60 / TotalDMFed) * ($AB29 / 100) * (($AV60 * 1000) / $AB60) * ($AW29 / 100) * (BD29 / 100) * TotalDMFed) * 1000))))","v":""},{"$f":"IF(Süt!$B31=\"\",\"\",IF(Süt!$C31<=0,\"\",IF(ISERROR(((($AA60 / TotalDMFed) * ($AB29 / 100) * (($AV60 * 1000) / $AB60) * ($AW29 / 100) * (BE29 / 100) * TotalDMFed) * 1000))=TRUE,0,((($AA60 / TotalDMFed) * ($AB29 / 100) * (($AV60 * 1000) / $AB60) * ($AW29 / 100) * (BE29 / 100) * TotalDMFed) * 1000))))","v":""},{"$f":"IF(Süt!$B31=\"\",\"\",IF(Süt!$C31<=0,\"\",IF(ISERROR(((($AA60 / TotalDMFed) * ($AB29 / 100) * (($AV60 * 1000) / $AB60) * ($AW29 / 100) * (BF29 / 100) * TotalDMFed) * 1000))=TRUE,0,((($AA60 / TotalDMFed) * ($AB29 / 100) * (($AV60 * 1000) / $AB60) * ($AW29 / 100) * (BF29 / 100) * TotalDMFed) * 1000))))","v":""},{"$f":"IF(Süt!$B31=\"\",\"\",IF(Süt!$C31<=0,\"\",IF(ISERROR(((($AA60 / TotalDMFed) * ($AB29 / 100) * (($AV60 * 1000) / $AB60) * ($AW29 / 100) * (BG29 / 100) * TotalDMFed) * 1000))=TRUE,0,((($AA60 / TotalDMFed) * ($AB29 / 100) * (($AV60 * 1000) / $AB60) * ($AW29 / 100) * (BG29 / 100) * TotalDMFed) * 1000))))","v":""},{"$f":"IF(Süt!$B31=\"\",\"\",IF(Süt!$C31<=0,\"\",IF(ISERROR(((($AA60 / TotalDMFed) * ($AB29 / 100) * (($AV60 * 1000) / $AB60) * ($AW29 / 100) * (BH29 / 100) * TotalDMFed) * 1000))=TRUE,0,((($AA60 / TotalDMFed) * ($AB29 / 100) * (($AV60 * 1000) / $AB60) * ($AW29 / 100) * (BH29 / 100) * TotalDMFed) * 1000))))","v":""},null,{"$f":"IF(Süt!$B31=\"\",\"\",IF(Süt!$C31<=0,\"\",IF(AND(AnimalType=\"Buzağı\",MID(AN29,1,9)=\"Calf Feed\")=TRUE,IF(AN29=\"Calf Feed-Milk\",AA60,0),0)))","v":""},{"$f":"IF(Süt!$B31=\"\",\"\",IF(Süt!$C31<=0,\"\",IF(AND(AnimalType=\"Buzağı\",MID(AN29,1,9)=\"Calf Feed\")=TRUE,IF(AN29=\"Calf Feed-Milk\",AA60*V60,0),0)))","v":""},{"$f":"IF(Süt!$B31=\"\",\"\",IF(Süt!$C31<=0,\"\",IF(AND(AnimalType=\"Buzağı\",MID(AN29,1,9)=\"Calf Feed\")=TRUE,IF(AN29=\"Calf Feed-Milk\",AC90,0),0)))","v":""},{"$f":"IF(Süt!$B31=\"\",\"\",IF(Süt!$C31<=0,\"\",IF(AND(AnimalType=\"Buzağı\",MID(AN29,1,9)=\"Calf Feed\")=TRUE,IF(AN29=\"Calf Feed-Milk\",AB90,0),0)))","v":""},{"$f":"IF(Süt!$B31=\"\",\"\",IF(Süt!$C31<=0,\"\",IF(AND(AnimalType=\"Buzağı\",MID(AN29,1,9)=\"Calf Feed\")=TRUE,IF(AN29=\"Calf Feed-Milk\",0,AA60),AA60)))","v":""},{"$f":"IF(Süt!$B31=\"\",\"\",IF(Süt!$C31<=0,\"\",IF(AND(AnimalType=\"Buzağı\",MID(AN29,1,9)=\"Calf Feed\")=TRUE,IF(AN29=\"Calf Feed-Milk\",0,AA60*V60),0)))","v":""},{"$f":"IF(Süt!$B31=\"\",\"\",IF(Süt!$C31<=0,\"\",IF(AND(AnimalType=\"Buzağı\",MID(AN29,1,9)=\"Calf Feed\")=TRUE,IF(AN29=\"Calf Feed-Milk\",0,AC90),AC90)))","v":""},{"$f":"IF(Süt!$B31=\"\",\"\",IF(Süt!$C31<=0,\"\",IF(AND(AnimalType=\"Buzağı\",MID(AN29,1,9)=\"Calf Feed\")=TRUE,IF(AN29=\"Calf Feed-Milk\",0,AB90),AB60)))","v":""},{"$f":"IF(Süt!$B31=\"\",\"\",IF(Süt!$C31<=0,\"\",IF(AND(AnimalType=\"Buzağı\",MID(AN29,1,9)=\"Calf Feed\")=TRUE,IF(V60<>0,0.86*(AA60*V60),0),0.75*(AA60*V60))))","v":""},{"$f":"IF(Süt!$B31=\"\",\"\",IF(Süt!$C31<=0,\"\",IF(AND(AnimalType=\"Buzağı\",MID(AN29,1,9)=\"Calf Feed\")=TRUE,IF(V60<>0,0.69*(AA60*V60),0),0.57*(AA60*V60))))","v":""},{"$f":"IF(Süt!$B31=\"\",\"\",IF(Süt!$C31<=0,\"\",IF(AND(AnimalType=\"Buzağı\",MID(AN29,1,9)=\"Calf Feed\")=TRUE,IF(V60<>0,V60,0),V60)))","v":""},null,null,null,null,null,null,null,null,null,null,null,null,null,null,null,null,null,null,null,null,null,null,null,null,null,{"$f":"CT89+1","v":18},1.0210000000000004,null,"TI",{"$f":"IF(T<=30,2.5,IF(T<183,6.5,IF(T<363,51875+(0.3125*CS_9),5.25+(0.75*CS_9))))","v":9},"tissue insulation (Mcal/m^2/deg C/day)",null,null,null,null,null,null,null,null,null,null,"Grass/Legume Forage"]
[null,null,{"$f":"IF(Süt!$B16=\"\",\"\",IF(Süt!$C16<=0,\"\",(AU14/ 100) * (AB14/100)*AA45))","v":""},{"$f":"IF(Süt!$B16=\"\",\"\",IF(Süt!$C16<=0,\"\",(AV14/ 100) * (AB14/100)*AA45))","v":""},{"$f":"IF(Süt!$B16=\"\",\"\",IF(Süt!$C16<=0,\"\",IF((AT14+AN45)>0,   IF(BW_DMI<2,  C91,  C91+(BW_DMI-2)*((D91-C91)/2) ),0)))","v":""},0,null,null,null,null,null,null,null,null,null,16,{"$f":"-2*P91+63","v":31},{"$f":"2*P91+6","v":38},{"$f":"-P91+36","v":20},null,null,null,null,null,null,null,null,null,null,null,null,null,null,null,null,null,null,null,null,null,null,null,null,null,null,null,null,null,null,null,null,null,null,null,null,null,null,null,null,null,null,null,null,null,null,null,null,null,null,null,null,null,null,null,null,null,null,null,null,null,null,null,null,null,null,null,null,null,null,null,null,null,null,null,null,null,null,{"$f":"CT90+1","v":19},1.0180000000000005,null,"EI",{"$f":"IF(((7.36-(0.296*WindSpeed)+(2.55*HairDepth))*Coat)*0.8<0,0,((7.36-(0.296*WindSpeed)+(2.55*HairDepth))*Coat)*0.8)","v":6.1529600000000011},"external insulation (Mcal/m^2/deg C/day)",null,null,null,null,null,null,null,null,null,null,"Plant Protein"]
[null,null,{"$f":"IF(Süt!$B17=\"\",\"\",IF(Süt!$C17<=0,\"\",(AU15/ 100) * (AB15/100)*AA46))","v":""},{"$f":"IF(Süt!$B17=\"\",\"\",IF(Süt!$C17<=0,\"\",(AV15/ 100) * (AB15/100)*AA46))","v":""},{"$f":"IF(Süt!$B17=\"\",\"\",IF(Süt!$C17<=0,\"\",IF((AT15+AN46)>0,   IF(BW_DMI<2,  C92,  C92+(BW_DMI-2)*((D92-C92)/2) ),0)))","v":""},0,null,null,null,null,null,null,null,null,null,null,null,null,null,null,null,null,null,null,null,null,null,null,null,null,null,null,null,null,null,null,null,null,null,null,null,null,null,null,null,null,null,null,null,null,null,null,null,null,null,null,null,null,null,null,null,null,null,null,null,null,null,null,null,null,null,null,null,null,null,null,null,null,null,null,null,null,null,null,null,null,null,null,null,null,null,null,null,null,null,null,null,20,1.0149999999999999,null,"INS",{"$f":"TI+EI","v":15.15296},"total insulation (Mcal/m^2/deg C/day)"]
[null,null,{"$f":"IF(Süt!$B18=\"\",\"\",IF(Süt!$C18<=0,\"\",(AU16/ 100) * (AB16/100)*AA47))","v":""},{"$f":"IF(Süt!$B18=\"\",\"\",IF(Süt!$C18<=0,\"\",(AV16/ 100) * (AB16/100)*AA47))","v":""},{"$f":"IF(Süt!$B18=\"\",\"\",IF(Süt!$C18<=0,\"\",IF((AT16+AN47)>0,   IF(BW_DMI<2,  C93,  C93+(BW_DMI-2)*((D93-C93)/2) ),0)))","v":""},0,null,null,null,null,null,null,null,null,null,null,null,null,null,null,null,null,null,null,null,null,null,null,null,null,null,null,null,null,null,null,null,null,null,null,null,null,null,null,null,null,null,null,null,null,null,null,null,null,null,null,null,null,null,null,null,null,null,null,null,null,null,null,null,null,null,null,null,null,null,null,null,null,null,null,null,null,null,null,null,null,null,null,null,null,null,null,null,null,null,null,null,21,1.0120000000000007,null,"LCT",{"$f":"39-(INS*HP*0.85)","v":-36.194837679847069},"lower critical temperature (deg C)"]
[null,null,{"$f":"IF(Süt!$B19=\"\",\"\",IF(Süt!$C19<=0,\"\",(AU17/ 100) * (AB17/100)*AA48))","v":""},{"$f":"IF(Süt!$B19=\"\",\"\",IF(Süt!$C19<=0,\"\",(AV17/ 100) * (AB17/100)*AA48))","v":""},{"$f":"IF(Süt!$B19=\"\",\"\",IF(Süt!$C19<=0,\"\",IF((AT17+AN48)>0,   IF(BW_DMI<2,  C94,  C94+(BW_DMI-2)*((D94-C94)/2) ),0)))","v":""},0,null,null,null,null,null,null,null,null,null,null,null,null,null,null,null,null,null,null,null,null,null,null,null,null,null,null,null,null,null,null,null,null,null,null,null,null,null,null,null,null,null,null,null,null,null,null,null,null,null,null,null,null,null,null,null,null,null,null,null,null,null,null,null,null,null,null,null,null,null,null,null,null,null,null,null,null,null,null,null,null,null,null,null,null,null,null,null,null,null,null,null,22,1.0090000000000008,null,"MEcs",{"$f":"IF(LCT>Temp,SA*(LCT-Temp)/INS,0)","v":0},"metabolizable energy required due to cold stress (Mcal/day)"]
[null,null,{"$f":"IF(Süt!$B20=\"\",\"\",IF(Süt!$C20<=0,\"\",(AU18/ 100) * (AB18/100)*AA49))","v":""},{"$f":"IF(Süt!$B20=\"\",\"\",IF(Süt!$C20<=0,\"\",(AV18/ 100) * (AB18/100)*AA49))","v":""},{"$f":"IF(Süt!$B20=\"\",\"\",IF(Süt!$C20<=0,\"\",IF((AT18+AN49)>0,   IF(BW_DMI<2,  C95,  C95+(BW_DMI-2)*((D95-C95)/2) ),0)))","v":""},0,null,null,null,null,null,null,null,null,null,null,null,null,null,null,null,null,null,null,null,null,null,null,null,null,null,null,null,null,null,null,null,null,null,null,null,null,null,null,null,null,"RUP (%HP)","RUP (%HP)",null,null,null,null,null,null,null,null,null,null,null,null,null,null,null,null,null,null,null,null,null,null,null,null,null,null,null,null,null,null,null,null,null,null,null,null,null,null,null,null,null,null,null,null,null,null,null,null,null,23,1.0060000000000009,null,"ColdStr",{"$f":"IF(AND(MEng_Total>0,TotalDMFed>0)=TRUE,((NEDietConc/(MEng_Total/TotalDMFed))*MEcs),0)","v":0},"cold stress factor for computing the net energy require for maintenance with stress (Mcal/day/BW^0.75)"]
[null,null,{"$f":"IF(Süt!$B21=\"\",\"\",IF(Süt!$C21<=0,\"\",(AU19/ 100) * (AB19/100)*AA50))","v":""},{"$f":"IF(Süt!$B21=\"\",\"\",IF(Süt!$C21<=0,\"\",(AV19/ 100) * (AB19/100)*AA50))","v":""},{"$f":"IF(Süt!$B21=\"\",\"\",IF(Süt!$C21<=0,\"\",IF((AT19+AN50)>0,   IF(BW_DMI<2,  C96,  C96+(BW_DMI-2)*((D96-C96)/2) ),0)))","v":""},0,null,null,null,null,null,null,null,null,null,null,"Int.","TSBM-1X","TSBM","NFC","SE-1X","ME-3X ","NEL-3X","NEL-4X","NEM-3X ","NEG-3X","KM","HP","HPSind.","NDICP","ADICP","HY","HYSind.","NDF","NDFSind.","ADF","Lignin","HK","Yem",null,"Ver.Miktar",null,null,"N Fraksiyonu % HP",null,"Kd","KMT=2%CA","KMT=4%CA","RUPSind.","Arj","His","İzolöy","Löy","Lizin","Met","Sis","Fen","Tre","Trip","Val","TEAA","Lizin","Met","FİYAT","Ca","CaDeğ.","P","PDeğ.","Mg","MgDeğ.","K","KDeğ.","Na","NaDEğ.","Cl","ClDeğ.","S","SDeğ.","Co","CoDeğ.","Cu","CuDeğ.","I","IDeğ.","Fe","FeDeğ.","Mn","MnDeğ.","Se","SeDeğ.","Zn","ZnDeğ.","Mo","MoDeğ.","Vit A ","Vit D ","Vit E ",24,1.003000000000001,null,"HeatStr",{"$f":"IF(OR(HeatStress=\"Yok\",Temp<30)=TRUE,1,IF(HeatStress=\"Hızlı ve yüzeysel solunum\",1.07,IF(HeatStress=\"ağzı açık solunum\",1.18,1)))","v":1},"heat stress factor for computing the net energy requirement for maintenance which is dependent upon the HeatStress variable"]
[null,null,{"$f":"IF(Süt!$B22=\"\",\"\",IF(Süt!$C22<=0,\"\",(AU20/ 100) * (AB20/100)*AA51))","v":""},{"$f":"IF(Süt!$B22=\"\",\"\",IF(Süt!$C22<=0,\"\",(AV20/ 100) * (AB20/100)*AA51))","v":""},{"$f":"IF(Süt!$B22=\"\",\"\",IF(Süt!$C22<=0,\"\",IF((AT20+AN51)>0,   IF(BW_DMI<2,  C97,  C97+(BW_DMI-2)*((D97-C97)/2) ),0)))","v":""},0,null,null,null,null,null,null,null,null,null,"YEMLER","Yem no","%","Sınıf","Katsayı","Mcal/kg","Mcal/kg","Mcal/kg","Mcal/kg","Mcal/kg","Mcal/kg","%","%",null,"%","%","%",null,"%",null,"%","%","%","tipi","Kategori","Enaz","Ençok","A","B","C","%/sa B","Kaba yem=25%KMT","Kaba yem=50%KMT","%","%HP","%HP","%HP","%HP","%HP","%HP","%HP","%HP","%HP","%HP","%HP","%HP","%EAA","%EAA","TL/kg","%",null,"%",null,"%",null,"%",null,"%",null,"%",null,"%",null,"mg/kg",null,"mg/kg",null,"mg/kg",null,"mg/kg",null,"mg/kg",null,"mg/kg",null,"mg/kg",null,"mg/kg",null,"(1000 IU/kg)","(1000 IU/kg)","(IU/kg)",25,1,null,"NEMaint",{"$f":"((NEMaintNS+ColdStr)*HeatStr)+NEmact","v":10.298524451722679},"net energy required for maintenance (Mcal/day)"]
[null,null,{"$f":"IF(Süt!$B23=\"\",\"\",IF(Süt!$C23<=0,\"\",(AU21/ 100) * (AB21/100)*AA52))","v":0},{"$f":"IF(Süt!$B23=\"\",\"\",IF(Süt!$C23<=0,\"\",(AV21/ 100) * (AB21/100)*AA52))","v":0},{"$f":"IF(Süt!$B23=\"\",\"\",IF(Süt!$C23<=0,\"\",IF((AT21+AN52)>0,   IF(BW_DMI<2,  C98,  C98+(BW_DMI-2)*((D98-C98)/2) ),0)))","v":0},0,null,null,null,null,null,null,null,null,null,"Sulu Kaba Yemler",null,null,null,null,null,null,null,null,null,null,null,null,null,null,null,null,null,null,null,null,null,null,null,null,null,null,null,null,null,null,null,null,null,null,null,null,null,null,null,null,null,null,null,null,null,null,null,null,null,null,null,null,null,null,null,null,null,null,null,null,null,null,null,null,null,null,null,null,null,null,null,null,null,null,null,null,null,null,null,null,null,26,0.99,null,"DMIMaint",{"$f":"IF(NEDietConc>0,NEMaint/NEDietConc,0)","v":7.4773934335359931},"dry matter intake required for maintenance (kg DM/day)"]
[null,null,{"$f":"IF(Süt!$B24=\"\",\"\",IF(Süt!$C24<=0,\"\",(AU22/ 100) * (AB22/100)*AA53))","v":0},{"$f":"IF(Süt!$B24=\"\",\"\",IF(Süt!$C24<=0,\"\",(AV22/ 100) * (AB22/100)*AA53))","v":0},{"$f":"IF(Süt!$B24=\"\",\"\",IF(Süt!$C24<=0,\"\",IF((AT22+AN53)>0,   IF(BW_DMI<2,  C99,  C99+(BW_DMI-2)*((D99-C99)/2) ),0)))","v":0},0,null,null,null,null,null,null,null,null,null,"Arpa Çimi",null,72.680000000000007,"Forage",1,3.35,2.65,1.67,1.58,1.79,1.1499999999999999,16.07,20.64,1,3.94,1.3,3.41,1,35.71,0.52,16.28,3.97,2.91,"Wet","Grass/Legume Forage",0,40,43.24,50.44,6.32,4.5,28.21,30.21,62,1.04,1.21,3.45,4.88,2.35,1.1599999999999999,0.66,3.42,2.5099999999999998,1.42,4.8,26.42,8.9600000000000009,4.3899999999999997,4,0.48,0.3,0.3,0.64,0.18,0.16,2.4300000000000002,0.9,0.13,0.9,0.72,0.9,0.17,1,0.72,1,7,0.04,0,0.85,343,0.1,43,0.01,0.12,1,30,0.15,1.6,0,0,0,0,27,0.98,null,"DMIPreg",{"$f":"IF(DaysPreg>0,IF(AND(MEng_Total>0,TotalDMFed>0)=TRUE,MEPreg/(MEng_Total/TotalDMFed),0),0)","v":0},"dry matter intake requirement for pregnancy"]
[null,null,{"$f":"IF(Süt!$B25=\"\",\"\",IF(Süt!$C25<=0,\"\",(AU23/ 100) * (AB23/100)*AA54))","v":0},{"$f":"IF(Süt!$B25=\"\",\"\",IF(Süt!$C25<=0,\"\",(AV23/ 100) * (AB23/100)*AA54))","v":0},{"$f":"IF(Süt!$B25=\"\",\"\",IF(Süt!$C25<=0,\"\",IF((AT23+AN54)>0,   IF(BW_DMI<2,  C100,  C100+(BW_DMI-2)*((D100-C100)/2) ),0)))","v":0},0,null,null,null,null,null,null,null,null,null,"Arpa Silajı, Başaklı","3-00-512",60.2,"Forage",1,2.68,2.0299999999999998,1.24,1.17,1.33,0.76,35.5,12,1,1.6,0.9,3.5,1,56.3,0.51,34.5,5.6,7.5,"Wet","Grain Crop Forage",0,30,56.6,32.9,10.5,5.9,24.3,26.4,65,1.04,1.21,3.45,4.88,2.35,1.1599999999999999,0.66,3.42,2.5099999999999998,1.42,4.8,26.42,8.9600000000000009,4.3899999999999997,4,0.48,0.3,0.3,0.64,0.18,0.16,2.4300000000000002,0.9,0.13,0.9,0.72,0.9,0.17,1,0.72,1,7,0.04,0,0.85,343,0.1,43,0.01,0.12,1,30,0.15,1.6,0,0,0,0,28,0.97,null,"NEGrowthDiet",{"$f":"IF(IF(TotalDMFed>0,(TotalDMFed-DMIMaint-DMIPreg)*(NEg_Total/TotalDMFed),0)<0,0,IF(TotalDMFed>0,(TotalDMFed-DMIMaint-DMIPreg)*(NEg_Total/TotalDMFed),0))","v":12.829008504597837},"net energy for growth available in the diet (Mcal/day)"]
[null,null,{"$f":"IF(Süt!$B26=\"\",\"\",IF(Süt!$C26<=0,\"\",(AU24/ 100) * (AB24/100)*AA55))","v":""},{"$f":"IF(Süt!$B26=\"\",\"\",IF(Süt!$C26<=0,\"\",(AV24/ 100) * (AB24/100)*AA55))","v":""},{"$f":"IF(Süt!$B26=\"\",\"\",IF(Süt!$C26<=0,\"\",IF((AT24+AN55)>0,   IF(BW_DMI<2,  C101,  C101+(BW_DMI-2)*((D101-C101)/2) ),0)))","v":""},0,null,null,null,null,null,null,null,null,null,"Bakla otu, hasat sonrası",null,60,"Forage",1,2.5,1.93,1.1399999999999999,1.1000000000000001,1.08,0.51,19.399999999999999,17,1,3.9,1.7,2.5,1,43.4,0.48,32.299999999999997,8.6999999999999993,9.1,"Wet","Grass/Legume Forage",0,7,31.1,61.6,7.3,12.3,23.2,26.4,64.3,5.14,1.95,4.2300000000000004,7.36,5.09,1.56,1.42,4.76,4.38,1.5,5.24,41.21,12.35,3.79,8,1.1100000000000001,0.3,0.11,0.64,0.34,0.16,1.56,0.9,0.12,0.9,0.38,0.9,0.28000000000000003,1,0.39400000000000002,1,17.7,0.04,0.16,0.85,225,0.1,28,0.01,0.55000000000000004,1,30.9,0.15,0,0,46,2,11,29,0.96,null,"MPMaint",{"$f":"(0.3*((BW-CW)^0.6))+(4.1*((BW-CW)^0.5))+((TotalDMFed*1000*0.03)-(0.5*((MPBact/0.8)-(MPBact))))+MPEndoReq","v":762.01771377001637},"metabolizable protein requirement for maintenance (g/day)"]
[null,null,{"$f":"IF(Süt!$B27=\"\",\"\",IF(Süt!$C27<=0,\"\",(AU25/ 100) * (AB25/100)*AA56))","v":""},{"$f":"IF(Süt!$B27=\"\",\"\",IF(Süt!$C27<=0,\"\",(AV25/ 100) * (AB25/100)*AA56))","v":""},{"$f":"IF(Süt!$B27=\"\",\"\",IF(Süt!$C27<=0,\"\",IF((AT25+AN56)>0,   IF(BW_DMI<2,  C102,  C102+(BW_DMI-2)*((D102-C102)/2) ),0)))","v":""},0,null,null,null,null,null,null,null,null,null,"Baklagil Merası, Bakımlı","2-29-431",66.3,"Forage",1,3.13,2.46,1.54,1.45,1.66,1.05,21.4,26.5,1,3.8,1.1000000000000001,3.7,1,33.1,0.37,23.9,5.4,10,"Wet","Grass/Legume Forage",0,0,31.1,61.6,7.3,12.3,23.2,26.4,75,5.21,1.97,4.3,7.46,5.18,1.58,1.44,4.8099999999999996,4.4400000000000004,1.54,5.31,41.8,12.39,3.78,4,1.31,0.3,0.37,0.64,0.28000000000000003,0.16,3.21,0.9,0.01,0.9,0.6,0.9,0.31,1,0.44,1,10,0.04,0,0.85,215,0.1,54,0.01,0.2,1,33,0.15,2.2999999999999998,0,0,0,0,30,0.95,null,"MEMaint",{"$f":"IF(AND(AnimalType=\"Damızlık Düve\",NEmOverMEng>0)=TRUE,NEMaint / NEmOverMEng,IF(CalfKm <> 0,NEmCalf / CalfKm,0))","v":0},"used only for Damızlık Düve"]
[null,null,{"$f":"IF(Süt!$B28=\"\",\"\",IF(Süt!$C28<=0,\"\",(AU26/ 100) * (AB26/100)*AA57))","v":""},{"$f":"IF(Süt!$B28=\"\",\"\",IF(Süt!$C28<=0,\"\",(AV26/ 100) * (AB26/100)*AA57))","v":""},{"$f":"IF(Süt!$B28=\"\",\"\",IF(Süt!$C28<=0,\"\",IF((AT26+AN57)>0,   IF(BW_DMI<2,  C103,  C103+(BW_DMI-2)*((D103-C103)/2) ),0)))","v":""},0,null,null,null,null,null,null,null,null,null,"Baklagil Silajı","3-07-796",56.6,"Forage",1,2.62,1.98,1.2,1.1299999999999999,1.29,0.72,39.1,20,1,2.9,1.6,3.1,1,45.7,0.37,37,8.1,10.4,"Wet","Grass/Legume Forage",0,0,57.3,33,9.9,11.1,18.899999999999999,20.6,65,3.87,1.69,3.87,6.24,4.4000000000000004,1.37,0.78,4.18,3.83,0.94,5,35.39,12.43,3.87,4,1.34,0.3,0.32,0.64,0.27,0.16,2.87,0.9,0.06,0.9,0.62,0.9,0.24,1,0.65,1,10,0.04,0,0.85,367,0.1,50,0.01,0.18,1,29,0.15,2.4,0,0,0,0,31,0.94,null,"ScurfMP",{"$f":" 0.3 * ((BW - CW) ^ 0.6)","v":14.617370962252203},"scurf MP requirement (g/day)"]
[null,null,{"$f":"IF(Süt!$B29=\"\",\"\",IF(Süt!$C29<=0,\"\",(AU27/ 100) * (AB27/100)*AA58))","v":""},{"$f":"IF(Süt!$B29=\"\",\"\",IF(Süt!$C29<=0,\"\",(AV27/ 100) * (AB27/100)*AA58))","v":""},{"$f":"IF(Süt!$B29=\"\",\"\",IF(Süt!$C29<=0,\"\",IF((AT27+AN58)>0,   IF(BW_DMI<2,  C104,  C104+(BW_DMI-2)*((D104-C104)/2) ),0)))","v":""},0,null,null,null,null,null,null,null,null,null,"Baklagil Silajı, Körpe <%40 NDF","3-07-795",60.5,"Forage",1,2.83,2.1800000000000002,1.34,1.26,1.45,0.86,41.2,23.2,1,3.4,1.6,2.2999999999999998,1,36.700000000000003,0.37,30.2,6.2,11.1,"Wet","Grass/Legume Forage",0,0,61.6,29.1,9.3000000000000007,13.1,16.5,17.899999999999999,70,3.87,1.69,3.73,6,4.4800000000000004,1.37,0.78,4.18,3.83,0.93,5,35.08,12.77,3.91,4,1.39,0.3,0.36,0.64,0.3,0.16,3.03,0.9,0.03,0.9,0.55000000000000004,0.9,0.3,1,0.65,1,9,0.04,0,0.85,401,0.1,67,0.01,0.18,1,31,0.15,0,0,0,0,0,32,0.93,null,"UrineMP",{"$f":" 4.1 * ((BW - CW) ^ 0.5)","v":104.52990002865208},"urine MP requirement (g/day)"]
[null,null,{"$f":"IF(Süt!$B30=\"\",\"\",IF(Süt!$C30<=0,\"\",(AU28/ 100) * (AB28/100)*AA59))","v":""},{"$f":"IF(Süt!$B30=\"\",\"\",IF(Süt!$C30<=0,\"\",(AV28/ 100) * (AB28/100)*AA59))","v":""},{"$f":"IF(Süt!$B30=\"\",\"\",IF(Süt!$C30<=0,\"\",IF((AT28+AN59)>0,   IF(BW_DMI<2,  C105,  C105+(BW_DMI-2)*((D105-C105)/2) ),0)))","v":""},0,null,null,null,null,null,null,null,null,null,"Baklagil Silajı, Olgun >%46 NDF","3-07-798",53,"Forage",1,2.4700000000000002,1.84,1.1000000000000001,1.03,1.18,0.62,42.6,20.3,1,2.9,2.1,2.1,1,50,0.44,40.9,8.4,10.3,"Wet","Grass/Legume Forage",0,0,52.9,34.4,12.7,8,24.7,26.7,60,3.87,1.69,3.92,6.37,4.3,1.37,0.78,4.18,3.82,0.96,5.0199999999999996,35.5,12.11,3.86,4,1.3,0.3,0.33,0.64,0.26,0.16,2.87,0.9,0.02,0.9,0.48,0.9,0.28000000000000003,1,0.65,1,9,0.04,0,0.85,403,0.1,63,0.01,0.18,1,29,0.15,0,0,0,0,0,33,0.92,null,"FecalMP",{"$f":" ((TotalDMFed * 1000 * 0.03) - (0.5 * ((MPBact / 0.8) - (MPBact))))","v":493.95684396180525},"fecal MP requirement (g/day)"]
[null,null,{"$f":"IF(Süt!$B31=\"\",\"\",IF(Süt!$C31<=0,\"\",(AU29/ 100) * (AB29/100)*AA60))","v":""},{"$f":"IF(Süt!$B31=\"\",\"\",IF(Süt!$C31<=0,\"\",(AV29/ 100) * (AB29/100)*AA60))","v":""},{"$f":"IF(Süt!$B31=\"\",\"\",IF(Süt!$C31<=0,\"\",IF((AT29+AN60)>0,   IF(BW_DMI<2,  C106,  C106+(BW_DMI-2)*((D106-C106)/2) ),0)))","v":""},0,null,null,null,null,null,null,null,null,null,"Baklagil Silajı, Orta Olgun., %40-46 NDF","3-07-797",56.7,"Forage",1,2.65,2.0099999999999998,1.22,1.1499999999999999,1.32,0.74,42.9,21.9,1,3.1,1.8,2.2000000000000002,1,43.2,0.39,35.200000000000003,7.3,10.8,"Wet","Grass/Legume Forage",0,0,57.3,35.299999999999997,7.4,12.2,16.600000000000001,18.399999999999999,65,3.87,1.69,3.95,6.36,4.41,1.37,0.79,4.18,3.83,0.94,5,35.6,12.39,3.85,4,1.36,0.3,0.35,0.64,0.28000000000000003,0.16,3,0.9,0.02,0.9,0.61,0.9,0.28000000000000003,1,0.65,1,9,0.04,0,0.85,395,0.1,64,0.01,0.18,1,30,0.15,0,0,0,0,0,34,0.91,null,"Kuru Madde Tüketimi"]
[null,null,null,null,null,null,null,null,null,null,null,null,null,null,null,"Buğday Silajı, Başak. Başı","3-21-865",57.2,"Forage",1,2.5499999999999998,1.91,1.1599999999999999,1.08,1.24,0.67,33.299999999999997,12,1,1.5,1,3.2,1,59.9,0.52,37.6,5.8,8.6,"Wet","Grain Crop Forage",0,0,69.5,8.6999999999999993,21.8,29,22.9,23.2,70,2.02,3.6,4.01,6.64,4.21,1.77,0.61,4.24,4.21,1.03,5.8,37.51,11.22,4.72,4,0.38,0.3,0.28999999999999998,0.64,0.16,0.16,2.2799999999999998,0.9,7.0000000000000007E-2,0.9,0.83,0.9,0.17,1,0,1,7,0.04,0,0.85,391,0.1,72,0.01,0,1,27,0.15,0.7,0,0,0,0,35,0.9,null,"TempFact",{"$f":"IF(Temp<-15,1.16,IF(Temp>35,IF(NightCooling=\"Serinlemiyor\",0.65,0.9),  -0.000006*Temp^3+0.00015*Temp^2-0.0026*Temp+1.0573  ))","v":1.024108},"temperature adjustment factor for DMI calculations",null,">35, gece soğutması yok",null,null,null,0.65,null,35,0.77500000000000002]
[null,null,{"$f":"SUM(C111:C137)","v":28.700845278654363},{"$f":"SUM(D111:D137)","v":27.246892515288263},{"$f":"SUM(E111:E137)","v":29.113333523028398},null,null,null,null,null,null,null,null,null,null,"Çavdar Silajı, Körpe","3-21-853",60,"Forage",1,2.72,2.08,1.28,1.2,1.37,0.79,29.7,16.100000000000001,1,1.9,0.9,3.8,1,57.8,0.56000000000000005,34.9,4.5,9.6,"Wet","Grain Crop Forage",0,0,56.6,33,10.4,5.9,24.3,26.3,65,1.04,1.21,3.45,4.88,2.35,1.1599999999999999,0.66,3.42,2.5099999999999998,0.6,4.8,25.42,9.24,4.5599999999999996,3,0.43,0.3,0.42,0.64,0.16,0.16,3.34,0.9,0.05,0.9,0.9,0.9,0.2,1,0,1,9,0.04,0,0.85,373,0.1,63,0.01,0,1,32,0.15,2,0,0,0,0,null,null,null,"CCFact",{"$f":"IF(CoatCond=\"Çamur yada Karla Kaplı\",0.7,IF(CoatCond=\"Islak/Karışık\",0.85,1))","v":1},"coat condition adjustment factor for DMI calculations",null,">35, gece soğutmalı",null,null,null,0.9,null,30,0.9]
[null,null,"NEL-3X","NEL-4X","NEl",null,null,null,null,null,null,null,null,null,null,"Çayır Merası, Soğuk Mevsim, Bakımlı","2-02-260",66.599999999999994,"Forage",1,3.14,2.46,1.54,1.45,1.67,1.06,20.100000000000001,26.5,1,3.1,1.1000000000000001,2.7,1,45.8,0.56000000000000005,25,2.1,9.8000000000000007,"Wet","Grass/Legume Forage",0,0,30.7,63.5,5.8,12.3,22.2,25.5,75,4.28,1.88,3.38,6.22,3.46,1.37,0.93,4.5999999999999996,3.56,1.33,4.41,34.49,10.029999999999999,3.97,7,0.56000000000000005,0.3,0.44,0.64,0.2,0.16,3.36,0.9,0.02,0.9,0.56000000000000005,0.9,0.2,1,0,1,10,0.04,0,0.85,275,0.1,75,0.01,0,1,36,0.15,0,0,0,0,0,"Yem kaydı için","TempFact",null,"SubFact",{"$f":"IF(Age > 12,0.0869,0.1128)","v":8.6900000000000005E-2},"factor used in the DMI_RH calculation",null,"25-35",null,null,null,0.9,null,20,1]
[null,null,"Mcal/kg","Mcal/kg","Mcal/gün",null,null,null,null,null,null,null,null,null,null,"Çayır Silajı, Soğuk Mevsim","3-02-222",55.7,"Forage",1,2.4900000000000002,1.86,1.1200000000000001,1.05,1.19,0.63,36.5,12.8,1,3.3,1.5,3.1,1,60.7,0,40.299999999999997,6.9,8.1,"Wet","Grass/Legume Forage",0,0,56.1,33.200000000000003,10.7,5.8,24.8,26.9,60,3.06,1.66,3.58,6.16,3.3,1.22,0.78,4.37,3.37,1.07,4.8899999999999997,32.68,10.1,3.73,3,0.55000000000000004,0.3,0.28999999999999998,0.64,0.23,0.16,2.54,0.9,0.05,0.9,0.67,0.9,0.21,1,0,1,9,0.04,0,0.85,331,0.1,74,0.01,0.09,1,30,0.15,2.2000000000000002,0,0,0,0,"Q",20,null,"DivFact",{"$f":"IF((NEDietConc < 1),0.95,NEDietConc)","v":1.3772880273403774},"factor used in the DMI_RH calculation",null,"15-25",null,null,null,1,null,10,1.03]
[null,null,{"$f":"IF(Süt!$B5=\"\",\"\",IF(Süt!$C5<=0,\"\",AA34*W3))","v":9.7029999999999994},{"$f":"IF(Süt!$B5=\"\",\"\",IF(Süt!$C5<=0,\"\",AA34*X3))","v":9.1552499999999988},{"$f":"IF(Süt!$B5=\"\",\"\",IF(Süt!$C5<=0,\"\",IF(NElkatsayı<3,    C111+(3- IF(NElkatsayı<1,1,NElkatsayı))*(C111-D111),  IF(NElkatsayı<4,    C111-(NElkatsayı-3)*(C111-D111),  D111)    )))","v":9.858397370223221},null,null,null,null,null,null,null,null,null,null,"Çayır Silajı, Soğuk Mevsim, Körpe <%55 NDF","3-02-217",60.4,"Forage",1,2.75,2.1,1.29,1.21,1.39,0.81,36.200000000000003,16.8,1,4.3,1.1000000000000001,2.8,1,51,0.48,32.9,4.8,9.9,"Wet","Grass/Legume Forage",0,0,60.1,31.8,8.1,8.1,19.100000000000001,21,65,3.06,1.66,3.57,6.12,3.28,1.21,0.78,4.37,3.37,1.07,4.8899999999999997,32.57,10.07,3.72,2,0.56999999999999995,0.3,0.36,0.64,0.22,0.16,3.11,0.9,0.05,0.9,0.67,0.9,0.21,1,0,1,9,0.04,0,0.85,280,0.1,56,0.01,0.09,1,31,0.15,0,0,0,0,0,"R",{"$f":"-0.000006*CU110^3+0.00015*CU110^2-0.0026*CU110+1.0573","v":1.0172999999999999},null,"DMILact",{"$f":" (((BW ^ 0.75) * 0.0968) + (0.372 * FCM) - 0.293) * ( 1 - (EXP(-1 * 0.192 * (DaysInMilk/7 + 3.67))))","v":20.662656913200628},"DMI of a sağmal inek (kg/day) = (((BW ^ 0,75) * 0,0968) + (0,372 * FCM) - 0,293) * ( 1 - (ÜS(-1 * 0,192 * (DaysInMilk/7 + 3,67))))",null,"5-15",null,null,null,1.03,null,0,1.05]
[null,null,{"$f":"IF(Süt!$B6=\"\",\"\",IF(Süt!$C6<=0,\"\",AA35*W4))","v":0.53872262078850341},{"$f":"IF(Süt!$B6=\"\",\"\",IF(Süt!$C6<=0,\"\",AA35*X4))","v":0.49930389243812517},{"$f":"IF(Süt!$B6=\"\",\"\",IF(Süt!$C6<=0,\"\",IF(NElkatsayı<3,    C112+(3- IF(NElkatsayı<1,1,NElkatsayı))*(C112-D112),  IF(NElkatsayı<4,    C112-(NElkatsayı-3)*(C112-D112),  D112)    )))","v":0.54990576405311753},null,null,null,null,null,null,null,null,null,null,"Çayır Silajı, Soğuk Mevsim, Olgun >%60 NDF","3-02-219",53.2,"Forage",1,2.39,1.76,1.05,0.98,1.1100000000000001,0.55000000000000004,38.700000000000003,12.7,1,3.2,1.4,3,1,66.599999999999994,0.48,41.1,7.4,8,"Wet","Grass/Legume Forage",0,0,47.9,37.1,15,4.5999999999999996,32.9,35.200000000000003,55,3.06,1.66,3.6,6.23,3.35,1.23,0.77,4.37,3.42,1.07,4.91,32.9,10.18,3.74,2,0.56000000000000005,0.3,0.31,0.64,0.2,0.16,2.42,0.9,0.05,0.9,0.89,0.9,0.2,1,0,1,9,0.04,0,0.85,327,0.1,90,0.01,0.09,1,30,0.15,0,0,0,0,0,"S",null,null,"DMIDry",{"$f":" ((1.97 - (0.75 * EXP(0.16 * (DaysPreg - 280)))) / 100) * BW","v":12.805},"DMI of a Kurudaki inek (kg/day)",null,"-5-+5",null,null,null,1.05,null,-10,1.07]
[null,null,{"$f":"IF(Süt!$B7=\"\",\"\",IF(Süt!$C7<=0,\"\",AA36*W5))","v":7.0277900000000004},{"$f":"IF(Süt!$B7=\"\",\"\",IF(Süt!$C7<=0,\"\",AA36*X5))","v":6.7722340000000001},{"$f":"IF(Süt!$B7=\"\",\"\",IF(Süt!$C7<=0,\"\",IF(NElkatsayı<3,    C113+(3- IF(NElkatsayı<1,1,NElkatsayı))*(C113-D113),  IF(NElkatsayı<4,    C113-(NElkatsayı-3)*(C113-D113),  D113)    )))","v":7.1002915615605042},null,null,null,null,null,null,null,null,null,null,"Çayır Silajı, Soğuk Mevsim, Orta Olgun., %55-60 NDF","3-02-218",56,"Forage",1,2.56,1.92,1.1599999999999999,1.0900000000000001,1.25,0.68,42,16.8,1,4.3,1.1000000000000001,2.4,1,58.2,0.45,35.200000000000003,6.8,8.6999999999999993,"Wet","Grass/Legume Forage",0,0,60.4,31,8.6,4.8,23.2,25.2,60,3.06,1.66,3.57,6.12,3.28,1.21,0.78,4.37,3.37,1.07,4.8899999999999997,32.57,10.07,3.72,2,0.6,0.3,0.36,0.64,0.21,0.16,2.78,0.9,0.05,0.9,0.67,0.9,0.21,1,0,1,9,0.04,0,0.85,275,0.1,79,0.01,0.09,1,31,0.15,0,0,0,0,0,"T",null,null,"DMIRH_Factor",{"$f":"IF(AND(DaysPreg > 210,DaysPreg < 259)=TRUE,(1 + ((210 - DaysPreg) * 0.0025)),1)","v":1},null,null,"-15--5",null,null,null,1.07,null,-15,1.1599999999999999]
[null,null,{"$f":"IF(Süt!$B8=\"\",\"\",IF(Süt!$C8<=0,\"\",AA37*W6))","v":8.463000000000001},{"$f":"IF(Süt!$B8=\"\",\"\",IF(Süt!$C8<=0,\"\",AA37*X6))","v":8.0079999999999991},{"$f":"IF(Süt!$B8=\"\",\"\",IF(Süt!$C8<=0,\"\",IF(NElkatsayı<3,    C114+(3- IF(NElkatsayı<1,1,NElkatsayı))*(C114-D114),  IF(NElkatsayı<4,    C114-(NElkatsayı-3)*(C114-D114),  D114)    )))","v":8.5920840775017204},null,null,null,null,null,null,null,null,null,null,"Çayır-Baklagil Silajı, Körpe <%44 NDF","3-02-265",57.1,"Forage",1,2.65,2,1.22,1.1399999999999999,1.31,0.74,43.2,20,1,2.8,1.7,2.2000000000000002,1,42.2,0.4,31.1,6.7,11.5,"Wet","Grass/Legume Forage",0,0,61.2,29.8,9,11.9,16.899999999999999,18.399999999999999,70,3.67,1.68,3.69,6.03,4.18,1.33,0.78,4.2300000000000004,3.71,0.97,4.97,34.46,12.13,3.86,3,1.1599999999999999,0.3,0.36,0.64,0.3,0.16,2.95,0.9,0.01,0.9,0.6,0.9,0.32,1,0,1,11,0.04,0,0.85,279,0.1,70,0.01,0.17,1,36,0.15,0,0,0,0,0,"U",null,null,"DMI_RH",{"$f":"IF(DaysPreg < 259,IF(DivFact > 0,((BW ^ 0.75) * (((0.2435 * NEDietConc) - (0.0466* (NEDietConc ^ 2)) - SubFact) / DivFact))* TempFact * CCFact,0),((1.71 - (0.69 * EXP(0.35 * (DaysPreg - 280)))) / 100) * BW)*DMIRH_Factor","v":15.322309746776325},"DMI of a Damızlık Düve (kg/day)",null,"< -15",null,null,null,1.1599999999999999]
[null,null,{"$f":"IF(Süt!$B9=\"\",\"\",IF(Süt!$C9<=0,\"\",AA38*W7))","v":3.8564982888882128E-8},{"$f":"IF(Süt!$B9=\"\",\"\",IF(Süt!$C9<=0,\"\",AA38*X7))","v":3.6535246947362016E-8},{"$f":"IF(Süt!$B9=\"\",\"\",IF(Süt!$C9<=0,\"\",IF(NElkatsayı<3,    C115+(3- IF(NElkatsayı<1,1,NElkatsayı))*(C115-D115),  IF(NElkatsayı<4,    C115-(NElkatsayı-3)*(C115-D115),  D115)    )))","v":3.9140821551702356E-8},null,null,null,null,null,null,null,null,null,null,"Çayır-Baklagil Silajı, Körpe <%47 NDF","3-02-302",59.5,"Forage",1,2.76,2.1,1.29,1.21,1.39,0.81,45.9,20.3,1,3.1,1.4,2.2999999999999998,1,45.3,0.44,30.8,5.8,9.5,"Wet","Grass/Legume Forage",0,0,60.9,30.4,8.6999999999999993,10.6,17.5,19.2,70,3.47,1.68,3.76,6.24,3.85,1.29,0.79,4.28,3.59,1.01,4.95,34.119999999999997,11.28,3.78,3,1.08,0.3,0.35,0.64,0.28000000000000003,0.16,2.89,0.9,0.01,0.9,1.77,0.9,0.16,1,0,1,9,0.04,0,0.85,328,0.1,71,0.01,0.14000000000000001,1,29,0.15,0,0,0,0,0,"V",null,null,"DryMatterIntake",{"$f":"IF(AnimalType=\"Sağmal İnek\",DMILact*TempFact,IF(AnimalType=\"Kurudaki İnek\",DMIDry*TempFact,IF(AnimalType=\"Damızlık Düve\",HeiferDMI*TempFact,0)))","v":21.160792246064069},"dry matter intake (kg/day)     TempFact katsayısı eklendi"]
[null,null,{"$f":"IF(Süt!$B10=\"\",\"\",IF(Süt!$C10<=0,\"\",AA39*W8))","v":2.0811792871665792E-8},{"$f":"IF(Süt!$B10=\"\",\"\",IF(Süt!$C10<=0,\"\",AA39*X8))","v":1.9325236237975377E-8},{"$f":"IF(Süt!$B10=\"\",\"\",IF(Süt!$C10<=0,\"\",IF(NElkatsayı<3,    C116+(3- IF(NElkatsayı<1,1,NElkatsayı))*(C116-D116),  IF(NElkatsayı<4,    C116-(NElkatsayı-3)*(C116-D116),  D116)    )))","v":2.1233530875432796E-8},null,null,null,null,null,null,null,null,null,null,"Çayır-Baklagil Silajı, Körpe <%51 NDF","3-02-302",60.9,"Forage",1,2.78,2.13,1.31,1.23,1.42,0.79,47.1,18,1,3.1,1.2,2.9,1,49.9,0.49,31.8,5,9.1,"Wet","Grass/Legume Forage",0,0,60.5,31.1,8.4,9.4,18.2,20,65,3.26,1.67,3.61,6.09,3.58,1.25,0.78,4.32,3.46,1.04,4.92,33.200000000000003,10.78,3.77,3,1.02,0.3,0.34,0.64,0.25,0.16,2.88,0.9,0.03,0.9,0.74,0.9,0.27,1,0,1,9,0.04,0,0.85,234,0.1,74,0.01,0.11,1,27,0.15,0,0,0,0,0,"W",null,null,"BW_DMI",{"$f":"IF(BW > 0,(TotalDMFed / BW) * 100,0)","v":3.2520244852540925}]
[null,null,{"$f":"IF(Süt!$B11=\"\",\"\",IF(Süt!$C11<=0,\"\",AA40*W9))","v":2.9683325984890816},{"$f":"IF(Süt!$B11=\"\",\"\",IF(Süt!$C11<=0,\"\",AA40*X9))","v":2.8121045669896563},{"$f":"IF(Süt!$B11=\"\",\"\",IF(Süt!$C11<=0,\"\",IF(NElkatsayı<3,    C117+(3- IF(NElkatsayı<1,1,NElkatsayı))*(C117-D117),  IF(NElkatsayı<4,    C117-(NElkatsayı-3)*(C117-D117),  D117)    )))","v":3.0126546893154833},null,null,null,null,null,null,null,null,null,null,"Çayır-Baklagil Silajı, Olgun >%47 NDF","3-02-266",53.6,"Forage",1,2.46,1.83,1.0900000000000001,1.02,1.1599999999999999,0.6,42.8,17.399999999999999,1,3.5,2,2.2999999999999998,1,57.4,0.45,42.1,7.1,9.6,"Wet","Grass/Legume Forage",0,0,50.4,35.700000000000003,13.9,6.3,28.3,30.6,60,3.47,1.68,3.76,6.3,3.83,1.3,0.78,4.28,3.62,1.02,4.97,34.229999999999997,11.19,3.8,2,1.06,0.3,0.33,0.64,0.24,0.16,2.7,0.9,0.02,0.9,0.52,0.9,0.31,1,0,1,9,0.04,0,0.85,262,0.1,72,0.01,0.14000000000000001,1,30,0.15,0,0,0,0,0,"X",null,null,"Büyüme İhtiyaçları"]
[null,null,{"$f":"IF(Süt!$B12=\"\",\"\",IF(Süt!$C12<=0,\"\",AA41*W10))","v":""},{"$f":"IF(Süt!$B12=\"\",\"\",IF(Süt!$C12<=0,\"\",AA41*X10))","v":""},{"$f":"IF(Süt!$B12=\"\",\"\",IF(Süt!$C12<=0,\"\",IF(NElkatsayı<3,    C118+(3- IF(NElkatsayı<1,1,NElkatsayı))*(C118-D118),  IF(NElkatsayı<4,    C118-(NElkatsayı-3)*(C118-D118),  D118)    )))","v":""},null,null,null,null,null,null,null,null,null,null,"Çayır-Baklagil Silajı, Olgun >%50 NDF","3-02-266",51.8,"Forage",1,2.39,1.77,1.05,0.99,1.1200000000000001,0.56000000000000005,42.9,18.3,1,2.7,2,2,1,53.7,0.42,41.6,8.4,10.199999999999999,"Wet","Grass/Legume Forage",0,0,51.6,35.1,13.3,7.2,26.4,28.6,60,3.67,1.68,3.84,6.34,4.0599999999999996,1.34,0.78,4.2300000000000004,3.72,0.99,4.99,34.86,11.65,3.84,2,1.17,0.3,0.33,0.64,0.26,0.16,2.77,0.9,0.03,0.9,0.6,0.9,0.26,1,0,1,9,0.04,0,0.85,339,0.1,66,0.01,0.17,1,29,0.15,0,0,0,0,0,"Y",null,null,"SBW",{"$f":"0.96*BW","v":624},"shrunk body weight (kg)"]
[null,null,{"$f":"IF(Süt!$B13=\"\",\"\",IF(Süt!$C13<=0,\"\",AA42*W11))","v":""},{"$f":"IF(Süt!$B13=\"\",\"\",IF(Süt!$C13<=0,\"\",AA42*X11))","v":""},{"$f":"IF(Süt!$B13=\"\",\"\",IF(Süt!$C13<=0,\"\",IF(NElkatsayı<3,    C119+(3- IF(NElkatsayı<1,1,NElkatsayı))*(C119-D119),  IF(NElkatsayı<4,    C119-(NElkatsayı-3)*(C119-D119),  D119)    )))","v":""},null,null,null,null,null,null,null,null,null,null,"Çayır-Baklagil Silajı, Olgun >%57 NDF","3-02-266",53.6,"Forage",1,2.4300000000000002,1.8,1.08,1.01,1.1499999999999999,0.59,38.5,15.4,1,3.1,1.8,2.6,1,61.7,0.48,42.2,6.9,9,"Wet","Grass/Legume Forage",0,0,49.2,36.4,14.4,5.5,30.5,32.700000000000003,55,3.26,1.67,3.68,6.27,3.59,1.27,0.77,4.32,3.52,1.04,4.9400000000000004,33.56,10.7,3.78,2,0.85,0.3,0.33,0.64,0.23,0.16,2.5099999999999998,0.9,0.1,0.9,0.9,0.9,0.34,1,0,1,9,0.04,0,0.85,241,0.1,73,0.01,0.11,1,28,0.15,0,0,0,0,0,"Z",null,null,"SRW_to_MSBW",{"$f":"IF(MW>0,478/(0.96*MW),478/(0.96*(MWFromBreed)))","v":0.73008308895405671},"standard reference weight / mature shrunk body weight"]
[null,null,{"$f":"IF(Süt!$B14=\"\",\"\",IF(Süt!$C14<=0,\"\",AA43*W12))","v":""},{"$f":"IF(Süt!$B14=\"\",\"\",IF(Süt!$C14<=0,\"\",AA43*X12))","v":""},{"$f":"IF(Süt!$B14=\"\",\"\",IF(Süt!$C14<=0,\"\",IF(NElkatsayı<3,    C120+(3- IF(NElkatsayı<1,1,NElkatsayı))*(C120-D120),  IF(NElkatsayı<4,    C120-(NElkatsayı-3)*(C120-D120),  D120)    )))","v":""},null,null,null,null,null,null,null,null,null,null,"Çayır-Baklagil Silajı, Orta Olgun, %44-50 NDF","3-02-265",55.3,"Forage",1,2.5499999999999998,1.92,1.1599999999999999,1.0900000000000001,1.24,0.67,43.3,19,1,2.7,1.7,2.1,1,47,0.41,35.4,7.3,10.8,"Wet","Grass/Legume Forage",0,0,58.1,34.200000000000003,7.7,10.4,17.7,19.600000000000001,65,3.67,1.68,3.86,6.3,4.13,1.33,0.79,4.2300000000000004,3.71,0.97,4.97,34.85,11.85,3.82,3,1.1399999999999999,0.3,0.34,0.64,0.28000000000000003,0.16,2.88,0.9,0.01,0.9,0.6,0.9,0.25,1,0,1,9,0.04,0,0.85,244,0.1,64,0.01,0.17,1,28,0.15,0,0,0,0,0,"AA",null,null,"EQSBW",{"$f":"(SBW-CW)*SRW_to_MSBW","v":455.57184750733137},"equivalent shrunk body weight (kg)"]
[null,null,{"$f":"IF(Süt!$B15=\"\",\"\",IF(Süt!$C15<=0,\"\",AA44*W13))","v":""},{"$f":"IF(Süt!$B15=\"\",\"\",IF(Süt!$C15<=0,\"\",AA44*X13))","v":""},{"$f":"IF(Süt!$B15=\"\",\"\",IF(Süt!$C15<=0,\"\",IF(NElkatsayı<3,    C121+(3- IF(NElkatsayı<1,1,NElkatsayı))*(C121-D121),  IF(NElkatsayı<4,    C121-(NElkatsayı-3)*(C121-D121),  D121)    )))","v":""},null,null,null,null,null,null,null,null,null,null,"Çayır-Baklagil Silajı, Orta Olgun, %47-53 NDF","3-02-265",57.7,"Forage",1,2.66,2.0099999999999998,1.23,1.1499999999999999,1.32,0.74,44.1,19.100000000000001,1,3.5,1.6,2.5,1,50.4,0.46,35.4,5.9,10.1,"Wet","Grass/Legume Forage",0,0,58.9,33.200000000000003,8,8.5,19.100000000000001,21,65,3.47,1.68,3.76,6.24,3.85,1.29,0.79,4.28,3.59,1.01,4.95,34.119999999999997,11.28,3.78,2,1.0900000000000001,0.3,0.35,0.64,0.27,0.16,2.8,0.9,0.01,0.9,1.1000000000000001,0.9,0.26,1,0,1,9,0.04,0,0.85,252,0.1,71,0.01,0.14000000000000001,1,31,0.15,0,0,0,0,0,"AB",null,null,"SWGVariant",{"$f":"13.91*(NEGrowthDiet^0.9116)*(EQSBW^-0.6837)","v":2.1672081024519829},"shrunk weight gain (kg)"]
[null,null,{"$f":"IF(Süt!$B16=\"\",\"\",IF(Süt!$C16<=0,\"\",AA45*W14))","v":""},{"$f":"IF(Süt!$B16=\"\",\"\",IF(Süt!$C16<=0,\"\",AA45*X14))","v":""},{"$f":"IF(Süt!$B16=\"\",\"\",IF(Süt!$C16<=0,\"\",IF(NElkatsayı<3,    C122+(3- IF(NElkatsayı<1,1,NElkatsayı))*(C122-D122),  IF(NElkatsayı<4,    C122-(NElkatsayı-3)*(C122-D122),  D122)    )))","v":""},null,null,null,null,null,null,null,null,null,null,"Çayır-Baklagil Silajı, Orta Olgun, %51-57 NDF","3-02-265",56.7,"Forage",1,2.6,1.96,1.19,1.1100000000000001,1.29,0.73,44.5,17.600000000000001,1,3.1,1.4,2.9,1,54.5,0.46,35.700000000000003,6.5,9.5,"Wet","Grass/Legume Forage",0,0,59.6,32.1,8.3000000000000007,6.7,20.9,22.8,60,3.26,1.67,3.67,6.18,3.56,1.25,0.78,4.32,3.46,1.04,4.92,33.33,10.68,3.75,2,0.89,0.3,0.36,0.64,0.26,0.16,2.64,0.9,0.01,0.9,0.45,0.9,0.25,1,0,1,9,0.04,0,0.85,264,0.1,78,0.01,0.11,1,30,0.15,0,0,0,0,0,"AC",null,null,"WG",{"$f":"IF(AnimalType=\"Damızlık Düve\",0.96*(DesiredADG/1000),0.96*ADG)","v":0},"weight gain (kg/day)"]
[null,null,{"$f":"IF(Süt!$B17=\"\",\"\",IF(Süt!$C17<=0,\"\",AA46*W15))","v":""},{"$f":"IF(Süt!$B17=\"\",\"\",IF(Süt!$C17<=0,\"\",AA46*X15))","v":""},{"$f":"IF(Süt!$B17=\"\",\"\",IF(Süt!$C17<=0,\"\",IF(NElkatsayı<3,    C123+(3- IF(NElkatsayı<1,1,NElkatsayı))*(C123-D123),  IF(NElkatsayı<4,    C123-(NElkatsayı-3)*(C123-D123),  D123)    )))","v":""},null,null,null,null,null,null,null,null,null,null,"Mısır Silajı, %23-26 KM",null,60.14,"Forage",0.94,2.64,2.0099999999999998,1.22,1.1599999999999999,1.19,0.62,25,7.3,1,1.8,0.8,3.3,1,55.8,0.57999999999999996,32.5,4.5999999999999996,6.6,"Wet","Grain Crop Forage",0,30,50.3,31.3,11.8,4,30.8,31.9,68,1.97,1.79,3.34,8.59,2.5099999999999998,1.53,1.34,3.83,3.19,0.44,8.59,31.64,7.93,4.84,2.5,0.28999999999999998,0.6,0.24,0.7,0.19,0.16,1.3,0.9,0.01,0.9,0.3,0.9,0.14000000000000001,1,0,1,6,0.04,0,0.85,157,0.1,46,0.01,0.04,1,29,0.15,0,0,0,0,0,"AD",null,null,"DLWReq",{"$f":"IF(UseTargetADG=0,0,0)","v":0},"DLW required (kg/day)"]
[null,null,{"$f":"IF(Süt!$B18=\"\",\"\",IF(Süt!$C18<=0,\"\",AA47*W16))","v":""},{"$f":"IF(Süt!$B18=\"\",\"\",IF(Süt!$C18<=0,\"\",AA47*X16))","v":""},{"$f":"IF(Süt!$B18=\"\",\"\",IF(Süt!$C18<=0,\"\",IF(NElkatsayı<3,    C124+(3- IF(NElkatsayı<1,1,NElkatsayı))*(C124-D124),  IF(NElkatsayı<4,    C124-(NElkatsayı-3)*(C124-D124),  D124)    )))","v":""},null,null,null,null,null,null,null,null,null,null,"Mısır Silajı, %26-29 KM",null,62.17,"Forage",0.94,2.73,2.08,1.28,1.2,1.26,0.68200000000000005,27.8,7.2,1,1.6,0.6,3.6,1,53,0.57999999999999996,31.5,4.9000000000000004,5.7,"Wet","Grain Crop Forage",0,30,51,39.299999999999997,11.6,4.4000000000000004,30,31.1,67.7,1.97,1.79,3.34,8.59,2.5099999999999998,1.53,1.34,3.83,3.19,0.44,8.59,31.64,7.93,4.84,2.5,0.28000000000000003,0.6,0.26,0.7,0.17,0.16,1.2,0.9,0.01,0.9,0.28999999999999998,0.9,0.14000000000000001,1,0,1,6,0.04,0,0.85,104,0.1,36,0.01,0.04,1,24,0.15,0,0,0,0,0,"AE",null,null,"EQEBW",{"$f":"0.891*EQSBW","v":405.91451612903228},"equivalent empty body weight (kg)"]
[null,null,{"$f":"IF(Süt!$B19=\"\",\"\",IF(Süt!$C19<=0,\"\",AA48*W17))","v":""},{"$f":"IF(Süt!$B19=\"\",\"\",IF(Süt!$C19<=0,\"\",AA48*X17))","v":""},{"$f":"IF(Süt!$B19=\"\",\"\",IF(Süt!$C19<=0,\"\",IF(NElkatsayı<3,    C125+(3- IF(NElkatsayı<1,1,NElkatsayı))*(C125-D125),  IF(NElkatsayı<4,    C125-(NElkatsayı-3)*(C125-D125),  D125)    )))","v":""},null,null,null,null,null,null,null,null,null,null,"Mısır Silajı, %29-33 KM",null,60.99,"Forage",0.94,2.68,2.04,1.24,1.17,1.22,0.64,31.3,7.2,1,1.6,0.7,3.4,1,52.9,0.57999999999999996,31.1,5,5.8,"Wet","Grain Crop Forage",0,30,49.8,37.6,12.2,4.4000000000000004,29.8,31.2,67.7,1.97,1.79,3.34,8.59,2.5099999999999998,1.53,1.34,3.83,3.19,0.44,4.47,31.64,7.93,4.84,2.5,0.28000000000000003,0.6,0.26,0.7,0.17,0.16,1.2,0.9,0.01,0.9,0.28999999999999998,0.9,0.14000000000000001,1,0,1,6,0.04,0,0.85,104,0.1,36,0.01,0.04,1,24,0.15,0,0,0,0,0,"AF",null,null,"EQEBG",{"$f":"0.956*WG","v":0},"equivalent empty body gain (kg)"]
[null,null,{"$f":"IF(Süt!$B20=\"\",\"\",IF(Süt!$C20<=0,\"\",AA49*W18))","v":""},{"$f":"IF(Süt!$B20=\"\",\"\",IF(Süt!$C20<=0,\"\",AA49*X18))","v":""},{"$f":"IF(Süt!$B20=\"\",\"\",IF(Süt!$C20<=0,\"\",IF(NElkatsayı<3,    C126+(3- IF(NElkatsayı<1,1,NElkatsayı))*(C126-D126),  IF(NElkatsayı<4,    C126-(NElkatsayı-3)*(C126-D126),  D126)    )))","v":""},null,null,null,null,null,null,null,null,null,null,"Mısır Silajı, %33-40 KM",null,60.87,"Forage",0.94,2.67,2.0299999999999998,1.24,1.17,1.22,0.64,35.5,7.3,1,1.6,0.7,3.5,1,51.6,0.56000000000000005,29.8,4.9000000000000004,5.8,"Wet","Grain Crop Forage",0,30,46.7,42.2,13,3.2,33.799999999999997,35.4,67.599999999999994,1.97,1.79,3.34,8.59,2.5099999999999998,1.53,1.34,3.83,3.19,0.44,4.47,31.64,7.93,4.84,2.5,0.26,0.6,0.25,0.7,0.16,0.16,1.1000000000000001,0.9,0.01,0.9,0.17,0.9,0.1,1,0,1,6,0.04,0,0.85,92,0.1,36,0.01,0.04,1,23,0.15,0,0,0,0,0,"AG",null,null,"RE",{"$f":" 0.0635 * (EQEBW ^ 0.75) * (EQEBG ^ 1.097)","v":0},"retained energy (Mcal/day)"]
[null,null,{"$f":"IF(Süt!$B21=\"\",\"\",IF(Süt!$C21<=0,\"\",AA50*W19))","v":""},{"$f":"IF(Süt!$B21=\"\",\"\",IF(Süt!$C21<=0,\"\",AA50*X19))","v":""},{"$f":"IF(Süt!$B21=\"\",\"\",IF(Süt!$C21<=0,\"\",IF(NElkatsayı<3,    C127+(3- IF(NElkatsayı<1,1,NElkatsayı))*(C127-D127),  IF(NElkatsayı<4,    C127-(NElkatsayı-3)*(C127-D127),  D127)    )))","v":""},null,null,null,null,null,null,null,null,null,null,"Ryegrass Silajı",null,59.84,"Forage",1,2.73,2.09,1.28,1.21,1.27,0.69,22.58,14.83,1,2.11,0.6,4.1100000000000003,1,50.76,0.49,31.68,5.57,10.220000000000001,"Wet","Grain Crop Forage",0,30,60.1,31.8,8.1,8.1,19.100000000000001,21,65,3.06,1.66,3.57,6.12,3.28,1.21,0.78,4.37,3.37,1.07,4.8899999999999997,32.57,10.07,3.72,5,0.56999999999999995,0.3,0.36,0.64,0.22,0.16,3.11,0.9,0.05,0.9,0.67,0.9,0.21,1,0,1,9,0.04,0,0.85,280,0.1,56,0.01,0.09,1,31,0.15,0,0,0,0,0,"AH",null,null,"NEGrowth",{"$f":"IF(NEg_Total>0,IF(AnimalType<>\"Damızlık Düve\",(NEm_Total/NEg_Total)*RE,RE),0)","v":0},"net energy required for growth (Mcal/day)"]
[null,null,{"$f":"IF(Süt!$B22=\"\",\"\",IF(Süt!$C22<=0,\"\",AA51*W20))","v":""},{"$f":"IF(Süt!$B22=\"\",\"\",IF(Süt!$C22<=0,\"\",AA51*X20))","v":""},{"$f":"IF(Süt!$B22=\"\",\"\",IF(Süt!$C22<=0,\"\",IF(NElkatsayı<3,    C128+(3- IF(NElkatsayı<1,1,NElkatsayı))*(C128-D128),  IF(NElkatsayı<4,    C128-(NElkatsayı-3)*(C128-D128),  D128)    )))","v":""},null,null,null,null,null,null,null,null,null,null,"Sorgum Silajı","3-22-371",56.7,"Forage",1,2.48,1.85,1.1100000000000001,1.04,1.18,0.62,28.8,9.1,1,2.4,1.2,2.9,1,60.7,0.49,38.700000000000003,6.5,7.5,"Wet","Grain Crop Forage",0,0,42.4,37.299999999999997,20.3,4.0999999999999996,39.4,41.7,70,4.07,2.4700000000000002,3.91,13.04,2.64,1.93,0.64,5.24,3.59,1.1599999999999999,5,43.04,6.13,4.4800000000000004,5,null,null,null,null,null,null,null,null,null,null,null,null,null,null,null,null,null,null,null,null,null,null,null,null,null,null,null,null,null,null,null,null,null,"AI",null,null,"NPg",{"$f":"IF(WG=0,0,WG * (268 - (29.4 * (RE / WG))))","v":0},"net protein requirement (g/day)"]
[null,null,{"$f":"IF(Süt!$B23=\"\",\"\",IF(Süt!$C23<=0,\"\",AA52*W21))","v":0},{"$f":"IF(Süt!$B23=\"\",\"\",IF(Süt!$C23<=0,\"\",AA52*X21))","v":0},{"$f":"IF(Süt!$B23=\"\",\"\",IF(Süt!$C23<=0,\"\",IF(NElkatsayı<3,    C129+(3- IF(NElkatsayı<1,1,NElkatsayı))*(C129-D129),  IF(NElkatsayı<4,    C129-(NElkatsayı-3)*(C129-D129),  D129)    )))","v":0},null,null,null,null,null,null,null,null,null,null,"Sorgum, Sudan Otu Silajı","3-04-499",54.4,"Forage",1,2.41,1.79,1.07,1,1.1299999999999999,0.56999999999999995,28.8,10.8,1,2.4,1.2,3.6,1,63.3,0.51,40.700000000000003,5.9,10.9,"Wet","Grass/Legume Forage",0,0,37.6,29.7,32.700000000000003,3.7,48.6,50.5,55,3.06,1.66,3.6,6.23,3.35,1.23,0.77,4.37,3.42,1.07,4.91,32.9,10.18,3.74,5,0.5,0.3,0.21,0.64,0.27,0.16,1.75,0.9,0.02,0.9,0.6,0.9,0.12,1,0,1,9,0.04,0,0.85,392,0.1,65,0.01,0.03,1,31,0.15,1.9,0,0,0,0,"AJ",null,null,"EffMP_NPg",{"$f":"IF(EQSBW<=478,(83.4 - (0.114 * EQSBW)) / 100,0.28908)","v":0.31464809384164227},"efficiency of use of MP for NPg"]
[null,null,{"$f":"IF(Süt!$B24=\"\",\"\",IF(Süt!$C24<=0,\"\",AA53*W22))","v":0},{"$f":"IF(Süt!$B24=\"\",\"\",IF(Süt!$C24<=0,\"\",AA53*X22))","v":0},{"$f":"IF(Süt!$B24=\"\",\"\",IF(Süt!$C24<=0,\"\",IF(NElkatsayı<3,    C130+(3- IF(NElkatsayı<1,1,NElkatsayı))*(C130-D130),  IF(NElkatsayı<4,    C130-(NElkatsayı-3)*(C130-D130),  D130)    )))","v":0},null,null,null,null,null,null,null,null,null,null,"Soya Silajı, Körpe","3-04-579",59.9,"Forage",1,2.73,2.09,1.29,1.21,1.37,0.79,40.4,17.399999999999999,1,2.5,1.4,5.7,1,46.6,0.44,36.9,6.5,12.2,"Wet","Grass/Legume Forage",0,0,57.3,35.299999999999997,7.4,12.2,16.600000000000001,18.399999999999999,65,3.87,1.69,3.73,6,4.4800000000000004,1.37,0.78,4.18,3.83,0.93,5,35.08,12.77,3.91,4.5,0.64,0.3,0.24,0.64,0.31,0.16,2.57,0.9,0.03,0.9,0.56000000000000005,0.9,0.15,1,0,1,11,0.04,0,0.85,990,0.1,79,0.01,0,1,33,0.15,2.7,0,0,0,0,"AK",null,null,"MPGrowth",{"$f":"NPg / EffMP_NPg","v":0},"metabolizable protein requirement for growth (g/day)"]
[null,null,{"$f":"IF(Süt!$B25=\"\",\"\",IF(Süt!$C25<=0,\"\",AA54*W23))","v":0},{"$f":"IF(Süt!$B25=\"\",\"\",IF(Süt!$C25<=0,\"\",AA54*X23))","v":0},{"$f":"IF(Süt!$B25=\"\",\"\",IF(Süt!$C25<=0,\"\",IF(NElkatsayı<3,    C131+(3- IF(NElkatsayı<1,1,NElkatsayı))*(C131-D131),  IF(NElkatsayı<4,    C131-(NElkatsayı-3)*(C131-D131),  D131)    )))","v":0},null,null,null,null,null,null,null,null,null,null,"Şalgam yaprakları",null,69,"Forage",1,3,2.5,1.5,1.43,1.6,0.9,18,16,1,8.48,1.76,2.6,1,25,0.45,13,null,13,"Wet",null,0,5,50,30,8,4,17,18,60,null,null,null,null,null,null,null,null,null,null,null,null,null,null,5,1.07,0.3,0.37,0.64,0.35,0.16,2.25,0.9,0.01,0.9,0,0.9,0.22,1,0,1,14,0.04,0,0.85,656,0.1,75,0.01,0,1,42,0.15,3.1,0,0,0,0,"AL",null,null,"NEReserves",{"$f":"IF(DLWReq>0,DLWReq * 5.12,DLWReq * 4.92)","v":0},"net energy required for reserves replenishment or provided when reserves are mobilized (Mcal NEl/day)"]
[null,null,{"$f":"IF(Süt!$B26=\"\",\"\",IF(Süt!$C26<=0,\"\",AA55*W24))","v":""},{"$f":"IF(Süt!$B26=\"\",\"\",IF(Süt!$C26<=0,\"\",AA55*X24))","v":""},{"$f":"IF(Süt!$B26=\"\",\"\",IF(Süt!$C26<=0,\"\",IF(NElkatsayı<3,    C132+(3- IF(NElkatsayı<1,1,NElkatsayı))*(C132-D132),  IF(NElkatsayı<4,    C132-(NElkatsayı-3)*(C132-D132),  D132)    )))","v":""},null,null,null,null,null,null,null,null,null,null,"Şalgam, yaprak+kök",null,76.650000000000006,"Forage",1,3.36,2.77,1.7250000000000001,1.64,1.825,1.1200000000000001,13.95,14.2,1,7.53,1.56,2.11,1,33.549999999999997,0.5,22.45,null,10.75,"Wet",null,0,5,29.52,57.22,6.65,3.1,34.549999999999997,39.6,73.5,null,null,null,null,null,null,null,null,null,null,null,null,null,null,5,3.2,null,0.31,null,null,null,3,null,null,null,1.8,null,0.27,null,null,null,null,null,null,null,null,null,null,null,null,null,20,null,null,null,null,null,null,"AM",null,null,"DMIAvailGrowth",{"$f":"IF(AnimalType=\"Damızlık Düve\",TotalDMFed - DMIMaint - DMIPreg,TotalDMFed - DMIMaint - DMIPreg - DMILact)","v":-7.0018911925850205},"dry matter available for growth (kg/day)"]
[null,null,{"$f":"IF(Süt!$B27=\"\",\"\",IF(Süt!$C27<=0,\"\",AA56*W25))","v":""},{"$f":"IF(Süt!$B27=\"\",\"\",IF(Süt!$C27<=0,\"\",AA56*X25))","v":""},{"$f":"IF(Süt!$B27=\"\",\"\",IF(Süt!$C27<=0,\"\",IF(NElkatsayı<3,    C133+(3- IF(NElkatsayı<1,1,NElkatsayı))*(C133-D133),  IF(NElkatsayı<4,    C133-(NElkatsayı-3)*(C133-D133),  D133)    )))","v":""},null,null,null,null,null,null,null,null,null,null,"Tritikale Silajı, Başaklı","3-26-208",57.2,"Forage",1,2.57,1.94,1.18,1.1000000000000001,1.25,0.69,32,13.8,1,2.2000000000000002,1,3.8,1,59.7,0.51,39.6,5.8,9.6999999999999993,"Wet","Grain Crop Forage",0,0,56.6,32.9,10.5,5.9,24.3,26.4,65,3.84,2.5299999999999998,3.04,5.86,1.83,1.31,1.43,4.78,2.14,1.03,3.68,31.47,5.82,4.16,3,2.0699999999999998,null,0.32,null,null,null,3.09,null,null,null,1.28,null,0.34,null,null,null,null,null,null,null,null,null,null,null,null,null,29,null,null,null,null,null,null,"AN",null,null,"ADGwoPreg",null,"average daily gain w/o pregnancy (kg/day)"]
[null,null,{"$f":"IF(Süt!$B28=\"\",\"\",IF(Süt!$C28<=0,\"\",AA57*W26))","v":""},{"$f":"IF(Süt!$B28=\"\",\"\",IF(Süt!$C28<=0,\"\",AA57*X26))","v":""},{"$f":"IF(Süt!$B28=\"\",\"\",IF(Süt!$C28<=0,\"\",IF(NElkatsayı<3,    C134+(3- IF(NElkatsayı<1,1,NElkatsayı))*(C134-D134),  IF(NElkatsayı<4,    C134-(NElkatsayı-3)*(C134-D134),  D134)    )))","v":""},null,null,null,null,null,null,null,null,null,null,"Tritikale-Bezelye Silajı (9-1)",null,56.84,"Forage",1,2.54,1.91,1.1499999999999999,1.08,1.23,0.66,34.340000000000003,12.99,1,2.11,1,3.44,1,60.51,0.52,38.97,5.53,9.7899999999999991,"Wet","Grass/Legume Forage",0,10,46.7,31.1,22.2,5.45,35.909999999999997,37.83,65,2.35,1.99,5.25,6.57,3.39,1.81,0.81,4.71,3.93,1.38,4.08,35.630000000000003,9.4600000000000009,5.08,5,0.52,0.3,0.31,0.64,0.2,0.16,2.89,0.9,0.24,0.9,1.34,0.9,0.19,1,0,1,9,0.04,0,0.85,500,0.1,66,0.01,0,1,29,0.15,2.2000000000000002,0,0,0,0,"AQ",null,null,"ADGwPreg",null,"average daily gain with pregnancy (kg/day)"]
[null,null,{"$f":"IF(Süt!$B29=\"\",\"\",IF(Süt!$C29<=0,\"\",AA58*W27))","v":""},{"$f":"IF(Süt!$B29=\"\",\"\",IF(Süt!$C29<=0,\"\",AA58*X27))","v":""},{"$f":"IF(Süt!$B29=\"\",\"\",IF(Süt!$C29<=0,\"\",IF(NElkatsayı<3,    C135+(3- IF(NElkatsayı<1,1,NElkatsayı))*(C135-D135),  IF(NElkatsayı<4,    C135-(NElkatsayı-3)*(C135-D135),  D135)    )))","v":""},null,null,null,null,null,null,null,null,null,null,"Yerfıstığı otu, hasat sonrası","",60,"Forage",1,2.67,2.02,1.25,1.1599999999999999,1.33,0.75,18,15,1,3.9,1.2,2.5,1,60,0.52,35,4.3,8.8000000000000007,"Wet","Grass/Legume Forage",0,0,36.700000000000003,51.7,11.6,8.1,28.4,30.5,65,3.88,1.63,3.32,6.22,3.49,1.3,1.1599999999999999,3.92,3.6,1.24,6.22,33.049999999999997,10.53,3.93,6,1.23,0.3,0.17,0.64,0.23,0.16,2.13,0.9,0.08,0.9,0.92,0.9,0.24,1,0,1,9,0.04,0,0.85,194,0.1,72,0.01,0.06,1,25,0.15,0,0,0,0,0,"AR",null,null,"MEGrowth",{"$f":"IF(AND(AnimalType=\"Damızlık Düve\",NEgOverMEng>0)=TRUE,NEGrowth / NEgOverMEng,0)","v":0},"only used for Damızlık Düve"]
[null,null,{"$f":"IF(Süt!$B30=\"\",\"\",IF(Süt!$C30<=0,\"\",AA59*W28))","v":""},{"$f":"IF(Süt!$B30=\"\",\"\",IF(Süt!$C30<=0,\"\",AA59*X28))","v":""},{"$f":"IF(Süt!$B30=\"\",\"\",IF(Süt!$C30<=0,\"\",IF(NElkatsayı<3,    C136+(3- IF(NElkatsayı<1,1,NElkatsayı))*(C136-D136),  IF(NElkatsayı<4,    C136-(NElkatsayı-3)*(C136-D136),  D136)    )))","v":""},null,null,null,null,null,null,null,null,null,null,"Yonca Silajı",null,53.39,"Forage",1,2.4900000000000002,1.92,1.1599999999999999,1.1100000000000001,1.1000000000000001,0.53,37.08,20.38,1,2.85,2.14,2.64,1,41.19,0.39,34.909999999999997,10.15,11.84,"Wet","Grass/Legume Forage",0,10,46.2,43.21,10.59,12.2,24.48,26.47,63.81,3.87,1.69,3.95,6.36,4.41,1.37,0.79,4.18,3.83,0.94,5,35.6,12.39,3.85,4,1.36,0.3,0.35,0.64,0.28000000000000003,0.16,3,0.9,0.02,0.9,0.61,0.9,0.28000000000000003,1,0.65,1,9,0.04,0,0.85,395,0.1,64,0.01,0.18,1,30,0.15,0,0,0,0,0,"AS",null,null,"MEAllowGain",{"$f":" (SWG / 0.96)","v":2.2575084400541487},""]
[null,null,{"$f":"IF(Süt!$B31=\"\",\"\",IF(Süt!$C31<=0,\"\",AA60*W29))","v":""},{"$f":"IF(Süt!$B31=\"\",\"\",IF(Süt!$C31<=0,\"\",AA60*X29))","v":""},{"$f":"IF(Süt!$B31=\"\",\"\",IF(Süt!$C31<=0,\"\",IF(NElkatsayı<3,    C137+(3- IF(NElkatsayı<1,1,NElkatsayı))*(C137-D137),  IF(NElkatsayı<4,    C137-(NElkatsayı-3)*(C137-D137),  D137)    )))","v":""},null,null,null,null,null,null,null,null,null,null,"Yulaf Silajı, Başaklı","3-21-843",56.8,"Forage",1,2.54,1.91,1.1499999999999999,1.08,1.23,0.66,34.6,12.9,1,2.1,1,3.4,1,60.6,0.52,38.9,5.5,9.8000000000000007,"Wet","Grain Crop Forage",0,0,45.6,30.9,23.5,5.4,37.200000000000003,39.1,65,2.1800000000000002,1.94,5.5,6.65,3.56,1.87,0.74,4.7,4.13,1.42,4.13,36.090000000000003,9.86,5.18,4,0.56999999999999995,0.3,0.33,0.64,0.19,0.16,3.01,0.9,0.05,0.9,0,0.9,0.21,1,0,1,7,0.04,0,0.85,404,0.1,66,0.01,0,1,37,0.15,1.8,0,0,0,0,"AT",null,null,"MEAllowGainPreg",{"$f":"IF(Age<FirstCalf, MEAllowGain + (ADGPreg / 1000),(EQEBG / 0.956) + (ADGPreg / 1000))","v":0},""]
[null,null,null,null,null,null,null,null,null,null,null,null,null,null,null,null,null,null,null,null,null,null,null,null,null,null,null,null,null,null,null,null,null,null,null,null,null,null,null,null,null,null,null,null,null,null,null,null,null,null,null,null,null,null,null,null,null,null,null,null,null,null,null,null,null,null,null,null,null,null,null,null,null,null,null,null,null,null,null,null,null,null,null,null,null,null,null,null,null,null,null,null,null,null,null,null,null,"AU",null,null,"Diet değerlendirme"]
[null,null,null,null,null,null,null,null,null,null,null,null,null,null,null,null,null,null,null,null,null,null,null,null,null,null,null,null,null,null,null,null,null,null,null,null,null,null,null,null,null,null,null,null,null,null,null,null,null,null,null,null,null,null,null,null,null,null,null,null,null,null,null,null,null,null,null,null,null,null,null,null,null,null,null,null,null,null,null,null,null,null,null,null,null,null,null,null,null,null,null,null,null,null,null,null,null,"AV",null,null,"DMIPred",{"$f":" DryMatterIntake","v":21.160792246064069},"predicted dry matter intake (kg/day)"]
[null,null,null,null,null,null,null,null,null,null,null,null,null,null,null,null,null,null,null,null,null,null,null,null,null,null,null,null,null,null,null,null,null,null,null,null,null,null,null,null,null,null,null,null,null,null,null,null,null,null,null,null,null,null,null,null,null,null,null,null,null,null,null,null,null,null,null,null,null,null,null,null,null,null,null,null,null,null,null,null,null,null,null,null,null,null,null,null,null,null,null,null,null,null,null,null,null,"AW",null,null,"DMIActual",{"$f":" TotalDMFed","v":21.138159154151602},"actual dry matter intake (kg/day)"]
[null,null,null,null,null,null,null,null,null,null,null,null,null,null,null,null,null,null,null,null,null,null,null,null,null,null,null,null,null,null,null,null,null,null,null,null,null,null,null,null,null,null,null,null,null,null,null,null,null,null,null,null,null,null,null,null,null,null,null,null,null,null,null,null,null,null,null,null,null,null,null,null,null,null,null,null,null,null,null,null,null,null,null,null,null,null,null,null,null,null,null,null,null,null,null,null,null,"AX",null,null,"RDPReq",{"$f":"IF(AnimalType=\"Damızlık Düve\",HeiferRDP, IF(AnimalType=\"Sağmal İnek\",CowRDP,IF(AnimalType=\"Kurudaki İnek\",0.15294 * TDN_Act_Total, 0)))","v":2024},"RDP required (g/day)   0,15294 * TDN_Act_Total yerine CowRDP eklendi"]
[null,null,null,null,null,null,null,null,null,null,null,null,null,null,null,null,null,null,null,null,null,null,null,null,null,null,null,null,null,null,null,null,null,null,null,null,null,null,null,null,null,null,null,null,null,null,null,null,null,null,null,null,null,null,null,null,null,null,null,null,null,null,null,null,null,null,null,null,null,null,null,null,null,null,null,null,null,null,null,null,null,null,null,null,null,null,null,null,null,null,null,null,null,null,null,null,null,"AY",null,null,"RDPSup",{"$f":" TotalDMFed * 1000 * DietCP * CP_RDP","v":2061.5872156285709},"RDP supplied (g/day)"]
[null,null,null,null,null,null,null,null,null,null,null,null,null,null,null,null,null,null,null,null,null,null,null,null,null,null,null,null,null,null,null,null,null,null,null,null,null,null,null,null,null,null,null,null,null,null,null,null,null,null,null,null,null,null,null,null,null,null,null,null,null,null,null,null,null,null,null,null,null,null,null,null,null,null,null,null,null,null,null,null,null,null,null,null,null,null,null,null,null,null,null,null,null,null,null,null,null,"AZ",null,null,"RDPBal",{"$f":" RDPSup - RDPReq","v":37.587215628570902},"difference between RDPReq and RDPSup (g/day)"]
[null,null,null,null,null,null,null,null,null,null,null,null,null,null,null,null,null,null,null,null,null,null,null,null,null,null,null,null,null,null,null,null,null,null,null,null,null,null,null,null,null,null,null,null,null,null,null,null,null,null,null,null,null,null,null,null,null,null,null,null,null,null,null,null,null,null,null,null,null,null,null,null,null,null,null,null,null,null,null,null,null,null,null,null,null,null,null,null,null,null,null,null,null,null,null,null,null,"BA",null,null,"RUPReq",{"$f":"IF(DietRUPDigest>0, IF(AnimalType=\"Damızlık Düve\",HeiferRUP,IF(AnimalType=\"Sağmal İnek\", CowRUP, IF(AnimalType=\"Kurudaki İnek\",(CG87 - (MPBact + MPEndo)) / DietRUPDigest,0)  )),0)","v":860.32999999999993},"RUP required (g/day)      (CG87 - (MPBact + MPEndo)) / DietRUPDigest yerine CowRUP eklendi"]
[null,null,null,null,null,null,null,null,null,null,null,null,null,null,null,null,null,null,null,null,null,null,null,null,null,null,null,null,null,null,null,null,null,null,null,null,null,null,null,null,null,null,null,null,null,null,null,null,null,null,null,null,null,null,null,null,null,null,null,null,null,null,null,null,null,null,null,null,null,null,null,null,null,null,null,null,null,null,null,null,null,null,null,null,null,null,null,null,null,null,null,null,null,null,null,null,null,"BB",null,null,"RUPSup",{"$f":" CP_Total - RDPSup","v":890.40024723631313},"RUP supplied (g/day)"]
[null,null,null,null,null,null,null,null,null,null,null,null,null,null,null,null,null,null,null,null,null,null,null,null,null,null,null,null,null,null,null,null,null,null,null,null,null,null,null,null,null,null,null,null,null,null,null,null,null,null,null,null,null,null,null,null,null,null,null,null,null,null,null,null,null,null,null,null,null,null,null,null,null,null,null,null,null,null,null,null,null,null,null,null,null,null,null,null,null,null,null,null,null,null,null,null,null,"BC",null,null,"RUPBal",{"$f":" RUPSup - RUPReq","v":30.070247236313207},"difference between RUPReq and RUPSup (g/day)"]
[null,null,null,null,null,null,null,null,null,null,null,null,null,null,null,null,null,null,null,null,null,null,null,null,null,null,null,null,null,null,null,null,null,null,null,null,null,null,null,null,null,null,null,null,null,null,null,null,null,null,null,null,null,null,null,null,null,null,null,null,null,null,null,null,null,null,null,null,null,null,null,null,null,null,null,null,null,null,null,null,null,null,null,null,null,null,null,null,null,null,null,null,null,null,null,null,null,"BD",null,null,"MPBalance",{"$f":"(((MPFeed * 1000) + MPBact + MPEndo)- (MPMaint + MPPreg + MPLact + MPGrowth))","v":-20.72314870163359},""]
[null,null,null,null,null,null,null,null,null,null,null,null,null,null,null,null,null,null,null,null,null,null,null,null,null,null,null,null,null,null,null,null,null,null,null,null,null,null,null,null,null,null,null,null,null,null,null,null,null,null,null,null,null,null,null,null,null,null,null,null,null,null,null,null,null,null,null,null,null,null,null,null,null,null,null,null,null,null,null,null,null,null,null,null,null,null,null,null,null,null,null,null,null,null,null,null,null,"BE",null,null,"ProteinInGain",{"$f":"IF(SWG>0,(268 - (29.4 * (NEGrowthDiet / SWG))),0)","v":93.96371358687594},""]
[null,null,null,null,null,null,null,null,null,null,null,null,null,null,null,null,null,null,null,null,null,null,null,null,null,null,null,null,null,null,null,null,null,null,null,null,null,null,null,null,null,null,null,null,null,null,null,null,null,null,null,null,null,null,null,null,null,null,null,null,null,null,null,null,null,null,null,null,null,null,null,null,null,null,null,null,null,null,null,null,null,null,null,null,null,null,null,null,null,null,null,null,null,null,null,null,null,"BF",null,null,"MPBalwoGrowth",{"$f":"(((MPFeed * 1000) + MPBact + MPEndo)- (MPMaint + MPPreg + MPLact))","v":-20.72314870163359}]
[null,null,null,null,null,null,null,null,null,null,null,null,null,null,null,null,null,null,null,null,null,null,null,null,null,null,null,null,null,null,null,null,null,null,null,null,null,null,null,null,null,null,null,null,null,null,null,null,null,null,null,null,null,null,null,null,null,null,null,null,null,null,null,null,null,null,null,null,null,null,null,null,null,null,null,null,null,null,null,null,null,null,null,null,null,null,null,null,null,null,null,null,null,null,null,null,null,"BG",null,null,"MPAllowGain",{"$f":"IF(ProteinInGain>0,((MPBalwoGrowth * EffMP_NPg) / ProteinInGain) / 0.96,0)","v":-7.2285209325083227E-2},""]
[null,null,null,null,null,null,null,null,null,null,null,null,null,null,null,null,null,null,null,null,null,null,null,null,null,null,null,null,null,null,null,null,null,null,null,null,null,null,null,null,null,null,null,null,null,null,null,null,null,null,null,null,null,null,null,null,null,null,null,null,null,null,null,null,null,null,null,null,null,null,null,null,null,null,null,null,null,null,null,null,null,null,null,null,null,null,null,null,null,null,null,null,null,null,null,null,null,"BH",null,null,"MPAllowGainPreg",{"$f":" MPAllowGain + (ADGPreg / 1000)","v":-7.2285209325083227E-2},""]
[null,null,null,null,null,null,null,null,null,null,null,null,null,null,null,null,null,null,null,null,null,null,null,null,null,null,null,null,null,null,null,null,null,null,null,null,null,null,null,null,null,null,null,null,null,null,null,null,null,null,null,null,null,null,null,null,null,null,null,null,null,null,null,null,null,null,null,null,null,null,null,null,null,null,null,null,null,null,null,null,null,null,null,null,null,null,null,null,null,null,null,null,null,null,null,null,null,"BI",null,null,"MPBact",{"$f":"MCP_Total*0.64","v":1121.5034453019425},"metabolizable protein supplied by microbial protein (g/day)"]
[null,null,null,null,null,null,null,null,null,null,null,null,null,null,null,null,null,null,null,null,null,null,null,null,null,null,null,null,null,null,null,null,null,null,null,null,null,null,null,null,null,null,null,null,null,null,null,null,null,null,null,null,null,null,null,null,null,null,null,null,null,null,null,null,null,null,null,null,null,null,null,null,null,null,null,null,null,null,null,null,null,null,null,null,null,null,null,null,null,null,null,null,null,null,null,null,null,"BJ",null,null,"MPFeed",{"$f":"TotalDigestedRUP","v":0.67673542646929241},"metabolizable protein supplied by animals ration (g/day)"]
[null,null,null,null,null,null,null,null,null,null,null,null,null,null,null,null,null,null,null,null,null,null,null,null,null,null,null,null,null,null,null,null,null,null,null,null,null,null,null,null,null,null,null,null,null,null,null,null,null,null,null,null,null,null,null,null,null,null,null,null,null,null,null,null,null,null,null,null,null,null,null,null,null,null,null,null,null,null,null,null,null,null,null,null,null,null,null,null,null,null,null,null,null,null,null,null,null,"BK",null,null,"DietCP",{"$f":"IF(TotalDMFed>0,CP_Total / (TotalDMFed * 1000),0)","v":0.13965205963950292},"fraction of CP in the diet"]
[null,null,null,null,null,null,null,null,null,null,null,null,null,null,null,null,null,null,null,null,null,null,null,null,null,null,null,null,null,null,null,null,null,null,null,null,null,null,null,null,null,null,null,null,null,null,null,null,null,null,null,null,null,null,null,null,null,null,null,null,null,null,null,null,null,null,null,null,null,null,null,null,null,null,null,null,null,null,null,null,null,null,null,null,null,null,null,null,null,null,null,null,null,null,null,null,null,"BL",null,null,"CP_RDP",{"$f":"IF(CP_Total>0,(RDP_Total * 1000) / CP_Total,0)","v":0.69837261897711933},"fraction of CP which is RDP"]
[null,null,null,null,null,null,null,null,null,null,null,null,null,null,null,null,null,null,null,null,null,null,null,null,null,null,null,null,null,null,null,null,null,null,null,null,null,null,null,null,null,null,null,null,null,null,null,null,null,null,null,null,null,null,null,null,null,null,null,null,null,null,null,null,null,null,null,null,null,null,null,null,null,null,null,null,null,null,null,null,null,null,null,null,null,null,null,null,null,null,null,null,null,null,null,null,null,"BM",null,null,"CP_RUP",{"$f":"IF(CP_Total>0,(CP_Total - (RDP_Total * 1000)) / CP_Total,0)","v":0.30162738102288067},"fraction of CP which is RUP"]
[null,null,null,null,null,null,null,null,null,null,null,null,null,null,null,null,null,null,null,null,null,null,null,null,null,null,null,null,null,null,null,null,null,null,null,null,null,null,null,null,null,null,null,null,null,null,null,null,null,null,null,null,null,null,null,null,null,null,null,null,null,null,null,null,null,null,null,null,null,null,null,null,null,null,null,null,null,null,null,null,null,null,null,null,null,null,null,null,null,null,null,null,null,null,null,null,null,"BN",null,null,"DietNDF",{"$f":"IF(TotalDMFed > 0,NDF_Total / TotalDMFed,0)","v":0.42133348197502613},"fraction of NDF in animals ration"]
[null,null,null,null,null,null,null,null,null,null,null,null,null,null,null,null,null,null,null,null,null,null,null,null,null,null,null,null,null,null,null,null,null,null,null,null,null,null,null,null,null,null,null,null,null,null,null,null,null,null,null,null,null,null,null,null,null,null,null,null,null,null,null,null,null,null,null,null,null,null,null,null,null,null,null,null,null,null,null,null,null,null,null,null,null,null,null,null,null,null,null,null,null,null,null,null,null,"BO",null,null,"DietADF",{"$f":"IF(TotalDMFed > 0,ADF_Total / TotalDMFed,0)","v":0.27101129481730818},"fraction of ADF in animals ration"]
[null,null,null,null,null,null,null,null,null,null,null,null,null,null,null,null,null,null,null,null,null,null,null,null,null,null,null,null,null,null,null,null,null,null,null,null,null,null,null,null,null,null,null,null,null,null,null,null,null,null,null,null,null,null,null,null,null,null,null,null,null,null,null,null,null,null,null,null,null,null,null,null,null,null,null,null,null,null,null,null,null,null,null,null,null,null,null,null,null,null,null,null,null,null,null,null,null,"BP",null,null,"DietME",{"$f":"IF(TotalDMFed>0, MEng_Total / TotalDMFed,0)","v":2.4330303637692645},"quantity of ME in animals ration (Mcal/kg)"]
[null,null,null,null,null,null,null,null,null,null,null,null,null,null,null,null,null,null,null,null,null,null,null,null,null,null,null,null,null,null,null,null,null,null,null,null,null,null,null,null,null,null,null,null,null,null,null,null,null,null,null,null,null,null,null,null,null,null,null,null,null,null,null,null,null,null,null,null,null,null,null,null,null,null,null,null,null,null,null,null,null,null,null,null,null,null,null,null,null,null,null,null,null,null,null,null,null,"BQ",null,null,"DietNEl",{"$f":"IF(TotalDMFed>0, NEl_Total / TotalDMFed,0)","v":1.3772880273403774},"quantity of NEl in animals ration (Mcal/kg)"]
[null,null,null,null,null,null,null,null,null,null,null,null,null,null,null,null,null,null,null,null,null,null,null,null,null,null,null,null,null,null,null,null,null,null,null,null,null,null,null,null,null,null,null,null,null,null,null,null,null,null,null,null,null,null,null,null,null,null,null,null,null,null,null,null,null,null,null,null,null,null,null,null,null,null,null,null,null,null,null,null,null,null,null,null,null,null,null,null,null,null,null,null,null,null,null,null,null,"BR",null,null,"DietNEg",{"$f":"IF(TotalDMFed>0, NEg_Total / TotalDMFed,0)","v":0.93911342650708396},"quantity of NEg in animals ration (Mcal/kg)"]
[null,null,null,null,null,null,null,null,null,null,null,null,null,null,null,null,null,null,null,null,null,null,null,null,null,null,null,null,null,null,null,null,null,null,null,null,null,null,null,null,null,null,null,null,null,null,null,null,null,null,null,null,null,null,null,null,null,null,null,null,null,null,null,null,null,null,null,null,null,null,null,null,null,null,null,null,null,null,null,null,null,null,null,null,null,null,null,null,null,null,null,null,null,null,null,null,null,"BS",null,null,"EnergyAllowableMilk",{"$f":"IF(MilkProd>0,IF((NEl_Total - NEMaint - NEPreg) > 0,IF(NELact>0,MilkProd * ((NEl_Total - NEMaint - NEPreg - NEGrowth) / NELact),0),0),0)","v":26.290027999160294},"energy allowable milk production (kg/day)"]
[null,null,null,null,null,null,null,null,null,null,null,null,null,null,null,null,null,null,null,null,null,null,null,null,null,null,null,null,null,null,null,null,null,null,null,null,null,null,null,null,null,null,null,null,null,null,null,null,null,null,null,null,null,null,null,null,null,null,null,null,null,null,null,null,null,null,null,null,null,null,null,null,null,null,null,null,null,null,null,null,null,null,null,null,null,null,null,null,null,null,null,null,null,null,null,null,null,"BT",null,null,"ProteinAllowableMilk",{"$f":"IF(MilkProd>0, IF((((MPFeed * 1000) + MPBact + MPEndo) - MPMaint - MPPreg) > 0, IF(MPLact >0,MilkProd * ((((MPFeed * 1000) + MPBact + MPEndo) - MPMaint - MPPreg - MPGrowth) / MPLact),0),0),0)","v":24.552112592577597},"protein allowable milk production (kg/day)"]
[null,null,null,null,null,null,null,null,null,null,null,null,null,null,null,null,null,null,null,null,null,null,null,null,null,null,null,null,null,null,null,null,null,null,null,null,null,null,null,null,null,null,null,null,null,null,null,null,null,null,null,null,null,null,null,null,null,null,null,null,null,null,null,null,null,null,null,null,null,null,null,null,null,null,null,null,null,null,null,null,null,null,null,null,null,null,null,null,null,null,null,null,null,null,null,null,null,"BU",null,null,"DailyMilk",{"$f":"IF(AnimalType=\"Sağmal İnek\",MilkProd,0)","v":25},"milk production (kg/day)"]
[null,null,null,null,null,null,null,null,null,null,null,null,null,null,null,null,null,null,null,null,null,null,null,null,null,null,null,null,null,null,null,null,null,null,null,null,null,null,null,null,null,null,null,null,null,null,null,null,null,null,null,null,null,null,null,null,null,null,null,null,null,null,null,null,null,null,null,null,null,null,null,null,null,null,null,null,null,null,null,null,null,null,null,null,null,null,null,null,null,null,null,null,null,null,null,null,null,"BV",null,null,"NEBalance",{"$f":"IF(AnimalType <> \"Damızlık Düve\",(NEl_Total - (NEMaint + NEPreg + NELact + NEGrowth)),0)","v":0.92322573797238405},""]
[null,null,null,null,null,null,null,null,null,null,null,null,null,null,null,null,null,null,null,null,null,null,null,null,null,null,null,null,null,null,null,null,null,null,null,null,null,null,null,null,null,null,null,null,null,null,null,null,null,null,null,null,null,null,null,null,null,null,null,null,null,null,null,null,null,null,null,null,null,null,null,null,null,null,null,null,null,null,null,null,null,null,null,null,null,null,null,null,null,null,null,null,null,null,null,null,null,"BW",null,null,"MEBalance",{"$f":"IF(AnimalType <> \"Damızlık Düve\",0,MEng_Total - (MEMaint + MEPreg + MEGrowth))","v":0}]
[null,null,null,null,null,null,null,null,null,null,null,null,null,null,null,null,null,null,null,null,null,null,null,null,null,null,null,null,null,null,null,null,null,null,null,null,null,null,null,null,null,null,null,null,null,null,null,null,null,null,null,null,null,null,null,null,null,null,null,null,null,null,null,null,null,null,null,null,null,null,null,null,null,null,null,null,null,null,null,null,null,null,null,null,null,null,null,null,null,null,null,null,null,null,null,null,null,"BX",null,null,"Reserves_WG",{"$f":"IF(AnimalType=\"Damızlık Düve\",IF(NEBalance<0,NEBalance/4.92,NEBalance/5.12),IF(AnimalType=\"Kurudaki İnek\",IF(NEBalance<0,NEBalance/4.92,NEBalance/6.4),0))","v":0},"weight gain due to reserves (kg)"]
[null,null,null,null,null,null,null,null,null,null,null,null,null,null,null,null,null,null,null,null,null,null,null,null,null,null,null,null,null,null,null,null,null,null,null,null,null,null,null,null,null,null,null,null,null,null,null,null,null,null,null,null,null,null,null,null,null,null,null,null,null,null,null,null,null,null,null,null,null,null,null,null,null,null,null,null,null,null,null,null,null,null,null,null,null,null,null,null,null,null,null,null,null,null,null,null,null,"BY",null,null,"MPReqReserves",{"$f":"IF(NEBalance > 0,(Reserves_WG * ProteinInGain) / 0.492,0)","v":0},"MP required for reserves (g/day)"]
[null,null,null,null,null,null,null,null,null,null,null,null,null,null,null,null,null,null,null,null,null,null,null,null,null,null,null,null,null,null,null,null,null,null,null,null,null,null,null,null,null,null,null,null,null,null,null,null,null,null,null,null,null,null,null,null,null,null,null,null,null,null,null,null,null,null,null,null,null,null,null,null,null,null,null,null,null,null,null,null,null,null,null,null,null,null,null,null,null,null,null,null,null,null,null,null,null,"BZ",null,null,"MPProvReserves",{"$f":"IF(NEBalance > 0,0,(-1 * Reserves_WG) * ProteinInGain * 0.67)","v":0},"MP provided for reserves (g/day)"]
[null,null,null,null,null,null,null,null,null,null,null,null,null,null,null,null,null,null,null,null,null,null,null,null,null,null,null,null,null,null,null,null,null,null,null,null,null,null,null,null,null,null,null,null,null,null,null,null,null,null,null,null,null,null,null,null,null,null,null,null,null,null,null,null,null,null,null,null,null,null,null,null,null,null,null,null,null,null,null,null,null,null,null,null,null,null,null,null,null,null,null,null,null,null,null,null,null,"CA",null,null,"RUPReqReserves",{"$f":"IF(NEBalance > 0,IF(DietRUPDigest>0,MPReqReserves / DietRUPDigest,0),0)","v":0},"RUP required for reserves (g/day)"]
[null,null,null,null,null,null,null,null,null,null,null,null,null,null,null,null,null,null,null,null,null,null,null,null,null,null,null,null,null,null,null,null,null,null,null,null,null,null,null,null,null,null,null,null,null,null,null,null,null,null,null,null,null,null,null,null,null,null,null,null,null,null,null,null,null,null,null,null,null,null,null,null,null,null,null,null,null,null,null,null,null,null,null,null,null,null,null,null,null,null,null,null,null,null,null,null,null,"CB",null,null,"RUPProvReserves",{"$f":"IF(NEBalance > 0,0,IF(DietRUPDigest>0,MPProvReserves / DietRUPDigest,0))","v":0},"RUP provided for reserves (g/day)"]
[null,null,null,null,null,null,null,null,null,null,null,null,null,null,null,null,null,null,null,null,null,null,null,null,null,null,null,null,null,null,null,null,null,null,null,null,null,null,null,null,null,null,null,null,null,null,null,null,null,null,null,null,null,null,null,null,null,null,null,null,null,null,null,null,null,null,null,null,null,null,null,null,null,null,null,null,null,null,null,null,null,null,null,null,null,null,null,null,null,null,null,null,null,null,null,null,null,"CC",null,null,"TargetADGwoPreg",{"$f":"ADG","v":0}]
[null,null,null,null,null,null,null,null,null,null,null,null,null,null,null,null,null,null,null,null,null,null,null,null,null,null,null,null,null,null,null,null,null,null,null,null,null,null,null,null,null,null,null,null,null,null,null,null,null,null,null,null,null,null,null,null,null,null,null,null,null,null,null,null,null,null,null,null,null,null,null,null,null,null,null,null,null,null,null,null,null,null,null,null,null,null,null,null,null,null,null,null,null,null,null,null,null,"CD",null,null,"TargetADGPreg",{"$f":"ADG+(ADGPreg/1000)","v":0}]
[null,null,null,null,null,null,null,null,null,null,null,null,null,null,null,"Kuru Kaba Yemler",null,null,null,null,null,null,null,null,null,null,null,null,null,null,null,null,null,null,null,null,null,null,null,null,null,null,null,null,null,null,null,null,null,null,null,null,null,null,null,null,null,null,null,null,null,null,null,null,null,null,null,null,null,null,null,null,null,null,null,null,null,null,null,null,null,null,null,null,null,null,null,null,null,null,null,null,null,null,null,null,null,"CE",null,null,"Energy_TargetDietConc",{"$f":"IF(DryMatterIntake > 0,IF(OR(AnimalType <> \"Damızlık Düve\",DaysPreg > 259)=TRUE,(NEMaint + NEPreg + NELact + NEGrowth) / DryMatterIntake, (MEMaint + MEPreg + MEGrowth) / DryMatterIntake),0)","v":1.3321858396062372}]
[null,null,null,null,null,null,null,null,null,null,null,null,null,null,null,"Baklagil Kuru Otu","1-20-648",58.9,"Forage",1,2.73,2.08,1.27,1.19,1.37,0.79,87.8,20.2,1,2.4,1.6,2.1,1,39.6,0.42,31.2,7,10,"Dry","Grass/Legume Forage",1,5,41.9,49.2,8.9,16.600000000000001,18.8,20.2,70,5.14,1.95,4.22,7.35,5.08,1.56,1.42,4.78,4.37,1.5,5.23,41.18,12.34,3.79,6,1.52,0.3,0.26,0.64,0.3,0.16,2.5299999999999998,0.9,0.01,0.9,0.74,0.9,0.25,1,0.65,1,9,0.04,0,0.85,286,0.1,35,0.01,0.2,1,24,0.15,2.9,{"$f":"CP174","v":0},0,0,0,"CF",null,null,"MP_TargetDietConc",{"$f":"IF(DryMatterIntake > 0,(MPMaint + MPPreg + MPLact + MPGrowth) / DryMatterIntake,0)","v":90.674021528534723}]
[null,null,null,null,null,null,null,null,null,null,null,null,null,null,null,"Baklagil Kuru Otu, Körpe <%40 NDF","1-07-792",62.1,"Forage",1,2.89,2.23,1.38,1.3,1.49,0.9,84.2,22.8,1,2.7,1.6,2.1,1,36.299999999999997,0.39,28.6,5.9,9.5,"Dry","Grass/Legume Forage",0,0,42.5,51,6.5,17.8,16.3,17.7,75,5.16,1.95,4.26,7.39,5.13,1.56,1.42,4.76,4.3899999999999997,1.52,5.26,41.38,12.4,3.77,6,1.56,0.3,0.31,0.64,0.33,0.16,2.56,0.9,0.03,0.9,0.55000000000000004,0.9,0.33,1,0.65,1,10,0.04,0,0.85,213,0.1,49,0.01,0.2,1,26,0.15,0,{"$f":"CP175","v":0},0,0,0,"CG",null,null,"Ca_TargetDietConc",{"$f":"IF(DryMatterIntake > 0,Ca Total / DryMatterIntake,0)","v":2.4181514285939687}]
[null,null,null,null,null,null,null,null,null,null,null,null,null,null,null,"Baklagil Kuru Otu, Olgun >%46 NDF","1-07-789",54.7,"Forage",1,2.5099999999999998,1.88,1.1299999999999999,1.06,1.21,0.65,83.8,17.8,1,2.1,1.7,1.6,1,50.9,0.44,39.5,7.3,9.1999999999999993,"Dry","Grass/Legume Forage",0,0,38.9,49.6,11.5,14,22.5,24.1,65,5.1100000000000003,1.95,4.18,7.3,5.01,1.55,1.43,4.76,4.3499999999999996,1.47,5.2,40.880000000000003,12.26,3.79,6,1.22,0.3,0.28000000000000003,0.64,0.27,0.16,2.38,0.9,0.02,0.9,0.48,0.9,0.23,1,0.65,1,9,0.04,0,0.85,250,0.1,44,0.01,0.2,1,24,0.15,0,{"$f":"CP176","v":0},0,0,0,"CH",null,null,"P_TargetDietConc",{"$f":"IF(DryMatterIntake > 0,P Total / DryMatterIntake,0)","v":2.1236520179205556},""]
[null,null,null,null,null,null,null,null,null,null,null,null,null,null,null,"Baklagil Kuru Otu, Orta Olgun, %40-46 NDF","1-07-788",59.1,"Forage",1,2.74,2.09,1.28,1.2,1.38,0.8,83.9,20.8,1,2.5,1.6,2,1,42.9,0.42,33.4,6.4,9.4,"Dry","Grass/Legume Forage",0,0,44.3,46.9,8.8000000000000007,17.899999999999999,17.600000000000001,18.899999999999999,70,5.14,1.95,4.2300000000000004,7.36,5.09,1.56,1.42,4.76,4.38,1.5,5.24,41.21,12.35,3.79,6,1.37,0.3,0.3,0.64,0.3,0.16,2.4500000000000002,0.9,0.02,0.9,0.61,0.9,0.31,1,0.65,1,9,0.04,0,0.85,207,0.1,46,0.01,0.2,1,24,0.15,0,{"$f":"CP177","v":0},0,0,0,"CI",null,null,"DCAD",{"$f":"(((Na RD * 100) * 435) + ((K RD * 100) * 256))- (((Cl RD * 100) * 282) + ((S RD * 100) * 624))","v":160726.18669585581},""]
[null,null,null,null,null,null,null,null,null,null,null,null,null,null,null,"Buğday Kuru Otu, Başaklı","1-05-170",52.7,"Forage",1,2.33,1.71,1.01,0.94,1.06,0.51,86.8,9.4,1,1.1000000000000001,0.8,1.7,1,61.1,0.46,38.1,8.6999999999999993,6.7,"Dry","Grain Crop Forage",0,0,35,53.1,11.9,4.3,36.9,39.4,70,2.02,3.6,4.01,6.64,4.21,1.77,0.61,4.24,4.21,1.03,5.8,37.51,11.22,4.72,6,0.31,0.3,0.2,0.64,0.13,0.16,1.71,0.9,0.06,0.9,0.38,0.9,0.13,1,0,1,8,0.04,0,0.85,319,0.1,62,0.01,0,1,25,0.15,1.4,0,0,0,0,"CJ",null,null,"Genç dana hesaplama değişkenleri"]
[null,null,null,null,null,null,null,null,null,null,null,null,null,null,null,"Buğday Samanı","1-05-175",47.5,"Forage",1,2.04,1.44,0.82,0.76,0.83,0.28999999999999998,92.7,4.8,1,2.1,1.4,1.6,1,73,0.48,49.4,8.8000000000000007,7.6,"Dry","Grain Crop Forage",0,7,9.3000000000000007,51.4,39.299999999999997,1.4,76.400000000000006,78.3,65,1.08,1.64,1.78,3.25,3.25,1.19,1.07,2.08,3.25,1.42,2.67,21.61,15.04,5.51,1.5,0.31,0.3,0.1,0.64,0.14000000000000001,0.16,1.55,0.9,0.12,0.9,0.6,0.9,0.11,1,0,1,6,0.04,0,0.85,172,0.1,67,0.01,0,1,16,0.15,1.3,0,0,0,0,"CK",null,null,"CalfKm",{"$f":"IF(NonMineralFeeds > 0,BR63/NonMineralFeeds,0)","v":4.4363204928945708},"Efficiency of use of ME for NEm"]
[null,null,null,null,null,null,null,null,null,null,null,null,null,null,null,"Çayır Kuru Otu, Soğuk Mevsim","1-02-250",56.3,"Forage",1,2.4900000000000002,1.86,1.1200000000000001,1.05,1.19,0.63,88.1,10.6,1,3.8,1.1000000000000001,2.6,1,64.400000000000006,0,39.5,6.4,7,"Dry","Grass/Legume Forage",0,0,36.700000000000003,50.4,12.9,8.5,28.4,30.5,65,3.83,1.63,3.32,6.22,3.48,1.3,1.17,3.92,3.6,1.24,4.51,33.049999999999997,10.53,3.93,6,0.57999999999999996,0.3,0.23,0.64,0.2,0.16,2.0099999999999998,0.9,0.04,0.9,0.5,0.9,0.21,1,0,1,9,0.04,0,0.85,156,0.1,72,0.01,0.06,1,31,0.15,1.5,0,0,0,0,"CL",null,null,"CalfKg",{"$f":"IF(NonMineralFeeds > 0,BS63/NonMineralFeeds,0)","v":3.3716035745998743},"Efficiency of use of ME for NEg"]
[null,null,null,null,null,null,null,null,null,null,null,null,null,null,null,"Çayır Kuru Otu, Soğuk Mevsim, Körpe <%55 NDF","1-02-212",63.1,"Forage",1,2.88,2.2200000000000002,1.37,1.29,1.48,0.89,84,18,1,3.4,1.3,3.3,1,49.6,0.52,31.4,3.9,9.1999999999999993,"Dry","Grass/Legume Forage",0,0,45,46.7,8.3000000000000007,12.4,19.7,21.3,70,3.83,1.63,3.32,6.22,3.48,1.3,1.17,3.92,3.6,1.24,4.51,33.049999999999997,10.53,3.93,6,0.72,0.3,0.34,0.64,0.23,0.16,2.57,0.9,0.03,0.9,0.42,0.9,0.24,1,0,1,9,0.04,0,0.85,199,0.1,84,0.01,0.06,1,27,0.15,0,0,0,0,0,"CM",null,null,"MilkDMI",{"$f":"MilkDMI","v":0},"Milk Dry Matter Intake (kg/day)"]
[null,null,null,null,null,null,null,null,null,null,null,null,null,null,null,"Çayır Kuru Otu, Soğuk Mevsim, Olgun >%60 NDF","1-02-244",56,"Forage",1,2.48,1.85,1.1100000000000001,1.04,1.18,0.62,84.4,10.8,1,7.4,1.1000000000000001,2,1,69.099999999999994,0.48,41.6,5.9,7,"Dry","Grass/Legume Forage",0,0,28.4,52.9,18.7,5,41.2,43.7,60,3.83,1.63,3.32,6.22,3.48,1.3,1.17,3.92,3.6,1.24,4.51,33.049999999999997,10.53,3.93,6,0.47,0.3,0.26,0.64,0.18,0.16,1.97,0.9,0.02,0.9,0.66,0.9,0.17,1,0,1,8,0.04,0,0.85,180,0.1,90,0.01,0.06,1,25,0.15,0,0,0,0,0,"CN",null,null,"StarterDMI",{"$f":"StarterDMI","v":21.138159154151602},"Starter Dry Matter Intake (kg/day)"]
[null,null,null,null,null,null,null,null,null,null,null,null,null,null,null,"Çayır Kuru Otu, Soğuk Mevsim, Orta Olgun., %55-60 NDF","1-02-243",59.7,"Forage",1,2.67,2.02,1.23,1.1599999999999999,1.33,0.75,83.8,13.3,1,3.9,1.2,2.5,1,57.7,0.52,36.9,4.3,8.8000000000000007,"Dry","Grass/Legume Forage",0,0,36.700000000000003,51.7,11.6,8.1,28.4,30.5,65,3.88,1.63,3.32,6.22,3.49,1.3,1.1599999999999999,3.92,3.6,1.24,4.51,33.049999999999997,10.53,3.93,5,0.66,0.3,0.28999999999999998,0.64,0.23,0.16,2.13,0.9,0.08,0.9,0.92,0.9,0.24,1,0,1,9,0.04,0,0.85,194,0.1,72,0.01,0.06,1,25,0.15,0,0,0,0,0,"CO",null,null,"NEmCalf",{"$f":"IF(HeatStress=\"Yok\",0.086 * (CalfBW ^ 0.75),(0.086 * (CalfBW ^ 0.75) * (1 + TempFactor)))","v":0},"Net Energy required for maintenance (Mcal/day)"]
[null,null,null,null,null,null,null,null,null,null,null,null,null,null,null,"Çayır-Baklagil Kuru Otu(Baklagil Yoğun), Körpe <%44 NDF","1-02-275",60.7,"Forage",1,2.81,2.15,1.32,1.24,1.43,0.85,83.8,20.5,1,2.9,1.5,2,1,41.7,0.43,30.5,5.8,9.1999999999999993,"Dry","Grass/Legume Forage",0,0,43.1,49.9,7,16.5,17,18.5,75,4.83,1.87,4.03,7.1,4.72,1.5,1.36,4.55,4.1900000000000004,1.45,5.07,39.31,12.01,3.82,5,1.3,0.3,0.3,0.64,0.3,0.16,2.41,0.9,0.03,0.9,0.6,0.9,0.2,1,0,1,10,0.04,0,0.85,167,0.1,58,0.01,0.15,1,24,0.15,0,{"$f":"CP184","v":0},0,0,0,"CP",null,null,"TempFactor",{"$f":"IF(Age>2,IF(CalfTemp>5,0,VLOOKUP(CalfTemp,CT3:CV53,2,FALSE)),IF(CalfTemp>15,0,VLOOKUP(CalfTemp,CT3:CV53,3,FALSE)))","v":0.13500000000000001},""]
[null,null,null,null,null,null,null,null,null,null,null,null,null,null,null,"Çayır-Baklagil Kuru Otu(Çayır Otu Yoğun), Körpe <%51 NDF","1-02-275",62.1,"Forage",1,2.84,2.1800000000000002,1.34,1.26,1.45,0.87,84.3,18.399999999999999,1,4.2,3.1,2.4,1,49.6,0.5,31.5,4,9.1999999999999993,"Dry","Grass/Legume Forage",0,0,44.4,47.7,7.9,13.8,18.7,20.3,70,4.16,1.71,3.56,6.51,3.89,1.37,1.23,4.13,3.8,1.31,4.7,35.14,11.07,3.9,5,1.01,0.3,0.31,0.64,0.26,0.16,2.83,0.9,0.03,0.9,0.74,0.9,0.28000000000000003,1,0,1,9,0.04,0,0.85,117,0.1,53,0.01,0.09,1,25,0.15,0,0,0,0,0,"CQ",null,null,"CalfFat",{"$f":" Fat + ((Fat_Total / 100) * TotalRegDMFed)","v":0.12001603056912775},"Dietary Fat (kg/day)"]
[null,null,null,null,null,null,null,null,null,null,null,null,null,null,null,"Çayır-Baklagil Kuru Otu, Olgun >%50 NDF","1-02-280",53.9,"Forage",1,2.4700000000000002,1.84,1.1000000000000001,1.03,1.18,0.61,84.3,17.2,1,3.6,1.7,1.7,1,53.6,0.41,41.5,8.1,8.6999999999999993,"Dry","Grass/Legume Forage",0,0,36.299999999999997,50.4,13.3,11.8,26,27.8,65,4.79,1.87,3.97,7.03,4.63,1.49,1.37,4.55,4.16,1.41,5.03,38.93,11.89,3.83,5,1.0900000000000001,0.3,0.28000000000000003,0.64,0.25,0.16,2.5299999999999998,0.9,0.01,0.9,0.21,0.9,0.26,1,0,1,8,0.04,0,0.85,141,0.1,43,0.01,0.15,1,24,0.15,0,0,0,0,0,"CR",null,null,"DietFatCalf",{"$f":"IF(TotalDMFed > 0,CalfFat / TotalDMFed,0)","v":5.6776954745161061E-3},"Dietary Fat (%)"]
[null,null,null,null,null,null,null,null,null,null,null,null,null,null,null,"Çayır-Baklagil Kuru Otu, Olgun >%53 NDF","1-02-280",54.1,"Forage",1,2.4900000000000002,1.86,1.1200000000000001,1.05,1.19,0.63,89.7,18.2,1,4.4000000000000004,1.7,2,1,56,0.44,40.1,7,9.9,"Dry","Grass/Legume Forage",0,0,33.6,51.3,15.1,9.5,30.1,32,65,4.47,1.79,3.75,6.76,4.25,1.43,1.3,4.34,3.98,1.36,4.8600000000000003,36.99,11.49,3.87,5,0.97,0.3,0.37,0.64,0.26,0.16,2.2400000000000002,0.9,0.01,0.9,0.93,0.9,0.28000000000000003,1,0,1,9,0.04,0,0.85,403,0.1,75,0.01,0.12,1,27,0.15,0,0,0,0,0,"CS",null,null,"DietNEmCalf",{"$f":"IF(TotalDMFed>0,TotalNEm/TotalDMFed,0)","v":1.5343083578713737},"Dietary NEm (Mcal/kg)"]
[null,null,null,null,null,null,null,null,null,null,null,null,null,null,null,"Çayır-Baklagil Kuru Otu, Olgun, >%57 NDF","1-02-280",57,"Forage",1,2.5499999999999998,1.92,1.1599999999999999,1.0900000000000001,1.24,0.67,84.7,13.3,1,4.4000000000000004,1.3,2.2999999999999998,1,62.5,0.5,42.1,5.5,7.9,"Dry","Grass/Legume Forage",0,0,31,52.1,16.899999999999999,7.25,34.799999999999997,37.1,60,4.1500000000000004,1.71,3.54,6.49,3.86,1.36,1.24,4.13,3.79,1.3,4.68,35.01,11.03,3.88,5,0.73,0.3,0.27,0.64,0.21,0.16,2.09,0.9,0.1,0.9,0.71,0.9,0.28999999999999998,1,0,1,8,0.04,0,0.85,124,0.1,74,0.01,0.09,1,24,0.15,0,0,0,0,0,"P",null,null,"DietMECalf",{"$f":"IF(TotalDMFed>0,TotalME/TotalDMFed,0)","v":2.4330303637692645},"Dietary ME (Mcal/kg)"]
[null,null,null,null,null,null,null,null,null,null,null,null,null,null,null,"Çayır-Baklagil Kuru Otu, Orta Olgun., %44-50 NDF","1-02-277",57.8,"Forage",1,2.66,2.02,1.23,1.1499999999999999,1.32,0.75,84.2,19.100000000000001,1,3.1,1.6,2,1,47.2,0.43,35.4,6.7,9.1,"Dry","Grass/Legume Forage",0,0,42.4,48.1,9.5,15.5,19.5,21,70,4.83,1.87,4,7.08,4.6900000000000004,1.5,1.36,4.55,4.1900000000000004,1.44,5.0599999999999996,39.21,11.96,3.83,5,1.17,0.3,0.3,0.64,0.27,0.16,2.34,0.9,0.08,0.9,0.43,0.9,0.26,1," ",1,9,0.04,0,0.85,141,0.1,49,0.01,0.15,1,24,0.15,0,0,0,0,0,null,null,null,"DietNEgCalf",{"$f":"IF(TotalDMFed>0,TotalNEg/TotalDMFed,0)","v":0.93911342650708396},"Dietary NEg (Mcal/kg)"]
[null,null,null,null,null,null,null,null,null,null,null,null,null,null,null,"Çayır-Baklagil Kuru Otu, Orta Olgun, %47-53 NDF","1-02-277",58.8,"Forage",1,2.7,2.0499999999999998,1.25,1.17,1.35,0.77,85.3,18.399999999999999,1,4.5999999999999996,1.5,2.2999999999999998,1,50.8,0.45,35.799999999999997,5.7,9.4,"Dry","Grass/Legume Forage",0,0,40.5,49.3,10.199999999999999,13,21.8,23.5,70,4.51,1.79,3.78,6.79,4.29,1.43,1.29,4.34,3.99,1.37,4.88,37.17,11.54,3.85,5,1.04,0.3,0.32,0.64,0.25,0.16,2.59,0.9,0.03,0.9,0.8,0.9,0.24,1,0,1,9,0.04,0,0.85,197,0.1,59,0.01,0.12,1,25,0.15,0,0,0,0,0,null,null,null,"DietCPCalf",{"$f":"IF(TotalDMFed > 0,(TotalCP / TotalDMFed) * 100,0)","v":13.965205963950291},"Dietary CP (%)"]
[null,null,null,null,null,null,null,null,null,null,null,null,null,null,null,"Çayır-Baklagil Kuru Otu, Orta Olgun, %51-57 NDF","1-02-277",59.5,"Forage",1,2.71,2.0699999999999998,1.26,1.19,1.36,0.78,87.3,17.399999999999999,1,4.2,1.4,2.6,1,55.1,0.51,36.4,4.5,9.5,"Dry","Grass/Legume Forage",0,0,38.6,50.5,10.9,10.6,24.6,26.5,65,4.2,1.71,3.55,6.51,3.89,1.37,1.23,4.13,3.8,1.31,4.6900000000000004,35.159999999999997,11.06,3.9,8,0.88,0.3,0.36,0.64,0.25,0.16,2.4500000000000002,0.9,0.01,0.9,0.77,0.9,0.27,1,0,1,9,0.04,0,0.85,358,0.1,75,0.01,0.09,1,26,0.15,0,0,0,0,0,null,null,null,"DietDCPCalf",{"$f":"IF(TotalDMFed > 0,(TotalDCP / TotalDMFed) * 100,0)","v":10.473904472962722},"Dietary DCP (%)"]
[null,null,null,null,null,null,null,null,null,null,null,null,null,null,null,"Fiğ Kuru Otu",0,61.5,"Forage",1,2.8,2.15,1.35,1.5,1.45,0.84,91,17.5,1,2.5,1.6,2,1,42.9,0.5,31.4,5.4,10.4,"Dry","Grass/Legume Forage",0,10,44.3,46.9,8.8000000000000007,17.899999999999999,17.600000000000001,18.899999999999999,75,5.14,1.95,4.2300000000000004,7.36,5.09,1.56,1.42,4.76,4.38,1.5,5.24,41.21,12.35,3.79,6,1.37,0.3,0.3,0.64,0.3,0.16,2.4500000000000002,0.9,0.02,0.9,0.61,0.9,0.31,1,0.65,1,9,0.04,0,0.85,207,0.1,46,0.01,0.2,1,24,0.15,0,0,0,0,0,null,null,null,"DMIForNEmCalf",{"$f":"IF(DietNEmCalf <> 0,NEmCalf / DietNEmCalf,0)","v":0},"Dry Matter Intake required to meet NEm requirement (kg/day)"]
[null,null,null,null,null,null,null,null,null,null,null,null,null,null,null,"Fiğ Kuru Otu,Erken Biçim",0,62,"Forage",1,2.83,2.3199999999999998,1.38,1.52,1.45,0.88,91,20.3,1,2.5,1.6,2,1,42.9,0.5,31.4,5.4,10.199999999999999,"Dry","Grass/Legume Forage",0,10,47.3,43.9,8.8000000000000007,17.899999999999999,17.600000000000001,18.899999999999999,78,5.14,1.95,4.2300000000000004,7.36,5.09,1.56,1.42,4.76,4.38,1.5,5.24,41.21,12.35,3.79,6,1.37,0.3,0.3,0.64,0.3,0.16,2.4500000000000002,0.9,0.02,0.9,0.61,0.9,0.31,1,0.65,1,9,0.04,0,0.85,207,0.1,46,0.01,0.2,1,24,0.15,0,0,0,0,0,null,null,null,"DMIForMECalf",null,"Dry Matter Intake required to meet ME requirement (kg/day)"]
[null,null,null,null,null,null,null,null,null,null,null,null,null,null,null,"Fiğ Kuru Otu,Geç Biçim",0,58,"Forage",1,2.5,1.98,1.3,1.4,1.38,0.83,91,16.100000000000001,1,2.5,1.6,1.6,1,42.9,0.5,31.4,5.4,10.199999999999999,"Dry","Grass/Legume Forage",0,10,47.3,43.9,8.8000000000000007,17.899999999999999,15.6,16.899999999999999,72,5.14,1.95,4.2300000000000004,7.36,5.09,1.56,1.42,4.76,4.38,1.5,5.24,41.21,12.35,3.79,6,1.37,0.3,0.3,0.64,0.3,0.16,2.4500000000000002,0.9,0.02,0.9,0.61,0.9,0.31,1,0.65,1,9,0.04,0,0.85,207,0.1,46,0.01,0.2,1,24,0.15,0,0,0,0,0,null,null,null,"DMIForGrowth",{"$f":"(TotalDMFed - DMIForNEmCalf)","v":21.138159154151602},"Total dry matter intake used for growth (kg/day)"]
[null,null,null,null,null,null,null,null,null,null,null,null,null,null,null,"Karışık Çayır-Baklagil Kuru Otu, Körpe <%47 NDF","1-02-275",62.1,"Forage",1,2.86,2.2000000000000002,1.35,1.27,1.47,0.88,83.1,19.7,1,3.9,1.3,2.5,1,45.4,0.45,30.8,5.0999999999999996,8.8000000000000007,"Dry","Grass/Legume Forage",0,10,43.8,48.8,7.4,15.1,17.899999999999999,19.399999999999999,75,4.5,1.79,3.79,6.81,4.3099999999999996,1.43,1.3,4.34,4,1.38,4.8899999999999997,37.24,11.57,3.84,7,1.2,0.3,0.31,0.64,0.28999999999999998,0.16,3.06,0.9,7.0000000000000007E-2,0.9,0.5,0.9,0.27,1,0,1,10,0.04,0,0.85,160,{"$f":"CH192","v":0.1},59,0.01,0.12,{"$f":"CL192","v":1},24,0.15,0,{"$f":"CP192","v":0},0,0,0,null,null,null,"MEFGCalf",{"$f":"IF(CalfKg <> 0,NEFGCalf / CalfKg,0)","v":5.8877411398115598},"Metabolizable energy available for growth (Mcal/day)"]
[null,null,null,null,null,null,null,null,null,null,null,null,null,null,null,"Köpekdişi (Bermudagrass) Kuru Otu, Başak. Başı","1-20-900",52.9,"Forage",1,2.35,1.73,1.02,0.96,1.08,0.52,87.1,10.4,1,4,0.9,2.7,1,73.3,0.54,36.799999999999997,6.5,8.1,"Dry","Grass/Legume Forage",0,10,36.700000000000003,51.7,11.6,8.1,27.6,29.8,65,3.88,1.63,3.32,6.22,3.49,1.3,1.1599999999999999,3.92,3.6,1.24,4.51,33.049999999999997,10.53,3.93,7,0.49,0.3,0.27,0.64,0.19,0.16,1.8,0.9,0.17,0.9,0.67,0.9,0.48,1,0,1,8,0.04,0,0.85,224,0.1,62,0.01,0,1,32,0.15,0,0,0,0,0,null,null,null,"NEFGCalf",{"$f":" DMIForGrowth * DietNEgCalf","v":19.851129073307394},"Net Energy available for growth (Mcal/day)"]
[null,null,null,null,null,null,null,null,null,null,null,null,null,null,null,"Köpekdişi (Bermudagrass, Tifton-85) Kuru Otu, 3-4 Haftalık",0,55.3,"Forage",1,2.4900000000000002,1.86,1.1200000000000001,1.05,1.19,0.63,87.3,13.7,1,5.3,1.2,2.7,1,76.900000000000006,0.53,36.200000000000003,5.4,6.5,"Dry","Grass/Legume Forage",0,10,36.700000000000003,51.7,11.6,8.1,27.4,29.6,65,3.88,1.63,3.32,6.22,3.49,1.3,1.1599999999999999,3.92,3.6,1.24,4.51,33.049999999999997,10.53,3.93,7,0.39,0.3,0.22,0.64,0.15,0.16,1.4,0.9,0.14000000000000001,0.9,0.54,0.9,0.38,1,0,1,8,0.04,0,0.85,224,0.1,62,0.01,0,1,32,0.15,0,0,0,0,0,null,null,null,"EnergyADGCalf",{"$f":"IF(NEFGCalf > 0,EXP((0.8333 * (LOG((1.19 * NEFGCalf) / (0.69 * (CalfBW ^ 0.355)))))),-9999)","v":{"$error":"#DIV/0!"}},"Energy allowable Average Daily Gain (kg/day)"]
[null,null,null,null,null,null,null,null,null,null,null,null,null,null,null,"Mercimek Samanı","",52,"Forage",1,2.2000000000000002,1.79,0.9,0.8,0.75,0.15,92.9,7,1,2.1,1.4,1.5,1,60.6,0.48,39.799999999999997,9.6999999999999993,8.9,"Dry","Grain Crop Forage",0,7,9.3000000000000007,51.4,39.299999999999997,1.4,50,54,65,1.08,1.64,1.78,3.25,3.25,1.19,1.07,2.08,3.25,1.42,3.25,21.61,15.04,5.51,11,2.31,0.3,0.14000000000000001,0.64,0.26,0.16,1.1499999999999999,0.9,0.12,0.9,0.6,0.9,0.11,1,0,1,6,0.04,0,0.85,1500,0.1,18,0.01,0,1,16,0.15,1.3,0,0,0,0,null,null,null,"ProteinReqCalf",{"$f":" CalfADG * 0.188","v":{"$error":"#DIV/0!"}},"Protein allowable Average Daily Gain (kg/day)"]
[null,null,null,null,null,null,null,null,null,null,null,null,null,null,null,"Nohut Samanı","",50,"Forage",1,2.04,1.46,0.82,0.76,0.83,0.28999999999999998,90.4,5.4,1,2.1,1.4,1,1,65.599999999999994,0.48,46.9,11.9,7.4,"Dry","Grain Crop Forage",0,7,9.3000000000000007,51.4,39.299999999999997,1.4,50,54,65,1.08,1.64,1.78,3.25,3.25,1.19,1.07,2.08,3.25,1.42,3.25,21.61,15.04,5.51,5,0.94,0.3,0.16,0.64,0.28999999999999998,0.16,1.55,0.9,0.12,0.9,0.6,0.9,0.11,1,0,1,6,0.04,0,0.85,1500,0.1,10,0.01,0,1,37,0.15,1.3,0,0,0,0,null,null,null,"BV",{"$f":"IF(IF(TotalCP > 0,(0.8 * (TotalMilkCP / TotalCP))+ (0.7 * (TotalStarterCP / TotalCP)),1)<=0,1,IF(TotalCP > 0,(0.8 * (TotalMilkCP / TotalCP))+ (0.7 * (TotalStarterCP / TotalCP)),1))","v":700},"Biological value used in ADP calculation"]
[null,null,null,null,null,null,null,null,null,null,null,null,null,null,null,"Sorgum, Sudan Kuru Otu","1-04-480",54.4,"Forage",1,2.39,1.77,1.05,0.98,1.1100000000000001,0.56000000000000005,86.5,9.4,1,2.8,1.2,2.2999999999999998,1,64.8,0.51,40,6,8.6999999999999993,"Dry","Grass/Legume Forage",0,0,28.4,52.9,18.7,5,41.4,43.9,60,3.83,1.63,3.32,6.22,3.48,1.3,1.17,3.92,3.6,1.24,4.51,33.049999999999997,10.53,3.93,8,0.54,0.3,0.2,0.64,0.32,0.16,2.36,0.9,0.03,0.9,1.1599999999999999,0.9,0.13,1,0,1,10,0.04,0,0.85,284,{"$f":"CH198","v":0.1},44,0.01,0,1,34,0.15,2.2999999999999998,{"$f":"CP198","v":0},0,0,0,null,null,null,"EUN",{"$f":" 0.2 * (CalfBW ^ 0.75)","v":0},"endogenous urinary nitrogen losses (g/day) used in ADP calculation"]
[null,null,null,null,null,null,null,null,null,null,null,null,null,null,null,"Yerfıstığı sapı","",55,"Forage",1,2.67,2.02,1.25,1.1599999999999999,1.33,0.75,89,11,1,3.9,1.2,2.5,1,60,0.52,35,4.3,8.8000000000000007,"Dry","Grass/Legume Forage",0,0,36.700000000000003,51.7,11.6,8.1,28.4,30.5,65,3.88,1.63,3.32,6.22,3.49,1.3,1.1599999999999999,3.92,3.6,1.24,6.22,33.049999999999997,10.53,3.93,8,1.23,0.3,0.17,0.64,0.23,0.16,2.13,0.9,0.08,0.9,0.92,0.9,0.24,1,0,1,9,0.04,0,0.85,194,0.1,72,0.01,0.06,1,25,0.15,0,0,0,0,0,null,null,null,"MFN",{"$f":" (MilkDMI * 1.9) + (StarterDMI * 3.3)","v":69.755925208700276},"metabolic fecal nitrogen (g/day), used in ADP calculation"]
[null,null,null,null,null,null,null,null,null,null,null,null,null,null,null,"Yonca Kuru Otu, Erken Vejetatif",0,71,"Forage",1,3.41,2.71,1.72,1.63,1.84,1.19,93.81,30.02,1,2.2000000000000002,1.1000000000000001,5.3,1,27,0.39,20.3,3.8,10.199999999999999,"Dry","Grass/Legume Forage",0,10,47.3,43.9,8.8000000000000007,17.899999999999999,17.600000000000001,18.899999999999999,64.400000000000006,5.16,1.95,4.26,7.39,5.13,1.56,1.42,4.76,4.3899999999999997,1.52,5.26,41.38,12.4,3.77,8.5,1.5,0.3,0.33,0.64,0.21,0.16,2.5099999999999998,0.9,0.12,0.9,0.34,0.9,0.54,1,0.28000000000000003,1,11.4,0.04,0,0.85,240,0.1,47.1,0.01,0.55000000000000004,1,37.4,0.15,0,0,80,0,0,null,null,null,"ADPmaint",{"$f":" 6.25 * (((1 / BV) * (EUN + MFN)) - MFN)","v":-435.3517117935848},"apparently digested crude protein for maintenance (g/day)"]
[null,null,null,null,null,null,null,null,null,null,null,null,null,null,null,"Yonca Kuru Otu, Geç Vejetatif",0,61,"Forage",1,2.88,2.23,1.38,1.3,1.4,0.81,93.73,23.29,1,2,1.3,3.5,1,37.299999999999997,0.42,28.6,8.3000000000000007,8.9,"Dry","Grass/Legume Forage",0,10,43.8,48.8,7.4,15.1,17.899999999999999,19.399999999999999,65.3,5.16,1.95,4.26,7.39,5.13,1.56,1.42,4.76,4.3899999999999997,1.52,5.26,41.38,12.4,3.77,8.5,1.5,0.3,0.33,0.64,0.21,0.16,2.5099999999999998,0.9,0.12,0.9,0.34,0.9,0.54,1,0.28000000000000003,1,11.4,0.04,0,0.85,240,0.1,47.1,0.01,0.55000000000000004,1,37.4,0.15,0,0,81,0,0,null,null,null,"ADPgrowth",{"$f":"(ProteinReqCalf * 1000) / BV","v":{"$error":"#DIV/0!"}},"apparently digested crude protein for gain (g/day)"]
[null,null,null,null,null,null,null,null,null,null,null,null,null,null,null,"Yonca Kuru Otu, 1.kalite, >%21 HP, <%37 NDF",null,56.5,"Forage",1,2.69,2.06,1.26,1.19,1.24,0.66,84.6,22.79,1,2,1.3,3.1,1,36.799999999999997,0.48,27.2,5.9,10,"Dry","Grass/Legume Forage",0,7,37.6,54.2,8.1,17.8,19.600000000000001,21.1,65.8,5.16,1.95,4.26,7.39,5.13,1.56,1.42,4.76,4.3899999999999997,1.52,5.26,41.38,12.4,3.77,8.5,1.41,0.3,0.22,0.64,0.34,0.16,2.5099999999999998,0.9,0.12,0.9,0.34,0.9,0.3,1,0.28000000000000003,1,12.7,0.04,0.17,0.85,240,0.1,36,0.01,0.55000000000000004,1,30,0.15,0,0,56,2,26,null,null,null,"CPmCalf",{"$f":"IF(ADP_to_CP > 0,ADPmaint / ADP_to_CP,0)","v":-580.46894905811303},"calf maintenance crude protein requirement (g/day)"]
[null,null,null,null,null,null,null,null,null,null,null,null,null,null,null,"Yonca Kuru Otu, 2.kalite, %19-21 HP, %37-40 NDF",null,55,"Forage",1,2.57,1.98,1.2,1.1499999999999999,1.1599999999999999,0.59,87.97,20.2,1,3.4,1.3,3,1,39.6,0.48,29.4,8.4,9.6999999999999993,"Dry","Grass/Legume Forage",0,7,35.6,53.1,8.6,17.8,29.1,30.6,64.599999999999994,5.16,1.95,4.26,7.39,5.13,1.56,1.42,4.76,4.3899999999999997,1.52,5.26,41.38,12.4,3.77,8.5,1.41,0.3,0.22,0.64,0.34,0.16,2.5099999999999998,0.9,0.12,0.9,0.34,0.9,0.3,1,0.28000000000000003,1,12.7,0.04,0.17,0.85,240,0.1,36,0.01,0.55000000000000004,1,30,0.15,0,0,56,2,26,null,null,null,"CPgCalf",{"$f":"IF(ADP_to_CP > 0,ADPgrowth / ADP_to_CP,0)","v":{"$error":"#DIV/0!"}},"calf growth crude protein required (g/day)"]
[null,null,null,null,null,null,null,null,null,null,null,null,null,null,null,"Yonca Kuru Otu, 3.kalite, %17-19 HP, %40-44 NDF",null,54.5,"Forage",1,2.5,1.93,1.1399999999999999,1.1000000000000001,1.08,0.51,90.82,17.93,1,3.9,1.7,2.5,1,43.4,0.48,32.299999999999997,8.6999999999999993,9.1,"Dry","Grass/Legume Forage",0,7,32.6,55.3,8.8000000000000007,17.899999999999999,31.4,32.700000000000003,64.3,5.14,1.95,4.2300000000000004,7.36,5.09,1.56,1.42,4.76,4.38,1.5,5.24,41.21,12.35,3.79,8.5,1.37,0.3,0.22,0.64,0.35,0.16,1.56,0.9,0.12,0.9,0.38,0.9,0.28000000000000003,1,0.39,1,17.7,0.04,0.16,0.85,225,0.1,28,0.01,0.55000000000000004,1,30.9,0.15,0,0,46,2,11,null,null,null,"CalfADG",{"$f":"IF(EnergyADGCalf > 0,EnergyADGCalf,0)","v":{"$error":"#DIV/0!"}},"Calf Average Daily Gain (g/day)"]
[null,null,null,null,null,null,null,null,null,null,null,null,null,null,null,"Yonca Kuru Otu, 4.kalite, %15-17 HP, %44-48 NDF",null,52.7,"Forage",1,2.41,1.84,1.1000000000000001,1.06,1.03,0.46,91.27,16.079999999999998,1,3.3,1.5,2.6,1,47.4,0.48,37.700000000000003,9.1,8.9,"Dry","Grass/Legume Forage",0,7,32.5,49.7,9,14,32,33.1,65.900000000000006,5.14,1.95,4.22,7.35,5.08,1.56,1.42,4.78,4.37,1.5,5.23,41.18,12.34,3.79,8.5,1.19,0.3,0.24,0.64,0.27,0.16,1.56,0.9,7.0000000000000007E-2,0.9,0,0.9,0.3,1,0.23,1,9.9,0.04,0.13,0.85,160,0.1,42.3,0.01,0.55000000000000004,1,26.1,0.15,0,0,19.3,1,0,null,null,null,"CalfADPBal",{"$f":" TotalADP - ADPmaint - ADPgrowth","v":{"$error":"#DIV/0!"}},"digestible ADP Balance (g/day)"]
[null,null,null,null,null,null,null,null,null,null,null,null,null,null,null,"Yonca Kuru Otu, 5.kalite, %13-15 HP, %48-54 NDF",null,52.1,"Forage",1,2.36,1.8,1.07,1.03,1,0.43,91.27,14.32,1,3,1.1000000000000001,2.6,1,52.7,0.48,41.8,9.5,8.1999999999999993,"Dry","Grass/Legume Forage",0,7,32.299999999999997,50.3,9.1999999999999993,14,32.1,33.200000000000003,67,5.1100000000000003,1.95,4.18,7.3,5.01,1.55,1.43,4.76,4.3499999999999996,1.47,5.2,40.880000000000003,12.26,3.79,8.5,1.18,0.3,0.21,0.64,0.22,0.16,2.0699999999999998,0.9,0.08,0.9,0,0.9,0.25,1,0.41,1,13.7,0.04,0,0.85,170,0.1,38.5,0.01,0.55000000000000004,1,22.1,0.15,0,0,19.3,1,0,null,null,null,"CalfCPBal",{"$f":" (TotalCP * 1000) - CPmCalf - CPgCalf","v":{"$error":"#DIV/0!"}},"digestible CP Balance (g/day)"]
[null,null,null,null,null,null,null,null,null,null,null,null,null,null,null,"Yonca Kuru Otu, 6.kalite, <%13 HP, >%54 NDF",null,50.4,"Forage",1,2.2599999999999998,1.71,0.96,0.92,0.88,0.32,93.6,12.44,1,2.1,1.3,2.5,1,54.8,0.48,42.1,9.6,7.6,"Dry","Grass/Legume Forage",0,7,25.5,51.3,10.3,14,34.700000000000003,36.799999999999997,67.400000000000006,5.1100000000000003,1.95,4.18,7.3,5.01,1.55,1.43,4.76,4.3499999999999996,1.47,5.2,40.880000000000003,12.26,3.79,8.5,1.18,0.3,0.21,0.64,0.22,0.16,2.0699999999999998,0.9,0.08,0.9,0,0.9,0.25,1,0.41,1,13.7,0.04,0,0.85,170,0.1,38.5,0.01,0.55000000000000004,1,22.1,0.15,0,0,19.3,1,0,null,null,null,"ADPAllowGain",{"$f":" ((TotalADP - ADPmaint) * BV) / 0.188","v":8245203001.0761709},"ADP Allowable Gain (g/day)"]
[null,null,null,null,null,null,null,null,null,null,null,null,null,null,null,"Yosun, Kurutulmuş",null,32,"Forage",1,1.6,1,0.57999999999999996,0.5,0.76,0,91,7,1,2.1,1.4,0.5,1,25,0.48,10,8.8000000000000007,39,"Dry","Grain Crop Forage",0,7,9.3000000000000007,51.4,39.299999999999997,1.4,19.7,21.3,65,1.08,1.64,1.78,3.25,3.25,1.19,1.07,2.08,3.25,1.42,2.67,21.61,15.04,5.51,50,2.72,0.3,0.31,0.64,0.14000000000000001,0.16,1.55,0.9,0.12,0.9,0.6,0.9,0.11,1,0,1,6,0.04,0,0.85,172,0.1,67,0.01,0,1,16,0.15,1.3,0,0,0,0,null,null,null,"Genç dana hesaplama değişkenleri"]
[null,null,null,null,null,null,null,null,null,null,null,null,null,null,null,"Yulaf Kuru Otu, Başaklı","1-09-099",55.9,"Forage",1,2.46,1.83,1.1000000000000001,1.03,1.17,0.61,91.9,9.1,1,1.3,0.6,2.2000000000000002,1,58,0.5,36.4,6.5,8.5,"Dry","Grain Crop Forage",0,0,35,53.1,11.9,4.3,37.1,39.5,70,2.1800000000000002,1.94,5.5,6.65,3.56,1.87,0.74,4.7,4.13,1.42,4.13,36.090000000000003,9.86,5.18,6,0.37,0.3,0.22,0.64,0.17,0.16,2.0099999999999998,0.9,0.33,0.9,1.08,0.9,0.14000000000000001,1,0,1,8,0.04,0,0.85,250,0.1,59,0.01,0,1,23,0.15,1.6,0,0,0,0,null,null,null,"TotalNEm",{"$f":"Y63+NEm_Total","v":32.432454260230088}]
[null,null,null,null,null,null,null,null,null,null,null,null,null,null,null,"Kuş yemi sapı (Panicum miliacum) (Kum darı)",null,51.16,"Forage",1,2.2400000000000002,1.68,0.98,0.94,0.87,0.31,91.22,8.75,1,3.33,1.49,1.1200000000000001,1,65.59,0.45,38.43,7.66,7.54,"Dry","Grass/Legume Forage",0,10,41.24,41.77,17,15.1,39.450000000000003,39.950000000000003,66,4.5,1.79,3.79,6.81,4.3099999999999996,1.43,1.3,4.34,4,1.38,4.8899999999999997,37.24,11.57,3.84,2,1.2,0.3,0.31,0.64,0.28999999999999998,0.16,3.06,0.9,7.0000000000000007E-2,0.9,0.5,0.9,0.27,1,0,1,10,0.04,0,0.85,160,0.1,59,0.01,0.12,1,24,0.15,0,0,0,0,0,null,null,null,"TotalNEg",{"$f":"Z63+NEg_Total","v":19.851129073307394}]
[null,null,null,null,null,null,null,null,null,null,null,null,null,null,null,"Buğday Kuru Otu, Başak başlangıcı","1-05-170",52.7,"Forage",1,2.33,1.81,1.01,0.94,1.06,0.51,90,13.4,1,1.1000000000000001,0.8,2.5,1,67,0.46,40,8.6999999999999993,6.7,"Dry","Grain Crop Forage",0,0,35,53.1,11.9,4.3,27,29,70,2.02,3.6,4.01,6.64,4.21,1.77,0.61,4.24,4.21,1.03,5.8,37.51,11.22,4.72,6,0.31,0.3,0.2,0.64,0.13,0.16,1.71,0.9,0.06,0.9,0.38,0.9,0.13,1,0,1,8,0.04,0,0.85,319,0.1,62,0.01,0,1,25,0.15,1.4,0,0,0,0,null,null,null,"TotalME",{"$f":"AA63+MEng_Total","v":51.42978305623808}]
[null,null,null,null,null,null,null,null,null,null,null,null,null,null,null,null,null,null,null,null,null,null,null,null,null,null,null,null,null,null,null,null,null,null,null,null,null,null,null,null,null,null,null,null,null,null,null,null,null,null,null,null,null,null,null,null,null,null,null,null,null,null,null,null,null,null,null,null,null,null,null,null,null,null,null,null,null,null,null,null,null,null,null,null,null,null,null,null,null,null,null,null,null,null,null,null,null,null,null,null,"TotalCP",{"$f":"TotalCP","v":2.9519874628648841}]
[null,null,null,null,null,null,null,null,null,null,null,null,null,null,null,null,null,null,null,null,null,null,null,null,null,null,null,null,null,null,null,null,null,null,null,null,null,null,null,null,null,null,null,null,null,null,null,null,null,null,null,null,null,null,null,null,null,null,null,null,null,null,null,null,null,null,null,null,null,null,null,null,null,null,null,null,null,null,null,null,null,null,null,null,null,null,null,null,null,null,null,null,null,null,null,null,null,null,null,null,"TotalDCP",{"$f":"TotalDCP","v":2.2139905971486638}]
[null,null,null,null,null,null,null,null,null,null,null,null,null,null,null,null,null,null,null,null,null,null,null,null,null,null,null,null,null,null,null,null,null,null,null,null,null,null,null,null,null,null,null,null,null,null,null,null,null,null,null,null,null,null,null,null,null,null,null,null,null,null,null,null,null,null,null,null,null,null,null,null,null,null,null,null,null,null,null,null,null,null,null,null,null,null,null,null,null,null,null,null,null,null,null,null,null,null,null,null,"TotalMilkADP",{"$f":"TotalMilkADP","v":0}]
[null,null,null,null,null,null,null,null,null,null,null,null,null,null,null,null,null,null,null,null,null,null,null,null,null,null,null,null,null,null,null,null,null,null,null,null,null,null,null,null,null,null,null,null,null,null,null,null,null,null,null,null,null,null,null,null,null,null,null,null,null,null,null,null,null,null,null,null,null,null,null,null,null,null,null,null,null,null,null,null,null,null,null,null,null,null,null,null,null,null,null,null,null,null,null,null,null,null,null,null,"TotalStarterADP",{"$f":"TotalStarterADP","v":2.2139905971486638}]
[null,null,null,null,null,null,null,null,null,null,null,null,null,null,null,null,null,null,null,null,null,null,null,null,null,null,null,null,null,null,null,null,null,null,null,null,null,null,null,null,null,null,null,null,null,null,null,null,null,null,null,null,null,null,null,null,null,null,null,null,null,null,null,null,null,null,null,null,null,null,null,null,null,null,null,null,null,null,null,null,null,null,null,null,null,null,null,null,null,null,null,null,null,null,null,null,null,null,null,null,"TotalMilkCP",{"$f":"TotalMilkCP","v":0}]
[null,null,null,null,null,null,null,null,null,null,null,null,null,null,null,null,null,null,null,null,null,null,null,null,null,null,null,null,null,null,null,null,null,null,null,null,null,null,null,null,null,null,null,null,null,null,null,null,null,null,null,null,null,null,null,null,null,null,null,null,null,null,null,null,null,null,null,null,null,null,null,null,null,null,null,null,null,null,null,null,null,null,null,null,null,null,null,null,null,null,null,null,null,null,null,null,null,null,null,null,"TotalStarterCP",{"$f":"TotalStarterCP","v":2951.987462864884}]
[null,null,null,null,null,null,null,null,null,null,null,null,null,null,null,null,null,null,null,null,null,null,null,null,null,null,null,null,null,null,null,null,null,null,null,null,null,null,null,null,null,null,null,null,null,null,null,null,null,null,null,null,null,null,null,null,null,null,null,null,null,null,null,null,null,null,null,null,null,null,null,null,null,null,null,null,null,null,null,null,null,null,null,null,null,null,null,null,null,null,null,null,null,null,null,null,null,null,null,null,"TotalADP",{"$f":" ((TotalMilkCP * 0.93) + (TotalStarterCP * 0.75)) * 1000","v":2213990.5971486634}]
[null,null,null,null,null,null,null,null,null,null,null,null,null,null,null,null,null,null,null,null,null,null,null,null,null,null,null,null,null,null,null,null,null,null,null,null,null,null,null,null,null,null,null,null,null,null,null,null,null,null,null,null,null,null,null,null,null,null,null,null,null,null,null,null,null,null,null,null,null,null,null,null,null,null,null,null,null,null,null,null,null,null,null,null,null,null,null,null,null,null,null,null,null,null,null,null,null,null,null,null,"ADP_to_CP",{"$f":"IF((TotalMilkCP + TotalStarterCP) > 0,TotalADP / ((TotalMilkCP + TotalStarterCP) * 1000),1)","v":0.75000000000000011}]
[null,null,null,null,null,null,null,null,null,null,null,null,null,null,null,null,null,null,null,null,null,null,null,null,null,null,null,null,null,null,null,null,null,null,null,null,null,null,null,null,null,null,null,null,null,null,null,null,null,null,null,null,null,null,null,null,null,null,null,null,null,null,null,null,null,null,null,null,null,null,null,null,null,null,null,null,null,null,null,null,null,null,null,null,null,null,null,null,null,null,null,null,null,null,null,null,null,null,null,null,"MilkME",{"$f":"MilkME","v":0}]
[null,null,null,null,null,null,null,null,null,null,null,null,null,null,null,null,null,null,null,null,null,null,null,null,null,null,null,null,null,null,null,null,null,null,null,null,null,null,null,null,null,null,null,null,null,null,null,null,null,null,null,null,null,null,null,null,null,null,null,null,null,null,null,null,null,null,null,null,null,null,null,null,null,null,null,null,null,null,null,null,null,null,null,null,null,null,null,null,null,null,null,null,null,null,null,null,null,null,null,null,"StarterME",{"$f":"StarterME","v":0}]
[null,null,null,null,null,null,null,null,null,null,null,null,null,null,null,null,null,null,null,null,null,null,null,null,null,null,null,null,null,null,null,null,null,null,null,null,null,null,null,null,null,null,null,null,null,null,null,null,null,null,null,null,null,null,null,null,null,null,null,null,null,null,null,null,null,null,null,null,null,null,null,null,null,null,null,null,null,null,null,null,null,null,null,null,null,null,null,null,null,null,null,null,null,null,null,null,null,null,null,null,"Fat",{"$f":"Fat","v":0}]
[]
[]
[]
[]
[]
[]
[]
[]
[]
[]
[null,null,null,null,null,null,null,null,null,null,null,null,null,null,null,null,null,null,null,null,null,null,null,null,null,null,null,null,null,null,null,null,null,null,null,null,null,null,null,null,null,null,null,null,null,null,null,null,null,null,null,null,null,null,null,null,null,null,null,null,null,null,null,null,null,null,null,null,null,null,null,null,null,null,null,null,null,null,null,null,null,null,null,null,null,null,null,null,null,null,null,null,null,null,null,null,null,null,null,null,"Hayvan Tanımlama Bilgisi Girişi"]
[null,null,null,null,null,null,null,null,null,null,null,null,null,null,null,null,null,null,null,null,null,null,null,null,null,null,null,null,null,null,null,null,null,null,null,null,null,null,null,null,null,null,null,null,null,null,null,null,null,null,null,null,null,null,null,null,null,null,null,null,null,null,null,null,null,null,null,null,null,null,null,null,null,null,null,null,null,null,null,null,null,null,null,null,null,null,null,null,null,null,null,null,null,null,null,null,null,null,null,null,"Hayvanın Tipi :","Sağmal İnek"]
[null,null,null,null,null,null,null,null,null,null,null,null,null,null,null,null,null,null,null,null,null,null,null,null,null,null,null,null,null,null,null,null,null,null,null,null,null,null,null,null,null,null,null,null,null,null,null,null,null,null,null,null,null,null,null,null,null,null,null,null,null,null,null,null,null,null,null,null,null,null,null,null,null,null,null,null,null,null,null,null,null,null,null,null,null,null,null,null,null,null,null,null,null,null,null,null,null,null,null,null,"Irkı :","Siyah Alaca"]
[null,null,null,null,null,null,null,null,null,null,null,null,null,null,null,null,null,null,null,null,null,null,null,null,null,null,null,null,null,null,null,null,null,null,null,null,null,null,null,null,null,null,null,null,null,null,null,null,null,null,null,null,null,null,null,null,null,null,null,null,null,null,null,null,null,null,null,null,null,null,null,null,null,null,null,null,null,null,null,null,null,null,null,null,null,null,null,null,null,null,null,null,null,null,null,null,null,null,null,null,"Yaşı :",51,"ay"]
[null,null,null,null,null,null,null,null,null,null,null,null,null,null,null,null,null,null,null,null,null,null,null,null,null,null,null,null,null,null,null,null,null,null,null,null,null,null,null,null,null,null,null,null,null,null,null,null,null,null,null,null,null,null,null,null,null,null,null,null,null,null,null,null,null,null,null,null,null,null,null,null,null,null,null,null,null,null,null,null,null,null,null,null,null,null,null,null,null,null,null,null,null,null,null,null,null,null,null,null,"Canlı Ağırlığı :",650,"kg"]
[null,null,null,null,null,null,null,null,null,null,null,null,null,null,null,null,null,null,null,null,null,null,null,null,null,null,null,null,null,null,null,null,null,null,null,null,null,null,null,null,null,null,null,null,null,null,null,null,null,null,null,null,null,null,null,null,null,null,null,null,null,null,null,null,null,null,null,null,null,null,null,null,null,null,null,null,null,null,null,null,null,null,null,null,null,null,null,null,null,null,null,null,null,null,null,null,null,null,null,null,"Hedef GCAA :",0.87302631578947387,"g"]
[null,null,null,null,null,null,null,null,null,null,null,null,null,null,null,null,null,null,null,null,null,null,null,null,null,null,null,null,null,null,null,null,null,null,null,null,null,null,null,null,null,null,null,null,null,null,null,null,null,null,null,null,null,null,null,null,null,null,null,null,null,null,null,null,null,null,null,null,null,null,null,null,null,null,null,null,null,null,null,null,null,null,null,null,null,null,null,null,null,null,null,null,null,null,null,null,null,null,null,null,"Kaç günlük gebe :",30,"gün"]
[null,null,null,null,null,null,null,null,null,null,null,null,null,null,null,null,null,null,null,null,null,null,null,null,null,null,null,null,null,null,null,null,null,null,null,null,null,null,null,null,null,null,null,null,null,null,null,null,null,null,null,null,null,null,null,null,null,null,null,null,null,null,null,null,null,null,null,null,null,null,null,null,null,null,null,null,null,null,null,null,null,null,null,null,null,null,null,null,null,null,null,null,null,null,null,null,null,null,null,null,"Kondisyon Skoru :",3]
[null,null,null,null,null,null,null,null,null,null,null,null,null,null,null,null,null,null,null,null,null,null,null,null,null,null,null,null,null,null,null,null,null,null,null,null,null,null,null,null,null,null,null,null,null,null,null,null,null,null,null,null,null,null,null,null,null,null,null,null,null,null,null,null,null,null,null,null,null,null,null,null,null,null,null,null,null,null,null,null,null,null,null,null,null,null,null,null,null,null,null,null,null,null,null,null,null,null,null,null,"Kaç gündür süt veriyor :",120,"gün"]
[null,null,null,null,null,null,null,null,null,null,null,null,null,null,null,null,null,null,null,null,null,null,null,null,null,null,null,null,null,null,null,null,null,null,null,null,null,null,null,null,null,null,null,null,null,null,null,null,null,null,null,null,null,null,null,null,null,null,null,null,null,null,null,null,null,null,null,null,null,null,null,null,null,null,null,null,null,null,null,null,null,null,null,null,null,null,null,null,null,null,null,null,null,null,null,null,null,null,null,null,"Laktasyon sayısı :",3]
[null,null,null,null,null,null,null,null,null,null,null,null,null,null,null,null,null,null,null,null,null,null,null,null,null,null,null,null,null,null,null,null,null,null,null,null,null,null,null,null,null,null,null,null,null,null,null,null,null,null,null,null,null,null,null,null,null,null,null,null,null,null,null,null,null,null,null,null,null,null,null,null,null,null,null,null,null,null,null,null,null,null,null,null,null,null,null,null,null,null,null,null,null,null,null,null,null,null,null,null,"İlk Buzağılama Yaşı :",24,"ay"]
[null,null,null,null,null,null,null,null,null,null,null,null,null,null,null,null,null,null,null,null,null,null,null,null,null,null,null,null,null,null,null,null,null,null,null,null,null,null,null,null,null,null,null,null,null,null,null,null,null,null,null,null,null,null,null,null,null,null,null,null,null,null,null,null,null,null,null,null,null,null,null,null,null,null,null,null,null,null,null,null,null,null,null,null,null,null,null,null,null,null,null,null,null,null,null,null,null,null,null,null,"Buzağılama Aralığı :",12,"ay"]
[null,null,null,null,null,null,null,null,null,null,null,null,null,null,null,null,null,null,null,null,null,null,null,null,null,null,null,null,null,null,null,null,null,null,null,null,null,null,null,null,null,null,null,null,null,null,null,null,null,null,null,null,null,null,null,null,null,null,null,null,null,null,null,null,null,null,null,null,null,null,null,null,null,null,null,null,null,null,null,null,null,null,null,null,null,null,null,null,null,null,null,null,null,null,null,null,null,null,null,null,"Günlük süt verimi :",25,"kg"]
[null,null,null,null,null,null,null,null,null,null,null,null,null,null,null,null,null,null,null,null,null,null,null,null,null,null,null,null,null,null,null,null,null,null,null,null,null,null,null,null,null,null,null,null,null,null,null,null,null,null,null,null,null,null,null,null,null,null,null,null,null,null,null,null,null,null,null,null,null,null,null,null,null,null,null,null,null,null,null,null,null,null,null,null,null,null,null,null,null,null,null,null,null,null,null,null,null,null,null,null,"Süt yağı oranı :",3.7,"%"]
[null,null,null,null,null,null,null,null,null,null,null,null,null,null,null,"Enerji Kaynakları",null,null,null,null,null,null,null,null,null,null,null,null,null,null,null,null,null,null,null,null,null,null,null,null,null,null,null,null,null,null,null,null,null,null,null,null,null,null,null,null,null,null,null,null,null,null,null,null,null,null,null,null,null,null,null,null,null,null,null,null,null,null,null,null,null,null,null,null,null,null,null,null,null,null,null,null,null,null,null,null,null,null,null,null,"Süt proteini oranı :",3.1,"%"]
[null,null,null,null,null,null,null,null,null,null,null,null,null,null,null,"Arpa, Ezme ","4-00-528",82.7,"Conc",1.04,3.64,2.92,1.86,1.76,2.02,1.36,91,12.4,1,1.8,0.5,2.2000000000000002,1,20.8,0.48,7.2,1.9,2.9,"Conc","Energy Source",0,10,30.2,61.2,8.6,22.7,18.100000000000001,23.7,85,5.07,2.2999999999999998,3.47,6.97,3.63,1.7,2.2799999999999998,5.1100000000000003,3.42,1.17,4.9000000000000004,37.74,9.6199999999999992,4.5,9.75,0.06,0.6,0.39,0.7,0.14000000000000001,0.16,0.56000000000000005,0.9,0.02,0.9,0.13,0.9,0.12,1,0.35,1,6,0.04,0,0.85,70,0.1,22,0.01,0.11,1,38,0.15,1.1000000000000001,0,0,0,0,null,null,null,"Sütteki laktoz oranı :",4.8,"%"]
[null,null,null,null,null,null,null,null,null,null,null,null,null,null,null,"Buğday, Ezme","4-13-245",86.6,"Conc",1.04,3.83,3.1,1.99,1.88,2.15,1.47,89.4,14.2,1,1.7,0.2,2.2999999999999998,1,13.4,0.41,4.4000000000000004,1.7,2,"Conc","Energy Source",0,0,27.1,65.099999999999994,7.8,18.8,19.600000000000001,26.2,95,4.6900000000000004,2.4300000000000002,3.32,6.64,2.81,1.6,2.2000000000000002,4.5,2.9,1.19,4.24,34.42,8.16,4.6500000000000004,10,0.05,0.6,0.43,0.7,0.15,0.16,0.5,0.9,0.01,0.9,0.11,0.9,0.15,1,0,1,5,0.04,0,0.85,72,0.1,42,0.01,0.28000000000000003,1,40,0.15,1.3,0,0,0,0,null,null,null,"Çevre ısısı :",18,"°C"]
[null,null,null,null,null,null,null,null,null,null,null,null,null,null,null,"Havuç","4-01-145",84,"Conc",1,3.72,3.3,1.89,1.79,2,1.35,11,10,1,5.2,2.2999999999999998,1.3,1,9,0.22,8,0.9,8.4,"Conc","Energy Source",0,0,4.5,90.5,5,2,66.2,76.3,90,3.23,2.54,3.18,5.0999999999999996,4.3499999999999996,1.24,1.1000000000000001,2.93,3.38,0.81,4.7,31.46,13.83,3.94,1.2,0.4,0.6,0.35,0.7,0.2,0.16,2.8,0.9,0.48,0.9,0.5,0.9,0.17,1,0,1,10.4,0.04,0,0.85,130,0.1,31.5,0.01,0,1,32.700000000000003,0.15,0,0,0,0,0,null,null,null,"Önceki ayın ısı ortalaması :",null,"°C"]
[null,null,null,null,null,null,null,null,null,null,null,null,null,null,null,"Melas,Şeker Kamışı","4-04-696",81,"Conc",1.04,3.48,2.78,1.76,1.66,1.91,1.28,74.3,5.8,1,0,0,0.2,1,0.4,0.75,0.2,0,13.3,"Conc","Energy Source",0,0,74.099999999999994,25.9,0,3.2,14.7,18.100000000000001,100,4.91,1.59,4.4400000000000004,3.59,1,0.22,0.83,2.71,1.57,0.45,3.36,23.84,4.1900000000000004,0.92,4,1,0.6,0.1,0.7,0.42,0.16,4.01,0.9,0.22,0.9,0,0.9,0.47,1,0,1,66,0.04,0,0.85,263,0.1,59,0.01,0,1,21,0.15,1.6,0,0,0,0,null,null,null,"Rüzgarın hızı :",1,"km/sa"]
[null,null,null,null,null,null,null,null,null,null,null,null,null,null,null,"Melas,Şeker Pancarı","4-00-668",82.9,"Conc",1.04,3.6,2.88,1.84,1.73,1.99,1.33,77.900000000000006,8.5,1,0,0,0.2,1,0.1,0.75,0.1,0,11.4,"Conc","Energy Source",0,0,74.099999999999994,25.9,0,3.2,14.7,18.100000000000001,100,4.91,1.59,4.4400000000000004,3.59,1,0.22,0.83,2.71,1.57,0.45,3.36,23.84,4.1900000000000004,0.92,4,0.15,0.6,0.03,0.7,0.28999999999999998,0.16,6.06,0.9,1.48,0.9,0,0.9,0.6,1,0,1,22,0.04,0,0.85,87,0.1,66,0.01,0,1,18,0.15,0,0,0,0,0,null,null,null,"Merada Otluyor mu? :","Otlamıyor"]
[null,null,null,null,null,null,null,null,null,null,null,null,null,null,null,"Mısır Grizi","4-02-887",83.1,"Conc",1,3.64,2.94,1.88,1.78,2.02,1.37,88.5,11.9,1,1.5,0.5,4.2,1,21.1,0.51,6.2,1.7,2.7,"Conc","Energy Source",0,0,45,49,6,7,24.3,31.2,90,5.44,2.72,3.5,9.51,3.69,1.75,1.75,4.17,3.88,1.97,5.05,40.68,9.07,4.3,9,0.03,0.6,0.65,0.7,0.26,0.16,0.82,0.9,0.01,0.9,0.1,0.9,0.12,1,0,1,3,0.04,0,0.85,87,0.1,14,0.01,0,1,49,0.15,1.2,0,0,0,0,null,null,null,"Arazinin durumu :"]
[null,null,null,null,null,null,null,null,null,null,null,null,null,null,null,"Mısır Koçanı (Taneli), Öğütülmüş ","4-02-849",83.5,"Conc",1,3.62,2.91,1.86,1.76,2,1.35,89.2,8.6,1,0.9,0.4,3.9,1,21.5,0.54,8,1.6,1.7,"Conc","Energy Source",0,0,30,63.3,1.7,5,32.799999999999997,42.5,90,3.3,2.79,3.54,12.97,2.6,2,1.96,4.5,3.56,0.68,4.74,40.68,6.39,4.92,3.5,0.06,0.6,0.28999999999999998,0.7,0.13,0.16,0.49,0.9,0.03,0.9,7.0000000000000007E-2,0.9,0.1,1,0,1,3,0.04,0,0.85,91,0.1,10,0.01,7.0000000000000007E-2,1,27,0.15,0.8,0,0,0,0,null,null,null,"Mera ile ahır arası :",null,"m"]
[null,null,null,null,null,null,null,null,null,null,null,null,null,null,null,"Mısır Koçanı (Taneli), Öğütülmüş, Nemi Yüksek","4-26-240",86.6,"Conc",1.04,3.74,3.03,1.94,1.83,2.09,1.42,67.099999999999994,8.4,1,0.7,0.3,3.9,1,21,0.56000000000000005,9.4,1.4,1.7,"Conc","Energy Source",0,0,34,65.7,0.3,5.2,29.6,38.9,90,3.3,2.79,3.56,14.56,2.2799999999999998,1.7,1.96,4.9000000000000004,3.32,0.66,4.51,41.17,5.54,4.13,3.5,0.05,0.6,0.28000000000000003,0.7,0.12,0.16,0.48,0.9,0.01,0.9,7.0000000000000007E-2,0.9,0.09,1,0,1,3,0.04,0,0.85,68,0.1,9,0.01,7.0000000000000007E-2,1,22,0.15,0.7,0,0,0,0,null,null,null,"Meraya gidiş-geliş sayısı :",null,"tur"]
[null,null,null,null,null,null,null,null,null,null,null,null,null,null,null,"Mısır, Ezilmiş, Nemi Yüksek","4-28-265",88.5,"Conc",1,3.84,3.11,2.0099999999999998,1.9,2.15,1.48,71.8,9.1999999999999993,1,0.6,0.3,4.3,1,10.3,0.51,3.6,0.9,1.5,"Conc","Energy Source",0,0,27.9,71.400000000000006,0.7,5.0999999999999996,32.9,43,90,3.85,2.54,3.38,11.6,2.64,2.11,2.08,4.5599999999999996,3.68,0.98,4.9000000000000004,40.24,6.56,5.24,8,0.03,0.6,0.3,0.7,0.12,0.16,0.43,0.9,0.01,0.9,0.05,0.9,0.1,1,0,1,1,0.04,0,0.85,59,0.1,7,0.01,7.0000000000000007E-2,1,21,0.15,0.7,0,0,0,0,null,null,null,"Kıllarının uzunluğu :",1,"cm"]
[null,null,null,null,null,null,null,null,null,null,null,null,null,null,null,"Mısır, Kırılmış, Kuru","4-02-854",85,"Conc",0.95,3.69,2.98,1.91,1.8,2.0499999999999998,1.39,88.1,9.4,1,0.7,0.3,4.2,1,9.5,0.49,3.4,0.9,1.5,"Conc","Energy Source",0,10,23.9,72.5,3.6,4.9000000000000004,37,47.3,90,4.6100000000000003,3.13,3.31,11.2,2.84,2.13,2.13,4.62,3.55,0.72,4.0199999999999996,40.130000000000003,7.08,5.31,9.5,0.04,0.6,0.3,0.7,0.12,0.16,0.42,0.9,0.02,0.9,0.08,0.9,0.1,1,0,1,3,0.04,0,0.85,54,0.1,11,0.01,7.0000000000000007E-2,1,27,0.15,0.8,0,0,0,0,null,null,null,"Deri ve kıllarının durumu :","Biraz Çamurlu"]
[null,null,null,null,null,null,null,null,null,null,null,null,null,null,null,"Mısır, Öğütülmüş, Kuru","4-02-854",88.7,"Conc",1,3.85,3.12,2.0099999999999998,1.9,2.16,1.48,88.1,9.4,1,0.7,0.3,4.2,1,9.5,0.49,3.4,0.9,1.5,"Conc","Energy Source",0,10,23.9,72.5,3.6,4.9000000000000004,37,47.3,90,4.6100000000000003,3.13,3.31,11.2,2.84,2.13,2.13,4.62,3.55,0.72,4.0199999999999996,40.130000000000003,7.08,5.31,9.5,0.04,0.6,0.3,0.7,0.12,0.16,0.42,0.9,0.02,0.9,0.08,0.9,0.1,1,0,1,3,0.04,0,0.85,54,0.1,11,0.01,7.0000000000000007E-2,1,27,0.15,0.8,0,0,0,0,null,null,null,"Sıcaklık stresi :","Yok"]
[null,null,null,null,null,null,null,null,null,null,null,null,null,null,null,"Mısır, Öğütülmüş, Nemi Yüksek","4-28-265",91.5,"Conc",1.04,3.96,3.23,2.09,1.97,2.23,1.55,71.8,9.1999999999999993,1,0.6,0.3,4.3,1,10.3,0.51,3.6,0.9,1.5,"Conc","Energy Source",0,10,27.9,71.400000000000006,0.7,5.0999999999999996,32.9,43,90,3.85,2.54,3.38,11.6,2.64,2.11,2.08,4.5599999999999996,3.68,0.98,4.9000000000000004,40.24,6.56,5.24,9.5,0.03,0.6,0.3,0.7,0.12,0.16,0.43,0.9,0.01,0.9,0.05,0.9,0.1,1,0,1,1,0.04,0,0.85,59,0.1,7,0.01,7.0000000000000007E-2,1,21,0.15,0.7,0,0,0,0,null,null,null,"Gece serinliği :"]
[null,null,null,null,null,null,null,null,null,null,null,null,null,null,null,"Mısır, Pul Haline Getirilmiş","4-02-854",91.7,"Conc",1.04,3.97,3.24,2.09,1.98,2.2400000000000002,1.55,88.1,9.4,1,0.7,0.3,4.2,1,9.5,0.49,3.4,0.9,1.5,"Conc","Energy Source",0,10,1.7,82.8,15.5,3,63.7,74.5,90,4.7300000000000004,3.13,3.34,10.87,3.05,2.04,2.2200000000000002,4.62,3.66,0.72,4.75,40.19,7.45,4.99,11.5,0.04,0.6,0.3,0.7,0.12,0.16,0.42,0.9,0.02,0.9,0.08,0.9,0.1,1,0,1,3,0.04,0,0.85,54,0.1,11,0.01,7.0000000000000007E-2,1,27,0.15,0.8,0,0,0,0,null,null,null,"Canlı ağırlığı :",null,"kg"]
[null,null,null,null,null,null,null,null,null,null,null,null,null,null,null,"Patates",0,81,"Conc",1,3.58,3.16,1.82,1.75,1.92,1.28,24,9.3000000000000007,1,5.2,2.2999999999999998,0.4,1,9,0.22,1.4,0.9,4.8,"Conc","Energy Source",0,0,4.5,90.5,5,2,66.2,76.3,90,2.4700000000000002,1.84,3.14,5.34,4.21,0.95,1.34,3.62,3.11,0.67,4.4000000000000004,29.75,14.15,3.19,2.5,0.04,0.6,0.24,0.7,0.14000000000000001,0.16,2.17,0.9,0.09,0.9,0.28000000000000003,0.9,0.09,1,0,1,28.4,0.04,0,0.85,80,0.1,41.7,0.01,0,1,0,0.15,0,0,0,0,0,null,null,null,"Çevre sıcaklığı :",null,"°C"]
[null,null,null,null,null,null,null,null,null,null,null,null,null,null,null,"Sorgum, Kuru Ezme","4-04-380",80.599999999999994,"Conc",0.92,3.53,2.83,1.8,1.7,1.95,1.3,88.6,11.6,1,2.8,1,3.1,1,10.9,0.35,5.9,1.1000000000000001,2,"Conc","Energy Source",0,6,18.899999999999999,79.400000000000006,1.7,5.5,36,47.3,85,4.09,2.44,3.94,13.06,2.38,1.81,1.88,5.25,3.37,1.0900000000000001,4.95,42.38,5.62,4.2699999999999996,100,7.0000000000000007E-2,0.6,0.35,0.7,0.17,0.16,0.47,0.9,0.01,0.9,0.06,0.9,0.11,1,0,1,6,0.04,0,0.85,89,0.1,21,0.01,0.46,1,25,0.15,1,0,0,0,0]
[null,null,null,null,null,null,null,null,null,null,null,null,null,null,null,"Sorgum, Pul Haline Getirilmiş","4-04-380",89.4,"Conc",1.04,3.91,3.17,2.04,1.93,2.2000000000000002,1.51,88.6,11.6,1,2.8,1,3.1,1,10.9,0.35,5.9,1.1000000000000001,2,"Conc","Energy Source",0,10,33.200000000000003,21.9,44.9,2.5,58.6,61.3,85,4.09,2.44,3.94,13.06,2.38,1.81,1.88,5.25,3.37,1.0900000000000001,4.95,42.38,5.62,4.2699999999999996,100,7.0000000000000007E-2,0.6,0.35,0.7,0.17,0.16,0.47,0.9,0.01,0.9,0.06,0.9,0.11,1,0,1,6,0.04,0,0.85,89,0.1,21,0.01,0.46,1,25,0.15,1,0,0,0,0]
[null,null,null,null,null,null,null,null,null,null,null,null,null,null,null,"Şeker Pancarı",0,84,"Conc",1,3.5,3,1.75,1.68,1.85,1.2,18.5,7.5,1,5.2,2.2999999999999998,0.6,1,9,0.22,1.4,0.9,5.5,"Conc","Energy Source",0,0,4.5,90.5,5,2,66.2,76.3,90,3.23,2.54,3.18,5.0999999999999996,4.3499999999999996,1.24,1.1000000000000001,2.93,3.38,0.81,4.7,31.46,13.83,3.94,2,0.57999999999999996,0.6,0.16,0.7,0.66,0.16,1.52,0.9,0.49,0.9,0,0.9,0.06,1,0,1,8.1,0.04,0,0.85,80,0.1,114.7,0.01,0,1,32.700000000000003,0.15,0,0,0,0,0]
[null,null,null,null,null,null,null,null,null,null,null,null,null,null,null,"Tritikale",0,84,"Conc",1.04,3.56,3.15,1.77,1.7,1.86,1.22,89,13.3,1,1.7,0.2,1.7,1,17.3,0.41,5.12,0,2.09,"Conc","Energy Source",0,4,27.1,65.099999999999994,7.8,18.8,19.600000000000001,26.2,95,5.49,2.4900000000000002,3.76,7.23,3.35,1.39,1.73,4.97,3.47,1.1599999999999999,5.09,38.119999999999997,8.7899999999999991,3.64,20,0.04,0.6,0.34,0.7,0.26,0.16,0.56999999999999995,0.9,0.01,0.9,0,0.9,0,1,8.6999999999999994E-2,1,9.3000000000000007,0.04,0,0.85,50,0.1,47.8,0.01,0,1,35.1,0.15,0,0,0,0,0]
[null,null,null,null,null,null,null,null,null,null,null,null,null,null,null,"Yağ, Bitkisel","4-05-077",184,"Fat+Glicerol",0,7.7,7.07,5.65,5.41,5.65,3.89,100,0,1,0,0,99.9,0.86,0,0,0,0,0,"Conc","Fat and Oil",0,0.5,0,0,0,0,0,0,0,0,0,0,0,0,0,0,0,0,0,0,0,0,0,45,0,0.6,0,0.7,0,0.16,0,0.9,0,0.9,0,0.9,0,1,0,1,0,0.04,0,0.85,0,0.1,0,0.01,0,1,0,0.15,0,0,0,0,0]
[null,null,null,null,null,null,null,null,null,null,null,null,null,null,null,"Yağ, Bypass, Ca Sabunları","IFN",163.5,"Fatty acids",0,6.83,6.27,5.0199999999999996,4.8,5.0199999999999996,3.45,95.3,0,1,0,0,84.5,0.86,0,0,0,0,15.5,"Conc","Fat and Oil",0,0.5,0,0,0,0,0,0,0,0,0,0,0,0,0,0,0,0,0,0,0,0,0,73,12,0.8,0,0.7,0,0.16,0,0.9,0,0.9,0,0.9,0,1,0,1,0,0.04,0,0.85,0,0.1,0,0.01,0,1,0,0.15,0,0,0,0,0]
[null,null,null,null,null,null,null,null,null,null,null,null,null,null,null,"Yağ, Bypass, Hidrolize (Kuyruk Yağı Yağ Asitleri)","IFN",176.3,"Fatty acids",0,7.37,6.76,5.41,5.17,5.41,3.72,99.8,0,1,0,0,99.2,0.79,0,0,0,0,0,"Conc","Fat and Oil",0,0.5,0,0,0,0,0,0,0,0,0,0,0,0,0,0,0,0,0,0,0,0,0,80,0,0.6,0,0.7,0,0.16,0,0.9,0,0.9,0,0.9,0,1,0,1,0,0.04,0,0.85,0,0.1,0,0.01,0,1,0,0.15,0,0,0,0,0]
[null,null,null,null,null,null,null,null,null,null,null,null,null,null,null,"Yağ, Bypass, Kısmi Hidrojenize Kuyruk Yağı","IFN",96.6,"Fat+Glicerol",0,4.05,3.72,2.97,2.84,2.97,2.04,100,0,1,0,0,99.5,0.43,0,0,0,0,0,"Conc","Fat and Oil",0,0.5,0,0,0,0,0,0,0,0,0,0,0,0,0,0,0,0,0,0,0,0,0,80,0,0.6,0,0.7,0,0.16,0,0.9,0,0.9,0,0.9,0,1,0,1,0,0.04,0,0.85,0,0.1,0,0.01,0,1,0,0.15,0,0,0,0,0]
[null,null,null,null,null,null,null,null,null,null,null,null,null,null,null,"Yağ, Kuyruk","IFN",147.4,"Fat+Glicerol",0,6.17,5.66,4.53,4.33,4.53,3.12,99.8,0,1,0,0,99.8,0.68,0,0,0,0,0,"Conc","Fat and Oil",0,0,0,0,0,0,0,0,0,0,0,0,0,0,0,0,0,0,0,0,0,0,0,400,0,0.6,0,0.7,0,0.16,0,0.9,0,0.9,0,0.9,0,1,0,1,0,0.04,0,0.85,0,0.1,0,0.01,0,1,0,0.15,0,0,0,0,0]
[null,null,null,null,null,null,null,null,null,null,null,null,null,null,null,"Yem şalgamı",null,86,null,1,3.8,3.1,2,1.9,2.1,1.4,9,12,1,6.36,1.32,1.5,1,44,0.55000000000000004,34,null,8,"Conc","Energy Source",0,5,4.5,90.5,5,2,56,66,90,null,null,null,null,null,null,null,null,null,null,null,null,null,null,5,0.7,null,0.34,null,null,null,3.2,null,null,null,0.65,null,0.43,null,null,null,null,null,null,null,null,null,null,null,null,null,40]
[null,null,null,null,null,null,null,null,null,null,null,null,null,null,null,"Yulaf, Ezme","4-03-309",78.5,"Conc",1.04,3.47,2.78,1.77,1.67,1.9,1.26,90,13.2,1,1.8,0.3,5.0999999999999996,1,30,0.4,14.6,4.9000000000000004,3.3,"Conc","Energy Source",0,0,65.2,28.8,6,17.399999999999999,11.6,14.6,75,6.82,2.44,3.75,7.3,4.18,1.71,2.85,5.16,3.46,1.19,5.19,41.2,10.15,4.1500000000000004,8.75,0.11,0.6,0.4,0.7,0.16,0.16,0.52,0.9,0.03,0.9,0,0.9,0.19,1,0.06,1,8,0.04,0,0.85,106,0.1,43,0.01,0.48,1,41,0.15,1.7,0,0,0,0]
[null,null,null,null,null,null,null,null,null,null,null,null,null,null,null,null,null,null,null,null,null,null,null,null,null,null,null,null,null,null,null,null,null,null,null,null,null,null,null,null,null,null,null,null,null,null,null,null,null,null,null,null,null,null,null,null,null,null,null,null,null,null,null,null,null,null,null,null,null,null,null,null,null,null,null,null,null,null,null,null,null,null,null,null,null,null,null,null,null,null,null,null,null,null,null,null,null,null,null,null,"Damızlık Düve İhtiyaçları"]
[null,null,null,null,null,null,null,null,null,null,null,null,null,null,null,null,null,null,null,null,null,null,null,null,null,null,null,null,null,null,null,null,null,null,null,null,null,null,null,null,null,null,null,null,null,null,null,null,null,null,null,null,null,null,null,null,null,null,null,null,null,null,null,null,null,null,null,null,null,null,null,null,null,null,null,null,null,null,null,null,null,null,null,null,null,null,null,null,null,null,null,null,null,null,null,null,null,null,null,null,"Cüsse",{"$f":"IF(MW<470,\"Küçük ırk \",\"İri ırk \")","v":"İri ırk "},null,null,"DMI","TDN","NEm","NEG","ME","RDP","RUP","RDP%","RUP%","CP%","Ca","P"]
[null,null,null,null,null,null,null,null,null,null,null,null,null,null,null,null,null,null,null,null,null,null,null,null,null,null,null,null,null,null,null,null,null,null,null,null,null,null,null,null,null,null,null,null,null,null,null,null,null,null,null,null,null,null,null,null,null,null,null,null,null,null,null,null,null,null,null,null,null,null,null,null,null,null,null,null,null,null,null,null,null,null,null,null,null,null,null,null,null,null,null,null,null,null,null,null,null,null,null,null,"Gebelik durumu",{"$f":"IF(DaysPreg<240,\"Gebe değil\",\"Gebe\")","v":"Gebe değil"},null,null,"kg/d","%","MBWl/d","MBWl/d","MBWl/d","g/d","g/d","%","%","%","g/d","g/d"]
[null,null,null,null,null,null,null,null,null,null,null,null,null,null,null,null,null,null,null,null,null,null,null,null,null,null,null,null,null,null,null,null,null,null,null,null,null,null,null,null,null,null,null,null,null,null,null,null,null,null,null,null,null,null,null,null,null,null,null,null,null,null,null,null,null,null,null,null,null,null,null,null,null,null,null,null,null,null,null,null,null,null,null,null,null,null,null,null,null,null,null,null,null,null,null,null,null,null,null,null,"Tip",{"$f":"CONCATENATE(CX277,CX278)","v":"İri ırk Gebe değil"},null,"Küçük ırk Gebe değil",{"$f":"BW*0.02+0.2286*ADG+0.9","v":13.9},{"$f":"49.6761904761905+22.2857142857143*ADG","v":49.676190476190499},{"$f":"1.016+0.01682*BW","v":11.949000000000002},{"$f":"IF((0.068+BW*0.00106)*ADG*10<0,0,(0.068+BW*0.00106)*ADG*10)","v":0},{"$f":"(1.98+0.0327*BW) + ((0.12+0.00204*BW)*ADG*10)","v":23.234999999999999},{"$f":"(6.7498+4.3746*ADG)*BW^0.752","v":880.24131520913784},{"$f":"IF((20.495-0.0562*BW)+(38.12-0.0668*BW)*ADG*10<0,0,(20.495-0.0562*BW)+(38.12-0.0668*BW)*ADG*10)","v":0},{"$f":"DF279/DA279/10","v":6.3326713324398405},{"$f":"DG279/DA279/10","v":0},{"$f":"DH279+DI279","v":6.3326713324398405},{"$f":"0.099+0.0402*BW + (3.72-0.0036*BW)*10*ADG","v":26.228999999999999},{"$f":"0.84+0.0283*BW + 10*ADG","v":19.234999999999999}]
[null,null,null,null,null,null,null,null,null,null,null,null,null,null,null,null,null,null,null,null,null,null,null,null,null,null,null,null,null,null,null,null,null,null,null,null,null,null,null,null,null,null,null,null,null,null,null,null,null,null,null,null,null,null,null,null,null,null,null,null,null,null,null,null,null,null,null,null,null,null,null,null,null,null,null,null,null,null,null,null,null,null,null,null,null,null,null,null,null,null,null,null,null,null,null,null,null,null,null,null,null,null,null,"İri ırk Gebe değil",{"$f":"(1.5826+0.017*BW)+ (BW/1000)*ADG","v":12.6326},{"$f":"49.2+18*ADG","v":49.2},{"$f":"1.31190476190476+0.0155142857142857*BW","v":11.396190476190464},{"$f":"IF((0.067+0.0008*BW)*(ADG*10-0.5)<0,0,(0.067+0.0008*BW)*(ADG*10-0.5))","v":0},{"$f":"(2.5023+0.0307*BW)+(0.132344+0.001343*BW)*ADG*10","v":22.457300000000004},{"$f":"DA280*(7.471429+2.8214*ADG)*10","v":943.83573985399994},{"$f":"IF((22.074-0.057*BW)+(38.2424-0.052*BW)*ADG*10<0,0,(22.074-0.057*BW)+(38.2424-0.052*BW)*ADG*10)","v":0},{"$f":"DF280/DA280/10","v":7.4714289999999988},{"$f":"DG280/DA280/10","v":0},{"$f":"DH280+DI280","v":7.4714289999999988},{"$f":"(-0.3891+0.0424*BW)+(3.72108844-0.0027*BW)*ADG*10","v":27.1709},{"$f":"1.0912+0.0255*BW + (1.31811998-0.00091*BW)*ADG*10","v":17.6662}]
[null,null,null,null,null,null,null,null,null,null,null,null,null,null,null,null,null,null,null,null,null,null,null,null,null,null,null,null,null,null,null,null,null,null,null,null,null,null,null,null,null,null,null,null,null,null,null,null,null,null,null,null,null,null,null,null,null,null,null,null,null,null,null,null,null,null,null,null,null,null,null,null,null,null,null,null,null,null,null,null,null,null,null,null,null,null,null,null,null,null,null,null,null,null,null,null,null,null,null,null,"HeiferDMI",{"$f":"VLOOKUP(Tip,CZ$279:DL$282,2,FALSE)","v":12.6326},"kg/d","Küçük ırk Gebe",{"$f":"2.3+0.018*BW","v":14},{"$f":"(50.239-0.0042*BW) + (2.4734127-0.00013*BW)*ADG*10","v":47.509},{"$f":"1.035+0.01466*BW","v":10.564},{"$f":"IF((-0.0404-0.0005*BW)+(0.073373+0.001015*BW)*ADG*10<0,0,(-0.0404-0.0005*BW)+(0.073373+0.001015*BW)*ADG*10)","v":0},{"$f":"(4.9107+0.03*BW)+(0.13214286+0.001621*BW)*ADG*10","v":24.410699999999999},{"$f":"(205.29+1.2747*BW)+(5.69047619+0.068587*BW)*ADG*10","v":1033.845},{"$f":"(236.8+0.0126*BW)+(29.34-0.04*BW)*ADG*10","v":244.99},{"$f":"DF281/DA281/10","v":7.3846071428571438},{"$f":"DG281/DA281/10","v":1.7499285714285715},{"$f":"DH281+DI281","v":9.1345357142857146},{"$f":"(16.93+0.038*BW)+(2.952-0.0011*BW)*ADG*10","v":41.629999999999995},{"$f":"(10+0.02*BW)+ADG*10","v":23}]
[null,null,null,null,null,null,null,null,null,null,null,null,null,null,null,null,null,null,null,null,null,null,null,null,null,null,null,null,null,null,null,null,null,null,null,null,null,null,null,null,null,null,null,null,null,null,null,null,null,null,null,null,null,null,null,null,null,null,null,null,null,null,null,null,null,null,null,null,null,null,null,null,null,null,null,null,null,null,null,null,null,null,null,null,null,null,null,null,null,null,null,null,null,null,null,null,null,null,null,null,"HeiferTDN",{"$f":"VLOOKUP(Tip,CZ$279:DL$282,3,FALSE)","v":49.2},"%","İri ırk Gebe",{"$f":"(3.4014+0.0163*BW)+(-0.0519481+0.000026*BW)*ADG*10","v":13.9964},{"$f":"(50.71-0.0034*BW)+(2.1-0.00023*BW)*ADG*10","v":48.5},{"$f":"1.535+0.0133*BW","v":10.18},{"$f":"IF((-0.0363-0.0005*BW)+(0.08075325+0.000723*BW)*ADG*10<0,0,(-0.0363-0.0005*BW)+(0.08075325+0.000723*BW)*ADG*10)","v":0},{"$f":"(6.9429+0.0275*BW)+(0.13792208+0.001138*BW)*ADG*10","v":24.817900000000002},{"$f":"(291.73+1.1643*BW)+(6.26103896+0.04761*BW)*ADG*10","v":1048.5250000000001},{"$f":"(325.4+0.0126*BW)+(28.755-0.0325*BW)*ADG*10","v":333.59},{"$f":"DF282/DA282/10","v":7.4913906433082804},{"$f":"DG282/DA282/10","v":2.3833985882083963},{"$f":"DH282+DI282","v":9.8747892315166759},{"$f":"(15.943+0.04*BW)+(3.068831-0.00091*BW)*ADG*10","v":41.942999999999998},{"$f":"(8.8429+0.0254*BW)+(1.10519-0.00049*BW)*ADG*10","v":25.352899999999998}]
[null,null,null,null,null,null,null,null,null,null,null,null,null,null,null,null,null,null,null,null,null,null,null,null,null,null,null,null,null,null,null,null,null,null,null,null,null,null,null,null,null,null,null,null,null,null,null,null,null,null,null,null,null,null,null,null,null,null,null,null,null,null,null,null,null,null,null,null,null,null,null,null,null,null,null,null,null,null,null,null,null,null,null,null,null,null,null,null,null,null,null,null,null,null,null,null,null,null,null,null,"HeiferNEm",{"$f":"VLOOKUP(Tip,CZ$279:DL$282,4,FALSE)","v":11.396190476190464},"Mcal/d"]
[null,null,null,null,null,null,null,null,null,null,null,null,null,null,null,null,null,null,null,null,null,null,null,null,null,null,null,null,null,null,null,null,null,null,null,null,null,null,null,null,null,null,null,null,null,null,null,null,null,null,null,null,null,null,null,null,null,null,null,null,null,null,null,null,null,null,null,null,null,null,null,null,null,null,null,null,null,null,null,null,null,null,null,null,null,null,null,null,null,null,null,null,null,null,null,null,null,null,null,null,"HeiferNEG",{"$f":"VLOOKUP(Tip,CZ$279:DL$282,5,FALSE)","v":0},"Mcal/d"]
[null,null,null,null,null,null,null,null,null,null,null,null,null,null,null,null,null,null,null,null,null,null,null,null,null,null,null,null,null,null,null,null,null,null,null,null,null,null,null,null,null,null,null,null,null,null,null,null,null,null,null,null,null,null,null,null,null,null,null,null,null,null,null,null,null,null,null,null,null,null,null,null,null,null,null,null,null,null,null,null,null,null,null,null,null,null,null,null,null,null,null,null,null,null,null,null,null,null,null,null,"HeiferME",{"$f":"VLOOKUP(Tip,CZ$279:DL$282,6,FALSE)","v":22.457300000000004},"Mcal/d"]
[null,null,null,null,null,null,null,null,null,null,null,null,null,null,null,null,null,null,null,null,null,null,null,null,null,null,null,null,null,null,null,null,null,null,null,null,null,null,null,null,null,null,null,null,null,null,null,null,null,null,null,null,null,null,null,null,null,null,null,null,null,null,null,null,null,null,null,null,null,null,null,null,null,null,null,null,null,null,null,null,null,null,null,null,null,null,null,null,null,null,null,null,null,null,null,null,null,null,null,null,"HeiferRDP",{"$f":"VLOOKUP(Tip,CZ$279:DL$282,7,FALSE)","v":943.83573985399994},"g/d"]
[null,null,null,null,null,null,null,null,null,null,null,null,null,null,null,null,null,null,null,null,null,null,null,null,null,null,null,null,null,null,null,null,null,null,null,null,null,null,null,null,null,null,null,null,null,null,null,null,null,null,null,null,null,null,null,null,null,null,null,null,null,null,null,null,null,null,null,null,null,null,null,null,null,null,null,null,null,null,null,null,null,null,null,null,null,null,null,null,null,null,null,null,null,null,null,null,null,null,null,null,"HeiferRUP",{"$f":"VLOOKUP(Tip,CZ$279:DL$282,8,FALSE)","v":0},"g/d"]
[null,null,null,null,null,null,null,null,null,null,null,null,null,null,null,null,null,null,null,null,null,null,null,null,null,null,null,null,null,null,null,null,null,null,null,null,null,null,null,null,null,null,null,null,null,null,null,null,null,null,null,null,null,null,null,null,null,null,null,null,null,null,null,null,null,null,null,null,null,null,null,null,null,null,null,null,null,null,null,null,null,null,null,null,null,null,null,null,null,null,null,null,null,null,null,null,null,null,null,null,"HeiferRDPo",{"$f":"VLOOKUP(Tip,CZ$279:DL$282,9,FALSE)","v":7.4714289999999988},"%"]
[null,null,null,null,null,null,null,null,null,null,null,null,null,null,null,null,null,null,null,null,null,null,null,null,null,null,null,null,null,null,null,null,null,null,null,null,null,null,null,null,null,null,null,null,null,null,null,null,null,null,null,null,null,null,null,null,null,null,null,null,null,null,null,null,null,null,null,null,null,null,null,null,null,null,null,null,null,null,null,null,null,null,null,null,null,null,null,null,null,null,null,null,null,null,null,null,null,null,null,null,"HeiferRUPo",{"$f":"VLOOKUP(Tip,CZ$279:DL$282,10,FALSE)","v":0},"%"]
[null,null,null,null,null,null,null,null,null,null,null,null,null,null,null,null,null,null,null,null,null,null,null,null,null,null,null,null,null,null,null,null,null,null,null,null,null,null,null,null,null,null,null,null,null,null,null,null,null,null,null,null,null,null,null,null,null,null,null,null,null,null,null,null,null,null,null,null,null,null,null,null,null,null,null,null,null,null,null,null,null,null,null,null,null,null,null,null,null,null,null,null,null,null,null,null,null,null,null,null,"HeiferCPo",{"$f":"VLOOKUP(Tip,CZ$279:DL$282,11,FALSE)","v":7.4714289999999988},"%"]
[null,null,null,null,null,null,null,null,null,null,null,null,null,null,null,null,null,null,null,null,null,null,null,null,null,null,null,null,null,null,null,null,null,null,null,null,null,null,null,null,null,null,null,null,null,null,null,null,null,null,null,null,null,null,null,null,null,null,null,null,null,null,null,null,null,null,null,null,null,null,null,null,null,null,null,null,null,null,null,null,null,null,null,null,null,null,null,null,null,null,null,null,null,null,null,null,null,null,null,null,"HeiferCa",{"$f":"VLOOKUP(Tip,CZ$279:DL$282,12,FALSE)","v":27.1709},"g/d"]
[null,null,null,null,null,null,null,null,null,null,null,null,null,null,null,null,null,null,null,null,null,null,null,null,null,null,null,null,null,null,null,null,null,null,null,null,null,null,null,null,null,null,null,null,null,null,null,null,null,null,null,null,null,null,null,null,null,null,null,null,null,null,null,null,null,null,null,null,null,null,null,null,null,null,null,null,null,null,null,null,null,null,null,null,null,null,null,null,null,null,null,null,null,null,null,null,null,null,null,null,"HeiferP",{"$f":"VLOOKUP(Tip,CZ$279:DL$282,13,FALSE)","v":17.6662},"g/d"]
[]
[]
[null,null,null,null,null,null,null,null,null,null,null,null,null,null,null,null,null,null,null,null,null,null,null,null,null,null,null,null,null,null,null,null,null,null,null,null,null,null,null,null,null,null,null,null,null,null,null,null,null,null,null,null,null,null,null,null,null,null,null,null,null,null,null,null,null,null,null,null,null,null,null,null,null,null,null,null,null,null,null,null,null,null,null,null,null,null,null,null,null,null,null,null,null,null,null,null,null,null,null,null,"Sağmal İnek İhtiyaçları"]
[null,null,null,null,null,null,null,null,null,null,null,null,null,null,null,null,null,null,null,null,null,null,null,null,null,null,null,null,null,null,null,null,null,null,null,null,null,null,null,null,null,null,null,null,null,null,null,null,null,null,null,null,null,null,null,null,null,null,null,null,null,null,null,null,null,null,null,null,null,null,null,null,null,null,null,null,null,null,null,null,null,null,null,null,null,null,null,null,null,null,null,null,null,null,null,null,null,null,null,null,"Laktasyon Durumu",{"$f":"IF(DaysInMilk<60,\"erken \",\"orta \")","v":"orta "},null,null,"DMI","NEL","RDP","RUP","RDP%","RUP%","CP%"]
[null,null,null,null,null,null,null,null,null,null,null,null,null,null,null,null,null,null,null,null,null,null,null,null,null,null,null,null,null,null,null,null,null,null,null,null,null,null,null,null,null,null,null,null,null,null,null,null,null,null,null,null,null,null,null,null,null,null,null,null,null,null,null,null,null,null,null,null,null,null,null,null,null,null,null,null,null,null,null,null,null,null,null,null,null,null,null,null,null,null,null,null,null,null,null,null,null,null,null,null,"TDN oranı",{"$f":"IF(CX296=\"erken \",\"\",IF(TDNConc<68,\"68\",\"78\"))","v":"68"},null,null,"kg/d","Mcal/d","g/d","g/d","%","%","%"]
[null,null,null,null,null,null,null,null,null,null,null,null,null,null,null,null,null,null,null,null,null,null,null,null,null,null,null,null,null,null,null,null,null,null,null,null,null,null,null,null,null,null,null,null,null,null,null,null,null,null,null,null,null,null,null,null,null,null,null,null,null,null,null,null,null,null,null,null,null,null,null,null,null,null,null,null,null,null,null,null,null,null,null,null,null,null,null,null,null,null,null,null,null,null,null,null,null,null,null,null,"Tip",{"$f":"CONCATENATE(CX277,CX296,CX297)","v":"İri ırk orta 68"},null,"Küçük ırk erken ",{"$f":"(5.9695+0.0872*MilkProd)+(-0.0167+0.0367*MilkProd)*MilkFat","v":11.48246},{"$f":"(7.9+0.74*MilkProd)+(-0.0135+0.0572*MilkProd)*(MilkTrueProtein-3)+(-0.0102+0.0918*MilkProd)*(MilkFat-4)","v":25.856209999999997},{"$f":"(710+23.333*MilkProd)+(50/15*MilkProd)*(MilkFat-4)","v":1268.3249999999998},{"$f":"(27.667*MilkProd+0.3778*MilkProd^2)+(17.333*MilkProd)*(MilkTrueProtein-3)+(0.0222*MilkProd^2-1.6667*MilkProd)*(MilkFat-4)","v":979.47025000000008},{"$f":"DC298/DA298/10","v":11.04576022907983},{"$f":"DD298/DA298/10","v":8.5301429310443933},{"$f":"DE298+DF298","v":19.575903160124223}]
[null,null,null,null,null,null,null,null,null,null,null,null,null,null,null,null,null,null,null,null,null,null,null,null,null,null,null,null,null,null,null,null,null,null,null,null,null,null,null,null,null,null,null,null,null,null,null,null,null,null,null,null,null,null,null,null,null,null,null,null,null,null,null,null,null,null,null,null,null,null,null,null,null,null,null,null,null,null,null,null,null,null,null,null,null,null,null,null,null,null,null,null,null,null,null,null,null,null,null,null,null,null,null,"Küçük ırk orta 78",{"$f":"(9+0.141*MilkProd)+(-0.02+0.053*MilkProd)*MilkFat","v":17.353499999999997},{"$f":"(7.9+0.74*MilkProd)+(-0.0135+0.0572*MilkProd)*(MilkTrueProtein-3)+(-0.0102+0.0918*MilkProd)*(MilkFat-4)","v":25.856209999999997},{"$f":"(1120+27.991*MilkProd)+(30+3*MilkProd)*(MilkFat-4)","v":1788.2750000000001},{"$f":"(-310+42.5*MilkProd+0.05*MilkProd^2)+(10+17*MilkProd)*(MilkTrueProtein-3)-(30)*(MilkFat-4)","v":836.25},10.304981703979028,4.8189126112887894,15.123894315267817]
[null,null,null,null,null,null,null,null,null,null,null,null,null,null,null,null,null,null,null,null,null,null,null,null,null,null,null,null,null,null,null,null,null,null,null,null,null,null,null,null,null,null,null,null,null,null,null,null,null,null,null,null,null,null,null,null,null,null,null,null,null,null,null,null,null,null,null,null,null,null,null,null,null,null,null,null,null,null,null,null,null,null,null,null,null,null,null,null,null,null,null,null,null,null,null,null,null,null,null,null,"CowDMI",{"$f":"VLOOKUP(inekTip,CZ$298:DG$303,2,FALSE)","v":20.55011},"kg/d","Küçük ırk orta 68",{"$f":"(9+0.141*MilkProd)+(-0.02+0.053*MilkProd)*MilkFat","v":17.353499999999997},{"$f":"(7.9+0.74*MilkProd)+(-0.0135+0.0572*MilkProd)*(MilkTrueProtein-3)+(-0.0102+0.0918*MilkProd)*(MilkFat-4)","v":25.856209999999997},{"$f":"(920+32*MilkProd)+(5*MilkProd)*(MilkFat-4)","v":1682.5},{"$f":"(-220+45*MilkProd)+(30+0.05*MilkProd^2+15.5*MilkProd)*(MilkTrueProtein-3)+(20+0.05*MilkProd^2-3.5*MilkProd)*(MilkFat-4)","v":960.75},9.6954504854928416,5.5363471345838029,15.231797620076645]
[null,null,null,null,null,null,null,null,null,null,null,null,null,null,null,null,null,null,null,null,null,null,null,null,null,null,null,null,null,null,null,null,null,null,null,null,null,null,null,null,null,null,null,null,null,null,null,null,null,null,null,null,null,null,null,null,null,null,null,null,null,null,null,null,null,null,null,null,null,null,null,null,null,null,null,null,null,null,null,null,null,null,null,null,null,null,null,null,null,null,null,null,null,null,null,null,null,null,null,null,"CowNEL",{"$f":"IF(VLOOKUP(inekTip,CZ$298:DG$303,3,FALSE)<0,  0,  VLOOKUP(inekTip,CZ$298:DG$303,3,FALSE))","v":28.587130000000002},"Mcal/d","İri ırk erken ",{"$f":"(8+0.1112*MilkProd)+(0.0029+0.0354*MilkProd)*MilkFat","v":14.06523},{"$f":"(10.705+0.6143*MilkProd)+((0.028+0.0927*MilkProd)*(MilkFat-3))+((0.0038+0.0587*MilkProd)*(MilkTrueProtein-2.5))","v":28.587130000000002},{"$f":"(940+21.827*MilkProd-0.0318*MilkProd^2)+(16.943+2.9914*MilkProd)*(MilkFat-3)","v":1530.0096000000001},{"$f":"(-231.67+36.5*MilkProd)+(1.6667+17.5*MilkProd)*(MilkTrueProtein-2.5)-(30)*(MilkFat-3)","v":923.3300200000001},10.877956492712881,6.5646279513381582,17.44258444405104]
[null,null,null,null,null,null,null,null,null,null,null,null,null,null,null,null,null,null,null,null,null,null,null,null,null,null,null,null,null,null,null,null,null,null,null,null,null,null,null,null,null,null,null,null,null,null,null,null,null,null,null,null,null,null,null,null,null,null,null,null,null,null,null,null,null,null,null,null,null,null,null,null,null,null,null,null,null,null,null,null,null,null,null,null,null,null,null,null,null,null,null,null,null,null,null,null,null,null,null,null,"CowRDP",{"$f":"VLOOKUP(inekTip,CZ$298:DG$303,4,FALSE)","v":2024},"g/d","İri ırk orta 78",{"$f":"(12.01+0.1425*MilkProd)+(-0.0022+0.0539*MilkProd)*MilkFat","v":20.55011},{"$f":"(10.705+0.6143*MilkProd)+((0.028+0.0927*MilkProd)*(MilkFat-3))+((0.0038+0.0587*MilkProd)*(MilkTrueProtein-2.5))","v":28.587130000000002},{"$f":"(1533+24.007*MilkProd)+(45+3*MilkProd)*(MilkFat-3)","v":2217.1750000000002},{"$f":"(-494.17+37.5*MilkProd)+(-23.333+18*MilkProd)*(MilkTrueProtein-2.5)-(40)*(MilkFat-3)","v":671.3302000000001},10.78911499743797,3.2667961388041236,14.055911136242093]
[null,null,null,null,null,null,null,null,null,null,null,null,null,null,null,null,null,null,null,null,null,null,null,null,null,null,null,null,null,null,null,null,null,null,null,null,null,null,null,null,null,null,null,null,null,null,null,null,null,null,null,null,null,null,null,null,null,null,null,null,null,null,null,null,null,null,null,null,null,null,null,null,null,null,null,null,null,null,null,null,null,null,null,null,null,null,null,null,null,null,null,null,null,null,null,null,null,null,null,null,"CowRUP",{"$f":"IF(VLOOKUP(inekTip,CZ$298:DG$303,5,FALSE)<0,  0,  VLOOKUP(inekTip,CZ$298:DG$303,5,FALSE))","v":860.32999999999993},"g/d","İri ırk orta 68",{"$f":"(12.01+0.1425*MilkProd)+(-0.0022+0.0539*MilkProd)*MilkFat","v":20.55011},{"$f":"(10.705+0.6143*MilkProd)+((0.028+0.0927*MilkProd)*(MilkFat-3))+((0.0038+0.0587*MilkProd)*(MilkTrueProtein-2.5))","v":28.587130000000002},{"$f":"(1277.5+26.5*MilkProd)+(20+4*MilkProd)*(MilkFat-3)","v":2024},{"$f":"(-319.17+37.5*MilkProd)+(18*MilkProd)*(MilkTrueProtein-2.5)+(-15-MilkProd)*(MilkFat-3)","v":860.32999999999993},9.8490956982712028,4.186498271785406,14.03559397005661]
[null,null,null,null,null,null,null,null,null,null,null,null,null,null,null,null,null,null,null,null,null,null,null,null,null,null,null,null,null,null,null,null,null,null,null,null,null,null,null,null,null,null,null,null,null,null,null,null,null,null,null,null,null,null,null,null,null,null,null,null,null,null,null,null,null,null,null,null,null,null,null,null,null,null,null,null,null,null,null,null,null,null,null,null,null,null,null,null,null,null,null,null,null,null,null,null,null,null,null,null,"CowRDPo",{"$f":"VLOOKUP(inekTip,CZ$298:DG$303,6,FALSE)","v":9.8490956982712028},"%"]
[null,null,null,null,null,null,null,null,null,null,null,null,null,null,null,null,null,null,null,null,null,null,null,null,null,null,null,null,null,null,null,null,null,null,null,null,null,null,null,null,null,null,null,null,null,null,null,null,null,null,null,null,null,null,null,null,null,null,null,null,null,null,null,null,null,null,null,null,null,null,null,null,null,null,null,null,null,null,null,null,null,null,null,null,null,null,null,null,null,null,null,null,null,null,null,null,null,null,null,null,"CowRUPo",{"$f":"IF(VLOOKUP(inekTip,CZ$298:DG$303,7,FALSE)<0,  0,  VLOOKUP(inekTip,CZ$298:DG$303,7,FALSE))","v":4.186498271785406},"%"]
[null,null,null,null,null,null,null,null,null,null,null,null,null,null,null,null,null,null,null,null,null,null,null,null,null,null,null,null,null,null,null,null,null,null,null,null,null,null,null,null,null,null,null,null,null,null,null,null,null,null,null,null,null,null,null,null,null,null,null,null,null,null,null,null,null,null,null,null,null,null,null,null,null,null,null,null,null,null,null,null,null,null,null,null,null,null,null,null,null,null,null,null,null,null,null,null,null,null,null,null,"CowCPo",{"$f":"VLOOKUP(inekTip,CZ$298:DG$303,8,FALSE)","v":14.03559397005661},"%"]
[]
[]
[]
[]
[]
[]
[]
[]
[]
[]
[]
[]
[]
[]
[]
[]
[]
[]
[]
[null,null,null,null,null,null,null,null,null,null,null,null,null,null,null,"Protein Kaynakları"]
[null,null,null,null,null,null,null,null,null,null,null,null,null,null,null,"Aminoplus",null,82.11,"Conc",0,null,null,2.2000000000000002,null,null,null,88,51.7,null,null,null,1.4,null,11.8,null,7.44,null,null,"Conc",null,null,null,23.2,70.400000000000006,6.4,10.4,26.6,35.700000000000003,75,8.7200000000000006,2.52,2.86,6.5,3.16,1.45,1.62,4.57,2.78,1.41,5.04,39.01,8.1,3.72,15,0.38,0.6,0.72,0.7,0.39,0.16,1.21,0.9,0.04,0.9,null,0.9,0.32,1,null,1,22,0.04,null,0.85,319,0.1,30,0.01,null,1,77,0.15,2.2999999999999998,0]
[null,null,null,null,null,null,null,null,null,null,null,null,null,null,null,"Aspir Küspesi,Solvent","5-04-110",52.5,"Conc",0,2.6,1.96,1.19,1.1100000000000001,1.27,0.7,93.5,29,1,2,1.2,2.4,1,53.8,0.3,39.1,14.5,4.7,"Conc","Plant Protein",null,5,42,52.8,5.2,29.2,11.8,15.9,90,8.18,2.6,4.09,6.41,3.56,2.29,1.77,4.62,3.72,1.19,4.95,41.61,8.56,5.5,8.5,0.48,0.6,1,0.7,0.63,0.16,1.5,0.9,0.04,0.9,0.12,0.9,0.39,1,null,1,32,0.04,null,0.85,298,0.1,45,0.01,0.5,1,88,0.15,2.7,0]
[null,null,null,null,null,null,null,null,null,null,null,null,null,null,null,"Ayçiçeği  Küspesi, Solvent, %25 HP","5-30-032",59.9,"Conc",0,2.9,2.2400000000000002,1.38,1.3,1.49,0.92,92.2,28.4,1,5.5,1.4,1.4,1,40.299999999999997,0.27,30,9.5,7.7,"Conc","Plant Protein",0,5,36,55.5,8.5,20,18.399999999999999,23,90,8.18,2.6,4.09,6.41,3.56,2.29,1.77,4.62,3.72,1.19,4.95,41.61,8.56,5.5,11,0.48,0.6,1,0.7,0.63,0.16,1.5,0.9,0.04,0.9,0.12,0.9,0.39,1,0,1,32,0.04,0,0.85,298,0.1,45,0.01,0.5,1,88,0.15,2.7,0,0,0,0]
[null,null,null,null,null,null,null,null,null,null,null,null,null,null,null,"Ayçiçeği  Küspesi, Solvent, %28 HP",null,61,"Conc",0,3.1,2.2799999999999998,1.5,1.35,1.58,1.1000000000000001,92.2,31,1,5.5,1.5,1.5,1,38,0.27,28,9,7.5,"Conc","Plant Protein",0,5,32,56,12,15,18.399999999999999,23,91,8.18,2.6,4.09,6.41,3.56,2.29,1.77,4.62,3.72,1.19,4.95,41.61,8.56,5.5,11,0.48,0.6,1,0.7,0.63,0.16,1.5,0.9,0.04,0.9,0.12,0.9,0.39,1,0,1,32,0.04,0,0.85,298,0.1,45,0.01,0.5,1,88,0.15,2.7,0,0,0,0]
[null,null,null,null,null,null,null,null,null,null,null,null,null,null,null,"Ayçiçeği  Küspesi, Solvent, %32 HP",null,63,"Conc",0,3.2,2.4,1.6,1.4,1.65,1.1299999999999999,92.2,35.6,1,5,1.6,1.5,1,36,0.27,26,8.5,7.3,"Conc","Plant Protein",0,5,28,57,15,10,18.399999999999999,23,91,8.18,2.6,4.09,6.41,3.56,2.29,1.77,4.62,3.72,1.19,4.95,41.61,8.56,5.5,11,0.48,0.6,1,0.7,0.63,0.16,1.5,0.9,0.04,0.9,0.12,0.9,0.39,1,0,1,32,0.04,0,0.85,298,0.1,45,0.01,0.5,1,88,0.15,2.7,0,0,0,0]
[null,null,null,null,null,null,null,null,null,null,null,null,null,null,null,"Ayçiçeği  Küspesi, Solvent, %34 HP",null,63,"Conc",0,3.2,2.4,1.6,1.4,1.65,1.1299999999999999,92.2,37.6,1,5,1.6,1.5,1,34,0.27,24,8,7.3,"Conc","Plant Protein",0,5,28,57,15,10,18.399999999999999,23,91,8.18,2.6,4.09,6.41,3.56,2.29,1.77,4.62,3.72,1.19,6.41,41.61,8.56,5.5,12,0.48,0.6,1,0.7,0.63,0.16,1.5,0.9,0.04,0.9,0.12,0.9,0.39,1,0,1,32,0.04,0,0.85,298,0.1,45,0.01,0.5,1,88,0.15,2.7,0,0,0,0]
[null,null,null,null,null,null,null,null,null,null,null,null,null,null,null,"Ayçiçeği  Küspesi, Solvent, %36 HP",null,65,"Conc",0,3.3,2.6,1.7,1.5,1.7,1.1499999999999999,92.2,40,1,4.5,1.4,1.5,1,32,0.27,22,8,7.2,"Conc","Plant Protein",0,5,28,57,15,10,18.399999999999999,23,91,8.18,2.6,4.09,6.41,3.56,2.29,1.77,4.62,3.72,1.19,4.95,41.61,8.56,5.5,12,0.48,0.6,1,0.7,0.63,0.16,1.5,0.9,0.04,0.9,0.12,0.9,0.39,1,0,1,32,0.04,0,0.85,298,0.1,45,0.01,0.5,1,88,0.15,2.7,0,0,0,0]
[null,null,null,null,null,null,null,null,null,null,null,null,null,null,null,"Ayçiçeği Tohumu","5-08-530",122.3,"Conc",0,5.37,4.71,3.38,3.22,3.13,2.27,91.8,19.2,1,2.9,1.9,41.9,1,24,0.27,16.7,6,5.0999999999999996,"Conc","Plant Protein",0,0,66.7,31.7,1.6,17,18.399999999999999,23,80,8.18,2.6,4.09,6.41,3.56,2.29,1.77,4.62,3.72,1.19,4.95,41.61,8.56,5.5,45,0.71,0.6,0.51,0.7,0.34,0.16,1.06,0.9,0.01,0.9,0,0.9,0.21,1,0,1,20,0.04,0,0.85,144,0.1,35,0.01,0,1,53,0.15,1.8,0,0,0,0]
[null,null,null,null,null,null,null,null,null,null,null,null,null,null,null,"EcoMass",null,82,"Conc",0,3.95,3.36,1.96,1.85,null,2.0699999999999998,94,55.3,0.92,0,0,1.17,1,19.63,0.27,6.24,1.35,9.57,"Conc","Plant Protein",0,1,null,null,null,null,10.26,10.26,80,null,null,null,null,null,null,null,null,null,null,null,null,null,null,15,null,0.6,0.5,0.7,0.31,0.16,1.07,0.9,0.72,0.9,null,null,1.83,1]
[null,null,null,null,null,null,null,null,null,null,null,null,null,null,null,"Kanola Küspesi, Pres","5-03-870",69.900000000000006,"Conc",0,3.44,2.75,1.76,1.66,1.88,1.25,90.3,37.799999999999997,1,6.3,2.4,5.4,1,29.8,0.16,20.5,9.5,7.4,"Conc","Plant Protein",0,0,23.2,70.400000000000006,6.4,10.4,26.6,35.700000000000003,75,7.01,2.8,3.83,6.77,5.62,1.87,2.54,4.0599999999999996,4.42,1.46,4.7300000000000004,42.56,13.2,4.3899999999999997,12,0.75,0.6,1.1000000000000001,0.7,0.53,0.16,1.41,0.9,7.0000000000000007E-2,0.9,0.04,0.9,0.73,1,0,1,5,0.04,0,0.85,296,0.1,62,0.01,1.0900000000000001,1,61,0.15,2.7,0,0,0,0]
[null,null,null,null,null,null,null,null,null,null,null,null,null,null,null,"Kanola Tohumu","5-08-109",127.4,"Conc",0,5.6,4.92,3.52,3.36,3.28,2.38,89.9,20.5,1,3.4,1.3,40.5,1,17.8,0.33,11.6,2.7,4.5999999999999996,"Conc","Plant Protein",0,0,35.200000000000003,59.5,5.3,20.100000000000001,15.5,21.3,50,7.01,2.8,3.83,6.77,5.62,1.87,2.54,4.0599999999999996,4.42,1.46,4.7300000000000004,42.56,13.2,4.3899999999999997,17,0.44,0.6,0.68,0.7,0.21,0.16,0.91,0.9,0.03,0.9,0,0.9,0.42,1,0,1,12,0.04,0,0.85,253,0.1,48,0.01,0,1,88,0.15,0,0,0,0,0]
[null,null,null,null,null,null,null,null,null,null,null,null,null,null,null,"Keten Tohumu Küspesi,Solvent","5-30-288",65.400000000000006,"Conc",0,3.19,2.5099999999999998,1.57,1.48,1.48,1.1000000000000001,90.3,32.6,1,7.9,1.1000000000000001,1.7,1,36.1,0.23,22.1,8.3000000000000007,6.5,"Conc","Plant Protein",0,0,17.600000000000001,69.900000000000006,12.5,5.4,43,53,85,8.84,2.02,4.6399999999999997,6.13,3.69,1.76,1.76,4.67,3.75,1.55,5.18,42.23,8.74,4.17,15,0.4,0.6,0.83,0.7,0.55000000000000004,0.16,1.22,0.9,0.09,0.9,0,0.9,0.37,1,0,1,19,0.04,0,0.85,369,0.1,39,0.01,1.05,1,69,0.15,2,0,0,0,0]
[null,null,null,null,null,null,null,null,null,null,null,null,null,null,null,"Mısır Gluteni,44","5-28-242",84.4,"Conc",0,3.65,3.04,1.95,1.82,2.06,1.4,86.4,46.8,1,3.6,3,2.5,1,11.1,0.27,8.1999999999999993,1.5,3.3,"Conc","Plant Protein",0,5,3.9,90.9,5.2,2.2999999999999998,61.92,72.400000000000006,92,3.2,2.13,4.1100000000000003,16.79,1.69,2.37,1.8,6.35,3.38,0.53,16.79,45.9,3.74,5.24,20,0.06,0.6,0.6,0.7,0.14000000000000001,0.16,0.46,0.9,0.05,0.9,0.11,0.9,0.86,1,0,1,4,0.04,0,0.85,138,0.1,15,0.01,0.34,1,49,0.15,1.1000000000000001,0,0,0,0]
[null,null,null,null,null,null,null,null,null,null,null,null,null,null,null,"Mısır Gluteni,63","5-28-242",84.4,"Conc",0,4.43,3.66,2.38,2.25,2.54,1.79,86.4,65,1,3.6,3,2.5,1,11.1,0.27,8.1999999999999993,1.5,3.3,"Conc","Plant Protein",0,5,3.9,90.9,5.2,2.2999999999999998,63.8,74.599999999999994,92,3.2,2.13,4.1100000000000003,16.79,1.69,2.37,1.8,6.35,3.38,0.53,16.79,45.9,3.74,5.24,25,0.06,0.6,0.6,0.7,0.14000000000000001,0.16,0.46,0.9,0.05,0.9,0.11,0.9,0.86,1,0,1,4,0.04,0,0.85,138,0.1,15,0.01,0.34,1,49,0.15,1.1000000000000001,0,0,0,0]
[null,null,null,null,null,null,null,null,null,null,null,null,null,null,null,"Pamuk Tohumu Küspesi, Pres, %25 HP",null,60,"Conc",0,2.9,2.2999999999999998,1.4,1.3,1.5,0.9,90.5,27.6,1,5.5,1.4,5,1,40,0.27,30,9.5,7.5,"Conc","Plant Protein",0,5,36,56,8,20,42,48,90,8.5,2.65,3.8,6.3,3.7,1.5,1.6,4.8,3.1,1.2,4,41.15,8.6999999999999993,3.5,12,0.2,0.6,1,0.7,0.62,0.16,1.5,0.9,0.05,0.9,0.08,0.9,0.37,1,0,1,10,0.04,0,0.85,110,0.1,21,0.01,0.22,1,54,0.15,2.4,0,0,0,0]
[null,null,null,null,null,null,null,null,null,null,null,null,null,null,null,"Pamuk Tohumu Küspesi, Pres, %28 HP",null,61,"Conc",0,3.1,2.4,1.5,1.35,1.55,1,90.5,30.9,1,5,1.5,5,1,38,0.27,28,9,7.3,"Conc","Plant Protein",0,5,32,56,12,15,42,48,91,9,2.7,3.6,6.2,3.8,1.5,1.6,5,3.1,1.2,4.0999999999999996,41.8,8.9,3.6,13,0.2,0.6,1,0.7,0.61,0.16,1.55,0.9,0.06,0.9,7.0000000000000007E-2,0.9,0.38,1,0,1,10,0.04,0,0.85,120,0.1,22,0.01,0.24,1,58,0.15,2.6,0,0,0,0]
[null,null,null,null,null,null,null,null,null,null,null,null,null,null,null,"Pamuk Tohumu Küspesi, Pres, %41 HP",null,80,"Conc",0,3.5,2.9,1.8,1.7,1.9,1.23,90.5,44.9,1,null,null,5,1,31,0.28000000000000003,18,7.6,6.7,"Conc","Plant Protein",0,2,null,null,null,15.7,50,60,90,11.52,3.11,3.2,5.88,4.3499999999999996,1.71,1.76,5.3,3.46,1.27,4.7,44.51,9.77,3.84,15,0.17,0.6,0.6,0.7,0.37,0.16,1.1299999999999999,0.9,0.02,0.9,0.06,0.9,0.23,1,0,1,7,0.04,0,0.85,94,0.1,18,0.01,0.14000000000000001,1,37,0.15,1.3,0,0,0,0]
[null,null,null,null,null,null,null,null,null,null,null,null,null,null,null,"Pamuk Tohumu Küspesi, Solvent, %32 HP",null,63,"Conc",0,3.2,2.5,1.6,1.4,1.6,1.1000000000000001,90.5,35.4,1,4.5,1.6,5,1,36,0.27,26,8.5,7.1,"Conc","Plant Protein",0,5,28,57,15,10,40,47.9,91,9.5,2.75,3.3,6.1,3.9,1.5,1.6,5.0999999999999996,3.2,1.2,4.0999999999999996,42,9.1,3.6,14.5,0.2,0.6,1,0.7,0.61,0.16,1.55,0.9,0.06,0.9,7.0000000000000007E-2,0.9,0.39,1,0,1,10,0.04,0,0.85,130,0.1,23,0.01,0.26,1,62,0.15,2.8,0,0,0,0]
[null,null,null,null,null,null,null,null,null,null,null,null,null,null,null,"Pamuk Tohumu Küspesi, Solvent, %36 HP",null,65,"Conc",0,3.3,2.6,1.65,1.5,1.7,1.1499999999999999,90.5,39.799999999999997,1,4,1.7,5,1,32,0.27,22,8,6.9,"Conc","Plant Protein",0,5,28,57,15,10,40,47.9,91,9.5,2.75,3.3,6.1,3.9,1.5,1.6,5.0999999999999996,3.2,1.2,4.0999999999999996,42,9.1,3.6,14.5,0.2,0.6,1,0.7,0.61,0.16,1.55,0.9,0.06,0.9,7.0000000000000007E-2,0.9,0.39,1,0,1,10,0.04,0,0.85,130,0.1,23,0.01,0.26,1,62,0.15,2.8,0,0,0,0]
[null,null,null,null,null,null,null,null,null,null,null,null,null,null,null,"Pamuk Tohumu Küspesi, Solvent, %41 HP","5-01-630",66.400000000000006,"Conc",0,3.4,2.7,1.71,1.61,1.84,1.23,90.5,44.9,1,3.3,1.8,1.9,1,30.8,0.28000000000000003,19.899999999999999,7.6,6.7,"Conc","Plant Protein",0,5,25.6,55.5,18.899999999999999,6.8,40,47.9,92,11.05,2.82,3.09,5.89,4.13,1.59,1.68,5.31,3.23,1.21,4.24,42.55,9.7100000000000009,3.74,15,0.2,0.6,1.1499999999999999,0.7,0.61,0.16,1.64,0.9,7.0000000000000007E-2,0.9,7.0000000000000007E-2,0.9,0.4,1,0,1,14,0.04,0,0.85,149,0.1,24,0.01,0.3,1,67,0.15,3,0,0,0,0]
[null,null,null,null,null,null,null,null,null,null,null,null,null,null,null,"Pamuk Tohumu, Lintli","5-01-614",77.2,"Conc",0,3.55,2.91,1.94,1.83,1.96,1.31,90.1,23.5,1,2.4,1.9,19.3,1,50.3,0.3,40.1,12.9,4.2,"Conc","Plant Protein",0,0,45.4,46.7,7.9,15.7,17.7,22.9,80,11.52,3.11,3.2,5.88,4.3499999999999996,1.71,1.76,5.3,3.46,1.27,4.7,44.51,9.77,3.84,80,0.17,0.6,0.6,0.7,0.37,0.16,1.1299999999999999,0.9,0.02,0.9,0.06,0.9,0.23,1,0,1,7,0.04,0,0.85,94,0.1,18,0.01,0.14000000000000001,1,37,0.15,1.3,0,0,0,0]
[null,null,null,null,null,null,null,null,null,null,null,null,null,null,null,"Peynir Altı Suyu, Sığır","4-08-134",80.3,"Animal",0,3.63,2.92,1.86,1.76,1.96,1.41,20.8,14.6,1,0,0,0.7,1,0,0,0,0,9.8000000000000007,"Conc","Animal Protein",0,2,90,10,0,5,4.5999999999999996,6,95,2.09,1.89,5.12,8.9499999999999993,7.42,1.41,2.04,2.94,5.94,1.48,4.92,42.16,17.600000000000001,3.34,10,1.37,0.6,1.04,0.7,0.22,0.16,3.32,0.9,1.4,0.9,2.41,0.9,1.1499999999999999,1,0,1,2,0.04,0,0.85,131,0.1,4,0.01,0.06,1,16,0.15,1.3,0,0,0,0]
[null,null,null,null,null,null,null,null,null,null,null,null,null,null,null,"Soya Fasulyesi","5-04-610",101,"Conc",0,4.7699999999999996,4.05,2.75,2.62,2.76,1.97,90,39.200000000000003,1,2.2999999999999998,0.6,19.2,1,19.5,0.51,13.1,1.2,5.9,"Conc","Plant Protein",0,2,27.8,70.2,2,10.9,21.5,30.4,85,7.52,2.76,4.42,7.41,5.98,1.47,1.46,4.99,3.96,1.3,4.7,44.51,13.44,3.3,40,0.32,0.6,0.6,0.7,0.25,0.16,1.99,0.9,0.01,0.9,0.04,0.9,0.31,1,0,1,13,0.04,0,0.85,148,0.1,29,0.01,0.28000000000000003,1,49,0.15,3.8,0,0,0,0]
[null,null,null,null,null,null,null,null,null,null,null,null,null,null,null,"Soya Küspesi, Solvent, %44",null,78,"Conc",0,3.8,3,1.9,1.8,2,1.3,89.1,49,1,0.7,0.4,1.6,1,20,0.59,15,1.2,6.6,"Conc","Plant Protein",0,5,22.5,76.8,0.7,9.4,24.3,34.6,93,7.38,2.77,4.5599999999999996,7.81,6.28,1.45,1.52,5.26,3.98,1.27,7.81,45.43,13.82,3.19,17,0.4,0.6,0.71,0.7,0.31,0.16,2.2200000000000002,0.9,0.04,0.9,0.13,0.9,0.46,1,0,1,22,0.04,0,0.85,185,0.1,35,0.01,0.21,1,57,0.15,0.1,0,0,0,0]
[null,null,null,null,null,null,null,null,null,null,null,null,null,null,null,"Soya Küspesi, Solvent, %46",null,78,"Conc",0,3.8,3,1.9,1.8,2,1.3,89.1,49,1,0.7,0.4,1.6,1,20,0.59,15,1.2,6.6,"Conc","Plant Protein",0,5,22.5,76.8,0.7,9.4,24.3,34.6,93,7.38,2.77,4.5599999999999996,7.81,6.28,1.45,1.52,5.26,3.98,1.27,7.81,45.43,13.82,3.19,18,0.4,0.6,0.71,0.7,0.31,0.16,2.2200000000000002,0.9,0.04,0.9,0.13,0.9,0.46,1,0,1,22,0.04,0,0.85,185,0.1,35,0.01,0.21,1,57,0.15,0.1,0,0,0,0]
[null,null,null,null,null,null,null,null,null,null,null,null,null,null,null,"Soya Küspesi, Solvent, %48","5-20-637",80,"Conc",0,4.05,3.31,2.13,2.02,2.29,1.59,89.1,53.8,1,0.7,0.4,1.6,1,14.9,0.59,10,0.7,6.6,"Conc","Plant Protein",0,5,15,84.4,0.6,7.5,30.8,42.6,93,7.32,2.77,4.5599999999999996,7.81,6.29,1.44,1.5,5.26,3.96,1.26,7.81,45.3,13.89,3.18,19,0.35,0.6,0.7,0.7,0.28999999999999998,0.16,2.41,0.9,0.03,0.9,0.13,0.9,0.39,1,0,1,16,0.04,0,0.85,206,0.1,40,0.01,0.13,1,58,0.15,5.9,0,0,0,0]
[null,null,null,null,null,null,null,null,null,null,null,null,null,null,null,"Soya Küspesi, Solvent, %51","5-20-638",81.400000000000006,"Conc",0,4.16,3.41,2.21,2.09,2.37,1.66,89.5,57,1,0.7,0.4,1.1000000000000001,1,9.8000000000000007,0.56000000000000005,6.2,0.5,6.4,"Conc","Plant Protein",0,5,15,84.4,0.6,7.5,30.8,42.6,93,7.32,2.77,4.5599999999999996,7.81,6.29,1.44,1.5,5.26,3.96,1.26,7.81,45.3,13.89,3.18,20,0.35,0.6,0.7,0.7,0.28999999999999998,0.16,2.41,0.9,0.03,0.9,0.13,0.9,0.39,1,0,1,16,0.04,0,0.85,206,0.1,40,0.01,0.13,1,58,0.15,5.9,0,0,0,0]
[null,null,null,null,null,null,null,null,null,null,null,null,null,null,null,"Soya Küspesi,Ekspeller, %45 HP","5-12-820",88.5,"Conc",0,4.3499999999999996,3.61,2.38,2.25,2.4900000000000002,1.76,89.6,50,1,9.6,0.4,8.1,1,21.7,0.28000000000000003,10.4,1.5,5.5,"Conc","Plant Protein",0,0,8.6999999999999993,91.3,0,2.4,58,69,93,7.4,2.77,4.5599999999999996,7.81,6.27,1.45,1.48,5.26,3.98,1.27,7.81,45.47,13.79,3.19,18,0.36,0.6,0.66,0.7,0.3,0.16,2.12,0.9,0.04,0.9,0.1,0.9,0.34,1,0,1,17,0.04,0.12,0.85,169,0.1,39,0.01,0,1,72,0.15,3.8,0,0,0,0]
[null,null,null,null,null,null,null,null,null,null,null,null,null,null,null,"Tam Yağlı Soya","5-04-597",98.8,"Conc",0,4.72,4,2.72,2.58,2.73,1.95,91,43,1,6.1,2,19,1,22.1,0.28999999999999998,14.7,3.1,5,"Conc","Plant Protein",0,0,17.8,77,5.2,9.3000000000000007,29.1,39.4,85,6.79,2.61,4.22,7.13,5.98,1.4,1.44,4.32,3.8,1.1299999999999999,4.59,41.98,14.24,3.33,18,0.26,0.6,0.64,0.7,0.25,0.16,1.99,0.9,0.01,0.9,0.06,0.9,0.32,1,0,1,15,0.04,0,0.85,142,0.1,29,0.01,0.28000000000000003,1,48,0.15,5.3,0,0,0,0]
[null,null,null,null,null,null,null,null,null,null,null,null,null,null,null,"Yerfıstığı Küspesi, Solvent","5-08-605",74.8,"Conc",0,3.85,3.12,2,1.9,2.14,1.48,92.3,51.8,1,5.8,1.1000000000000001,1.4,1,21.4,0.21,13.5,4.5999999999999996,5.8,"Conc","Plant Protein",0,0,61.7,36.6,1.7,16.100000000000001,9.1999999999999993,13.2,90,11.07,2.42,3.27,6.4,3.34,1.17,1.38,4.8499999999999996,2.69,0.98,3.94,40.130000000000003,8.32,2.92,14,0.2,0.6,0.64,0.7,0.32,0.16,1.32,0.9,0.03,0.9,0.1,0.9,0.32,1,0,1,13,0.04,7.0000000000000007E-2,0.85,302,0.1,33,0.01,0.21,1,54,0.15,3.8,0,0,0,0]
[null,null,null,null,null,null,null,null,null,null,null,null,null,null,null,"Yonca Unu, %17 HP","1-00-023",56.4,"Forage",0,2.6,1.96,1.19,1.1100000000000001,1.27,0.7,90.3,19.2,1,3.1,2.4,2.5,1,41.6,0.37,32.799999999999997,7.6,11,"Conc","Plant Protein",0,0,27.8,66,6.2,6.7,31.6,40.9,75,4.1399999999999997,2.16,3.98,7.11,4.34,1.46,1.08,4.8899999999999997,4.0999999999999996,1.39,5.03,38.6,11.24,3.78,10,1.47,0.3,0.28000000000000003,0.64,0.28999999999999998,0.16,2.37,0.9,0.1,0.9,0.65,0.9,0.26,1,0.31,1,9,0.04,0.16,0.85,619,0.1,44,0.01,0.36,1,28,0.15,2.8,0,0,0,0]
[null,null,null,null,null,null,null,null,null,null,null,null,null,null,null,"Optigen",null,17.8,"Conc",0,null,null,null,null,null,null,99,256,null,null,null,11.5,null,null,null,null,null,null,"Conc",null,null,0.1,null,null,null,null,null,null,null,null,null,null,null,null,null,null,null,null,null,null,null,null,null,150]
[null,null,null,null,null,null,null,null,null,null,null,null,null,null,null,"Bira mayası, kuru",null,79,"Conc",0,3.5,2.9,1.8,1.7,1.2,1.9,94,48,1,0,0,1,1,0,0,0,0,7,"Conc","By-Product",0,0,null,null,null,null,null,null,null,null,null,null,null,null,null,null,null,null,null,null,null,null,null,55,0.1,0.6,1.56,0.7,null,null,1.8,0.9,null,null,null,null,0.41,1,0,null,null,null,null,null,null,null,null,null,null,null,41,0.15,null,0,0,0,0]
[]
[]
[]
[]
[]
[]
[]
[]
[]
[]
[]
[]
[]
[]
[]
[]
[]
[]
[]
[]
[]
[]
[]
[]
[]
[]
[]
[]
[]
[]
[]
[]
[]
[]
[]
[]
[]
[]
[]
[]
[]
[]
[null,null,null,null,null,null,null,null,null,null,null,null,null,"Adı","Kesif mi?","Yan Ürünler"]
[null,null,null,null,null,null,null,null,null,null,null,null,null,{"$f":"P403","v":"Arpa, Malt Çili"},"E","Arpa, Malt Çili","5-00-545",66.400000000000006,"Conc",0,3.06,2.38,1.49,1.4,1.61,1.01,90.5,20.100000000000001,1,3.7,1.1000000000000001,2.2999999999999998,1,47,0.52,21.8,3.4,7.4,"Conc","By-Product",0,0,56,44,0,4.5,21.2,27.4,80,4.25,1.84,4,6,4.38,1.33,1.1000000000000001,3.2,3.61,0.9,5.38,34.89,12.55,3.81,15,0.24,0.6,0.51,0.7,0.18,0.16,1.19,0.9,0.04,0.9,0,0.9,0.28999999999999998,1,0,1,9,0.04,0,0.85,353,0.1,49,0.01,0.67,1,65,0.15,2,0,0,0,0]
[null,null,null,null,null,null,null,null,null,null,null,null,null,{"$f":"P404","v":"Badem Kabukları"},"E","Badem Kabukları","4-00-359",58.4,"Conc",0,2.5299999999999998,1.89,1.1399999999999999,1.07,1.22,0.65,86.9,6.5,1,2.2999999999999998,1.8,2.9,1,36.799999999999997,0.17,28.7,14.9,6.1,"Conc","By-Product",0,0,29.6,35.4,35,5.3,50.6,55.7,50,2.23,0.86,2.35,4.05,2.74,0.9,0.71,2.8,2.7,1,3.53,23.16,11.83,3.89,8.5,0.28000000000000003,0.3,0.13,0.64,0.13,0.16,2.62,0.9,0.02,0.9,0.03,0.9,0.04,1,0,1,7,0.04,0,0.85,247,0.1,22,0.01,7.0000000000000007E-2,1,22,0.15,1,0,0,0,0]
[null,null,null,null,null,null,null,null,null,null,null,null,null,"Bira Posası,Kuru","E","Bira Posası,Kuru","5-12-024",71.3,"Conc",0,3.38,2.69,1.71,1.62,1.84,1.21,90.7,29.2,1,9.1,3.5,5.2,1,47.4,0.39,22.2,5,4.3,"Conc","By-Product",0,0,18.3,64.599999999999994,17.100000000000001,4.7,47.5,56.6,80,5.77,2,3.85,7.85,4.08,1.7,1.85,4.5999999999999996,3.58,0.98,4.75,39.159999999999997,10.42,4.34,11,0.3,0.6,0.67,0.7,0.26,0.16,0.5,0.9,0.04,0.9,7.0000000000000007E-2,0.9,0.38,1,0,1,11,0.04,0,0.85,224,0.1,45,0.01,1.06,1,85,0.15,3.2,0,0,0,0]
[null,null,null,null,null,null,null,null,null,null,null,null,null,"Bira Posası,Yaş","H","Bira Posası,Yaş","5-00-517",71.599999999999994,"Conc",0,3.38,2.69,1.71,1.62,1.84,1.21,21.8,28.4,1,9.3000000000000007,2.9,5.2,1,47.1,0.4,23.1,4.7,4.9000000000000004,"Conc","By-Product",0,0,48.3,42.5,9.1999999999999993,4.5999999999999996,29.4,35.4,85,4.47,2.25,3.85,9.61,3.4,1.93,1.96,5.57,3.61,0.98,5.14,40.81,8.33,4.66,11,0.35,0.6,0.59,0.7,0.21,0.16,0.47,0.9,0.01,0.9,0.12,0.9,0.33,1,0,1,9,0.04,0,0.85,247,0.1,49,0.01,1.06,1,91,0.15,3.4,0,0,0,0]
[null,null,null,null,null,null,null,null,null,null,null,null,null,"Bonkalite","E","Bonkalite",0,87,"Conc",0,3.67,3.47,1.92,1.85,2.04,1.38,88,17.600000000000001,1,2.8,0.5,3.8,1,20,0.46,6,2,2.7,"Conc","By-Product",0,0,40.299999999999997,53.6,6.1,15.2,17.7,23.7,90,5.86,2.75,3.44,6.65,3.63,1.6,2.04,4.43,3.11,1.28,4.63,37.380000000000003,9.7100000000000009,4.28,11,0.16,0.6,1.02,0.7,0.42,0.16,1.38,0.9,0.03,0.9,0.1,0.9,0.18,1,0,1,10,0.04,0,0.85,158,0.1,125,0.01,0.46,1,91,0.15,2.5,0,0,0,0]
[null,null,null,null,null,null,null,null,null,null,null,null,null,"Buğday DDGS, Yaş","H","Buğday DDGS, Yaş",null,80.11,"Conc",0,3.83,3.03,1.96,1.84,2.2000000000000002,1.58,31.54,28.57,1,4.2300000000000004,1.35,9.3699999999999992,1,54.04,0.36,19.43,2.12,2.73,"Conc","By-Product",0,0,7.5,87.97,4.53,10,43.21,45.37,90,4.0599999999999996,2.5,3.71,9.59,2.2400000000000002,1.82,1.86,4.87,3.44,0.87,9.59,37.799999999999997,5.93,4.8099999999999996,12,0.22,0.6,0.83,0.7,0.33,0.16,1.1000000000000001,0.9,0.3,0.9,0.26,0.9,0.44,1,0,1,8,0.04,0,0.85,178,0.1,27,0.01,0.39,1,65,0.15,1.9,0,0,0,0]
[null,null,null,null,null,null,null,null,null,null,null,null,null,"Buğday DDGS, APAK","H","Buğday DDGS, APAK","",75.400000000000006,"Conc",0,3.55,2.78,1.8,1.69,1.98,1.38,31.98,24.4,1,2.23,1.64,11.08,1,47.78,0.36,24.72,6.98,3.18,"Conc","By-Product",0,0,14,79.5,6.5,10,38.049999999999997,39.950000000000003,90,4.0599999999999996,2.5,3.71,9.59,2.2400000000000002,1.82,1.86,4.87,3.44,0.87,9.59,37.799999999999997,5.93,4.8099999999999996,12,0.22,0.6,0.83,0.7,0.33,0.16,1.1000000000000001,0.9,0.3,0.9,0.26,0.9,0.44,1,0,1,8,0.04,0,0.85,178,0.1,27,0.01,0.39,1,65,0.15,1.9,0,0,0,0]
[null,null,null,null,null,null,null,null,null,null,null,null,null,"Buğday DDGS+%20 ŞPP, Ambalajlı","H","Buğday DDGS+%20 ŞPP, Ambalajlı",null,78.88,"Conc",0,3.7,2.97,1.88,1.8,1.69,1.46,28.83,25.08,1,4.4800000000000004,1.2,7.92,1,52.25,0.4,20.16,2.02,3.12,"Conc","By-Product",0,0,6.9,88.48,4.62,8.4,47.81,51.56,88,3.89,2.5099999999999998,3.6,8.69,2.66,1.7,1.71,4.4800000000000004,3.43,0.86,8.61,36.53,7.51,4.6399999999999997,45,0.35,0.6,0.68,0.7,0.31,0.16,1.06,0.9,0.3,0.9,0.24,0.9,0.4,1,0,1,8.4,0.04,0,0.85,208,0.1,33.6,0.01,0.33,1,54,0.15,1.74,0,0,0,0]
[null,null,null,null,null,null,null,null,null,null,null,null,null,"Buğday Kepeği","E","Buğday Kepeği","4-05-190",71.5,"Conc",0,3.23,2.5499999999999998,1.61,1.52,1.74,1.1200000000000001,89.1,17.3,1,2.8,1.4,4.3,1,42.5,0.53,15.5,3,6.3,"Conc","By-Product",0,2,33.700000000000003,62.5,3.8,20,14.6,20.7,75,6.84,2.82,3.15,6.16,4.05,1.57,2.1,3.97,3.26,1.37,4.5,37.68,10.75,4.17,15,0.13,0.6,1.18,0.7,0.53,0.16,1.32,0.9,0.04,0.9,0.16,0.9,0.21,1,0,1,11,0.04,0,0.85,157,0.1,122,0.01,0.5,1,85,0.15,2.5,0,0,0,0]
[null,null,null,null,null,null,null,null,null,null,null,null,null,"Buğday Kepeği, Razmol","E","Buğday Kepeği, Razmol","4-05-205",73.3,"Conc",0,3.33,2.64,1.67,1.58,1.8,1.18,89.5,18.5,1,2.8,0.5,4.5,1,36.700000000000003,0.46,12.1,4.2,5,"Conc","By-Product",0,3,40.299999999999997,53.6,6.1,15.2,17.7,23.7,90,5.86,2.75,3.44,6.65,3.63,1.6,2.04,4.43,3.11,1.28,4.63,37.380000000000003,9.7100000000000009,4.28,12,0.16,0.6,1.02,0.7,0.42,0.16,1.38,0.9,0.03,0.9,0.1,0.9,0.18,1,0,1,10,0.04,0,0.85,158,0.1,125,0.01,0.46,1,91,0.15,2.5,0,0,0,0]
[null,null,null,null,null,null,null,null,null,null,null,null,null,"Çikolata Yan Ürünleri","H","Çikolata Yan Ürünleri",0,100,"Conc",0,4.46,3.77,2.56,2.4300000000000002,2.56,1.81,95.2,11.9,1,0,0,20.5,1,23.8,0.48,15.7,3.2,2.1,"Conc","By-Product",0,0,74.099999999999994,25.9,0,3.2,14.7,18.100000000000001,90,2.25,1.57,3.6,6.52,2.25,1.57,0.9,3.82,3.82,0.67,5.84,31.91,7.05,4.92,17,0.22,0.6,0.3,0.7,0.22,0.16,1.18,0.9,7.0000000000000007E-2,0.9,0,0.9,0.11,1,0,1,15,0.04,0,0.85,461,0.1,31,0.01,0,1,40,0.15,1.6,0,0,0,0]
[null,null,null,null,null,null,null,null,null,null,null,null,null,"Domates Kurusu","E","Domates Kurusu",null,70,"Conc",0,2.9,2.2999999999999998,1.5,1.4,1.5,0.9,86.18,13.87,1,8,3.8,4.01,1,40,0.28999999999999998,35,11.5,10.52,"Conc","By-Product",0,0,41.7,53.3,5,7.4,24.2,31.7,80,5.53,1.83,3.23,7.87,7.4,0.47,0.47,4.17,3.23,0.94,4.6399999999999997,39.31,18.8,1.2,15,0.22,0.6,0.47,0.7,0.28000000000000003,0.16,0.98,0.9,0.12,0.9,0,0.9,0.15,1,0,1,11,0.04,0,0.85,541,0.1,11,0.01,0,1,54,0.15,1.8,0,0,0,0]
[null,null,null,null,null,null,null,null,null,null,null,null,null,"Domates Posası, Yaş","H","Domates Posası, Yaş","5-05-042",63.5,"Conc",0,2.99,2.37,1.52,1.43,1.56,0.96,24.7,19.3,1,8,3.8,13.3,1,60,0.28999999999999998,47.6,13.3,5.5,"Conc","By-Product",0,0,41.7,53.3,5,7.4,24.2,31.7,80,5.53,1.83,3.23,7.87,7.4,0.47,0.47,4.17,3.23,0.94,4.6399999999999997,39.31,18.8,1.2,20,0.22,0.6,0.47,0.7,0.28000000000000003,0.16,0.98,0.9,0.12,0.9,0,0.9,0.15,1,0,1,11,0.04,0,0.85,541,0.1,11,0.01,0,1,54,0.15,1.8,0,0,0,0]
[null,null,null,null,null,null,null,null,null,null,null,null,null,"Elma Posası, Yaş","H","Elma Posası, Yaş","4-25-450",57.1,"Conc",0,2.48,2.4900000000000002,1.25,1.06,1.18,0.62,22,5.4,1,3.7,3.1,4.7,1,48,0.26,28,5,5,"Conc","By-Product",0,0,41.7,53.3,5,7.4,24.2,31.7,80,4.5199999999999996,1.86,3.13,5.58,3.93,1.38,1.18,3.31,3.04,0.88,5.58,31.74,12.38,4.3499999999999996,25,0.23,0.6,0.11,0.7,0.09,0.16,0.33,0.9,0.04,0.9,0.11,0.9,7.0000000000000007E-2,1,0,1,11,0.04,0,0.85,185,0.1,17,0.01,0,1,14,0.15,0.7,0,0,0,0]
[null,null,null,null,null,null,null,null,null,null,null,null,null,"Fırıncılık Yan Ürünleri, Bisküvi Artığı","E","Fırıncılık Yan Ürünleri, Bisküvi Artığı","4-24-852",95,"Conc",0,4.1100000000000003,3.4,2.2400000000000002,2.12,2.33,1.63,90.1,9.6999999999999993,1,1.9,0.5,10.6,1,12.7,0.3,6.5,2.6,3,"Conc","By-Product",0,0,40.299999999999997,53.6,6.1,15.2,17.7,23.7,90,4.1900000000000004,1.77,3.12,7.12,1.71,1.83,1.94,4.78,3.14,0.88,4.58,33.119999999999997,5.16,5.53,12,0.23,0.6,0.28999999999999998,0.7,0.13,0.16,0.46,0.9,0.68,0.9,1.2,0.9,0.13,1,0,1,5,0.04,0,0.85,235,0.1,27,0.01,0,1,38,0.15,0,0,0,0,0]
[null,null,null,null,null,null,null,null,null,null,null,null,null,"Fırıncılık Yan Ürünleri, Ekmek Artığı","E","Fırıncılık Yan Ürünleri, Ekmek Artığı","4-00-466",89.3,"Conc",0,3.99,3.25,2.09,1.98,2.21,1.52,68.3,15,1,0.6,0.5,2.2000000000000002,1,8.9,0.65,3.1,0.1,2.8,"Conc","By-Product",0,0,40.299999999999997,53.6,6.1,15.2,17.7,23.7,90,4.74,2.61,4,7.77,2.91,1.73,2.14,5.44,3.36,1.1499999999999999,4.42,38.119999999999997,7.63,4.54,13,0.14000000000000001,0.6,0.2,0.7,0.05,0.16,0.23,0.9,0.85,0.9,0.94,0.9,0.17,1,0,1,4,0.04,0,0.85,140,0.1,10,0.01,0,1,16,0.15,0.6,0,0,0,0]
[null,null,null,null,null,null,null,null,null,null,null,null,null,"Fırıncılık Yan Ürünleri, Tahıl Artığı","E","Fırıncılık Yan Ürünleri, Tahıl Artığı","4-00-466",87.6,"Conc",0,3.79,3.07,1.97,1.88,2.12,1.45,88.5,9.1,1,3.2,1.2,3.5,1,10,0.15,3.9,2.6,3.2,"Conc","By-Product",0,0,33.700000000000003,62.5,3.8,20,14.6,20.7,75,6.84,2.82,3.15,6.16,4.05,1.57,2.1,3.97,3.26,4.37,4.5,37.880000000000003,10.75,4.17,15,0.17,0.6,0.28999999999999998,0.7,0.1,0.16,0.33,0.9,0.59,0.9,0.69,0.9,0.1,1,0,1,4,0.04,0,0.85,252,0.1,26,0.01,0,1,80,0.15,1,0,0,0,0]
[null,null,null,null,null,null,null,null,null,null,null,null,null,"Fırıncılık Yan Ürünleri, Un Artığı","E","Fırıncılık Yan Ürünleri, Un Artığı","4-00-466",93.5,"Conc",0,4.09,3.37,2.21,2.09,2.3199999999999998,1.61,84.7,12.5,1,2.2999999999999998,1.1000000000000001,9.5,1,13.9,0.4,6.5,1.6,3.8,"Conc","By-Product",0,0,40.299999999999997,53.6,6.1,15.2,17.7,23.7,90,4.74,2.61,4,7.77,2.91,1.73,2.14,5.44,3.36,1.1499999999999999,4.42,38.119999999999997,7.63,4.54,14.5,0.2,0.6,0.36,0.7,0.13,0.16,0.42,0.9,0.72,0.9,1.2,0.9,0.14000000000000001,1,1.05,1,5,0.04,0,0.85,273,0.1,30,0.01,0.28999999999999998,1,46,0.15,1.1000000000000001,0,0,0,0]
[null,null,null,null,null,null,null,null,null,null,null,null,null,"Havuç Posası, Yaş","H","Havuç Posası, Yaş",null,62,"Conc",1,3.1,2.4900000000000002,1.26,1.1299999999999999,1.26,0.66,14,6,1,5.2,2.2999999999999998,7.8,1,40,0.22,23,0.9,9,"Conc","By-Product",0,0,4.5,90.5,5,2,66.2,76.3,90,3.23,2.54,3.18,5.0999999999999996,4.3499999999999996,1.24,1.1000000000000001,2.93,3.38,0.81,4.7,31.46,13.83,3.94,14.5,0.4,0.6,0.35,0.7,0.2,0.16,2.8,0.9,0.48,0.9,0.5,0.9,0.17,1,0,1,10.4,0.04,0,0.85,130,0.1,31.5,0.01,0,1,32.700000000000003,0.15,0,0,0,0,0]
[null,null,null,null,null,null,null,null,null,null,null,null,null,"İncir Kurusu","E","İncir Kurusu",null,82.18,"Conc",1,2.8,2.2599999999999998,1.6,1.5,1.93,1.28,85.18,4.47,1,null,null,4.9400000000000004,1,8.9,0.22,8.02,2.0699999999999998,3.47,"Conc","By-Product",0,0,null,null,null,2,20,30,85,null,null,null,null,null,null,null,null,null,null,null,null,null,null,15]
[null,null,null,null,null,null,null,null,null,null,null,null,null,"Mısır DDGS,Kuru","E","Mısır DDGS,Kuru","5-28-236",79.5,"Conc",0,3.72,3.03,1.97,1.87,2.0699999999999998,1.41,90.2,29.7,1,8.6,5,10,1,38.799999999999997,0.36,19.7,4.3,5.2,"Conc","By-Product",0,0,28.5,63.3,8.1999999999999993,3.6,42.2,50.8,80,4.0599999999999996,2.5,3.71,9.59,2.2400000000000002,1.82,1.86,4.87,3.44,0.87,9.59,37.799999999999997,5.93,4.8099999999999996,80,0.22,0.6,0.83,0.7,0.33,0.16,1.1000000000000001,0.9,0.3,0.9,0.26,0.9,0.44,1,0,1,8,0.04,0,0.85,178,0.1,27,0.01,0.39,1,65,0.15,1.9,0,0,0,0]
[null,null,null,null,null,null,null,null,null,null,null,null,null,"Mısır Gluten Yemi","E","Mısır Gluten Yemi","5-28-243",74.099999999999994,"Conc",0,3.43,2.73,1.73,1.64,1.87,1.24,89.4,23.8,1,3.6,1.4,3.5,1,35.5,0.53,12.1,2,6.8,"Conc","By-Product",0,0,48,43.2,8.8000000000000007,7.7,24,30,85,3.85,2.93,3.1,8.98,2.74,1.61,2.13,3.68,3.48,0.56000000000000005,4.46,35.39,7.74,4.55,10,7.0000000000000007E-2,0.6,1,0.7,0.42,0.16,1.46,0.9,0.13,0.9,0.2,0.9,0.44,1,0,1,6,0.04,0,0.85,196,0.1,23,0.01,0.19,1,75,0.15,2.2000000000000002,0,0,0,0]
[null,null,null,null,null,null,null,null,null,null,null,null,null,"Mısır Hasat Artıkları (fodder)","H","Mısır Hasat Artıkları (fodder)",null,65,"Forage",0,2.58,2.23,1.32,1.2,1.32,0.74,80,9,1,1.7,0.8,2.4,1,48,0.56999999999999995,29,5.9,7,"Forage","By-Product",0,0,45,49.4,5.6,2.8,45,50,65,4,2.94,3.5,12.66,2.78,2.5,2.12,4.72,3.59,0.69,4.78,42.16,6.59,5.93,40,0.5,0.6,0.25,0.7,0.06,0.16,0.9,0.9,0.04,0.9,0,0.2,0.14000000000000001,1,0,1,6,0.04,0,0.85,254,0.1,5,0.01,0.08,1,11,0.15,0.13,0,0,0,0]
[null,null,null,null,null,null,null,null,null,null,null,null,null,"Mısır Hasat Artıkları (saplar)(stover)","H","Mısır Hasat Artıkları (saplar)(stover)",null,54,"Forage",0,2.11,1.83,1.08,0.96,1.08,0.4,80,5,1,1.7,0.8,1.3,1,70,0.56999999999999995,43,5.9,7,"Forage","By-Product",0,0,45,49.4,5.6,2.8,30,35,65,4,2.94,3.5,12.66,2.78,2.5,2.12,4.72,3.59,0.69,4.78,42.16,6.59,5.93,17,0.45,0.6,0.15,0.7,0.06,0.16,1.2,0.9,0.04,0.9,0,0.3,0.14000000000000001,1,0,1,6,0.04,0,0.85,254,0.1,5,0.01,0.08,1,22,0.15,0.13,0,0,0,0]
[null,null,null,null,null,null,null,null,null,null,null,null,null,"Mısır Kepeği","H","Mısır Kepeği",null,77.400000000000006,"Conc",0,3.4,3.1,1.72,1.62,1.85,1.22,90.9,11.3,1,2.8,1.4,4.7,1,39.299999999999997,0.79,10.6,1.7,4.5,"Conc","By-Product",0,2,7.7,92.3,2.3E-2,33,14.6,20.7,92,7,3.2,2.8,10.1,3.8,1.5,2.2999999999999998,2.9,3.5,0.6,4.7,40.1,9.4700000000000006,3.74,18,0.3,0.6,0.33,0.7,0.22,0.16,0.75,0.9,1.2999999999999999E-2,0.9,0.21,0.9,0.12,1,0.3,1,7,0.04,0,0.85,68,0.1,15,0.01,0.2,1,97,0.15,0.7,0,0,0,0]
[null,null,null,null,null,null,null,null,null,null,null,null,null,"Mısır Sömeği","E","Mısır Sömeği","1-28-234",54.2,"Forage",0,2.31,1.68,0.99,0.93,1.04,0.48,90.8,3,1,1.7,0.8,0.6,1,86.2,0.56999999999999995,42.2,5.9,2.2000000000000002,"Forage","By-Product",0,0,45,49.4,5.6,2.8,35.200000000000003,41.5,60,4,2.94,3.5,12.66,2.78,2.5,2.12,4.72,3.59,0.69,4.78,42.16,6.59,5.93,19,0.1,0.6,0.06,0.7,0.06,0.16,0.9,0.9,0.04,0.9,0,0.9,7.0000000000000007E-2,1,0,1,6,0.04,0,0.85,254,0.1,5,0.01,0.08,1,11,0.15,0.13,0,0,0,0]
[null,null,null,null,null,null,null,null,null,null,null,null,null,"Mısır Özü Küspesi","E","Mısır Özü Küspesi",0,74,"Conc",0,3.61,2.98,1.69,1.55,1.76,1.1399999999999999,93,21.38,1,0,0,3.27,1,47.91,0.49,14.18,0,3.22,"Conc","Plant Protein",0,5,1.7,82.8,15.5,3,63.7,74.5,90,6.32,3.36,3.36,8.7200000000000006,4.34,2.83,1.95,4.34,5.27,0.93,5.8,45.9,9.4499999999999993,6.16,20,0.04,0.6,0.55000000000000004,0.7,0.17,0.16,0.38,0.9,0.04,0.9,0.04,0.9,0.34,1,0,1,4.9000000000000004,0.04,0,0.85,370,0.1,4.0999999999999996,0.01,0.37,1,114.2,0.15,0,0,0,0,0]
[null,null,null,null,null,null,null,null,null,null,null,null,null,"Pamuk Tohumu Kapçığı ","H","Pamuk Tohumu Kapçığı ","1-01-599",34.299999999999997,"Forage",0,1.51,0.95,0.48,0.44,0.39,-0.13,89,6.2,1,3,1.1000000000000001,2.5,1,85,0.3,64.900000000000006,22.5,2.8,"Forage","By-Product",0,0,29.6,35.4,35,5.3,50.6,55.7,50,11.42,3.32,3.39,7.22,4.66,1.83,1.62,5.63,3.81,1.42,5,47.68,9.77,3.84,18,0.18,0.3,0.12,0.64,0.17,0.16,1.1599999999999999,0.9,0.02,0.9,0.06,0.9,7.0000000000000007E-2,1,0,1,5,0.04,0,0.85,68,0.1,22,0.01,0,1,17,0.15,0.8,0,0,0,0]
[null,null,null,null,null,null,null,null,null,null,null,null,null,"Patates Yan Ürünleri","E","Patates Yan Ürünleri","4-03-775",80.7,"Conc",0,3.51,2.84,1.85,1.75,1.94,1.3,35.4,10.5,1,5.2,2.2999999999999998,0.4,1,22.1,0.22,16.5,2.2999999999999998,12.8,"Conc","By-Product",0,0,4.5,90.5,5,2,66.2,76.3,90,2.4700000000000002,1.84,3.14,5.34,4.21,0.95,1.34,3.62,3.11,0.67,4.4000000000000004,29.75,14.15,3.19,18,0.49,0.6,0.28999999999999998,0.7,0.11,0.16,1.04,0.9,0.26,0.9,0.19,0.9,0.11,1,0,1,11,0.04,0,0.85,1006,0.1,26,0.01,0,1,25,0.15,1.6,0,0,0,0]
[null,null,null,null,null,null,null,null,null,null,null,null,null,"Pirinç Kepeği","E","Pirinç Kepeği","4-03-928",84.8,"Conc",0,3.76,3.09,2.0499999999999998,1.94,2.1,1.43,90.6,15.5,1,3.7,0.4,15.2,1,26.1,0.33,13.1,4.5999999999999996,10.4,"Conc","By-Product",0,0,32.6,49,18.399999999999999,5,40.700000000000003,47.7,65,7.8,2.78,3.42,7.1,4.6500000000000004,2.0499999999999998,2.23,4.76,3.87,1.17,5.24,42.84,10.85,4.79,14,7.0000000000000007E-2,0.6,1.78,0.7,0.81,0.16,1.57,0.9,0.03,0.9,0.09,0.9,0.19,1,0,1,10,0.04,0,0.85,239,0.1,186,0.01,0.17,1,71,0.15,2.8,0,0,0,0]
[null,null,null,null,null,null,null,null,null,null,null,null,null,"Soya Tohum Kabukları","E","Soya Tohum Kabukları","1-04-560",67.3,"Conc",0,3.01,2.34,1.46,1.37,1.58,0.98,90.9,13.9,1,3.5,1,2.7,1,60.3,0.59,44.6,2.5,4.8,"Conc","By-Product",0,0,22.5,72.2,5.3,6.2,34.4,44.6,70,5.18,2.88,3.86,6.5,6.27,1.1599999999999999,1.76,4.33,3.6,1.08,4.5599999999999996,39.43,15.9,2.94,10,0.63,0.6,0.17,0.7,0.25,0.16,1.51,0.9,0.01,0.9,0.05,0.9,0.12,1,0.12,1,10,0.04,0,0.85,604,0.1,26,0.01,0.21,1,35,0.15,1.6,0,0,0,0]
[null,null,null,null,null,null,null,null,null,null,null,null,null,"Şeker Pancarı Posası,Kuru","H","Şeker Pancarı Posası,Kuru","4-00-669",69.099999999999994,"Conc",0,3.03,2.36,1.47,1.38,1.6,0.99,88.3,18.5,1,5.5,0.6,1.1000000000000001,1,45.8,0.56000000000000005,23.1,1.6,7.3,"Conc","By-Product",0,5,4.5,90.5,5,2,66.2,76.3,80,3.23,2.54,3.18,5.0999999999999996,4.3499999999999996,1.24,1.1000000000000001,2.93,3.38,0.81,4.7,31.46,13.83,3.94,150,0.91,0.6,0.09,0.7,0.23,0.16,0.96,0.9,0.31,0.9,0.18,0.9,0.3,1,0,1,11,0.04,0,0.85,642,0.1,62,0.01,0.14000000000000001,1,22,0.15,1.5,0,0,0,0]
[null,null,null,null,null,null,null,null,null,null,null,null,null,"Şeker Pancarı Posası,Yaş","H","Şeker Pancarı Posası,Yaş",0,72,"Conc",0,3.18,2.76,1.55,1.38,1.57,0.97,17,11.2,1,5.5,0.6,2.1,1,45.8,0.56000000000000005,23.1,1.6,4.7,"Conc","By-Product",0,25,4.5,90.5,5,2,66.2,76.3,80,3.23,2.54,3.18,5.0999999999999996,4.3499999999999996,1.24,1.1000000000000001,2.93,3.38,0.81,4.7,31.46,13.83,3.94,55,0.87,0.6,0.1,0.7,0.22,0.16,0.91,0.9,0.3,0.9,0.16,0.9,0.22,1,0,1,10,0.04,0,0.85,330,0.1,60,0.01,0.1,1,10,0.15,1,0,0,0,0]
[null,null,null,null,null,null,null,null,null,null,null,null,null,"Şeker Pancarı Posası,Yaş, Ambalajlı","E","Şeker Pancarı Posası,Yaş, Ambalajlı",0,74,"Conc",0,3.18,2.76,1.55,1.38,1.57,0.97,19,11.1,1,5.5,0.6,2.1,1,45.8,0.56000000000000005,23.1,1.6,4.7,"Conc","By-Product",0,25,4.5,90.5,5,2,66.2,76.3,80,3.23,2.54,3.18,5.0999999999999996,4.3499999999999996,1.24,1.1000000000000001,2.93,3.38,0.81,4.7,31.46,13.83,3.94,2.5,0.87,0.6,0.1,0.7,0.22,0.16,0.91,0.9,0.3,0.9,0.16,0.9,0.22,1,0,1,10,0.04,0,0.85,330,0.1,60,0.01,0.1,1,10,0.15,1,0,0,0,0]
[null,null,null,null,null,null,null,null,null,null,null,null,null,"Turunçgil Posası, Kuru","E","Turunçgil Posası, Kuru","4-01-237",79.8,"Conc",0,3.44,2.76,1.76,1.66,1.89,1.25,85.8,6.9,1,0.4,0.3,4.9000000000000004,1,24.2,0.63,22.2,0.9,7.2,"Conc","By-Product",0,0,41.7,53.3,5,7.4,24.2,31.7,80,3.39,1.88,2.79,5.01,2.56,1.03,1.38,3.63,2.91,0.76,3.78,27.74,9.23,3.71,3,1.92,0.6,0.12,0.7,0.12,0.16,1.1000000000000001,0.9,0.06,0.9,0.08,0.9,0.1,1,0,1,8,0.04,0,0.85,151,0.1,9,0.01,0,1,11,0.15,0.9,0,0,0,0]
[null,null,null,null,null,null,null,null,null,null,null,null,null,"Üzüm Kurusu","E","Üzüm Kurusu",null,68.8,"Conc",0,3,1.9,1.37,1.27,1.54,0.94,86.44,5.59,1,0.4,0.3,2.79,1,22.84,0.63,19.2,11.64,8.3800000000000008,"Conc","By-Product",0,0,null,null,null,11,20,30,80,3.39,1.88,2.79,5.01,2.56,1.03,1.38,3.63,2.91,0.76,3.78,27.74,9.23,3.71,6,0.57999999999999996,0.6,0.17,0.7,0.1,0.16,0.91,0.9,0.09,0.9,0.01,0.9,0.1,1,0,1,8,0.04,0,0.85,151,0.1,40.700000000000003,0.01,0,1,24.2,0.15,0.9,0,0,0,0]
[null,null,null,null,null,null,null,null,null,null,null,null,null,"Üzüm Posası, Kuru","H","Üzüm Posası, Kuru","1-01-208",27,"Conc",0,1.17,0.73,0.43,0.39,0.34,0.18,90,13.4,1,0.4,0.3,8.4,1,53.2,0.63,54.4,35.200000000000003,8.3000000000000007,"Conc","By-Product",0,0,41.7,53.3,5,11,24.2,31.7,80,3.39,1.88,2.79,5.01,2.56,1.03,1.38,3.63,2.91,0.76,3.78,27.74,9.23,3.71,3,0.57999999999999996,0.6,0.17,0.7,0.1,0.16,0.91,0.9,0.09,0.9,0.01,0.9,0.1,1,0,1,8,0.04,0,0.85,151,0.1,40.700000000000003,0.01,0,1,24.2,0.15,0.9,0,0,0,0]
[null,null,null,null,null,null,null,null,null,null,null,null,null,"Zeytin Küspesi, Yağı Tam Alınmamış","H","Zeytin Küspesi, Yağı Tam Alınmamış",0,55,"Conc",0,2.1,1.75,1.07,0.99,1.1200000000000001,0.71,65.400000000000006,7.8,1,0,0,5.6,1,67.8,0,60.1,31.1,6.4,"Conc","By-Product",0,0,0,0,0,0,0,0,0,0,0,0,0,0,0,0,0,0,0,0,0,0,0,8,0,0,0,0,0,0,0,0,0,0,0,0,0,0,0,0,0,0,0,0,0,0,0,0,0,0,0,0,0,0,0,0,0]
[null,null,null,null,null,null,null,null,null,null,null,null,null,"Zeytin Küspesi, Yağı Tam Alınmış",null,"Zeytin Küspesi, Yağı Tam Alınmış",0,55,"Conc",0,2.1,1.73,1.05,0.97,1.1000000000000001,0.7,68.3,7.7,1,0,0,1.1000000000000001,1,72.400000000000006,0,61.9,31.9,7.5,"Conc","By-Product",0,0,0,0,0,0,0,0,0,0,0,0,0,0,0,0,0,0,0,0,0,0,0,8,0,0,0,0,0,0,0,0,0,0,0,0,0,0,0,0,0,0,0,0,0,0,0,0,0,0,0,0,0,0,0,0,0]
[null,null,null,null,null,null,null,null,null,null,null,null,null,0]
[null,null,null,null,null,null,null,null,null,null,null,null,null,0]
[null,null,null,null,null,null,null,null,null,null,null,null,null,0]
[null,null,null,null,null,null,null,null,null,null,null,null,null,0]
[null,null,null,null,null,null,null,null,null,null,null,null,null,0]
[null,null,null,null,null,null,null,null,null,null,null,null,null,0]
[null,null,null,null,null,null,null,null,null,null,null,null,null,0]
[null,null,null,null,null,null,null,null,null,null,null,null,null,0]
[null,null,null,null,null,null,null,null,null,null,null,null,null,0]
[null,null,null,null,null,null,null,null,null,null,null,null,null,0]
[null,null,null,null,null,null,null,null,null,null,null,null,null,0]
[null,null,null,null,null,null,null,null,null,null,null,null,null,0]
[null,null,null,null,null,null,null,null,null,null,null,null,null,0]
[null,null,null,null,null,null,null,null,null,null,null,null,null,0]
[null,null,null,null,null,null,null,null,null,null,null,null,null,0]
[null,null,null,null,null,null,null,null,null,null,null,null,null,0]
[null,null,null,null,null,null,null,null,null,null,null,null,null,0]
[null,null,null,null,null,null,null,null,null,null,null,null,null,0]
[null,null,null,null,null,null,null,null,null,null,null,null,null,0]
[null,null,null,null,null,null,null,null,null,null,null,null,null,0]
[null,null,null,null,null,null,null,null,null,null,null,null,null,0]
[null,null,null,null,null,null,null,null,null,null,null,null,null,0]
[null,null,null,null,null,null,null,null,null,null,null,null,null,0]
[null,null,null,null,null,null,null,null,null,null,null,null,null,0]
[null,null,null,null,null,null,null,null,null,null,null,null,null,0]
[null,null,null,null,null,null,null,null,null,null,null,null,null,0]
[null,null,null,null,null,null,null,null,null,null,null,null,null,{"$f":"P468","v":0}]
[null,null,null,null,null,null,null,null,null,null,null,null,null,0]
[null,null,null,null,null,null,null,null,null,null,null,null,null,0]
[null,null,null,null,null,null,null,null,null,null,null,null,null,0]
[null,null,null,null,null,null,null,null,null,null,null,null,null,0]
[null,null,null,null,null,null,null,null,null,null,null,null,null,0]
[null,null,null,null,null,null,null,null,null,null,null,null,null,0]
[null,null,null,null,null,null,null,null,null,null,null,null,null,0]
[null,null,null,null,null,null,null,null,null,null,null,null,null,0]
[null,null,null,null,null,null,null,null,null,null,null,null,null,0]
[null,null,null,null,null,null,null,null,null,null,null,null,null,null,null,"Karma Yemler"]
[null,null,null,null,null,null,null,null,null,null,null,null,null,null,null,"Buzağı Başlangıç Yemi",null,82.12,"Conc",1.04,3.69,3.28,0,0,2.46,1.78,90,18,1,0.8,0.4,3,1,12.8,0.47,11.6,14,5,"Conc","Calf Feed-Starter",0,0,0,0,0,0,0,0,85,0,0,0,0,0,0,0,0,0,0,0,0,0,0,13,0.7,0.6,0.45,0.7,0.1,0.16,0.65,0.9,0.15,1,0,1,0.2,1,0.12,1,10,0.04,0.25,0.85,75,0.1,40,0.01,0.3,1,40,0.15,0,0,0,0,0]
[null,null,null,null,null,null,null,null,null,null,null,null,null,null,null,"Buzağı Büyütme Yemi",null,80.86,"Conc",1.04,3.65,3.24,0,0,2.4300000000000002,1.61,90,16,1,0.8,0.4,3,1,18,0.47,8,12,5,"Conc","Calf Feed-Starter",0,0,22,75,3,5.4,0,0,90,0,0,0,0,0,0,0,0,0,0,0,0,0,0,12,0.6,0.6,0.4,0.7,0.1,0.16,0.65,0.9,0.14000000000000001,1,0,1,0.2,1,0.1,1,10,0.04,0.25,0.85,50,0.1,40,0.01,0.3,1,40,0.15,0,0,0,0,0]
[null,null,null,null,null,null,null,null,null,null,null,null,null,null,null,"Düve Yemi,1.Sınıf (TS11110)",null,78.8,"Conc",1.04,3.85,3.12,1.99,1.9,2.15,1.5,89.1,19.2,1,0.73,0.28000000000000003,3.06,1,10.29,0.43,4.72,0.83,6.53,"Conc","Energy Source",0,0,20.6,61.46,2.97,7.21,26.24,34.47,90,5.0999999999999996,2.76,3.46,9.1,3.62,1.77,1.87,4.5599999999999996,3.41,0.89,4.05,38.71,8.51,4.25,10.8,1.18,0.6,0.63,0.7,0.19,0.16,0.79,0.9,0.26,0.9,0.45,0.9,0.19,1,0.22,1,17.25,0.04,0.8,0.85,198.49,0.1,67.53,0.01,0.26,1,81.400000000000006,0.15,0,0,7,0.7,30]
[null,null,null,null,null,null,null,null,null,null,null,null,null,null,null,"Düve Yemi,2.Sınıf (TS11110)",null,77.599999999999994,"Conc",1.04,3.73,3.02,1.93,1.84,2.08,1.45,89.91,18,1,1.2,0.37,2.67,1,13.82,0.42,6.27,1.47,6.73,"Conc","Energy Source",0,0,23.12,58.33,4.4000000000000004,11.9,22.27,29.27,90,5.19,2.59,3.46,8.23,3.57,1.75,1.96,4.66,3.38,0.98,4.29,38.1,8.76,4.57,10.199999999999999,1.17,0.6,0.65,0.7,0.2,0.16,0.73,0.9,0.26,0.9,0.46,0.9,0.18,1,0.3,1,17.739999999999998,0.04,0.8,0.85,203.17,0.1,69.67,0.01,0.28000000000000003,1,84.43,0.15,0,0,7,0.7,30]
[null,null,null,null,null,null,null,null,null,null,null,null,null,null,null,"Kazein","5-01-162",0,null,0,5.29,5.08,0,0,4.37,3.5,91,92.7,1,0,0,0.7,1,0,0,0,0,4,"Conc","Calf Feed-Milk",0,0,0,0,0,0,0,0,0,0,0,0,0,0,0,0,0,0,0,0,0,0,0,15,0.4,0,0.35,0,0.01,0,0.01,0,0.01,0,0.04,0,0.6,0,0.01,0,4,0,0,0,14,0,4,0,0.16,0,30,0,0,0,0,0,0]
[null,null,null,null,null,null,null,null,null,null,null,null,null,null,null,"Lor Altı Suyu-Fimar","4-08-134",0,null,0,3.78,3.62,1.8,1.8,3.12,2.5,5,8.85,1,0,0,0.7,1,0,0,0,0,8.6999999999999993,"Conc","Calf Feed-Milk",0,0,0,0,0,0,0,0,0,0,0,0,0,0,0,0,0,0,0,0,0,0,0,12,0.73,0,0.65,0,0.18,0,2,0,1,0,1.4,0,1.1200000000000001,0,0.01,0,0.72,0,0,0,9,0,0.1,0,0.25,0,20,0,0,0,0,0,0]
[null,null,null,null,null,null,null,null,null,null,null,null,null,null,null,"Peynir Altı Suyu-Fimar","4-08-134",0,null,0,3.78,3.62,2,2,3.12,2.5,5,10.35,1,0,0,0.7,1,0,0,0,0,8.6999999999999993,"Conc","Calf Feed-Milk",0,0,0,0,0,0,0,0,0,0,0,0,0,0,0,0,0,0,0,0,0,0,0,12,0.73,0,0.65,0,0.18,0,2,0,1,0,1.4,0,1.1200000000000001,0,0.01,0,0.72,0,0,0,9,0,0.1,0,0.25,0,20,0,0,0,0,0,0]
[null,null,null,null,null,null,null,null,null,null,null,null,null,null,null,"Peynir Altı Suyu","4-08-134",0,null,0,3.78,3.62,0,0,3.12,2.5,7,14.2,1,0,0,0.7,1,0,0,0,0,8.6999999999999993,"Conc","Calf Feed-Milk",0,0,0,0,0,0,0,0,0,0,0,0,0,0,0,0,0,0,0,0,0,0,0,12,0.73,0,0.65,0,0.18,0,2,0,1,0,1.4,0,1.1200000000000001,0,0.01,0,0.72,0,0,0,9,0,0.1,0,0.25,0,20,0,0,0,0,0,0]
[null,null,null,null,null,null,null,null,null,null,null,null,null,null,null,"Peynir Altı Suyu Protein Konsantresi",null,0,null,0,4.3499999999999996,4.17,0,0,3.59,2.88,93,37.1,1,0,0,2.2000000000000002,1,0,0,0,0,6,"Conc","Calf Feed-Milk",0,0,0,0,0,0,0,0,0,0,0,0,0,0,0,0,0,0,0,0,0,0,0,12,0.54,0,0.6,0,0.1,0,1.05,0,0.59,0,1.4,0,2.4,0,0.11,0,3.39,0,0,0,5.85,0,2.2599999999999998,0,0.25,0,2.8,0,0,0,0,0,0]
[null,null,null,null,null,null,null,null,null,null,null,null,null,null,null,"Peynir Altı Suyu Tozu",null,0,null,0,3.55,3.41,0,0,2.93,2.35,98,13.7,1,0,0,0,1,0,0,0,0,9,"Conc","Calf Feed-Milk",0,0,0,0,0,0,0,0,0,0,0,0,0,0,0,0,0,0,0,0,0,0,0,12,1.77,0,0.97,0,0.18,0,3.5,0,0.5,0,1.4,0,0.3,0,5.8,0,2,0,0,0,104,0,4.46,0,0.25,0,2.8,0,0,0,0,0,0]
[null,null,null,null,null,null,null,null,null,null,null,null,null,null,null,"Peynir Altı Suyu Tozu, Düşük Laktozlu","4-01-186",0,null,0,3.54,3.4,0,0,2.92,2.34,93,17.899999999999999,1,0,0,0.7,1,0,0,0,0,16.5,"Conc","Calf Feed-Milk",0,0,0,0,0,0,0,0,0,0,0,0,0,0,0,0,0,0,0,0,0,0,0,12,1.71,0,1.1200000000000001,0,0.23,0,3.16,0,1.54,0,1.1000000000000001,0,1.1499999999999999,0,0.01,0,0.72,0,0,0,9,0,0.1,0,0.25,0,20,0,0,0,0,0,0]
[null,null,null,null,null,null,null,null,null,null,null,null,null,null,null,"Sığır Besi Yemi",null,77.73,"Conc",1,3.5,2.81,1.78,1.69,1.91,1.28,89,14.66,1,2.36,0.9,2.4900000000000002,1,21.29,0.45,9.1,3,7.3,"Conc","Energy Source",0,10,32.81,57.19,8.1999999999999993,17.600000000000001,24.27,31.85,90,6.29,2.4,3.82,6.38,3.56,1.63,2.02,4.72,3.26,1.1599999999999999,6.38,37.43,9.2799999999999994,4.22,10,1.19,0.6,0.56000000000000005,0.7,0.3,0.16,0.99,0.9,0.31,0.9,0.4,0.9,0.2,1,0.42,1,21.2,0.04,0.9,0.85,276.7,0.1,82.93,0.01,0.32,1,107.64,0.15,0,0,7.87,0.78700000000000003,33.71]
[null,null,null,null,null,null,null,null,null,null,null,null,null,null,null,"Sığır Süt Yemi,16 HP, 2400 ME",null,75.2,"Conc",1,3.4,2.71,1.72,1.63,1.87,1.24,89,18.3,1,2.36,0.9,2.4700000000000002,1,26.07,0.45,11.9,3.48,7.98,"Conc","Energy Source",0,15,32.81,57.19,8.1999999999999993,17.600000000000001,22.27,29.27,90,6.29,2.4,3.82,6.38,3.56,1.63,2.02,4.72,3.26,1.1599999999999999,4.6100000000000003,37.43,9.2799999999999994,4.22,10.6,1.19,0.6,0.56000000000000005,0.7,0.3,0.16,0.99,0.9,0.31,0.9,0.4,0.9,0.2,1,0.42,1,21.2,0.04,0.9,0.85,276.7,0.1,82.93,0.01,0.32,1,107.64,0.15,0,0,7.87,0.78700000000000003,33.71]
[null,null,null,null,null,null,null,null,null,null,null,null,null,null,null,"Sığır Süt Yemi,16 HP, 2500 ME",null,75.2,"Conc",1,3.5,2.76,1.78,1.69,1.92,1.3,89,18.3,1,2.36,0.9,2.4700000000000002,1,21,0.45,9.1,3,7.3,"Conc","Energy Source",0,15,32.81,57.19,8.1999999999999993,17.600000000000001,22.27,29.27,90,6.29,2.4,3.82,6.38,3.56,1.63,2.02,4.72,3.26,1.1599999999999999,4.6100000000000003,37.43,9.2799999999999994,4.22,10.6,1.19,0.6,0.56000000000000005,0.7,0.3,0.16,0.99,0.9,0.31,0.9,0.4,0.9,0.2,1,0.42,1,21.2,0.04,0.9,0.85,276.7,0.1,82.93,0.01,0.32,1,107.64,0.15,0,0,7.87,0.78700000000000003,33.71]
[null,null,null,null,null,null,null,null,null,null,null,null,null,null,null,"Sığır Süt Yemi,16 HP, 2600 ME",null,78,"Conc",1,3.62,2.9,1.88,1.76,2.02,1.37,89,18.3,1,2.36,0.9,2.4700000000000002,1,19.3,0.45,8.6999999999999993,3,7.1,"Conc","Energy Source",0,15,32.81,57.19,8.1999999999999993,17.600000000000001,22.27,29.27,90,6.29,2.4,3.82,6.38,3.56,1.63,2.02,4.72,3.26,1.1599999999999999,4.6100000000000003,37.43,9.2799999999999994,4.22,10.6,1.19,0.6,0.56000000000000005,0.7,0.3,0.16,0.99,0.9,0.31,0.9,0.4,0.9,0.2,1,0.42,1,21.2,0.04,0.9,0.85,276.7,0.1,82.93,0.01,0.32,1,107.64,0.15,0,0,7.87,0.78700000000000003,33.71]
[null,null,null,null,null,null,null,null,null,null,null,null,null,null,null,"Sığır Süt Yemi,18 HP, 2400 ME",null,75.2,"Conc",1,3.4,2.71,1.72,1.63,1.87,1.24,89,20.399999999999999,1,2.36,0.9,2.4700000000000002,1,26.07,0.45,11.9,3.48,7.98,"Conc","Energy Source",0,15,32.81,57.19,8.1999999999999993,17.600000000000001,22.27,29.27,90,6.29,2.4,3.82,6.38,3.56,1.63,2.02,4.72,3.26,1.1599999999999999,6.38,37.43,9.2799999999999994,4.22,10.6,1.19,0.6,0.56000000000000005,0.7,0.3,0.16,0.99,0.9,0.31,0.9,0.4,0.9,0.2,1,0.42,1,21.2,0.04,0.9,0.85,276.7,0.1,82.93,0.01,0.32,1,107.64,0.15,0,0,7.87,0.78700000000000003,33.71]
[null,null,null,null,null,null,null,null,null,null,null,null,null,null,null,"Sığır Süt Yemi,18 HP, 2500 ME",null,79.680000000000007,"Conc",1,3.5,2.76,1.78,1.69,1.92,1.3,89,20.420000000000002,1,1.82,0.56999999999999995,2.65,1,23.7,0.45,10.5,2.1800000000000002,8.1999999999999993,"Conc","Energy Source",0,15,32.81,57.19,8.1999999999999993,17.600000000000001,22.27,29.27,90,5.51,2.5299999999999998,3.44,7.37,3.51,1.65,2.02,4.67,3.28,1.06,4.4000000000000004,37.43,9.02,4.33,10.6,1.19,0.6,0.59,0.7,0.28000000000000003,0.16,0.92,0.91,0.19,0.91,0.33,0.9,0.23,1,0.33,1,20.100000000000001,0.04,0.9,0.85,249.09,0.1,84.62,0.01,0.37,1,100.43,0.15,0,0,7.87,0.79,33.71]
[null,null,null,null,null,null,null,null,null,null,null,null,null,null,null,"Sığır Süt Yemi,18 HP, 2600 ME",null,79.680000000000007,"Conc",1,3.62,2.91,1.87,1.76,2.02,1.37,89,20.420000000000002,1,1.82,0.56999999999999995,2.65,1,18.75,0.45,8.17,2.1800000000000002,6.94,"Conc","Energy Source",0,15,32.81,57.19,8.1999999999999993,17.600000000000001,22.27,29.27,90,5.51,2.5299999999999998,3.44,7.37,3.51,1.65,2.02,4.67,3.28,1.06,4.4000000000000004,37.43,9.02,4.33,10.6,1.19,0.6,0.59,0.7,0.28000000000000003,0.16,0.92,0.91,0.19,0.91,0.33,0.9,0.23,1,0.33,1,20.100000000000001,0.04,0.9,0.85,249.09,0.1,84.62,0.01,0.37,1,100.43,0.15,0,0,7.87,0.79,33.71]
[null,null,null,null,null,null,null,null,null,null,null,null,null,null,null,"Sığır Süt Yemi,18 HP, 2650 ME",null,79.680000000000007,"Conc",1,3.62,2.91,1.87,1.76,2.02,1.37,89,20.420000000000002,1,1.82,0.56999999999999995,2.65,1,18.75,0.45,8.17,2.1800000000000002,6.94,"Conc","Energy Source",0,15,32.81,57.19,8.1999999999999993,17.600000000000001,22.27,29.27,90,5.51,2.5299999999999998,3.44,7.37,3.51,1.65,2.02,4.67,3.28,1.06,4.4000000000000004,37.43,9.02,4.33,10.6,1.19,0.6,0.59,0.7,0.28000000000000003,0.16,0.92,0.91,0.19,0.91,0.33,0.9,0.23,1,0.33,1,20.100000000000001,0.04,0.9,0.85,249.09,0.1,84.62,0.01,0.37,1,100.43,0.15,0,0,7.87,0.79,33.71]
[null,null,null,null,null,null,null,null,null,null,null,null,null,null,null,"Sığır Süt Yemi,19 HP, 2600 ME",null,79.680000000000007,"Conc",1,3.62,2.91,1.87,1.76,2.02,1.37,89,21.8,1,1.82,0.56999999999999995,2.65,1,20.2,0.45,8.6999999999999993,2.1800000000000002,6.9,"Conc","Energy Source",0,15,32.81,57.19,8.1999999999999993,17.600000000000001,22.27,29.27,90,5.51,2.5299999999999998,3.44,7.37,3.51,1.65,2.02,4.67,3.28,1.06,7.37,37.43,9.02,4.33,10.6,1.19,0.6,0.59,0.7,0.28000000000000003,0.16,0.92,0.91,0.19,0.91,0.33,0.9,0.23,1,0.33,1,20.100000000000001,0.04,0.9,0.85,249.09,0.1,84.62,0.01,0.37,1,100.43,0.15,0,0,7.87,0.79,33.71]
[null,null,null,null,null,null,null,null,null,null,null,null,null,null,null,"Sığır Süt Yemi,19HP, 2650 ME",null,79.680000000000007,"Conc",1,3.62,2.91,1.87,1.76,2.02,1.37,89,21.8,1,1.82,0.56999999999999995,2.65,1,18.75,0.45,8.17,2.1800000000000002,6.94,"Conc","Energy Source",0,15,32.81,57.19,8.1999999999999993,17.600000000000001,22.27,29.27,90,5.51,2.5299999999999998,3.44,7.37,3.51,1.65,2.02,4.67,3.28,1.06,7.37,37.43,9.02,4.33,10.6,1.19,0.6,0.59,0.7,0.28000000000000003,0.16,0.92,0.91,0.19,0.91,0.33,0.9,0.23,1,0.33,1,20.100000000000001,0.04,0.9,0.85,249.09,0.1,84.62,0.01,0.37,1,100.43,0.15,0,0,7.87,0.79,33.71]
[null,null,null,null,null,null,null,null,null,null,null,null,null,null,null,"Sığır Süt Yemi,19 HP, 2700 ME",null,79.680000000000007,"Conc",1,3.7,3.07,1.95,1.83,2.12,1.42,89,21.8,1,1.82,0.56999999999999995,2.65,1,20.2,0.45,8.6999999999999993,2.1800000000000002,6.9,"Conc","Energy Source",0,15,32.81,57.19,8.1999999999999993,17.600000000000001,22.27,29.27,90,5.51,2.5299999999999998,3.44,7.37,3.51,1.65,2.02,4.67,3.28,1.06,4.4000000000000004,37.43,9.02,4.33,11.5,1.19,0.6,0.59,0.7,0.28000000000000003,0.16,0.92,0.91,0.19,0.91,0.33,0.9,0.23,1,0.33,1,20.100000000000001,0.04,0.9,0.85,249.09,0.1,84.62,0.01,0.37,1,100.43,0.15,0,0,7.87,0.79,33.71]
[null,null,null,null,null,null,null,null,null,null,null,null,null,null,null,"Sığır Süt Yemi,19 HP, 2800 ME",null,82.74,"Conc",1,4,3.15,2.0499999999999998,1.92,2.1800000000000002,1.57,89,21.3,1,1.47,0.53,3.18,1,19.600000000000001,0.45,8.3000000000000007,1.32,6.3,"Conc","Energy Source",0,15,32.81,57.19,8.1999999999999993,17.600000000000001,22.27,29.27,90,5.08,2.54,3.57,8.43,3.54,1.7,1.95,4.76,3.31,1.02,4.3,38.270000000000003,8.8699999999999992,4.3600000000000003,11.8,1.18,0.6,0.52,0.7,0.22,0.16,0.85,0.9,0.16,0.9,0.31,0.9,0.25,1,0.28000000000000003,1,19.350000000000001,0.04,0.9,0.85,240.92,0.1,83.65,0.01,0.36,1,96.07,0.15,0,0,7.87,0.79,33.71]
[null,null,null,null,null,null,null,null,null,null,null,null,null,null,null,"Sığır Süt Yemi,20 HP, 2600 ME",null,79.680000000000007,"Conc",1,3.62,2.91,1.87,1.76,2.02,1.37,89,22.5,1,1.82,0.56999999999999995,2.65,1,18.75,0.45,8.17,2.1800000000000002,6.94,"Conc","Energy Source",0,15,32.81,57.19,8.1999999999999993,17.600000000000001,22.27,29.27,90,5.51,2.5299999999999998,3.44,7.37,3.51,1.65,2.02,4.67,3.28,1.06,4.4000000000000004,37.43,9.02,4.33,12,1.19,0.6,0.59,0.7,0.28000000000000003,0.16,0.92,0.91,0.19,0.91,0.33,0.9,0.23,1,0.33,1,20.100000000000001,0.04,0.9,0.85,249.09,0.1,84.62,0.01,0.37,1,100.43,0.15,0,0,7.87,0.79,33.71]
[null,null,null,null,null,null,null,null,null,null,null,null,null,null,null,"Sığır Süt Yemi,20 HP, 3100 ME",null,83,"Conc",1,4.0999999999999996,3.48,2.48,2.38,1.92,1.3,89,22.5,1,1.82,0.56999999999999995,2.65,1,18.75,0.45,8.17,2.1800000000000002,6.94,"Conc","Energy Source",0,15,32.81,57.19,8.1999999999999993,17.600000000000001,22.27,29.27,90,5.51,2.5299999999999998,3.44,7.37,3.51,1.65,2.02,4.67,3.28,1.06,4.4000000000000004,37.43,9.02,4.33,12,1.19,0.6,0.59,0.7,0.28000000000000003,0.16,0.92,0.91,0.19,0.91,0.33,0.9,0.23,1,0.33,1,20.100000000000001,0.04,0.9,0.85,249.09,0.1,84.62,0.01,0.37,1,100.43,0.15,0,0,7.87,0.79,33.71]
[null,null,null,null,null,null,null,null,null,null,null,null,null,null,null,"Sığır Süt Yemi,21 HP, 2600 ME",null,79.680000000000007,"Conc",1,3.62,2.91,1.87,1.76,2.02,1.37,89,23.66,1,1.82,0.56999999999999995,2.65,1,18.75,0.45,8.17,2.1800000000000002,6.94,"Conc","Energy Source",0,15,32.81,57.19,8.1999999999999993,17.600000000000001,22.27,29.27,90,5.51,2.5299999999999998,3.44,7.37,3.51,1.65,2.02,4.67,3.28,1.06,7.37,37.43,9.02,4.33,12,1.19,0.6,0.59,0.7,0.28000000000000003,0.16,0.92,0.91,0.19,0.91,0.33,0.9,0.23,1,0.33,1,20.100000000000001,0.04,0.9,0.85,249.09,0.1,84.62,0.01,0.37,1,100.43,0.15,0,0,7.87,0.79,33.71]
[null,null,null,null,null,null,null,null,null,null,null,null,null,null,null,"Sığır Süt Yemi,21 HP, 2650 ME",null,81,"Conc",1,3.62,3.01,1.91,1.8,2.06,1.39,89,23.66,1,1.47,0.53,3.18,1,21.7,0.45,10,1.32,6.29,"Conc","Energy Source",0,15,32.81,57.19,8.1999999999999993,17.600000000000001,22.27,29.27,90,5.08,2.54,3.57,8.43,3.54,1.7,1.95,4.76,3.31,1.02,4.3,38.270000000000003,8.8699999999999992,4.3600000000000003,12,1.18,0.6,0.52,0.7,0.22,0.16,0.85,0.9,0.16,0.9,0.31,0.9,0.25,1,0.28000000000000003,1,19.350000000000001,0.04,0.9,0.85,240.92,0.1,83.65,0.01,0.36,1,96.07,0.15,0,0,7.87,0.79,33.71]
[null,null,null,null,null,null,null,null,null,null,null,null,null,null,null,"Sığır Süt Yemi,21 HP, 2700 ME",null,82.74,"Conc",1,3.7,3.07,1.95,1.83,2.12,1.42,89,23.66,1,1.47,0.53,3.18,1,20.2,0.45,9,1.32,6.29,"Conc","Energy Source",0,15,32.81,57.19,8.1999999999999993,17.600000000000001,22.27,29.27,90,5.08,2.54,3.57,8.43,3.54,1.7,1.95,4.76,3.31,1.02,8.43,38.270000000000003,8.8699999999999992,4.3600000000000003,12,1.18,0.6,0.52,0.7,0.22,0.16,0.85,0.9,0.16,0.9,0.31,0.9,0.25,1,0.28000000000000003,1,19.350000000000001,0.04,0.9,0.85,240.92,0.1,83.65,0.01,0.36,1,96.07,0.15,0,0,7.87,0.79,33.71]
[null,null,null,null,null,null,null,null,null,null,null,null,null,null,null,"Sığır Süt Yemi,21 HP, 2750 ME",null,82.74,"Conc",1,3.8,3.09,1.99,1.88,2.14,1.47,89,23.66,1,1.47,0.53,3.18,1,20.2,0.45,9,1.32,6.29,"Conc","Energy Source",0,15,32.81,57.19,8.1999999999999993,17.600000000000001,22.27,29.27,90,5.08,2.54,3.57,8.43,3.54,1.7,1.95,4.76,3.31,1.02,4.3,38.270000000000003,8.8699999999999992,4.3600000000000003,12.5,1.18,0.6,0.52,0.7,0.22,0.16,0.85,0.9,0.16,0.9,0.31,0.9,0.25,1,0.28000000000000003,1,19.350000000000001,0.04,0.9,0.85,240.92,0.1,83.65,0.01,0.36,1,96.07,0.15,0,0,7.87,0.79,33.71]
[null,null,null,null,null,null,null,null,null,null,null,null,null,null,null,"Sığır Süt Yemi,21 HP, 2800 ME",null,82.74,"Conc",1,3.8,3.14,2.0299999999999998,1.93,2.14,1.47,89,23.66,1,1.47,0.53,3.18,1,20.2,0.45,9,1.32,6.29,"Conc","Energy Source",0,15,32.81,57.19,8.1999999999999993,17.600000000000001,22.27,29.27,90,5.08,2.54,3.57,8.43,3.54,1.7,1.95,4.76,3.31,1.02,8.43,38.270000000000003,8.8699999999999992,4.3600000000000003,13.5,1.18,0.6,0.52,0.7,0.22,0.16,0.85,0.9,0.16,0.9,0.31,0.9,0.25,1,0.28000000000000003,1,19.350000000000001,0.04,0.9,0.85,240.92,0.1,83.65,0.01,0.36,1,96.07,0.15,0,0,7.87,0.79,33.71]
[null,null,null,null,null,null,null,null,null,null,null,null,null,null,null,"Sığır Süt Yemi,22 HP, 2750 ME",null,83,"Conc",1,3.8,3.09,1.99,1.88,2.14,1.47,89,24,1,1.47,0.53,3.18,1,19.600000000000001,0.45,8.6,1.32,7,"Conc","Energy Source",0,15,32.81,57.19,8.1999999999999993,17.600000000000001,22.27,29.27,90,5.08,2.54,3.57,8.43,3.54,1.7,1.95,4.76,3.31,1.02,4.3,38.270000000000003,8.8699999999999992,4.3600000000000003,13.5,1.18,0.6,0.52,0.7,0.22,0.16,0.85,0.9,0.16,0.9,0.31,0.9,0.25,1,0.28000000000000003,1,19.350000000000001,0.04,0.9,0.85,240.92,0.1,83.65,0.01,0.36,1,96.07,0.15,0,0,7.87,0.79,33.71]
[null,null,null,null,null,null,null,null,null,null,null,null,null,null,null,"Sığır Süt Yemi,23 HP, 3150 ME",null,85,"Conc",1,4.2,3.52,2.52,2.42,1.98,1.5,89,25.5,1,1,0.3,2.65,1,18.75,0.45,8.17,2.1800000000000002,8.1999999999999993,"Conc","Energy Source",0,15,32.81,57.19,8.1999999999999993,17.600000000000001,22.27,29.27,90,5.51,2.5299999999999998,3.44,7.37,3.51,1.65,2.02,4.67,3.28,1.06,7.37,37.43,9.02,4.33,15.4,1.19,0.6,0.59,0.7,0.28000000000000003,0.16,0.92,0.91,0.19,0.91,0.33,0.9,0.23,1,0.33,1,20.100000000000001,0.04,0.9,0.85,249.09,0.1,84.62,0.01,0.37,1,100.43,0.15,0,0,7.87,0.79,33.71]
[null,null,null,null,null,null,null,null,null,null,null,null,null,null,null,"Sığır Süt Yemi,24 HP, 2900 ME",null,83,"Conc",1,3.96,3.25,2.09,1.97,2.23,1.55,89,26.96,1,1,0.3,2.65,1,18.75,0.45,8.17,2.1800000000000002,8.1999999999999993,"Conc","Energy Source",0,15,32.81,57.19,8.1999999999999993,17.600000000000001,22.27,29.27,90,5.51,2.5299999999999998,3.44,7.37,3.51,1.65,2.02,4.67,3.28,1.06,7.37,37.43,9.02,4.33,14.5,1.19,0.6,0.59,0.7,0.28000000000000003,0.16,0.92,0.91,0.19,0.91,0.33,0.9,0.23,1,0.33,1,20.100000000000001,0.04,0.9,0.85,249.09,0.1,84.62,0.01,0.37,1,100.43,0.15,0,0,7.87,0.79,33.71]
[null,null,null,null,null,null,null,null,null,null,null,null,null,null,null,"Sığır Süt Yemi,24 HP, 3100 ME",null,83,"Conc",1,4.0999999999999996,3.48,2.48,2.38,1.92,1.3,89,26.96,1,1,0.3,2.65,1,18.75,0.45,8.17,2.1800000000000002,8.1999999999999993,"Conc","Energy Source",0,15,32.81,57.19,8.1999999999999993,17.600000000000001,22.27,29.27,90,5.51,2.5299999999999998,3.44,7.37,3.51,1.65,2.02,4.67,3.28,1.06,7.37,37.43,9.02,4.33,14.5,1.19,0.6,0.59,0.7,0.28000000000000003,0.16,0.92,0.91,0.19,0.91,0.33,0.9,0.23,1,0.33,1,20.100000000000001,0.04,0.9,0.85,249.09,0.1,84.62,0.01,0.37,1,100.43,0.15,0,0,7.87,0.79,33.71]
[null,null,null,null,null,null,null,null,null,null,null,null,null,null,null,"Sığır Süt Yemi,25 HP, 2550 ME",null,84,"Conc",1,3.56,2.83,1.83,1.7350000000000001,1.92,1.3,89,28,1,1,0.3,2.65,1,18.75,0.45,8.17,2.1800000000000002,8.1999999999999993,"Conc","Energy Source",0,15,32.81,57.19,8.1999999999999993,17.600000000000001,22.27,29.27,90,5.51,2.5299999999999998,3.44,7.37,3.51,1.65,2.02,4.67,3.28,1.06,7.37,37.43,9.02,4.33,14.5,1.19,0.6,0.59,0.7,0.28000000000000003,0.16,0.92,0.91,0.19,0.91,0.33,0.9,0.23,1,0.33,1,20.100000000000001,0.04,0.9,0.85,249.09,0.1,84.62,0.01,0.37,1,100.43,0.15,0,0,7.87,0.79,33.71]
[null,null,null,null,null,null,null,null,null,null,null,null,null,null,null,"Sığır Süt Yemi,26 HP, 3100 ME",null,85,"Conc",1,4.0999999999999996,3.48,2.48,2.38,1.92,1.3,89,28.7,1,1,0.3,2.65,1,18.75,0.45,8.17,2.1800000000000002,8.1999999999999993,"Conc","Energy Source",0,15,32.81,57.19,8.1999999999999993,17.600000000000001,22.27,29.27,90,5.51,2.5299999999999998,3.44,7.37,3.51,1.65,2.02,4.67,3.28,1.06,7.37,37.43,9.02,4.33,14.5,1.19,0.6,0.59,0.7,0.28000000000000003,0.16,0.92,0.91,0.19,0.91,0.33,0.9,0.23,1,0.33,1,20.100000000000001,0.04,0.9,0.85,249.09,0.1,84.62,0.01,0.37,1,100.43,0.15,0,0,7.87,0.79,33.71]
[null,null,null,null,null,null,null,null,null,null,null,null,null,null,null,"Süt","5-01-168",0,0,0,5.59,5.37,0,0,4.62,3.7,12.5,25.4,1,0,0,30.8,1,0,0,0,0,6.3,"Conc","Calf Feed-Milk",0,0,0,0,0,0,0,0,0,0,0,0,0,0,0,0,0,0,0,0,0,0,0,7,1,0,0.75,0,0.1,0,1.23,0,0.4,0,0.92,0,0.32,0,0.01,0,0.8,0,0.15,0,4.0999999999999996,0,0.4,0,0.16,0,38,0,0,0,0,0,0]
[null,null,null,null,null,null,null,null,null,null,null,null,null,null,null,"Süt İkamesi, 18 HP, 20 Yağ",null,0,0,0,4.91,4.72,0,0,4.0599999999999996,3.26,12.5,18,1,0,0,20,1,0,0,0,0,6.3,"Conc","Calf Feed-Milk",0,0,0,0,0,0,0,0,0,0,0,0,0,0,0,0,0,0,0,0,0,0,0,100,1,0,0.7,0,7.0000000000000007E-2,0,0.65,0,0.4,0,0.25,0,0.28999999999999998,0,0.11,0,10,0,0.5,0,100,0,40,0,0.3,0,40,0,0,0,0,0,0]
[null,null,null,null,null,null,null,null,null,null,null,null,null,null,null,"Süt İkamesi, 20 HP, 20 Yağ",null,0,0,0,4.95,4.75,0,0,4.09,3.28,12.5,20,1,0,0,20,1,0,0,0,0,6.3,"Conc","Calf Feed-Milk",0,0,0,0,0,0,0,0,0,0,0,0,0,0,0,0,0,0,0,0,0,0,0,116,1,0,0.7,0,7.0000000000000007E-2,0,0.65,0,0.4,0,0.25,0,0.28999999999999998,0,0.11,0,10,0,0.5,0,100,0,40,0,0.3,0,40,0,0,0,0,0,0]
[null,null,null,null,null,null,null,null,null,null,null,null,null,null,null,"Süt İkamesi, 22 HP, 10 Yağ",null,0,0,0,4.47,4.29,0,0,3.69,2.96,12.5,22,1,0,0,10,1,0,0,0,0,6.3,"Conc","Calf Feed-Milk",0,0,0,0,0,0,0,0,0,0,0,0,0,0,0,0,0,0,0,0,0,0,0,128,1,0,0.7,0,7.0000000000000007E-2,0,0.65,0,0.4,0,0.25,0,0.28999999999999998,0,0.11,0,10,0,0.5,0,100,0,40,0,0.3,0,40,0,0,0,0,0,0]
[null,null,null,null,null,null,null,null,null,null,null,null,null,null,null,"Süt Tozu","5-01-168",0,0,0,5.59,5.37,0,0,4.62,3.7,95,25.4,1,0,0,30.8,1,0,0,0,0,6.3,"Conc","Calf Feed-Milk",0,0,0,0,0,0,0,0,0,0,0,0,0,0,0,0,0,0,0,0,0,0,0,89,1,0,0.75,0,0.1,0,1.23,0,0.4,0,0.92,0,0.32,0,0.01,0,0.8,0,0.15,0,4.0999999999999996,0,0.4,0,0.16,0,38,0,0,0,0,0,0]
[null,null,null,null,null,null,null,null,null,null,null,null,null,null,null,"Yağsız Süt","5-01-170",0,0,0,4.1900000000000004,4.0199999999999996,0,0,3.46,2.77,10,35.5,1,0,0,0.3,1,0,0,0,0,6.9,"Conc","Calf Feed-Milk",0,0,0,0,0,0,0,0,0,0,0,0,0,0,0,0,0,0,0,0,0,0,0,6,1.35,0,1.02,0,0.1,0,1.85,0,0.55000000000000004,0,1,0,0.45,0,0.01,0,0.42,0,0.15,0,3.3,0,0.2,0,0.2,0,42,0,0,0,0,0,0]
[null,null,null,null,null,null,null,null,null,null,null,null,null,null,null,"Yağsız Süt Tozu","5-01-175",0,0,0,4.25,4.08,0,0,3.51,2.82,94,37.4,1,0,0,1,1,0,0,0,0,6.9,"Conc","Calf Feed-Milk",0,0,0,0,0,0,0,0,0,0,0,0,0,0,0,0,0,0,0,0,0,0,0,80,1.29,0,1.08,0,0.1,0,1.85,0,0.55000000000000004,0,1,0,0.45,0,0.01,0,0.42,0,0.15,0,3.3,0,0.2,0,0.2,0,42,0,0,0,0,0,0]
[null,null,null,null,null,null,null,null,null,null,null,null,null,null,null,"Yumurta, çiğ",null,null,null,null,null,6.04,null,null,null,null,24.67,50.63,null,null,null,40.619999999999997,null,null,null,null,null,3.81,null,null,null,null,null,null,null,null,null,null,null,null,null,null,null,null,null,null,null,null,null,null,null,null,null,5,0.21,null,0.73,null,null,null,null,null,0.53]
[null,null,null,null,null,null,null,null,null,null,null,null,null,null,null,"Sığır Süt Yemi,22 HP, 3100 ME",null,83,"Conc",1,3.56,3.48,2.48,2.38,1.92,1.3,89,24.4,1,1,0.3,2.65,1,23.7,0.45,10.5,2.1800000000000002,8.1999999999999993,"Conc","Energy Source",0,15,32.81,57.19,8.1999999999999993,17.600000000000001,22.27,29.27,90,5.51,2.5299999999999998,3.44,7.37,3.51,1.65,2.02,4.67,3.28,1.06,7.37,37.43,9.02,4.33,15,1.19,0.6,0.59,0.7,0.28000000000000003,0.16,0.92,0.91,0.19,0.91,0.33,0.9,0.23,1,0.33,1,20.100000000000001,0.04,0.9,0.85,249.09,0.1,84.62,0.01,0.37,1,100.43,0.15,0,0,7.87,0.79,33.71]
[null,null,null,null,null,null,null,null,null,null,null,null,null,null,null,"Sığır Süt Yemi,16 HP, 2300 ME",null,70,"Conc",1,3.4,2.46,1.56,1.45,1.87,1.24,89,18.100000000000001,1,2.36,0.9,2.4700000000000002,1,26.07,0.45,11.9,3.48,7.98,"Conc","Energy Source",0,15,32.81,57.19,8.1999999999999993,17.600000000000001,22.27,29.27,90,6.29,2.4,3.82,6.38,3.56,1.63,2.02,4.72,3.26,1.1599999999999999,4.6100000000000003,37.43,9.2799999999999994,4.22,13,1.79,0.6,0.54,0.7,0.3,0.16,0.99,0.9,0.27,0.9,0.4,0.9,0.2,1,0.42,1,21.2,0.04,0.9,0.85,276.7,0.1,82.93,0.01,0.32,1,107.64,0.15,0,0,7.87,0.78700000000000003,33.71]
[null,null,null,null,null,null,null,null,null,null,null,null,null,null,null,"Sığır Süt Yemi,19 HP, 2500 ME",null,75.2,"Conc",1,3.5,2.76,1.78,1.69,1.92,1.3,89,21.8,1,2.36,0.9,2.4700000000000002,1,21,0.45,9.1,3,7.3,"Conc","Energy Source",0,15,32.81,57.19,8.1999999999999993,17.600000000000001,22.27,29.27,90,6.29,2.4,3.82,6.38,3.56,1.63,2.02,4.72,3.26,1.1599999999999999,4.6100000000000003,37.43,9.2799999999999994,4.22,14,1.19,0.6,0.56000000000000005,0.7,0.3,0.16,0.99,0.9,0.31,0.9,0.4,0.9,0.2,1,0.42,1,21.2,0.04,0.9,0.85,276.7,0.1,82.93,0.01,0.32,1,107.64,0.15,0,0,7.87,0.78700000000000003,33.71]
[null,null,null,null,null,null,null,null,null,null,null,null,null,null,null,null,null,null,null,null,null,null,null,null,null,null,null,null,null,null,null,null,null,null,null,null,null,null,null,null,0,15]
[null,null,null,null,null,null,null,null,null,null,null,null,null,null,null,null,null,null,null,null,null,null,null,null,null,null,null,null,null,null,null,null,null,null,null,null,null,null,null,null,0,15]
[null,null,null,null,null,null,null,null,null,null,null,null,null,null,null,null,null,null,null,null,null,null,null,null,null,null,null,null,null,null,null,null,null,null,null,null,null,null,null,null,0,15]
[]
[]
[]
[]
[]
[]
[]
[]
[]
[]
[]
[]
[]
[]
[]
[]
[]
[]
[]
[]
[]
[]
[]
[]
[]
[null,null,null,null,null,null,null,null,null,null,null,null,null,null,null,"Vitamin Ve","Int.",null,null,null,null,null,null,null,null,null,"KM","HP",null,null,null,null,null,null,null,null,null,"HK",null,null,null,null,"N Fraksiyonu % HP",null,null,"Kd",null,null,"RUPSind."]
[null,null,null,null,null,null,null,null,null,null,null,null,null,null,null,"Mineral Kaynakları","Yem no",null,null,null,null,null,null,null,null,null,"%","%",null,null,null,null,null,null,null,null,null,"%",null,"Kategori",null,null,"A","B","C","%/sa B",null,null,"%",null,null,null,null,null,null,null,null,null,null,null,null,null,null,null,"Ca","CaDeğ.","P","PDeğ.","Mg","MgDeğ.","K","KDeğ.","Na","NaDEğ.","Cl","ClDeğ.","S","SDeğ.","Co (mg/kg)","CoDeğ.","Cu (mg/kg)","CuDeğ.","I (mg/kg)","IDeğ.","Fe (mg/kg)","FeDeğ.","Mn (mg/kg)","MnDeğ.","Se (mg/kg)","SeDeğ.","Zn (mg/kg)","ZnDeğ."]
[null,null,null,null,null,null,null,null,null,null,null,null,null,null,null,"Amonyum Fosfat (Dibazik), (NH4)2HPO4","6-00-370",0,0,0,0,0,0,0,0,0,100,115.9,1,0,0,0,0,0,0,0,0,35.6,"Conc","Calf Feed-Vit/Min",0,0,100,0,0,0,0,0,0,0,0,0,0,0,0,0,0,0,0,0,0,0,0,9,0.52,0.55000000000000004,20.6,0.8,0.46,0.16,0.01,0.9,0.05,0.9,0,0.9,2.16,1,0,1,10,0.04,0,0.85,12400,0.1,400,0.01,0,1,100,0.15,0,0,0,0,0]
[null,null,null,null,null,null,null,null,null,null,null,null,null,null,null,"Amonyum Fosfat (Monobazik), (NH4)2HPO4","6-09-338",0,0,0,0,0,0,0,0,0,100,70.900000000000006,1,0,0,0,0,0,0,0,0,35.5,"Conc","Calf Feed-Vit/Min",0,0,100,0,0,0,0,0,0,0,0,0,0,0,0,0,0,0,0,0,0,0,0,9,0.28000000000000003,0.55000000000000004,24.74,0.8,0.46,0.16,0.01,0.9,0.06,0.9,0,0.9,1.46,1,10,1,10,0.04,22,0.85,17400,0.1,400,0.01,0,1,100,0.15,0,0,0,0,0]
[null,null,null,null,null,null,null,null,null,null,null,null,null,null,null,"Amonyum Klorid",0,0,0,0,0,0,0,0,0,0,100,163.63,1,0,0,0,0,0,0,0,0,0,"Conc","Calf Feed-Vit/Min",0,0,0,0,0,0,0,0,0,0,0,0,0,0,0,0,0,0,0,0,0,0,0,9,0,0,0,0,0,0,0,0,0,0,66.28,0,0,0,0,0,0,0,0,0,0,0,0,0,0,0,0,0,0,0,0,0,0]
[null,null,null,null,null,null,null,null,null,null,null,null,null,null,null,"Amonyum Sülfat, (NH4)2SO4","6-09-339",0,0,0,0,0,0,0,0,0,100,134.1,1,0,0,0,0,0,0,0,0,33,"Conc","Calf Feed-Vit/Min",0,0,100,0,0,0,0,0,0,0,0,0,0,0,0,0,0,0,0,0,0,0,0,9,0,0.55000000000000004,0,0.8,0,0.16,0,0.9,0,0.9,0,0.9,24.1,1,0,1,1,0.04,0,0.85,10,0.1,1,0.01,0,1,0,0.15,0,0,0,0,0]
[null,null,null,null,null,null,null,null,null,null,null,null,null,null,null,"Animate",null,69,"0",0,0,0,1.53,0,1.55,0.96,88.5,28,1,0,0,1.1200000000000001,0,15.05,0,6.65,0.94,17.079999999999998,"Conc","Calf Feed-Vit/Min",0,0,100,0,0,0,0,0,0,0,0,0,0,0,0,0,0,0,0,0,0,0,0,20,1.24,0.55000000000000004,0.67,0.8,4.2699999999999996,0.16,1.24,0.9,0.34,0.9,12.7,0.9,4.04,1,0,1,8,0.04,0,0.85,167,0.1,36,0.01,0,1,78,0.15,0,0,0,0,0]
[null,null,null,null,null,null,null,null,null,null,null,null,null,null,null,"Bakır Klorid, CuCl2","6-01-705",0,0,0,0,0,0,0,0,0,100,0,0,0,0,0,0,0,0,0,0,100,"Conc","Calf Feed-Vit/Min",0,0,0,0,0,0,0,0,0,0,0,0,0,0,0,0,0,0,0,0,0,0,0,14,0,0.6,0,0.7,0,0.16,0,0.9,0,0.9,18,0.9,0,1,0,1,580000,0.05,0,0.85,0,0.1,0,0.01,0,1,0,0.15,0,0,0,0,0]
[null,null,null,null,null,null,null,null,null,null,null,null,null,null,null,"Bakır Sülfat, 5 Sulu, CuSO4.5H2O","6-01-717",0,0,0,0,0,0,0,0,0,100,0,0,0,0,0,0,0,0,0,0,100,"Conc","Calf Feed-Vit/Min",0,0,0,0,0,0,0,0,0,0,0,0,0,0,0,0,0,0,0,0,0,0,0,14,0,0.6,0,0.7,0,0.16,0,0.9,0,0.9,0,0.9,12.6,1,0,1,252000,0.05,0,0.85,0,0.1,0,0.01,0,1,0,0.15,0,0,0,0,0]
[null,null,null,null,null,null,null,null,null,null,null,null,null,null,null,"Çinko Karbonat, ZnCO3","6-05-549",0,0,0,0,0,0,0,0,0,100,0,0,0,0,0,0,0,0,0,0,100,"Conc","Calf Feed-Vit/Min",0,0,0,0,0,0,0,0,0,0,0,0,0,0,0,0,0,0,0,0,0,0,0,14,0,0.6,0,0.7,0,0.16,0,0.9,0,0.9,0,0.9,0,1,0,1,0,0.04,0,0.85,0,0.1,0,0.01,0,1,520000,0.2,0,0,0,0,0]
[null,null,null,null,null,null,null,null,null,null,null,null,null,null,null,"Çinko Klorid, ZnCl2","6-05-551",0,0,0,0,0,0,0,0,0,100,0,0,0,0,0,0,0,0,0,0,100,"Conc","Calf Feed-Vit/Min",0,0,0,0,0,0,0,0,0,0,0,0,0,0,0,0,0,0,0,0,0,0,0,14,0,0.6,0,0.7,0,0.16,0,0.9,0,0.9,52,0.9,0,1,0,1,0,0.04,0,0.85,0,0.1,0,0.01,0,1,480000,0.2,0,0,0,0,0]
[null,null,null,null,null,null,null,null,null,null,null,null,null,null,null,"Çinko Oksit, ZnO","6-05-533",0,0,0,0,0,0,0,0,0,100,0,0,0,0,0,0,0,0,0,0,100,"Conc","Calf Feed-Vit/Min",0,0,0,0,0,0,0,0,0,0,0,0,0,0,0,0,0,0,0,0,0,0,0,14,0,0.6,0,0.7,0,0.16,0,0.9,0,0.9,0,0.9,0,1,0,1,0,0.04,0,0.85,0,0.1,0,0.01,0,1,720000,0.12,0,0,0,0,0]
[null,null,null,null,null,null,null,null,null,null,null,null,null,null,null,"Çinko Sülfat, 1 Sulu, ZnSO4.H2O","6-05-555",0,0,0,0,0,0,0,0,0,100,0,0,0,0,0,0,0,0,0,0,100,"Conc","Calf Feed-Vit/Min",0,0,0,0,0,0,0,0,0,0,0,0,0,0,0,0,0,0,0,0,0,0,0,14,0.2,0.6,0,0.7,0,0.16,0,0.9,0,0.9,0.02,0.9,5.6,1,0,1,0,0.04,0,0.85,10,0.1,10,0.01,0,1,360000,0.2,0,0,0,0,0]
[null,null,null,null,null,null,null,null,null,null,null,null,null,null,null,"Demir Karbonat","6-01-863",0,0,0,0,0,0,0,0,0,100,0,0,0,0,0,0,0,0,0,0,100,"Conc","Calf Feed-Vit/Min",0,0,0,0,0,0,0,0,0,0,0,0,0,0,0,0,0,0,0,0,0,0,0,11,0,0.6,0,0.7,0,0.16,0,0.9,0,0.9,0,0.9,0,1,0,1,0,0.04,0,0.85,400000,0.1,0,0.01,0,1,0,0.15,0,0,0,0,0]
[null,null,null,null,null,null,null,null,null,null,null,null,null,null,null,"Demir Sülfat, 1 Sulu","6-20-734",0,0,0,0,0,0,0,0,0,100,0,0,0,0,0,0,0,0,0,0,100,"Conc","Calf Feed-Vit/Min",0,0,0,0,0,0,0,0,0,0,0,0,0,0,0,0,0,0,0,0,0,0,0,11,0,0.6,0,0.7,0,0.16,0,0.9,0,0.9,0,0.9,18,1,0,1,0,0.04,0,0.85,310000,0.2,0,0.01,0,1,0,0.15,0,0,0,0,0]
[null,null,null,null,null,null,null,null,null,null,null,null,null,null,null,"Demir Sülfat, 7 Sulu, FeSO4.7H2O","6-20-734",0,0,0,0,0,0,0,0,0,100,0,0,0,0,0,0,0,0,0,0,100,"Conc","Calf Feed-Vit/Min",0,0,0,0,0,0,0,0,0,0,0,0,0,0,0,0,0,0,0,0,0,0,0,11,0,0.6,0,0.7,0,0.16,0,0.9,0,0.9,0,0.9,12,1,0,1,0,0.04,0,0.85,210000,0.2,0,0.01,0,1,0,0.15,0,0,0,0,0]
[null,null,null,null,null,null,null,null,null,null,null,null,null,null,null,"Dikalsiyum Fosfat (DCP)","6-01-080",0,0,0,0,0,0,0,0,0,97,0,0,0,0,0,0,0,0,0,0,100,"Conc","Calf Feed-Vit/Min",0,1,0,0,0,0,0,0,0,0,0,0,0,0,0,0,0,0,0,0,0,0,0,35,22,0.6,19.3,0.7,0,0,0,0,0,0,0,0,1.1399999999999999,0,0,0,0,0,0,0,14.4,0,0,0,0,0,0,0,0,0,0,0,0]
[null,null,null,null,null,null,null,null,null,null,null,null,null,null,null,"Dolomitik Kireçtaşı","6-02-633",0,0,0,0,0,0,0,0,0,99,0,0,0,0,0,0,0,0,0,0,100,"Conc","Calf Feed-Vit/Min",0,0,0,0,0,0,0,0,0,0,0,0,0,0,0,0,0,0,0,0,0,0,0,2,22.3,0.55000000000000004,0.04,0.7,9.99,0.2,0.36,0.9,0,0.9,0.12,0.9,0,1,0,1,0,0.04,36.5,0.85,770,0.1,0,0.01,0,1,0,0.15,0,0,0,0,0]
[null,null,null,null,null,null,null,null,null,null,null,null,null,null,null,"Fosfat, Deflorine","6-01-780",0,0,0,0,0,0,0,0,0,100,0,0,0,0,0,0,0,0,0,0,100,"Conc","Calf Feed-Vit/Min",0,0,0,0,0,0,0,0,0,0,0,0,0,0,0,0,0,0,0,0,0,0,0,13,32,0.55000000000000004,18,0.65,0.42,0.16,0.08,0.9,4.9000000000000004,0.9,0,0.9,0,1,0,1,0,0.04,0,0.85,6700,0.1,200,0.01,0,1,60,0.15,0,0,0,0,0]
[null,null,null,null,null,null,null,null,null,null,null,null,null,null,null,"Fosforik Asit, H3PO4","6-03-707",0,0,0,0,0,0,0,0,0,100,0,0,0,0,0,0,0,0,0,0,100,"Conc","Calf Feed-Vit/Min",0,0,0,0,0,0,0,0,0,0,0,0,0,0,0,0,0,0,0,0,0,0,0,13,0.05,0.55000000000000004,31.6,0.9,0.51,0.16,0.02,0.9,0.04,0.9,0,0.9,1.55,1,10,1,10,0.04,0,0.85,17500,0.1,500,0.01,0,1,130,0.15,0,0,0,0,0]
[null,null,null,null,null,null,null,null,null,null,null,null,null,null,null,"İstridye Kabuğu Unu","6-03-481",0,0,0,0,0,0,0,0,0,100,0,0,0,0,0,0,0,0,0,0,100,"Conc","Calf Feed-Vit/Min",0,0,0,0,0,0,0,0,0,0,0,0,0,0,0,0,0,0,0,0,0,0,0,13,38,0.7,7.0000000000000007E-2,0.7,0.3,0.16,0.1,0.9,0.21,0.9,0.01,0,0,1,0,1,0,0.04,0,0.85,2870,0.1,100,0.01,0,1,0,0.15,0,0,0,0,0]
[null,null,null,null,null,null,null,null,null,null,null,null,null,null,null,"Kalsiyum Fosfat, Ca(H2PO4)2","6-01-082",0,0,0,0,0,0,0,0,0,100,0,0,0,0,0,0,0,0,0,0,100,"Conc","Calf Feed-Vit/Min",0,0,0,0,0,0,0,0,0,0,0,0,0,0,0,0,0,0,0,0,0,0,0,2,16.399999999999999,0.8,21.6,0.75,0.61,0.16,0.08,0.9,0.06,0.9,0,0.9,1.22,1,10,1,10,0.04,0,0.85,15800,0.1,360,0.01,0,1,90,0.15,0,0,0,0,0]
[null,null,null,null,null,null,null,null,null,null,null,null,null,null,null,"Kalsiyum Hidroksit, Ca(OH)2","6-14-014",0,0,0,0,0,0,0,0,0,100,0,0,0,0,0,0,0,0,0,0,100,"Conc","Calf Feed-Vit/Min",0,0,0,0,0,0,0,0,0,0,0,0,0,0,0,0,0,0,0,0,0,0,0,2,54,0.5,0,0.7,0,0.16,0,0.9,0,0.9,0,0.9,0,1,0,1,0,0.04,0,0.85,0,0.1,0,0.01,0,1,0,0.15,0,0,0,0,0]
[null,null,null,null,null,null,null,null,null,null,null,null,null,null,null,"Kalsiyum İyodat","6-01-075",0,0,0,0,0,0,0,0,0,100,0,0,0,0,0,0,0,0,0,0,100,"Conc","Calf Feed-Vit/Min",0,0,0,0,0,0,0,0,0,0,0,0,0,0,0,0,0,0,0,0,0,0,0,2,10,0.5,0,0.7,0,0.16,0,0.9,0,0.9,0,0.9,0,1,0,1,0,0.04,635000,0.9,0,0.1,0,0.01,0,1,0,0.15,0,0,0,0,0]
[null,null,null,null,null,null,null,null,null,null,null,null,null,null,null,"Kalsiyum Karbonat, CaCO3","6-01-069",0,0,0,0,0,0,0,0,0,100,0,0,0,0,0,0,0,0,0,0,100,"Conc","Calf Feed-Vit/Min",0,0,0,0,0,0,0,0,0,0,0,0,0,0,0,0,0,0,0,0,0,0,0,2,39,0.75,0.04,0.7,0.05,0.16,0.06,0.9,0.06,0.9,0,0.9,0,1,0,1,0,0.04,0,0.85,300,0.1,300,0.01,0,1,0,0.15,0,0,0,0,0]
[null,null,null,null,null,null,null,null,null,null,null,null,null,null,null,"Kalsiyum Klorid (Susuz), CaCl2",0,0,0,0,0,0,0,0,0,0,100,0,0,0,0,0,0,0,0,0,0,100,"Conc","Calf Feed-Vit/Min",0,0,0,0,0,0,0,0,0,0,0,0,0,0,0,0,0,0,0,0,0,0,0,2,34.299999999999997,0.95,0,0.7,0,0.16,0,0.9,0,0.9,61,0.9,0,1,0,1,0,0.04,0,0.85,0,0.1,0,0.01,0,1,0,0.15,0,0,0,0,0]
[null,null,null,null,null,null,null,null,null,null,null,null,null,null,null,"Kalsiyum Klorid, 2 Sulu, CaCl2.2H2O",0,0,0,0,0,0,0,0,0,0,100,0,0,0,0,0,0,0,0,0,0,100,"Conc","Calf Feed-Vit/Min",0,0,0,0,0,0,0,0,0,0,0,0,0,0,0,0,0,0,0,0,0,0,0,2,28,0.95,0,0.7,0,0.16,0,0.9,0,0.9,49,0.9,0,1,0,1,0,0.04,0,0.85,0,0.1,0,0.01,0,1,0,0.15,0,0,0,0,0]
[null,null,null,null,null,null,null,null,null,null,null,null,null,null,null,"Kalsiyum Oksit, CaO",0,0,0,0,0,0,0,0,0,0,100,0,0,0,0,0,0,0,0,0,0,100,"Conc","Calf Feed-Vit/Min",0,0,0,0,0,0,0,0,0,0,0,0,0,0,0,0,0,0,0,0,0,0,0,2,71.47,0,0,0,0,0,0,0,0,0,0,0,0,0,0,0,0,0,0,0,0,0,0,0,0,0,0,0,0,0,0,0,0]
[null,null,null,null,null,null,null,null,null,null,null,null,null,null,null,"Kalsiyum Sülfat, 2 Sulu, CaSO4.2H2O","6-01-087",0,0,0,0,0,0,0,0,0,97,0,0,0,0,0,0,0,0,0,0,100,"Conc","Calf Feed-Vit/Min",0,0,0,0,0,0,0,0,0,0,0,0,0,0,0,0,0,0,0,0,0,0,0,2,22,0.7,0,0.7,0,0.16,0,0.9,0,0.9,0,0.9,18.62,1,0,1,0,0.04,0,0.85,0,0.1,0,0.01,0,1,0,0.15,0,0,0,0,0]
[null,null,null,null,null,null,null,null,null,null,null,null,null,null,null,"Kaya Fosfatı","6-03-945",0,0,0,0,0,0,0,0,0,100,0,0,0,0,0,0,0,0,0,0,100,"Conc","Calf Feed-Vit/Min",0,0,0,0,0,0,0,0,0,0,0,0,0,0,0,0,0,0,0,0,0,0,0,12,35,0.55000000000000004,13,0.3,0.41,0.16,0.06,0.9,0.03,0.9,0,0.9,0,1,0,1,0,0.04,0,0.85,16800,0.1,200,0.01,0,1,100,0.15,0,0,0,0,0]
[null,null,null,null,null,null,null,null,null,null,null,null,null,null,null,"Kaya Fosfatı, Düşük Florlu","6-03-946",0,0,0,0,0,0,0,0,0,100,0,0,0,0,0,0,0,0,0,0,100,"Conc","Calf Feed-Vit/Min",0,0,0,0,0,0,0,0,0,0,0,0,0,0,0,0,0,0,0,0,0,0,0,12,35,0.3,14,0.3,0,0.16,0,0.9,0,0.9,0,0.9,0,1,0,1,0,0.04,0,0.85,0,0.1,0,0.01,0,1,0,0.15,0,0,0,0,0]
[null,null,null,null,null,null,null,null,null,null,null,null,null,null,null,"Kemik Unu","6-00-400",0,0,0,0,0,0,0,0,0,96,12,1,0,0,0,0,0,0,0,0,79.3,"Conc","Calf Feed-Vit/Min",0,0,0,58.9,41.1,4,0,0,50,0,0,0,0,0,0,0,0,0,0,0,0,0,0,75,24,0.55000000000000004,12,0.8,0.33,0.16,0.19,0.9,5.69,0.9,0,0.9,2.5099999999999998,1,0,1,0,0.04,0,0.85,26700,0.1,0,0.01,0,1,100,0.15,0,0,0,0,0]
[null,null,null,null,null,null,null,null,null,null,null,null,null,null,null,"Kireçtaşı","6-02-632",0,0,0,0,0,0,0,0,0,100,0,0,0,0,0,0,0,0,0,0,100,"Conc","Calf Feed-Vit/Min",0,1,0,0,0,0,0,0,0,0,0,0,0,0,0,0,0,0,0,0,0,0,0,2,38,0.7,0.02,0.7,2.06,0.2,0.12,0.9,0.06,0.9,0.03,0.9,0.04,1,0,1,0,0.04,0,0.85,3500,0.1,0,0.01,0,1,0,0.15,0,0,0,0,0]
[null,null,null,null,null,null,null,null,null,null,null,null,null,null,null,"Kobalt Karbonat","6-01-566",0,0,0,0,0,0,0,0,0,100,0,0,0,0,0,0,0,0,0,0,100,"Conc","Calf Feed-Vit/Min",0,0,0,0,0,0,0,0,0,0,0,0,0,0,0,0,0,0,0,0,0,0,0,10,0,0.6,0,0.7,0,0.16,0,0.9,0,0.9,0,0.9,0.2,1,460000,1,0,0.04,0,0.85,500,0.1,0,0.01,0,1,0,0.15,0,0,0,0,0]
[null,null,null,null,null,null,null,null,null,null,null,null,null,null,null,"Kobalt Karbonat, 6 Sulu",0,0,0,0,0,0,0,0,0,0,100,0,0,0,0,0,0,0,0,0,0,100,"Conc","Calf Feed-Vit/Min",0,0,0,0,0,0,0,0,0,0,0,0,0,0,0,0,0,0,0,0,0,0,0,10,0,0.6,0,0.7,0,0.16,0,0.9,0,0.9,0,0.9,0.2,1,240000,1,0,0.04,0,0.85,500,0.1,0,0.01,0,1,0,0.15,0,0,0,0,0]
[null,null,null,null,null,null,null,null,null,null,null,null,null,null,null,"Kobalt Sülfat, 1 Sulu","6-01-564",0,0,0,0,0,0,0,0,0,100,0,0,0,0,0,0,0,0,0,0,100,"Conc","Calf Feed-Vit/Min",0,0,0,0,0,0,0,0,0,0,0,0,0,0,0,0,0,0,0,0,0,0,0,10,0,0.6,0,0.7,0,0.16,0,0.9,0,0.9,0,0.9,17.600000000000001,1,330000,1,0,0.04,0,0.85,0,0.1,0,0.01,0,1,0,0.2,0,0,0,0,0]
[null,null,null,null,null,null,null,null,null,null,null,null,null,null,null,"Kobalt Sülfat, 7 Sulu","6-01-564",0,0,0,0,0,0,0,0,0,100,0,0,0,0,0,0,0,0,0,0,100,"Conc","Calf Feed-Vit/Min",0,0,0,0,0,0,0,0,0,0,0,0,0,0,0,0,0,0,0,0,0,0,0,10,0,0.6,0,0.7,0,0.16,0,0.9,0,0.9,0,0.9,11,1,210000,1,0,0.04,0,0.85,0,0.1,0,0.01,0,1,0,0.2,0,0,0,0,0]
[null,null,null,null,null,null,null,null,null,null,null,null,null,null,null,"Magnezyum Hidroksit, Mg(OH)2","6-26-012",0,0,0,0,0,0,0,0,0,100,0,0,0,0,0,0,0,0,0,0,100,"Conc","Calf Feed-Vit/Min",0,0,0,0,0,0,0,0,0,0,0,0,0,0,0,0,0,0,0,0,0,0,0,8,0,0.6,0,0.7,41.69,0.5,0,0.9,0,0.9,0,0.9,0,1,0,1,0,0.04,0,0.85,0,0.1,0,0.01,0,1,0,0.15,0,0,0,0,0]
[null,null,null,null,null,null,null,null,null,null,null,null,null,null,null,"Magnezyum Karbonat, MgCO3+Mg(OH)2","6-02-754",0,0,0,0,0,0,0,0,0,98,0,0,0,0,0,0,0,0,0,0,100,"Conc","Calf Feed-Vit/Min",0,0,0,0,0,0,0,0,0,0,0,0,0,0,0,0,0,0,0,0,0,0,0,8,0.02,0.6,0,0.7,30.81,0.3,0,0.9,0,0.9,0,0.9,0,1,0,1,0,0.04,0,0.85,220,0.1,0,0.01,0,1,0,0.15,0,0,0,0,0]
[null,null,null,null,null,null,null,null,null,null,null,null,null,null,null,"Magnezyum Klorid, 6 Sulu, MgCl2.6H2O","6-20-872",0,0,0,0,0,0,0,0,0,100,0,0,0,0,0,0,0,0,0,0,100,"Conc","Calf Feed-Vit/Min",0,0,0,0,0,0,0,0,0,0,0,0,0,0,0,0,0,0,0,0,0,0,0,8,0,0.6,0,0.7,11.96,0.7,0,0.9,0,0.9,34.9,0.9,0,1,0,1,0,0.04,0,0.85,0,0.1,0,0.01,0,1,0,0.15,0,0,0,0,0]
[null,null,null,null,null,null,null,null,null,null,null,null,null,null,null,"Magnezyum Oksit, MgO","6-02-756",0,0,0,0,0,0,0,0,0,100,0,0,0,0,0,0,0,0,0,0,100,"Conc","Calf Feed-Vit/Min",0,0,0,0,0,0,0,0,0,0,0,0,0,0,0,0,0,0,0,0,0,0,0,8,3.07,0.3,0,0.7,56.2,0.7,0,0.9,0,0.9,0,0.9,0,1,0,1,0,0.04,30.2,0.85,0,0.1,100,0.01,0,1,0,0.15,0,0,0,0,0]
[null,null,null,null,null,null,null,null,null,null,null,null,null,null,null,"Magnezyum Sülfat, 1 Sulu","6-02-758",0,0,0,0,0,0,0,0,0,98,0,0,0,0,0,0,0,0,0,0,100,"Conc","Calf Feed-Vit/Min",0,0,0,0,0,0,0,0,0,0,0,0,0,0,0,0,0,0,0,0,0,0,0,8,0,0.6,0,0.7,16.3,0.7,0,0.9,0,0.9,0,0.9,21.5,1,0,1,0,0.04,0,0.85,0,0.1,0,0.01,0,1,0,0.15,0,0,0,0,0]
[null,null,null,null,null,null,null,null,null,null,null,null,null,null,null,"Magnezyum Sülfat, 7 Sulu, MgSO4.7H2O","6-02-758",0,0,0,0,0,0,0,0,0,98,0,0,0,0,0,0,0,0,0,0,100,"Conc","Calf Feed-Vit/Min",0,0,0,0,0,0,0,0,0,0,0,0,0,0,0,0,0,0,0,0,0,0,0,8,0,0.6,0,0.7,9.6999999999999993,0.7,0,0.9,0,0.9,0,0.9,12.8,1,0,1,0,0.04,0,0.85,0,0.1,0,0.01,0,1,0,0.15,0,0,0,0,0]
[null,null,null,null,null,null,null,null,null,null,null,null,null,null,null,"Manganez Karbonat, MnCO3","6-03-036",0,0,0,0,0,0,0,0,0,100,0,0,0,0,0,0,0,0,0,0,100,"Conc","Calf Feed-Vit/Min",0,0,0,0,0,0,0,0,0,0,0,0,0,0,0,0,0,0,0,0,0,0,0,12,0,0.6,0,0.7,0,0.16,0,0.9,0,0.9,0,0.9,0,1,0,1,0,0.04,0,0.85,0,0.1,478000,0,0,1,0,0.15,0,0,0,0,0]
[null,null,null,null,null,null,null,null,null,null,null,null,null,null,null,"Manganez Klorid, 4 Sulu, MnCl2.4H2O","6-03-038",0,0,0,0,0,0,0,0,0,100,0,0,0,0,0,0,0,0,0,0,100,"Conc","Calf Feed-Vit/Min",0,0,0,0,0,0,0,0,0,0,0,0,0,0,0,0,0,0,0,0,0,0,0,12,0,0.6,0,0.7,0,0.16,0,0.9,0,0.9,35.799999999999997,0.9,0,1,0,1,0,0.04,0,0.85,0,0.1,275000,0.01,0,1,0,0.15,0,0,0,0,0]
[null,null,null,null,null,null,null,null,null,null,null,null,null,null,null,"Manganez Klorid, MnCl2",0,0,0,0,0,0,0,0,0,0,100,0,0,0,0,0,0,0,0,0,0,100,"Conc","Calf Feed-Vit/Min",0,0,0,0,0,0,0,0,0,0,0,0,0,0,0,0,0,0,0,0,0,0,0,12,0,0.6,0,0.7,0,0.16,0,0.9,0,0.9,56,0.9,0,1,0,1,0,0.04,0,0.85,0,0.1,430000,0.01,0,1,0,0.15,0,0,0,0,0]
[null,null,null,null,null,null,null,null,null,null,null,null,null,null,null,"Manganez Sülfat, 1 Sulu MnSO4.H2O","6-03-050",0,0,0,0,0,0,0,0,0,100,0,0,0,0,0,0,0,0,0,0,100,"Conc","Calf Feed-Vit/Min",0,0,0,0,0,0,0,0,0,0,0,0,0,0,0,0,0,0,0,0,0,0,0,12,0,0.6,0,0.7,0,0.16,0,0.9,0,0.9,0,0.9,0,1,0,1,0,0.04,0,0.85,0,0.1,270000,0.01,0,1,0,0.15,0,0,0,0,0]
[null,null,null,null,null,null,null,null,null,null,null,null,null,null,null,"Manganez Sülfat, MnSO4","6-26-136",0,0,0,0,0,0,0,0,0,100,0,0,0,0,0,0,0,0,0,0,100,"Conc","Calf Feed-Vit/Min",0,0,0,0,0,0,0,0,0,0,0,0,0,0,0,0,0,0,0,0,0,0,0,12,0,0.6,0,0.7,0,0.16,0,0.9,0,0.9,0,0.9,21,1,0,1,0,0.04,0,0.85,0,0.1,360000,0.01,0,1,0,0.15,0,0,0,0,0]
[null,null,null,null,null,null,null,null,null,null,null,null,null,null,null,"Mermer tozu",null,0,"0",0,0,0,0,0,0,0,100,0,0,0,0,0,0,0,0,0,0,100,"Conc","Calf Feed-Vit/Min",0,0.5,0,0,0,0,0,0,0,0,0,0,0,0,0,0,0,0,0,0,0,0,0,2,37,0.6,0,0,0,0.5,0,0.9,0,0.9,0,0.9,0,1,0,1,0,0.04,0,0.85,0,0.1,0,0.01,0,1,0,0.15,0,0,0,0,0]
[null,null,null,null,null,null,null,null,null,null,null,null,null,null,null,"Potasyum Bikarbonat, KHCO3","6-29-493",0,0,0,0,0,0,0,0,0,100,0,0,0,0,0,0,0,0,0,0,100,"Conc","Calf Feed-Vit/Min",0,0,0,0,0,0,0,0,0,0,0,0,0,0,0,0,0,0,0,0,0,0,0,12,0,0.6,0,0.7,0,0.16,39.049999999999997,0.9,0,0.9,0,0.9,0,1,0,1,0,0.04,0,0.85,0,0.1,0,0.01,0,1,0,0.15,0,0,0,0,0]
[null,null,null,null,null,null,null,null,null,null,null,null,null,null,null,"Potasyum İyodit, Kl","6-03-759",0,0,0,0,0,0,0,0,0,100,0,0,0,0,0,0,0,0,0,0,100,"Conc","Calf Feed-Vit/Min",0,0,0,0,0,0,0,0,0,0,0,0,0,0,0,0,0,0,0,0,0,0,0,12,0,0.6,0,0.7,0,0.16,21,0.9,0,0.9,0,0.9,0,1,0,1,0,0.04,681700,0.85,0,0.1,0,0.01,0,1,0,0.15,0,0,0,0,0]
[null,null,null,null,null,null,null,null,null,null,null,null,null,null,null,"Potasyum Karbonat, K2CO3","6-09-336",0,0,0,0,0,0,0,0,0,100,0,0,0,0,0,0,0,0,0,0,100,"Conc","Calf Feed-Vit/Min",0,0,0,0,0,0,0,0,0,0,0,0,0,0,0,0,0,0,0,0,0,0,0,12,0,0.6,0,0.7,0,0.16,56,0.9,0,0.9,0,0.9,0,1,0,1,0,0.04,0,0.85,0,0.1,0,0.01,0,1,0,0.15,0,0,0,0,0]
[null,null,null,null,null,null,null,null,null,null,null,null,null,null,null,"Potasyum Klorid, KCl","6-03-755",0,0,0,0,0,0,0,0,0,100,0,0,0,0,0,0,0,0,0,0,100,"Conc","Calf Feed-Vit/Min",0,0,0,0,0,0,0,0,0,0,0,0,0,0,0,0,0,0,0,0,0,0,0,12,0.05,0.6,0,0.7,0.34,0.16,50,0.9,1,0.9,47.3,0.9,0.45,1,0,1,0,0.04,0,0.85,600,0.1,0,0.01,0,1,0,0.15,0,0,0,0,0]
[null,null,null,null,null,null,null,null,null,null,null,null,null,null,null,"Potasyum Sülfat, K2SO4","6-06-098",0,0,0,0,0,0,0,0,0,100,0,0,0,0,0,0,0,0,0,0,100,"Conc","Calf Feed-Vit/Min",0,0,0,0,0,0,0,0,0,0,0,0,0,0,0,0,0,0,0,0,0,0,0,12,0.15,0.6,0,0.7,0.61,0.16,41.84,0.9,0.09,0.9,1.55,0.9,17.350000000000001,1,0,1,0,0.04,0,0.85,710,0.1,10,0.01,0,1,0,0.15,0,0,0,0,0]
[null,null,null,null,null,null,null,null,null,null,null,null,null,null,null,"Sodyum Bikarbonat, NaHCO3","6-04-272",0,0,0,0,0,0,0,0,0,100,0,0,0,0,0,0,0,0,0,0,100,"Conc","Calf Feed-Vit/Min",0,0,0,0,0,0,0,0,0,0,0,0,0,0,0,0,0,0,0,0,0,0,0,13.5,0,0.6,0,0.7,0,0.16,0,0.9,27,0.9,0,0.9,0,1,0,1,0,0.04,0,0.85,0,0.1,0,0.01,0,1,0,0.15,0,0,0,0,0]
[null,null,null,null,null,null,null,null,null,null,null,null,null,null,null,"Sodyum Fosfat (Monobazik), 1 Sulu, NaH2PO4.H2O","6-04-288",0,0,0,0,0,0,0,0,0,100,0,0,0,0,0,0,0,0,0,0,100,"Conc","Calf Feed-Vit/Min",0,0,0,0,0,0,0,0,0,0,0,0,0,0,0,0,0,0,0,0,0,0,0,13.5,0,0.6,22.5,0.9,0,0.16,0,0.9,16.68,0.9,0,0.9,0,1,0,1,0,0.04,0,0.85,0,0.1,0,0.01,0,1,0,0.15,0,0,0,0,0]
[null,null,null,null,null,null,null,null,null,null,null,null,null,null,null,"Sodyum Karbonat, 1 Sulu, Na2CO3.H2O","6-12-316",0,0,0,0,0,0,0,0,0,100,0,0,0,0,0,0,0,0,0,0,100,"Conc","Calf Feed-Vit/Min",0,0,0,0,0,0,0,0,0,0,0,0,0,0,0,0,0,0,0,0,0,0,0,13.5,0,0.6,0,0.7,0,0.16,0,0.9,36.5,0.9,0,0.9,0,1,0,1,0,0.04,0,0.85,0,0.1,0,0.01,0,1,0,0.15,0,0,0,0,0]
[null,null,null,null,null,null,null,null,null,null,null,null,null,null,null,"Sodyum Selenat, Na2SeO4","6-26-014",0,0,0,0,0,0,0,0,0,100,0,0,0,0,0,0,0,0,0,0,100,"Conc","Calf Feed-Vit/Min",0,0,0,0,0,0,0,0,0,0,0,0,0,0,0,0,0,0,0,0,0,0,0,13.5,0,0.6,0,0.7,0,0.16,0,0.9,22,0.9,0,0.9,0,1,0,1,0,0.04,0,0.85,0,0.1,0,0.01,373000,1,0,0.15,0,0,0,0,0]
[null,null,null,null,null,null,null,null,null,null,null,null,null,null,null,"Sodyum Selenit, Na2SeO3","6-26-013",0,0,0,0,0,0,0,0,0,100,0,0,0,0,0,0,0,0,0,0,100,"Conc","Calf Feed-Vit/Min",0,0,0,0,0,0,0,0,0,0,0,0,0,0,0,0,0,0,0,0,0,0,0,13.5,0,0.6,0,0.7,0,0.16,0,0.9,26.6,0.9,0,0.9,0,1,0,1,0,0.04,0,0.85,0,0.1,0,0.01,456000,1,0,0.15,0,0,0,0,0]
[null,null,null,null,null,null,null,null,null,null,null,null,null,null,null,"Sodyum Sülfat, 10 Sulu, Na2SO4.10H2O","6-04-292",0,0,0,0,0,0,0,0,0,100,0,0,0,0,0,0,0,0,0,0,100,"Conc","Calf Feed-Vit/Min",0,0,0,0,0,0,0,0,0,0,0,0,0,0,0,0,0,0,0,0,0,0,0,13.5,0,0.6,0,0.7,0,0.16,0,0.9,14.2,0.9,0,0.9,0,1,0,1,0,0.04,0,0.85,0,0.1,0,0.01,0,1,0,0.15,0,0,0,0,0]
[null,null,null,null,null,null,null,null,null,null,null,null,null,null,null,"Tuz","6-04-152",0,0,0,0,0,0,0,0,0,100,0,0,0,0,0,0,0,0,0,0,100,"Conc","Calf Feed-Vit/Min",0.05,0.1,0,0,0,0,0,0,0,0,0,0,0,0,0,0,0,0,0,0,0,0,0,1.5,0,0.6,0,0.7,0,0.16,0,0.9,39.340000000000003,0.9,60.66,0.9,0,1,0,1,0,0.04,0,0.85,0,0.1,0,0.01,0,1,0,0.15,0,0,0,0,0]
[null,null,null,null,null,null,null,null,null,null,null,null,null,null,null,"Üre","5-05-070",0,0,0,0,0,0,0,0,0,100,281,0,0,0,0,0,0,0,0,0,0,"Conc","Calf Feed-Vit/Min",0,0,100,0,0,0,0,0,100,0,0,0,0,0,0,0,0,0,0,0,0,0,0,17,0,0.6,0,0.7,0,0.16,0,0.9,0,0.9,0,0.9,0,1,0,1,0,0.04,0,0.85,0,0.1,0,0.01,0,1,0,0.15,0,0,0,0,0]
[null,null,null,null,null,null,null,null,null,null,null,null,null,null,null,"Vit-Min. Kar. (Allfeed F), 1 kg/ton","0",0,"0",0,0,0,0,0,0,0,100,0,0,0,0,0,0,0,0,0,0,98,"Conc","Calf Feed-Vit/Min",0.01,0.05,0,0,0,0,0,0,0,0,0,0,0,0,0,0,0,0,0,0,0,0,0,25,26,0.55000000000000004,0,0.7,0,0,0,0,0,0,0,0,0,0,500,1,2000,1,500,0.85,5000,1,3000,1,60,1,7200,1,0,0,3000,500,13320]
[null,null,null,null,null,null,null,null,null,null,null,null,null,null,null,"Vit-Min. Kar. (Dr Derman) (Süt), 50 g/inek",0,0,0,0,0,0,0,0,0,0,100,14.56,0,0,0,2.06,0,0,0,0,0,23.36,"Conc","Calf Feed-Vit/Min",0.05,0.05,0,0,0,0,0,0,0,0,0,0,0,0,0,0,0,0,0,0,0,0,0,25,1.03,0.6,0,0.7,0,0.16,0,0,1.86,0.9,0,0,0,0,80,1,2000,0.06,200,0.85,6000,0.12,6000,1.2E-2,100,1,8000,0.16,0,0,1200,300,5000]
[null,null,null,null,null,null,null,null,null,null,null,null,null,null,null,"Vit-Min. Kar. (Farmix-Standart), 1 kg/ton",0,0,0,0,0,0,0,0,0,0,100,0,0,0,0,0,0,0,0,0,0,100,"Conc","Calf Feed-Vit/Min",0.01,0.05,0,0,0,0,0,0,0,0,0,0,0,0,0,0,0,0,0,0,0,0,0,25,0,0.6,0,0.7,0,0.16,0,0,0,0.9,0,0,0,0,200,1,10000,0.04,800,0.85,50000,0.1,50000,0.01,150,1,50000,0.15,0,0,7000,700,30000]
[null,null,null,null,null,null,null,null,null,null,null,null,null,null,null,"Vit-Min. Kar. (Kavimix  VM 902), 1 kg/ton",0,0,0,0,0,0,0,0,0,0,100,0,0,0,0,0,0,0,0,0,0,100,"Conc","Calf Feed-Vit/Min",0.01,0.05,0,0,0,0,0,0,0,0,0,0,0,0,0,0,0,0,0,0,0,0,0,25,0,0.6,0,0.7,0,0.16,0,0,0,0.9,0,0,0,0,150,1,10000,0.04,800,0.85,50000,0.1,50000,0.01,150,1,50000,0.15,0,0,15000,3000,30000]
[null,null,null,null,null,null,null,null,null,null,null,null,null,null,null,"Vit-Min. Kar. (Reformix Pro-Sacc)",0,0,0,0,0,0,0,0,0,0,100,0,0,0,0,0,0,0,0,0,0,100,"Conc","Calf Feed-Vit/Min",0.01,0.1,0,0,0,0,0,0,0,0,0,0,0,0,0,0,0,0,0,0,0,0,0,25,0.12,0.6,0.09,0.7,0.9,0.16,0,0.9,2,0.9,0,0,0,0,10,1,750,0.04,80,0.85,3100,0.1,3100,0.01,10,1,3100,0.15,0,0,260,52,120]
[null,null,null,null,null,null,null,null,null,null,null,null,null,null,null,"Vit-Min. Kar. (Retox Farm Improver), 100 g/gün",0,0,0,0,0,0,0,0,0,0,100,0,0,0,0,0,0,0,0,0,0,100,"Conc","Calf Feed-Vit/Min",0.01,0.05,0,0,0,0,0,0,0,0,0,0,0,0,0,0,0,0,0,0,0,0,0,25,0.6,0.6,2.16,0.7,5,0.16,0,0,0,0.9,0,0,0,0,30,1,1200,0.04,200,0.85,5000,0.1,5000,0.01,30,1,1200,0.15,0,0,1500,300,5000]
[null,null,null,null,null,null,null,null,null,null,null,null,null,null,null,"Vit-Min. Kar. (Revitamin BT-Sacc) ",0,0,0,0,0,0,0,0,0,0,100,0,0,0,0,0,0,0,0,0,0,100,"Conc","Calf Feed-Vit/Min",0.01,0.05,0,0,0,0,0,0,0,0,0,0,0,0,0,0,0,0,0,0,0,0,0,25,2.4,0.6,1.8,0.7,2,0.16,0,0,1.95,0.9,0,0,0,0,15,1,1000,0.04,80,0.85,5000,0.1,5000,0.01,15,1,5000,0.15,0,0,1300,260,1750]
[]
[]
[]
[]
[]
[]
[]
[]
[]
[null,null,null,null,null,null,null,null,null,null,null,null,null,"TOP","YEM","KARMA YEM HAZIRLAMA","Kaba mı?","TSBM-1X","TSBM","NFC","SE-1X","ME-3X ","NEL-3X","NEL-4X","NEM-3X ","NEG-3X","KM","HP","HPSind.","NDICP","ADICP","HY","HYSind.","NDF","NDFSind.","ADF","Lignin","HK","Yem",null,"Ver.Miktar",null,"N Fraksiyonu % HP",null,null,"Kd","RUP % HP (KMT=2%CA)","RUP % HP (KMT=4%CA)","RUPSind.","Arj","His","İzolöy","Löy","Lizin","Met","Sis","Fen","Tre","Trip","Val","TEAA","Lizin","Met","FİYAT","Ca","CaDeğ.","P","PDeğ.","Mg","MgDeğ.","K","KDeğ.","Na","NaDEğ.","Cl","ClDeğ.","S","SDeğ.","Co","CoDeğ.","Cu","CuDeğ.","I","IDeğ.","Fe","FeDeğ.","Mn","MnDeğ.","Se","SeDeğ.","Zn","ZnDeğ.","Mo","MoDeğ.","Vit A ","Vit D ","Vit E "]
[null,null,null,null,null,null,null,null,null,null,null,null,null,"YEM","KOD","KARMA YEMİN ADI","Kesif mi?","%","Sınıf","Katsayı","Mcal/kg","Mcal/kg","Mcal/kg","Mcal/kg","Mcal/kg","Mcal/kg","%","%",null,"%","%","%",null,"%",null,"%","%","%","tipi","Kategori","Enaz","Ençok","A","B","C","%/sa B","Kaba yem=25%KMT","Kaba yem=50%KMT","%","%HP","%HP","%HP","%HP","%HP","%HP","%HP","%HP","%HP","%HP","%HP","%HP","%EAA","%EAA","TL/kg","%",null,"%",null,"%",null,"%",null,"%",null,"%",null,"%",null,"mg/kg",null,"mg/kg",null,"mg/kg",null,"mg/kg",null,"mg/kg",null,"mg/kg",null,"mg/kg",null,"mg/kg",null,"(1000 IU/kg)","(1000 IU/kg)","(IU/kg)"]
[null,null,null,null,null,null,null,null,null,null,null,null,null,{"$f":"ROUND(SUM(N635:N661),4)","v":6.9084000000000003},null,"Deneme 1",null,{"$f":"ROUND(SUM(R635:R661)/$N634,4)","v":79.651600000000002},null,{"$f":"ROUND(SUM(T635:T661)/$N634,4)","v":0.75270000000000004},3.5989,2.8748,1.8284,1.7306999999999999,1.9696,1.3143,90.719700000000003,21.411100000000001,0.97760000000000002,1.4803999999999999,0.46339999999999998,1.9984,0.97760000000000002,20.130299999999998,0.49709999999999999,9.0182000000000002,1.6797,6.0176999999999996,null,null,null,null,{"$f":"ROUND(SUM(AQ635:AQ661)/$N634,4)","v":27.568100000000001},63.786299999999997,6.4020000000000001,18.815100000000001,19.267499999999998,25.934799999999999,85.123400000000004,5.5425000000000004,2.3677000000000001,3.6688000000000001,7.0267999999999997,4.2210999999999999,1.5984,2.036,5.0334000000000003,3.4853999999999998,1.1691,5.5286,38.844999999999999,10.4702,4.0664999999999996,11.475899999999999,0.35920000000000002,0.6,0.46250000000000002,0.69589999999999996,0.18,0.16200000000000001,0.96879999999999999,0.89739999999999998,0.56559999999999999,0.9,0.96120000000000005,0.89739999999999998,0.2036,0.99709999999999999,0.68759999999999999,1,38.876600000000003,0.04,2.3159999999999998,0.85,242.36859999999999,0.1,169.55719999999999,0.01,0.56720000000000004,1,186.72110000000001,0.15,0.82150000000000001,0,43.425400000000003,8.6851000000000003,86.850800000000007]
[null,null,null,null,null,null,null,null,null,null,null,null,null,{"$f":"IF($O34=\"\",\"\",  IF($Q635=\"Kaba\",\"\", O34))","v":""},{"$f":"IF(P3=\"\",\"\",IF(Süt!A5<=0,\"\",Süt!A5))","v":1},{"$f":"IF(ISERROR(VLOOKUP(P3,N$403:O$477,2,FALSE))=TRUE,\"\",VLOOKUP(P3,N$403:O$477,2,FALSE))","v":""},{"$f":"IF(O635=\"\",\"\", IF(O635>2, IF(P635=\"H\",\"Kaba\",\"Kesif\"),\"Kaba\"))","v":"Kaba"},{"$f":"IF($O34=\"\",\"\",  IF($Q635=\"Kaba\",\"\", R3*$O34))","v":""},null,{"$f":"IF($O34=\"\",\"\",  IF($Q635=\"Kaba\",\"\", T3*$O34))","v":""},{"$f":"IF($O34=\"\",\"\",  IF($Q635=\"Kaba\",\"\", U3*$O34))","v":""},"","","","","","","","","","","","","","","","","",null,null,null,null,{"$f":"IF($O34=\"\",\"\",  IF($Q635=\"Kaba\",\"\", AQ3*$O34))","v":""},"","","","","","","","","","","","","","","","","","","","","","","","","","","","","","","","","","","","","","","","","","","","","","","","","","","","","",""]
[null,null,null,null,null,null,null,null,null,null,null,null,null,{"$f":"IF($O35=\"\",\"\",  IF($Q636=\"Kaba\",\"\", O35))","v":""},{"$f":"IF(P4=\"\",\"\",IF(Süt!A6<=0,\"\",Süt!A6))","v":2},{"$f":"IF(ISERROR(VLOOKUP(P4,N$403:O$477,2,FALSE))=TRUE,\"\",VLOOKUP(P4,N$403:O$477,2,FALSE))","v":""},{"$f":"IF(O636=\"\",\"\", IF(O636>2, IF(P636=\"H\",\"Kaba\",\"Kesif\"),\"Kaba\"))","v":"Kaba"},{"$f":"IF($O35=\"\",\"\",  IF($Q636=\"Kaba\",\"\", R4*$O35))","v":""},null,"",{"$f":"IF($O35=\"\",\"\",  IF($Q636=\"Kaba\",\"\", U4*$O35))","v":""},"","","","","","","","","","","","","","","","","",null,null,null,null,{"$f":"IF($O35=\"\",\"\",  IF($Q636=\"Kaba\",\"\", AQ4*$O35))","v":""},"","","","","","","","","","","","","","","","","","","","","","","","","","","","","","","","","","","","","","","","","","","","","","","","","","","","","",""]
[null,null,null,null,null,null,null,null,null,null,null,null,null,"",{"$f":"IF(P5=\"\",\"\",IF(Süt!A7<=0,\"\",Süt!A7))","v":2},"","Kaba","",null,"",{"$f":"IF($O36=\"\",\"\",  IF($Q637=\"Kaba\",\"\", U5*$O36))","v":""},"","","","","","","","","","","","","","","","","",null,null,null,null,{"$f":"IF($O36=\"\",\"\",  IF($Q637=\"Kaba\",\"\", AQ5*$O36))","v":""},"","","","","","","","","","","","","","","","","","","","","","","","","","","","","","","","","","","","","","","","","","","","","","","","","","","","","",""]
[null,null,null,null,null,null,null,null,null,null,null,null,null,5,{"$f":"IF(P6=\"\",\"\",IF(Süt!A8<=0,\"\",Süt!A8))","v":3},"","Kesif",413.5,null,5.2,{"$f":"IF($O37=\"\",\"\",  IF($Q638=\"Kaba\",\"\", U6*$O37))","v":18.2},14.6,9.3000000000000007,8.8000000000000007,10.1,6.8000000000000007,455,62,5,9,2.5,11,5,104,2.4,36,9.5,14.5,null,null,null,null,{"$f":"IF($O37=\"\",\"\",  IF($Q638=\"Kaba\",\"\", AQ6*$O37))","v":151},306,43,113.5,90.5,118.5,425,25.35,11.5,17.350000000000001,34.85,18.149999999999999,8.5,11.399999999999999,25.55,17.100000000000001,5.85,24.5,188.70000000000002,48.099999999999994,22.5,48.75,0.3,3,1.9500000000000002,3.5,0.70000000000000007,0.8,2.8000000000000003,4.5,0.1,4.5,0.65,4.5,0.6,5,1.75,5,30,0.2,0,4.25,350,0.5,110,0.05,0.55000000000000004,5,190,0.75,5.5,0,0,0,0]
[null,null,null,null,null,null,null,null,null,null,null,null,null,2.094454588298537E-8,{"$f":"IF(P7=\"\",\"\",IF(Süt!A9<=0,\"\",Süt!A9))","v":3},"","Kesif",1.9206148574697584E-6,null,2.1782327718304785E-8,{"$f":"IF($O38=\"\",\"\",  IF($Q639=\"Kaba\",\"\", U7*$O38))","v":8.3149847155451921E-8},6.7860328660872601E-8,4.3774100895439422E-8,4.1470200848311032E-8,4.6915782777887237E-8,3.2464046118627322E-8,1.8452144922910111E-6,1.9687873130006248E-7,2.094454588298537E-8,1.4661182118089758E-8,6.2833637648956113E-9,8.796709270853856E-8,2.094454588298537E-8,1.9897318588836101E-7,1.0262827482662831E-8,7.1211456002150261E-8,1.8850091294686835E-8,3.1416818824478059E-8,null,null,null,null,{"$f":"IF($O38=\"\",\"\",  IF($Q639=\"Kaba\",\"\", AQ7*$O38))","v":3.560572800107513E-8},1.7342083991111887E-6,3.2464046118627324E-7,6.2833637648956118E-8,1.3341675727461682E-6,1.5603686682824101E-6,1.8850091294686834E-6,9.9067702026520815E-8,6.5556428613744204E-8,6.995478324917114E-8,2.2766721374805095E-7,6.3880864943105381E-8,4.2726873601290159E-8,4.6496891860227528E-8,9.6763801979392418E-8,7.6657037931726459E-8,1.5080073035749466E-8,9.9486592944180504E-8,8.4176129903718204E-7,1.5603686682824102E-7,1.04513283956097E-7,2.4086227765433174E-7,8.3778183531941484E-10,1.2566727529791223E-8,6.2833637648956113E-9,1.4661182118089758E-8,2.5133455059582444E-9,3.3511273412776594E-9,8.7967092708538553E-9,1.8850091294686835E-8,4.1889091765970742E-10,1.8850091294686835E-8,1.6755636706388297E-9,1.8850091294686835E-8,2.094454588298537E-9,2.094454588298537E-8,0,2.094454588298537E-8,6.2833637648956118E-8,8.3778183531941484E-10,0,1.7802864000537565E-8,1.1310054776812101E-6,2.094454588298537E-9,2.3039000471283908E-7,2.0944545882985371E-10,1.4661182118089762E-9,2.094454588298537E-8,5.6550273884060503E-7,3.1416818824478056E-9,1.6755636706388296E-8,0,0,0,0]
[null,null,null,null,null,null,null,null,null,null,null,null,null,1.6426040151275287E-8,{"$f":"IF(P8=\"\",\"\",IF(Süt!A10<=0,\"\",Süt!A10))","v":4},"","Kesif",9.8556240907651719E-7,null,0,{"$f":"IF($O39=\"\",\"\",  IF($Q640=\"Kaba\",\"\", U8*$O39))","v":4.763551643869833E-8},3.777989234793316E-8,2.2996456211785401E-8,2.1353852196657876E-8,2.4639060226912932E-8,1.4783436136147759E-8,1.4865566336904136E-6,4.5335870817519797E-7,1.6426040151275287E-8,9.0343220832014081E-8,2.2996456211785401E-8,8.2130200756376433E-8,1.6426040151275287E-8,6.5704160605101146E-7,4.4350308408443278E-9,4.927812045382586E-7,1.5604738143711522E-7,1.2319530113456465E-7,null,null,null,null,{"$f":"IF($O39=\"\",\"\",  IF($Q640=\"Kaba\",\"\", AQ8*$O39))","v":5.9133744544591038E-7},9.1985824847141611E-7,1.314083212102023E-7,3.2852080302550573E-7,6.8989368635356206E-7,7.8844992726121384E-7,1.4783436136147759E-6,1.3962134128583995E-7,4.3529006400879512E-8,6.2418952574846092E-8,1.0348405295303431E-7,6.077634855971857E-8,2.4639060226912932E-8,2.6281664242040461E-8,7.8844992726121376E-8,5.0920724468953393E-8,1.9711248181530344E-8,6.5704160605101149E-8,6.7593155222497805E-7,1.4290654931609499E-7,5.7491140529463507E-8,1.9711248181530346E-7,3.2852080302550576E-9,9.855624090765172E-9,1.6426040151275287E-8,1.14982281058927E-8,1.0184144893790678E-8,2.628166424204046E-9,2.4639060226912932E-8,1.4783436136147759E-8,8.213020075637644E-10,1.4783436136147759E-8,1.314083212102023E-9,1.4783436136147759E-8,6.0776348559718562E-9,1.6426040151275287E-8,0,1.6426040151275287E-8,1.6426040151275287E-7,6.570416060510115E-10,0,1.3962134128583993E-8,1.8068644166402816E-6,1.6426040151275288E-9,3.4494684317678103E-7,1.6426040151275288E-10,3.6137288332805632E-9,1.6426040151275287E-8,8.8700616816886552E-7,2.463906022691293E-9,3.9422496363060688E-8,0,0,0,0]
[null,null,null,null,null,null,null,null,null,null,null,null,null,1.7534010269295777,{"$f":"IF(P9=\"\",\"\",IF(Süt!A11<=0,\"\",Süt!A11))","v":4},"","Kesif",136.76528010050706,null,0,{"$f":"IF($O40=\"\",\"\",  IF($Q641=\"Kaba\",\"\", U9*$O40))","v":6.6629239023323947},5.2602030807887328,3.3314619511661974,3.1561218484732398,3.5068020538591553,2.2794213350084509,156.22803149942536,85.916650319549305,1.7534010269295777,1.2273807188507042,0.70136041077183109,2.8054416430873244,1.7534010269295777,35.068020538591554,1.0345066058884507,26.301015403943666,2.1040812323154929,11.572446777735212,null,null,null,null,{"$f":"IF($O40=\"\",\"\",  IF($Q641=\"Kaba\",\"\", AQ9*$O40))","v":39.451523105915498},134.66119886819155,1.2273807188507042,16.48196965313803,42.607644954388739,60.667675531763386,163.06629550445072,12.940099578740282,4.8569208445949306,7.9955086827988735,13.694062020320001,11.011358449117749,2.5424314890478876,2.665169560932958,9.2228894016495779,6.9785360871797195,2.2268193042005637,13.694062020320001,79.657008653410713,24.232002192166764,5.5933492759053527,29.80781745780282,0.70136041077183109,1.0520406161577465,1.24491472912,1.2273807188507042,0.54355431834816903,0.28054416430873241,3.8925502797836629,1.5780609242366199,7.0136041077183103E-2,1.5780609242366199,0.22794213350084511,1.5780609242366199,0.80656447238760576,1.7534010269295777,0,1.7534010269295777,38.574822592450708,7.0136041077183103E-2,0,1.4903908728901409,324.37918998197188,0.17534010269295777,61.36903594253522,1.7534010269295776E-2,0.36821421565521129,1.7534010269295777,99.943858534985921,0.26301015403943662,0.17534010269295777,0,0,0,0]
[null,null,null,null,null,null,null,null,null,null,null,null,null,"",{"$f":"IF(P10=\"\",\"\",IF(Süt!A12<=0,\"\",Süt!A12))","v":""},"","","",null,"",{"$f":"IF($O41=\"\",\"\",  IF($Q642=\"Kaba\",\"\", U10*$O41))","v":""},"","","","","","","","","","","","","","","","","",null,null,null,null,{"$f":"IF($O41=\"\",\"\",  IF($Q642=\"Kaba\",\"\", AQ10*$O41))","v":""},"","","","","","","","","","","","","","","","","","","","","","","","","","","","","","","","","","","","","","","","","","","","","","","","","","","","","",""]
[null,null,null,null,null,null,null,null,null,null,null,null,null,"",{"$f":"IF(P11=\"\",\"\",IF(Süt!A13<=0,\"\",Süt!A13))","v":""},"","","",null,"",{"$f":"IF($O42=\"\",\"\",  IF($Q643=\"Kaba\",\"\", U11*$O42))","v":""},"","","","","","","","","","","","","","","","","",null,null,null,null,{"$f":"IF($O42=\"\",\"\",  IF($Q643=\"Kaba\",\"\", AQ11*$O42))","v":""},"","","","","","","","","","","","","","","","","","","","","","","","","","","","","","","","","","","","","","","","","","","","","","","","","","","","","",""]
[null,null,null,null,null,null,null,null,null,null,null,null,null,"",{"$f":"IF(P12=\"\",\"\",IF(Süt!A14<=0,\"\",Süt!A14))","v":""},"","","",null,"",{"$f":"IF($O43=\"\",\"\",  IF($Q644=\"Kaba\",\"\", U12*$O43))","v":""},"","","","","","","","","","","","","","","","","",null,null,null,null,{"$f":"IF($O43=\"\",\"\",  IF($Q644=\"Kaba\",\"\", AQ12*$O43))","v":""},"","","","","","","","","","","","","","","","","","","","","","","","","","","","","","","","","","","","","","","","","","","","","","","","","","","","","",""]
[null,null,null,null,null,null,null,null,null,null,null,null,null,"",{"$f":"IF(P13=\"\",\"\",IF(Süt!A15<=0,\"\",Süt!A15))","v":""},"","","",null,"",{"$f":"IF($O44=\"\",\"\",  IF($Q645=\"Kaba\",\"\", U13*$O44))","v":""},"","","","","","","","","","","","","","","","","",null,null,null,null,{"$f":"IF($O44=\"\",\"\",  IF($Q645=\"Kaba\",\"\", AQ13*$O44))","v":""},"","","","","","","","","","","","","","","","","","","","","","","","","","","","","","","","","","","","","","","","","","","","","","","","","","","","","",""]
[null,null,null,null,null,null,null,null,null,null,null,null,null,"",{"$f":"IF(P14=\"\",\"\",IF(Süt!A16<=0,\"\",Süt!A16))","v":""},"","","",null,"",{"$f":"IF($O45=\"\",\"\",  IF($Q646=\"Kaba\",\"\", U14*$O45))","v":""},"","","","","","","","","","","","","","","","","",null,null,null,null,{"$f":"IF($O45=\"\",\"\",  IF($Q646=\"Kaba\",\"\", AQ14*$O45))","v":""},"","","","","","","","","","","","","","","","","","","","","","","","","","","","","","","","","","","","","","","","","","","","","","","","","","","","","",""]
[null,null,null,null,null,null,null,null,null,null,null,null,null,"",{"$f":"IF(P15=\"\",\"\",IF(Süt!A17<=0,\"\",Süt!A17))","v":""},"","","",null,"",{"$f":"IF($O46=\"\",\"\",  IF($Q647=\"Kaba\",\"\", U15*$O46))","v":""},"","","","","","","","","","","","","","","","","",null,null,null,null,{"$f":"IF($O46=\"\",\"\",  IF($Q647=\"Kaba\",\"\", AQ15*$O46))","v":""},"","","","","","","","","","","","","","","","","","","","","","","","","","","","","","","","","","","","","","","","","","","","","","","","","","","","","",""]
[null,null,null,null,null,null,null,null,null,null,null,null,null,"",{"$f":"IF(P16=\"\",\"\",IF(Süt!A18<=0,\"\",Süt!A18))","v":""},"","","",null,"",{"$f":"IF($O47=\"\",\"\",  IF($Q648=\"Kaba\",\"\", U16*$O47))","v":""},"","","","","","","","","","","","","","","","","",null,null,null,null,{"$f":"IF($O47=\"\",\"\",  IF($Q648=\"Kaba\",\"\", AQ16*$O47))","v":""},"","","","","","","","","","","","","","","","","","","","","","","","","","","","","","","","","","","","","","","","","","","","","","","","","","","","","",""]
[null,null,null,null,null,null,null,null,null,null,null,null,null,"",{"$f":"IF(P17=\"\",\"\",IF(Süt!A19<=0,\"\",Süt!A19))","v":""},"","","",null,"",{"$f":"IF($O48=\"\",\"\",  IF($Q649=\"Kaba\",\"\", U17*$O48))","v":""},"","","","","","","","","","","","","","","","","",null,null,null,null,{"$f":"IF($O48=\"\",\"\",  IF($Q649=\"Kaba\",\"\", AQ17*$O48))","v":""},"","","","","","","","","","","","","","","","","","","","","","","","","","","","","","","","","","","","","","","","","","","","","","","","","","","","","",""]
[null,null,null,null,null,null,null,null,null,null,null,null,null,"",{"$f":"IF(P18=\"\",\"\",IF(Süt!A20<=0,\"\",Süt!A20))","v":""},"","","",null,"",{"$f":"IF($O49=\"\",\"\",  IF($Q650=\"Kaba\",\"\", U18*$O49))","v":""},"","","","","","","","","","","","","","","","","",null,null,null,null,{"$f":"IF($O49=\"\",\"\",  IF($Q650=\"Kaba\",\"\", AQ18*$O49))","v":""},"","","","","","","","","","","","","","","","","","","","","","","","","","","","","","","","","","","","","","","","","","","","","","","","","","","","","",""]
[null,null,null,null,null,null,null,null,null,null,null,null,null,"",{"$f":"IF(P19=\"\",\"\",IF(Süt!A21<=0,\"\",Süt!A21))","v":""},"","","",null,"",{"$f":"IF($O50=\"\",\"\",  IF($Q651=\"Kaba\",\"\", U19*$O50))","v":""},"","","","","","","","","","","","","","","","","",null,null,null,null,{"$f":"IF($O50=\"\",\"\",  IF($Q651=\"Kaba\",\"\", AQ19*$O50))","v":""},"","","","","","","","","","","","","","","","","","","","","","","","","","","","","","","","","","","","","","","","","","","","","","","","","","","","","",""]
[null,null,null,null,null,null,null,null,null,null,null,null,null,"",{"$f":"IF(P20=\"\",\"\",IF(Süt!A22<=0,\"\",Süt!A22))","v":""},"","","",null,"",{"$f":"IF($O51=\"\",\"\",  IF($Q652=\"Kaba\",\"\", U20*$O51))","v":""},"","","","","","","","","","","","","","","","","",null,null,null,null,{"$f":"IF($O51=\"\",\"\",  IF($Q652=\"Kaba\",\"\", AQ20*$O51))","v":""},"","","","","","","","","","","","","","","","","","","","","","","","","","","","","","","","","","","","","","","","","","","","","","","","","","","","","",""]
[null,null,null,null,null,null,null,null,null,null,null,null,null,0.04,{"$f":"IF(P21=\"\",\"\",IF(Süt!A23<=0,\"\",Süt!A23))","v":7},"","Kesif",0,null,0,{"$f":"IF($O52=\"\",\"\",  IF($Q653=\"Kaba\",\"\", U21*$O52))","v":0},0,0,0,0,0,4,0,0,0,0,0,0,0,0,0,0,4,null,null,null,null,{"$f":"IF($O52=\"\",\"\",  IF($Q653=\"Kaba\",\"\", AQ21*$O52))","v":0},0,0,0,0,0,0,0,0,0,0,0,0,0,0,0,0,0,0,0,0,0.08,1.48,2.4E-2,0,0,0,0.02,0,3.6000000000000004E-2,0,3.6000000000000004E-2,0,3.6000000000000004E-2,0,0.04,0,0.04,0,1.6000000000000001E-3,0,3.4000000000000002E-2,0,4.0000000000000001E-3,0,4.0000000000000002E-4,0,0.04,0,6.0000000000000001E-3,0,0,0,0,0]
[null,null,null,null,null,null,null,null,null,null,null,null,null,9.5000000000000001E-2,{"$f":"IF(P22=\"\",\"\",IF(Süt!A24<=0,\"\",Süt!A24))","v":7},"","Kesif",0,null,0,{"$f":"IF($O53=\"\",\"\",  IF($Q654=\"Kaba\",\"\", U22*$O53))","v":0},0,0,0,0,0,9.5,0,0,0,0,0,0,0,0,0,0,9.5,null,null,null,null,{"$f":"IF($O53=\"\",\"\",  IF($Q654=\"Kaba\",\"\", AQ22*$O53))","v":0},0,0,0,0,0,0,0,0,0,0,0,0,0,0,0,0,0,0,0,0,0.14250000000000002,0,5.6999999999999995E-2,0,6.649999999999999E-2,0,1.52E-2,0,8.5500000000000007E-2,3.7373000000000003,8.5500000000000007E-2,5.7626999999999997,8.5500000000000007E-2,0,9.5000000000000001E-2,0,9.5000000000000001E-2,0,3.8E-3,0,8.0750000000000002E-2,0,9.5000000000000015E-3,0,9.5E-4,0,9.5000000000000001E-2,0,1.4249999999999999E-2,0,0,0,0,0]
[null,null,null,null,null,null,null,null,null,null,null,null,null,0.02,{"$f":"IF(P23=\"\",\"\",IF(Süt!A25<=0,\"\",Süt!A25))","v":7},"","Kesif",0,null,0,{"$f":"IF($O54=\"\",\"\",  IF($Q655=\"Kaba\",\"\", U23*$O54))","v":0},0,0,0,0,0,2,0,0,0,0,0,0,0,0,0,0,2,null,null,null,null,{"$f":"IF($O54=\"\",\"\",  IF($Q655=\"Kaba\",\"\", AQ23*$O54))","v":0},0,0,0,0,0,0,0,0,0,0,0,0,0,0,0,0,0,0,0,0,0.5,0,1.2E-2,0,1.3999999999999999E-2,0,3.2000000000000002E-3,0,0,0,1.8000000000000002E-2,0,0,0,0,3,0.02,200,8.0000000000000004E-4,16,1.7000000000000001E-2,1000,2E-3,1000,2.0000000000000001E-4,3,0.02,1000,3.0000000000000001E-3,0,0,300,60,600]
[null,null,null,null,null,null,null,null,null,null,null,null,null,"",{"$f":"IF(P24=\"\",\"\",IF(Süt!A26<=0,\"\",Süt!A26))","v":""},"","","",null,"",{"$f":"IF($O55=\"\",\"\",  IF($Q656=\"Kaba\",\"\", U24*$O55))","v":""},"","","","","","","","","","","","","","","","","",null,null,null,null,{"$f":"IF($O55=\"\",\"\",  IF($Q656=\"Kaba\",\"\", AQ24*$O55))","v":""},"","","","","","","","","","","","","","","","","","","","","","","","","","","","","","","","","","","","","","","","","","","","","","","","","","","","","",""]
[null,null,null,null,null,null,null,null,null,null,null,null,null,"",{"$f":"IF(P25=\"\",\"\",IF(Süt!A27<=0,\"\",Süt!A27))","v":""},"","","",null,"",{"$f":"IF($O56=\"\",\"\",  IF($Q657=\"Kaba\",\"\", U25*$O56))","v":""},"","","","","","","","","","","","","","","","","",null,null,null,null,{"$f":"IF($O56=\"\",\"\",  IF($Q657=\"Kaba\",\"\", AQ25*$O56))","v":""},"","","","","","","","","","","","","","","","","","","","","","","","","","","","","","","","","","","","","","","","","","","","","","","","","","","","","",""]
[null,null,null,null,null,null,null,null,null,null,null,null,null,"",{"$f":"IF(P26=\"\",\"\",IF(Süt!A28<=0,\"\",Süt!A28))","v":""},"","","",null,"",{"$f":"IF($O57=\"\",\"\",  IF($Q658=\"Kaba\",\"\", U26*$O57))","v":""},"","","","","","","","","","","","","","","","","",null,null,null,null,{"$f":"IF($O57=\"\",\"\",  IF($Q658=\"Kaba\",\"\", AQ26*$O57))","v":""},"","","","","","","","","","","","","","","","","","","","","","","","","","","","","","","","","","","","","","","","","","","","","","","","","","","","","",""]
[null,null,null,null,null,null,null,null,null,null,null,null,null,"",{"$f":"IF(P27=\"\",\"\",IF(Süt!A29<=0,\"\",Süt!A29))","v":""},"","","",null,"",{"$f":"IF($O58=\"\",\"\",  IF($Q659=\"Kaba\",\"\", U27*$O58))","v":""},"","","","","","","","","","","","","","","","","",null,null,null,null,{"$f":"IF($O58=\"\",\"\",  IF($Q659=\"Kaba\",\"\", AQ27*$O58))","v":""},"","","","","","","","","","","","","","","","","","","","","","","","","","","","","","","","","","","","","","","","","","","","","","","","","","","","","",""]
[null,null,null,null,null,null,null,null,null,null,null,null,null,"",{"$f":"IF(P28=\"\",\"\",IF(Süt!A30<=0,\"\",Süt!A30))","v":""},"","","",null,"",{"$f":"IF($O59=\"\",\"\",  IF($Q660=\"Kaba\",\"\", U28*$O59))","v":""},"","","","","","","","","","","","","","","","","",null,null,null,null,{"$f":"IF($O59=\"\",\"\",  IF($Q660=\"Kaba\",\"\", AQ28*$O59))","v":""},"","","","","","","","","","","","","","","","","","","","","","","","","","","","","","","","","","","","","","","","","","","","","","","","","","","","","",""]
[null,null,null,null,null,null,null,null,null,null,null,null,null,"",{"$f":"IF(P29=\"\",\"\",IF(Süt!A31<=0,\"\",Süt!A31))","v":""},"","","",null,"",{"$f":"IF($O60=\"\",\"\",  IF($Q661=\"Kaba\",\"\", U29*$O60))","v":""},"","","","","","","","","","","","","","","","","",null,null,null,null,{"$f":"IF($O60=\"\",\"\",  IF($Q661=\"Kaba\",\"\", AQ29*$O60))","v":""},"","","","","","","","","","","","","","","","","","","","","","","","","","","","","","","","","","","","","","","","","","","","","","","","","","","","","",""]